Workbook

Sheet Tableau de bord
B1: Tableau de bord achats | I1: Sélectionner une année | L1: 2024
I2: Sélectionner une antenne | L2: Polleniz 49
B3: Montant des achats | F3: Nombre de commandes | J3: Répartition des fournisseurs
B4: =HLOOKUP(L1,Paramètres!D2:G22,21,FALSE) -> 179 | F4: =SUMPRODUCT((YEAR('Journal des achats'!$B$6:$B$50)='Tableau de bord'!$L$1)*('Journal des achats'!$H$6:$H$50)) -> 11
B11: Taux d'incident | F11: Délai moyen de livraison
F12: =SUMIF('Journal des achats'!M6:M50,'Tableau de bord'!L1,'Journal des achats'!D6:D50)/SUMPRODUCT(--(YEAR('Journal des achats'!B6:B50)='Tableau de bord'!L1)) -> 2.75
B13: Indicateur | C13: =SUMPRODUCT(--(YEAR('Journal des achats'!$B$6:$B$50)='Tableau de bord'!$L$1)*('Journal des achats'!$K$6:$K$50="OUI"))/SUMPRODUCT(--(YEAR('Journal des achats'!$B$6:$B$50)='Tableau de bord'!L1)) -> 0.25 | D13: C1 | E13: 1
B14: Aiguille | C14: 0.02 | D14: C2 | E14: 1
B15: Reste | C15: =2-C13-C14 -> 1.73 | D15: C3 | E15: 1
D16: Vide | E16: 3
L19: Montant des achats
B23: =SUMPRODUCT((YEAR('Journal des achats'!$B$6:$B$50)='Tableau de bord'!$L$1)*(MONTH('Journal des achats'!$B$6:$B$50)=COLUMN()-1)*('Journal des achats'!$J$6:$J$50)) -> 0 | C23: =SUMPRODUCT((YEAR('Journal des achats'!$B$6:$B$50)='Tableau de bord'!$L$1)*(MONTH('Journal des achats'!$B$6:$B$50)=COLUMN()-1)*('Journal des achats'!$J$6:$J$50)) -> 0 | D23: =SUMPRODUCT((YEAR('Journal des achats'!$B$6:$B$50)='Tableau de bord'!$L$1)*(MONTH('Journal des achats'!$B$6:$B$50)=COLUMN()-1)*('Journal des achats'!$J$6:$J$50)) -> 9 | E23: =SUMPRODUCT((YEAR('Journal des achats'!$B$6:$B$50)='Tableau de bord'!$L$1)*(MONTH('Journal des achats'!$B$6:$B$50)=COLUMN()-1)*('Journal des achats'!$J$6:$J$50)) -> 170 | F23: =SUMPRODUCT((YEAR('Journal des achats'!$B$6:$B$50)='Tableau de bord'!$L$1)*(MONTH('Journal des achats'!$B$6:$B$50)=COLUMN()-1)*('Journal des achats'!$J$6:$J$50)) -> 0 | G23: =SUMPRODUCT((YEAR('Journal des achats'!$B$6:$B$50)='Tableau de bord'!$L$1)*(MONTH('Journal des achats'!$B$6:$B$50)=COLUMN()-1)*('Journal des achats'!$J$6:$J$50)) -> 0 | H23: =SUMPRODUCT((YEAR('Journal des achats'!$B$6:$B$50)='Tableau de bord'!$L$1)*(MONTH('Journal des achats'!$B$6:$B$50)=COLUMN()-1)*('Journal des achats'!$J$6:$J$50)) -> 0 | I23: =SUMPRODUCT((YEAR('Journal des achats'!$B$6:$B$50)='Tableau de bord'!$L$1)*(MONTH('Journal des achats'!$B$6:$B$50)=COLUMN()-1)*('Journal des achats'!$J$6:$J$50)) -> 0 | ... M23: =SUMPRODUCT((YEAR('Journal des achats'!$B$6:$B$50)='Tableau de bord'!$L$1)*(MONTH('Journal des achats'!$B$6:$B$50)=COLUMN()-1)*('Journal des achats'!$J$6:$J$50)) -> 0
B28: Janvier | C28: Février | D28: Mars | E28: Avril | F28: Mai | G28: Juin | H28: Juillet | I28: Août | J28: Septembre | K28: Octobre | L28: Novembre | M28: Décembre

Sheet Journal des achats
B1: Journal des achats
B5: Date commande | C5: Date livraison | D5: Délai | E5: Fournisseur | F5: Produit | G5: Antenne | H5: Quantité | I5: Coût unitaire | J5: Total | K5: Incident | L5: Commentaire
B6: 45400 | C6: 45405 | D6: =IF(B6="","",C6-B6) -> 5 | E6: JPG | F6: Feuilles ramette A4 | G6: Polleniz 49 | H6: 5 | I6: 20 | J6: =I6*H6 -> 100 | K6: NON | M6: =IF(B6="","",YEAR(B6)) -> 2024
B7: 45397 | C7: 45399 | D7: =IF(B7="","",C7-B7) -> 2 | E7: WELCOME OFFICE | F7: Feuilles ramettes A3 | G7: Polleniz 44 | H7: 1 | I7: 30 | J7: =I7*H7 -> 30 | K7: NON | M7: =IF(B7="","",YEAR(B7)) -> 2024
B8: 45397 | C8: 45398 | D8: =IF(B8="","",C8-B8) -> 1 | E8: JPG | F8: Essuie main | G8: Polleniz 44 | H8: 2 | I8: 20 | J8: =I8*H8 -> 40 | K8: OUI | M8: =IF(B8="","",YEAR(B8)) -> 2024
B9: 45373 | C9: 45376 | D9: =IF(B9="","",C9-B9) -> 3 | E9: NVBURO | F9: Savon main | G9: Bioneo 53 | H9: 3 | I9: 3 | J9: =I9*H9 -> 9 | K9: NON | M9: =IF(B9="","",YEAR(B9)) -> 2024
D10: =IF(B10="","",C10-B10) | J10: =I10*H10 -> 0 | M10: =IF(B10="","",YEAR(B10))
D11: =IF(B11="","",C11-B11) | J11: =I11*H11 -> 0 | M11: =IF(B11="","",YEAR(B11))
D12: =IF(B12="","",C12-B12) | J12: =I12*H12 -> 0 | M12: =IF(B12="","",YEAR(B12))
D13: =IF(B13="","",C13-B13) | J13: =I13*H13 -> 0 | M13: =IF(B13="","",YEAR(B13))
D14: =IF(B14="","",C14-B14) | J14: =I14*H14 -> 0 | M14: =IF(B14="","",YEAR(B14))
D15: =IF(B15="","",C15-B15) | J15: =I15*H15 -> 0 | M15: =IF(B15="","",YEAR(B15))
D16: =IF(B16="","",C16-B16) | J16: =I16*H16 -> 0 | M16: =IF(B16="","",YEAR(B16))
D17: =IF(B17="","",C17-B17) | J17: =I17*H17 -> 0 | M17: =IF(B17="","",YEAR(B17))
D18: =IF(B18="","",C18-B18) | J18: =I18*H18 -> 0 | M18: =IF(B18="","",YEAR(B18))
D19: =IF(B19="","",C19-B19) | J19: =I19*H19 -> 0 | M19: =IF(B19="","",YEAR(B19))
D20: =IF(B20="","",C20-B20) | J20: =I20*H20 -> 0 | M20: =IF(B20="","",YEAR(B20))
D21: =IF(B21="","",C21-B21) | J21: =I21*H21 -> 0 | M21: =IF(B21="","",YEAR(B21))
... D50: =IF(B50="","",C50-B50) | J50: =I50*H50 -> 0 | M50: =IF(B50="","",YEAR(B50))

Sheet Paramètres
B1: Liste de produits | I1: Fournisseurs | P1: Antennes
B2: Dénomination | C2: Coût total | D2: 2024 | E2: 2025 | F2: 2026 | G2: 2027 | I2: Dénomination | J2: Coût total | K2: 2024 | L2: 2025 | M2: 2026 | N2: 2027 | P2: Dénomination | Q2: Coût total | R2: 2024 | S2: 2025 | T2: 2026 | U2: 2027
B3: Feuilles ramette A4 | C3: =D3+E3+F3+G3 -> 100 | D3: =SUMPRODUCT((YEAR('Journal des achats'!$B$6:$B$50)=Paramètres!D$2)*('Journal des achats'!$F$6:$F$50=Paramètres!$B3)*('Journal des achats'!$J$6:$J$50)) -> 100 | E3: =SUMPRODUCT((YEAR('Journal des achats'!$B$6:$B$50)=Paramètres!E$2)*('Journal des achats'!$F$6:$F$50=Paramètres!$B3)*('Journal des achats'!$J$6:$J$50)) -> 0 | F3: =SUMPRODUCT((YEAR('Journal des achats'!$B$6:$B$50)=Paramètres!F$2)*('Journal des achats'!$F$6:$F$50=Paramètres!$B3)*('Journal des achats'!$J$6:$J$50)) -> 0 | G3: =SUMPRODUCT((YEAR('Journal des achats'!$B$6:$B$50)=Paramètres!G$2)*('Journal des achats'!$F$6:$F$50=Paramètres!$B3)*('Journal des achats'!$J$6:$J$50)) -> 0 | I3: JPG | J3: =K3+L3+M3+N3 -> 140 | K3: =SUMPRODUCT((YEAR('Journal des achats'!$B$6:$B$50)=Paramètres!K$2)*('Journal des achats'!$E$6:$E$50=Paramètres!$I3)*('Journal des achats'!$J$6:$J$50)) -> 140 | L3: =SUMPRODUCT((YEAR('Journal des achats'!$B$6:$B$50)=Paramètres!L$2)*('Journal des achats'!$E$6:$E$50=Paramètres!$I3)*('Journal des achats'!$J$6:$J$50)) -> 0 | M3: =SUMPRODUCT((YEAR('Journal des achats'!$B$6:$B$50)=Paramètres!M$2)*('Journal des achats'!$E$6:$E$50=Paramètres!$I3)*('Journal des achats'!$J$6:$J$50)) -> 0 | N3: =SUMPRODUCT((YEAR('Journal des achats'!$B$6:$B$50)=Paramètres!N$2)*('Journal des achats'!$E$6:$E$50=Paramètres!$I3)*('Journal des achats'!$J$6:$J$50)) -> 0 | P3: Neoviz | Q3: =R3+S3+T3+U3 -> 0 | R3: =SUMPRODUCT((YEAR('Journal des achats'!$B$6:$B$50)=Paramètres!R$2)*('Journal des achats'!$G$6:$G$50=Paramètres!$P3)*('Journal des achats'!$J$6:$J$50)) -> 0 | S3: =SUMPRODUCT((YEAR('Journal des achats'!$B$6:$B$50)=Paramètres!S$2)*('Journal des achats'!$G$6:$G$50=Paramètres!$P3)*('Journal des achats'!$J$6:$J$50)) -> 0 | T3: =SUMPRODUCT((YEAR('Journal des achats'!$B$6:$B$50)=Paramètres!T$2)*('Journal des achats'!$G$6:$G$50=Paramètres!$P3)*('Journal des achats'!$J$6:$J$50)) -> 0 | U3: =SUMPRODUCT((YEAR('Journal des achats'!$B$6:$B$50)=Paramètres!U$2)*('Journal des achats'!$G$6:$G$50=Paramètres!$P3)*('Journal des achats'!$J$6:$J$50)) -> 0
B4: Feuilles carton A4 | C4: =D4+E4+F4+G4 -> 0 | D4: =SUMPRODUCT((YEAR('Journal des achats'!$B$6:$B$50)=Paramètres!D$2)*('Journal des achats'!$F$6:$F$50=Paramètres!$B4)*('Journal des achats'!$J$6:$J$50)) -> 0 | E4: =SUMPRODUCT((YEAR('Journal des achats'!$B$6:$B$50)=Paramètres!E$2)*('Journal des achats'!$F$6:$F$50=Paramètres!$B4)*('Journal des achats'!$J$6:$J$50)) -> 0 | F4: =SUMPRODUCT((YEAR('Journal des achats'!$B$6:$B$50)=Paramètres!F$2)*('Journal des achats'!$F$6:$F$50=Paramètres!$B4)*('Journal des achats'!$J$6:$J$50)) -> 0 | G4: =SUMPRODUCT((YEAR('Journal des achats'!$B$6:$B$50)=Paramètres!G$2)*('Journal des achats'!$F$6:$F$50=Paramètres!$B4)*('Journal des achats'!$J$6:$J$50)) -> 0 | I4: NVBURO | J4: =K4+L4+M4+N4 -> 9 | K4: =SUMPRODUCT((YEAR('Journal des achats'!$B$6:$B$50)=Paramètres!K$2)*('Journal des achats'!$E$6:$E$50=Paramètres!$I4)*('Journal des achats'!$J$6:$J$50)) -> 9 | L4: =SUMPRODUCT((YEAR('Journal des achats'!$B$6:$B$50)=Paramètres!L$2)*('Journal des achats'!$E$6:$E$50=Paramètres!$I4)*('Journal des achats'!$J$6:$J$50)) -> 0 | M4: =SUMPRODUCT((YEAR('Journal des achats'!$B$6:$B$50)=Paramètres!M$2)*('Journal des achats'!$E$6:$E$50=Paramètres!$I4)*('Journal des achats'!$J$6:$J$50)) -> 0 | N4: =SUMPRODUCT((YEAR('Journal des achats'!$B$6:$B$50)=Paramètres!N$2)*('Journal des achats'!$E$6:$E$50=Paramètres!$I4)*('Journal des achats'!$J$6:$J$50)) -> 0 | P4: Bioneo 44 | Q4: =R4+S4+T4+U4 -> 0 | R4: =SUMPRODUCT((YEAR('Journal des achats'!$B$6:$B$50)=Paramètres!R$2)*('Journal des achats'!$G$6:$G$50=Paramètres!$P4)*('Journal des achats'!$J$6:$J$50)) -> 0 | S4: =SUMPRODUCT((YEAR('Journal des achats'!$B$6:$B$50)=Paramètres!S$2)*('Journal des achats'!$G$6:$G$50=Paramètres!$P4)*('Journal des achats'!$J$6:$J$50)) -> 0 | T4: =SUMPRODUCT((YEAR('Journal des achats'!$B$6:$B$50)=Paramètres!T$2)*('Journal des achats'!$G$6:$G$50=Paramètres!$P4)*('Journal des achats'!$J$6:$J$50)) -> 0 | U4: =SUMPRODUCT((YEAR('Journal des achats'!$B$6:$B$50)=Paramètres!U$2)*('Journal des achats'!$G$6:$G$50=Paramètres!$P4)*('Journal des achats'!$J$6:$J$50)) -> 0
B5: Feuilles ramettes A3 | C5: =D5+E5+F5+G5 -> 30 | D5: =SUMPRODUCT((YEAR('Journal des achats'!$B$6:$B$50)=Paramètres!D$2)*('Journal des achats'!$F$6:$F$50=Paramètres!$B5)*('Journal des achats'!$J$6:$J$50)) -> 30 | E5: =SUMPRODUCT((YEAR('Journal des achats'!$B$6:$B$50)=Paramètres!E$2)*('Journal des achats'!$F$6:$F$50=Paramètres!$B5)*('Journal des achats'!$J$6:$J$50)) -> 0 | F5: =SUMPRODUCT((YEAR('Journal des achats'!$B$6:$B$50)=Paramètres!F$2)*('Journal des achats'!$F$6:$F$50=Paramètres!$B5)*('Journal des achats'!$J$6:$J$50)) -> 0 | G5: =SUMPRODUCT((YEAR('Journal des achats'!$B$6:$B$50)=Paramètres!G$2)*('Journal des achats'!$F$6:$F$50=Paramètres!$B5)*('Journal des achats'!$J$6:$J$50)) -> 0 | I5: WELCOME OFFICE | J5: =K5+L5+M5+N5 -> 30 | K5: =SUMPRODUCT((YEAR('Journal des achats'!$B$6:$B$50)=Paramètres!K$2)*('Journal des achats'!$E$6:$E$50=Paramètres!$I5)*('Journal des achats'!$J$6:$J$50)) -> 30 | L5: =SUMPRODUCT((YEAR('Journal des achats'!$B$6:$B$50)=Paramètres!L$2)*('Journal des achats'!$E$6:$E$50=Paramètres!$I5)*('Journal des achats'!$J$6:$J$50)) -> 0 | M5: =SUMPRODUCT((YEAR('Journal des achats'!$B$6:$B$50)=Paramètres!M$2)*('Journal des achats'!$E$6:$E$50=Paramètres!$I5)*('Journal des achats'!$J$6:$J$50)) -> 0 | N5: =SUMPRODUCT((YEAR('Journal des achats'!$B$6:$B$50)=Paramètres!N$2)*('Journal des achats'!$E$6:$E$50=Paramètres!$I5)*('Journal des achats'!$J$6:$J$50)) -> 0 | P5: Bioneo 49 | Q5: =R5+S5+T5+U5 -> 0 | R5: =SUMPRODUCT((YEAR('Journal des achats'!$B$6:$B$50)=Paramètres!R$2)*('Journal des achats'!$G$6:$G$50=Paramètres!$P5)*('Journal des achats'!$J$6:$J$50)) -> 0 | S5: =SUMPRODUCT((YEAR('Journal des achats'!$B$6:$B$50)=Paramètres!S$2)*('Journal des achats'!$G$6:$G$50=Paramètres!$P5)*('Journal des achats'!$J$6:$J$50)) -> 0 | T5: =SUMPRODUCT((YEAR('Journal des achats'!$B$6:$B$50)=Paramètres!T$2)*('Journal des achats'!$G$6:$G$50=Paramètres!$P5)*('Journal des achats'!$J$6:$J$50)) -> 0 | U5: =SUMPRODUCT((YEAR('Journal des achats'!$B$6:$B$50)=Paramètres!U$2)*('Journal des achats'!$G$6:$G$50=Paramètres!$P5)*('Journal des achats'!$J$6:$J$50)) -> 0
B6: Feuilles ramettes A4 200g | C6: =D6+E6+F6+G6 -> 0 | D6: =SUMPRODUCT((YEAR('Journal des achats'!$B$6:$B$50)=Paramètres!D$2)*('Journal des achats'!$F$6:$F$50=Paramètres!$B6)*('Journal des achats'!$J$6:$J$50)) -> 0 | E6: =SUMPRODUCT((YEAR('Journal des achats'!$B$6:$B$50)=Paramètres!E$2)*('Journal des achats'!$F$6:$F$50=Paramètres!$B6)*('Journal des achats'!$J$6:$J$50)) -> 0 | F6: =SUMPRODUCT((YEAR('Journal des achats'!$B$6:$B$50)=Paramètres!F$2)*('Journal des achats'!$F$6:$F$50=Paramètres!$B6)*('Journal des achats'!$J$6:$J$50)) -> 0 | G6: =SUMPRODUCT((YEAR('Journal des achats'!$B$6:$B$50)=Paramètres!G$2)*('Journal des achats'!$F$6:$F$50=Paramètres!$B6)*('Journal des achats'!$J$6:$J$50)) -> 0 | I6: RAJA | J6: =K6+L6+M6+N6 -> 0 | K6: =SUMPRODUCT((YEAR('Journal des achats'!$B$6:$B$50)=Paramètres!K$2)*('Journal des achats'!$E$6:$E$50=Paramètres!$I6)*('Journal des achats'!$J$6:$J$50)) -> 0 | L6: =SUMPRODUCT((YEAR('Journal des achats'!$B$6:$B$50)=Paramètres!L$2)*('Journal des achats'!$E$6:$E$50=Paramètres!$I6)*('Journal des achats'!$J$6:$J$50)) -> 0 | M6: =SUMPRODUCT((YEAR('Journal des achats'!$B$6:$B$50)=Paramètres!M$2)*('Journal des achats'!$E$6:$E$50=Paramètres!$I6)*('Journal des achats'!$J$6:$J$50)) -> 0 | N6: =SUMPRODUCT((YEAR('Journal des achats'!$B$6:$B$50)=Paramètres!N$2)*('Journal des achats'!$E$6:$E$50=Paramètres!$I6)*('Journal des achats'!$J$6:$J$50)) -> 0 | P6: Bioneo 53 | Q6: =R6+S6+T6+U6 -> 9 | R6: =SUMPRODUCT((YEAR('Journal des achats'!$B$6:$B$50)=Paramètres!R$2)*('Journal des achats'!$G$6:$G$50=Paramètres!$P6)*('Journal des achats'!$J$6:$J$50)) -> 9 | S6: =SUMPRODUCT((YEAR('Journal des achats'!$B$6:$B$50)=Paramètres!S$2)*('Journal des achats'!$G$6:$G$50=Paramètres!$P6)*('Journal des achats'!$J$6:$J$50)) -> 0 | T6: =SUMPRODUCT((YEAR('Journal des achats'!$B$6:$B$50)=Paramètres!T$2)*('Journal des achats'!$G$6:$G$50=Paramètres!$P6)*('Journal des achats'!$J$6:$J$50)) -> 0 | U6: =SUMPRODUCT((YEAR('Journal des achats'!$B$6:$B$50)=Paramètres!U$2)*('Journal des achats'!$G$6:$G$50=Paramètres!$P6)*('Journal des achats'!$J$6:$J$50)) -> 0
B7: Essuie main | C7: =D7+E7+F7+G7 -> 40 | D7: =SUMPRODUCT((YEAR('Journal des achats'!$B$6:$B$50)=Paramètres!D$2)*('Journal des achats'!$F$6:$F$50=Paramètres!$B7)*('Journal des achats'!$J$6:$J$50)) -> 40 | E7: =SUMPRODUCT((YEAR('Journal des achats'!$B$6:$B$50)=Paramètres!E$2)*('Journal des achats'!$F$6:$F$50=Paramètres!$B7)*('Journal des achats'!$J$6:$J$50)) -> 0 | F7: =SUMPRODUCT((YEAR('Journal des achats'!$B$6:$B$50)=Paramètres!F$2)*('Journal des achats'!$F$6:$F$50=Paramètres!$B7)*('Journal des achats'!$J$6:$J$50)) -> 0 | G7: =SUMPRODUCT((YEAR('Journal des achats'!$B$6:$B$50)=Paramètres!G$2)*('Journal des achats'!$F$6:$F$50=Paramètres!$B7)*('Journal des achats'!$J$6:$J$50)) -> 0 | I7: Four 5 | J7: =K7+L7+M7+N7 -> 0 | K7: =SUMPRODUCT((YEAR('Journal des achats'!$B$6:$B$50)=Paramètres!K$2)*('Journal des achats'!$E$6:$E$50=Paramètres!$I7)*('Journal des achats'!$J$6:$J$50)) -> 0 | L7: =SUMPRODUCT((YEAR('Journal des achats'!$B$6:$B$50)=Paramètres!L$2)*('Journal des achats'!$E$6:$E$50=Paramètres!$I7)*('Journal des achats'!$J$6:$J$50)) -> 0 | M7: =SUMPRODUCT((YEAR('Journal des achats'!$B$6:$B$50)=Paramètres!M$2)*('Journal des achats'!$E$6:$E$50=Paramètres!$I7)*('Journal des achats'!$J$6:$J$50)) -> 0 | N7: =SUMPRODUCT((YEAR('Journal des achats'!$B$6:$B$50)=Paramètres!N$2)*('Journal des achats'!$E$6:$E$50=Paramètres!$I7)*('Journal des achats'!$J$6:$J$50)) -> 0 | P7: Bioneo 72 | Q7: =R7+S7+T7+U7 -> 0 | R7: =SUMPRODUCT((YEAR('Journal des achats'!$B$6:$B$50)=Paramètres!R$2)*('Journal des achats'!$G$6:$G$50=Paramètres!$P7)*('Journal des achats'!$J$6:$J$50)) -> 0 | S7: =SUMPRODUCT((YEAR('Journal des achats'!$B$6:$B$50)=Paramètres!S$2)*('Journal des achats'!$G$6:$G$50=Paramètres!$P7)*('Journal des achats'!$J$6:$J$50)) -> 0 | T7: =SUMPRODUCT((YEAR('Journal des achats'!$B$6:$B$50)=Paramètres!T$2)*('Journal des achats'!$G$6:$G$50=Paramètres!$P7)*('Journal des achats'!$J$6:$J$50)) -> 0 | U7: =SUMPRODUCT((YEAR('Journal des achats'!$B$6:$B$50)=Paramètres!U$2)*('Journal des achats'!$G$6:$G$50=Paramètres!$P7)*('Journal des achats'!$J$6:$J$50)) -> 0
B8: Savon main | C8: =D8+E8+F8+G8 -> 9 | D8: =SUMPRODUCT((YEAR('Journal des achats'!$B$6:$B$50)=Paramètres!D$2)*('Journal des achats'!$F$6:$F$50=Paramètres!$B8)*('Journal des achats'!$J$6:$J$50)) -> 9 | E8: =SUMPRODUCT((YEAR('Journal des achats'!$B$6:$B$50)=Paramètres!E$2)*('Journal des achats'!$F$6:$F$50=Paramètres!$B8)*('Journal des achats'!$J$6:$J$50)) -> 0 | F8: =SUMPRODUCT((YEAR('Journal des achats'!$B$6:$B$50)=Paramètres!F$2)*('Journal des achats'!$F$6:$F$50=Paramètres!$B8)*('Journal des achats'!$J$6:$J$50)) -> 0 | G8: =SUMPRODUCT((YEAR('Journal des achats'!$B$6:$B$50)=Paramètres!G$2)*('Journal des achats'!$F$6:$F$50=Paramètres!$B8)*('Journal des achats'!$J$6:$J$50)) -> 0 | I8: Four 6 | J8: =K8+L8+M8+N8 -> 0 | K8: =SUMPRODUCT((YEAR('Journal des achats'!$B$6:$B$50)=Paramètres!K$2)*('Journal des achats'!$E$6:$E$50=Paramètres!$I8)*('Journal des achats'!$J$6:$J$50)) -> 0 | L8: =SUMPRODUCT((YEAR('Journal des achats'!$B$6:$B$50)=Paramètres!L$2)*('Journal des achats'!$E$6:$E$50=Paramètres!$I8)*('Journal des achats'!$J$6:$J$50)) -> 0 | M8: =SUMPRODUCT((YEAR('Journal des achats'!$B$6:$B$50)=Paramètres!M$2)*('Journal des achats'!$E$6:$E$50=Paramètres!$I8)*('Journal des achats'!$J$6:$J$50)) -> 0 | N8: =SUMPRODUCT((YEAR('Journal des achats'!$B$6:$B$50)=Paramètres!N$2)*('Journal des achats'!$E$6:$E$50=Paramètres!$I8)*('Journal des achats'!$J$6:$J$50)) -> 0 | P8: Bioneo 85 | Q8: =R8+S8+T8+U8 -> 0 | R8: =SUMPRODUCT((YEAR('Journal des achats'!$B$6:$B$50)=Paramètres!R$2)*('Journal des achats'!$G$6:$G$50=Paramètres!$P8)*('Journal des achats'!$J$6:$J$50)) -> 0 | S8: =SUMPRODUCT((YEAR('Journal des achats'!$B$6:$B$50)=Paramètres!S$2)*('Journal des achats'!$G$6:$G$50=Paramètres!$P8)*('Journal des achats'!$J$6:$J$50)) -> 0 | T8: =SUMPRODUCT((YEAR('Journal des achats'!$B$6:$B$50)=Paramètres!T$2)*('Journal des achats'!$G$6:$G$50=Paramètres!$P8)*('Journal des achats'!$J$6:$J$50)) -> 0 | U8: =SUMPRODUCT((YEAR('Journal des achats'!$B$6:$B$50)=Paramètres!U$2)*('Journal des achats'!$G$6:$G$50=Paramètres!$P8)*('Journal des achats'!$J$6:$J$50)) -> 0
B9: Prod 7 | C9: =D9+E9+F9+G9 -> 0 | D9: =SUMPRODUCT((YEAR('Journal des achats'!$B$6:$B$50)=Paramètres!D$2)*('Journal des achats'!$F$6:$F$50=Paramètres!$B9)*('Journal des achats'!$J$6:$J$50)) -> 0 | E9: =SUMPRODUCT((YEAR('Journal des achats'!$B$6:$B$50)=Paramètres!E$2)*('Journal des achats'!$F$6:$F$50=Paramètres!$B9)*('Journal des achats'!$J$6:$J$50)) -> 0 | F9: =SUMPRODUCT((YEAR('Journal des achats'!$B$6:$B$50)=Paramètres!F$2)*('Journal des achats'!$F$6:$F$50=Paramètres!$B9)*('Journal des achats'!$J$6:$J$50)) -> 0 | G9: =SUMPRODUCT((YEAR('Journal des achats'!$B$6:$B$50)=Paramètres!G$2)*('Journal des achats'!$F$6:$F$50=Paramètres!$B9)*('Journal des achats'!$J$6:$J$50)) -> 0 | I9: Four 7 | J9: =K9+L9+M9+N9 -> 0 | K9: =SUMPRODUCT((YEAR('Journal des achats'!$B$6:$B$50)=Paramètres!K$2)*('Journal des achats'!$E$6:$E$50=Paramètres!$I9)*('Journal des achats'!$J$6:$J$50)) -> 0 | L9: =SUMPRODUCT((YEAR('Journal des achats'!$B$6:$B$50)=Paramètres!L$2)*('Journal des achats'!$E$6:$E$50=Paramètres!$I9)*('Journal des achats'!$J$6:$J$50)) -> 0 | M9: =SUMPRODUCT((YEAR('Journal des achats'!$B$6:$B$50)=Paramètres!M$2)*('Journal des achats'!$E$6:$E$50=Paramètres!$I9)*('Journal des achats'!$J$6:$J$50)) -> 0 | N9: =SUMPRODUCT((YEAR('Journal des achats'!$B$6:$B$50)=Paramètres!N$2)*('Journal des achats'!$E$6:$E$50=Paramètres!$I9)*('Journal des achats'!$J$6:$J$50)) -> 0 | P9: Polleniz 44 | Q9: =R9+S9+T9+U9 -> 70 | R9: =SUMPRODUCT((YEAR('Journal des achats'!$B$6:$B$50)=Paramètres!R$2)*('Journal des achats'!$G$6:$G$50=Paramètres!$P9)*('Journal des achats'!$J$6:$J$50)) -> 70 | S9: =SUMPRODUCT((YEAR('Journal des achats'!$B$6:$B$50)=Paramètres!S$2)*('Journal des achats'!$G$6:$G$50=Paramètres!$P9)*('Journal des achats'!$J$6:$J$50)) -> 0 | T9: =SUMPRODUCT((YEAR('Journal des achats'!$B$6:$B$50)=Paramètres!T$2)*('Journal des achats'!$G$6:$G$50=Paramètres!$P9)*('Journal des achats'!$J$6:$J$50)) -> 0 | U9: =SUMPRODUCT((YEAR('Journal des achats'!$B$6:$B$50)=Paramètres!U$2)*('Journal des achats'!$G$6:$G$50=Paramètres!$P9)*('Journal des achats'!$J$6:$J$50)) -> 0
B10: Prod 8 | C10: =D10+E10+F10+G10 -> 0 | D10: =SUMPRODUCT((YEAR('Journal des achats'!$B$6:$B$50)=Paramètres!D$2)*('Journal des achats'!$F$6:$F$50=Paramètres!$B10)*('Journal des achats'!$J$6:$J$50)) -> 0 | E10: =SUMPRODUCT((YEAR('Journal des achats'!$B$6:$B$50)=Paramètres!E$2)*('Journal des achats'!$F$6:$F$50=Paramètres!$B10)*('Journal des achats'!$J$6:$J$50)) -> 0 | F10: =SUMPRODUCT((YEAR('Journal des achats'!$B$6:$B$50)=Paramètres!F$2)*('Journal des achats'!$F$6:$F$50=Paramètres!$B10)*('Journal des achats'!$J$6:$J$50)) -> 0 | G10: =SUMPRODUCT((YEAR('Journal des achats'!$B$6:$B$50)=Paramètres!G$2)*('Journal des achats'!$F$6:$F$50=Paramètres!$B10)*('Journal des achats'!$J$6:$J$50)) -> 0 | I10: Four 8 | J10: =K10+L10+M10+N10 -> 0 | K10: =SUMPRODUCT((YEAR('Journal des achats'!$B$6:$B$50)=Paramètres!K$2)*('Journal des achats'!$E$6:$E$50=Paramètres!$I10)*('Journal des achats'!$J$6:$J$50)) -> 0 | L10: =SUMPRODUCT((YEAR('Journal des achats'!$B$6:$B$50)=Paramètres!L$2)*('Journal des achats'!$E$6:$E$50=Paramètres!$I10)*('Journal des achats'!$J$6:$J$50)) -> 0 | M10: =SUMPRODUCT((YEAR('Journal des achats'!$B$6:$B$50)=Paramètres!M$2)*('Journal des achats'!$E$6:$E$50=Paramètres!$I10)*('Journal des achats'!$J$6:$J$50)) -> 0 | N10: =SUMPRODUCT((YEAR('Journal des achats'!$B$6:$B$50)=Paramètres!N$2)*('Journal des achats'!$E$6:$E$50=Paramètres!$I10)*('Journal des achats'!$J$6:$J$50)) -> 0 | P10: Polleniz 49 | Q10: =R10+S10+T10+U10 -> 100 | R10: =SUMPRODUCT((YEAR('Journal des achats'!$B$6:$B$50)=Paramètres!R$2)*('Journal des achats'!$G$6:$G$50=Paramètres!$P10)*('Journal des achats'!$J$6:$J$50)) -> 100 | S10: =SUMPRODUCT((YEAR('Journal des achats'!$B$6:$B$50)=Paramètres!S$2)*('Journal des achats'!$G$6:$G$50=Paramètres!$P10)*('Journal des achats'!$J$6:$J$50)) -> 0 | T10: =SUMPRODUCT((YEAR('Journal des achats'!$B$6:$B$50)=Paramètres!T$2)*('Journal des achats'!$G$6:$G$50=Paramètres!$P10)*('Journal des achats'!$J$6:$J$50)) -> 0 | U10: =SUMPRODUCT((YEAR('Journal des achats'!$B$6:$B$50)=Paramètres!U$2)*('Journal des achats'!$G$6:$G$50=Paramètres!$P10)*('Journal des achats'!$J$6:$J$50)) -> 0
B11: Prod 9 | C11: =D11+E11+F11+G11 -> 0 | D11: =SUMPRODUCT((YEAR('Journal des achats'!$B$6:$B$50)=Paramètres!D$2)*('Journal des achats'!$F$6:$F$50=Paramètres!$B11)*('Journal des achats'!$J$6:$J$50)) -> 0 | E11: =SUMPRODUCT((YEAR('Journal des achats'!$B$6:$B$50)=Paramètres!E$2)*('Journal des achats'!$F$6:$F$50=Paramètres!$B11)*('Journal des achats'!$J$6:$J$50)) -> 0 | F11: =SUMPRODUCT((YEAR('Journal des achats'!$B$6:$B$50)=Paramètres!F$2)*('Journal des achats'!$F$6:$F$50=Paramètres!$B11)*('Journal des achats'!$J$6:$J$50)) -> 0 | G11: =SUMPRODUCT((YEAR('Journal des achats'!$B$6:$B$50)=Paramètres!G$2)*('Journal des achats'!$F$6:$F$50=Paramètres!$B11)*('Journal des achats'!$J$6:$J$50)) -> 0 | I11: Four 9 | J11: =K11+L11+M11+N11 -> 0 | K11: =SUMPRODUCT((YEAR('Journal des achats'!$B$6:$B$50)=Paramètres!K$2)*('Journal des achats'!$E$6:$E$50=Paramètres!$I11)*('Journal des achats'!$J$6:$J$50)) -> 0 | L11: =SUMPRODUCT((YEAR('Journal des achats'!$B$6:$B$50)=Paramètres!L$2)*('Journal des achats'!$E$6:$E$50=Paramètres!$I11)*('Journal des achats'!$J$6:$J$50)) -> 0 | M11: =SUMPRODUCT((YEAR('Journal des achats'!$B$6:$B$50)=Paramètres!M$2)*('Journal des achats'!$E$6:$E$50=Paramètres!$I11)*('Journal des achats'!$J$6:$J$50)) -> 0 | N11: =SUMPRODUCT((YEAR('Journal des achats'!$B$6:$B$50)=Paramètres!N$2)*('Journal des achats'!$E$6:$E$50=Paramètres!$I11)*('Journal des achats'!$J$6:$J$50)) -> 0 | P11: Polleniz 53 | Q11: =R11+S11+T11+U11 -> 0 | R11: =SUMPRODUCT((YEAR('Journal des achats'!$B$6:$B$50)=Paramètres!R$2)*('Journal des achats'!$G$6:$G$50=Paramètres!$P11)*('Journal des achats'!$J$6:$J$50)) -> 0 | S11: =SUMPRODUCT((YEAR('Journal des achats'!$B$6:$B$50)=Paramètres!S$2)*('Journal des achats'!$G$6:$G$50=Paramètres!$P11)*('Journal des achats'!$J$6:$J$50)) -> 0 | T11: =SUMPRODUCT((YEAR('Journal des achats'!$B$6:$B$50)=Paramètres!T$2)*('Journal des achats'!$G$6:$G$50=Paramètres!$P11)*('Journal des achats'!$J$6:$J$50)) -> 0 | U11: =SUMPRODUCT((YEAR('Journal des achats'!$B$6:$B$50)=Paramètres!U$2)*('Journal des achats'!$G$6:$G$50=Paramètres!$P11)*('Journal des achats'!$J$6:$J$50)) -> 0
B12: Prod 10 | C12: =D12+E12+F12+G12 -> 0 | D12: =SUMPRODUCT((YEAR('Journal des achats'!$B$6:$B$50)=Paramètres!D$2)*('Journal des achats'!$F$6:$F$50=Paramètres!$B12)*('Journal des achats'!$J$6:$J$50)) -> 0 | E12: =SUMPRODUCT((YEAR('Journal des achats'!$B$6:$B$50)=Paramètres!E$2)*('Journal des achats'!$F$6:$F$50=Paramètres!$B12)*('Journal des achats'!$J$6:$J$50)) -> 0 | F12: =SUMPRODUCT((YEAR('Journal des achats'!$B$6:$B$50)=Paramètres!F$2)*('Journal des achats'!$F$6:$F$50=Paramètres!$B12)*('Journal des achats'!$J$6:$J$50)) -> 0 | G12: =SUMPRODUCT((YEAR('Journal des achats'!$B$6:$B$50)=Paramètres!G$2)*('Journal des achats'!$F$6:$F$50=Paramètres!$B12)*('Journal des achats'!$J$6:$J$50)) -> 0 | I12: Four 10 | J12: =K12+L12+M12+N12 -> 0 | K12: =SUMPRODUCT((YEAR('Journal des achats'!$B$6:$B$50)=Paramètres!K$2)*('Journal des achats'!$E$6:$E$50=Paramètres!$I12)*('Journal des achats'!$J$6:$J$50)) -> 0 | L12: =SUMPRODUCT((YEAR('Journal des achats'!$B$6:$B$50)=Paramètres!L$2)*('Journal des achats'!$E$6:$E$50=Paramètres!$I12)*('Journal des achats'!$J$6:$J$50)) -> 0 | M12: =SUMPRODUCT((YEAR('Journal des achats'!$B$6:$B$50)=Paramètres!M$2)*('Journal des achats'!$E$6:$E$50=Paramètres!$I12)*('Journal des achats'!$J$6:$J$50)) -> 0 | N12: =SUMPRODUCT((YEAR('Journal des achats'!$B$6:$B$50)=Paramètres!N$2)*('Journal des achats'!$E$6:$E$50=Paramètres!$I12)*('Journal des achats'!$J$6:$J$50)) -> 0 | P12: Polleniz 72 | Q12: =R12+S12+T12+U12 -> 0 | R12: =SUMPRODUCT((YEAR('Journal des achats'!$B$6:$B$50)=Paramètres!R$2)*('Journal des achats'!$G$6:$G$50=Paramètres!$P12)*('Journal des achats'!$J$6:$J$50)) -> 0 | S12: =SUMPRODUCT((YEAR('Journal des achats'!$B$6:$B$50)=Paramètres!S$2)*('Journal des achats'!$G$6:$G$50=Paramètres!$P12)*('Journal des achats'!$J$6:$J$50)) -> 0 | T12: =SUMPRODUCT((YEAR('Journal des achats'!$B$6:$B$50)=Paramètres!T$2)*('Journal des achats'!$G$6:$G$50=Paramètres!$P12)*('Journal des achats'!$J$6:$J$50)) -> 0 | U12: =SUMPRODUCT((YEAR('Journal des achats'!$B$6:$B$50)=Paramètres!U$2)*('Journal des achats'!$G$6:$G$50=Paramètres!$P12)*('Journal des achats'!$J$6:$J$50)) -> 0
B13: Prod 11 | C13: =D13+E13+F13+G13 -> 0 | D13: =SUMPRODUCT((YEAR('Journal des achats'!$B$6:$B$50)=Paramètres!D$2)*('Journal des achats'!$F$6:$F$50=Paramètres!$B13)*('Journal des achats'!$J$6:$J$50)) -> 0 | E13: =SUMPRODUCT((YEAR('Journal des achats'!$B$6:$B$50)=Paramètres!E$2)*('Journal des achats'!$F$6:$F$50=Paramètres!$B13)*('Journal des achats'!$J$6:$J$50)) -> 0 | F13: =SUMPRODUCT((YEAR('Journal des achats'!$B$6:$B$50)=Paramètres!F$2)*('Journal des achats'!$F$6:$F$50=Paramètres!$B13)*('Journal des achats'!$J$6:$J$50)) -> 0 | G13: =SUMPRODUCT((YEAR('Journal des achats'!$B$6:$B$50)=Paramètres!G$2)*('Journal des achats'!$F$6:$F$50=Paramètres!$B13)*('Journal des achats'!$J$6:$J$50)) -> 0 | I13: Four 11 | J13: =K13+L13+M13+N13 -> 0 | K13: =SUMPRODUCT((YEAR('Journal des achats'!$B$6:$B$50)=Paramètres!K$2)*('Journal des achats'!$E$6:$E$50=Paramètres!$I13)*('Journal des achats'!$J$6:$J$50)) -> 0 | L13: =SUMPRODUCT((YEAR('Journal des achats'!$B$6:$B$50)=Paramètres!L$2)*('Journal des achats'!$E$6:$E$50=Paramètres!$I13)*('Journal des achats'!$J$6:$J$50)) -> 0 | M13: =SUMPRODUCT((YEAR('Journal des achats'!$B$6:$B$50)=Paramètres!M$2)*('Journal des achats'!$E$6:$E$50=Paramètres!$I13)*('Journal des achats'!$J$6:$J$50)) -> 0 | N13: =SUMPRODUCT((YEAR('Journal des achats'!$B$6:$B$50)=Paramètres!N$2)*('Journal des achats'!$E$6:$E$50=Paramètres!$I13)*('Journal des achats'!$J$6:$J$50)) -> 0 | P13: Polleniz 85 | Q13: =R13+S13+T13+U13 -> 0 | R13: =SUMPRODUCT((YEAR('Journal des achats'!$B$6:$B$50)=Paramètres!R$2)*('Journal des achats'!$G$6:$G$50=Paramètres!$P13)*('Journal des achats'!$J$6:$J$50)) -> 0 | S13: =SUMPRODUCT((YEAR('Journal des achats'!$B$6:$B$50)=Paramètres!S$2)*('Journal des achats'!$G$6:$G$50=Paramètres!$P13)*('Journal des achats'!$J$6:$J$50)) -> 0 | T13: =SUMPRODUCT((YEAR('Journal des achats'!$B$6:$B$50)=Paramètres!T$2)*('Journal des achats'!$G$6:$G$50=Paramètres!$P13)*('Journal des achats'!$J$6:$J$50)) -> 0 | U13: =SUMPRODUCT((YEAR('Journal des achats'!$B$6:$B$50)=Paramètres!U$2)*('Journal des achats'!$G$6:$G$50=Paramètres!$P13)*('Journal des achats'!$J$6:$J$50)) -> 0
B14: Prod 12 | C14: =D14+E14+F14+G14 -> 0 | D14: =SUMPRODUCT((YEAR('Journal des achats'!$B$6:$B$50)=Paramètres!D$2)*('Journal des achats'!$F$6:$F$50=Paramètres!$B14)*('Journal des achats'!$J$6:$J$50)) -> 0 | E14: =SUMPRODUCT((YEAR('Journal des achats'!$B$6:$B$50)=Paramètres!E$2)*('Journal des achats'!$F$6:$F$50=Paramètres!$B14)*('Journal des achats'!$J$6:$J$50)) -> 0 | F14: =SUMPRODUCT((YEAR('Journal des achats'!$B$6:$B$50)=Paramètres!F$2)*('Journal des achats'!$F$6:$F$50=Paramètres!$B14)*('Journal des achats'!$J$6:$J$50)) -> 0 | G14: =SUMPRODUCT((YEAR('Journal des achats'!$B$6:$B$50)=Paramètres!G$2)*('Journal des achats'!$F$6:$F$50=Paramètres!$B14)*('Journal des achats'!$J$6:$J$50)) -> 0 | I14: Four 12 | J14: =K14+L14+M14+N14 -> 0 | K14: =SUMPRODUCT((YEAR('Journal des achats'!$B$6:$B$50)=Paramètres!K$2)*('Journal des achats'!$E$6:$E$50=Paramètres!$I14)*('Journal des achats'!$J$6:$J$50)) -> 0 | L14: =SUMPRODUCT((YEAR('Journal des achats'!$B$6:$B$50)=Paramètres!L$2)*('Journal des achats'!$E$6:$E$50=Paramètres!$I14)*('Journal des achats'!$J$6:$J$50)) -> 0 | M14: =SUMPRODUCT((YEAR('Journal des achats'!$B$6:$B$50)=Paramètres!M$2)*('Journal des achats'!$E$6:$E$50=Paramètres!$I14)*('Journal des achats'!$J$6:$J$50)) -> 0 | N14: =SUMPRODUCT((YEAR('Journal des achats'!$B$6:$B$50)=Paramètres!N$2)*('Journal des achats'!$E$6:$E$50=Paramètres!$I14)*('Journal des achats'!$J$6:$J$50)) -> 0 | P14: Girpa | Q14: =R14+S14+T14+U14 -> 0 | R14: =SUMPRODUCT((YEAR('Journal des achats'!$B$6:$B$50)=Paramètres!R$2)*('Journal des achats'!$G$6:$G$50=Paramètres!$P14)*('Journal des achats'!$J$6:$J$50)) -> 0 | S14: =SUMPRODUCT((YEAR('Journal des achats'!$B$6:$B$50)=Paramètres!S$2)*('Journal des achats'!$G$6:$G$50=Paramètres!$P14)*('Journal des achats'!$J$6:$J$50)) -> 0 | T14: =SUMPRODUCT((YEAR('Journal des achats'!$B$6:$B$50)=Paramètres!T$2)*('Journal des achats'!$G$6:$G$50=Paramètres!$P14)*('Journal des achats'!$J$6:$J$50)) -> 0 | U14: =SUMPRODUCT((YEAR('Journal des achats'!$B$6:$B$50)=Paramètres!U$2)*('Journal des achats'!$G$6:$G$50=Paramètres!$P14)*('Journal des achats'!$J$6:$J$50)) -> 0
... B21: Prod 19 | C21: =D21+E21+F21+G21 -> 0 | D21: =SUMPRODUCT((YEAR('Journal des achats'!$B$6:$B$50)=Paramètres!D$2)*('Journal des achats'!$F$6:$F$50=Paramètres!$B21)*('Journal des achats'!$J$6:$J$50)) -> 0 | E21: =SUMPRODUCT((YEAR('Journal des achats'!$B$6:$B$50)=Paramètres!E$2)*('Journal des achats'!$F$6:$F$50=Paramètres!$B21)*('Journal des achats'!$J$6:$J$50)) -> 0 | F21: =SUMPRODUCT((YEAR('Journal des achats'!$B$6:$B$50)=Paramètres!F$2)*('Journal des achats'!$F$6:$F$50=Paramètres!$B21)*('Journal des achats'!$J$6:$J$50)) -> 0 | G21: =SUMPRODUCT((YEAR('Journal des achats'!$B$6:$B$50)=Paramètres!G$2)*('Journal des achats'!$F$6:$F$50=Paramètres!$B21)*('Journal des achats'!$J$6:$J$50)) -> 0 | I21: Four 19 | J21: =K21+L21+M21+N21 -> 0 | K21: =SUMPRODUCT((YEAR('Journal des achats'!$B$6:$B$50)=Paramètres!K$2)*('Journal des achats'!$E$6:$E$50=Paramètres!$I21)*('Journal des achats'!$J$6:$J$50)) -> 0 | L21: =SUMPRODUCT((YEAR('Journal des achats'!$B$6:$B$50)=Paramètres!L$2)*('Journal des achats'!$E$6:$E$50=Paramètres!$I21)*('Journal des achats'!$J$6:$J$50)) -> 0 | M21: =SUMPRODUCT((YEAR('Journal des achats'!$B$6:$B$50)=Paramètres!M$2)*('Journal des achats'!$E$6:$E$50=Paramètres!$I21)*('Journal des achats'!$J$6:$J$50)) -> 0 | N21: =SUMPRODUCT((YEAR('Journal des achats'!$B$6:$B$50)=Paramètres!N$2)*('Journal des achats'!$E$6:$E$50=Paramètres!$I21)*('Journal des achats'!$J$6:$J$50)) -> 0 | P21: Four 19 | Q21: =R21+S21+T21+U21 -> 0 | R21: =SUMPRODUCT((YEAR('Journal des achats'!$B$6:$B$50)=Paramètres!R$2)*('Journal des achats'!$G$6:$G$50=Paramètres!$P21)*('Journal des achats'!$J$6:$J$50)) -> 0 | S21: =SUMPRODUCT((YEAR('Journal des achats'!$B$6:$B$50)=Paramètres!S$2)*('Journal des achats'!$G$6:$G$50=Paramètres!$P21)*('Journal des achats'!$J$6:$J$50)) -> 0 | T21: =SUMPRODUCT((YEAR('Journal des achats'!$B$6:$B$50)=Paramètres!T$2)*('Journal des achats'!$G$6:$G$50=Paramètres!$P21)*('Journal des achats'!$J$6:$J$50)) -> 0 | U21: =SUMPRODUCT((YEAR('Journal des achats'!$B$6:$B$50)=Paramètres!U$2)*('Journal des achats'!$G$6:$G$50=Paramètres!$P21)*('Journal des achats'!$J$6:$J$50)) -> 0
B22: Total | C22: =SUM(C3:C21) -> 179 | D22: =SUM(D3:D21) -> 179 | E22: =SUM(E3:E21) -> 0 | F22: =SUM(F3:F21) -> 0 | G22: =SUM(G3:G21) -> 0 | I22: Total | J22: =SUM(J3:J21) -> 179 | K22: =SUM(K3:K21) -> 179 | L22: =SUM(L3:L21) -> 0 | M22: =SUM(M3:M21) -> 0 | N22: =SUM(N3:N21) -> 0 | P22: Total | Q22: =SUM(Q3:Q21) -> 179 | R22: =SUM(R3:R21) -> 179 | S22: =SUM(S3:S21) -> 0 | T22: =SUM(T3:T21) -> 0 | U22: =SUM(U3:U21) -> 0
