Workbook

Sheet ANNONCEUR 
A1: TABLEAU DES ANNONCEURS
G3: TOTAL
A5: NOM DE L'ANNONCEUR | B5: NOM DE L'ENTREPRISE | C5: NB DE PUB | D5: REMISE | E5: TARIF | F5: MOIS DE PARUTION | G5: MODE DE PAIEMENT | H5: VALIDATION | I5: REMARQUE
E6: =IF(D6=50%,'PAS TOUCHER'!A6*0.5,'PAS TOUCHER'!A6)
E7: =IF(D7=50%,'PAS TOUCHER'!A7*0.5,'PAS TOUCHER'!A7)
E8: =IF(D8=50%,'PAS TOUCHER'!A8*0.5,'PAS TOUCHER'!A8)
E9: =IF(D9=50%,'PAS TOUCHER'!A9*0.5,'PAS TOUCHER'!A9)
E10: =IF(D10=50%,'PAS TOUCHER'!A10*0.5,'PAS TOUCHER'!A10)
E11: =IF(D11=50%,'PAS TOUCHER'!A11*0.5,'PAS TOUCHER'!A11)
E12: =IF(D12=50%,'PAS TOUCHER'!A12*0.5,'PAS TOUCHER'!A12)
E13: =IF(D13=50%,'PAS TOUCHER'!A13*0.5,'PAS TOUCHER'!A13)
E14: =IF(D14=50%,'PAS TOUCHER'!A14*0.5,'PAS TOUCHER'!A14)
E15: =IF(D15=50%,'PAS TOUCHER'!A15*0.5,'PAS TOUCHER'!A15)
E16: =IF(D16=50%,'PAS TOUCHER'!A16*0.5,'PAS TOUCHER'!A16)
E17: =IF(D17=50%,'PAS TOUCHER'!A17*0.5,'PAS TOUCHER'!A17)
... E76: =IF(D76=50%,'PAS TOUCHER'!A76*0.5,'PAS TOUCHER'!A76)

Sheet PAS TOUCHER
A6: =IF('ANNONCEUR '!C6=1,70,IF('ANNONCEUR '!C6=2,120,IF('ANNONCEUR '!C6=3,170,IF('ANNONCEUR '!C6=4,200,"")))) | B6: TRUE
A7: =IF('ANNONCEUR '!C7=1,70,IF('ANNONCEUR '!C7=2,120,IF('ANNONCEUR '!C7=3,170,IF('ANNONCEUR '!C7=4,200,"")))) | C7: 1 | D7: 0.5 | E7: non payé
A8: =IF('ANNONCEUR '!C8=1,70,IF('ANNONCEUR '!C8=2,120,IF('ANNONCEUR '!C8=3,170,IF('ANNONCEUR '!C8=4,200,"")))) | C8: 2 | E8: virement
A9: =IF('ANNONCEUR '!C9=1,70,IF('ANNONCEUR '!C9=2,120,IF('ANNONCEUR '!C9=3,170,IF('ANNONCEUR '!C9=4,200,"")))) | C9: 3 | E9: espéce
A10: =IF('ANNONCEUR '!C10=1,70,IF('ANNONCEUR '!C10=2,120,IF('ANNONCEUR '!C10=3,170,IF('ANNONCEUR '!C10=4,200,"")))) | C10: 4 | E10: chèque
A11: =IF('ANNONCEUR '!C11=1,70,IF('ANNONCEUR '!C11=2,120,IF('ANNONCEUR '!C11=3,170,IF('ANNONCEUR '!C11=4,200,""))))
A12: =IF('ANNONCEUR '!C12=1,70,IF('ANNONCEUR '!C12=2,120,IF('ANNONCEUR '!C12=3,170,IF('ANNONCEUR '!C12=4,200,""))))
A13: =IF('ANNONCEUR '!C13=1,70,IF('ANNONCEUR '!C13=2,120,IF('ANNONCEUR '!C13=3,170,IF('ANNONCEUR '!C13=4,200,""))))
A14: =IF('ANNONCEUR '!C14=1,70,IF('ANNONCEUR '!C14=2,120,IF('ANNONCEUR '!C14=3,170,IF('ANNONCEUR '!C14=4,200,""))))
A15: =IF('ANNONCEUR '!C15=1,70,IF('ANNONCEUR '!C15=2,120,IF('ANNONCEUR '!C15=3,170,IF('ANNONCEUR '!C15=4,200,""))))
A16: =IF('ANNONCEUR '!C16=1,70,IF('ANNONCEUR '!C16=2,120,IF('ANNONCEUR '!C16=3,170,IF('ANNONCEUR '!C16=4,200,""))))
A17: =IF('ANNONCEUR '!C17=1,70,IF('ANNONCEUR '!C17=2,120,IF('ANNONCEUR '!C17=3,170,IF('ANNONCEUR '!C17=4,200,""))))
A18: =IF('ANNONCEUR '!C18=1,70,IF('ANNONCEUR '!C18=2,120,IF('ANNONCEUR '!C18=3,170,IF('ANNONCEUR '!C18=4,200,""))))
A19: =IF('ANNONCEUR '!C19=1,70,IF('ANNONCEUR '!C19=2,120,IF('ANNONCEUR '!C19=3,170,IF('ANNONCEUR '!C19=4,200,""))))
A20: =IF('ANNONCEUR '!C20=1,70,IF('ANNONCEUR '!C20=2,120,IF('ANNONCEUR '!C20=3,170,IF('ANNONCEUR '!C20=4,200,""))))
A21: =IF('ANNONCEUR '!C21=1,70,IF('ANNONCEUR '!C21=2,120,IF('ANNONCEUR '!C21=3,170,IF('ANNONCEUR '!C21=4,200,""))))
A22: =IF('ANNONCEUR '!C22=1,70,IF('ANNONCEUR '!C22=2,120,IF('ANNONCEUR '!C22=3,170,IF('ANNONCEUR '!C22=4,200,""))))
... A76: =IF('ANNONCEUR '!C76=1,70,IF('ANNONCEUR '!C76=2,120,IF('ANNONCEUR '!C76=3,170,IF('ANNONCEUR '!C76=4,200,""))))
