Workbook

Sheet Saisie Heures
A1: Fonction | B1: Nom | C1: Prénom | D1: Société | E1: Date | F1: Heure départ | G1: Début pause | H1: Fin pause | I1: Heure fin | J1: Heures totales | K1: Montant € | L1: Heures 40% 20-22h semaine samedi jour | M1: Heures 90% 22-08h semaine 20-22h samedi dimanche | N1: Montant €2
A2: Caristes | B2: Yaiche | C2: Wahib | D2: Wy Events (Wahib) | E2: 46089 | F2: 0.29166667 | G2: 0.5 | H2: 0.54166667 | I2: 0.79166667 | J2: =IF(AND(ISNUMBER(TableSaisie[[#This Row],[Heure départ]]),ISNUMBER(TableSaisie[[#This Row],[Début pause]])),(MOD(G2-F2,1)+MOD(I2-H2,1))*24,"") -> 11 | K2: {=IF(ISNUMBER(TableSaisie[[#This Row],[Date]]), _xlfn.LET(_xlpm.Jr_nom,_xlfn.SWITCH(WEEKDAY(TableSaisie[[#This Row],[Date]]),1,"Dimanche",2,"Semaine",3,"Semaine",4,"Semaine",5,"Semaine",6,"Semaine",7,"Samedi"), _xlpm.Férié,_xlfn.XLOOKUP(TableSaisie[[#This Row],[Date]],Fériés[Fériés],Fériés[Fériés],"",0,1), _xlpm.Jr_Sem,IF(_xlpm.Férié="",_xlpm.Jr_nom,"Férié"), _xlpm.Position,_xlfn.XMATCH(_xlpm.Jr_Sem,Table5[[#Headers],[Semaine]:[Férié]],0,1), _xlpm.Taux,_xlfn.XLOOKUP($A2,Table2[Fonction],Table2[Taux horaire (€)],0,0,1)/2, _xlpm.Tot,SUM(IF(TableSaisie[[#This Row],[Heure départ]]<=Table5[De],IF(TableSaisie[[#This Row],[Début pause]]>=Table5[À],_xlpm.Taux*CHOOSE(_xlpm.Position,Table5[Semaine],Table5[Samedi],Table5[Dimanche],Table5[Férié]))))+ SUM(IF(TableSaisie[[#This Row],[Fin pause]]<=Table5[De],IF(TableSaisie[[#This Row],[Heure fin]]>=Table5[À],_xlpm.Taux*CHOOSE(_xlpm.Position,Table5[Semaine],Table5[Samedi],Table5[Dimanche],Table5[Férié])))), _xlpm.Tot),"")} -> 836 | N2: =IF(ISNUMBER(TableSaisie[[#This Row],[Heures totales]]),(J2*Paramètres!B3)+(L2*Paramètres!B3*0.4)+(M2*Paramètres!B3*0.9),"") -> 440
A3: Manutentionnaires | B3: Hadjel | D3: Babouri Farid | E3: 46088 | F3: 0.33333333 | G3: 0.5 | H3: 0.54166667 | I3: 0.875 | J3: =IF(AND(ISNUMBER(TableSaisie[[#This Row],[Heure départ]]),ISNUMBER(TableSaisie[[#This Row],[Début pause]])),(MOD(G3-F3,1)+MOD(I3-H3,1))*24,"") -> 12 | K3: {=IF(ISNUMBER(TableSaisie[[#This Row],[Date]]), _xlfn.LET(_xlpm.Jr_nom,_xlfn.SWITCH(WEEKDAY(TableSaisie[[#This Row],[Date]]),1,"Dimanche",2,"Semaine",3,"Semaine",4,"Semaine",5,"Semaine",6,"Semaine",7,"Samedi"), _xlpm.Férié,_xlfn.XLOOKUP(TableSaisie[[#This Row],[Date]],Fériés[Fériés],Fériés[Fériés],"",0,1), _xlpm.Jr_Sem,IF(_xlpm.Férié="",_xlpm.Jr_nom,"Férié"), _xlpm.Position,_xlfn.XMATCH(_xlpm.Jr_Sem,Table5[[#Headers],[Semaine]:[Férié]],0,1), _xlpm.Taux,_xlfn.XLOOKUP($A3,Table2[Fonction],Table2[Taux horaire (€)],0,0,1)/2, _xlpm.Tot,SUM(IF(TableSaisie[[#This Row],[Heure départ]]<=Table5[De],IF(TableSaisie[[#This Row],[Début pause]]>=Table5[À],_xlpm.Taux*CHOOSE(_xlpm.Position,Table5[Semaine],Table5[Samedi],Table5[Dimanche],Table5[Férié]))))+ SUM(IF(TableSaisie[[#This Row],[Fin pause]]<=Table5[De],IF(TableSaisie[[#This Row],[Heure fin]]>=Table5[À],_xlpm.Taux*CHOOSE(_xlpm.Position,Table5[Semaine],Table5[Samedi],Table5[Dimanche],Table5[Férié])))), _xlpm.Tot),"")} -> 605.5 | N3: =IF(ISNUMBER(TableSaisie[[#This Row],[Heures totales]]),(J3*Paramètres!B4)+(L3*Paramètres!B4*0.4)+(M3*Paramètres!B4*0.9),"") -> 480
A4: Lapins | B4: Anaclet | D4: Events Project | E4: 46087 | F4: 0.33333333 | G4: 0.47916667 | H4: 0.54166667 | I4: 0.95833333 | J4: =IF(AND(ISNUMBER(TableSaisie[[#This Row],[Heure départ]]),ISNUMBER(TableSaisie[[#This Row],[Début pause]])),(MOD(G4-F4,1)+MOD(I4-H4,1))*24,"") -> 13.5 | K4: {=IF(ISNUMBER(TableSaisie[[#This Row],[Date]]), _xlfn.LET(_xlpm.Jr_nom,_xlfn.SWITCH(WEEKDAY(TableSaisie[[#This Row],[Date]]),1,"Dimanche",2,"Semaine",3,"Semaine",4,"Semaine",5,"Semaine",6,"Semaine",7,"Samedi"), _xlpm.Férié,_xlfn.XLOOKUP(TableSaisie[[#This Row],[Date]],Fériés[Fériés],Fériés[Fériés],"",0,1), _xlpm.Jr_Sem,IF(_xlpm.Férié="",_xlpm.Jr_nom,"Férié"), _xlpm.Position,_xlfn.XMATCH(_xlpm.Jr_Sem,Table5[[#Headers],[Semaine]:[Férié]],0,1), _xlpm.Taux,_xlfn.XLOOKUP($A4,Table2[Fonction],Table2[Taux horaire (€)],0,0,1)/2, _xlpm.Tot,SUM(IF(TableSaisie[[#This Row],[Heure départ]]<=Table5[De],IF(TableSaisie[[#This Row],[Début pause]]>=Table5[À],_xlpm.Taux*CHOOSE(_xlpm.Position,Table5[Semaine],Table5[Samedi],Table5[Dimanche],Table5[Férié]))))+ SUM(IF(TableSaisie[[#This Row],[Fin pause]]<=Table5[De],IF(TableSaisie[[#This Row],[Heure fin]]>=Table5[À],_xlpm.Taux*CHOOSE(_xlpm.Position,Table5[Semaine],Table5[Samedi],Table5[Dimanche],Table5[Férié])))), _xlpm.Tot),"")} -> 570 | N4: =IF(ISNUMBER(TableSaisie[[#This Row],[Heures totales]]),(J4*Paramètres!B5)+(L4*Paramètres!B5*0.4)+(M4*Paramètres!B5*0.9),"") -> 472.5
A5: Caristes | B5: Anaclet | D5: KZS | E5: 46115 | F5: 0.33333333 | G5: 0.47916667 | H5: 0.54166667 | I5: 1 | J5: =IF(AND(ISNUMBER(TableSaisie[[#This Row],[Heure départ]]),ISNUMBER(TableSaisie[[#This Row],[Début pause]])),(MOD(G5-F5,1)+MOD(I5-H5,1))*24,"") -> 14.5 | K5: {=IF(ISNUMBER(TableSaisie[[#This Row],[Date]]), _xlfn.LET(_xlpm.Jr_nom,_xlfn.SWITCH(WEEKDAY(TableSaisie[[#This Row],[Date]]),1,"Dimanche",2,"Semaine",3,"Semaine",4,"Semaine",5,"Semaine",6,"Semaine",7,"Samedi"), _xlpm.Férié,_xlfn.XLOOKUP(TableSaisie[[#This Row],[Date]],Fériés[Fériés],Fériés[Fériés],"",0,1), _xlpm.Jr_Sem,IF(_xlpm.Férié="",_xlpm.Jr_nom,"Férié"), _xlpm.Position,_xlfn.XMATCH(_xlpm.Jr_Sem,Table5[[#Headers],[Semaine]:[Férié]],0,1), _xlpm.Taux,_xlfn.XLOOKUP($A5,Table2[Fonction],Table2[Taux horaire (€)],0,0,1)/2, _xlpm.Tot,SUM(IF(TableSaisie[[#This Row],[Heure départ]]<=Table5[De],IF(TableSaisie[[#This Row],[Début pause]]>=Table5[À],_xlpm.Taux*CHOOSE(_xlpm.Position,Table5[Semaine],Table5[Samedi],Table5[Dimanche],Table5[Férié]))))+ SUM(IF(TableSaisie[[#This Row],[Fin pause]]<=Table5[De],IF(TableSaisie[[#This Row],[Heure fin]]>=Table5[À],_xlpm.Taux*CHOOSE(_xlpm.Position,Table5[Semaine],Table5[Samedi],Table5[Dimanche],Table5[Férié])))), _xlpm.Tot),"")} -> 1102 | N5: =IF(ISNUMBER(TableSaisie[[#This Row],[Heures totales]]),(J5*Paramètres!B6)+(L5*Paramètres!B6*0.4)+(M5*Paramètres!B6*0.9),"") -> 0
J6: =IF(AND(ISNUMBER(TableSaisie[[#This Row],[Heure départ]]),ISNUMBER(TableSaisie[[#This Row],[Début pause]])),(MOD(G6-F6,1)+MOD(I6-H6,1))*24,"") | K6: {=IF(ISNUMBER(TableSaisie[[#This Row],[Date]]), _xlfn.LET(_xlpm.Jr_nom,_xlfn.SWITCH(WEEKDAY(TableSaisie[[#This Row],[Date]]),1,"Dimanche",2,"Semaine",3,"Semaine",4,"Semaine",5,"Semaine",6,"Semaine",7,"Samedi"), _xlpm.Férié,_xlfn.XLOOKUP(TableSaisie[[#This Row],[Date]],Fériés[Fériés],Fériés[Fériés],"",0,1), _xlpm.Jr_Sem,IF(_xlpm.Férié="",_xlpm.Jr_nom,"Férié"), _xlpm.Position,_xlfn.XMATCH(_xlpm.Jr_Sem,Table5[[#Headers],[Semaine]:[Férié]],0,1), _xlpm.Taux,_xlfn.XLOOKUP($A6,Table2[Fonction],Table2[Taux horaire (€)],0,0,1)/2, _xlpm.Tot,SUM(IF(TableSaisie[[#This Row],[Heure départ]]<=Table5[De],IF(TableSaisie[[#This Row],[Début pause]]>=Table5[À],_xlpm.Taux*CHOOSE(_xlpm.Position,Table5[Semaine],Table5[Samedi],Table5[Dimanche],Table5[Férié]))))+ SUM(IF(TableSaisie[[#This Row],[Fin pause]]<=Table5[De],IF(TableSaisie[[#This Row],[Heure fin]]>=Table5[À],_xlpm.Taux*CHOOSE(_xlpm.Position,Table5[Semaine],Table5[Samedi],Table5[Dimanche],Table5[Férié])))), _xlpm.Tot),"")} | N6: =IF(ISNUMBER(TableSaisie[[#This Row],[Heures totales]]),(J6*Paramètres!B7)+(L6*Paramètres!B7*0.4)+(M6*Paramètres!B7*0.9),"")
J7: =IF(AND(ISNUMBER(TableSaisie[[#This Row],[Heure départ]]),ISNUMBER(TableSaisie[[#This Row],[Début pause]])),(MOD(G7-F7,1)+MOD(I7-H7,1))*24,"") | K7: {=IF(ISNUMBER(TableSaisie[[#This Row],[Date]]), _xlfn.LET(_xlpm.Jr_nom,_xlfn.SWITCH(WEEKDAY(TableSaisie[[#This Row],[Date]]),1,"Dimanche",2,"Semaine",3,"Semaine",4,"Semaine",5,"Semaine",6,"Semaine",7,"Samedi"), _xlpm.Férié,_xlfn.XLOOKUP(TableSaisie[[#This Row],[Date]],Fériés[Fériés],Fériés[Fériés],"",0,1), _xlpm.Jr_Sem,IF(_xlpm.Férié="",_xlpm.Jr_nom,"Férié"), _xlpm.Position,_xlfn.XMATCH(_xlpm.Jr_Sem,Table5[[#Headers],[Semaine]:[Férié]],0,1), _xlpm.Taux,_xlfn.XLOOKUP($A7,Table2[Fonction],Table2[Taux horaire (€)],0,0,1)/2, _xlpm.Tot,SUM(IF(TableSaisie[[#This Row],[Heure départ]]<=Table5[De],IF(TableSaisie[[#This Row],[Début pause]]>=Table5[À],_xlpm.Taux*CHOOSE(_xlpm.Position,Table5[Semaine],Table5[Samedi],Table5[Dimanche],Table5[Férié]))))+ SUM(IF(TableSaisie[[#This Row],[Fin pause]]<=Table5[De],IF(TableSaisie[[#This Row],[Heure fin]]>=Table5[À],_xlpm.Taux*CHOOSE(_xlpm.Position,Table5[Semaine],Table5[Samedi],Table5[Dimanche],Table5[Férié])))), _xlpm.Tot),"")} | N7: =IF(ISNUMBER(TableSaisie[[#This Row],[Heures totales]]),(J7*Paramètres!B8)+(L7*Paramètres!B8*0.4)+(M7*Paramètres!B8*0.9),"")
J8: =IF(AND(ISNUMBER(TableSaisie[[#This Row],[Heure départ]]),ISNUMBER(TableSaisie[[#This Row],[Début pause]])),(MOD(G8-F8,1)+MOD(I8-H8,1))*24,"") | K8: {=IF(ISNUMBER(TableSaisie[[#This Row],[Date]]), _xlfn.LET(_xlpm.Jr_nom,_xlfn.SWITCH(WEEKDAY(TableSaisie[[#This Row],[Date]]),1,"Dimanche",2,"Semaine",3,"Semaine",4,"Semaine",5,"Semaine",6,"Semaine",7,"Samedi"), _xlpm.Férié,_xlfn.XLOOKUP(TableSaisie[[#This Row],[Date]],Fériés[Fériés],Fériés[Fériés],"",0,1), _xlpm.Jr_Sem,IF(_xlpm.Férié="",_xlpm.Jr_nom,"Férié"), _xlpm.Position,_xlfn.XMATCH(_xlpm.Jr_Sem,Table5[[#Headers],[Semaine]:[Férié]],0,1), _xlpm.Taux,_xlfn.XLOOKUP($A8,Table2[Fonction],Table2[Taux horaire (€)],0,0,1)/2, _xlpm.Tot,SUM(IF(TableSaisie[[#This Row],[Heure départ]]<=Table5[De],IF(TableSaisie[[#This Row],[Début pause]]>=Table5[À],_xlpm.Taux*CHOOSE(_xlpm.Position,Table5[Semaine],Table5[Samedi],Table5[Dimanche],Table5[Férié]))))+ SUM(IF(TableSaisie[[#This Row],[Fin pause]]<=Table5[De],IF(TableSaisie[[#This Row],[Heure fin]]>=Table5[À],_xlpm.Taux*CHOOSE(_xlpm.Position,Table5[Semaine],Table5[Samedi],Table5[Dimanche],Table5[Férié])))), _xlpm.Tot),"")} | N8: =IF(ISNUMBER(TableSaisie[[#This Row],[Heures totales]]),(J8*Paramètres!B9)+(L8*Paramètres!B9*0.4)+(M8*Paramètres!B9*0.9),"")
J9: =IF(AND(ISNUMBER(TableSaisie[[#This Row],[Heure départ]]),ISNUMBER(TableSaisie[[#This Row],[Début pause]])),(MOD(G9-F9,1)+MOD(I9-H9,1))*24,"") | K9: {=IF(ISNUMBER(TableSaisie[[#This Row],[Date]]), _xlfn.LET(_xlpm.Jr_nom,_xlfn.SWITCH(WEEKDAY(TableSaisie[[#This Row],[Date]]),1,"Dimanche",2,"Semaine",3,"Semaine",4,"Semaine",5,"Semaine",6,"Semaine",7,"Samedi"), _xlpm.Férié,_xlfn.XLOOKUP(TableSaisie[[#This Row],[Date]],Fériés[Fériés],Fériés[Fériés],"",0,1), _xlpm.Jr_Sem,IF(_xlpm.Férié="",_xlpm.Jr_nom,"Férié"), _xlpm.Position,_xlfn.XMATCH(_xlpm.Jr_Sem,Table5[[#Headers],[Semaine]:[Férié]],0,1), _xlpm.Taux,_xlfn.XLOOKUP($A9,Table2[Fonction],Table2[Taux horaire (€)],0,0,1)/2, _xlpm.Tot,SUM(IF(TableSaisie[[#This Row],[Heure départ]]<=Table5[De],IF(TableSaisie[[#This Row],[Début pause]]>=Table5[À],_xlpm.Taux*CHOOSE(_xlpm.Position,Table5[Semaine],Table5[Samedi],Table5[Dimanche],Table5[Férié]))))+ SUM(IF(TableSaisie[[#This Row],[Fin pause]]<=Table5[De],IF(TableSaisie[[#This Row],[Heure fin]]>=Table5[À],_xlpm.Taux*CHOOSE(_xlpm.Position,Table5[Semaine],Table5[Samedi],Table5[Dimanche],Table5[Férié])))), _xlpm.Tot),"")} | N9: =IF(ISNUMBER(TableSaisie[[#This Row],[Heures totales]]),(J9*Paramètres!B10)+(L9*Paramètres!B10*0.4)+(M9*Paramètres!B10*0.9),"")
J10: =IF(AND(ISNUMBER(TableSaisie[[#This Row],[Heure départ]]),ISNUMBER(TableSaisie[[#This Row],[Début pause]])),(MOD(G10-F10,1)+MOD(I10-H10,1))*24,"") | K10: {=IF(ISNUMBER(TableSaisie[[#This Row],[Date]]), _xlfn.LET(_xlpm.Jr_nom,_xlfn.SWITCH(WEEKDAY(TableSaisie[[#This Row],[Date]]),1,"Dimanche",2,"Semaine",3,"Semaine",4,"Semaine",5,"Semaine",6,"Semaine",7,"Samedi"), _xlpm.Férié,_xlfn.XLOOKUP(TableSaisie[[#This Row],[Date]],Fériés[Fériés],Fériés[Fériés],"",0,1), _xlpm.Jr_Sem,IF(_xlpm.Férié="",_xlpm.Jr_nom,"Férié"), _xlpm.Position,_xlfn.XMATCH(_xlpm.Jr_Sem,Table5[[#Headers],[Semaine]:[Férié]],0,1), _xlpm.Taux,_xlfn.XLOOKUP($A10,Table2[Fonction],Table2[Taux horaire (€)],0,0,1)/2, _xlpm.Tot,SUM(IF(TableSaisie[[#This Row],[Heure départ]]<=Table5[De],IF(TableSaisie[[#This Row],[Début pause]]>=Table5[À],_xlpm.Taux*CHOOSE(_xlpm.Position,Table5[Semaine],Table5[Samedi],Table5[Dimanche],Table5[Férié]))))+ SUM(IF(TableSaisie[[#This Row],[Fin pause]]<=Table5[De],IF(TableSaisie[[#This Row],[Heure fin]]>=Table5[À],_xlpm.Taux*CHOOSE(_xlpm.Position,Table5[Semaine],Table5[Samedi],Table5[Dimanche],Table5[Férié])))), _xlpm.Tot),"")} | N10: =IF(ISNUMBER(TableSaisie[[#This Row],[Heures totales]]),(J10*Paramètres!B11)+(L10*Paramètres!B11*0.4)+(M10*Paramètres!B11*0.9),"")
J11: =IF(AND(ISNUMBER(TableSaisie[[#This Row],[Heure départ]]),ISNUMBER(TableSaisie[[#This Row],[Début pause]])),(MOD(G11-F11,1)+MOD(I11-H11,1))*24,"") | K11: {=IF(ISNUMBER(TableSaisie[[#This Row],[Date]]), _xlfn.LET(_xlpm.Jr_nom,_xlfn.SWITCH(WEEKDAY(TableSaisie[[#This Row],[Date]]),1,"Dimanche",2,"Semaine",3,"Semaine",4,"Semaine",5,"Semaine",6,"Semaine",7,"Samedi"), _xlpm.Férié,_xlfn.XLOOKUP(TableSaisie[[#This Row],[Date]],Fériés[Fériés],Fériés[Fériés],"",0,1), _xlpm.Jr_Sem,IF(_xlpm.Férié="",_xlpm.Jr_nom,"Férié"), _xlpm.Position,_xlfn.XMATCH(_xlpm.Jr_Sem,Table5[[#Headers],[Semaine]:[Férié]],0,1), _xlpm.Taux,_xlfn.XLOOKUP($A11,Table2[Fonction],Table2[Taux horaire (€)],0,0,1)/2, _xlpm.Tot,SUM(IF(TableSaisie[[#This Row],[Heure départ]]<=Table5[De],IF(TableSaisie[[#This Row],[Début pause]]>=Table5[À],_xlpm.Taux*CHOOSE(_xlpm.Position,Table5[Semaine],Table5[Samedi],Table5[Dimanche],Table5[Férié]))))+ SUM(IF(TableSaisie[[#This Row],[Fin pause]]<=Table5[De],IF(TableSaisie[[#This Row],[Heure fin]]>=Table5[À],_xlpm.Taux*CHOOSE(_xlpm.Position,Table5[Semaine],Table5[Samedi],Table5[Dimanche],Table5[Férié])))), _xlpm.Tot),"")} | N11: =IF(ISNUMBER(TableSaisie[[#This Row],[Heures totales]]),(J11*Paramètres!B12)+(L11*Paramètres!B12*0.4)+(M11*Paramètres!B12*0.9),"")
J12: =IF(AND(ISNUMBER(TableSaisie[[#This Row],[Heure départ]]),ISNUMBER(TableSaisie[[#This Row],[Début pause]])),(MOD(G12-F12,1)+MOD(I12-H12,1))*24,"") | K12: {=IF(ISNUMBER(TableSaisie[[#This Row],[Date]]), _xlfn.LET(_xlpm.Jr_nom,_xlfn.SWITCH(WEEKDAY(TableSaisie[[#This Row],[Date]]),1,"Dimanche",2,"Semaine",3,"Semaine",4,"Semaine",5,"Semaine",6,"Semaine",7,"Samedi"), _xlpm.Férié,_xlfn.XLOOKUP(TableSaisie[[#This Row],[Date]],Fériés[Fériés],Fériés[Fériés],"",0,1), _xlpm.Jr_Sem,IF(_xlpm.Férié="",_xlpm.Jr_nom,"Férié"), _xlpm.Position,_xlfn.XMATCH(_xlpm.Jr_Sem,Table5[[#Headers],[Semaine]:[Férié]],0,1), _xlpm.Taux,_xlfn.XLOOKUP($A12,Table2[Fonction],Table2[Taux horaire (€)],0,0,1)/2, _xlpm.Tot,SUM(IF(TableSaisie[[#This Row],[Heure départ]]<=Table5[De],IF(TableSaisie[[#This Row],[Début pause]]>=Table5[À],_xlpm.Taux*CHOOSE(_xlpm.Position,Table5[Semaine],Table5[Samedi],Table5[Dimanche],Table5[Férié]))))+ SUM(IF(TableSaisie[[#This Row],[Fin pause]]<=Table5[De],IF(TableSaisie[[#This Row],[Heure fin]]>=Table5[À],_xlpm.Taux*CHOOSE(_xlpm.Position,Table5[Semaine],Table5[Samedi],Table5[Dimanche],Table5[Férié])))), _xlpm.Tot),"")} | N12: =IF(ISNUMBER(TableSaisie[[#This Row],[Heures totales]]),(J12*Paramètres!B13)+(L12*Paramètres!B13*0.4)+(M12*Paramètres!B13*0.9),"")
J13: =IF(AND(ISNUMBER(TableSaisie[[#This Row],[Heure départ]]),ISNUMBER(TableSaisie[[#This Row],[Début pause]])),(MOD(G13-F13,1)+MOD(I13-H13,1))*24,"") | K13: {=IF(ISNUMBER(TableSaisie[[#This Row],[Date]]), _xlfn.LET(_xlpm.Jr_nom,_xlfn.SWITCH(WEEKDAY(TableSaisie[[#This Row],[Date]]),1,"Dimanche",2,"Semaine",3,"Semaine",4,"Semaine",5,"Semaine",6,"Semaine",7,"Samedi"), _xlpm.Férié,_xlfn.XLOOKUP(TableSaisie[[#This Row],[Date]],Fériés[Fériés],Fériés[Fériés],"",0,1), _xlpm.Jr_Sem,IF(_xlpm.Férié="",_xlpm.Jr_nom,"Férié"), _xlpm.Position,_xlfn.XMATCH(_xlpm.Jr_Sem,Table5[[#Headers],[Semaine]:[Férié]],0,1), _xlpm.Taux,_xlfn.XLOOKUP($A13,Table2[Fonction],Table2[Taux horaire (€)],0,0,1)/2, _xlpm.Tot,SUM(IF(TableSaisie[[#This Row],[Heure départ]]<=Table5[De],IF(TableSaisie[[#This Row],[Début pause]]>=Table5[À],_xlpm.Taux*CHOOSE(_xlpm.Position,Table5[Semaine],Table5[Samedi],Table5[Dimanche],Table5[Férié]))))+ SUM(IF(TableSaisie[[#This Row],[Fin pause]]<=Table5[De],IF(TableSaisie[[#This Row],[Heure fin]]>=Table5[À],_xlpm.Taux*CHOOSE(_xlpm.Position,Table5[Semaine],Table5[Samedi],Table5[Dimanche],Table5[Férié])))), _xlpm.Tot),"")} | N13: =IF(ISNUMBER(TableSaisie[[#This Row],[Heures totales]]),(J13*Paramètres!B14)+(L13*Paramètres!B14*0.4)+(M13*Paramètres!B14*0.9),"")
J14: =IF(AND(ISNUMBER(TableSaisie[[#This Row],[Heure départ]]),ISNUMBER(TableSaisie[[#This Row],[Début pause]])),(MOD(G14-F14,1)+MOD(I14-H14,1))*24,"") | K14: {=IF(ISNUMBER(TableSaisie[[#This Row],[Date]]), _xlfn.LET(_xlpm.Jr_nom,_xlfn.SWITCH(WEEKDAY(TableSaisie[[#This Row],[Date]]),1,"Dimanche",2,"Semaine",3,"Semaine",4,"Semaine",5,"Semaine",6,"Semaine",7,"Samedi"), _xlpm.Férié,_xlfn.XLOOKUP(TableSaisie[[#This Row],[Date]],Fériés[Fériés],Fériés[Fériés],"",0,1), _xlpm.Jr_Sem,IF(_xlpm.Férié="",_xlpm.Jr_nom,"Férié"), _xlpm.Position,_xlfn.XMATCH(_xlpm.Jr_Sem,Table5[[#Headers],[Semaine]:[Férié]],0,1), _xlpm.Taux,_xlfn.XLOOKUP($A14,Table2[Fonction],Table2[Taux horaire (€)],0,0,1)/2, _xlpm.Tot,SUM(IF(TableSaisie[[#This Row],[Heure départ]]<=Table5[De],IF(TableSaisie[[#This Row],[Début pause]]>=Table5[À],_xlpm.Taux*CHOOSE(_xlpm.Position,Table5[Semaine],Table5[Samedi],Table5[Dimanche],Table5[Férié]))))+ SUM(IF(TableSaisie[[#This Row],[Fin pause]]<=Table5[De],IF(TableSaisie[[#This Row],[Heure fin]]>=Table5[À],_xlpm.Taux*CHOOSE(_xlpm.Position,Table5[Semaine],Table5[Samedi],Table5[Dimanche],Table5[Férié])))), _xlpm.Tot),"")} | N14: =IF(ISNUMBER(TableSaisie[[#This Row],[Heures totales]]),(J14*Paramètres!B15)+(L14*Paramètres!B15*0.4)+(M14*Paramètres!B15*0.9),"")
J15: =IF(AND(ISNUMBER(TableSaisie[[#This Row],[Heure départ]]),ISNUMBER(TableSaisie[[#This Row],[Début pause]])),(MOD(G15-F15,1)+MOD(I15-H15,1))*24,"") | K15: {=IF(ISNUMBER(TableSaisie[[#This Row],[Date]]), _xlfn.LET(_xlpm.Jr_nom,_xlfn.SWITCH(WEEKDAY(TableSaisie[[#This Row],[Date]]),1,"Dimanche",2,"Semaine",3,"Semaine",4,"Semaine",5,"Semaine",6,"Semaine",7,"Samedi"), _xlpm.Férié,_xlfn.XLOOKUP(TableSaisie[[#This Row],[Date]],Fériés[Fériés],Fériés[Fériés],"",0,1), _xlpm.Jr_Sem,IF(_xlpm.Férié="",_xlpm.Jr_nom,"Férié"), _xlpm.Position,_xlfn.XMATCH(_xlpm.Jr_Sem,Table5[[#Headers],[Semaine]:[Férié]],0,1), _xlpm.Taux,_xlfn.XLOOKUP($A15,Table2[Fonction],Table2[Taux horaire (€)],0,0,1)/2, _xlpm.Tot,SUM(IF(TableSaisie[[#This Row],[Heure départ]]<=Table5[De],IF(TableSaisie[[#This Row],[Début pause]]>=Table5[À],_xlpm.Taux*CHOOSE(_xlpm.Position,Table5[Semaine],Table5[Samedi],Table5[Dimanche],Table5[Férié]))))+ SUM(IF(TableSaisie[[#This Row],[Fin pause]]<=Table5[De],IF(TableSaisie[[#This Row],[Heure fin]]>=Table5[À],_xlpm.Taux*CHOOSE(_xlpm.Position,Table5[Semaine],Table5[Samedi],Table5[Dimanche],Table5[Férié])))), _xlpm.Tot),"")} | N15: =IF(ISNUMBER(TableSaisie[[#This Row],[Heures totales]]),(J15*Paramètres!B16)+(L15*Paramètres!B16*0.4)+(M15*Paramètres!B16*0.9),"")
J16: =IF(AND(ISNUMBER(TableSaisie[[#This Row],[Heure départ]]),ISNUMBER(TableSaisie[[#This Row],[Début pause]])),(MOD(G16-F16,1)+MOD(I16-H16,1))*24,"") | K16: {=IF(ISNUMBER(TableSaisie[[#This Row],[Date]]), _xlfn.LET(_xlpm.Jr_nom,_xlfn.SWITCH(WEEKDAY(TableSaisie[[#This Row],[Date]]),1,"Dimanche",2,"Semaine",3,"Semaine",4,"Semaine",5,"Semaine",6,"Semaine",7,"Samedi"), _xlpm.Férié,_xlfn.XLOOKUP(TableSaisie[[#This Row],[Date]],Fériés[Fériés],Fériés[Fériés],"",0,1), _xlpm.Jr_Sem,IF(_xlpm.Férié="",_xlpm.Jr_nom,"Férié"), _xlpm.Position,_xlfn.XMATCH(_xlpm.Jr_Sem,Table5[[#Headers],[Semaine]:[Férié]],0,1), _xlpm.Taux,_xlfn.XLOOKUP($A16,Table2[Fonction],Table2[Taux horaire (€)],0,0,1)/2, _xlpm.Tot,SUM(IF(TableSaisie[[#This Row],[Heure départ]]<=Table5[De],IF(TableSaisie[[#This Row],[Début pause]]>=Table5[À],_xlpm.Taux*CHOOSE(_xlpm.Position,Table5[Semaine],Table5[Samedi],Table5[Dimanche],Table5[Férié]))))+ SUM(IF(TableSaisie[[#This Row],[Fin pause]]<=Table5[De],IF(TableSaisie[[#This Row],[Heure fin]]>=Table5[À],_xlpm.Taux*CHOOSE(_xlpm.Position,Table5[Semaine],Table5[Samedi],Table5[Dimanche],Table5[Férié])))), _xlpm.Tot),"")} | N16: =IF(ISNUMBER(TableSaisie[[#This Row],[Heures totales]]),(J16*Paramètres!B17)+(L16*Paramètres!B17*0.4)+(M16*Paramètres!B17*0.9),"")
J17: =IF(AND(ISNUMBER(TableSaisie[[#This Row],[Heure départ]]),ISNUMBER(TableSaisie[[#This Row],[Début pause]])),(MOD(G17-F17,1)+MOD(I17-H17,1))*24,"") | K17: {=IF(ISNUMBER(TableSaisie[[#This Row],[Date]]), _xlfn.LET(_xlpm.Jr_nom,_xlfn.SWITCH(WEEKDAY(TableSaisie[[#This Row],[Date]]),1,"Dimanche",2,"Semaine",3,"Semaine",4,"Semaine",5,"Semaine",6,"Semaine",7,"Samedi"), _xlpm.Férié,_xlfn.XLOOKUP(TableSaisie[[#This Row],[Date]],Fériés[Fériés],Fériés[Fériés],"",0,1), _xlpm.Jr_Sem,IF(_xlpm.Férié="",_xlpm.Jr_nom,"Férié"), _xlpm.Position,_xlfn.XMATCH(_xlpm.Jr_Sem,Table5[[#Headers],[Semaine]:[Férié]],0,1), _xlpm.Taux,_xlfn.XLOOKUP($A17,Table2[Fonction],Table2[Taux horaire (€)],0,0,1)/2, _xlpm.Tot,SUM(IF(TableSaisie[[#This Row],[Heure départ]]<=Table5[De],IF(TableSaisie[[#This Row],[Début pause]]>=Table5[À],_xlpm.Taux*CHOOSE(_xlpm.Position,Table5[Semaine],Table5[Samedi],Table5[Dimanche],Table5[Férié]))))+ SUM(IF(TableSaisie[[#This Row],[Fin pause]]<=Table5[De],IF(TableSaisie[[#This Row],[Heure fin]]>=Table5[À],_xlpm.Taux*CHOOSE(_xlpm.Position,Table5[Semaine],Table5[Samedi],Table5[Dimanche],Table5[Férié])))), _xlpm.Tot),"")} | N17: =IF(ISNUMBER(TableSaisie[[#This Row],[Heures totales]]),(J17*Paramètres!B18)+(L17*Paramètres!B18*0.4)+(M17*Paramètres!B18*0.9),"")
... J1000: =IF(AND(ISNUMBER(TableSaisie[[#This Row],[Heure départ]]),ISNUMBER(TableSaisie[[#This Row],[Début pause]])),(MOD(G1000-F1000,1)+MOD(I1000-H1000,1))*24,"") | K1000: {=IF(ISNUMBER(TableSaisie[[#This Row],[Date]]), _xlfn.LET(_xlpm.Jr_nom,_xlfn.SWITCH(WEEKDAY(TableSaisie[[#This Row],[Date]]),1,"Dimanche",2,"Semaine",3,"Semaine",4,"Semaine",5,"Semaine",6,"Semaine",7,"Samedi"), _xlpm.Férié,_xlfn.XLOOKUP(TableSaisie[[#This Row],[Date]],Fériés[Fériés],Fériés[Fériés],"",0,1), _xlpm.Jr_Sem,IF(_xlpm.Férié="",_xlpm.Jr_nom,"Férié"), _xlpm.Position,_xlfn.XMATCH(_xlpm.Jr_Sem,Table5[[#Headers],[Semaine]:[Férié]],0,1), _xlpm.Taux,_xlfn.XLOOKUP($A1000,Table2[Fonction],Table2[Taux horaire (€)],0,0,1)/2, _xlpm.Tot,SUM(IF(TableSaisie[[#This Row],[Heure départ]]<=Table5[De],IF(TableSaisie[[#This Row],[Début pause]]>=Table5[À],_xlpm.Taux*CHOOSE(_xlpm.Position,Table5[Semaine],Table5[Samedi],Table5[Dimanche],Table5[Férié]))))+ SUM(IF(TableSaisie[[#This Row],[Fin pause]]<=Table5[De],IF(TableSaisie[[#This Row],[Heure fin]]>=Table5[À],_xlpm.Taux*CHOOSE(_xlpm.Position,Table5[Semaine],Table5[Samedi],Table5[Dimanche],Table5[Férié])))), _xlpm.Tot),"")} | N1000: =IF(ISNUMBER(TableSaisie[[#This Row],[Heures totales]]),(J1000*Paramètres!B1001)+(L1000*Paramètres!B1001*0.4)+(M1000*Paramètres!B1001*0.9),"")

Sheet Récap Collaborateurs
A1: Fonction | B1: Nom | C1: Prénom | D1: Total heures | E1: Total €
A2: =IF('Saisie Heures'!A2="","",'Saisie Heures'!A2) -> Caristes | B2: =IF('Saisie Heures'!B2="","",'Saisie Heures'!B2) -> Yaiche | C2: =IF('Saisie Heures'!C2="","",'Saisie Heures'!C2) -> Wahib | D2: =SUMIFS('Saisie Heures'!J:J,'Saisie Heures'!B:B,B2,'Saisie Heures'!C:C,C2) -> 11 | E2: =SUMIFS('Saisie Heures'!N:N,'Saisie Heures'!B:B,B2,'Saisie Heures'!C:C,C2) -> 440
A3: =IF('Saisie Heures'!A3="","",'Saisie Heures'!A3) -> Manutentionnaires | B3: =IF('Saisie Heures'!B3="","",'Saisie Heures'!B3) -> Hadjel | C3: =IF('Saisie Heures'!C3="","",'Saisie Heures'!C3) | D3: =SUMIFS('Saisie Heures'!J:J,'Saisie Heures'!B:B,B3,'Saisie Heures'!C:C,C3) -> 12 | E3: =SUMIFS('Saisie Heures'!N:N,'Saisie Heures'!B:B,B3,'Saisie Heures'!C:C,C3) -> 480
A4: =IF('Saisie Heures'!A4="","",'Saisie Heures'!A4) -> Lapins | B4: =IF('Saisie Heures'!B4="","",'Saisie Heures'!B4) -> Anaclet | C4: =IF('Saisie Heures'!C4="","",'Saisie Heures'!C4) | D4: =SUMIFS('Saisie Heures'!J:J,'Saisie Heures'!B:B,B4,'Saisie Heures'!C:C,C4) -> 28 | E4: =SUMIFS('Saisie Heures'!N:N,'Saisie Heures'!B:B,B4,'Saisie Heures'!C:C,C4) -> 472.5
A5: =IF('Saisie Heures'!A5="","",'Saisie Heures'!A5) -> Caristes | B5: =IF('Saisie Heures'!B5="","",'Saisie Heures'!B5) -> Anaclet | C5: =IF('Saisie Heures'!C5="","",'Saisie Heures'!C5) | D5: =SUMIFS('Saisie Heures'!J:J,'Saisie Heures'!B:B,B5,'Saisie Heures'!C:C,C5) -> 28 | E5: =SUMIFS('Saisie Heures'!N:N,'Saisie Heures'!B:B,B5,'Saisie Heures'!C:C,C5) -> 472.5
A6: =IF('Saisie Heures'!A6="","",'Saisie Heures'!A6) | B6: =IF('Saisie Heures'!B6="","",'Saisie Heures'!B6) | C6: =IF('Saisie Heures'!C6="","",'Saisie Heures'!C6) | D6: =SUMIFS('Saisie Heures'!J:J,'Saisie Heures'!B:B,B6,'Saisie Heures'!C:C,C6) -> 0 | E6: =SUMIFS('Saisie Heures'!N:N,'Saisie Heures'!B:B,B6,'Saisie Heures'!C:C,C6) -> 0
A7: =IF('Saisie Heures'!A7="","",'Saisie Heures'!A7) | B7: =IF('Saisie Heures'!B7="","",'Saisie Heures'!B7) | C7: =IF('Saisie Heures'!C7="","",'Saisie Heures'!C7) | D7: =SUMIFS('Saisie Heures'!J:J,'Saisie Heures'!B:B,B7,'Saisie Heures'!C:C,C7) -> 0 | E7: =SUMIFS('Saisie Heures'!N:N,'Saisie Heures'!B:B,B7,'Saisie Heures'!C:C,C7) -> 0
A8: =IF('Saisie Heures'!A8="","",'Saisie Heures'!A8) | B8: =IF('Saisie Heures'!B8="","",'Saisie Heures'!B8) | C8: =IF('Saisie Heures'!C8="","",'Saisie Heures'!C8) | D8: =SUMIFS('Saisie Heures'!J:J,'Saisie Heures'!B:B,B8,'Saisie Heures'!C:C,C8) -> 0 | E8: =SUMIFS('Saisie Heures'!N:N,'Saisie Heures'!B:B,B8,'Saisie Heures'!C:C,C8) -> 0
A9: =IF('Saisie Heures'!A9="","",'Saisie Heures'!A9) | B9: =IF('Saisie Heures'!B9="","",'Saisie Heures'!B9) | C9: =IF('Saisie Heures'!C9="","",'Saisie Heures'!C9) | D9: =SUMIFS('Saisie Heures'!J:J,'Saisie Heures'!B:B,B9,'Saisie Heures'!C:C,C9) -> 0 | E9: =SUMIFS('Saisie Heures'!N:N,'Saisie Heures'!B:B,B9,'Saisie Heures'!C:C,C9) -> 0
A10: =IF('Saisie Heures'!A10="","",'Saisie Heures'!A10) | B10: =IF('Saisie Heures'!B10="","",'Saisie Heures'!B10) | C10: =IF('Saisie Heures'!C10="","",'Saisie Heures'!C10) | D10: =SUMIFS('Saisie Heures'!J:J,'Saisie Heures'!B:B,B10,'Saisie Heures'!C:C,C10) -> 0 | E10: =SUMIFS('Saisie Heures'!N:N,'Saisie Heures'!B:B,B10,'Saisie Heures'!C:C,C10) -> 0
A11: =IF('Saisie Heures'!A11="","",'Saisie Heures'!A11) | B11: =IF('Saisie Heures'!B11="","",'Saisie Heures'!B11) | C11: =IF('Saisie Heures'!C11="","",'Saisie Heures'!C11) | D11: =SUMIFS('Saisie Heures'!J:J,'Saisie Heures'!B:B,B11,'Saisie Heures'!C:C,C11) -> 0 | E11: =SUMIFS('Saisie Heures'!N:N,'Saisie Heures'!B:B,B11,'Saisie Heures'!C:C,C11) -> 0
A12: =IF('Saisie Heures'!A12="","",'Saisie Heures'!A12) | B12: =IF('Saisie Heures'!B12="","",'Saisie Heures'!B12) | C12: =IF('Saisie Heures'!C12="","",'Saisie Heures'!C12) | D12: =SUMIFS('Saisie Heures'!J:J,'Saisie Heures'!B:B,B12,'Saisie Heures'!C:C,C12) -> 0 | E12: =SUMIFS('Saisie Heures'!N:N,'Saisie Heures'!B:B,B12,'Saisie Heures'!C:C,C12) -> 0
A13: =IF('Saisie Heures'!A13="","",'Saisie Heures'!A13) | B13: =IF('Saisie Heures'!B13="","",'Saisie Heures'!B13) | C13: =IF('Saisie Heures'!C13="","",'Saisie Heures'!C13) | D13: =SUMIFS('Saisie Heures'!J:J,'Saisie Heures'!B:B,B13,'Saisie Heures'!C:C,C13) -> 0 | E13: =SUMIFS('Saisie Heures'!N:N,'Saisie Heures'!B:B,B13,'Saisie Heures'!C:C,C13) -> 0
... A200: =IF('Saisie Heures'!A200="","",'Saisie Heures'!A200) | B200: =IF('Saisie Heures'!B200="","",'Saisie Heures'!B200) | C200: =IF('Saisie Heures'!C200="","",'Saisie Heures'!C200) | D200: =SUMIFS('Saisie Heures'!J:J,'Saisie Heures'!B:B,B200,'Saisie Heures'!C:C,C200) -> 0 | E200: =SUMIFS('Saisie Heures'!N:N,'Saisie Heures'!B:B,B200,'Saisie Heures'!C:C,C200) -> 0
D201: =SUMIFS('Saisie Heures'!J:J,'Saisie Heures'!B:B,B201,'Saisie Heures'!C:C,C201) -> 0 | E201: =SUMIFS('Saisie Heures'!N:N,'Saisie Heures'!B:B,B201,'Saisie Heures'!C:C,C201) -> 0
D202: =SUMIFS('Saisie Heures'!J:J,'Saisie Heures'!B:B,B202,'Saisie Heures'!C:C,C202) -> 0 | E202: =SUMIFS('Saisie Heures'!N:N,'Saisie Heures'!B:B,B202,'Saisie Heures'!C:C,C202) -> 0
D203: =SUMIFS('Saisie Heures'!J:J,'Saisie Heures'!B:B,B203,'Saisie Heures'!C:C,C203) -> 0 | E203: =SUMIFS('Saisie Heures'!N:N,'Saisie Heures'!B:B,B203,'Saisie Heures'!C:C,C203) -> 0
D204: =SUMIFS('Saisie Heures'!J:J,'Saisie Heures'!B:B,B204,'Saisie Heures'!C:C,C204) -> 0 | E204: =SUMIFS('Saisie Heures'!N:N,'Saisie Heures'!B:B,B204,'Saisie Heures'!C:C,C204) -> 0
D205: =SUMIFS('Saisie Heures'!J:J,'Saisie Heures'!B:B,B205,'Saisie Heures'!C:C,C205) -> 0 | E205: =SUMIFS('Saisie Heures'!N:N,'Saisie Heures'!B:B,B205,'Saisie Heures'!C:C,C205) -> 0
D206: =SUMIFS('Saisie Heures'!J:J,'Saisie Heures'!B:B,B206,'Saisie Heures'!C:C,C206) -> 0 | E206: =SUMIFS('Saisie Heures'!N:N,'Saisie Heures'!B:B,B206,'Saisie Heures'!C:C,C206) -> 0
D207: =SUMIFS('Saisie Heures'!J:J,'Saisie Heures'!B:B,B207,'Saisie Heures'!C:C,C207) -> 0 | E207: =SUMIFS('Saisie Heures'!N:N,'Saisie Heures'!B:B,B207,'Saisie Heures'!C:C,C207) -> 0
D208: =SUMIFS('Saisie Heures'!J:J,'Saisie Heures'!B:B,B208,'Saisie Heures'!C:C,C208) -> 0 | E208: =SUMIFS('Saisie Heures'!N:N,'Saisie Heures'!B:B,B208,'Saisie Heures'!C:C,C208) -> 0
D209: =SUMIFS('Saisie Heures'!J:J,'Saisie Heures'!B:B,B209,'Saisie Heures'!C:C,C209) -> 0 | E209: =SUMIFS('Saisie Heures'!N:N,'Saisie Heures'!B:B,B209,'Saisie Heures'!C:C,C209) -> 0
D210: =SUMIFS('Saisie Heures'!J:J,'Saisie Heures'!B:B,B210,'Saisie Heures'!C:C,C210) -> 0 | E210: =SUMIFS('Saisie Heures'!N:N,'Saisie Heures'!B:B,B210,'Saisie Heures'!C:C,C210) -> 0
D211: =SUMIFS('Saisie Heures'!J:J,'Saisie Heures'!B:B,B211,'Saisie Heures'!C:C,C211) -> 0 | E211: =SUMIFS('Saisie Heures'!N:N,'Saisie Heures'!B:B,B211,'Saisie Heures'!C:C,C211) -> 0
D212: =SUMIFS('Saisie Heures'!J:J,'Saisie Heures'!B:B,B212,'Saisie Heures'!C:C,C212) -> 0 | E212: =SUMIFS('Saisie Heures'!N:N,'Saisie Heures'!B:B,B212,'Saisie Heures'!C:C,C212) -> 0
... D299: =SUMIFS('Saisie Heures'!J:J,'Saisie Heures'!B:B,B299,'Saisie Heures'!C:C,C299) -> 0 | E299: =SUMIFS('Saisie Heures'!N:N,'Saisie Heures'!B:B,B299,'Saisie Heures'!C:C,C299) -> 0

Sheet Récap Sociétés
A1: Société | B1: Total heures | C1: Total €
A2: =IF('Saisie Heures'!D2="","",'Saisie Heures'!D2) -> Wy Events (Wahib) | B2: =SUMIF('Saisie Heures'!D:D,A2,'Saisie Heures'!J:J) -> 11 | C2: =SUMIF('Saisie Heures'!D:D,A2,'Saisie Heures'!N:N) -> 440
B3: =SUMIF('Saisie Heures'!D:D,A3,'Saisie Heures'!J:J) -> 0 | C3: =SUMIF('Saisie Heures'!D:D,A3,'Saisie Heures'!N:N) -> 0
B4: =SUMIF('Saisie Heures'!D:D,A4,'Saisie Heures'!J:J) -> 0 | C4: =SUMIF('Saisie Heures'!D:D,A4,'Saisie Heures'!N:N) -> 0
B5: =SUMIF('Saisie Heures'!D:D,A5,'Saisie Heures'!J:J) -> 0 | C5: =SUMIF('Saisie Heures'!D:D,A5,'Saisie Heures'!N:N) -> 0
B6: =SUMIF('Saisie Heures'!D:D,A6,'Saisie Heures'!J:J) -> 0 | C6: =SUMIF('Saisie Heures'!D:D,A6,'Saisie Heures'!N:N) -> 0
B7: =SUMIF('Saisie Heures'!D:D,A7,'Saisie Heures'!J:J) -> 0 | C7: =SUMIF('Saisie Heures'!D:D,A7,'Saisie Heures'!N:N) -> 0
B8: =SUMIF('Saisie Heures'!D:D,A8,'Saisie Heures'!J:J) -> 0 | C8: =SUMIF('Saisie Heures'!D:D,A8,'Saisie Heures'!N:N) -> 0
B9: =SUMIF('Saisie Heures'!D:D,A9,'Saisie Heures'!J:J) -> 0 | C9: =SUMIF('Saisie Heures'!D:D,A9,'Saisie Heures'!N:N) -> 0
B10: =SUMIF('Saisie Heures'!D:D,A10,'Saisie Heures'!J:J) -> 0 | C10: =SUMIF('Saisie Heures'!D:D,A10,'Saisie Heures'!N:N) -> 0
B11: =SUMIF('Saisie Heures'!D:D,A11,'Saisie Heures'!J:J) -> 0 | C11: =SUMIF('Saisie Heures'!D:D,A11,'Saisie Heures'!N:N) -> 0
B12: =SUMIF('Saisie Heures'!D:D,A12,'Saisie Heures'!J:J) -> 0 | C12: =SUMIF('Saisie Heures'!D:D,A12,'Saisie Heures'!N:N) -> 0
B13: =SUMIF('Saisie Heures'!D:D,A13,'Saisie Heures'!J:J) -> 0 | C13: =SUMIF('Saisie Heures'!D:D,A13,'Saisie Heures'!N:N) -> 0
B14: =SUMIF('Saisie Heures'!D:D,A14,'Saisie Heures'!J:J) -> 0 | C14: =SUMIF('Saisie Heures'!D:D,A14,'Saisie Heures'!N:N) -> 0
... B198: =SUMIF('Saisie Heures'!D:D,A198,'Saisie Heures'!J:J) -> 0 | C198: =SUMIF('Saisie Heures'!D:D,A198,'Saisie Heures'!N:N) -> 0

Sheet Collaborateurs
A1: Fonction | B1: Nom | C1: Prénom
A2: lapin | B2: Ben Mensour | C2: Hocine
A3: lapin | B3: Baroudi | C3: Farid
A4: Cariste | B4: Anaclet | C4: Stephane
A5: Cariste | B5: Bendadas | C5: Redda
A6: Cariste | B6: Meziane | C6: Rachid
A7: Cariste | B7: Bungaroo | C7: Chriss
A8: Cariste | B8: Hadjel | C8: Dadi
A9: lapin | B9: Yves | C9: Deschamps
A10: lapin | B10: Lumanisa | C10: Greg
A11: Cariste | B11: Acrouchi | C11: Hassan
A12: Cariste | B12: Chaarana | C12: Rida
... A21: Cariste | B21: Pereira da Quinta | C21: Cezar
A22: Cariste | C22: Nicolas
A23: lapin | B23: ACHOUR | C23: Messaoud
A24: lapin | B24: Haddad | C24: Meidhi
A25: Cariste | B25: Bendadas | C25: Yacine
A26: Cariste | B26: Bollenger | C26: Jeremie
A27: Cariste | B27: Boussaib | C27: Abdallah
A28: Cariste | B28: El Yabouri | C28: Jawad
A29: Cariste | B29: El Yacoubi | C29: El Hadi
A30: Cariste | B30: Kaddouri | C30: Abderahim
A31: Cariste | B31: Kerroui | C31: Karim
A32: Cariste | B32: Saidani | C32: Abdel Moumen
A33: Cariste | B33: Seethiah | C33: Daniel
A34: Cariste | B34: Seethiah | C34: Jerôme
... A38: Cariste | B38: Yaiche | C38: Wahib

Sheet Sociétés
A1: Société
A2: Action Expo
A3: All Events
A4: Babouri Farid
A5: Cariste Events (Stephano)
A6: Events Project
A7: Expo2B
A8: MDHD (Haddad Meidhi)
A9: Hadjel Hadj Dadi
A10: Jacquemart Thibault
A11: KZS
A12: Lot Evenements
... A17: Wy Events (Wahib)

Sheet Paramètres
A1: Table des taux | H1: Les jours fériés et les vacances | K1: Table des taux | N1: Incrément | O1: 0.020833333
A2: Fonction | B2: Taux horaire (€) | F2: Fonctions | H2: Fériés | I2: Description | K2: De | L2: À | M2: Semaine | N2: Samedi | O2: Dimanche | P2: Férié
A3: Caristes | B3: 40 | F3: {=_xlfn._xlws.FILTER(Table2[Fonction],Table2[Fonction]<>"")} -> Caristes | H3: 46023 | I3: Nouvel An | K3: 0 | L3: =K3+$O$1 -> 0.020833333 | M3: 1.9 | N3: 1.9 | O3: 1.9 | P3: 1.9
A4: Lapins | B4: 40 | F4: Lapins | H4: 46024 | I4: Lendemain du Jour de l'An | K4: =L3 -> 0.020833333 | L4: =K4+$O$1 -> 0.041666667 | M4: 1.9 | N4: 1.9 | O4: 1.9 | P4: 1.9
A5: Manutentionnaires | B5: 35 | F5: Manutentionnaires | H5: 46115 | I5: Vendredi saint | K5: =L4 -> 0.041666667 | L5: =K5+$O$1 -> 0.0625 | M5: 1.9 | N5: 1.9 | O5: 1.9 | P5: 1.9
H6: 46118 | I6: Lundi de Pâques | K6: =L5 -> 0.0625 | L6: =K6+$O$1 -> 0.083333333 | M6: 1.9 | N6: 1.9 | O6: 1.9 | P6: 1.9
H7: 46143 | I7: Fête du Travail (France) | K7: =L6 -> 0.083333333 | L7: =K7+$O$1 -> 0.10416667 | M7: 1.9 | N7: 1.9 | O7: 1.9 | P7: 1.9
H8: 46150 | I8: Fête de la Victoire de 1945 (France) | K8: =L7 -> 0.10416667 | L8: =K8+$O$1 -> 0.125 | M8: 1.9 | N8: 1.9 | O8: 1.9 | P8: 1.9
H9: 46156 | I9: Ascension (France) | K9: =L8 -> 0.125 | L9: =K9+$O$1 -> 0.14583333 | M9: 1.9 | N9: 1.9 | O9: 1.9 | P9: 1.9
H10: 46167 | I10: Pentecôte (France) | K10: =L9 -> 0.14583333 | L10: =K10+$O$1 -> 0.16666667 | M10: 1.9 | N10: 1.9 | O10: 1.9 | P10: 1.9
A11: Table des Majorations | B11: Caristes | C11: Lapins | D11: Manutentionnaires | H11: 46217 | I11: Fête Nationale (France) | K11: =L10 -> 0.16666667 | L11: =K11+$O$1 -> 0.1875 | M11: 1.9 | N11: 1.9 | O11: 1.9 | P11: 1.9
A12: Majoration semaine soir 20h-22h (+40%) | B12: 1.4 | C12: 1.4 | D12: 1.4 | H12: 46230 | I12: Congé estival | K12: =L11 -> 0.1875 | L12: =K12+$O$1 -> 0.20833333 | M12: 1.9 | N12: 1.9 | O12: 1.9 | P12: 1.9
A13: Majoration semaine nuit 22h-08h (+90%) | B13: 1.9 | C13: 1.9 | D13: 1.9 | H13: 46231 | I13: Congé estival | K13: =L12 -> 0.20833333 | L13: =K13+$O$1 -> 0.22916667 | M13: 1.9 | N13: 1.9 | O13: 1.9 | P13: 1.9
A14: Majoration samedi jour 07h-20h (+40%) | B14: 1.4 | C14: 1.4 | D14: 1.4 | H14: 46232 | I14: Congé estival | K14: =L13 -> 0.22916667 | L14: =K14+$O$1 -> 0.25 | M14: 1.9 | N14: 1.9 | O14: 1.9 | P14: 1.9
A15: Majoration samedi nuit 20h-07h (+90%) | B15: 1.9 | C15: 1.9 | D15: 1.9 | H15: 46233 | I15: Congé estival | K15: =L14 -> 0.25 | L15: =K15+$O$1 -> 0.27083333 | M15: 1.9 | N15: 1.9 | O15: 1.9 | P15: 1.9
A16: Majoration dimanche et/ou jour fèrié français quelque soit l'heure (+90%) | B16: 1.9 | C16: 1.9 | D16: 1.9 | H16: 46234 | I16: Congé estival | K16: =L15 -> 0.27083333 | L16: =K16+$O$1 -> 0.29166667 | M16: 1.9 | N16: 1.9 | O16: 1.9 | P16: 1.9
H17: 46237 | I17: Congé estival | K17: =L16 -> 0.29166667 | L17: =K17+$O$1 -> 0.3125 | M17: 1.9 | N17: 1.4 | O17: 1.9 | P17: 1.9
H18: 46238 | I18: Congé estival | K18: =L17 -> 0.3125 | L18: =K18+$O$1 -> 0.33333333 | M18: 1.9 | N18: 1.4 | O18: 1.9 | P18: 1.9
H19: 46239 | I19: Congé estival | K19: =L18 -> 0.33333333 | L19: =K19+$O$1 -> 0.35416667 | M19: 1 | N19: 1.4 | O19: 1.9 | P19: 1.9
H20: 46240 | I20: Congé estival | K20: =L19 -> 0.35416667 | L20: =K20+$O$1 -> 0.375 | M20: 1 | N20: 1.4 | O20: 1.9 | P20: 1.9
H21: 46241 | I21: Congé estival | K21: =L20 -> 0.375 | L21: =K21+$O$1 -> 0.39583333 | M21: 1 | N21: 1.4 | O21: 1.9 | P21: 1.9
H22: 46244 | I22: Congé estival | K22: =L21 -> 0.39583333 | L22: =K22+$O$1 -> 0.41666667 | M22: 1 | N22: 1.4 | O22: 1.9 | P22: 1.9
H23: 46245 | I23: Congé estival | K23: =L22 -> 0.41666667 | L23: =K23+$O$1 -> 0.4375 | M23: 1 | N23: 1.4 | O23: 1.9 | P23: 1.9
H24: 46246 | I24: Congé estival | K24: =L23 -> 0.4375 | L24: =K24+$O$1 -> 0.45833333 | M24: 1 | N24: 1.4 | O24: 1.9 | P24: 1.9
H25: 46247 | I25: Congé estival | K25: =L24 -> 0.45833333 | L25: =K25+$O$1 -> 0.47916667 | M25: 1 | N25: 1.4 | O25: 1.9 | P25: 1.9
H26: 46248 | I26: Congé estival | K26: =L25 -> 0.47916667 | L26: =K26+$O$1 -> 0.5 | M26: 1 | N26: 1.4 | O26: 1.9 | P26: 1.9
H27: 46249 | I27: Assomption (France) | K27: =L26 -> 0.5 | L27: =K27+$O$1 -> 0.52083333 | M27: 1 | N27: 1.4 | O27: 1.9 | P27: 1.9
H28: 46307 | I28: Action de grâce | K28: =L27 -> 0.52083333 | L28: =K28+$O$1 -> 0.54166667 | M28: 1 | N28: 1.4 | O28: 1.9 | P28: 1.9
... H49: 46597 | I49: Congé estival | K49: =L48 -> 0.95833333 | L49: =K49+$O$1 -> 0.97916667 | M49: 1.9 | N49: 1.9 | O49: 1.9 | P49: 1.9
H50: 46598 | I50: Congé estival | K50: =L49 -> 0.97916667 | L50: =K50+$O$1 -> 1 | M50: 1.9 | N50: 1.9 | O50: 1.9 | P50: 1.9 | AA50: 1
H51: 46601 | I51: Congé estival
H52: 46602 | I52: Congé estival
H53: 46603 | I53: Congé estival
H54: 46604 | I54: Congé estival
H55: 46605 | I55: Congé estival
H56: 46671 | I56: Action de grâce
H57: 46703 | I57: Jour du souvenir
H58: 46745 | I58: Veille de Noël
H59: 46748 | I59: Congé flottant
H60: 46749 | I60: Congé flottant
...

Sheet Dashboard
A1: Indicateur | B1: Valeur
A2: Total heures | B2: =SUM('Saisie Heures'!J:J) -> 51
A3: Total facturation € | B3: =SUM('Saisie Heures'!N:N) -> 1392.5
