Workbook

Sheet Paramètres
A1: Paramètres de suivi (modifiable)
E2: Jours fériés | F2: Desc | H2: Ajouter/modifier les vacances pour l'année 2026
A3: Date de référence (aujourd'hui) | B3: =TODAY() -> 46036 | E3: 46023 | F3: Jour de l'an | H3: Note, on ne saisie pas les samedis et dimanches
A4: Délai 1er entretien (mois) | B4: 12 | E4: 46024 | F4: Flottant
A5: Périodicité entretien (mois) | B5: 48 | E5: 46118 | F5: Lundi de Pâques | H5: En agrandissant la table, vous pouvez entrer les jours fériés pour autant d'années que vous voulez.
A6: Périodicité bilan récapitulatif (mois) | B6: 96 | E6: 46143 | F6: Fête du travail | H6: Si une journée devient fériée, le calcul va s'ajuster en conséquence.
A7: Âge indicatif mi-carrière (ans) | B7: 45 | E7: 46150 | F7: Fête de la Victoire de 1945
A8: Âge indicatif fin de carrière (ans) | B8: 60 | E8: 46156 | F8: Ascension
A9: Fenêtre alerte (jours) | B9: 90 | E9: 46167 | F9: Pentecôte
E10: 46217 | F10: Fête Nationale
E11: 46249 | F11: Assomption
E12: 46327 | F12: Toussaint
E13: 46337 | F13: Jour de l'Armistice
E14: 46381 | F14: Jour de Noël
E15: 46384 | F15: Flottant
E16: 46385 | F16: Flottant
E17: 46386 | F17: Flottant
E18: 46387 | F18: Flottant
E19: 46388 | F19: Jour de l'an
E20: 46209 | F20: Vacances d'été
E21: 46210 | F21: Vacances d'été
... E34: 46227 | F34: Vacances d'été

Sheet Employés
A1: Liste des employés (ées) | Q1: Pour fins de validation dans les onglets "Entretiens" et "Individuel"
A2: Nom | B2: Prénom | C2: Fonction - poste | D2: Date d'intégration | E2: Date de naissance | F2: Âge (ans) | G2: Ancienneté (ans) | Q2: Nbre prénom(s) | R2: Noms | S2: Les prénoms…
A3: Nom_1 | B3: Pierre | C3: Informaticien | D3: 37895 | E3: 28979 | F3: =IF(Table1[[#This Row],[Date de naissance]]="","",DATEDIF(Table1[[#This Row],[Date de naissance]],Paramètres!$B$3,"Y")) -> 46 | G3: =IF(Table1[[#This Row],[Date d''intégration]]="","",DATEDIF(Table1[[#This Row],[Date d''intégration]],Paramètres!$B$3,"Y")) -> 22 | Q3: =IF(R3<>"",COUNTIF(S3:AC3,"<>"&""),"") -> 2 | R3: {=_xlfn.UNIQUE(_xlfn._xlws.FILTER(Table1[Nom],Table1[Nom]<>""))} -> Nom_1 | S3: {=IF($R3<>"",TRANSPOSE(_xlfn._xlws.SORT(_xlfn._xlws.FILTER(Table1[Prénom],Table1[Nom]=$R3))),"")} -> Paul | T3: Pierre
A4: Nom_2 | B4: Michèle | C4: Concepteur - bureau d'études | D4: 43895 | E4: 34172 | F4: =IF(Table1[[#This Row],[Date de naissance]]="","",DATEDIF(Table1[[#This Row],[Date de naissance]],Paramètres!$B$3,"Y")) -> 32 | G4: =IF(Table1[[#This Row],[Date d''intégration]]="","",DATEDIF(Table1[[#This Row],[Date d''intégration]],Paramètres!$B$3,"Y")) -> 5 | Q4: =IF(R4<>"",COUNTIF(S4:AC4,"<>"&""),"") -> 1 | R4: Nom_2 | S4: {=IF($R4<>"",TRANSPOSE(_xlfn._xlws.SORT(_xlfn._xlws.FILTER(Table1[Prénom],Table1[Nom]=$R4))),"")} -> Michèle
A5: Nom_3 | B5: Jean | C5: Acheteur | D5: 32004 | E5: 24534 | F5: =IF(Table1[[#This Row],[Date de naissance]]="","",DATEDIF(Table1[[#This Row],[Date de naissance]],Paramètres!$B$3,"Y")) -> 58 | G5: =IF(Table1[[#This Row],[Date d''intégration]]="","",DATEDIF(Table1[[#This Row],[Date d''intégration]],Paramètres!$B$3,"Y")) -> 38 | Q5: =IF(R5<>"",COUNTIF(S5:AC5,"<>"&""),"") -> 2 | R5: Nom_3 | S5: {=IF($R5<>"",TRANSPOSE(_xlfn._xlws.SORT(_xlfn._xlws.FILTER(Table1[Prénom],Table1[Nom]=$R5))),"")} -> Jean | T5: Thérèse
A6: Nom_4 | B6: Jacques | C6: Planificateur | D6: 45538 | E6: 36923 | F6: =IF(Table1[[#This Row],[Date de naissance]]="","",DATEDIF(Table1[[#This Row],[Date de naissance]],Paramètres!$B$3,"Y")) -> 24 | G6: =IF(Table1[[#This Row],[Date d''intégration]]="","",DATEDIF(Table1[[#This Row],[Date d''intégration]],Paramètres!$B$3,"Y")) -> 1 | Q6: =IF(R6<>"",COUNTIF(S6:AC6,"<>"&""),"") -> 2 | R6: Nom_4 | S6: {=IF($R6<>"",TRANSPOSE(_xlfn._xlws.SORT(_xlfn._xlws.FILTER(Table1[Prénom],Table1[Nom]=$R6))),"")} -> Jacques | T6: Nicole
A7: Nom_5 | B7: Thomas | C7: Financier - comptable | D7: 45986 | E7: 37431 | F7: =IF(Table1[[#This Row],[Date de naissance]]="","",DATEDIF(Table1[[#This Row],[Date de naissance]],Paramètres!$B$3,"Y")) -> 23 | G7: =IF(Table1[[#This Row],[Date d''intégration]]="","",DATEDIF(Table1[[#This Row],[Date d''intégration]],Paramètres!$B$3,"Y")) -> 0 | Q7: =IF(R7<>"",COUNTIF(S7:AC7,"<>"&""),"") -> 1 | R7: Nom_5 | S7: {=IF($R7<>"",TRANSPOSE(_xlfn._xlws.SORT(_xlfn._xlws.FILTER(Table1[Prénom],Table1[Nom]=$R7))),"")} -> Thomas
A8: Nom_4 | B8: Nicole | C8: Agent - assurance qualité | D8: 42069 | E8: 32974 | F8: =IF(Table1[[#This Row],[Date de naissance]]="","",DATEDIF(Table1[[#This Row],[Date de naissance]],Paramètres!$B$3,"Y")) -> 35 | G8: =IF(Table1[[#This Row],[Date d''intégration]]="","",DATEDIF(Table1[[#This Row],[Date d''intégration]],Paramètres!$B$3,"Y")) -> 10 | Q8: =IF(R8<>"",COUNTIF(S8:AC8,"<>"&""),"") | S8: {=IF($R8<>"",TRANSPOSE(_xlfn._xlws.SORT(_xlfn._xlws.FILTER(Table1[Prénom],Table1[Nom]=$R8))),"")}
A9: Nom_3 | B9: Thérèse | C9: Financier - comptable | D9: 32888 | E9: 24174 | F9: =IF(Table1[[#This Row],[Date de naissance]]="","",DATEDIF(Table1[[#This Row],[Date de naissance]],Paramètres!$B$3,"Y")) -> 59 | G9: =IF(Table1[[#This Row],[Date d''intégration]]="","",DATEDIF(Table1[[#This Row],[Date d''intégration]],Paramètres!$B$3,"Y")) -> 35 | Q9: =IF(R9<>"",COUNTIF(S9:AC9,"<>"&""),"") | S9: {=IF($R9<>"",TRANSPOSE(_xlfn._xlws.SORT(_xlfn._xlws.FILTER(Table1[Prénom],Table1[Nom]=$R9))),"")}
A10: Nom_1 | B10: Paul | C10: Représentant | D10: 36592 | E10: 24904 | F10: =IF(Table1[[#This Row],[Date de naissance]]="","",DATEDIF(Table1[[#This Row],[Date de naissance]],Paramètres!$B$3,"Y")) -> 57 | G10: =IF(Table1[[#This Row],[Date d''intégration]]="","",DATEDIF(Table1[[#This Row],[Date d''intégration]],Paramètres!$B$3,"Y")) -> 25 | Q10: =IF(R10<>"",COUNTIF(S10:AC10,"<>"&""),"") | S10: {=IF($R10<>"",TRANSPOSE(_xlfn._xlws.SORT(_xlfn._xlws.FILTER(Table1[Prénom],Table1[Nom]=$R10))),"")}
F11: =IF(Table1[[#This Row],[Date de naissance]]="","",DATEDIF(Table1[[#This Row],[Date de naissance]],Paramètres!$B$3,"Y")) | G11: =IF(Table1[[#This Row],[Date d''intégration]]="","",DATEDIF(Table1[[#This Row],[Date d''intégration]],Paramètres!$B$3,"Y")) | Q11: =IF(R11<>"",COUNTIF(S11:AC11,"<>"&""),"") | S11: {=IF($R11<>"",TRANSPOSE(_xlfn._xlws.SORT(_xlfn._xlws.FILTER(Table1[Prénom],Table1[Nom]=$R11))),"")}
F12: =IF(Table1[[#This Row],[Date de naissance]]="","",DATEDIF(Table1[[#This Row],[Date de naissance]],Paramètres!$B$3,"Y")) | G12: =IF(Table1[[#This Row],[Date d''intégration]]="","",DATEDIF(Table1[[#This Row],[Date d''intégration]],Paramètres!$B$3,"Y")) | Q12: =IF(R12<>"",COUNTIF(S12:AC12,"<>"&""),"") | S12: {=IF($R12<>"",TRANSPOSE(_xlfn._xlws.SORT(_xlfn._xlws.FILTER(Table1[Prénom],Table1[Nom]=$R12))),"")}
F13: =IF(Table1[[#This Row],[Date de naissance]]="","",DATEDIF(Table1[[#This Row],[Date de naissance]],Paramètres!$B$3,"Y")) | G13: =IF(Table1[[#This Row],[Date d''intégration]]="","",DATEDIF(Table1[[#This Row],[Date d''intégration]],Paramètres!$B$3,"Y")) | Q13: =IF(R13<>"",COUNTIF(S13:AC13,"<>"&""),"") | S13: {=IF($R13<>"",TRANSPOSE(_xlfn._xlws.SORT(_xlfn._xlws.FILTER(Table1[Prénom],Table1[Nom]=$R13))),"")}
F14: =IF(Table1[[#This Row],[Date de naissance]]="","",DATEDIF(Table1[[#This Row],[Date de naissance]],Paramètres!$B$3,"Y")) | G14: =IF(Table1[[#This Row],[Date d''intégration]]="","",DATEDIF(Table1[[#This Row],[Date d''intégration]],Paramètres!$B$3,"Y")) | Q14: =IF(R14<>"",COUNTIF(S14:AC14,"<>"&""),"") | S14: {=IF($R14<>"",TRANSPOSE(_xlfn._xlws.SORT(_xlfn._xlws.FILTER(Table1[Prénom],Table1[Nom]=$R14))),"")}
F15: =IF(Table1[[#This Row],[Date de naissance]]="","",DATEDIF(Table1[[#This Row],[Date de naissance]],Paramètres!$B$3,"Y")) | G15: =IF(Table1[[#This Row],[Date d''intégration]]="","",DATEDIF(Table1[[#This Row],[Date d''intégration]],Paramètres!$B$3,"Y")) | Q15: =IF(R15<>"",COUNTIF(S15:AC15,"<>"&""),"") | S15: {=IF($R15<>"",TRANSPOSE(_xlfn._xlws.SORT(_xlfn._xlws.FILTER(Table1[Prénom],Table1[Nom]=$R15))),"")}
F16: =IF(Table1[[#This Row],[Date de naissance]]="","",DATEDIF(Table1[[#This Row],[Date de naissance]],Paramètres!$B$3,"Y")) | G16: =IF(Table1[[#This Row],[Date d''intégration]]="","",DATEDIF(Table1[[#This Row],[Date d''intégration]],Paramètres!$B$3,"Y")) | Q16: =IF(R16<>"",COUNTIF(S16:AC16,"<>"&""),"") | S16: {=IF($R16<>"",TRANSPOSE(_xlfn._xlws.SORT(_xlfn._xlws.FILTER(Table1[Prénom],Table1[Nom]=$R16))),"")}
F17: =IF(Table1[[#This Row],[Date de naissance]]="","",DATEDIF(Table1[[#This Row],[Date de naissance]],Paramètres!$B$3,"Y")) | G17: =IF(Table1[[#This Row],[Date d''intégration]]="","",DATEDIF(Table1[[#This Row],[Date d''intégration]],Paramètres!$B$3,"Y")) | Q17: =IF(R17<>"",COUNTIF(S17:AC17,"<>"&""),"") | S17: {=IF($R17<>"",TRANSPOSE(_xlfn._xlws.SORT(_xlfn._xlws.FILTER(Table1[Prénom],Table1[Nom]=$R17))),"")}
F18: =IF(Table1[[#This Row],[Date de naissance]]="","",DATEDIF(Table1[[#This Row],[Date de naissance]],Paramètres!$B$3,"Y")) | G18: =IF(Table1[[#This Row],[Date d''intégration]]="","",DATEDIF(Table1[[#This Row],[Date d''intégration]],Paramètres!$B$3,"Y")) | Q18: =IF(R18<>"",COUNTIF(S18:AC18,"<>"&""),"") | S18: {=IF($R18<>"",TRANSPOSE(_xlfn._xlws.SORT(_xlfn._xlws.FILTER(Table1[Prénom],Table1[Nom]=$R18))),"")}
F19: =IF(Table1[[#This Row],[Date de naissance]]="","",DATEDIF(Table1[[#This Row],[Date de naissance]],Paramètres!$B$3,"Y")) | G19: =IF(Table1[[#This Row],[Date d''intégration]]="","",DATEDIF(Table1[[#This Row],[Date d''intégration]],Paramètres!$B$3,"Y")) | Q19: =IF(R19<>"",COUNTIF(S19:AC19,"<>"&""),"") | S19: {=IF($R19<>"",TRANSPOSE(_xlfn._xlws.SORT(_xlfn._xlws.FILTER(Table1[Prénom],Table1[Nom]=$R19))),"")}
F20: =IF(Table1[[#This Row],[Date de naissance]]="","",DATEDIF(Table1[[#This Row],[Date de naissance]],Paramètres!$B$3,"Y")) | G20: =IF(Table1[[#This Row],[Date d''intégration]]="","",DATEDIF(Table1[[#This Row],[Date d''intégration]],Paramètres!$B$3,"Y")) | Q20: =IF(R20<>"",COUNTIF(S20:AC20,"<>"&""),"") | S20: {=IF($R20<>"",TRANSPOSE(_xlfn._xlws.SORT(_xlfn._xlws.FILTER(Table1[Prénom],Table1[Nom]=$R20))),"")}
F21: =IF(Table1[[#This Row],[Date de naissance]]="","",DATEDIF(Table1[[#This Row],[Date de naissance]],Paramètres!$B$3,"Y")) | G21: =IF(Table1[[#This Row],[Date d''intégration]]="","",DATEDIF(Table1[[#This Row],[Date d''intégration]],Paramètres!$B$3,"Y")) | Q21: =IF(R21<>"",COUNTIF(S21:AC21,"<>"&""),"") | S21: {=IF($R21<>"",TRANSPOSE(_xlfn._xlws.SORT(_xlfn._xlws.FILTER(Table1[Prénom],Table1[Nom]=$R21))),"")}
F22: =IF(Table1[[#This Row],[Date de naissance]]="","",DATEDIF(Table1[[#This Row],[Date de naissance]],Paramètres!$B$3,"Y")) | G22: =IF(Table1[[#This Row],[Date d''intégration]]="","",DATEDIF(Table1[[#This Row],[Date d''intégration]],Paramètres!$B$3,"Y")) | Q22: =IF(R22<>"",COUNTIF(S22:AC22,"<>"&""),"") | S22: {=IF($R22<>"",TRANSPOSE(_xlfn._xlws.SORT(_xlfn._xlws.FILTER(Table1[Prénom],Table1[Nom]=$R22))),"")} | T22: {=IF($R22<>"",TRANSPOSE(_xlfn._xlws.SORT(_xlfn._xlws.FILTER(Table1[Fonction - poste],Table1[Prénom]=$R22))),"")} | U22: {=IF($R22<>"",TRANSPOSE(_xlfn._xlws.SORT(_xlfn._xlws.FILTER(Table1[Date d''intégration],Table1[Fonction - poste]=$R22))),"")}
F23: =IF(Table1[[#This Row],[Date de naissance]]="","",DATEDIF(Table1[[#This Row],[Date de naissance]],Paramètres!$B$3,"Y")) | G23: =IF(Table1[[#This Row],[Date d''intégration]]="","",DATEDIF(Table1[[#This Row],[Date d''intégration]],Paramètres!$B$3,"Y")) | R23: Fin.
F24: =IF(Table1[[#This Row],[Date de naissance]]="","",DATEDIF(Table1[[#This Row],[Date de naissance]],Paramètres!$B$3,"Y")) | G24: =IF(Table1[[#This Row],[Date d''intégration]]="","",DATEDIF(Table1[[#This Row],[Date d''intégration]],Paramètres!$B$3,"Y"))
F25: =IF(Table1[[#This Row],[Date de naissance]]="","",DATEDIF(Table1[[#This Row],[Date de naissance]],Paramètres!$B$3,"Y")) | G25: =IF(Table1[[#This Row],[Date d''intégration]]="","",DATEDIF(Table1[[#This Row],[Date d''intégration]],Paramètres!$B$3,"Y"))
F26: =IF(Table1[[#This Row],[Date de naissance]]="","",DATEDIF(Table1[[#This Row],[Date de naissance]],Paramètres!$B$3,"Y")) | G26: =IF(Table1[[#This Row],[Date d''intégration]]="","",DATEDIF(Table1[[#This Row],[Date d''intégration]],Paramètres!$B$3,"Y"))
F27: =IF(Table1[[#This Row],[Date de naissance]]="","",DATEDIF(Table1[[#This Row],[Date de naissance]],Paramètres!$B$3,"Y")) | G27: =IF(Table1[[#This Row],[Date d''intégration]]="","",DATEDIF(Table1[[#This Row],[Date d''intégration]],Paramètres!$B$3,"Y"))
F28: =IF(Table1[[#This Row],[Date de naissance]]="","",DATEDIF(Table1[[#This Row],[Date de naissance]],Paramètres!$B$3,"Y")) | G28: =IF(Table1[[#This Row],[Date d''intégration]]="","",DATEDIF(Table1[[#This Row],[Date d''intégration]],Paramètres!$B$3,"Y"))
F29: =IF(Table1[[#This Row],[Date de naissance]]="","",DATEDIF(Table1[[#This Row],[Date de naissance]],Paramètres!$B$3,"Y")) | G29: =IF(Table1[[#This Row],[Date d''intégration]]="","",DATEDIF(Table1[[#This Row],[Date d''intégration]],Paramètres!$B$3,"Y"))
F30: =IF(Table1[[#This Row],[Date de naissance]]="","",DATEDIF(Table1[[#This Row],[Date de naissance]],Paramètres!$B$3,"Y")) | G30: =IF(Table1[[#This Row],[Date d''intégration]]="","",DATEDIF(Table1[[#This Row],[Date d''intégration]],Paramètres!$B$3,"Y"))
F31: =IF(Table1[[#This Row],[Date de naissance]]="","",DATEDIF(Table1[[#This Row],[Date de naissance]],Paramètres!$B$3,"Y")) | G31: =IF(Table1[[#This Row],[Date d''intégration]]="","",DATEDIF(Table1[[#This Row],[Date d''intégration]],Paramètres!$B$3,"Y"))
F32: =IF(Table1[[#This Row],[Date de naissance]]="","",DATEDIF(Table1[[#This Row],[Date de naissance]],Paramètres!$B$3,"Y")) | G32: =IF(Table1[[#This Row],[Date d''intégration]]="","",DATEDIF(Table1[[#This Row],[Date d''intégration]],Paramètres!$B$3,"Y"))
F33: =IF(Table1[[#This Row],[Date de naissance]]="","",DATEDIF(Table1[[#This Row],[Date de naissance]],Paramètres!$B$3,"Y")) | G33: =IF(Table1[[#This Row],[Date d''intégration]]="","",DATEDIF(Table1[[#This Row],[Date d''intégration]],Paramètres!$B$3,"Y"))
F34: =IF(Table1[[#This Row],[Date de naissance]]="","",DATEDIF(Table1[[#This Row],[Date de naissance]],Paramètres!$B$3,"Y")) | G34: =IF(Table1[[#This Row],[Date d''intégration]]="","",DATEDIF(Table1[[#This Row],[Date d''intégration]],Paramètres!$B$3,"Y"))
F35: =IF(Table1[[#This Row],[Date de naissance]]="","",DATEDIF(Table1[[#This Row],[Date de naissance]],Paramètres!$B$3,"Y")) | G35: =IF(Table1[[#This Row],[Date d''intégration]]="","",DATEDIF(Table1[[#This Row],[Date d''intégration]],Paramètres!$B$3,"Y"))
... F50: =IF(Table1[[#This Row],[Date de naissance]]="","",DATEDIF(Table1[[#This Row],[Date de naissance]],Paramètres!$B$3,"Y")) | G50: =IF(Table1[[#This Row],[Date d''intégration]]="","",DATEDIF(Table1[[#This Row],[Date d''intégration]],Paramètres!$B$3,"Y"))

Sheet Entretiens
A1: Entretiens réalisés | I1: * si la date est en rouge, ce n'est pas une journée ouvrable
A2: Nom | B2: Prénom | C2: Fonction - poste | D2: Date d'intégration | E2: Date de naissance | F2: Âge (ans) | G2: Ancienneté (ans) | H2: Entretien réalisé | I2: Date de l'entretien | J2: Compte-rendu rédigé ? | K2: Compte-rendu signé ? | L2: Thèmes abordés (résumé) | M2: Actions / formations à prévoir | N2: Responsable action | O2: Échéance action | P2: Statut action | Q2: Commentaires
A3: Nom_3 | B3: Jean | C3: {=IF(AND(Table2[[#This Row],[Nom]]<>"",Table2[[#This Row],[Prénom]]<>""),_xlfn.XLOOKUP(1,(Table1[Nom]=Table2[[#This Row],[Nom]])*(Table1[Prénom]=Table2[[#This Row],[Prénom]]),Table1[Fonction - poste],"Pas d'entrée",0,1),"")} -> Acheteur | D3: {=IF(AND(Table2[[#This Row],[Nom]]<>"",Table2[[#This Row],[Prénom]]<>""),_xlfn.XLOOKUP(1,(Table1[Nom]=Table2[[#This Row],[Nom]])*(Table1[Prénom]=Table2[[#This Row],[Prénom]]),Table1[Date d''intégration],"Pas d'entrée",0,1),"")} -> 32004 | E3: {=IF(AND(Table2[[#This Row],[Nom]]<>"",Table2[[#This Row],[Prénom]]<>""),_xlfn.XLOOKUP(1,(Table1[Nom]=Table2[[#This Row],[Nom]])*(Table1[Prénom]=Table2[[#This Row],[Prénom]]),Table1[Date de naissance],"Pas d'entrée",0,1),"")} -> 24534 | F3: =IF(Table2[[#This Row],[Date de naissance]]="","",DATEDIF(Table2[[#This Row],[Date de naissance]],Paramètres!$B$3,"Y")) -> 58 | G3: =IF(Table2[[#This Row],[Date d''intégration]]="","",DATEDIF(Table2[[#This Row],[Date d''intégration]],Paramètres!$B$3,"Y")) -> 38 | H3: Délai 1er entretien (mois) | I3: 32370 | J3: Oui | K3: Oui
A4: Nom_3 | B4: Thérèse | C4: {=IF(AND(Table2[[#This Row],[Nom]]<>"",Table2[[#This Row],[Prénom]]<>""),_xlfn.XLOOKUP(1,(Table1[Nom]=Table2[[#This Row],[Nom]])*(Table1[Prénom]=Table2[[#This Row],[Prénom]]),Table1[Fonction - poste],"Pas d'entrée",0,1),"")} -> Financier - comptable | D4: {=IF(AND(Table2[[#This Row],[Nom]]<>"",Table2[[#This Row],[Prénom]]<>""),_xlfn.XLOOKUP(1,(Table1[Nom]=Table2[[#This Row],[Nom]])*(Table1[Prénom]=Table2[[#This Row],[Prénom]]),Table1[Date d''intégration],"Pas d'entrée",0,1),"")} -> 32888 | E4: {=IF(AND(Table2[[#This Row],[Nom]]<>"",Table2[[#This Row],[Prénom]]<>""),_xlfn.XLOOKUP(1,(Table1[Nom]=Table2[[#This Row],[Nom]])*(Table1[Prénom]=Table2[[#This Row],[Prénom]]),Table1[Date de naissance],"Pas d'entrée",0,1),"")} -> 24174 | F4: =IF(Table2[[#This Row],[Date de naissance]]="","",DATEDIF(Table2[[#This Row],[Date de naissance]],Paramètres!$B$3,"Y")) -> 59 | G4: =IF(Table2[[#This Row],[Date d''intégration]]="","",DATEDIF(Table2[[#This Row],[Date d''intégration]],Paramètres!$B$3,"Y")) -> 35 | H4: Délai 1er entretien (mois) | I4: 33253 | J4: Oui | K4: Oui
A5: Nom_3 | B5: Jean | C5: {=IF(AND(Table2[[#This Row],[Nom]]<>"",Table2[[#This Row],[Prénom]]<>""),_xlfn.XLOOKUP(1,(Table1[Nom]=Table2[[#This Row],[Nom]])*(Table1[Prénom]=Table2[[#This Row],[Prénom]]),Table1[Fonction - poste],"Pas d'entrée",0,1),"")} -> Acheteur | D5: {=IF(AND(Table2[[#This Row],[Nom]]<>"",Table2[[#This Row],[Prénom]]<>""),_xlfn.XLOOKUP(1,(Table1[Nom]=Table2[[#This Row],[Nom]])*(Table1[Prénom]=Table2[[#This Row],[Prénom]]),Table1[Date d''intégration],"Pas d'entrée",0,1),"")} -> 32004 | E5: {=IF(AND(Table2[[#This Row],[Nom]]<>"",Table2[[#This Row],[Prénom]]<>""),_xlfn.XLOOKUP(1,(Table1[Nom]=Table2[[#This Row],[Nom]])*(Table1[Prénom]=Table2[[#This Row],[Prénom]]),Table1[Date de naissance],"Pas d'entrée",0,1),"")} -> 24534 | F5: =IF(Table2[[#This Row],[Date de naissance]]="","",DATEDIF(Table2[[#This Row],[Date de naissance]],Paramètres!$B$3,"Y")) -> 58 | G5: =IF(Table2[[#This Row],[Date d''intégration]]="","",DATEDIF(Table2[[#This Row],[Date d''intégration]],Paramètres!$B$3,"Y")) -> 38 | H5: Délai 1er entretien (mois) | I5: 33465 | J5: Oui | K5: Oui
A6: Nom_3 | B6: Jean | C6: {=IF(AND(Table2[[#This Row],[Nom]]<>"",Table2[[#This Row],[Prénom]]<>""),_xlfn.XLOOKUP(1,(Table1[Nom]=Table2[[#This Row],[Nom]])*(Table1[Prénom]=Table2[[#This Row],[Prénom]]),Table1[Fonction - poste],"Pas d'entrée",0,1),"")} -> Acheteur | D6: {=IF(AND(Table2[[#This Row],[Nom]]<>"",Table2[[#This Row],[Prénom]]<>""),_xlfn.XLOOKUP(1,(Table1[Nom]=Table2[[#This Row],[Nom]])*(Table1[Prénom]=Table2[[#This Row],[Prénom]]),Table1[Date d''intégration],"Pas d'entrée",0,1),"")} -> 32004 | E6: {=IF(AND(Table2[[#This Row],[Nom]]<>"",Table2[[#This Row],[Prénom]]<>""),_xlfn.XLOOKUP(1,(Table1[Nom]=Table2[[#This Row],[Nom]])*(Table1[Prénom]=Table2[[#This Row],[Prénom]]),Table1[Date de naissance],"Pas d'entrée",0,1),"")} -> 24534 | F6: =IF(Table2[[#This Row],[Date de naissance]]="","",DATEDIF(Table2[[#This Row],[Date de naissance]],Paramètres!$B$3,"Y")) -> 58 | G6: =IF(Table2[[#This Row],[Date d''intégration]]="","",DATEDIF(Table2[[#This Row],[Date d''intégration]],Paramètres!$B$3,"Y")) -> 38 | H6: Périodicité entretien (mois) | I6: 33465 | J6: Oui | K6: Oui
A7: Nom_3 | B7: Thérèse | C7: {=IF(AND(Table2[[#This Row],[Nom]]<>"",Table2[[#This Row],[Prénom]]<>""),_xlfn.XLOOKUP(1,(Table1[Nom]=Table2[[#This Row],[Nom]])*(Table1[Prénom]=Table2[[#This Row],[Prénom]]),Table1[Fonction - poste],"Pas d'entrée",0,1),"")} -> Financier - comptable | D7: {=IF(AND(Table2[[#This Row],[Nom]]<>"",Table2[[#This Row],[Prénom]]<>""),_xlfn.XLOOKUP(1,(Table1[Nom]=Table2[[#This Row],[Nom]])*(Table1[Prénom]=Table2[[#This Row],[Prénom]]),Table1[Date d''intégration],"Pas d'entrée",0,1),"")} -> 32888 | E7: {=IF(AND(Table2[[#This Row],[Nom]]<>"",Table2[[#This Row],[Prénom]]<>""),_xlfn.XLOOKUP(1,(Table1[Nom]=Table2[[#This Row],[Nom]])*(Table1[Prénom]=Table2[[#This Row],[Prénom]]),Table1[Date de naissance],"Pas d'entrée",0,1),"")} -> 24174 | F7: =IF(Table2[[#This Row],[Date de naissance]]="","",DATEDIF(Table2[[#This Row],[Date de naissance]],Paramètres!$B$3,"Y")) -> 59 | G7: =IF(Table2[[#This Row],[Date d''intégration]]="","",DATEDIF(Table2[[#This Row],[Date d''intégration]],Paramètres!$B$3,"Y")) -> 35 | H7: Périodicité entretien (mois) | I7: 34351 | J7: Oui | K7: Oui
A8: Nom_3 | B8: Jean | C8: {=IF(AND(Table2[[#This Row],[Nom]]<>"",Table2[[#This Row],[Prénom]]<>""),_xlfn.XLOOKUP(1,(Table1[Nom]=Table2[[#This Row],[Nom]])*(Table1[Prénom]=Table2[[#This Row],[Prénom]]),Table1[Fonction - poste],"Pas d'entrée",0,1),"")} -> Acheteur | D8: {=IF(AND(Table2[[#This Row],[Nom]]<>"",Table2[[#This Row],[Prénom]]<>""),_xlfn.XLOOKUP(1,(Table1[Nom]=Table2[[#This Row],[Nom]])*(Table1[Prénom]=Table2[[#This Row],[Prénom]]),Table1[Date d''intégration],"Pas d'entrée",0,1),"")} -> 32004 | E8: {=IF(AND(Table2[[#This Row],[Nom]]<>"",Table2[[#This Row],[Prénom]]<>""),_xlfn.XLOOKUP(1,(Table1[Nom]=Table2[[#This Row],[Nom]])*(Table1[Prénom]=Table2[[#This Row],[Prénom]]),Table1[Date de naissance],"Pas d'entrée",0,1),"")} -> 24534 | F8: =IF(Table2[[#This Row],[Date de naissance]]="","",DATEDIF(Table2[[#This Row],[Date de naissance]],Paramètres!$B$3,"Y")) -> 58 | G8: =IF(Table2[[#This Row],[Date d''intégration]]="","",DATEDIF(Table2[[#This Row],[Date d''intégration]],Paramètres!$B$3,"Y")) -> 38 | H8: Périodicité bilan récapitulatif (mois) | I8: 34926 | J8: Oui | K8: Oui
A9: Nom_3 | B9: Jean | C9: {=IF(AND(Table2[[#This Row],[Nom]]<>"",Table2[[#This Row],[Prénom]]<>""),_xlfn.XLOOKUP(1,(Table1[Nom]=Table2[[#This Row],[Nom]])*(Table1[Prénom]=Table2[[#This Row],[Prénom]]),Table1[Fonction - poste],"Pas d'entrée",0,1),"")} -> Acheteur | D9: {=IF(AND(Table2[[#This Row],[Nom]]<>"",Table2[[#This Row],[Prénom]]<>""),_xlfn.XLOOKUP(1,(Table1[Nom]=Table2[[#This Row],[Nom]])*(Table1[Prénom]=Table2[[#This Row],[Prénom]]),Table1[Date d''intégration],"Pas d'entrée",0,1),"")} -> 32004 | E9: {=IF(AND(Table2[[#This Row],[Nom]]<>"",Table2[[#This Row],[Prénom]]<>""),_xlfn.XLOOKUP(1,(Table1[Nom]=Table2[[#This Row],[Nom]])*(Table1[Prénom]=Table2[[#This Row],[Prénom]]),Table1[Date de naissance],"Pas d'entrée",0,1),"")} -> 24534 | F9: =IF(Table2[[#This Row],[Date de naissance]]="","",DATEDIF(Table2[[#This Row],[Date de naissance]],Paramètres!$B$3,"Y")) -> 58 | G9: =IF(Table2[[#This Row],[Date d''intégration]]="","",DATEDIF(Table2[[#This Row],[Date d''intégration]],Paramètres!$B$3,"Y")) -> 38 | H9: Périodicité entretien (mois) | I9: 34926
A10: Nom_3 | B10: Thérèse | C10: {=IF(AND(Table2[[#This Row],[Nom]]<>"",Table2[[#This Row],[Prénom]]<>""),_xlfn.XLOOKUP(1,(Table1[Nom]=Table2[[#This Row],[Nom]])*(Table1[Prénom]=Table2[[#This Row],[Prénom]]),Table1[Fonction - poste],"Pas d'entrée",0,1),"")} -> Financier - comptable | D10: {=IF(AND(Table2[[#This Row],[Nom]]<>"",Table2[[#This Row],[Prénom]]<>""),_xlfn.XLOOKUP(1,(Table1[Nom]=Table2[[#This Row],[Nom]])*(Table1[Prénom]=Table2[[#This Row],[Prénom]]),Table1[Date d''intégration],"Pas d'entrée",0,1),"")} -> 32888 | E10: {=IF(AND(Table2[[#This Row],[Nom]]<>"",Table2[[#This Row],[Prénom]]<>""),_xlfn.XLOOKUP(1,(Table1[Nom]=Table2[[#This Row],[Nom]])*(Table1[Prénom]=Table2[[#This Row],[Prénom]]),Table1[Date de naissance],"Pas d'entrée",0,1),"")} -> 24174 | F10: =IF(Table2[[#This Row],[Date de naissance]]="","",DATEDIF(Table2[[#This Row],[Date de naissance]],Paramètres!$B$3,"Y")) -> 59 | G10: =IF(Table2[[#This Row],[Date d''intégration]]="","",DATEDIF(Table2[[#This Row],[Date d''intégration]],Paramètres!$B$3,"Y")) -> 35 | H10: Périodicité bilan récapitulatif (mois) | I10: 35810 | J10: Oui | K10: Oui
A11: Nom_3 | B11: Thérèse | C11: {=IF(AND(Table2[[#This Row],[Nom]]<>"",Table2[[#This Row],[Prénom]]<>""),_xlfn.XLOOKUP(1,(Table1[Nom]=Table2[[#This Row],[Nom]])*(Table1[Prénom]=Table2[[#This Row],[Prénom]]),Table1[Fonction - poste],"Pas d'entrée",0,1),"")} -> Financier - comptable | D11: {=IF(AND(Table2[[#This Row],[Nom]]<>"",Table2[[#This Row],[Prénom]]<>""),_xlfn.XLOOKUP(1,(Table1[Nom]=Table2[[#This Row],[Nom]])*(Table1[Prénom]=Table2[[#This Row],[Prénom]]),Table1[Date d''intégration],"Pas d'entrée",0,1),"")} -> 32888 | E11: {=IF(AND(Table2[[#This Row],[Nom]]<>"",Table2[[#This Row],[Prénom]]<>""),_xlfn.XLOOKUP(1,(Table1[Nom]=Table2[[#This Row],[Nom]])*(Table1[Prénom]=Table2[[#This Row],[Prénom]]),Table1[Date de naissance],"Pas d'entrée",0,1),"")} -> 24174 | F11: =IF(Table2[[#This Row],[Date de naissance]]="","",DATEDIF(Table2[[#This Row],[Date de naissance]],Paramètres!$B$3,"Y")) -> 59 | G11: =IF(Table2[[#This Row],[Date d''intégration]]="","",DATEDIF(Table2[[#This Row],[Date d''intégration]],Paramètres!$B$3,"Y")) -> 35 | H11: Périodicité entretien (mois) | I11: 35810
A12: Nom_3 | B12: Jean | C12: {=IF(AND(Table2[[#This Row],[Nom]]<>"",Table2[[#This Row],[Prénom]]<>""),_xlfn.XLOOKUP(1,(Table1[Nom]=Table2[[#This Row],[Nom]])*(Table1[Prénom]=Table2[[#This Row],[Prénom]]),Table1[Fonction - poste],"Pas d'entrée",0,1),"")} -> Acheteur | D12: {=IF(AND(Table2[[#This Row],[Nom]]<>"",Table2[[#This Row],[Prénom]]<>""),_xlfn.XLOOKUP(1,(Table1[Nom]=Table2[[#This Row],[Nom]])*(Table1[Prénom]=Table2[[#This Row],[Prénom]]),Table1[Date d''intégration],"Pas d'entrée",0,1),"")} -> 32004 | E12: {=IF(AND(Table2[[#This Row],[Nom]]<>"",Table2[[#This Row],[Prénom]]<>""),_xlfn.XLOOKUP(1,(Table1[Nom]=Table2[[#This Row],[Nom]])*(Table1[Prénom]=Table2[[#This Row],[Prénom]]),Table1[Date de naissance],"Pas d'entrée",0,1),"")} -> 24534 | F12: =IF(Table2[[#This Row],[Date de naissance]]="","",DATEDIF(Table2[[#This Row],[Date de naissance]],Paramètres!$B$3,"Y")) -> 58 | G12: =IF(Table2[[#This Row],[Date d''intégration]]="","",DATEDIF(Table2[[#This Row],[Date d''intégration]],Paramètres!$B$3,"Y")) -> 38 | H12: Périodicité entretien (mois) | I12: 36388
A13: Nom_1 | B13: Paul | C13: {=IF(AND(Table2[[#This Row],[Nom]]<>"",Table2[[#This Row],[Prénom]]<>""),_xlfn.XLOOKUP(1,(Table1[Nom]=Table2[[#This Row],[Nom]])*(Table1[Prénom]=Table2[[#This Row],[Prénom]]),Table1[Fonction - poste],"Pas d'entrée",0,1),"")} -> Représentant | D13: {=IF(AND(Table2[[#This Row],[Nom]]<>"",Table2[[#This Row],[Prénom]]<>""),_xlfn.XLOOKUP(1,(Table1[Nom]=Table2[[#This Row],[Nom]])*(Table1[Prénom]=Table2[[#This Row],[Prénom]]),Table1[Date d''intégration],"Pas d'entrée",0,1),"")} -> 36592 | E13: {=IF(AND(Table2[[#This Row],[Nom]]<>"",Table2[[#This Row],[Prénom]]<>""),_xlfn.XLOOKUP(1,(Table1[Nom]=Table2[[#This Row],[Nom]])*(Table1[Prénom]=Table2[[#This Row],[Prénom]]),Table1[Date de naissance],"Pas d'entrée",0,1),"")} -> 24904 | F13: =IF(Table2[[#This Row],[Date de naissance]]="","",DATEDIF(Table2[[#This Row],[Date de naissance]],Paramètres!$B$3,"Y")) -> 57 | G13: =IF(Table2[[#This Row],[Date d''intégration]]="","",DATEDIF(Table2[[#This Row],[Date d''intégration]],Paramètres!$B$3,"Y")) -> 25 | H13: Délai 1er entretien (mois) | I13: 36957 | J13: Oui | K13: Oui
A14: Nom_3 | B14: Thérèse | C14: {=IF(AND(Table2[[#This Row],[Nom]]<>"",Table2[[#This Row],[Prénom]]<>""),_xlfn.XLOOKUP(1,(Table1[Nom]=Table2[[#This Row],[Nom]])*(Table1[Prénom]=Table2[[#This Row],[Prénom]]),Table1[Fonction - poste],"Pas d'entrée",0,1),"")} -> Financier - comptable | D14: {=IF(AND(Table2[[#This Row],[Nom]]<>"",Table2[[#This Row],[Prénom]]<>""),_xlfn.XLOOKUP(1,(Table1[Nom]=Table2[[#This Row],[Nom]])*(Table1[Prénom]=Table2[[#This Row],[Prénom]]),Table1[Date d''intégration],"Pas d'entrée",0,1),"")} -> 32888 | E14: {=IF(AND(Table2[[#This Row],[Nom]]<>"",Table2[[#This Row],[Prénom]]<>""),_xlfn.XLOOKUP(1,(Table1[Nom]=Table2[[#This Row],[Nom]])*(Table1[Prénom]=Table2[[#This Row],[Prénom]]),Table1[Date de naissance],"Pas d'entrée",0,1),"")} -> 24174 | F14: =IF(Table2[[#This Row],[Date de naissance]]="","",DATEDIF(Table2[[#This Row],[Date de naissance]],Paramètres!$B$3,"Y")) -> 59 | G14: =IF(Table2[[#This Row],[Date d''intégration]]="","",DATEDIF(Table2[[#This Row],[Date d''intégration]],Paramètres!$B$3,"Y")) -> 35 | H14: Périodicité entretien (mois) | I14: 37271
A15: Nom_3 | B15: Jean | C15: {=IF(AND(Table2[[#This Row],[Nom]]<>"",Table2[[#This Row],[Prénom]]<>""),_xlfn.XLOOKUP(1,(Table1[Nom]=Table2[[#This Row],[Nom]])*(Table1[Prénom]=Table2[[#This Row],[Prénom]]),Table1[Fonction - poste],"Pas d'entrée",0,1),"")} -> Acheteur | D15: {=IF(AND(Table2[[#This Row],[Nom]]<>"",Table2[[#This Row],[Prénom]]<>""),_xlfn.XLOOKUP(1,(Table1[Nom]=Table2[[#This Row],[Nom]])*(Table1[Prénom]=Table2[[#This Row],[Prénom]]),Table1[Date d''intégration],"Pas d'entrée",0,1),"")} -> 32004 | E15: {=IF(AND(Table2[[#This Row],[Nom]]<>"",Table2[[#This Row],[Prénom]]<>""),_xlfn.XLOOKUP(1,(Table1[Nom]=Table2[[#This Row],[Nom]])*(Table1[Prénom]=Table2[[#This Row],[Prénom]]),Table1[Date de naissance],"Pas d'entrée",0,1),"")} -> 24534 | F15: =IF(Table2[[#This Row],[Date de naissance]]="","",DATEDIF(Table2[[#This Row],[Date de naissance]],Paramètres!$B$3,"Y")) -> 58 | G15: =IF(Table2[[#This Row],[Date d''intégration]]="","",DATEDIF(Table2[[#This Row],[Date d''intégration]],Paramètres!$B$3,"Y")) -> 38 | H15: Périodicité bilan récapitulatif (mois) | I15: 37848
A16: Nom_3 | B16: Jean | C16: {=IF(AND(Table2[[#This Row],[Nom]]<>"",Table2[[#This Row],[Prénom]]<>""),_xlfn.XLOOKUP(1,(Table1[Nom]=Table2[[#This Row],[Nom]])*(Table1[Prénom]=Table2[[#This Row],[Prénom]]),Table1[Fonction - poste],"Pas d'entrée",0,1),"")} -> Acheteur | D16: {=IF(AND(Table2[[#This Row],[Nom]]<>"",Table2[[#This Row],[Prénom]]<>""),_xlfn.XLOOKUP(1,(Table1[Nom]=Table2[[#This Row],[Nom]])*(Table1[Prénom]=Table2[[#This Row],[Prénom]]),Table1[Date d''intégration],"Pas d'entrée",0,1),"")} -> 32004 | E16: {=IF(AND(Table2[[#This Row],[Nom]]<>"",Table2[[#This Row],[Prénom]]<>""),_xlfn.XLOOKUP(1,(Table1[Nom]=Table2[[#This Row],[Nom]])*(Table1[Prénom]=Table2[[#This Row],[Prénom]]),Table1[Date de naissance],"Pas d'entrée",0,1),"")} -> 24534 | F16: =IF(Table2[[#This Row],[Date de naissance]]="","",DATEDIF(Table2[[#This Row],[Date de naissance]],Paramètres!$B$3,"Y")) -> 58 | G16: =IF(Table2[[#This Row],[Date d''intégration]]="","",DATEDIF(Table2[[#This Row],[Date d''intégration]],Paramètres!$B$3,"Y")) -> 38 | H16: Périodicité entretien (mois) | I16: 37848
A17: Nom_1 | B17: Paul | C17: {=IF(AND(Table2[[#This Row],[Nom]]<>"",Table2[[#This Row],[Prénom]]<>""),_xlfn.XLOOKUP(1,(Table1[Nom]=Table2[[#This Row],[Nom]])*(Table1[Prénom]=Table2[[#This Row],[Prénom]]),Table1[Fonction - poste],"Pas d'entrée",0,1),"")} -> Représentant | D17: {=IF(AND(Table2[[#This Row],[Nom]]<>"",Table2[[#This Row],[Prénom]]<>""),_xlfn.XLOOKUP(1,(Table1[Nom]=Table2[[#This Row],[Nom]])*(Table1[Prénom]=Table2[[#This Row],[Prénom]]),Table1[Date d''intégration],"Pas d'entrée",0,1),"")} -> 36592 | E17: {=IF(AND(Table2[[#This Row],[Nom]]<>"",Table2[[#This Row],[Prénom]]<>""),_xlfn.XLOOKUP(1,(Table1[Nom]=Table2[[#This Row],[Nom]])*(Table1[Prénom]=Table2[[#This Row],[Prénom]]),Table1[Date de naissance],"Pas d'entrée",0,1),"")} -> 24904 | F17: =IF(Table2[[#This Row],[Date de naissance]]="","",DATEDIF(Table2[[#This Row],[Date de naissance]],Paramètres!$B$3,"Y")) -> 57 | G17: =IF(Table2[[#This Row],[Date d''intégration]]="","",DATEDIF(Table2[[#This Row],[Date d''intégration]],Paramètres!$B$3,"Y")) -> 25 | H17: Périodicité entretien (mois) | I17: 38054 | J17: Oui | K17: Oui
A18: Nom_1 | B18: Pierre | C18: {=IF(AND(Table2[[#This Row],[Nom]]<>"",Table2[[#This Row],[Prénom]]<>""),_xlfn.XLOOKUP(1,(Table1[Nom]=Table2[[#This Row],[Nom]])*(Table1[Prénom]=Table2[[#This Row],[Prénom]]),Table1[Fonction - poste],"Pas d'entrée",0,1),"")} -> Informaticien | D18: {=IF(AND(Table2[[#This Row],[Nom]]<>"",Table2[[#This Row],[Prénom]]<>""),_xlfn.XLOOKUP(1,(Table1[Nom]=Table2[[#This Row],[Nom]])*(Table1[Prénom]=Table2[[#This Row],[Prénom]]),Table1[Date d''intégration],"Pas d'entrée",0,1),"")} -> 37895 | E18: {=IF(AND(Table2[[#This Row],[Nom]]<>"",Table2[[#This Row],[Prénom]]<>""),_xlfn.XLOOKUP(1,(Table1[Nom]=Table2[[#This Row],[Nom]])*(Table1[Prénom]=Table2[[#This Row],[Prénom]]),Table1[Date de naissance],"Pas d'entrée",0,1),"")} -> 28979 | F18: =IF(Table2[[#This Row],[Date de naissance]]="","",DATEDIF(Table2[[#This Row],[Date de naissance]],Paramètres!$B$3,"Y")) -> 46 | G18: =IF(Table2[[#This Row],[Date d''intégration]]="","",DATEDIF(Table2[[#This Row],[Date d''intégration]],Paramètres!$B$3,"Y")) -> 22 | H18: Délai 1er entretien (mois) | I18: 38261 | J18: Oui | K18: Oui
A19: Nom_3 | B19: Thérèse | C19: {=IF(AND(Table2[[#This Row],[Nom]]<>"",Table2[[#This Row],[Prénom]]<>""),_xlfn.XLOOKUP(1,(Table1[Nom]=Table2[[#This Row],[Nom]])*(Table1[Prénom]=Table2[[#This Row],[Prénom]]),Table1[Fonction - poste],"Pas d'entrée",0,1),"")} -> Financier - comptable | D19: {=IF(AND(Table2[[#This Row],[Nom]]<>"",Table2[[#This Row],[Prénom]]<>""),_xlfn.XLOOKUP(1,(Table1[Nom]=Table2[[#This Row],[Nom]])*(Table1[Prénom]=Table2[[#This Row],[Prénom]]),Table1[Date d''intégration],"Pas d'entrée",0,1),"")} -> 32888 | E19: {=IF(AND(Table2[[#This Row],[Nom]]<>"",Table2[[#This Row],[Prénom]]<>""),_xlfn.XLOOKUP(1,(Table1[Nom]=Table2[[#This Row],[Nom]])*(Table1[Prénom]=Table2[[#This Row],[Prénom]]),Table1[Date de naissance],"Pas d'entrée",0,1),"")} -> 24174 | F19: =IF(Table2[[#This Row],[Date de naissance]]="","",DATEDIF(Table2[[#This Row],[Date de naissance]],Paramètres!$B$3,"Y")) -> 59 | G19: =IF(Table2[[#This Row],[Date d''intégration]]="","",DATEDIF(Table2[[#This Row],[Date d''intégration]],Paramètres!$B$3,"Y")) -> 35 | H19: Périodicité bilan récapitulatif (mois) | I19: 38733
A20: Nom_3 | B20: Thérèse | C20: {=IF(AND(Table2[[#This Row],[Nom]]<>"",Table2[[#This Row],[Prénom]]<>""),_xlfn.XLOOKUP(1,(Table1[Nom]=Table2[[#This Row],[Nom]])*(Table1[Prénom]=Table2[[#This Row],[Prénom]]),Table1[Fonction - poste],"Pas d'entrée",0,1),"")} -> Financier - comptable | D20: {=IF(AND(Table2[[#This Row],[Nom]]<>"",Table2[[#This Row],[Prénom]]<>""),_xlfn.XLOOKUP(1,(Table1[Nom]=Table2[[#This Row],[Nom]])*(Table1[Prénom]=Table2[[#This Row],[Prénom]]),Table1[Date d''intégration],"Pas d'entrée",0,1),"")} -> 32888 | E20: {=IF(AND(Table2[[#This Row],[Nom]]<>"",Table2[[#This Row],[Prénom]]<>""),_xlfn.XLOOKUP(1,(Table1[Nom]=Table2[[#This Row],[Nom]])*(Table1[Prénom]=Table2[[#This Row],[Prénom]]),Table1[Date de naissance],"Pas d'entrée",0,1),"")} -> 24174 | F20: =IF(Table2[[#This Row],[Date de naissance]]="","",DATEDIF(Table2[[#This Row],[Date de naissance]],Paramètres!$B$3,"Y")) -> 59 | G20: =IF(Table2[[#This Row],[Date d''intégration]]="","",DATEDIF(Table2[[#This Row],[Date d''intégration]],Paramètres!$B$3,"Y")) -> 35 | H20: Périodicité entretien (mois) | I20: 38733
A21: Nom_3 | B21: Jean | C21: {=IF(AND(Table2[[#This Row],[Nom]]<>"",Table2[[#This Row],[Prénom]]<>""),_xlfn.XLOOKUP(1,(Table1[Nom]=Table2[[#This Row],[Nom]])*(Table1[Prénom]=Table2[[#This Row],[Prénom]]),Table1[Fonction - poste],"Pas d'entrée",0,1),"")} -> Acheteur | D21: {=IF(AND(Table2[[#This Row],[Nom]]<>"",Table2[[#This Row],[Prénom]]<>""),_xlfn.XLOOKUP(1,(Table1[Nom]=Table2[[#This Row],[Nom]])*(Table1[Prénom]=Table2[[#This Row],[Prénom]]),Table1[Date d''intégration],"Pas d'entrée",0,1),"")} -> 32004 | E21: {=IF(AND(Table2[[#This Row],[Nom]]<>"",Table2[[#This Row],[Prénom]]<>""),_xlfn.XLOOKUP(1,(Table1[Nom]=Table2[[#This Row],[Nom]])*(Table1[Prénom]=Table2[[#This Row],[Prénom]]),Table1[Date de naissance],"Pas d'entrée",0,1),"")} -> 24534 | F21: =IF(Table2[[#This Row],[Date de naissance]]="","",DATEDIF(Table2[[#This Row],[Date de naissance]],Paramètres!$B$3,"Y")) -> 58 | G21: =IF(Table2[[#This Row],[Date d''intégration]]="","",DATEDIF(Table2[[#This Row],[Date d''intégration]],Paramètres!$B$3,"Y")) -> 38 | H21: Périodicité entretien (mois) | I21: 39309
A22: Nom_1 | B22: Pierre | C22: {=IF(AND(Table2[[#This Row],[Nom]]<>"",Table2[[#This Row],[Prénom]]<>""),_xlfn.XLOOKUP(1,(Table1[Nom]=Table2[[#This Row],[Nom]])*(Table1[Prénom]=Table2[[#This Row],[Prénom]]),Table1[Fonction - poste],"Pas d'entrée",0,1),"")} -> Informaticien | D22: {=IF(AND(Table2[[#This Row],[Nom]]<>"",Table2[[#This Row],[Prénom]]<>""),_xlfn.XLOOKUP(1,(Table1[Nom]=Table2[[#This Row],[Nom]])*(Table1[Prénom]=Table2[[#This Row],[Prénom]]),Table1[Date d''intégration],"Pas d'entrée",0,1),"")} -> 37895 | E22: {=IF(AND(Table2[[#This Row],[Nom]]<>"",Table2[[#This Row],[Prénom]]<>""),_xlfn.XLOOKUP(1,(Table1[Nom]=Table2[[#This Row],[Nom]])*(Table1[Prénom]=Table2[[#This Row],[Prénom]]),Table1[Date de naissance],"Pas d'entrée",0,1),"")} -> 28979 | F22: =IF(Table2[[#This Row],[Date de naissance]]="","",DATEDIF(Table2[[#This Row],[Date de naissance]],Paramètres!$B$3,"Y")) -> 46 | G22: =IF(Table2[[#This Row],[Date d''intégration]]="","",DATEDIF(Table2[[#This Row],[Date d''intégration]],Paramètres!$B$3,"Y")) -> 22 | H22: Périodicité entretien (mois) | I22: 39356 | J22: Oui | K22: Oui
A23: Nom_1 | B23: Paul | C23: {=IF(AND(Table2[[#This Row],[Nom]]<>"",Table2[[#This Row],[Prénom]]<>""),_xlfn.XLOOKUP(1,(Table1[Nom]=Table2[[#This Row],[Nom]])*(Table1[Prénom]=Table2[[#This Row],[Prénom]]),Table1[Fonction - poste],"Pas d'entrée",0,1),"")} -> Représentant | D23: {=IF(AND(Table2[[#This Row],[Nom]]<>"",Table2[[#This Row],[Prénom]]<>""),_xlfn.XLOOKUP(1,(Table1[Nom]=Table2[[#This Row],[Nom]])*(Table1[Prénom]=Table2[[#This Row],[Prénom]]),Table1[Date d''intégration],"Pas d'entrée",0,1),"")} -> 36592 | E23: {=IF(AND(Table2[[#This Row],[Nom]]<>"",Table2[[#This Row],[Prénom]]<>""),_xlfn.XLOOKUP(1,(Table1[Nom]=Table2[[#This Row],[Nom]])*(Table1[Prénom]=Table2[[#This Row],[Prénom]]),Table1[Date de naissance],"Pas d'entrée",0,1),"")} -> 24904 | F23: =IF(Table2[[#This Row],[Date de naissance]]="","",DATEDIF(Table2[[#This Row],[Date de naissance]],Paramètres!$B$3,"Y")) -> 57 | G23: =IF(Table2[[#This Row],[Date d''intégration]]="","",DATEDIF(Table2[[#This Row],[Date d''intégration]],Paramètres!$B$3,"Y")) -> 25 | H23: Périodicité bilan récapitulatif (mois) | I23: 39514 | J23: Oui | K23: Oui
A24: Nom_1 | B24: Paul | C24: {=IF(AND(Table2[[#This Row],[Nom]]<>"",Table2[[#This Row],[Prénom]]<>""),_xlfn.XLOOKUP(1,(Table1[Nom]=Table2[[#This Row],[Nom]])*(Table1[Prénom]=Table2[[#This Row],[Prénom]]),Table1[Fonction - poste],"Pas d'entrée",0,1),"")} -> Représentant | D24: {=IF(AND(Table2[[#This Row],[Nom]]<>"",Table2[[#This Row],[Prénom]]<>""),_xlfn.XLOOKUP(1,(Table1[Nom]=Table2[[#This Row],[Nom]])*(Table1[Prénom]=Table2[[#This Row],[Prénom]]),Table1[Date d''intégration],"Pas d'entrée",0,1),"")} -> 36592 | E24: {=IF(AND(Table2[[#This Row],[Nom]]<>"",Table2[[#This Row],[Prénom]]<>""),_xlfn.XLOOKUP(1,(Table1[Nom]=Table2[[#This Row],[Nom]])*(Table1[Prénom]=Table2[[#This Row],[Prénom]]),Table1[Date de naissance],"Pas d'entrée",0,1),"")} -> 24904 | F24: =IF(Table2[[#This Row],[Date de naissance]]="","",DATEDIF(Table2[[#This Row],[Date de naissance]],Paramètres!$B$3,"Y")) -> 57 | G24: =IF(Table2[[#This Row],[Date d''intégration]]="","",DATEDIF(Table2[[#This Row],[Date d''intégration]],Paramètres!$B$3,"Y")) -> 25 | H24: Périodicité entretien (mois) | I24: 39514
A25: Nom_3 | B25: Thérèse | C25: {=IF(AND(Table2[[#This Row],[Nom]]<>"",Table2[[#This Row],[Prénom]]<>""),_xlfn.XLOOKUP(1,(Table1[Nom]=Table2[[#This Row],[Nom]])*(Table1[Prénom]=Table2[[#This Row],[Prénom]]),Table1[Fonction - poste],"Pas d'entrée",0,1),"")} -> Financier - comptable | D25: {=IF(AND(Table2[[#This Row],[Nom]]<>"",Table2[[#This Row],[Prénom]]<>""),_xlfn.XLOOKUP(1,(Table1[Nom]=Table2[[#This Row],[Nom]])*(Table1[Prénom]=Table2[[#This Row],[Prénom]]),Table1[Date d''intégration],"Pas d'entrée",0,1),"")} -> 32888 | E25: {=IF(AND(Table2[[#This Row],[Nom]]<>"",Table2[[#This Row],[Prénom]]<>""),_xlfn.XLOOKUP(1,(Table1[Nom]=Table2[[#This Row],[Nom]])*(Table1[Prénom]=Table2[[#This Row],[Prénom]]),Table1[Date de naissance],"Pas d'entrée",0,1),"")} -> 24174 | F25: =IF(Table2[[#This Row],[Date de naissance]]="","",DATEDIF(Table2[[#This Row],[Date de naissance]],Paramètres!$B$3,"Y")) -> 59 | G25: =IF(Table2[[#This Row],[Date d''intégration]]="","",DATEDIF(Table2[[#This Row],[Date d''intégration]],Paramètres!$B$3,"Y")) -> 35 | H25: Périodicité entretien (mois) | I25: 40193
A26: Nom_3 | B26: Thérèse | C26: {=IF(AND(Table2[[#This Row],[Nom]]<>"",Table2[[#This Row],[Prénom]]<>""),_xlfn.XLOOKUP(1,(Table1[Nom]=Table2[[#This Row],[Nom]])*(Table1[Prénom]=Table2[[#This Row],[Prénom]]),Table1[Fonction - poste],"Pas d'entrée",0,1),"")} -> Financier - comptable | D26: {=IF(AND(Table2[[#This Row],[Nom]]<>"",Table2[[#This Row],[Prénom]]<>""),_xlfn.XLOOKUP(1,(Table1[Nom]=Table2[[#This Row],[Nom]])*(Table1[Prénom]=Table2[[#This Row],[Prénom]]),Table1[Date d''intégration],"Pas d'entrée",0,1),"")} -> 32888 | E26: {=IF(AND(Table2[[#This Row],[Nom]]<>"",Table2[[#This Row],[Prénom]]<>""),_xlfn.XLOOKUP(1,(Table1[Nom]=Table2[[#This Row],[Nom]])*(Table1[Prénom]=Table2[[#This Row],[Prénom]]),Table1[Date de naissance],"Pas d'entrée",0,1),"")} -> 24174 | F26: =IF(Table2[[#This Row],[Date de naissance]]="","",DATEDIF(Table2[[#This Row],[Date de naissance]],Paramètres!$B$3,"Y")) -> 59 | G26: =IF(Table2[[#This Row],[Date d''intégration]]="","",DATEDIF(Table2[[#This Row],[Date d''intégration]],Paramètres!$B$3,"Y")) -> 35 | H26: Âge indicatif mi-carrière (ans) | I26: 40610 | J26: Oui | K26: Oui
A27: Nom_3 | B27: Jean | C27: {=IF(AND(Table2[[#This Row],[Nom]]<>"",Table2[[#This Row],[Prénom]]<>""),_xlfn.XLOOKUP(1,(Table1[Nom]=Table2[[#This Row],[Nom]])*(Table1[Prénom]=Table2[[#This Row],[Prénom]]),Table1[Fonction - poste],"Pas d'entrée",0,1),"")} -> Acheteur | D27: {=IF(AND(Table2[[#This Row],[Nom]]<>"",Table2[[#This Row],[Prénom]]<>""),_xlfn.XLOOKUP(1,(Table1[Nom]=Table2[[#This Row],[Nom]])*(Table1[Prénom]=Table2[[#This Row],[Prénom]]),Table1[Date d''intégration],"Pas d'entrée",0,1),"")} -> 32004 | E27: {=IF(AND(Table2[[#This Row],[Nom]]<>"",Table2[[#This Row],[Prénom]]<>""),_xlfn.XLOOKUP(1,(Table1[Nom]=Table2[[#This Row],[Nom]])*(Table1[Prénom]=Table2[[#This Row],[Prénom]]),Table1[Date de naissance],"Pas d'entrée",0,1),"")} -> 24534 | F27: =IF(Table2[[#This Row],[Date de naissance]]="","",DATEDIF(Table2[[#This Row],[Date de naissance]],Paramètres!$B$3,"Y")) -> 58 | G27: =IF(Table2[[#This Row],[Date d''intégration]]="","",DATEDIF(Table2[[#This Row],[Date d''intégration]],Paramètres!$B$3,"Y")) -> 38 | H27: Périodicité bilan récapitulatif (mois) | I27: 40770
A28: Nom_3 | B28: Jean | C28: {=IF(AND(Table2[[#This Row],[Nom]]<>"",Table2[[#This Row],[Prénom]]<>""),_xlfn.XLOOKUP(1,(Table1[Nom]=Table2[[#This Row],[Nom]])*(Table1[Prénom]=Table2[[#This Row],[Prénom]]),Table1[Fonction - poste],"Pas d'entrée",0,1),"")} -> Acheteur | D28: {=IF(AND(Table2[[#This Row],[Nom]]<>"",Table2[[#This Row],[Prénom]]<>""),_xlfn.XLOOKUP(1,(Table1[Nom]=Table2[[#This Row],[Nom]])*(Table1[Prénom]=Table2[[#This Row],[Prénom]]),Table1[Date d''intégration],"Pas d'entrée",0,1),"")} -> 32004 | E28: {=IF(AND(Table2[[#This Row],[Nom]]<>"",Table2[[#This Row],[Prénom]]<>""),_xlfn.XLOOKUP(1,(Table1[Nom]=Table2[[#This Row],[Nom]])*(Table1[Prénom]=Table2[[#This Row],[Prénom]]),Table1[Date de naissance],"Pas d'entrée",0,1),"")} -> 24534 | F28: =IF(Table2[[#This Row],[Date de naissance]]="","",DATEDIF(Table2[[#This Row],[Date de naissance]],Paramètres!$B$3,"Y")) -> 58 | G28: =IF(Table2[[#This Row],[Date d''intégration]]="","",DATEDIF(Table2[[#This Row],[Date d''intégration]],Paramètres!$B$3,"Y")) -> 38 | H28: Périodicité entretien (mois) | I28: 40770
A29: Nom_1 | B29: Pierre | C29: {=IF(AND(Table2[[#This Row],[Nom]]<>"",Table2[[#This Row],[Prénom]]<>""),_xlfn.XLOOKUP(1,(Table1[Nom]=Table2[[#This Row],[Nom]])*(Table1[Prénom]=Table2[[#This Row],[Prénom]]),Table1[Fonction - poste],"Pas d'entrée",0,1),"")} -> Informaticien | D29: {=IF(AND(Table2[[#This Row],[Nom]]<>"",Table2[[#This Row],[Prénom]]<>""),_xlfn.XLOOKUP(1,(Table1[Nom]=Table2[[#This Row],[Nom]])*(Table1[Prénom]=Table2[[#This Row],[Prénom]]),Table1[Date d''intégration],"Pas d'entrée",0,1),"")} -> 37895 | E29: {=IF(AND(Table2[[#This Row],[Nom]]<>"",Table2[[#This Row],[Prénom]]<>""),_xlfn.XLOOKUP(1,(Table1[Nom]=Table2[[#This Row],[Nom]])*(Table1[Prénom]=Table2[[#This Row],[Prénom]]),Table1[Date de naissance],"Pas d'entrée",0,1),"")} -> 28979 | F29: =IF(Table2[[#This Row],[Date de naissance]]="","",DATEDIF(Table2[[#This Row],[Date de naissance]],Paramètres!$B$3,"Y")) -> 46 | G29: =IF(Table2[[#This Row],[Date d''intégration]]="","",DATEDIF(Table2[[#This Row],[Date d''intégration]],Paramètres!$B$3,"Y")) -> 22 | H29: Périodicité bilan récapitulatif (mois) | I29: 40819 | J29: Oui | K29: Oui
A30: Nom_1 | B30: Pierre | C30: {=IF(AND(Table2[[#This Row],[Nom]]<>"",Table2[[#This Row],[Prénom]]<>""),_xlfn.XLOOKUP(1,(Table1[Nom]=Table2[[#This Row],[Nom]])*(Table1[Prénom]=Table2[[#This Row],[Prénom]]),Table1[Fonction - poste],"Pas d'entrée",0,1),"")} -> Informaticien | D30: {=IF(AND(Table2[[#This Row],[Nom]]<>"",Table2[[#This Row],[Prénom]]<>""),_xlfn.XLOOKUP(1,(Table1[Nom]=Table2[[#This Row],[Nom]])*(Table1[Prénom]=Table2[[#This Row],[Prénom]]),Table1[Date d''intégration],"Pas d'entrée",0,1),"")} -> 37895 | E30: {=IF(AND(Table2[[#This Row],[Nom]]<>"",Table2[[#This Row],[Prénom]]<>""),_xlfn.XLOOKUP(1,(Table1[Nom]=Table2[[#This Row],[Nom]])*(Table1[Prénom]=Table2[[#This Row],[Prénom]]),Table1[Date de naissance],"Pas d'entrée",0,1),"")} -> 28979 | F30: =IF(Table2[[#This Row],[Date de naissance]]="","",DATEDIF(Table2[[#This Row],[Date de naissance]],Paramètres!$B$3,"Y")) -> 46 | G30: =IF(Table2[[#This Row],[Date d''intégration]]="","",DATEDIF(Table2[[#This Row],[Date d''intégration]],Paramètres!$B$3,"Y")) -> 22 | H30: Périodicité entretien (mois) | I30: 40819
A31: Nom_3 | B31: Jean | C31: {=IF(AND(Table2[[#This Row],[Nom]]<>"",Table2[[#This Row],[Prénom]]<>""),_xlfn.XLOOKUP(1,(Table1[Nom]=Table2[[#This Row],[Nom]])*(Table1[Prénom]=Table2[[#This Row],[Prénom]]),Table1[Fonction - poste],"Pas d'entrée",0,1),"")} -> Acheteur | D31: {=IF(AND(Table2[[#This Row],[Nom]]<>"",Table2[[#This Row],[Prénom]]<>""),_xlfn.XLOOKUP(1,(Table1[Nom]=Table2[[#This Row],[Nom]])*(Table1[Prénom]=Table2[[#This Row],[Prénom]]),Table1[Date d''intégration],"Pas d'entrée",0,1),"")} -> 32004 | E31: {=IF(AND(Table2[[#This Row],[Nom]]<>"",Table2[[#This Row],[Prénom]]<>""),_xlfn.XLOOKUP(1,(Table1[Nom]=Table2[[#This Row],[Nom]])*(Table1[Prénom]=Table2[[#This Row],[Prénom]]),Table1[Date de naissance],"Pas d'entrée",0,1),"")} -> 24534 | F31: =IF(Table2[[#This Row],[Date de naissance]]="","",DATEDIF(Table2[[#This Row],[Date de naissance]],Paramètres!$B$3,"Y")) -> 58 | G31: =IF(Table2[[#This Row],[Date d''intégration]]="","",DATEDIF(Table2[[#This Row],[Date d''intégration]],Paramètres!$B$3,"Y")) -> 38 | H31: Âge indicatif mi-carrière (ans) | I31: 40973 | J31: Oui | K31: Oui
A32: Nom_1 | B32: Paul | C32: {=IF(AND(Table2[[#This Row],[Nom]]<>"",Table2[[#This Row],[Prénom]]<>""),_xlfn.XLOOKUP(1,(Table1[Nom]=Table2[[#This Row],[Nom]])*(Table1[Prénom]=Table2[[#This Row],[Prénom]]),Table1[Fonction - poste],"Pas d'entrée",0,1),"")} -> Représentant | D32: {=IF(AND(Table2[[#This Row],[Nom]]<>"",Table2[[#This Row],[Prénom]]<>""),_xlfn.XLOOKUP(1,(Table1[Nom]=Table2[[#This Row],[Nom]])*(Table1[Prénom]=Table2[[#This Row],[Prénom]]),Table1[Date d''intégration],"Pas d'entrée",0,1),"")} -> 36592 | E32: {=IF(AND(Table2[[#This Row],[Nom]]<>"",Table2[[#This Row],[Prénom]]<>""),_xlfn.XLOOKUP(1,(Table1[Nom]=Table2[[#This Row],[Nom]])*(Table1[Prénom]=Table2[[#This Row],[Prénom]]),Table1[Date de naissance],"Pas d'entrée",0,1),"")} -> 24904 | F32: =IF(Table2[[#This Row],[Date de naissance]]="","",DATEDIF(Table2[[#This Row],[Date de naissance]],Paramètres!$B$3,"Y")) -> 57 | G32: =IF(Table2[[#This Row],[Date d''intégration]]="","",DATEDIF(Table2[[#This Row],[Date d''intégration]],Paramètres!$B$3,"Y")) -> 25 | H32: Périodicité entretien (mois) | I32: 40975
A33: Nom_1 | B33: Paul | C33: {=IF(AND(Table2[[#This Row],[Nom]]<>"",Table2[[#This Row],[Prénom]]<>""),_xlfn.XLOOKUP(1,(Table1[Nom]=Table2[[#This Row],[Nom]])*(Table1[Prénom]=Table2[[#This Row],[Prénom]]),Table1[Fonction - poste],"Pas d'entrée",0,1),"")} -> Représentant | D33: {=IF(AND(Table2[[#This Row],[Nom]]<>"",Table2[[#This Row],[Prénom]]<>""),_xlfn.XLOOKUP(1,(Table1[Nom]=Table2[[#This Row],[Nom]])*(Table1[Prénom]=Table2[[#This Row],[Prénom]]),Table1[Date d''intégration],"Pas d'entrée",0,1),"")} -> 36592 | E33: {=IF(AND(Table2[[#This Row],[Nom]]<>"",Table2[[#This Row],[Prénom]]<>""),_xlfn.XLOOKUP(1,(Table1[Nom]=Table2[[#This Row],[Nom]])*(Table1[Prénom]=Table2[[#This Row],[Prénom]]),Table1[Date de naissance],"Pas d'entrée",0,1),"")} -> 24904 | F33: =IF(Table2[[#This Row],[Date de naissance]]="","",DATEDIF(Table2[[#This Row],[Date de naissance]],Paramètres!$B$3,"Y")) -> 57 | G33: =IF(Table2[[#This Row],[Date d''intégration]]="","",DATEDIF(Table2[[#This Row],[Date d''intégration]],Paramètres!$B$3,"Y")) -> 25 | H33: Âge indicatif mi-carrière (ans) | I33: 41340 | J33: Oui | K33: Oui
A34: Nom_3 | B34: Thérèse | C34: {=IF(AND(Table2[[#This Row],[Nom]]<>"",Table2[[#This Row],[Prénom]]<>""),_xlfn.XLOOKUP(1,(Table1[Nom]=Table2[[#This Row],[Nom]])*(Table1[Prénom]=Table2[[#This Row],[Prénom]]),Table1[Fonction - poste],"Pas d'entrée",0,1),"")} -> Financier - comptable | D34: {=IF(AND(Table2[[#This Row],[Nom]]<>"",Table2[[#This Row],[Prénom]]<>""),_xlfn.XLOOKUP(1,(Table1[Nom]=Table2[[#This Row],[Nom]])*(Table1[Prénom]=Table2[[#This Row],[Prénom]]),Table1[Date d''intégration],"Pas d'entrée",0,1),"")} -> 32888 | E34: {=IF(AND(Table2[[#This Row],[Nom]]<>"",Table2[[#This Row],[Prénom]]<>""),_xlfn.XLOOKUP(1,(Table1[Nom]=Table2[[#This Row],[Nom]])*(Table1[Prénom]=Table2[[#This Row],[Prénom]]),Table1[Date de naissance],"Pas d'entrée",0,1),"")} -> 24174 | F34: =IF(Table2[[#This Row],[Date de naissance]]="","",DATEDIF(Table2[[#This Row],[Date de naissance]],Paramètres!$B$3,"Y")) -> 59 | G34: =IF(Table2[[#This Row],[Date d''intégration]]="","",DATEDIF(Table2[[#This Row],[Date d''intégration]],Paramètres!$B$3,"Y")) -> 35 | H34: Périodicité bilan récapitulatif (mois) | I34: 41654
A35: Nom_3 | B35: Thérèse | C35: {=IF(AND(Table2[[#This Row],[Nom]]<>"",Table2[[#This Row],[Prénom]]<>""),_xlfn.XLOOKUP(1,(Table1[Nom]=Table2[[#This Row],[Nom]])*(Table1[Prénom]=Table2[[#This Row],[Prénom]]),Table1[Fonction - poste],"Pas d'entrée",0,1),"")} -> Financier - comptable | D35: {=IF(AND(Table2[[#This Row],[Nom]]<>"",Table2[[#This Row],[Prénom]]<>""),_xlfn.XLOOKUP(1,(Table1[Nom]=Table2[[#This Row],[Nom]])*(Table1[Prénom]=Table2[[#This Row],[Prénom]]),Table1[Date d''intégration],"Pas d'entrée",0,1),"")} -> 32888 | E35: {=IF(AND(Table2[[#This Row],[Nom]]<>"",Table2[[#This Row],[Prénom]]<>""),_xlfn.XLOOKUP(1,(Table1[Nom]=Table2[[#This Row],[Nom]])*(Table1[Prénom]=Table2[[#This Row],[Prénom]]),Table1[Date de naissance],"Pas d'entrée",0,1),"")} -> 24174 | F35: =IF(Table2[[#This Row],[Date de naissance]]="","",DATEDIF(Table2[[#This Row],[Date de naissance]],Paramètres!$B$3,"Y")) -> 59 | G35: =IF(Table2[[#This Row],[Date d''intégration]]="","",DATEDIF(Table2[[#This Row],[Date d''intégration]],Paramètres!$B$3,"Y")) -> 35 | H35: Périodicité entretien (mois) | I35: 41654
A36: Nom_3 | B36: Jean | C36: {=IF(AND(Table2[[#This Row],[Nom]]<>"",Table2[[#This Row],[Prénom]]<>""),_xlfn.XLOOKUP(1,(Table1[Nom]=Table2[[#This Row],[Nom]])*(Table1[Prénom]=Table2[[#This Row],[Prénom]]),Table1[Fonction - poste],"Pas d'entrée",0,1),"")} -> Acheteur | D36: {=IF(AND(Table2[[#This Row],[Nom]]<>"",Table2[[#This Row],[Prénom]]<>""),_xlfn.XLOOKUP(1,(Table1[Nom]=Table2[[#This Row],[Nom]])*(Table1[Prénom]=Table2[[#This Row],[Prénom]]),Table1[Date d''intégration],"Pas d'entrée",0,1),"")} -> 32004 | E36: {=IF(AND(Table2[[#This Row],[Nom]]<>"",Table2[[#This Row],[Prénom]]<>""),_xlfn.XLOOKUP(1,(Table1[Nom]=Table2[[#This Row],[Nom]])*(Table1[Prénom]=Table2[[#This Row],[Prénom]]),Table1[Date de naissance],"Pas d'entrée",0,1),"")} -> 24534 | F36: =IF(Table2[[#This Row],[Date de naissance]]="","",DATEDIF(Table2[[#This Row],[Date de naissance]],Paramètres!$B$3,"Y")) -> 58 | G36: =IF(Table2[[#This Row],[Date d''intégration]]="","",DATEDIF(Table2[[#This Row],[Date d''intégration]],Paramètres!$B$3,"Y")) -> 38 | H36: Périodicité entretien (mois) | I36: 42233
A37: Nom_1 | B37: Pierre | C37: {=IF(AND(Table2[[#This Row],[Nom]]<>"",Table2[[#This Row],[Prénom]]<>""),_xlfn.XLOOKUP(1,(Table1[Nom]=Table2[[#This Row],[Nom]])*(Table1[Prénom]=Table2[[#This Row],[Prénom]]),Table1[Fonction - poste],"Pas d'entrée",0,1),"")} -> Informaticien | D37: {=IF(AND(Table2[[#This Row],[Nom]]<>"",Table2[[#This Row],[Prénom]]<>""),_xlfn.XLOOKUP(1,(Table1[Nom]=Table2[[#This Row],[Nom]])*(Table1[Prénom]=Table2[[#This Row],[Prénom]]),Table1[Date d''intégration],"Pas d'entrée",0,1),"")} -> 37895 | E37: {=IF(AND(Table2[[#This Row],[Nom]]<>"",Table2[[#This Row],[Prénom]]<>""),_xlfn.XLOOKUP(1,(Table1[Nom]=Table2[[#This Row],[Nom]])*(Table1[Prénom]=Table2[[#This Row],[Prénom]]),Table1[Date de naissance],"Pas d'entrée",0,1),"")} -> 28979 | F37: =IF(Table2[[#This Row],[Date de naissance]]="","",DATEDIF(Table2[[#This Row],[Date de naissance]],Paramètres!$B$3,"Y")) -> 46 | G37: =IF(Table2[[#This Row],[Date d''intégration]]="","",DATEDIF(Table2[[#This Row],[Date d''intégration]],Paramètres!$B$3,"Y")) -> 22 | H37: Périodicité entretien (mois) | I37: 42278
A38: Nom_4 | B38: Nicole | C38: {=IF(AND(Table2[[#This Row],[Nom]]<>"",Table2[[#This Row],[Prénom]]<>""),_xlfn.XLOOKUP(1,(Table1[Nom]=Table2[[#This Row],[Nom]])*(Table1[Prénom]=Table2[[#This Row],[Prénom]]),Table1[Fonction - poste],"Pas d'entrée",0,1),"")} -> Agent - assurance qualité | D38: {=IF(AND(Table2[[#This Row],[Nom]]<>"",Table2[[#This Row],[Prénom]]<>""),_xlfn.XLOOKUP(1,(Table1[Nom]=Table2[[#This Row],[Nom]])*(Table1[Prénom]=Table2[[#This Row],[Prénom]]),Table1[Date d''intégration],"Pas d'entrée",0,1),"")} -> 42069 | E38: {=IF(AND(Table2[[#This Row],[Nom]]<>"",Table2[[#This Row],[Prénom]]<>""),_xlfn.XLOOKUP(1,(Table1[Nom]=Table2[[#This Row],[Nom]])*(Table1[Prénom]=Table2[[#This Row],[Prénom]]),Table1[Date de naissance],"Pas d'entrée",0,1),"")} -> 32974 | F38: =IF(Table2[[#This Row],[Date de naissance]]="","",DATEDIF(Table2[[#This Row],[Date de naissance]],Paramètres!$B$3,"Y")) -> 35 | G38: =IF(Table2[[#This Row],[Date d''intégration]]="","",DATEDIF(Table2[[#This Row],[Date d''intégration]],Paramètres!$B$3,"Y")) -> 10 | H38: Délai 1er entretien (mois) | I38: 42436 | J38: Oui | K38: Oui
A39: Nom_1 | B39: Paul | C39: {=IF(AND(Table2[[#This Row],[Nom]]<>"",Table2[[#This Row],[Prénom]]<>""),_xlfn.XLOOKUP(1,(Table1[Nom]=Table2[[#This Row],[Nom]])*(Table1[Prénom]=Table2[[#This Row],[Prénom]]),Table1[Fonction - poste],"Pas d'entrée",0,1),"")} -> Représentant | D39: {=IF(AND(Table2[[#This Row],[Nom]]<>"",Table2[[#This Row],[Prénom]]<>""),_xlfn.XLOOKUP(1,(Table1[Nom]=Table2[[#This Row],[Nom]])*(Table1[Prénom]=Table2[[#This Row],[Prénom]]),Table1[Date d''intégration],"Pas d'entrée",0,1),"")} -> 36592 | E39: {=IF(AND(Table2[[#This Row],[Nom]]<>"",Table2[[#This Row],[Prénom]]<>""),_xlfn.XLOOKUP(1,(Table1[Nom]=Table2[[#This Row],[Nom]])*(Table1[Prénom]=Table2[[#This Row],[Prénom]]),Table1[Date de naissance],"Pas d'entrée",0,1),"")} -> 24904 | F39: =IF(Table2[[#This Row],[Date de naissance]]="","",DATEDIF(Table2[[#This Row],[Date de naissance]],Paramètres!$B$3,"Y")) -> 57 | G39: =IF(Table2[[#This Row],[Date d''intégration]]="","",DATEDIF(Table2[[#This Row],[Date d''intégration]],Paramètres!$B$3,"Y")) -> 25 | H39: Périodicité bilan récapitulatif (mois) | I39: 42436
A40: Nom_1 | B40: Paul | C40: {=IF(AND(Table2[[#This Row],[Nom]]<>"",Table2[[#This Row],[Prénom]]<>""),_xlfn.XLOOKUP(1,(Table1[Nom]=Table2[[#This Row],[Nom]])*(Table1[Prénom]=Table2[[#This Row],[Prénom]]),Table1[Fonction - poste],"Pas d'entrée",0,1),"")} -> Représentant | D40: {=IF(AND(Table2[[#This Row],[Nom]]<>"",Table2[[#This Row],[Prénom]]<>""),_xlfn.XLOOKUP(1,(Table1[Nom]=Table2[[#This Row],[Nom]])*(Table1[Prénom]=Table2[[#This Row],[Prénom]]),Table1[Date d''intégration],"Pas d'entrée",0,1),"")} -> 36592 | E40: {=IF(AND(Table2[[#This Row],[Nom]]<>"",Table2[[#This Row],[Prénom]]<>""),_xlfn.XLOOKUP(1,(Table1[Nom]=Table2[[#This Row],[Nom]])*(Table1[Prénom]=Table2[[#This Row],[Prénom]]),Table1[Date de naissance],"Pas d'entrée",0,1),"")} -> 24904 | F40: =IF(Table2[[#This Row],[Date de naissance]]="","",DATEDIF(Table2[[#This Row],[Date de naissance]],Paramètres!$B$3,"Y")) -> 57 | G40: =IF(Table2[[#This Row],[Date d''intégration]]="","",DATEDIF(Table2[[#This Row],[Date d''intégration]],Paramètres!$B$3,"Y")) -> 25 | H40: Périodicité entretien (mois) | I40: 42436
...

Sheet Prévisions
A1: Entretiens réalisés et à planifier | H1: Dernier entretiens réaliés | M1: Prochains entretiens à planifier
A2: Nom | B2: Prénom | C2: Fonction / poste | D2: Date d'intégration | E2: Date de naissance | F2: Âge (ans) | G2: Ancienneté (ans) | H2: =Paramètres!A4 -> Délai 1er entretien (mois) | I2: =Paramètres!A5 -> Périodicité entretien (mois) | J2: =Paramètres!A6 -> Périodicité bilan récapitulatif (mois) | K2: =Paramètres!A7 -> Âge indicatif mi-carrière (ans) | L2: =Paramètres!A8 -> Âge indicatif fin de carrière (ans) | M2: =H2 -> Délai 1er entretien (mois) | N2: =I2 -> Périodicité entretien (mois) | O2: =J2 -> Périodicité bilan récapitulatif (mois) | P2: =K2 -> Âge indicatif mi-carrière (ans) | Q2: =L2 -> Âge indicatif fin de carrière (ans)
A3: {=_xlfn._xlws.FILTER(Table1[],Table1[Nom]<>"")} -> Nom_1 | B3: Pierre | C3: Informaticien | D3: 37895 | E3: 28979 | F3: 46 | G3: 22 | H3: {=_xlfn.XLOOKUP(1,(Table2[Nom]=$A3)*(Table2[Prénom]=$B3)*(Table2[Entretien réalisé]=H$2),Table2[Date de l''entretien],"",0,-1)} -> 38261 | I3: {=_xlfn.XLOOKUP(1,(Table2[Nom]=$A3)*(Table2[Prénom]=$B3)*(Table2[Entretien réalisé]=I$2),Table2[Date de l''entretien],"",0,-1)} -> 45201 | J3: {=_xlfn.XLOOKUP(1,(Table2[Nom]=$A3)*(Table2[Prénom]=$B3)*(Table2[Entretien réalisé]=J$2),Table2[Date de l''entretien],"",0,-1)} -> 43739 | K3: {=_xlfn.XLOOKUP(1,(Table2[Nom]=$A3)*(Table2[Prénom]=$B3)*(Table2[Entretien réalisé]=K$2),Table2[Date de l''entretien],"",0,-1)} -> 45453 | L3: {=_xlfn.XLOOKUP(1,(Table2[Nom]=$A3)*(Table2[Prénom]=$B3)*(Table2[Entretien réalisé]=L$2),Table2[Date de l''entretien],"",0,-1)} | M3: =IF(A3="","",IF(H3="",WORKDAY(DATE(YEAR($D3),MONTH($D3)+_xlfn.XLOOKUP(M$2,Paramètres!$A$4:$A$8,Paramètres!$B$4:$B$8,"??",0,1),DAY($D3))-1,1,Table3[Jours fériés]),"")) | N3: =IF(A3="","",IF(I3="",WORKDAY(DATE(YEAR($D3),MONTH($D3)+_xlfn.XLOOKUP(N$2,Paramètres!$A$4:$A$8,Paramètres!$B$4:$B$8,"??",0,1),DAY($D3))-1,1,Table3[Jours fériés]), WORKDAY(DATE(YEAR($I3),MONTH($I3)+_xlfn.XLOOKUP(N$2,Paramètres!$A$4:$A$8,Paramètres!$B$4:$B$8,"??",0,1),DAY($I3))-1,1,Table3[Jours fériés]))) -> 46664 | O3: =IF(A3="","",IF(J3="",WORKDAY(DATE(YEAR($D3),MONTH($D3)+_xlfn.XLOOKUP(O$2,Paramètres!$A$4:$A$8,Paramètres!$B$4:$B$8,"??",0,1),DAY($D3))-1,1,Table3[Jours fériés]),"")) | P3: =IF(A3="","",IF(K3="",IF($F3=_xlfn.XLOOKUP(P$2,Paramètres!$A$4:$A$8,Paramètres!$B$4:$B$8,"??",0,1),WORKDAY(DATE(YEAR(E3)+_xlfn.XLOOKUP(P$2,Paramètres!$A$4:$A$8,Paramètres!$B$4:$B$8,"??",0,1),MONTH(E3)+2,0)-1,1,Table3[Jours fériés]), WORKDAY(DATE(YEAR($E3)+_xlfn.XLOOKUP(P$2,Paramètres!$A$4:$A$8,Paramètres!$B$4:$B$8,"??",0,1),MONTH($E3),DAY($E3))-1,1,Table3[Jours fériés])),"")) | Q3: =IF(A3="","",IF(L3="",IF($F3=_xlfn.XLOOKUP(Q$2,Paramètres!$A$4:$A$8,Paramètres!$B$4:$B$8,"??",0,1),WORKDAY(DATE(YEAR(TODAY()),MONTH(F3)+2,0)-1,1,Table3[Jours fériés]), WORKDAY(DATE(YEAR($E3)+_xlfn.XLOOKUP(Q$2,Paramètres!$A$4:$A$8,Paramètres!$B$4:$B$8,"??",0,1),MONTH($E3),DAY($E3))-1,1,Table3[Jours fériés])),"")) -> 50894
