Workbook

Sheet Paramètres
A1: Paramètres de suivi (modifiable)
E2: Jours fériés | F2: Desc | H2: Ajouter/modifier les vacances pour l'année 2026
A3: Date de référence (aujourd'hui) | B3: =TODAY() -> 46036 | E3: 46023 | F3: Jour de l'an | H3: Note, on ne saisie pas les samedis et dimanches
A4: Délai 1er entretien (mois) | B4: 12 | E4: 46024 | F4: Flottant
A5: Périodicité entretien (mois) | B5: 48 | E5: 46118 | F5: Lundi de Pâques | H5: En agrandissant la table, vous pouvez entrer les jours fériés pour autant d'années que vous voulez.
A6: Périodicité bilan récapitulatif (mois) | B6: 96 | E6: 46143 | F6: Fête du travail | H6: Si une journée devient fériée, le calcul va s'ajuster en conséquence.
A7: Âge indicatif mi-carrière (ans) | B7: 45 | E7: 46150 | F7: Fête de la Victoire de 1945
A8: Âge indicatif fin de carrière (ans) | B8: 60 | E8: 46156 | F8: Ascension
A9: Fenêtre alerte (jours) | B9: 90 | E9: 46167 | F9: Pentecôte
E10: 46217 | F10: Fête Nationale
E11: 46249 | F11: Assomption
E12: 46327 | F12: Toussaint
E13: 46337 | F13: Jour de l'Armistice
E14: 46381 | F14: Jour de Noël
E15: 46384 | F15: Flottant
E16: 46385 | F16: Flottant
E17: 46386 | F17: Flottant
E18: 46387 | F18: Flottant
E19: 46388 | F19: Jour de l'an
E20: 46209 | F20: Vacances d'été
E21: 46210 | F21: Vacances d'été
... E34: 46227 | F34: Vacances d'été

Sheet Employés
A1: Liste des employés (ées) | Q1: Pour fins de validation dans les onglets "Entretiens" et "Individuel"
A2: Nom | B2: Prénom | C2: Fonction - poste | D2: Date d'intégration | E2: Date de naissance | F2: Âge (ans) | G2: Ancienneté (ans) | Q2: Nbre prénom(s) | R2: Noms | S2: Les prénoms…
A3: Nom_1 | B3: Pierre | C3: Informaticien | D3: 37895 | E3: 28979 | F3: =IF(Table1[[#This Row],[Date de naissance]]="","",DATEDIF(Table1[[#This Row],[Date de naissance]],Paramètres!$B$3,"Y")) -> 46 | G3: =IF(Table1[[#This Row],[Date d''intégration]]="","",DATEDIF(Table1[[#This Row],[Date d''intégration]],Paramètres!$B$3,"Y")) -> 22 | Q3: =IF(R3<>"",COUNTIF(S3:AC3,"<>"&""),"") -> 2 | R3: {=_xlfn.UNIQUE(_xlfn._xlws.FILTER(Table1[Nom],Table1[Nom]<>""))} -> Nom_1 | S3: {=IF($R3<>"",TRANSPOSE(_xlfn._xlws.SORT(_xlfn._xlws.FILTER(Table1[Prénom],Table1[Nom]=$R3))),"")} -> Paul | T3: Pierre
A4: Nom_2 | B4: Michèle | C4: Concepteur - bureau d'études | D4: 43895 | E4: 34172 | F4: =IF(Table1[[#This Row],[Date de naissance]]="","",DATEDIF(Table1[[#This Row],[Date de naissance]],Paramètres!$B$3,"Y")) -> 32 | G4: =IF(Table1[[#This Row],[Date d''intégration]]="","",DATEDIF(Table1[[#This Row],[Date d''intégration]],Paramètres!$B$3,"Y")) -> 5 | Q4: =IF(R4<>"",COUNTIF(S4:AC4,"<>"&""),"") -> 1 | R4: Nom_2 | S4: {=IF($R4<>"",TRANSPOSE(_xlfn._xlws.SORT(_xlfn._xlws.FILTER(Table1[Prénom],Table1[Nom]=$R4))),"")} -> Michèle
A5: Nom_3 | B5: Jean | C5: Acheteur | D5: 32004 | E5: 24534 | F5: =IF(Table1[[#This Row],[Date de naissance]]="","",DATEDIF(Table1[[#This Row],[Date de naissance]],Paramètres!$B$3,"Y")) -> 58 | G5: =IF(Table1[[#This Row],[Date d''intégration]]="","",DATEDIF(Table1[[#This Row],[Date d''intégration]],Paramètres!$B$3,"Y")) -> 38 | Q5: =IF(R5<>"",COUNTIF(S5:AC5,"<>"&""),"") -> 2 | R5: Nom_3 | S5: {=IF($R5<>"",TRANSPOSE(_xlfn._xlws.SORT(_xlfn._xlws.FILTER(Table1[Prénom],Table1[Nom]=$R5))),"")} -> Jean | T5: Thérèse
A6: Nom_4 | B6: Jacques | C6: Planificateur | D6: 45538 | E6: 36923 | F6: =IF(Table1[[#This Row],[Date de naissance]]="","",DATEDIF(Table1[[#This Row],[Date de naissance]],Paramètres!$B$3,"Y")) -> 24 | G6: =IF(Table1[[#This Row],[Date d''intégration]]="","",DATEDIF(Table1[[#This Row],[Date d''intégration]],Paramètres!$B$3,"Y")) -> 1 | Q6: =IF(R6<>"",COUNTIF(S6:AC6,"<>"&""),"") -> 2 | R6: Nom_4 | S6: {=IF($R6<>"",TRANSPOSE(_xlfn._xlws.SORT(_xlfn._xlws.FILTER(Table1[Prénom],Table1[Nom]=$R6))),"")} -> Jacques | T6: Nicole
A7: Nom_5 | B7: Thomas | C7: Financier - comptable | D7: 45986 | E7: 37431 | F7: =IF(Table1[[#This Row],[Date de naissance]]="","",DATEDIF(Table1[[#This Row],[Date de naissance]],Paramètres!$B$3,"Y")) -> 23 | G7: =IF(Table1[[#This Row],[Date d''intégration]]="","",DATEDIF(Table1[[#This Row],[Date d''intégration]],Paramètres!$B$3,"Y")) -> 0 | Q7: =IF(R7<>"",COUNTIF(S7:AC7,"<>"&""),"") -> 1 | R7: Nom_5 | S7: {=IF($R7<>"",TRANSPOSE(_xlfn._xlws.SORT(_xlfn._xlws.FILTER(Table1[Prénom],Table1[Nom]=$R7))),"")} -> Thomas
A8: Nom_4 | B8: Nicole | C8: Agent - assurance qualité | D8: 42069 | E8: 32974 | F8: =IF(Table1[[#This Row],[Date de naissance]]="","",DATEDIF(Table1[[#This Row],[Date de naissance]],Paramètres!$B$3,"Y")) -> 35 | G8: =IF(Table1[[#This Row],[Date d''intégration]]="","",DATEDIF(Table1[[#This Row],[Date d''intégration]],Paramètres!$B$3,"Y")) -> 10 | Q8: =IF(R8<>"",COUNTIF(S8:AC8,"<>"&""),"") | S8: {=IF($R8<>"",TRANSPOSE(_xlfn._xlws.SORT(_xlfn._xlws.FILTER(Table1[Prénom],Table1[Nom]=$R8))),"")}
A9: Nom_3 | B9: Thérèse | C9: Financier - comptable | D9: 32888 | E9: 24174 | F9: =IF(Table1[[#This Row],[Date de naissance]]="","",DATEDIF(Table1[[#This Row],[Date de naissance]],Paramètres!$B$3,"Y")) -> 59 | G9: =IF(Table1[[#This Row],[Date d''intégration]]="","",DATEDIF(Table1[[#This Row],[Date d''intégration]],Paramètres!$B$3,"Y")) -> 35 | Q9: =IF(R9<>"",COUNTIF(S9:AC9,"<>"&""),"") | S9: {=IF($R9<>"",TRANSPOSE(_xlfn._xlws.SORT(_xlfn._xlws.FILTER(Table1[Prénom],Table1[Nom]=$R9))),"")}
A10: Nom_1 | B10: Paul | C10: Représentant | D10: 36592 | E10: 24904 | F10: =IF(Table1[[#This Row],[Date de naissance]]="","",DATEDIF(Table1[[#This Row],[Date de naissance]],Paramètres!$B$3,"Y")) -> 57 | G10: =IF(Table1[[#This Row],[Date d''intégration]]="","",DATEDIF(Table1[[#This Row],[Date d''intégration]],Paramètres!$B$3,"Y")) -> 25 | Q10: =IF(R10<>"",COUNTIF(S10:AC10,"<>"&""),"") | S10: {=IF($R10<>"",TRANSPOSE(_xlfn._xlws.SORT(_xlfn._xlws.FILTER(Table1[Prénom],Table1[Nom]=$R10))),"")}
F11: =IF(Table1[[#This Row],[Date de naissance]]="","",DATEDIF(Table1[[#This Row],[Date de naissance]],Paramètres!$B$3,"Y")) | G11: =IF(Table1[[#This Row],[Date d''intégration]]="","",DATEDIF(Table1[[#This Row],[Date d''intégration]],Paramètres!$B$3,"Y")) | Q11: =IF(R11<>"",COUNTIF(S11:AC11,"<>"&""),"") | S11: {=IF($R11<>"",TRANSPOSE(_xlfn._xlws.SORT(_xlfn._xlws.FILTER(Table1[Prénom],Table1[Nom]=$R11))),"")}
F12: =IF(Table1[[#This Row],[Date de naissance]]="","",DATEDIF(Table1[[#This Row],[Date de naissance]],Paramètres!$B$3,"Y")) | G12: =IF(Table1[[#This Row],[Date d''intégration]]="","",DATEDIF(Table1[[#This Row],[Date d''intégration]],Paramètres!$B$3,"Y")) | Q12: =IF(R12<>"",COUNTIF(S12:AC12,"<>"&""),"") | S12: {=IF($R12<>"",TRANSPOSE(_xlfn._xlws.SORT(_xlfn._xlws.FILTER(Table1[Prénom],Table1[Nom]=$R12))),"")}
F13: =IF(Table1[[#This Row],[Date de naissance]]="","",DATEDIF(Table1[[#This Row],[Date de naissance]],Paramètres!$B$3,"Y")) | G13: =IF(Table1[[#This Row],[Date d''intégration]]="","",DATEDIF(Table1[[#This Row],[Date d''intégration]],Paramètres!$B$3,"Y")) | Q13: =IF(R13<>"",COUNTIF(S13:AC13,"<>"&""),"") | S13: {=IF($R13<>"",TRANSPOSE(_xlfn._xlws.SORT(_xlfn._xlws.FILTER(Table1[Prénom],Table1[Nom]=$R13))),"")}
F14: =IF(Table1[[#This Row],[Date de naissance]]="","",DATEDIF(Table1[[#This Row],[Date de naissance]],Paramètres!$B$3,"Y")) | G14: =IF(Table1[[#This Row],[Date d''intégration]]="","",DATEDIF(Table1[[#This Row],[Date d''intégration]],Paramètres!$B$3,"Y")) | Q14: =IF(R14<>"",COUNTIF(S14:AC14,"<>"&""),"") | S14: {=IF($R14<>"",TRANSPOSE(_xlfn._xlws.SORT(_xlfn._xlws.FILTER(Table1[Prénom],Table1[Nom]=$R14))),"")}
F15: =IF(Table1[[#This Row],[Date de naissance]]="","",DATEDIF(Table1[[#This Row],[Date de naissance]],Paramètres!$B$3,"Y")) | G15: =IF(Table1[[#This Row],[Date d''intégration]]="","",DATEDIF(Table1[[#This Row],[Date d''intégration]],Paramètres!$B$3,"Y")) | Q15: =IF(R15<>"",COUNTIF(S15:AC15,"<>"&""),"") | S15: {=IF($R15<>"",TRANSPOSE(_xlfn._xlws.SORT(_xlfn._xlws.FILTER(Table1[Prénom],Table1[Nom]=$R15))),"")}
F16: =IF(Table1[[#This Row],[Date de naissance]]="","",DATEDIF(Table1[[#This Row],[Date de naissance]],Paramètres!$B$3,"Y")) | G16: =IF(Table1[[#This Row],[Date d''intégration]]="","",DATEDIF(Table1[[#This Row],[Date d''intégration]],Paramètres!$B$3,"Y")) | Q16: =IF(R16<>"",COUNTIF(S16:AC16,"<>"&""),"") | S16: {=IF($R16<>"",TRANSPOSE(_xlfn._xlws.SORT(_xlfn._xlws.FILTER(Table1[Prénom],Table1[Nom]=$R16))),"")}
F17: =IF(Table1[[#This Row],[Date de naissance]]="","",DATEDIF(Table1[[#This Row],[Date de naissance]],Paramètres!$B$3,"Y")) | G17: =IF(Table1[[#This Row],[Date d''intégration]]="","",DATEDIF(Table1[[#This Row],[Date d''intégration]],Paramètres!$B$3,"Y")) | Q17: =IF(R17<>"",COUNTIF(S17:AC17,"<>"&""),"") | S17: {=IF($R17<>"",TRANSPOSE(_xlfn._xlws.SORT(_xlfn._xlws.FILTER(Table1[Prénom],Table1[Nom]=$R17))),"")}
F18: =IF(Table1[[#This Row],[Date de naissance]]="","",DATEDIF(Table1[[#This Row],[Date de naissance]],Paramètres!$B$3,"Y")) | G18: =IF(Table1[[#This Row],[Date d''intégration]]="","",DATEDIF(Table1[[#This Row],[Date d''intégration]],Paramètres!$B$3,"Y")) | Q18: =IF(R18<>"",COUNTIF(S18:AC18,"<>"&""),"") | S18: {=IF($R18<>"",TRANSPOSE(_xlfn._xlws.SORT(_xlfn._xlws.FILTER(Table1[Prénom],Table1[Nom]=$R18))),"")}
F19: =IF(Table1[[#This Row],[Date de naissance]]="","",DATEDIF(Table1[[#This Row],[Date de naissance]],Paramètres!$B$3,"Y")) | G19: =IF(Table1[[#This Row],[Date d''intégration]]="","",DATEDIF(Table1[[#This Row],[Date d''intégration]],Paramètres!$B$3,"Y")) | Q19: =IF(R19<>"",COUNTIF(S19:AC19,"<>"&""),"") | S19: {=IF($R19<>"",TRANSPOSE(_xlfn._xlws.SORT(_xlfn._xlws.FILTER(Table1[Prénom],Table1[Nom]=$R19))),"")}
F20: =IF(Table1[[#This Row],[Date de naissance]]="","",DATEDIF(Table1[[#This Row],[Date de naissance]],Paramètres!$B$3,"Y")) | G20: =IF(Table1[[#This Row],[Date d''intégration]]="","",DATEDIF(Table1[[#This Row],[Date d''intégration]],Paramètres!$B$3,"Y")) | Q20: =IF(R20<>"",COUNTIF(S20:AC20,"<>"&""),"") | S20: {=IF($R20<>"",TRANSPOSE(_xlfn._xlws.SORT(_xlfn._xlws.FILTER(Table1[Prénom],Table1[Nom]=$R20))),"")}
F21: =IF(Table1[[#This Row],[Date de naissance]]="","",DATEDIF(Table1[[#This Row],[Date de naissance]],Paramètres!$B$3,"Y")) | G21: =IF(Table1[[#This Row],[Date d''intégration]]="","",DATEDIF(Table1[[#This Row],[Date d''intégration]],Paramètres!$B$3,"Y")) | Q21: =IF(R21<>"",COUNTIF(S21:AC21,"<>"&""),"") | S21: {=IF($R21<>"",TRANSPOSE(_xlfn._xlws.SORT(_xlfn._xlws.FILTER(Table1[Prénom],Table1[Nom]=$R21))),"")}
F22: =IF(Table1[[#This Row],[Date de naissance]]="","",DATEDIF(Table1[[#This Row],[Date de naissance]],Paramètres!$B$3,"Y")) | G22: =IF(Table1[[#This Row],[Date d''intégration]]="","",DATEDIF(Table1[[#This Row],[Date d''intégration]],Paramètres!$B$3,"Y")) | Q22: =IF(R22<>"",COUNTIF(S22:AC22,"<>"&""),"") | S22: {=IF($R22<>"",TRANSPOSE(_xlfn._xlws.SORT(_xlfn._xlws.FILTER(Table1[Prénom],Table1[Nom]=$R22))),"")} | T22: {=IF($R22<>"",TRANSPOSE(_xlfn._xlws.SORT(_xlfn._xlws.FILTER(Table1[Fonction - poste],Table1[Prénom]=$R22))),"")} | U22: {=IF($R22<>"",TRANSPOSE(_xlfn._xlws.SORT(_xlfn._xlws.FILTER(Table1[Date d''intégration],Table1[Fonction - poste]=$R22))),"")}
F23: =IF(Table1[[#This Row],[Date de naissance]]="","",DATEDIF(Table1[[#This Row],[Date de naissance]],Paramètres!$B$3,"Y")) | G23: =IF(Table1[[#This Row],[Date d''intégration]]="","",DATEDIF(Table1[[#This Row],[Date d''intégration]],Paramètres!$B$3,"Y")) | R23: Fin.
F24: =IF(Table1[[#This Row],[Date de naissance]]="","",DATEDIF(Table1[[#This Row],[Date de naissance]],Paramètres!$B$3,"Y")) | G24: =IF(Table1[[#This Row],[Date d''intégration]]="","",DATEDIF(Table1[[#This Row],[Date d''intégration]],Paramètres!$B$3,"Y"))
F25: =IF(Table1[[#This Row],[Date de naissance]]="","",DATEDIF(Table1[[#This Row],[Date de naissance]],Paramètres!$B$3,"Y")) | G25: =IF(Table1[[#This Row],[Date d''intégration]]="","",DATEDIF(Table1[[#This Row],[Date d''intégration]],Paramètres!$B$3,"Y"))
F26: =IF(Table1[[#This Row],[Date de naissance]]="","",DATEDIF(Table1[[#This Row],[Date de naissance]],Paramètres!$B$3,"Y")) | G26: =IF(Table1[[#This Row],[Date d''intégration]]="","",DATEDIF(Table1[[#This Row],[Date d''intégration]],Paramètres!$B$3,"Y"))
F27: =IF(Table1[[#This Row],[Date de naissance]]="","",DATEDIF(Table1[[#This Row],[Date de naissance]],Paramètres!$B$3,"Y")) | G27: =IF(Table1[[#This Row],[Date d''intégration]]="","",DATEDIF(Table1[[#This Row],[Date d''intégration]],Paramètres!$B$3,"Y"))
F28: =IF(Table1[[#This Row],[Date de naissance]]="","",DATEDIF(Table1[[#This Row],[Date de naissance]],Paramètres!$B$3,"Y")) | G28: =IF(Table1[[#This Row],[Date d''intégration]]="","",DATEDIF(Table1[[#This Row],[Date d''intégration]],Paramètres!$B$3,"Y"))
F29: =IF(Table1[[#This Row],[Date de naissance]]="","",DATEDIF(Table1[[#This Row],[Date de naissance]],Paramètres!$B$3,"Y")) | G29: =IF(Table1[[#This Row],[Date d''intégration]]="","",DATEDIF(Table1[[#This Row],[Date d''intégration]],Paramètres!$B$3,"Y"))
F30: =IF(Table1[[#This Row],[Date de naissance]]="","",DATEDIF(Table1[[#This Row],[Date de naissance]],Paramètres!$B$3,"Y")) | G30: =IF(Table1[[#This Row],[Date d''intégration]]="","",DATEDIF(Table1[[#This Row],[Date d''intégration]],Paramètres!$B$3,"Y"))
F31: =IF(Table1[[#This Row],[Date de naissance]]="","",DATEDIF(Table1[[#This Row],[Date de naissance]],Paramètres!$B$3,"Y")) | G31: =IF(Table1[[#This Row],[Date d''intégration]]="","",DATEDIF(Table1[[#This Row],[Date d''intégration]],Paramètres!$B$3,"Y"))
F32: =IF(Table1[[#This Row],[Date de naissance]]="","",DATEDIF(Table1[[#This Row],[Date de naissance]],Paramètres!$B$3,"Y")) | G32: =IF(Table1[[#This Row],[Date d''intégration]]="","",DATEDIF(Table1[[#This Row],[Date d''intégration]],Paramètres!$B$3,"Y"))
F33: =IF(Table1[[#This Row],[Date de naissance]]="","",DATEDIF(Table1[[#This Row],[Date de naissance]],Paramètres!$B$3,"Y")) | G33: =IF(Table1[[#This Row],[Date d''intégration]]="","",DATEDIF(Table1[[#This Row],[Date d''intégration]],Paramètres!$B$3,"Y"))
F34: =IF(Table1[[#This Row],[Date de naissance]]="","",DATEDIF(Table1[[#This Row],[Date de naissance]],Paramètres!$B$3,"Y")) | G34: =IF(Table1[[#This Row],[Date d''intégration]]="","",DATEDIF(Table1[[#This Row],[Date d''intégration]],Paramètres!$B$3,"Y"))
F35: =IF(Table1[[#This Row],[Date de naissance]]="","",DATEDIF(Table1[[#This Row],[Date de naissance]],Paramètres!$B$3,"Y")) | G35: =IF(Table1[[#This Row],[Date d''intégration]]="","",DATEDIF(Table1[[#This Row],[Date d''intégration]],Paramètres!$B$3,"Y"))
... F50: =IF(Table1[[#This Row],[Date de naissance]]="","",DATEDIF(Table1[[#This Row],[Date de naissance]],Paramètres!$B$3,"Y")) | G50: =IF(Table1[[#This Row],[Date d''intégration]]="","",DATEDIF(Table1[[#This Row],[Date d''intégration]],Paramètres!$B$3,"Y"))

Sheet Entretiens
A1: Entretiens réalisés | I1: * si la date est en rouge, ce n'est pas une journée ouvrable
A2: Nom | B2: Prénom | C2: Fonction - poste | D2: Date d'intégration | E2: Date de naissance | F2: Âge (ans) | G2: Ancienneté (ans) | H2: Entretien réalisé | I2: Date de l'entretien | J2: Compte-rendu rédigé ? | K2: Compte-rendu signé ? | L2: Thèmes abordés (résumé) | M2: Actions / formations à prévoir | N2: Responsable action | O2: Échéance action | P2: Statut action | Q2: Commentaires
A3: Nom_3 | B3: Jean | C3: {=IF(AND(Table2[[#This Row],[Nom]]<>"",Table2[[#This Row],[Prénom]]<>""),_xlfn.XLOOKUP(1,(Table1[Nom]=Table2[[#This Row],[Nom]])*(Table1[Prénom]=Table2[[#This Row],[Prénom]]),Table1[Fonction - poste],"Pas d'entrée",0,1),"")} -> Acheteur | D3: {=IF(AND(Table2[[#This Row],[Nom]]<>"",Table2[[#This Row],[Prénom]]<>""),_xlfn.XLOOKUP(1,(Table1[Nom]=Table2[[#This Row],[Nom]])*(Table1[Prénom]=Table2[[#This Row],[Prénom]]),Table1[Date d''intégration],"Pas d'entrée",0,1),"")} -> 32004 | E3: {=IF(AND(Table2[[#This Row],[Nom]]<>"",Table2[[#This Row],[Prénom]]<>""),_xlfn.XLOOKUP(1,(Table1[Nom]=Table2[[#This Row],[Nom]])*(Table1[Prénom]=Table2[[#This Row],[Prénom]]),Table1[Date de naissance],"Pas d'entrée",0,1),"")} -> 24534 | F3: =IF(Table2[[#This Row],[Date de naissance]]="","",DATEDIF(Table2[[#This Row],[Date de naissance]],Paramètres!$B$3,"Y")) -> 58 | G3: =IF(Table2[[#This Row],[Date d''intégration]]="","",DATEDIF(Table2[[#This Row],[Date d''intégration]],Paramètres!$B$3,"Y")) -> 38 | H3: Délai 1er entretien (mois) | I3: 32370 | J3: Oui | K3: Oui
A4: Nom_3 | B4: Thérèse | C4: {=IF(AND(Table2[[#This Row],[Nom]]<>"",Table2[[#This Row],[Prénom]]<>""),_xlfn.XLOOKUP(1,(Table1[Nom]=Table2[[#This Row],[Nom]])*(Table1[Prénom]=Table2[[#This Row],[Prénom]]),Table1[Fonction - poste],"Pas d'entrée",0,1),"")} -> Financier - comptable | D4: {=IF(AND(Table2[[#This Row],[Nom]]<>"",Table2[[#This Row],[Prénom]]<>""),_xlfn.XLOOKUP(1,(Table1[Nom]=Table2[[#This Row],[Nom]])*(Table1[Prénom]=Table2[[#This Row],[Prénom]]),Table1[Date d''intégration],"Pas d'entrée",0,1),"")} -> 32888 | E4: {=IF(AND(Table2[[#This Row],[Nom]]<>"",Table2[[#This Row],[Prénom]]<>""),_xlfn.XLOOKUP(1,(Table1[Nom]=Table2[[#This Row],[Nom]])*(Table1[Prénom]=Table2[[#This Row],[Prénom]]),Table1[Date de naissance],"Pas d'entrée",0,1),"")} -> 24174 | F4: =IF(Table2[[#This Row],[Date de naissance]]="","",DATEDIF(Table2[[#This Row],[Date de naissance]],Paramètres!$B$3,"Y")) -> 59 | G4: =IF(Table2[[#This Row],[Date d''intégration]]="","",DATEDIF(Table2[[#This Row],[Date d''intégration]],Paramètres!$B$3,"Y")) -> 35 | H4: Délai 1er entretien (mois) | I4: 33253 | J4: Oui | K4: Oui
A5: Nom_3 | B5: Jean | C5: {=IF(AND(Table2[[#This Row],[Nom]]<>"",Table2[[#This Row],[Prénom]]<>""),_xlfn.XLOOKUP(1,(Table1[Nom]=Table2[[#This Row],[Nom]])*(Table1[Prénom]=Table2[[#This Row],[Prénom]]),Table1[Fonction - poste],"Pas d'entrée",0,1),"")} -> Acheteur | D5: {=IF(AND(Table2[[#This Row],[Nom]]<>"",Table2[[#This Row],[Prénom]]<>""),_xlfn.XLOOKUP(1,(Table1[Nom]=Table2[[#This Row],[Nom]])*(Table1[Prénom]=Table2[[#This Row],[Prénom]]),Table1[Date d''intégration],"Pas d'entrée",0,1),"")} -> 32004 | E5: {=IF(AND(Table2[[#This Row],[Nom]]<>"",Table2[[#This Row],[Prénom]]<>""),_xlfn.XLOOKUP(1,(Table1[Nom]=Table2[[#This Row],[Nom]])*(Table1[Prénom]=Table2[[#This Row],[Prénom]]),Table1[Date de naissance],"Pas d'entrée",0,1),"")} -> 24534 | F5: =IF(Table2[[#This Row],[Date de naissance]]="","",DATEDIF(Table2[[#This Row],[Date de naissance]],Paramètres!$B$3,"Y")) -> 58 | G5: =IF(Table2[[#This Row],[Date d''intégration]]="","",DATEDIF(Table2[[#This Row],[Date d''intégration]],Paramètres!$B$3,"Y")) -> 38 | H5: Délai 1er entretien (mois) | I5: 33465 | J5: Oui | K5: Oui
A6: Nom_3 | B6: Jean | C6: {=IF(AND(Table2[[#This Row],[Nom]]<>"",Table2[[#This Row],[Prénom]]<>""),_xlfn.XLOOKUP(1,(Table1[Nom]=Table2[[#This Row],[Nom]])*(Table1[Prénom]=Table2[[#This Row],[Prénom]]),Table1[Fonction - poste],"Pas d'entrée",0,1),"")} -> Acheteur | D6: {=IF(AND(Table2[[#This Row],[Nom]]<>"",Table2[[#This Row],[Prénom]]<>""),_xlfn.XLOOKUP(1,(Table1[Nom]=Table2[[#This Row],[Nom]])*(Table1[Prénom]=Table2[[#This Row],[Prénom]]),Table1[Date d''intégration],"Pas d'entrée",0,1),"")} -> 32004 | E6: {=IF(AND(Table2[[#This Row],[Nom]]<>"",Table2[[#This Row],[Prénom]]<>""),_xlfn.XLOOKUP(1,(Table1[Nom]=Table2[[#This Row],[Nom]])*(Table1[Prénom]=Table2[[#This Row],[Prénom]]),Table1[Date de naissance],"Pas d'entrée",0,1),"")} -> 24534 | F6: =IF(Table2[[#This Row],[Date de naissance]]="","",DATEDIF(Table2[[#This Row],[Date de naissance]],Paramètres!$B$3,"Y")) -> 58 | G6: =IF(Table2[[#This Row],[Date d''intégration]]="","",DATEDIF(Table2[[#This Row],[Date d''intégration]],Paramètres!$B$3,"Y")) -> 38 | H6: Périodicité entretien (mois) | I6: 33465 | J6: Oui | K6: Oui
A7: Nom_3 | B7: Thérèse | C7: {=IF(AND(Table2[[#This Row],[Nom]]<>"",Table2[[#This Row],[Prénom]]<>""),_xlfn.XLOOKUP(1,(Table1[Nom]=Table2[[#This Row],[Nom]])*(Table1[Prénom]=Table2[[#This Row],[Prénom]]),Table1[Fonction - poste],"Pas d'entrée",0,1),"")} -> Financier - comptable | D7: {=IF(AND(Table2[[#This Row],[Nom]]<>"",Table2[[#This Row],[Prénom]]<>""),_xlfn.XLOOKUP(1,(Table1[Nom]=Table2[[#This Row],[Nom]])*(Table1[Prénom]=Table2[[#This Row],[Prénom]]),Table1[Date d''intégration],"Pas d'entrée",0,1),"")} -> 32888 | E7: {=IF(AND(Table2[[#This Row],[Nom]]<>"",Table2[[#This Row],[Prénom]]<>""),_xlfn.XLOOKUP(1,(Table1[Nom]=Table2[[#This Row],[Nom]])*(Table1[Prénom]=Table2[[#This Row],[Prénom]]),Table1[Date de naissance],"Pas d'entrée",0,1),"")} -> 24174 | F7: =IF(Table2[[#This Row],[Date de naissance]]="","",DATEDIF(Table2[[#This Row],[Date de naissance]],Paramètres!$B$3,"Y")) -> 59 | G7: =IF(Table2[[#This Row],[Date d''intégration]]="","",DATEDIF(Table2[[#This Row],[Date d''intégration]],Paramètres!$B$3,"Y")) -> 35 | H7: Périodicité entretien (mois) | I7: 34351 | J7: Oui | K7: Oui
A8: Nom_3 | B8: Jean | C8: {=IF(AND(Table2[[#This Row],[Nom]]<>"",Table2[[#This Row],[Prénom]]<>""),_xlfn.XLOOKUP(1,(Table1[Nom]=Table2[[#This Row],[Nom]])*(Table1[Prénom]=Table2[[#This Row],[Prénom]]),Table1[Fonction - poste],"Pas d'entrée",0,1),"")} -> Acheteur | D8: {=IF(AND(Table2[[#This Row],[Nom]]<>"",Table2[[#This Row],[Prénom]]<>""),_xlfn.XLOOKUP(1,(Table1[Nom]=Table2[[#This Row],[Nom]])*(Table1[Prénom]=Table2[[#This Row],[Prénom]]),Table1[Date d''intégration],"Pas d'entrée",0,1),"")} -> 32004 | E8: {=IF(AND(Table2[[#This Row],[Nom]]<>"",Table2[[#This Row],[Prénom]]<>""),_xlfn.XLOOKUP(1,(Table1[Nom]=Table2[[#This Row],[Nom]])*(Table1[Prénom]=Table2[[#This Row],[Prénom]]),Table1[Date de naissance],"Pas d'entrée",0,1),"")} -> 24534 | F8: =IF(Table2[[#This Row],[Date de naissance]]="","",DATEDIF(Table2[[#This Row],[Date de naissance]],Paramètres!$B$3,"Y")) -> 58 | G8: =IF(Table2[[#This Row],[Date d''intégration]]="","",DATEDIF(Table2[[#This Row],[Date d''intégration]],Paramètres!$B$3,"Y")) -> 38 | H8: Périodicité bilan récapitulatif (mois) | I8: 34926 | J8: Oui | K8: Oui
A9: Nom_3 | B9: Jean | C9: {=IF(AND(Table2[[#This Row],[Nom]]<>"",Table2[[#This Row],[Prénom]]<>""),_xlfn.XLOOKUP(1,(Table1[Nom]=Table2[[#This Row],[Nom]])*(Table1[Prénom]=Table2[[#This Row],[Prénom]]),Table1[Fonction - poste],"Pas d'entrée",0,1),"")} -> Acheteur | D9: {=IF(AND(Table2[[#This Row],[Nom]]<>"",Table2[[#This Row],[Prénom]]<>""),_xlfn.XLOOKUP(1,(Table1[Nom]=Table2[[#This Row],[Nom]])*(Table1[Prénom]=Table2[[#This Row],[Prénom]]),Table1[Date d''intégration],"Pas d'entrée",0,1),"")} -> 32004 | E9: {=IF(AND(Table2[[#This Row],[Nom]]<>"",Table2[[#This Row],[Prénom]]<>""),_xlfn.XLOOKUP(1,(Table1[Nom]=Table2[[#This Row],[Nom]])*(Table1[Prénom]=Table2[[#This Row],[Prénom]]),Table1[Date de naissance],"Pas d'entrée",0,1),"")} -> 24534 | F9: =IF(Table2[[#This Row],[Date de naissance]]="","",DATEDIF(Table2[[#This Row],[Date de naissance]],Paramètres!$B$3,"Y")) -> 58 | G9: =IF(Table2[[#This Row],[Date d''intégration]]="","",DATEDIF(Table2[[#This Row],[Date d''intégration]],Paramètres!$B$3,"Y")) -> 38 | H9: Périodicité entretien (mois) | I9: 34926
A10: Nom_3 | B10: Thérèse | C10: {=IF(AND(Table2[[#This Row],[Nom]]<>"",Table2[[#This Row],[Prénom]]<>""),_xlfn.XLOOKUP(1,(Table1[Nom]=Table2[[#This Row],[Nom]])*(Table1[Prénom]=Table2[[#This Row],[Prénom]]),Table1[Fonction - poste],"Pas d'entrée",0,1),"")} -> Financier - comptable | D10: {=IF(AND(Table2[[#This Row],[Nom]]<>"",Table2[[#This Row],[Prénom]]<>""),_xlfn.XLOOKUP(1,(Table1[Nom]=Table2[[#This Row],[Nom]])*(Table1[Prénom]=Table2[[#This Row],[Prénom]]),Table1[Date d''intégration],"Pas d'entrée",0,1),"")} -> 32888 | E10: {=IF(AND(Table2[[#This Row],[Nom]]<>"",Table2[[#This Row],[Prénom]]<>""),_xlfn.XLOOKUP(1,(Table1[Nom]=Table2[[#This Row],[Nom]])*(Table1[Prénom]=Table2[[#This Row],[Prénom]]),Table1[Date de naissance],"Pas d'entrée",0,1),"")} -> 24174 | F10: =IF(Table2[[#This Row],[Date de naissance]]="","",DATEDIF(Table2[[#This Row],[Date de naissance]],Paramètres!$B$3,"Y")) -> 59 | G10: =IF(Table2[[#This Row],[Date d''intégration]]="","",DATEDIF(Table2[[#This Row],[Date d''intégration]],Paramètres!$B$3,"Y")) -> 35 | H10: Périodicité bilan récapitulatif (mois) | I10: 35810 | J10: Oui | K10: Oui
A11: Nom_3 | B11: Thérèse | C11: {=IF(AND(Table2[[#This Row],[Nom]]<>"",Table2[[#This Row],[Prénom]]<>""),_xlfn.XLOOKUP(1,(Table1[Nom]=Table2[[#This Row],[Nom]])*(Table1[Prénom]=Table2[[#This Row],[Prénom]]),Table1[Fonction - poste],"Pas d'entrée",0,1),"")} -> Financier - comptable | D11: {=IF(AND(Table2[[#This Row],[Nom]]<>"",Table2[[#This Row],[Prénom]]<>""),_xlfn.XLOOKUP(1,(Table1[Nom]=Table2[[#This Row],[Nom]])*(Table1[Prénom]=Table2[[#This Row],[Prénom]]),Table1[Date d''intégration],"Pas d'entrée",0,1),"")} -> 32888 | E11: {=IF(AND(Table2[[#This Row],[Nom]]<>"",Table2[[#This Row],[Prénom]]<>""),_xlfn.XLOOKUP(1,(Table1[Nom]=Table2[[#This Row],[Nom]])*(Table1[Prénom]=Table2[[#This Row],[Prénom]]),Table1[Date de naissance],"Pas d'entrée",0,1),"")} -> 24174 | F11: =IF(Table2[[#This Row],[Date de naissance]]="","",DATEDIF(Table2[[#This Row],[Date de naissance]],Paramètres!$B$3,"Y")) -> 59 | G11: =IF(Table2[[#This Row],[Date d''intégration]]="","",DATEDIF(Table2[[#This Row],[Date d''intégration]],Paramètres!$B$3,"Y")) -> 35 | H11: Périodicité entretien (mois) | I11: 35810
A12: Nom_3 | B12: Jean | C12: {=IF(AND(Table2[[#This Row],[Nom]]<>"",Table2[[#This Row],[Prénom]]<>""),_xlfn.XLOOKUP(1,(Table1[Nom]=Table2[[#This Row],[Nom]])*(Table1[Prénom]=Table2[[#This Row],[Prénom]]),Table1[Fonction - poste],"Pas d'entrée",0,1),"")} -> Acheteur | D12: {=IF(AND(Table2[[#This Row],[Nom]]<>"",Table2[[#This Row],[Prénom]]<>""),_xlfn.XLOOKUP(1,(Table1[Nom]=Table2[[#This Row],[Nom]])*(Table1[Prénom]=Table2[[#This Row],[Prénom]]),Table1[Date d''intégration],"Pas d'entrée",0,1),"")} -> 32004 | E12: {=IF(AND(Table2[[#This Row],[Nom]]<>"",Table2[[#This Row],[Prénom]]<>""),_xlfn.XLOOKUP(1,(Table1[Nom]=Table2[[#This Row],[Nom]])*(Table1[Prénom]=Table2[[#This Row],[Prénom]]),Table1[Date de naissance],"Pas d'entrée",0,1),"")} -> 24534 | F12: =IF(Table2[[#This Row],[Date de naissance]]="","",DATEDIF(Table2[[#This Row],[Date de naissance]],Paramètres!$B$3,"Y")) -> 58 | G12: =IF(Table2[[#This Row],[Date d''intégration]]="","",DATEDIF(Table2[[#This Row],[Date d''intégration]],Paramètres!$B$3,"Y")) -> 38 | H12: Périodicité entretien (mois) | I12: 36388
A13: Nom_1 | B13: Paul | C13: {=IF(AND(Table2[[#This Row],[Nom]]<>"",Table2[[#This Row],[Prénom]]<>""),_xlfn.XLOOKUP(1,(Table1[Nom]=Table2[[#This Row],[Nom]])*(Table1[Prénom]=Table2[[#This Row],[Prénom]]),Table1[Fonction - poste],"Pas d'entrée",0,1),"")} -> Représentant | D13: {=IF(AND(Table2[[#This Row],[Nom]]<>"",Table2[[#This Row],[Prénom]]<>""),_xlfn.XLOOKUP(1,(Table1[Nom]=Table2[[#This Row],[Nom]])*(Table1[Prénom]=Table2[[#This Row],[Prénom]]),Table1[Date d''intégration],"Pas d'entrée",0,1),"")} -> 36592 | E13: {=IF(AND(Table2[[#This Row],[Nom]]<>"",Table2[[#This Row],[Prénom]]<>""),_xlfn.XLOOKUP(1,(Table1[Nom]=Table2[[#This Row],[Nom]])*(Table1[Prénom]=Table2[[#This Row],[Prénom]]),Table1[Date de naissance],"Pas d'entrée",0,1),"")} -> 24904 | F13: =IF(Table2[[#This Row],[Date de naissance]]="","",DATEDIF(Table2[[#This Row],[Date de naissance]],Paramètres!$B$3,"Y")) -> 57 | G13: =IF(Table2[[#This Row],[Date d''intégration]]="","",DATEDIF(Table2[[#This Row],[Date d''intégration]],Paramètres!$B$3,"Y")) -> 25 | H13: Délai 1er entretien (mois) | I13: 36957 | J13: Oui | K13: Oui
A14: Nom_3 | B14: Thérèse | C14: {=IF(AND(Table2[[#This Row],[Nom]]<>"",Table2[[#This Row],[Prénom]]<>""),_xlfn.XLOOKUP(1,(Table1[Nom]=Table2[[#This Row],[Nom]])*(Table1[Prénom]=Table2[[#This Row],[Prénom]]),Table1[Fonction - poste],"Pas d'entrée",0,1),"")} -> Financier - comptable | D14: {=IF(AND(Table2[[#This Row],[Nom]]<>"",Table2[[#This Row],[Prénom]]<>""),_xlfn.XLOOKUP(1,(Table1[Nom]=Table2[[#This Row],[Nom]])*(Table1[Prénom]=Table2[[#This Row],[Prénom]]),Table1[Date d''intégration],"Pas d'entrée",0,1),"")} -> 32888 | E14: {=IF(AND(Table2[[#This Row],[Nom]]<>"",Table2[[#This Row],[Prénom]]<>""),_xlfn.XLOOKUP(1,(Table1[Nom]=Table2[[#This Row],[Nom]])*(Table1[Prénom]=Table2[[#This Row],[Prénom]]),Table1[Date de naissance],"Pas d'entrée",0,1),"")} -> 24174 | F14: =IF(Table2[[#This Row],[Date de naissance]]="","",DATEDIF(Table2[[#This Row],[Date de naissance]],Paramètres!$B$3,"Y")) -> 59 | G14: =IF(Table2[[#This Row],[Date d''intégration]]="","",DATEDIF(Table2[[#This Row],[Date d''intégration]],Paramètres!$B$3,"Y")) -> 35 | H14: Périodicité entretien (mois) | I14: 37271
A15: Nom_3 | B15: Jean | C15: {=IF(AND(Table2[[#This Row],[Nom]]<>"",Table2[[#This Row],[Prénom]]<>""),_xlfn.XLOOKUP(1,(Table1[Nom]=Table2[[#This Row],[Nom]])*(Table1[Prénom]=Table2[[#This Row],[Prénom]]),Table1[Fonction - poste],"Pas d'entrée",0,1),"")} -> Acheteur | D15: {=IF(AND(Table2[[#This Row],[Nom]]<>"",Table2[[#This Row],[Prénom]]<>""),_xlfn.XLOOKUP(1,(Table1[Nom]=Table2[[#This Row],[Nom]])*(Table1[Prénom]=Table2[[#This Row],[Prénom]]),Table1[Date d''intégration],"Pas d'entrée",0,1),"")} -> 32004 | E15: {=IF(AND(Table2[[#This Row],[Nom]]<>"",Table2[[#This Row],[Prénom]]<>""),_xlfn.XLOOKUP(1,(Table1[Nom]=Table2[[#This Row],[Nom]])*(Table1[Prénom]=Table2[[#This Row],[Prénom]]),Table1[Date de naissance],"Pas d'entrée",0,1),"")} -> 24534 | F15: =IF(Table2[[#This Row],[Date de naissance]]="","",DATEDIF(Table2[[#This Row],[Date de naissance]],Paramètres!$B$3,"Y")) -> 58 | G15: =IF(Table2[[#This Row],[Date d''intégration]]="","",DATEDIF(Table2[[#This Row],[Date d''intégration]],Paramètres!$B$3,"Y")) -> 38 | H15: Périodicité bilan récapitulatif (mois) | I15: 37848
A16: Nom_3 | B16: Jean | C16: {=IF(AND(Table2[[#This Row],[Nom]]<>"",Table2[[#This Row],[Prénom]]<>""),_xlfn.XLOOKUP(1,(Table1[Nom]=Table2[[#This Row],[Nom]])*(Table1[Prénom]=Table2[[#This Row],[Prénom]]),Table1[Fonction - poste],"Pas d'entrée",0,1),"")} -> Acheteur | D16: {=IF(AND(Table2[[#This Row],[Nom]]<>"",Table2[[#This Row],[Prénom]]<>""),_xlfn.XLOOKUP(1,(Table1[Nom]=Table2[[#This Row],[Nom]])*(Table1[Prénom]=Table2[[#This Row],[Prénom]]),Table1[Date d''intégration],"Pas d'entrée",0,1),"")} -> 32004 | E16: {=IF(AND(Table2[[#This Row],[Nom]]<>"",Table2[[#This Row],[Prénom]]<>""),_xlfn.XLOOKUP(1,(Table1[Nom]=Table2[[#This Row],[Nom]])*(Table1[Prénom]=Table2[[#This Row],[Prénom]]),Table1[Date de naissance],"Pas d'entrée",0,1),"")} -> 24534 | F16: =IF(Table2[[#This Row],[Date de naissance]]="","",DATEDIF(Table2[[#This Row],[Date de naissance]],Paramètres!$B$3,"Y")) -> 58 | G16: =IF(Table2[[#This Row],[Date d''intégration]]="","",DATEDIF(Table2[[#This Row],[Date d''intégration]],Paramètres!$B$3,"Y")) -> 38 | H16: Périodicité entretien (mois) | I16: 37848
A17: Nom_1 | B17: Paul | C17: {=IF(AND(Table2[[#This Row],[Nom]]<>"",Table2[[#This Row],[Prénom]]<>""),_xlfn.XLOOKUP(1,(Table1[Nom]=Table2[[#This Row],[Nom]])*(Table1[Prénom]=Table2[[#This Row],[Prénom]]),Table1[Fonction - poste],"Pas d'entrée",0,1),"")} -> Représentant | D17: {=IF(AND(Table2[[#This Row],[Nom]]<>"",Table2[[#This Row],[Prénom]]<>""),_xlfn.XLOOKUP(1,(Table1[Nom]=Table2[[#This Row],[Nom]])*(Table1[Prénom]=Table2[[#This Row],[Prénom]]),Table1[Date d''intégration],"Pas d'entrée",0,1),"")} -> 36592 | E17: {=IF(AND(Table2[[#This Row],[Nom]]<>"",Table2[[#This Row],[Prénom]]<>""),_xlfn.XLOOKUP(1,(Table1[Nom]=Table2[[#This Row],[Nom]])*(Table1[Prénom]=Table2[[#This Row],[Prénom]]),Table1[Date de naissance],"Pas d'entrée",0,1),"")} -> 24904 | F17: =IF(Table2[[#This Row],[Date de naissance]]="","",DATEDIF(Table2[[#This Row],[Date de naissance]],Paramètres!$B$3,"Y")) -> 57 | G17: =IF(Table2[[#This Row],[Date d''intégration]]="","",DATEDIF(Table2[[#This Row],[Date d''intégration]],Paramètres!$B$3,"Y")) -> 25 | H17: Périodicité entretien (mois) | I17: 38054 | J17: Oui | K17: Oui
A18: Nom_1 | B18: Pierre | C18: {=IF(AND(Table2[[#This Row],[Nom]]<>"",Table2[[#This Row],[Prénom]]<>""),_xlfn.XLOOKUP(1,(Table1[Nom]=Table2[[#This Row],[Nom]])*(Table1[Prénom]=Table2[[#This Row],[Prénom]]),Table1[Fonction - poste],"Pas d'entrée",0,1),"")} -> Informaticien | D18: {=IF(AND(Table2[[#This Row],[Nom]]<>"",Table2[[#This Row],[Prénom]]<>""),_xlfn.XLOOKUP(1,(Table1[Nom]=Table2[[#This Row],[Nom]])*(Table1[Prénom]=Table2[[#This Row],[Prénom]]),Table1[Date d''intégration],"Pas d'entrée",0,1),"")} -> 37895 | E18: {=IF(AND(Table2[[#This Row],[Nom]]<>"",Table2[[#This Row],[Prénom]]<>""),_xlfn.XLOOKUP(1,(Table1[Nom]=Table2[[#This Row],[Nom]])*(Table1[Prénom]=Table2[[#This Row],[Prénom]]),Table1[Date de naissance],"Pas d'entrée",0,1),"")} -> 28979 | F18: =IF(Table2[[#This Row],[Date de naissance]]="","",DATEDIF(Table2[[#This Row],[Date de naissance]],Paramètres!$B$3,"Y")) -> 46 | G18: =IF(Table2[[#This Row],[Date d''intégration]]="","",DATEDIF(Table2[[#This Row],[Date d''intégration]],Paramètres!$B$3,"Y")) -> 22 | H18: Délai 1er entretien (mois) | I18: 38261 | J18: Oui | K18: Oui
A19: Nom_3 | B19: Thérèse | C19: {=IF(AND(Table2[[#This Row],[Nom]]<>"",Table2[[#This Row],[Prénom]]<>""),_xlfn.XLOOKUP(1,(Table1[Nom]=Table2[[#This Row],[Nom]])*(Table1[Prénom]=Table2[[#This Row],[Prénom]]),Table1[Fonction - poste],"Pas d'entrée",0,1),"")} -> Financier - comptable | D19: {=IF(AND(Table2[[#This Row],[Nom]]<>"",Table2[[#This Row],[Prénom]]<>""),_xlfn.XLOOKUP(1,(Table1[Nom]=Table2[[#This Row],[Nom]])*(Table1[Prénom]=Table2[[#This Row],[Prénom]]),Table1[Date d''intégration],"Pas d'entrée",0,1),"")} -> 32888 | E19: {=IF(AND(Table2[[#This Row],[Nom]]<>"",Table2[[#This Row],[Prénom]]<>""),_xlfn.XLOOKUP(1,(Table1[Nom]=Table2[[#This Row],[Nom]])*(Table1[Prénom]=Table2[[#This Row],[Prénom]]),Table1[Date de naissance],"Pas d'entrée",0,1),"")} -> 24174 | F19: =IF(Table2[[#This Row],[Date de naissance]]="","",DATEDIF(Table2[[#This Row],[Date de naissance]],Paramètres!$B$3,"Y")) -> 59 | G19: =IF(Table2[[#This Row],[Date d''intégration]]="","",DATEDIF(Table2[[#This Row],[Date d''intégration]],Paramètres!$B$3,"Y")) -> 35 | H19: Périodicité bilan récapitulatif (mois) | I19: 38733
A20: Nom_3 | B20: Thérèse | C20: {=IF(AND(Table2[[#This Row],[Nom]]<>"",Table2[[#This Row],[Prénom]]<>""),_xlfn.XLOOKUP(1,(Table1[Nom]=Table2[[#This Row],[Nom]])*(Table1[Prénom]=Table2[[#This Row],[Prénom]]),Table1[Fonction - poste],"Pas d'entrée",0,1),"")} -> Financier - comptable | D20: {=IF(AND(Table2[[#This Row],[Nom]]<>"",Table2[[#This Row],[Prénom]]<>""),_xlfn.XLOOKUP(1,(Table1[Nom]=Table2[[#This Row],[Nom]])*(Table1[Prénom]=Table2[[#This Row],[Prénom]]),Table1[Date d''intégration],"Pas d'entrée",0,1),"")} -> 32888 | E20: {=IF(AND(Table2[[#This Row],[Nom]]<>"",Table2[[#This Row],[Prénom]]<>""),_xlfn.XLOOKUP(1,(Table1[Nom]=Table2[[#This Row],[Nom]])*(Table1[Prénom]=Table2[[#This Row],[Prénom]]),Table1[Date de naissance],"Pas d'entrée",0,1),"")} -> 24174 | F20: =IF(Table2[[#This Row],[Date de naissance]]="","",DATEDIF(Table2[[#This Row],[Date de naissance]],Paramètres!$B$3,"Y")) -> 59 | G20: =IF(Table2[[#This Row],[Date d''intégration]]="","",DATEDIF(Table2[[#This Row],[Date d''intégration]],Paramètres!$B$3,"Y")) -> 35 | H20: Périodicité entretien (mois) | I20: 38733
A21: Nom_3 | B21: Jean | C21: {=IF(AND(Table2[[#This Row],[Nom]]<>"",Table2[[#This Row],[Prénom]]<>""),_xlfn.XLOOKUP(1,(Table1[Nom]=Table2[[#This Row],[Nom]])*(Table1[Prénom]=Table2[[#This Row],[Prénom]]),Table1[Fonction - poste],"Pas d'entrée",0,1),"")} -> Acheteur | D21: {=IF(AND(Table2[[#This Row],[Nom]]<>"",Table2[[#This Row],[Prénom]]<>""),_xlfn.XLOOKUP(1,(Table1[Nom]=Table2[[#This Row],[Nom]])*(Table1[Prénom]=Table2[[#This Row],[Prénom]]),Table1[Date d''intégration],"Pas d'entrée",0,1),"")} -> 32004 | E21: {=IF(AND(Table2[[#This Row],[Nom]]<>"",Table2[[#This Row],[Prénom]]<>""),_xlfn.XLOOKUP(1,(Table1[Nom]=Table2[[#This Row],[Nom]])*(Table1[Prénom]=Table2[[#This Row],[Prénom]]),Table1[Date de naissance],"Pas d'entrée",0,1),"")} -> 24534 | F21: =IF(Table2[[#This Row],[Date de naissance]]="","",DATEDIF(Table2[[#This Row],[Date de naissance]],Paramètres!$B$3,"Y")) -> 58 | G21: =IF(Table2[[#This Row],[Date d''intégration]]="","",DATEDIF(Table2[[#This Row],[Date d''intégration]],Paramètres!$B$3,"Y")) -> 38 | H21: Périodicité entretien (mois) | I21: 39309
A22: Nom_1 | B22: Pierre | C22: {=IF(AND(Table2[[#This Row],[Nom]]<>"",Table2[[#This Row],[Prénom]]<>""),_xlfn.XLOOKUP(1,(Table1[Nom]=Table2[[#This Row],[Nom]])*(Table1[Prénom]=Table2[[#This Row],[Prénom]]),Table1[Fonction - poste],"Pas d'entrée",0,1),"")} -> Informaticien | D22: {=IF(AND(Table2[[#This Row],[Nom]]<>"",Table2[[#This Row],[Prénom]]<>""),_xlfn.XLOOKUP(1,(Table1[Nom]=Table2[[#This Row],[Nom]])*(Table1[Prénom]=Table2[[#This Row],[Prénom]]),Table1[Date d''intégration],"Pas d'entrée",0,1),"")} -> 37895 | E22: {=IF(AND(Table2[[#This Row],[Nom]]<>"",Table2[[#This Row],[Prénom]]<>""),_xlfn.XLOOKUP(1,(Table1[Nom]=Table2[[#This Row],[Nom]])*(Table1[Prénom]=Table2[[#This Row],[Prénom]]),Table1[Date de naissance],"Pas d'entrée",0,1),"")} -> 28979 | F22: =IF(Table2[[#This Row],[Date de naissance]]="","",DATEDIF(Table2[[#This Row],[Date de naissance]],Paramètres!$B$3,"Y")) -> 46 | G22: =IF(Table2[[#This Row],[Date d''intégration]]="","",DATEDIF(Table2[[#This Row],[Date d''intégration]],Paramètres!$B$3,"Y")) -> 22 | H22: Périodicité entretien (mois) | I22: 39356 | J22: Oui | K22: Oui
A23: Nom_1 | B23: Paul | C23: {=IF(AND(Table2[[#This Row],[Nom]]<>"",Table2[[#This Row],[Prénom]]<>""),_xlfn.XLOOKUP(1,(Table1[Nom]=Table2[[#This Row],[Nom]])*(Table1[Prénom]=Table2[[#This Row],[Prénom]]),Table1[Fonction - poste],"Pas d'entrée",0,1),"")} -> Représentant | D23: {=IF(AND(Table2[[#This Row],[Nom]]<>"",Table2[[#This Row],[Prénom]]<>""),_xlfn.XLOOKUP(1,(Table1[Nom]=Table2[[#This Row],[Nom]])*(Table1[Prénom]=Table2[[#This Row],[Prénom]]),Table1[Date d''intégration],"Pas d'entrée",0,1),"")} -> 36592 | E23: {=IF(AND(Table2[[#This Row],[Nom]]<>"",Table2[[#This Row],[Prénom]]<>""),_xlfn.XLOOKUP(1,(Table1[Nom]=Table2[[#This Row],[Nom]])*(Table1[Prénom]=Table2[[#This Row],[Prénom]]),Table1[Date de naissance],"Pas d'entrée",0,1),"")} -> 24904 | F23: =IF(Table2[[#This Row],[Date de naissance]]="","",DATEDIF(Table2[[#This Row],[Date de naissance]],Paramètres!$B$3,"Y")) -> 57 | G23: =IF(Table2[[#This Row],[Date d''intégration]]="","",DATEDIF(Table2[[#This Row],[Date d''intégration]],Paramètres!$B$3,"Y")) -> 25 | H23: Périodicité bilan récapitulatif (mois) | I23: 39514 | J23: Oui | K23: Oui
A24: Nom_1 | B24: Paul | C24: {=IF(AND(Table2[[#This Row],[Nom]]<>"",Table2[[#This Row],[Prénom]]<>""),_xlfn.XLOOKUP(1,(Table1[Nom]=Table2[[#This Row],[Nom]])*(Table1[Prénom]=Table2[[#This Row],[Prénom]]),Table1[Fonction - poste],"Pas d'entrée",0,1),"")} -> Représentant | D24: {=IF(AND(Table2[[#This Row],[Nom]]<>"",Table2[[#This Row],[Prénom]]<>""),_xlfn.XLOOKUP(1,(Table1[Nom]=Table2[[#This Row],[Nom]])*(Table1[Prénom]=Table2[[#This Row],[Prénom]]),Table1[Date d''intégration],"Pas d'entrée",0,1),"")} -> 36592 | E24: {=IF(AND(Table2[[#This Row],[Nom]]<>"",Table2[[#This Row],[Prénom]]<>""),_xlfn.XLOOKUP(1,(Table1[Nom]=Table2[[#This Row],[Nom]])*(Table1[Prénom]=Table2[[#This Row],[Prénom]]),Table1[Date de naissance],"Pas d'entrée",0,1),"")} -> 24904 | F24: =IF(Table2[[#This Row],[Date de naissance]]="","",DATEDIF(Table2[[#This Row],[Date de naissance]],Paramètres!$B$3,"Y")) -> 57 | G24: =IF(Table2[[#This Row],[Date d''intégration]]="","",DATEDIF(Table2[[#This Row],[Date d''intégration]],Paramètres!$B$3,"Y")) -> 25 | H24: Périodicité entretien (mois) | I24: 39514
A25: Nom_3 | B25: Thérèse | C25: {=IF(AND(Table2[[#This Row],[Nom]]<>"",Table2[[#This Row],[Prénom]]<>""),_xlfn.XLOOKUP(1,(Table1[Nom]=Table2[[#This Row],[Nom]])*(Table1[Prénom]=Table2[[#This Row],[Prénom]]),Table1[Fonction - poste],"Pas d'entrée",0,1),"")} -> Financier - comptable | D25: {=IF(AND(Table2[[#This Row],[Nom]]<>"",Table2[[#This Row],[Prénom]]<>""),_xlfn.XLOOKUP(1,(Table1[Nom]=Table2[[#This Row],[Nom]])*(Table1[Prénom]=Table2[[#This Row],[Prénom]]),Table1[Date d''intégration],"Pas d'entrée",0,1),"")} -> 32888 | E25: {=IF(AND(Table2[[#This Row],[Nom]]<>"",Table2[[#This Row],[Prénom]]<>""),_xlfn.XLOOKUP(1,(Table1[Nom]=Table2[[#This Row],[Nom]])*(Table1[Prénom]=Table2[[#This Row],[Prénom]]),Table1[Date de naissance],"Pas d'entrée",0,1),"")} -> 24174 | F25: =IF(Table2[[#This Row],[Date de naissance]]="","",DATEDIF(Table2[[#This Row],[Date de naissance]],Paramètres!$B$3,"Y")) -> 59 | G25: =IF(Table2[[#This Row],[Date d''intégration]]="","",DATEDIF(Table2[[#This Row],[Date d''intégration]],Paramètres!$B$3,"Y")) -> 35 | H25: Périodicité entretien (mois) | I25: 40193
A26: Nom_3 | B26: Thérèse | C26: {=IF(AND(Table2[[#This Row],[Nom]]<>"",Table2[[#This Row],[Prénom]]<>""),_xlfn.XLOOKUP(1,(Table1[Nom]=Table2[[#This Row],[Nom]])*(Table1[Prénom]=Table2[[#This Row],[Prénom]]),Table1[Fonction - poste],"Pas d'entrée",0,1),"")} -> Financier - comptable | D26: {=IF(AND(Table2[[#This Row],[Nom]]<>"",Table2[[#This Row],[Prénom]]<>""),_xlfn.XLOOKUP(1,(Table1[Nom]=Table2[[#This Row],[Nom]])*(Table1[Prénom]=Table2[[#This Row],[Prénom]]),Table1[Date d''intégration],"Pas d'entrée",0,1),"")} -> 32888 | E26: {=IF(AND(Table2[[#This Row],[Nom]]<>"",Table2[[#This Row],[Prénom]]<>""),_xlfn.XLOOKUP(1,(Table1[Nom]=Table2[[#This Row],[Nom]])*(Table1[Prénom]=Table2[[#This Row],[Prénom]]),Table1[Date de naissance],"Pas d'entrée",0,1),"")} -> 24174 | F26: =IF(Table2[[#This Row],[Date de naissance]]="","",DATEDIF(Table2[[#This Row],[Date de naissance]],Paramètres!$B$3,"Y")) -> 59 | G26: =IF(Table2[[#This Row],[Date d''intégration]]="","",DATEDIF(Table2[[#This Row],[Date d''intégration]],Paramètres!$B$3,"Y")) -> 35 | H26: Âge indicatif mi-carrière (ans) | I26: 40610 | J26: Oui | K26: Oui
A27: Nom_3 | B27: Jean | C27: {=IF(AND(Table2[[#This Row],[Nom]]<>"",Table2[[#This Row],[Prénom]]<>""),_xlfn.XLOOKUP(1,(Table1[Nom]=Table2[[#This Row],[Nom]])*(Table1[Prénom]=Table2[[#This Row],[Prénom]]),Table1[Fonction - poste],"Pas d'entrée",0,1),"")} -> Acheteur | D27: {=IF(AND(Table2[[#This Row],[Nom]]<>"",Table2[[#This Row],[Prénom]]<>""),_xlfn.XLOOKUP(1,(Table1[Nom]=Table2[[#This Row],[Nom]])*(Table1[Prénom]=Table2[[#This Row],[Prénom]]),Table1[Date d''intégration],"Pas d'entrée",0,1),"")} -> 32004 | E27: {=IF(AND(Table2[[#This Row],[Nom]]<>"",Table2[[#This Row],[Prénom]]<>""),_xlfn.XLOOKUP(1,(Table1[Nom]=Table2[[#This Row],[Nom]])*(Table1[Prénom]=Table2[[#This Row],[Prénom]]),Table1[Date de naissance],"Pas d'entrée",0,1),"")} -> 24534 | F27: =IF(Table2[[#This Row],[Date de naissance]]="","",DATEDIF(Table2[[#This Row],[Date de naissance]],Paramètres!$B$3,"Y")) -> 58 | G27: =IF(Table2[[#This Row],[Date d''intégration]]="","",DATEDIF(Table2[[#This Row],[Date d''intégration]],Paramètres!$B$3,"Y")) -> 38 | H27: Périodicité bilan récapitulatif (mois) | I27: 40770
A28: Nom_3 | B28: Jean | C28: {=IF(AND(Table2[[#This Row],[Nom]]<>"",Table2[[#This Row],[Prénom]]<>""),_xlfn.XLOOKUP(1,(Table1[Nom]=Table2[[#This Row],[Nom]])*(Table1[Prénom]=Table2[[#This Row],[Prénom]]),Table1[Fonction - poste],"Pas d'entrée",0,1),"")} -> Acheteur | D28: {=IF(AND(Table2[[#This Row],[Nom]]<>"",Table2[[#This Row],[Prénom]]<>""),_xlfn.XLOOKUP(1,(Table1[Nom]=Table2[[#This Row],[Nom]])*(Table1[Prénom]=Table2[[#This Row],[Prénom]]),Table1[Date d''intégration],"Pas d'entrée",0,1),"")} -> 32004 | E28: {=IF(AND(Table2[[#This Row],[Nom]]<>"",Table2[[#This Row],[Prénom]]<>""),_xlfn.XLOOKUP(1,(Table1[Nom]=Table2[[#This Row],[Nom]])*(Table1[Prénom]=Table2[[#This Row],[Prénom]]),Table1[Date de naissance],"Pas d'entrée",0,1),"")} -> 24534 | F28: =IF(Table2[[#This Row],[Date de naissance]]="","",DATEDIF(Table2[[#This Row],[Date de naissance]],Paramètres!$B$3,"Y")) -> 58 | G28: =IF(Table2[[#This Row],[Date d''intégration]]="","",DATEDIF(Table2[[#This Row],[Date d''intégration]],Paramètres!$B$3,"Y")) -> 38 | H28: Périodicité entretien (mois) | I28: 40770
A29: Nom_1 | B29: Pierre | C29: {=IF(AND(Table2[[#This Row],[Nom]]<>"",Table2[[#This Row],[Prénom]]<>""),_xlfn.XLOOKUP(1,(Table1[Nom]=Table2[[#This Row],[Nom]])*(Table1[Prénom]=Table2[[#This Row],[Prénom]]),Table1[Fonction - poste],"Pas d'entrée",0,1),"")} -> Informaticien | D29: {=IF(AND(Table2[[#This Row],[Nom]]<>"",Table2[[#This Row],[Prénom]]<>""),_xlfn.XLOOKUP(1,(Table1[Nom]=Table2[[#This Row],[Nom]])*(Table1[Prénom]=Table2[[#This Row],[Prénom]]),Table1[Date d''intégration],"Pas d'entrée",0,1),"")} -> 37895 | E29: {=IF(AND(Table2[[#This Row],[Nom]]<>"",Table2[[#This Row],[Prénom]]<>""),_xlfn.XLOOKUP(1,(Table1[Nom]=Table2[[#This Row],[Nom]])*(Table1[Prénom]=Table2[[#This Row],[Prénom]]),Table1[Date de naissance],"Pas d'entrée",0,1),"")} -> 28979 | F29: =IF(Table2[[#This Row],[Date de naissance]]="","",DATEDIF(Table2[[#This Row],[Date de naissance]],Paramètres!$B$3,"Y")) -> 46 | G29: =IF(Table2[[#This Row],[Date d''intégration]]="","",DATEDIF(Table2[[#This Row],[Date d''intégration]],Paramètres!$B$3,"Y")) -> 22 | H29: Périodicité bilan récapitulatif (mois) | I29: 40819 | J29: Oui | K29: Oui
A30: Nom_1 | B30: Pierre | C30: {=IF(AND(Table2[[#This Row],[Nom]]<>"",Table2[[#This Row],[Prénom]]<>""),_xlfn.XLOOKUP(1,(Table1[Nom]=Table2[[#This Row],[Nom]])*(Table1[Prénom]=Table2[[#This Row],[Prénom]]),Table1[Fonction - poste],"Pas d'entrée",0,1),"")} -> Informaticien | D30: {=IF(AND(Table2[[#This Row],[Nom]]<>"",Table2[[#This Row],[Prénom]]<>""),_xlfn.XLOOKUP(1,(Table1[Nom]=Table2[[#This Row],[Nom]])*(Table1[Prénom]=Table2[[#This Row],[Prénom]]),Table1[Date d''intégration],"Pas d'entrée",0,1),"")} -> 37895 | E30: {=IF(AND(Table2[[#This Row],[Nom]]<>"",Table2[[#This Row],[Prénom]]<>""),_xlfn.XLOOKUP(1,(Table1[Nom]=Table2[[#This Row],[Nom]])*(Table1[Prénom]=Table2[[#This Row],[Prénom]]),Table1[Date de naissance],"Pas d'entrée",0,1),"")} -> 28979 | F30: =IF(Table2[[#This Row],[Date de naissance]]="","",DATEDIF(Table2[[#This Row],[Date de naissance]],Paramètres!$B$3,"Y")) -> 46 | G30: =IF(Table2[[#This Row],[Date d''intégration]]="","",DATEDIF(Table2[[#This Row],[Date d''intégration]],Paramètres!$B$3,"Y")) -> 22 | H30: Périodicité entretien (mois) | I30: 40819
A31: Nom_3 | B31: Jean | C31: {=IF(AND(Table2[[#This Row],[Nom]]<>"",Table2[[#This Row],[Prénom]]<>""),_xlfn.XLOOKUP(1,(Table1[Nom]=Table2[[#This Row],[Nom]])*(Table1[Prénom]=Table2[[#This Row],[Prénom]]),Table1[Fonction - poste],"Pas d'entrée",0,1),"")} -> Acheteur | D31: {=IF(AND(Table2[[#This Row],[Nom]]<>"",Table2[[#This Row],[Prénom]]<>""),_xlfn.XLOOKUP(1,(Table1[Nom]=Table2[[#This Row],[Nom]])*(Table1[Prénom]=Table2[[#This Row],[Prénom]]),Table1[Date d''intégration],"Pas d'entrée",0,1),"")} -> 32004 | E31: {=IF(AND(Table2[[#This Row],[Nom]]<>"",Table2[[#This Row],[Prénom]]<>""),_xlfn.XLOOKUP(1,(Table1[Nom]=Table2[[#This Row],[Nom]])*(Table1[Prénom]=Table2[[#This Row],[Prénom]]),Table1[Date de naissance],"Pas d'entrée",0,1),"")} -> 24534 | F31: =IF(Table2[[#This Row],[Date de naissance]]="","",DATEDIF(Table2[[#This Row],[Date de naissance]],Paramètres!$B$3,"Y")) -> 58 | G31: =IF(Table2[[#This Row],[Date d''intégration]]="","",DATEDIF(Table2[[#This Row],[Date d''intégration]],Paramètres!$B$3,"Y")) -> 38 | H31: Âge indicatif mi-carrière (ans) | I31: 40973 | J31: Oui | K31: Oui
A32: Nom_1 | B32: Paul | C32: {=IF(AND(Table2[[#This Row],[Nom]]<>"",Table2[[#This Row],[Prénom]]<>""),_xlfn.XLOOKUP(1,(Table1[Nom]=Table2[[#This Row],[Nom]])*(Table1[Prénom]=Table2[[#This Row],[Prénom]]),Table1[Fonction - poste],"Pas d'entrée",0,1),"")} -> Représentant | D32: {=IF(AND(Table2[[#This Row],[Nom]]<>"",Table2[[#This Row],[Prénom]]<>""),_xlfn.XLOOKUP(1,(Table1[Nom]=Table2[[#This Row],[Nom]])*(Table1[Prénom]=Table2[[#This Row],[Prénom]]),Table1[Date d''intégration],"Pas d'entrée",0,1),"")} -> 36592 | E32: {=IF(AND(Table2[[#This Row],[Nom]]<>"",Table2[[#This Row],[Prénom]]<>""),_xlfn.XLOOKUP(1,(Table1[Nom]=Table2[[#This Row],[Nom]])*(Table1[Prénom]=Table2[[#This Row],[Prénom]]),Table1[Date de naissance],"Pas d'entrée",0,1),"")} -> 24904 | F32: =IF(Table2[[#This Row],[Date de naissance]]="","",DATEDIF(Table2[[#This Row],[Date de naissance]],Paramètres!$B$3,"Y")) -> 57 | G32: =IF(Table2[[#This Row],[Date d''intégration]]="","",DATEDIF(Table2[[#This Row],[Date d''intégration]],Paramètres!$B$3,"Y")) -> 25 | H32: Périodicité entretien (mois) | I32: 40975
A33: Nom_1 | B33: Paul | C33: {=IF(AND(Table2[[#This Row],[Nom]]<>"",Table2[[#This Row],[Prénom]]<>""),_xlfn.XLOOKUP(1,(Table1[Nom]=Table2[[#This Row],[Nom]])*(Table1[Prénom]=Table2[[#This Row],[Prénom]]),Table1[Fonction - poste],"Pas d'entrée",0,1),"")} -> Représentant | D33: {=IF(AND(Table2[[#This Row],[Nom]]<>"",Table2[[#This Row],[Prénom]]<>""),_xlfn.XLOOKUP(1,(Table1[Nom]=Table2[[#This Row],[Nom]])*(Table1[Prénom]=Table2[[#This Row],[Prénom]]),Table1[Date d''intégration],"Pas d'entrée",0,1),"")} -> 36592 | E33: {=IF(AND(Table2[[#This Row],[Nom]]<>"",Table2[[#This Row],[Prénom]]<>""),_xlfn.XLOOKUP(1,(Table1[Nom]=Table2[[#This Row],[Nom]])*(Table1[Prénom]=Table2[[#This Row],[Prénom]]),Table1[Date de naissance],"Pas d'entrée",0,1),"")} -> 24904 | F33: =IF(Table2[[#This Row],[Date de naissance]]="","",DATEDIF(Table2[[#This Row],[Date de naissance]],Paramètres!$B$3,"Y")) -> 57 | G33: =IF(Table2[[#This Row],[Date d''intégration]]="","",DATEDIF(Table2[[#This Row],[Date d''intégration]],Paramètres!$B$3,"Y")) -> 25 | H33: Âge indicatif mi-carrière (ans) | I33: 41340 | J33: Oui | K33: Oui
A34: Nom_3 | B34: Thérèse | C34: {=IF(AND(Table2[[#This Row],[Nom]]<>"",Table2[[#This Row],[Prénom]]<>""),_xlfn.XLOOKUP(1,(Table1[Nom]=Table2[[#This Row],[Nom]])*(Table1[Prénom]=Table2[[#This Row],[Prénom]]),Table1[Fonction - poste],"Pas d'entrée",0,1),"")} -> Financier - comptable | D34: {=IF(AND(Table2[[#This Row],[Nom]]<>"",Table2[[#This Row],[Prénom]]<>""),_xlfn.XLOOKUP(1,(Table1[Nom]=Table2[[#This Row],[Nom]])*(Table1[Prénom]=Table2[[#This Row],[Prénom]]),Table1[Date d''intégration],"Pas d'entrée",0,1),"")} -> 32888 | E34: {=IF(AND(Table2[[#This Row],[Nom]]<>"",Table2[[#This Row],[Prénom]]<>""),_xlfn.XLOOKUP(1,(Table1[Nom]=Table2[[#This Row],[Nom]])*(Table1[Prénom]=Table2[[#This Row],[Prénom]]),Table1[Date de naissance],"Pas d'entrée",0,1),"")} -> 24174 | F34: =IF(Table2[[#This Row],[Date de naissance]]="","",DATEDIF(Table2[[#This Row],[Date de naissance]],Paramètres!$B$3,"Y")) -> 59 | G34: =IF(Table2[[#This Row],[Date d''intégration]]="","",DATEDIF(Table2[[#This Row],[Date d''intégration]],Paramètres!$B$3,"Y")) -> 35 | H34: Périodicité bilan récapitulatif (mois) | I34: 41654
A35: Nom_3 | B35: Thérèse | C35: {=IF(AND(Table2[[#This Row],[Nom]]<>"",Table2[[#This Row],[Prénom]]<>""),_xlfn.XLOOKUP(1,(Table1[Nom]=Table2[[#This Row],[Nom]])*(Table1[Prénom]=Table2[[#This Row],[Prénom]]),Table1[Fonction - poste],"Pas d'entrée",0,1),"")} -> Financier - comptable | D35: {=IF(AND(Table2[[#This Row],[Nom]]<>"",Table2[[#This Row],[Prénom]]<>""),_xlfn.XLOOKUP(1,(Table1[Nom]=Table2[[#This Row],[Nom]])*(Table1[Prénom]=Table2[[#This Row],[Prénom]]),Table1[Date d''intégration],"Pas d'entrée",0,1),"")} -> 32888 | E35: {=IF(AND(Table2[[#This Row],[Nom]]<>"",Table2[[#This Row],[Prénom]]<>""),_xlfn.XLOOKUP(1,(Table1[Nom]=Table2[[#This Row],[Nom]])*(Table1[Prénom]=Table2[[#This Row],[Prénom]]),Table1[Date de naissance],"Pas d'entrée",0,1),"")} -> 24174 | F35: =IF(Table2[[#This Row],[Date de naissance]]="","",DATEDIF(Table2[[#This Row],[Date de naissance]],Paramètres!$B$3,"Y")) -> 59 | G35: =IF(Table2[[#This Row],[Date d''intégration]]="","",DATEDIF(Table2[[#This Row],[Date d''intégration]],Paramètres!$B$3,"Y")) -> 35 | H35: Périodicité entretien (mois) | I35: 41654
A36: Nom_3 | B36: Jean | C36: {=IF(AND(Table2[[#This Row],[Nom]]<>"",Table2[[#This Row],[Prénom]]<>""),_xlfn.XLOOKUP(1,(Table1[Nom]=Table2[[#This Row],[Nom]])*(Table1[Prénom]=Table2[[#This Row],[Prénom]]),Table1[Fonction - poste],"Pas d'entrée",0,1),"")} -> Acheteur | D36: {=IF(AND(Table2[[#This Row],[Nom]]<>"",Table2[[#This Row],[Prénom]]<>""),_xlfn.XLOOKUP(1,(Table1[Nom]=Table2[[#This Row],[Nom]])*(Table1[Prénom]=Table2[[#This Row],[Prénom]]),Table1[Date d''intégration],"Pas d'entrée",0,1),"")} -> 32004 | E36: {=IF(AND(Table2[[#This Row],[Nom]]<>"",Table2[[#This Row],[Prénom]]<>""),_xlfn.XLOOKUP(1,(Table1[Nom]=Table2[[#This Row],[Nom]])*(Table1[Prénom]=Table2[[#This Row],[Prénom]]),Table1[Date de naissance],"Pas d'entrée",0,1),"")} -> 24534 | F36: =IF(Table2[[#This Row],[Date de naissance]]="","",DATEDIF(Table2[[#This Row],[Date de naissance]],Paramètres!$B$3,"Y")) -> 58 | G36: =IF(Table2[[#This Row],[Date d''intégration]]="","",DATEDIF(Table2[[#This Row],[Date d''intégration]],Paramètres!$B$3,"Y")) -> 38 | H36: Périodicité entretien (mois) | I36: 42233
A37: Nom_1 | B37: Pierre | C37: {=IF(AND(Table2[[#This Row],[Nom]]<>"",Table2[[#This Row],[Prénom]]<>""),_xlfn.XLOOKUP(1,(Table1[Nom]=Table2[[#This Row],[Nom]])*(Table1[Prénom]=Table2[[#This Row],[Prénom]]),Table1[Fonction - poste],"Pas d'entrée",0,1),"")} -> Informaticien | D37: {=IF(AND(Table2[[#This Row],[Nom]]<>"",Table2[[#This Row],[Prénom]]<>""),_xlfn.XLOOKUP(1,(Table1[Nom]=Table2[[#This Row],[Nom]])*(Table1[Prénom]=Table2[[#This Row],[Prénom]]),Table1[Date d''intégration],"Pas d'entrée",0,1),"")} -> 37895 | E37: {=IF(AND(Table2[[#This Row],[Nom]]<>"",Table2[[#This Row],[Prénom]]<>""),_xlfn.XLOOKUP(1,(Table1[Nom]=Table2[[#This Row],[Nom]])*(Table1[Prénom]=Table2[[#This Row],[Prénom]]),Table1[Date de naissance],"Pas d'entrée",0,1),"")} -> 28979 | F37: =IF(Table2[[#This Row],[Date de naissance]]="","",DATEDIF(Table2[[#This Row],[Date de naissance]],Paramètres!$B$3,"Y")) -> 46 | G37: =IF(Table2[[#This Row],[Date d''intégration]]="","",DATEDIF(Table2[[#This Row],[Date d''intégration]],Paramètres!$B$3,"Y")) -> 22 | H37: Périodicité entretien (mois) | I37: 42278
A38: Nom_4 | B38: Nicole | C38: {=IF(AND(Table2[[#This Row],[Nom]]<>"",Table2[[#This Row],[Prénom]]<>""),_xlfn.XLOOKUP(1,(Table1[Nom]=Table2[[#This Row],[Nom]])*(Table1[Prénom]=Table2[[#This Row],[Prénom]]),Table1[Fonction - poste],"Pas d'entrée",0,1),"")} -> Agent - assurance qualité | D38: {=IF(AND(Table2[[#This Row],[Nom]]<>"",Table2[[#This Row],[Prénom]]<>""),_xlfn.XLOOKUP(1,(Table1[Nom]=Table2[[#This Row],[Nom]])*(Table1[Prénom]=Table2[[#This Row],[Prénom]]),Table1[Date d''intégration],"Pas d'entrée",0,1),"")} -> 42069 | E38: {=IF(AND(Table2[[#This Row],[Nom]]<>"",Table2[[#This Row],[Prénom]]<>""),_xlfn.XLOOKUP(1,(Table1[Nom]=Table2[[#This Row],[Nom]])*(Table1[Prénom]=Table2[[#This Row],[Prénom]]),Table1[Date de naissance],"Pas d'entrée",0,1),"")} -> 32974 | F38: =IF(Table2[[#This Row],[Date de naissance]]="","",DATEDIF(Table2[[#This Row],[Date de naissance]],Paramètres!$B$3,"Y")) -> 35 | G38: =IF(Table2[[#This Row],[Date d''intégration]]="","",DATEDIF(Table2[[#This Row],[Date d''intégration]],Paramètres!$B$3,"Y")) -> 10 | H38: Délai 1er entretien (mois) | I38: 42436 | J38: Oui | K38: Oui
A39: Nom_1 | B39: Paul | C39: {=IF(AND(Table2[[#This Row],[Nom]]<>"",Table2[[#This Row],[Prénom]]<>""),_xlfn.XLOOKUP(1,(Table1[Nom]=Table2[[#This Row],[Nom]])*(Table1[Prénom]=Table2[[#This Row],[Prénom]]),Table1[Fonction - poste],"Pas d'entrée",0,1),"")} -> Représentant | D39: {=IF(AND(Table2[[#This Row],[Nom]]<>"",Table2[[#This Row],[Prénom]]<>""),_xlfn.XLOOKUP(1,(Table1[Nom]=Table2[[#This Row],[Nom]])*(Table1[Prénom]=Table2[[#This Row],[Prénom]]),Table1[Date d''intégration],"Pas d'entrée",0,1),"")} -> 36592 | E39: {=IF(AND(Table2[[#This Row],[Nom]]<>"",Table2[[#This Row],[Prénom]]<>""),_xlfn.XLOOKUP(1,(Table1[Nom]=Table2[[#This Row],[Nom]])*(Table1[Prénom]=Table2[[#This Row],[Prénom]]),Table1[Date de naissance],"Pas d'entrée",0,1),"")} -> 24904 | F39: =IF(Table2[[#This Row],[Date de naissance]]="","",DATEDIF(Table2[[#This Row],[Date de naissance]],Paramètres!$B$3,"Y")) -> 57 | G39: =IF(Table2[[#This Row],[Date d''intégration]]="","",DATEDIF(Table2[[#This Row],[Date d''intégration]],Paramètres!$B$3,"Y")) -> 25 | H39: Périodicité bilan récapitulatif (mois) | I39: 42436
A40: Nom_1 | B40: Paul | C40: {=IF(AND(Table2[[#This Row],[Nom]]<>"",Table2[[#This Row],[Prénom]]<>""),_xlfn.XLOOKUP(1,(Table1[Nom]=Table2[[#This Row],[Nom]])*(Table1[Prénom]=Table2[[#This Row],[Prénom]]),Table1[Fonction - poste],"Pas d'entrée",0,1),"")} -> Représentant | D40: {=IF(AND(Table2[[#This Row],[Nom]]<>"",Table2[[#This Row],[Prénom]]<>""),_xlfn.XLOOKUP(1,(Table1[Nom]=Table2[[#This Row],[Nom]])*(Table1[Prénom]=Table2[[#This Row],[Prénom]]),Table1[Date d''intégration],"Pas d'entrée",0,1),"")} -> 36592 | E40: {=IF(AND(Table2[[#This Row],[Nom]]<>"",Table2[[#This Row],[Prénom]]<>""),_xlfn.XLOOKUP(1,(Table1[Nom]=Table2[[#This Row],[Nom]])*(Table1[Prénom]=Table2[[#This Row],[Prénom]]),Table1[Date de naissance],"Pas d'entrée",0,1),"")} -> 24904 | F40: =IF(Table2[[#This Row],[Date de naissance]]="","",DATEDIF(Table2[[#This Row],[Date de naissance]],Paramètres!$B$3,"Y")) -> 57 | G40: =IF(Table2[[#This Row],[Date d''intégration]]="","",DATEDIF(Table2[[#This Row],[Date d''intégration]],Paramètres!$B$3,"Y")) -> 25 | H40: Périodicité entretien (mois) | I40: 42436
A41: Nom_3 | B41: Thérèse | C41: {=IF(AND(Table2[[#This Row],[Nom]]<>"",Table2[[#This Row],[Prénom]]<>""),_xlfn.XLOOKUP(1,(Table1[Nom]=Table2[[#This Row],[Nom]])*(Table1[Prénom]=Table2[[#This Row],[Prénom]]),Table1[Fonction - poste],"Pas d'entrée",0,1),"")} -> Financier - comptable | D41: {=IF(AND(Table2[[#This Row],[Nom]]<>"",Table2[[#This Row],[Prénom]]<>""),_xlfn.XLOOKUP(1,(Table1[Nom]=Table2[[#This Row],[Nom]])*(Table1[Prénom]=Table2[[#This Row],[Prénom]]),Table1[Date d''intégration],"Pas d'entrée",0,1),"")} -> 32888 | E41: {=IF(AND(Table2[[#This Row],[Nom]]<>"",Table2[[#This Row],[Prénom]]<>""),_xlfn.XLOOKUP(1,(Table1[Nom]=Table2[[#This Row],[Nom]])*(Table1[Prénom]=Table2[[#This Row],[Prénom]]),Table1[Date de naissance],"Pas d'entrée",0,1),"")} -> 24174 | F41: =IF(Table2[[#This Row],[Date de naissance]]="","",DATEDIF(Table2[[#This Row],[Date de naissance]],Paramètres!$B$3,"Y")) -> 59 | G41: =IF(Table2[[#This Row],[Date d''intégration]]="","",DATEDIF(Table2[[#This Row],[Date d''intégration]],Paramètres!$B$3,"Y")) -> 35 | H41: Périodicité entretien (mois) | I41: 43115
A42: Nom_4 | B42: Nicole | C42: {=IF(AND(Table2[[#This Row],[Nom]]<>"",Table2[[#This Row],[Prénom]]<>""),_xlfn.XLOOKUP(1,(Table1[Nom]=Table2[[#This Row],[Nom]])*(Table1[Prénom]=Table2[[#This Row],[Prénom]]),Table1[Fonction - poste],"Pas d'entrée",0,1),"")} -> Agent - assurance qualité | D42: {=IF(AND(Table2[[#This Row],[Nom]]<>"",Table2[[#This Row],[Prénom]]<>""),_xlfn.XLOOKUP(1,(Table1[Nom]=Table2[[#This Row],[Nom]])*(Table1[Prénom]=Table2[[#This Row],[Prénom]]),Table1[Date d''intégration],"Pas d'entrée",0,1),"")} -> 42069 | E42: {=IF(AND(Table2[[#This Row],[Nom]]<>"",Table2[[#This Row],[Prénom]]<>""),_xlfn.XLOOKUP(1,(Table1[Nom]=Table2[[#This Row],[Nom]])*(Table1[Prénom]=Table2[[#This Row],[Prénom]]),Table1[Date de naissance],"Pas d'entrée",0,1),"")} -> 32974 | F42: =IF(Table2[[#This Row],[Date de naissance]]="","",DATEDIF(Table2[[#This Row],[Date de naissance]],Paramètres!$B$3,"Y")) -> 35 | G42: =IF(Table2[[#This Row],[Date d''intégration]]="","",DATEDIF(Table2[[#This Row],[Date d''intégration]],Paramètres!$B$3,"Y")) -> 10 | H42: Périodicité entretien (mois) | I42: 43530 | J42: Oui | K42: Oui
A43: Nom_3 | B43: Jean | C43: {=IF(AND(Table2[[#This Row],[Nom]]<>"",Table2[[#This Row],[Prénom]]<>""),_xlfn.XLOOKUP(1,(Table1[Nom]=Table2[[#This Row],[Nom]])*(Table1[Prénom]=Table2[[#This Row],[Prénom]]),Table1[Fonction - poste],"Pas d'entrée",0,1),"")} -> Acheteur | D43: {=IF(AND(Table2[[#This Row],[Nom]]<>"",Table2[[#This Row],[Prénom]]<>""),_xlfn.XLOOKUP(1,(Table1[Nom]=Table2[[#This Row],[Nom]])*(Table1[Prénom]=Table2[[#This Row],[Prénom]]),Table1[Date d''intégration],"Pas d'entrée",0,1),"")} -> 32004 | E43: {=IF(AND(Table2[[#This Row],[Nom]]<>"",Table2[[#This Row],[Prénom]]<>""),_xlfn.XLOOKUP(1,(Table1[Nom]=Table2[[#This Row],[Nom]])*(Table1[Prénom]=Table2[[#This Row],[Prénom]]),Table1[Date de naissance],"Pas d'entrée",0,1),"")} -> 24534 | F43: =IF(Table2[[#This Row],[Date de naissance]]="","",DATEDIF(Table2[[#This Row],[Date de naissance]],Paramètres!$B$3,"Y")) -> 58 | G43: =IF(Table2[[#This Row],[Date d''intégration]]="","",DATEDIF(Table2[[#This Row],[Date d''intégration]],Paramètres!$B$3,"Y")) -> 38 | H43: Périodicité bilan récapitulatif (mois) | I43: 43692
A44: Nom_3 | B44: Jean | C44: {=IF(AND(Table2[[#This Row],[Nom]]<>"",Table2[[#This Row],[Prénom]]<>""),_xlfn.XLOOKUP(1,(Table1[Nom]=Table2[[#This Row],[Nom]])*(Table1[Prénom]=Table2[[#This Row],[Prénom]]),Table1[Fonction - poste],"Pas d'entrée",0,1),"")} -> Acheteur | D44: {=IF(AND(Table2[[#This Row],[Nom]]<>"",Table2[[#This Row],[Prénom]]<>""),_xlfn.XLOOKUP(1,(Table1[Nom]=Table2[[#This Row],[Nom]])*(Table1[Prénom]=Table2[[#This Row],[Prénom]]),Table1[Date d''intégration],"Pas d'entrée",0,1),"")} -> 32004 | E44: {=IF(AND(Table2[[#This Row],[Nom]]<>"",Table2[[#This Row],[Prénom]]<>""),_xlfn.XLOOKUP(1,(Table1[Nom]=Table2[[#This Row],[Nom]])*(Table1[Prénom]=Table2[[#This Row],[Prénom]]),Table1[Date de naissance],"Pas d'entrée",0,1),"")} -> 24534 | F44: =IF(Table2[[#This Row],[Date de naissance]]="","",DATEDIF(Table2[[#This Row],[Date de naissance]],Paramètres!$B$3,"Y")) -> 58 | G44: =IF(Table2[[#This Row],[Date d''intégration]]="","",DATEDIF(Table2[[#This Row],[Date d''intégration]],Paramètres!$B$3,"Y")) -> 38 | H44: Périodicité entretien (mois) | I44: 43692
A45: Nom_1 | B45: Pierre | C45: {=IF(AND(Table2[[#This Row],[Nom]]<>"",Table2[[#This Row],[Prénom]]<>""),_xlfn.XLOOKUP(1,(Table1[Nom]=Table2[[#This Row],[Nom]])*(Table1[Prénom]=Table2[[#This Row],[Prénom]]),Table1[Fonction - poste],"Pas d'entrée",0,1),"")} -> Informaticien | D45: {=IF(AND(Table2[[#This Row],[Nom]]<>"",Table2[[#This Row],[Prénom]]<>""),_xlfn.XLOOKUP(1,(Table1[Nom]=Table2[[#This Row],[Nom]])*(Table1[Prénom]=Table2[[#This Row],[Prénom]]),Table1[Date d''intégration],"Pas d'entrée",0,1),"")} -> 37895 | E45: {=IF(AND(Table2[[#This Row],[Nom]]<>"",Table2[[#This Row],[Prénom]]<>""),_xlfn.XLOOKUP(1,(Table1[Nom]=Table2[[#This Row],[Nom]])*(Table1[Prénom]=Table2[[#This Row],[Prénom]]),Table1[Date de naissance],"Pas d'entrée",0,1),"")} -> 28979 | F45: =IF(Table2[[#This Row],[Date de naissance]]="","",DATEDIF(Table2[[#This Row],[Date de naissance]],Paramètres!$B$3,"Y")) -> 46 | G45: =IF(Table2[[#This Row],[Date d''intégration]]="","",DATEDIF(Table2[[#This Row],[Date d''intégration]],Paramètres!$B$3,"Y")) -> 22 | H45: Périodicité bilan récapitulatif (mois) | I45: 43739
A46: Nom_1 | B46: Pierre | C46: {=IF(AND(Table2[[#This Row],[Nom]]<>"",Table2[[#This Row],[Prénom]]<>""),_xlfn.XLOOKUP(1,(Table1[Nom]=Table2[[#This Row],[Nom]])*(Table1[Prénom]=Table2[[#This Row],[Prénom]]),Table1[Fonction - poste],"Pas d'entrée",0,1),"")} -> Informaticien | D46: {=IF(AND(Table2[[#This Row],[Nom]]<>"",Table2[[#This Row],[Prénom]]<>""),_xlfn.XLOOKUP(1,(Table1[Nom]=Table2[[#This Row],[Nom]])*(Table1[Prénom]=Table2[[#This Row],[Prénom]]),Table1[Date d''intégration],"Pas d'entrée",0,1),"")} -> 37895 | E46: {=IF(AND(Table2[[#This Row],[Nom]]<>"",Table2[[#This Row],[Prénom]]<>""),_xlfn.XLOOKUP(1,(Table1[Nom]=Table2[[#This Row],[Nom]])*(Table1[Prénom]=Table2[[#This Row],[Prénom]]),Table1[Date de naissance],"Pas d'entrée",0,1),"")} -> 28979 | F46: =IF(Table2[[#This Row],[Date de naissance]]="","",DATEDIF(Table2[[#This Row],[Date de naissance]],Paramètres!$B$3,"Y")) -> 46 | G46: =IF(Table2[[#This Row],[Date d''intégration]]="","",DATEDIF(Table2[[#This Row],[Date d''intégration]],Paramètres!$B$3,"Y")) -> 22 | H46: Périodicité entretien (mois) | I46: 43739
A47: Nom_1 | B47: Paul | C47: {=IF(AND(Table2[[#This Row],[Nom]]<>"",Table2[[#This Row],[Prénom]]<>""),_xlfn.XLOOKUP(1,(Table1[Nom]=Table2[[#This Row],[Nom]])*(Table1[Prénom]=Table2[[#This Row],[Prénom]]),Table1[Fonction - poste],"Pas d'entrée",0,1),"")} -> Représentant | D47: {=IF(AND(Table2[[#This Row],[Nom]]<>"",Table2[[#This Row],[Prénom]]<>""),_xlfn.XLOOKUP(1,(Table1[Nom]=Table2[[#This Row],[Nom]])*(Table1[Prénom]=Table2[[#This Row],[Prénom]]),Table1[Date d''intégration],"Pas d'entrée",0,1),"")} -> 36592 | E47: {=IF(AND(Table2[[#This Row],[Nom]]<>"",Table2[[#This Row],[Prénom]]<>""),_xlfn.XLOOKUP(1,(Table1[Nom]=Table2[[#This Row],[Nom]])*(Table1[Prénom]=Table2[[#This Row],[Prénom]]),Table1[Date de naissance],"Pas d'entrée",0,1),"")} -> 24904 | F47: =IF(Table2[[#This Row],[Date de naissance]]="","",DATEDIF(Table2[[#This Row],[Date de naissance]],Paramètres!$B$3,"Y")) -> 57 | G47: =IF(Table2[[#This Row],[Date d''intégration]]="","",DATEDIF(Table2[[#This Row],[Date d''intégration]],Paramètres!$B$3,"Y")) -> 25 | H47: Périodicité entretien (mois) | I47: 43899
A48: Nom_2 | B48: Michèle | C48: {=IF(AND(Table2[[#This Row],[Nom]]<>"",Table2[[#This Row],[Prénom]]<>""),_xlfn.XLOOKUP(1,(Table1[Nom]=Table2[[#This Row],[Nom]])*(Table1[Prénom]=Table2[[#This Row],[Prénom]]),Table1[Fonction - poste],"Pas d'entrée",0,1),"")} -> Concepteur - bureau d'études | D48: {=IF(AND(Table2[[#This Row],[Nom]]<>"",Table2[[#This Row],[Prénom]]<>""),_xlfn.XLOOKUP(1,(Table1[Nom]=Table2[[#This Row],[Nom]])*(Table1[Prénom]=Table2[[#This Row],[Prénom]]),Table1[Date d''intégration],"Pas d'entrée",0,1),"")} -> 43895 | E48: {=IF(AND(Table2[[#This Row],[Nom]]<>"",Table2[[#This Row],[Prénom]]<>""),_xlfn.XLOOKUP(1,(Table1[Nom]=Table2[[#This Row],[Nom]])*(Table1[Prénom]=Table2[[#This Row],[Prénom]]),Table1[Date de naissance],"Pas d'entrée",0,1),"")} -> 34172 | F48: =IF(Table2[[#This Row],[Date de naissance]]="","",DATEDIF(Table2[[#This Row],[Date de naissance]],Paramètres!$B$3,"Y")) -> 32 | G48: =IF(Table2[[#This Row],[Date d''intégration]]="","",DATEDIF(Table2[[#This Row],[Date d''intégration]],Paramètres!$B$3,"Y")) -> 5 | H48: Délai 1er entretien (mois) | I48: 44259 | J48: Oui | K48: Oui
A49: Nom_3 | B49: Thérèse | C49: {=IF(AND(Table2[[#This Row],[Nom]]<>"",Table2[[#This Row],[Prénom]]<>""),_xlfn.XLOOKUP(1,(Table1[Nom]=Table2[[#This Row],[Nom]])*(Table1[Prénom]=Table2[[#This Row],[Prénom]]),Table1[Fonction - poste],"Pas d'entrée",0,1),"")} -> Financier - comptable | D49: {=IF(AND(Table2[[#This Row],[Nom]]<>"",Table2[[#This Row],[Prénom]]<>""),_xlfn.XLOOKUP(1,(Table1[Nom]=Table2[[#This Row],[Nom]])*(Table1[Prénom]=Table2[[#This Row],[Prénom]]),Table1[Date d''intégration],"Pas d'entrée",0,1),"")} -> 32888 | E49: {=IF(AND(Table2[[#This Row],[Nom]]<>"",Table2[[#This Row],[Prénom]]<>""),_xlfn.XLOOKUP(1,(Table1[Nom]=Table2[[#This Row],[Nom]])*(Table1[Prénom]=Table2[[#This Row],[Prénom]]),Table1[Date de naissance],"Pas d'entrée",0,1),"")} -> 24174 | F49: =IF(Table2[[#This Row],[Date de naissance]]="","",DATEDIF(Table2[[#This Row],[Date de naissance]],Paramètres!$B$3,"Y")) -> 59 | G49: =IF(Table2[[#This Row],[Date d''intégration]]="","",DATEDIF(Table2[[#This Row],[Date d''intégration]],Paramètres!$B$3,"Y")) -> 35 | H49: Périodicité bilan récapitulatif (mois) | I49: 44578
A50: Nom_3 | B50: Thérèse | C50: {=IF(AND(Table2[[#This Row],[Nom]]<>"",Table2[[#This Row],[Prénom]]<>""),_xlfn.XLOOKUP(1,(Table1[Nom]=Table2[[#This Row],[Nom]])*(Table1[Prénom]=Table2[[#This Row],[Prénom]]),Table1[Fonction - poste],"Pas d'entrée",0,1),"")} -> Financier - comptable | D50: {=IF(AND(Table2[[#This Row],[Nom]]<>"",Table2[[#This Row],[Prénom]]<>""),_xlfn.XLOOKUP(1,(Table1[Nom]=Table2[[#This Row],[Nom]])*(Table1[Prénom]=Table2[[#This Row],[Prénom]]),Table1[Date d''intégration],"Pas d'entrée",0,1),"")} -> 32888 | E50: {=IF(AND(Table2[[#This Row],[Nom]]<>"",Table2[[#This Row],[Prénom]]<>""),_xlfn.XLOOKUP(1,(Table1[Nom]=Table2[[#This Row],[Nom]])*(Table1[Prénom]=Table2[[#This Row],[Prénom]]),Table1[Date de naissance],"Pas d'entrée",0,1),"")} -> 24174 | F50: =IF(Table2[[#This Row],[Date de naissance]]="","",DATEDIF(Table2[[#This Row],[Date de naissance]],Paramètres!$B$3,"Y")) -> 59 | G50: =IF(Table2[[#This Row],[Date d''intégration]]="","",DATEDIF(Table2[[#This Row],[Date d''intégration]],Paramètres!$B$3,"Y")) -> 35 | H50: Périodicité entretien (mois) | I50: 44578
A51: Nom_4 | B51: Nicole | C51: {=IF(AND(Table2[[#This Row],[Nom]]<>"",Table2[[#This Row],[Prénom]]<>""),_xlfn.XLOOKUP(1,(Table1[Nom]=Table2[[#This Row],[Nom]])*(Table1[Prénom]=Table2[[#This Row],[Prénom]]),Table1[Fonction - poste],"Pas d'entrée",0,1),"")} -> Agent - assurance qualité | D51: {=IF(AND(Table2[[#This Row],[Nom]]<>"",Table2[[#This Row],[Prénom]]<>""),_xlfn.XLOOKUP(1,(Table1[Nom]=Table2[[#This Row],[Nom]])*(Table1[Prénom]=Table2[[#This Row],[Prénom]]),Table1[Date d''intégration],"Pas d'entrée",0,1),"")} -> 42069 | E51: {=IF(AND(Table2[[#This Row],[Nom]]<>"",Table2[[#This Row],[Prénom]]<>""),_xlfn.XLOOKUP(1,(Table1[Nom]=Table2[[#This Row],[Nom]])*(Table1[Prénom]=Table2[[#This Row],[Prénom]]),Table1[Date de naissance],"Pas d'entrée",0,1),"")} -> 32974 | F51: =IF(Table2[[#This Row],[Date de naissance]]="","",DATEDIF(Table2[[#This Row],[Date de naissance]],Paramètres!$B$3,"Y")) -> 35 | G51: =IF(Table2[[#This Row],[Date d''intégration]]="","",DATEDIF(Table2[[#This Row],[Date d''intégration]],Paramètres!$B$3,"Y")) -> 10 | H51: Périodicité bilan récapitulatif (mois) | I51: 44991 | J51: Oui | K51: Oui
A52: Nom_4 | B52: Nicole | C52: {=IF(AND(Table2[[#This Row],[Nom]]<>"",Table2[[#This Row],[Prénom]]<>""),_xlfn.XLOOKUP(1,(Table1[Nom]=Table2[[#This Row],[Nom]])*(Table1[Prénom]=Table2[[#This Row],[Prénom]]),Table1[Fonction - poste],"Pas d'entrée",0,1),"")} -> Agent - assurance qualité | D52: {=IF(AND(Table2[[#This Row],[Nom]]<>"",Table2[[#This Row],[Prénom]]<>""),_xlfn.XLOOKUP(1,(Table1[Nom]=Table2[[#This Row],[Nom]])*(Table1[Prénom]=Table2[[#This Row],[Prénom]]),Table1[Date d''intégration],"Pas d'entrée",0,1),"")} -> 42069 | E52: {=IF(AND(Table2[[#This Row],[Nom]]<>"",Table2[[#This Row],[Prénom]]<>""),_xlfn.XLOOKUP(1,(Table1[Nom]=Table2[[#This Row],[Nom]])*(Table1[Prénom]=Table2[[#This Row],[Prénom]]),Table1[Date de naissance],"Pas d'entrée",0,1),"")} -> 32974 | F52: =IF(Table2[[#This Row],[Date de naissance]]="","",DATEDIF(Table2[[#This Row],[Date de naissance]],Paramètres!$B$3,"Y")) -> 35 | G52: =IF(Table2[[#This Row],[Date d''intégration]]="","",DATEDIF(Table2[[#This Row],[Date d''intégration]],Paramètres!$B$3,"Y")) -> 10 | H52: Périodicité entretien (mois) | I52: 44991
A53: Nom_3 | B53: Jean | C53: {=IF(AND(Table2[[#This Row],[Nom]]<>"",Table2[[#This Row],[Prénom]]<>""),_xlfn.XLOOKUP(1,(Table1[Nom]=Table2[[#This Row],[Nom]])*(Table1[Prénom]=Table2[[#This Row],[Prénom]]),Table1[Fonction - poste],"Pas d'entrée",0,1),"")} -> Acheteur | D53: {=IF(AND(Table2[[#This Row],[Nom]]<>"",Table2[[#This Row],[Prénom]]<>""),_xlfn.XLOOKUP(1,(Table1[Nom]=Table2[[#This Row],[Nom]])*(Table1[Prénom]=Table2[[#This Row],[Prénom]]),Table1[Date d''intégration],"Pas d'entrée",0,1),"")} -> 32004 | E53: {=IF(AND(Table2[[#This Row],[Nom]]<>"",Table2[[#This Row],[Prénom]]<>""),_xlfn.XLOOKUP(1,(Table1[Nom]=Table2[[#This Row],[Nom]])*(Table1[Prénom]=Table2[[#This Row],[Prénom]]),Table1[Date de naissance],"Pas d'entrée",0,1),"")} -> 24534 | F53: =IF(Table2[[#This Row],[Date de naissance]]="","",DATEDIF(Table2[[#This Row],[Date de naissance]],Paramètres!$B$3,"Y")) -> 58 | G53: =IF(Table2[[#This Row],[Date d''intégration]]="","",DATEDIF(Table2[[#This Row],[Date d''intégration]],Paramètres!$B$3,"Y")) -> 38 | H53: Périodicité entretien (mois) | I53: 45153
A54: Nom_1 | B54: Pierre | C54: {=IF(AND(Table2[[#This Row],[Nom]]<>"",Table2[[#This Row],[Prénom]]<>""),_xlfn.XLOOKUP(1,(Table1[Nom]=Table2[[#This Row],[Nom]])*(Table1[Prénom]=Table2[[#This Row],[Prénom]]),Table1[Fonction - poste],"Pas d'entrée",0,1),"")} -> Informaticien | D54: {=IF(AND(Table2[[#This Row],[Nom]]<>"",Table2[[#This Row],[Prénom]]<>""),_xlfn.XLOOKUP(1,(Table1[Nom]=Table2[[#This Row],[Nom]])*(Table1[Prénom]=Table2[[#This Row],[Prénom]]),Table1[Date d''intégration],"Pas d'entrée",0,1),"")} -> 37895 | E54: {=IF(AND(Table2[[#This Row],[Nom]]<>"",Table2[[#This Row],[Prénom]]<>""),_xlfn.XLOOKUP(1,(Table1[Nom]=Table2[[#This Row],[Nom]])*(Table1[Prénom]=Table2[[#This Row],[Prénom]]),Table1[Date de naissance],"Pas d'entrée",0,1),"")} -> 28979 | F54: =IF(Table2[[#This Row],[Date de naissance]]="","",DATEDIF(Table2[[#This Row],[Date de naissance]],Paramètres!$B$3,"Y")) -> 46 | G54: =IF(Table2[[#This Row],[Date d''intégration]]="","",DATEDIF(Table2[[#This Row],[Date d''intégration]],Paramètres!$B$3,"Y")) -> 22 | H54: Périodicité entretien (mois) | I54: 45201
A55: Nom_2 | B55: Michèle | C55: {=IF(AND(Table2[[#This Row],[Nom]]<>"",Table2[[#This Row],[Prénom]]<>""),_xlfn.XLOOKUP(1,(Table1[Nom]=Table2[[#This Row],[Nom]])*(Table1[Prénom]=Table2[[#This Row],[Prénom]]),Table1[Fonction - poste],"Pas d'entrée",0,1),"")} -> Concepteur - bureau d'études | D55: {=IF(AND(Table2[[#This Row],[Nom]]<>"",Table2[[#This Row],[Prénom]]<>""),_xlfn.XLOOKUP(1,(Table1[Nom]=Table2[[#This Row],[Nom]])*(Table1[Prénom]=Table2[[#This Row],[Prénom]]),Table1[Date d''intégration],"Pas d'entrée",0,1),"")} -> 43895 | E55: {=IF(AND(Table2[[#This Row],[Nom]]<>"",Table2[[#This Row],[Prénom]]<>""),_xlfn.XLOOKUP(1,(Table1[Nom]=Table2[[#This Row],[Nom]])*(Table1[Prénom]=Table2[[#This Row],[Prénom]]),Table1[Date de naissance],"Pas d'entrée",0,1),"")} -> 34172 | F55: =IF(Table2[[#This Row],[Date de naissance]]="","",DATEDIF(Table2[[#This Row],[Date de naissance]],Paramètres!$B$3,"Y")) -> 32 | G55: =IF(Table2[[#This Row],[Date d''intégration]]="","",DATEDIF(Table2[[#This Row],[Date d''intégration]],Paramètres!$B$3,"Y")) -> 5 | H55: Délai 1er entretien (mois) | I55: 45356 | J55: Oui | K55: Oui
A56: Nom_2 | B56: Michèle | C56: {=IF(AND(Table2[[#This Row],[Nom]]<>"",Table2[[#This Row],[Prénom]]<>""),_xlfn.XLOOKUP(1,(Table1[Nom]=Table2[[#This Row],[Nom]])*(Table1[Prénom]=Table2[[#This Row],[Prénom]]),Table1[Fonction - poste],"Pas d'entrée",0,1),"")} -> Concepteur - bureau d'études | D56: {=IF(AND(Table2[[#This Row],[Nom]]<>"",Table2[[#This Row],[Prénom]]<>""),_xlfn.XLOOKUP(1,(Table1[Nom]=Table2[[#This Row],[Nom]])*(Table1[Prénom]=Table2[[#This Row],[Prénom]]),Table1[Date d''intégration],"Pas d'entrée",0,1),"")} -> 43895 | E56: {=IF(AND(Table2[[#This Row],[Nom]]<>"",Table2[[#This Row],[Prénom]]<>""),_xlfn.XLOOKUP(1,(Table1[Nom]=Table2[[#This Row],[Nom]])*(Table1[Prénom]=Table2[[#This Row],[Prénom]]),Table1[Date de naissance],"Pas d'entrée",0,1),"")} -> 34172 | F56: =IF(Table2[[#This Row],[Date de naissance]]="","",DATEDIF(Table2[[#This Row],[Date de naissance]],Paramètres!$B$3,"Y")) -> 32 | G56: =IF(Table2[[#This Row],[Date d''intégration]]="","",DATEDIF(Table2[[#This Row],[Date d''intégration]],Paramètres!$B$3,"Y")) -> 5 | H56: Périodicité entretien (mois) | I56: 45356 | J56: Oui | K56: Oui
A57: Nom_1 | B57: Paul | C57: {=IF(AND(Table2[[#This Row],[Nom]]<>"",Table2[[#This Row],[Prénom]]<>""),_xlfn.XLOOKUP(1,(Table1[Nom]=Table2[[#This Row],[Nom]])*(Table1[Prénom]=Table2[[#This Row],[Prénom]]),Table1[Fonction - poste],"Pas d'entrée",0,1),"")} -> Représentant | D57: {=IF(AND(Table2[[#This Row],[Nom]]<>"",Table2[[#This Row],[Prénom]]<>""),_xlfn.XLOOKUP(1,(Table1[Nom]=Table2[[#This Row],[Nom]])*(Table1[Prénom]=Table2[[#This Row],[Prénom]]),Table1[Date d''intégration],"Pas d'entrée",0,1),"")} -> 36592 | E57: {=IF(AND(Table2[[#This Row],[Nom]]<>"",Table2[[#This Row],[Prénom]]<>""),_xlfn.XLOOKUP(1,(Table1[Nom]=Table2[[#This Row],[Nom]])*(Table1[Prénom]=Table2[[#This Row],[Prénom]]),Table1[Date de naissance],"Pas d'entrée",0,1),"")} -> 24904 | F57: =IF(Table2[[#This Row],[Date de naissance]]="","",DATEDIF(Table2[[#This Row],[Date de naissance]],Paramètres!$B$3,"Y")) -> 57 | G57: =IF(Table2[[#This Row],[Date d''intégration]]="","",DATEDIF(Table2[[#This Row],[Date d''intégration]],Paramètres!$B$3,"Y")) -> 25 | H57: Périodicité bilan récapitulatif (mois) | I57: 45358
A58: Nom_1 | B58: Paul | C58: {=IF(AND(Table2[[#This Row],[Nom]]<>"",Table2[[#This Row],[Prénom]]<>""),_xlfn.XLOOKUP(1,(Table1[Nom]=Table2[[#This Row],[Nom]])*(Table1[Prénom]=Table2[[#This Row],[Prénom]]),Table1[Fonction - poste],"Pas d'entrée",0,1),"")} -> Représentant | D58: {=IF(AND(Table2[[#This Row],[Nom]]<>"",Table2[[#This Row],[Prénom]]<>""),_xlfn.XLOOKUP(1,(Table1[Nom]=Table2[[#This Row],[Nom]])*(Table1[Prénom]=Table2[[#This Row],[Prénom]]),Table1[Date d''intégration],"Pas d'entrée",0,1),"")} -> 36592 | E58: {=IF(AND(Table2[[#This Row],[Nom]]<>"",Table2[[#This Row],[Prénom]]<>""),_xlfn.XLOOKUP(1,(Table1[Nom]=Table2[[#This Row],[Nom]])*(Table1[Prénom]=Table2[[#This Row],[Prénom]]),Table1[Date de naissance],"Pas d'entrée",0,1),"")} -> 24904 | F58: =IF(Table2[[#This Row],[Date de naissance]]="","",DATEDIF(Table2[[#This Row],[Date de naissance]],Paramètres!$B$3,"Y")) -> 57 | G58: =IF(Table2[[#This Row],[Date d''intégration]]="","",DATEDIF(Table2[[#This Row],[Date d''intégration]],Paramètres!$B$3,"Y")) -> 25 | H58: Périodicité entretien (mois) | I58: 45358
A59: Nom_1 | B59: Pierre | C59: {=IF(AND(Table2[[#This Row],[Nom]]<>"",Table2[[#This Row],[Prénom]]<>""),_xlfn.XLOOKUP(1,(Table1[Nom]=Table2[[#This Row],[Nom]])*(Table1[Prénom]=Table2[[#This Row],[Prénom]]),Table1[Fonction - poste],"Pas d'entrée",0,1),"")} -> Informaticien | D59: {=IF(AND(Table2[[#This Row],[Nom]]<>"",Table2[[#This Row],[Prénom]]<>""),_xlfn.XLOOKUP(1,(Table1[Nom]=Table2[[#This Row],[Nom]])*(Table1[Prénom]=Table2[[#This Row],[Prénom]]),Table1[Date d''intégration],"Pas d'entrée",0,1),"")} -> 37895 | E59: {=IF(AND(Table2[[#This Row],[Nom]]<>"",Table2[[#This Row],[Prénom]]<>""),_xlfn.XLOOKUP(1,(Table1[Nom]=Table2[[#This Row],[Nom]])*(Table1[Prénom]=Table2[[#This Row],[Prénom]]),Table1[Date de naissance],"Pas d'entrée",0,1),"")} -> 28979 | F59: =IF(Table2[[#This Row],[Date de naissance]]="","",DATEDIF(Table2[[#This Row],[Date de naissance]],Paramètres!$B$3,"Y")) -> 46 | G59: =IF(Table2[[#This Row],[Date d''intégration]]="","",DATEDIF(Table2[[#This Row],[Date d''intégration]],Paramètres!$B$3,"Y")) -> 22 | H59: Âge indicatif mi-carrière (ans) | I59: 45453 | J59: Oui | K59: Oui
A60: Nom_4 | B60: Jacques | C60: {=IF(AND(Table2[[#This Row],[Nom]]<>"",Table2[[#This Row],[Prénom]]<>""),_xlfn.XLOOKUP(1,(Table1[Nom]=Table2[[#This Row],[Nom]])*(Table1[Prénom]=Table2[[#This Row],[Prénom]]),Table1[Fonction - poste],"Pas d'entrée",0,1),"")} -> Planificateur | D60: {=IF(AND(Table2[[#This Row],[Nom]]<>"",Table2[[#This Row],[Prénom]]<>""),_xlfn.XLOOKUP(1,(Table1[Nom]=Table2[[#This Row],[Nom]])*(Table1[Prénom]=Table2[[#This Row],[Prénom]]),Table1[Date d''intégration],"Pas d'entrée",0,1),"")} -> 45538 | E60: {=IF(AND(Table2[[#This Row],[Nom]]<>"",Table2[[#This Row],[Prénom]]<>""),_xlfn.XLOOKUP(1,(Table1[Nom]=Table2[[#This Row],[Nom]])*(Table1[Prénom]=Table2[[#This Row],[Prénom]]),Table1[Date de naissance],"Pas d'entrée",0,1),"")} -> 36923 | F60: =IF(Table2[[#This Row],[Date de naissance]]="","",DATEDIF(Table2[[#This Row],[Date de naissance]],Paramètres!$B$3,"Y")) -> 24 | G60: =IF(Table2[[#This Row],[Date d''intégration]]="","",DATEDIF(Table2[[#This Row],[Date d''intégration]],Paramètres!$B$3,"Y")) -> 1 | H60: Délai 1er entretien (mois) | I60: 45903 | J60: Oui | K60: Oui
A61: Nom_3 | B61: Jean | C61: {=IF(AND(Table2[[#This Row],[Nom]]<>"",Table2[[#This Row],[Prénom]]<>""),_xlfn.XLOOKUP(1,(Table1[Nom]=Table2[[#This Row],[Nom]])*(Table1[Prénom]=Table2[[#This Row],[Prénom]]),Table1[Fonction - poste],"Pas d'entrée",0,1),"")} -> Acheteur | D61: {=IF(AND(Table2[[#This Row],[Nom]]<>"",Table2[[#This Row],[Prénom]]<>""),_xlfn.XLOOKUP(1,(Table1[Nom]=Table2[[#This Row],[Nom]])*(Table1[Prénom]=Table2[[#This Row],[Prénom]]),Table1[Date d''intégration],"Pas d'entrée",0,1),"")} -> 32004 | E61: {=IF(AND(Table2[[#This Row],[Nom]]<>"",Table2[[#This Row],[Prénom]]<>""),_xlfn.XLOOKUP(1,(Table1[Nom]=Table2[[#This Row],[Nom]])*(Table1[Prénom]=Table2[[#This Row],[Prénom]]),Table1[Date de naissance],"Pas d'entrée",0,1),"")} -> 24534 | F61: =IF(Table2[[#This Row],[Date de naissance]]="","",DATEDIF(Table2[[#This Row],[Date de naissance]],Paramètres!$B$3,"Y")) -> 58 | G61: =IF(Table2[[#This Row],[Date d''intégration]]="","",DATEDIF(Table2[[#This Row],[Date d''intégration]],Paramètres!$B$3,"Y")) -> 38 | H61: Âge indicatif fin de carrière (ans) | I61: 46006 | J61: Oui | K61: Oui
A62: Nom_2 | B62: Michèle | C62: {=IF(AND(Table2[[#This Row],[Nom]]<>"",Table2[[#This Row],[Prénom]]<>""),_xlfn.XLOOKUP(1,(Table1[Nom]=Table2[[#This Row],[Nom]])*(Table1[Prénom]=Table2[[#This Row],[Prénom]]),Table1[Fonction - poste],"Pas d'entrée",0,1),"")} -> Concepteur - bureau d'études | D62: {=IF(AND(Table2[[#This Row],[Nom]]<>"",Table2[[#This Row],[Prénom]]<>""),_xlfn.XLOOKUP(1,(Table1[Nom]=Table2[[#This Row],[Nom]])*(Table1[Prénom]=Table2[[#This Row],[Prénom]]),Table1[Date d''intégration],"Pas d'entrée",0,1),"")} -> 43895 | E62: {=IF(AND(Table2[[#This Row],[Nom]]<>"",Table2[[#This Row],[Prénom]]<>""),_xlfn.XLOOKUP(1,(Table1[Nom]=Table2[[#This Row],[Nom]])*(Table1[Prénom]=Table2[[#This Row],[Prénom]]),Table1[Date de naissance],"Pas d'entrée",0,1),"")} -> 34172 | F62: =IF(Table2[[#This Row],[Date de naissance]]="","",DATEDIF(Table2[[#This Row],[Date de naissance]],Paramètres!$B$3,"Y")) -> 32 | G62: =IF(Table2[[#This Row],[Date d''intégration]]="","",DATEDIF(Table2[[#This Row],[Date d''intégration]],Paramètres!$B$3,"Y")) -> 5 | H62: Âge indicatif mi-carrière (ans) | I62: 46035 | J62: Oui | K62: Oui
C63: {=IF(AND(Table2[[#This Row],[Nom]]<>"",Table2[[#This Row],[Prénom]]<>""),_xlfn.XLOOKUP(1,(Table1[Nom]=Table2[[#This Row],[Nom]])*(Table1[Prénom]=Table2[[#This Row],[Prénom]]),Table1[Fonction - poste],"Pas d'entrée",0,1),"")} | D63: {=IF(AND(Table2[[#This Row],[Nom]]<>"",Table2[[#This Row],[Prénom]]<>""),_xlfn.XLOOKUP(1,(Table1[Nom]=Table2[[#This Row],[Nom]])*(Table1[Prénom]=Table2[[#This Row],[Prénom]]),Table1[Date d''intégration],"Pas d'entrée",0,1),"")} | E63: {=IF(AND(Table2[[#This Row],[Nom]]<>"",Table2[[#This Row],[Prénom]]<>""),_xlfn.XLOOKUP(1,(Table1[Nom]=Table2[[#This Row],[Nom]])*(Table1[Prénom]=Table2[[#This Row],[Prénom]]),Table1[Date de naissance],"Pas d'entrée",0,1),"")} | F63: =IF(Table2[[#This Row],[Date de naissance]]="","",DATEDIF(Table2[[#This Row],[Date de naissance]],Paramètres!$B$3,"Y")) | G63: =IF(Table2[[#This Row],[Date d''intégration]]="","",DATEDIF(Table2[[#This Row],[Date d''intégration]],Paramètres!$B$3,"Y"))
C64: {=IF(AND(Table2[[#This Row],[Nom]]<>"",Table2[[#This Row],[Prénom]]<>""),_xlfn.XLOOKUP(1,(Table1[Nom]=Table2[[#This Row],[Nom]])*(Table1[Prénom]=Table2[[#This Row],[Prénom]]),Table1[Fonction - poste],"Pas d'entrée",0,1),"")} | D64: {=IF(AND(Table2[[#This Row],[Nom]]<>"",Table2[[#This Row],[Prénom]]<>""),_xlfn.XLOOKUP(1,(Table1[Nom]=Table2[[#This Row],[Nom]])*(Table1[Prénom]=Table2[[#This Row],[Prénom]]),Table1[Date d''intégration],"Pas d'entrée",0,1),"")} | E64: {=IF(AND(Table2[[#This Row],[Nom]]<>"",Table2[[#This Row],[Prénom]]<>""),_xlfn.XLOOKUP(1,(Table1[Nom]=Table2[[#This Row],[Nom]])*(Table1[Prénom]=Table2[[#This Row],[Prénom]]),Table1[Date de naissance],"Pas d'entrée",0,1),"")} | F64: =IF(Table2[[#This Row],[Date de naissance]]="","",DATEDIF(Table2[[#This Row],[Date de naissance]],Paramètres!$B$3,"Y")) | G64: =IF(Table2[[#This Row],[Date d''intégration]]="","",DATEDIF(Table2[[#This Row],[Date d''intégration]],Paramètres!$B$3,"Y"))
C65: {=IF(AND(Table2[[#This Row],[Nom]]<>"",Table2[[#This Row],[Prénom]]<>""),_xlfn.XLOOKUP(1,(Table1[Nom]=Table2[[#This Row],[Nom]])*(Table1[Prénom]=Table2[[#This Row],[Prénom]]),Table1[Fonction - poste],"Pas d'entrée",0,1),"")} | D65: {=IF(AND(Table2[[#This Row],[Nom]]<>"",Table2[[#This Row],[Prénom]]<>""),_xlfn.XLOOKUP(1,(Table1[Nom]=Table2[[#This Row],[Nom]])*(Table1[Prénom]=Table2[[#This Row],[Prénom]]),Table1[Date d''intégration],"Pas d'entrée",0,1),"")} | E65: {=IF(AND(Table2[[#This Row],[Nom]]<>"",Table2[[#This Row],[Prénom]]<>""),_xlfn.XLOOKUP(1,(Table1[Nom]=Table2[[#This Row],[Nom]])*(Table1[Prénom]=Table2[[#This Row],[Prénom]]),Table1[Date de naissance],"Pas d'entrée",0,1),"")} | F65: =IF(Table2[[#This Row],[Date de naissance]]="","",DATEDIF(Table2[[#This Row],[Date de naissance]],Paramètres!$B$3,"Y")) | G65: =IF(Table2[[#This Row],[Date d''intégration]]="","",DATEDIF(Table2[[#This Row],[Date d''intégration]],Paramètres!$B$3,"Y"))
C66: {=IF(AND(Table2[[#This Row],[Nom]]<>"",Table2[[#This Row],[Prénom]]<>""),_xlfn.XLOOKUP(1,(Table1[Nom]=Table2[[#This Row],[Nom]])*(Table1[Prénom]=Table2[[#This Row],[Prénom]]),Table1[Fonction - poste],"Pas d'entrée",0,1),"")} | D66: {=IF(AND(Table2[[#This Row],[Nom]]<>"",Table2[[#This Row],[Prénom]]<>""),_xlfn.XLOOKUP(1,(Table1[Nom]=Table2[[#This Row],[Nom]])*(Table1[Prénom]=Table2[[#This Row],[Prénom]]),Table1[Date d''intégration],"Pas d'entrée",0,1),"")} | E66: {=IF(AND(Table2[[#This Row],[Nom]]<>"",Table2[[#This Row],[Prénom]]<>""),_xlfn.XLOOKUP(1,(Table1[Nom]=Table2[[#This Row],[Nom]])*(Table1[Prénom]=Table2[[#This Row],[Prénom]]),Table1[Date de naissance],"Pas d'entrée",0,1),"")} | F66: =IF(Table2[[#This Row],[Date de naissance]]="","",DATEDIF(Table2[[#This Row],[Date de naissance]],Paramètres!$B$3,"Y")) | G66: =IF(Table2[[#This Row],[Date d''intégration]]="","",DATEDIF(Table2[[#This Row],[Date d''intégration]],Paramètres!$B$3,"Y"))
C67: {=IF(AND(Table2[[#This Row],[Nom]]<>"",Table2[[#This Row],[Prénom]]<>""),_xlfn.XLOOKUP(1,(Table1[Nom]=Table2[[#This Row],[Nom]])*(Table1[Prénom]=Table2[[#This Row],[Prénom]]),Table1[Fonction - poste],"Pas d'entrée",0,1),"")} | D67: {=IF(AND(Table2[[#This Row],[Nom]]<>"",Table2[[#This Row],[Prénom]]<>""),_xlfn.XLOOKUP(1,(Table1[Nom]=Table2[[#This Row],[Nom]])*(Table1[Prénom]=Table2[[#This Row],[Prénom]]),Table1[Date d''intégration],"Pas d'entrée",0,1),"")} | E67: {=IF(AND(Table2[[#This Row],[Nom]]<>"",Table2[[#This Row],[Prénom]]<>""),_xlfn.XLOOKUP(1,(Table1[Nom]=Table2[[#This Row],[Nom]])*(Table1[Prénom]=Table2[[#This Row],[Prénom]]),Table1[Date de naissance],"Pas d'entrée",0,1),"")} | F67: =IF(Table2[[#This Row],[Date de naissance]]="","",DATEDIF(Table2[[#This Row],[Date de naissance]],Paramètres!$B$3,"Y")) | G67: =IF(Table2[[#This Row],[Date d''intégration]]="","",DATEDIF(Table2[[#This Row],[Date d''intégration]],Paramètres!$B$3,"Y"))
C68: {=IF(AND(Table2[[#This Row],[Nom]]<>"",Table2[[#This Row],[Prénom]]<>""),_xlfn.XLOOKUP(1,(Table1[Nom]=Table2[[#This Row],[Nom]])*(Table1[Prénom]=Table2[[#This Row],[Prénom]]),Table1[Fonction - poste],"Pas d'entrée",0,1),"")} | D68: {=IF(AND(Table2[[#This Row],[Nom]]<>"",Table2[[#This Row],[Prénom]]<>""),_xlfn.XLOOKUP(1,(Table1[Nom]=Table2[[#This Row],[Nom]])*(Table1[Prénom]=Table2[[#This Row],[Prénom]]),Table1[Date d''intégration],"Pas d'entrée",0,1),"")} | E68: {=IF(AND(Table2[[#This Row],[Nom]]<>"",Table2[[#This Row],[Prénom]]<>""),_xlfn.XLOOKUP(1,(Table1[Nom]=Table2[[#This Row],[Nom]])*(Table1[Prénom]=Table2[[#This Row],[Prénom]]),Table1[Date de naissance],"Pas d'entrée",0,1),"")} | F68: =IF(Table2[[#This Row],[Date de naissance]]="","",DATEDIF(Table2[[#This Row],[Date de naissance]],Paramètres!$B$3,"Y")) | G68: =IF(Table2[[#This Row],[Date d''intégration]]="","",DATEDIF(Table2[[#This Row],[Date d''intégration]],Paramètres!$B$3,"Y"))
C69: {=IF(AND(Table2[[#This Row],[Nom]]<>"",Table2[[#This Row],[Prénom]]<>""),_xlfn.XLOOKUP(1,(Table1[Nom]=Table2[[#This Row],[Nom]])*(Table1[Prénom]=Table2[[#This Row],[Prénom]]),Table1[Fonction - poste],"Pas d'entrée",0,1),"")} | D69: {=IF(AND(Table2[[#This Row],[Nom]]<>"",Table2[[#This Row],[Prénom]]<>""),_xlfn.XLOOKUP(1,(Table1[Nom]=Table2[[#This Row],[Nom]])*(Table1[Prénom]=Table2[[#This Row],[Prénom]]),Table1[Date d''intégration],"Pas d'entrée",0,1),"")} | E69: {=IF(AND(Table2[[#This Row],[Nom]]<>"",Table2[[#This Row],[Prénom]]<>""),_xlfn.XLOOKUP(1,(Table1[Nom]=Table2[[#This Row],[Nom]])*(Table1[Prénom]=Table2[[#This Row],[Prénom]]),Table1[Date de naissance],"Pas d'entrée",0,1),"")} | F69: =IF(Table2[[#This Row],[Date de naissance]]="","",DATEDIF(Table2[[#This Row],[Date de naissance]],Paramètres!$B$3,"Y")) | G69: =IF(Table2[[#This Row],[Date d''intégration]]="","",DATEDIF(Table2[[#This Row],[Date d''intégration]],Paramètres!$B$3,"Y"))
C70: {=IF(AND(Table2[[#This Row],[Nom]]<>"",Table2[[#This Row],[Prénom]]<>""),_xlfn.XLOOKUP(1,(Table1[Nom]=Table2[[#This Row],[Nom]])*(Table1[Prénom]=Table2[[#This Row],[Prénom]]),Table1[Fonction - poste],"Pas d'entrée",0,1),"")} | D70: {=IF(AND(Table2[[#This Row],[Nom]]<>"",Table2[[#This Row],[Prénom]]<>""),_xlfn.XLOOKUP(1,(Table1[Nom]=Table2[[#This Row],[Nom]])*(Table1[Prénom]=Table2[[#This Row],[Prénom]]),Table1[Date d''intégration],"Pas d'entrée",0,1),"")} | E70: {=IF(AND(Table2[[#This Row],[Nom]]<>"",Table2[[#This Row],[Prénom]]<>""),_xlfn.XLOOKUP(1,(Table1[Nom]=Table2[[#This Row],[Nom]])*(Table1[Prénom]=Table2[[#This Row],[Prénom]]),Table1[Date de naissance],"Pas d'entrée",0,1),"")} | F70: =IF(Table2[[#This Row],[Date de naissance]]="","",DATEDIF(Table2[[#This Row],[Date de naissance]],Paramètres!$B$3,"Y")) | G70: =IF(Table2[[#This Row],[Date d''intégration]]="","",DATEDIF(Table2[[#This Row],[Date d''intégration]],Paramètres!$B$3,"Y"))

Sheet Prévisions
A1: Entretiens réalisés et à planifier | H1: Dernier entretiens réaliés | M1: Prochains entretiens à planifier
A2: Nom | B2: Prénom | C2: Fonction / poste | D2: Date d'intégration | E2: Date de naissance | F2: Âge (ans) | G2: Ancienneté (ans) | H2: =Paramètres!A4 -> Délai 1er entretien (mois) | I2: =Paramètres!A5 -> Périodicité entretien (mois) | J2: =Paramètres!A6 -> Périodicité bilan récapitulatif (mois) | K2: =Paramètres!A7 -> Âge indicatif mi-carrière (ans) | L2: =Paramètres!A8 -> Âge indicatif fin de carrière (ans) | M2: =H2 -> Délai 1er entretien (mois) | N2: =I2 -> Périodicité entretien (mois) | O2: =J2 -> Périodicité bilan récapitulatif (mois) | P2: =K2 -> Âge indicatif mi-carrière (ans) | Q2: =L2 -> Âge indicatif fin de carrière (ans)
A3: {=_xlfn._xlws.FILTER(Table1[],Table1[Nom]<>"")} -> Nom_1 | B3: Pierre | C3: Informaticien | D3: 37895 | E3: 28979 | F3: 46 | G3: 22 | H3: {=_xlfn.XLOOKUP(1,(Table2[Nom]=$A3)*(Table2[Prénom]=$B3)*(Table2[Entretien réalisé]=H$2),Table2[Date de l''entretien],"",0,-1)} -> 38261 | I3: {=_xlfn.XLOOKUP(1,(Table2[Nom]=$A3)*(Table2[Prénom]=$B3)*(Table2[Entretien réalisé]=I$2),Table2[Date de l''entretien],"",0,-1)} -> 45201 | J3: {=_xlfn.XLOOKUP(1,(Table2[Nom]=$A3)*(Table2[Prénom]=$B3)*(Table2[Entretien réalisé]=J$2),Table2[Date de l''entretien],"",0,-1)} -> 43739 | K3: {=_xlfn.XLOOKUP(1,(Table2[Nom]=$A3)*(Table2[Prénom]=$B3)*(Table2[Entretien réalisé]=K$2),Table2[Date de l''entretien],"",0,-1)} -> 45453 | L3: {=_xlfn.XLOOKUP(1,(Table2[Nom]=$A3)*(Table2[Prénom]=$B3)*(Table2[Entretien réalisé]=L$2),Table2[Date de l''entretien],"",0,-1)} | M3: =IF(A3="","",IF(H3="",WORKDAY(DATE(YEAR($D3),MONTH($D3)+_xlfn.XLOOKUP(M$2,Paramètres!$A$4:$A$8,Paramètres!$B$4:$B$8,"??",0,1),DAY($D3))-1,1,Table3[Jours fériés]),"")) | N3: =IF(A3="","",IF(I3="",WORKDAY(DATE(YEAR($D3),MONTH($D3)+_xlfn.XLOOKUP(N$2,Paramètres!$A$4:$A$8,Paramètres!$B$4:$B$8,"??",0,1),DAY($D3))-1,1,Table3[Jours fériés]), WORKDAY(DATE(YEAR($I3),MONTH($I3)+_xlfn.XLOOKUP(N$2,Paramètres!$A$4:$A$8,Paramètres!$B$4:$B$8,"??",0,1),DAY($I3))-1,1,Table3[Jours fériés]))) -> 46664 | O3: =IF(A3="","",IF(J3="",WORKDAY(DATE(YEAR($D3),MONTH($D3)+_xlfn.XLOOKUP(O$2,Paramètres!$A$4:$A$8,Paramètres!$B$4:$B$8,"??",0,1),DAY($D3))-1,1,Table3[Jours fériés]),"")) | P3: =IF(A3="","",IF(K3="",IF($F3=_xlfn.XLOOKUP(P$2,Paramètres!$A$4:$A$8,Paramètres!$B$4:$B$8,"??",0,1),WORKDAY(DATE(YEAR(E3)+_xlfn.XLOOKUP(P$2,Paramètres!$A$4:$A$8,Paramètres!$B$4:$B$8,"??",0,1),MONTH(E3)+2,0)-1,1,Table3[Jours fériés]), WORKDAY(DATE(YEAR($E3)+_xlfn.XLOOKUP(P$2,Paramètres!$A$4:$A$8,Paramètres!$B$4:$B$8,"??",0,1),MONTH($E3),DAY($E3))-1,1,Table3[Jours fériés])),"")) | Q3: =IF(A3="","",IF(L3="",IF($F3=_xlfn.XLOOKUP(Q$2,Paramètres!$A$4:$A$8,Paramètres!$B$4:$B$8,"??",0,1),WORKDAY(DATE(YEAR(TODAY()),MONTH(F3)+2,0)-1,1,Table3[Jours fériés]), WORKDAY(DATE(YEAR($E3)+_xlfn.XLOOKUP(Q$2,Paramètres!$A$4:$A$8,Paramètres!$B$4:$B$8,"??",0,1),MONTH($E3),DAY($E3))-1,1,Table3[Jours fériés])),"")) -> 50894
A4: Nom_2 | B4: Michèle | C4: Concepteur - bureau d'études | D4: 43895 | E4: 34172 | F4: 32 | G4: 5 | H4: {=_xlfn.XLOOKUP(1,(Table2[Nom]=$A4)*(Table2[Prénom]=$B4)*(Table2[Entretien réalisé]=H$2),Table2[Date de l''entretien],"",0,-1)} -> 45356 | I4: {=_xlfn.XLOOKUP(1,(Table2[Nom]=$A4)*(Table2[Prénom]=$B4)*(Table2[Entretien réalisé]=I$2),Table2[Date de l''entretien],"",0,-1)} -> 45356 | J4: {=_xlfn.XLOOKUP(1,(Table2[Nom]=$A4)*(Table2[Prénom]=$B4)*(Table2[Entretien réalisé]=J$2),Table2[Date de l''entretien],"",0,-1)} | K4: {=_xlfn.XLOOKUP(1,(Table2[Nom]=$A4)*(Table2[Prénom]=$B4)*(Table2[Entretien réalisé]=K$2),Table2[Date de l''entretien],"",0,-1)} -> 46035 | L4: {=_xlfn.XLOOKUP(1,(Table2[Nom]=$A4)*(Table2[Prénom]=$B4)*(Table2[Entretien réalisé]=L$2),Table2[Date de l''entretien],"",0,-1)} | M4: =IF(A4="","",IF(H4="",WORKDAY(DATE(YEAR($D4),MONTH($D4)+_xlfn.XLOOKUP(M$2,Paramètres!$A$4:$A$8,Paramètres!$B$4:$B$8,"??",0,1),DAY($D4))-1,1,Table3[Jours fériés]),"")) | N4: =IF(A4="","",IF(I4="",WORKDAY(DATE(YEAR($D4),MONTH($D4)+_xlfn.XLOOKUP(N$2,Paramètres!$A$4:$A$8,Paramètres!$B$4:$B$8,"??",0,1),DAY($D4))-1,1,Table3[Jours fériés]), WORKDAY(DATE(YEAR($I4),MONTH($I4)+_xlfn.XLOOKUP(N$2,Paramètres!$A$4:$A$8,Paramètres!$B$4:$B$8,"??",0,1),DAY($I4))-1,1,Table3[Jours fériés]))) -> 46818 | O4: =IF(A4="","",IF(J4="",WORKDAY(DATE(YEAR($D4),MONTH($D4)+_xlfn.XLOOKUP(O$2,Paramètres!$A$4:$A$8,Paramètres!$B$4:$B$8,"??",0,1),DAY($D4))-1,1,Table3[Jours fériés]),"")) -> 46818 | P4: =IF(A4="","",IF(K4="",IF($F4=_xlfn.XLOOKUP(P$2,Paramètres!$A$4:$A$8,Paramètres!$B$4:$B$8,"??",0,1),WORKDAY(DATE(YEAR(E4)+_xlfn.XLOOKUP(P$2,Paramètres!$A$4:$A$8,Paramètres!$B$4:$B$8,"??",0,1),MONTH(E4)+2,0)-1,1,Table3[Jours fériés]), WORKDAY(DATE(YEAR($E4)+_xlfn.XLOOKUP(P$2,Paramètres!$A$4:$A$8,Paramètres!$B$4:$B$8,"??",0,1),MONTH($E4),DAY($E4))-1,1,Table3[Jours fériés])),"")) | Q4: =IF(A4="","",IF(L4="",IF($F4=_xlfn.XLOOKUP(Q$2,Paramètres!$A$4:$A$8,Paramètres!$B$4:$B$8,"??",0,1),WORKDAY(DATE(YEAR(TODAY()),MONTH(F4)+2,0)-1,1,Table3[Jours fériés]), WORKDAY(DATE(YEAR($E4)+_xlfn.XLOOKUP(Q$2,Paramètres!$A$4:$A$8,Paramètres!$B$4:$B$8,"??",0,1),MONTH($E4),DAY($E4))-1,1,Table3[Jours fériés])),"")) -> 56087
A5: Nom_3 | B5: Jean | C5: Acheteur | D5: 32004 | E5: 24534 | F5: 58 | G5: 38 | H5: {=_xlfn.XLOOKUP(1,(Table2[Nom]=$A5)*(Table2[Prénom]=$B5)*(Table2[Entretien réalisé]=H$2),Table2[Date de l''entretien],"",0,-1)} -> 33465 | I5: {=_xlfn.XLOOKUP(1,(Table2[Nom]=$A5)*(Table2[Prénom]=$B5)*(Table2[Entretien réalisé]=I$2),Table2[Date de l''entretien],"",0,-1)} -> 45153 | J5: {=_xlfn.XLOOKUP(1,(Table2[Nom]=$A5)*(Table2[Prénom]=$B5)*(Table2[Entretien réalisé]=J$2),Table2[Date de l''entretien],"",0,-1)} -> 43692 | K5: {=_xlfn.XLOOKUP(1,(Table2[Nom]=$A5)*(Table2[Prénom]=$B5)*(Table2[Entretien réalisé]=K$2),Table2[Date de l''entretien],"",0,-1)} -> 40973 | L5: {=_xlfn.XLOOKUP(1,(Table2[Nom]=$A5)*(Table2[Prénom]=$B5)*(Table2[Entretien réalisé]=L$2),Table2[Date de l''entretien],"",0,-1)} -> 46006 | M5: =IF(A5="","",IF(H5="",WORKDAY(DATE(YEAR($D5),MONTH($D5)+_xlfn.XLOOKUP(M$2,Paramètres!$A$4:$A$8,Paramètres!$B$4:$B$8,"??",0,1),DAY($D5))-1,1,Table3[Jours fériés]),"")) | N5: =IF(A5="","",IF(I5="",WORKDAY(DATE(YEAR($D5),MONTH($D5)+_xlfn.XLOOKUP(N$2,Paramètres!$A$4:$A$8,Paramètres!$B$4:$B$8,"??",0,1),DAY($D5))-1,1,Table3[Jours fériés]), WORKDAY(DATE(YEAR($I5),MONTH($I5)+_xlfn.XLOOKUP(N$2,Paramètres!$A$4:$A$8,Paramètres!$B$4:$B$8,"??",0,1),DAY($I5))-1,1,Table3[Jours fériés]))) -> 46615 | O5: =IF(A5="","",IF(J5="",WORKDAY(DATE(YEAR($D5),MONTH($D5)+_xlfn.XLOOKUP(O$2,Paramètres!$A$4:$A$8,Paramètres!$B$4:$B$8,"??",0,1),DAY($D5))-1,1,Table3[Jours fériés]),"")) | P5: =IF(A5="","",IF(K5="",IF($F5=_xlfn.XLOOKUP(P$2,Paramètres!$A$4:$A$8,Paramètres!$B$4:$B$8,"??",0,1),WORKDAY(DATE(YEAR(E5)+_xlfn.XLOOKUP(P$2,Paramètres!$A$4:$A$8,Paramètres!$B$4:$B$8,"??",0,1),MONTH(E5)+2,0)-1,1,Table3[Jours fériés]), WORKDAY(DATE(YEAR($E5)+_xlfn.XLOOKUP(P$2,Paramètres!$A$4:$A$8,Paramètres!$B$4:$B$8,"??",0,1),MONTH($E5),DAY($E5))-1,1,Table3[Jours fériés])),"")) | Q5: =IF(A5="","",IF(L5="",IF($F5=_xlfn.XLOOKUP(Q$2,Paramètres!$A$4:$A$8,Paramètres!$B$4:$B$8,"??",0,1),WORKDAY(DATE(YEAR(TODAY()),MONTH(F5)+2,0)-1,1,Table3[Jours fériés]), WORKDAY(DATE(YEAR($E5)+_xlfn.XLOOKUP(Q$2,Paramètres!$A$4:$A$8,Paramètres!$B$4:$B$8,"??",0,1),MONTH($E5),DAY($E5))-1,1,Table3[Jours fériés])),""))
A6: Nom_4 | B6: Jacques | C6: Planificateur | D6: 45538 | E6: 36923 | F6: 24 | G6: 1 | H6: {=_xlfn.XLOOKUP(1,(Table2[Nom]=$A6)*(Table2[Prénom]=$B6)*(Table2[Entretien réalisé]=H$2),Table2[Date de l''entretien],"",0,-1)} -> 45903 | I6: {=_xlfn.XLOOKUP(1,(Table2[Nom]=$A6)*(Table2[Prénom]=$B6)*(Table2[Entretien réalisé]=I$2),Table2[Date de l''entretien],"",0,-1)} | J6: {=_xlfn.XLOOKUP(1,(Table2[Nom]=$A6)*(Table2[Prénom]=$B6)*(Table2[Entretien réalisé]=J$2),Table2[Date de l''entretien],"",0,-1)} | K6: {=_xlfn.XLOOKUP(1,(Table2[Nom]=$A6)*(Table2[Prénom]=$B6)*(Table2[Entretien réalisé]=K$2),Table2[Date de l''entretien],"",0,-1)} | L6: {=_xlfn.XLOOKUP(1,(Table2[Nom]=$A6)*(Table2[Prénom]=$B6)*(Table2[Entretien réalisé]=L$2),Table2[Date de l''entretien],"",0,-1)} | M6: =IF(A6="","",IF(H6="",WORKDAY(DATE(YEAR($D6),MONTH($D6)+_xlfn.XLOOKUP(M$2,Paramètres!$A$4:$A$8,Paramètres!$B$4:$B$8,"??",0,1),DAY($D6))-1,1,Table3[Jours fériés]),"")) | N6: =IF(A6="","",IF(I6="",WORKDAY(DATE(YEAR($D6),MONTH($D6)+_xlfn.XLOOKUP(N$2,Paramètres!$A$4:$A$8,Paramètres!$B$4:$B$8,"??",0,1),DAY($D6))-1,1,Table3[Jours fériés]), WORKDAY(DATE(YEAR($I6),MONTH($I6)+_xlfn.XLOOKUP(N$2,Paramètres!$A$4:$A$8,Paramètres!$B$4:$B$8,"??",0,1),DAY($I6))-1,1,Table3[Jours fériés]))) -> 47000 | O6: =IF(A6="","",IF(J6="",WORKDAY(DATE(YEAR($D6),MONTH($D6)+_xlfn.XLOOKUP(O$2,Paramètres!$A$4:$A$8,Paramètres!$B$4:$B$8,"??",0,1),DAY($D6))-1,1,Table3[Jours fériés]),"")) -> 48460 | P6: =IF(A6="","",IF(K6="",IF($F6=_xlfn.XLOOKUP(P$2,Paramètres!$A$4:$A$8,Paramètres!$B$4:$B$8,"??",0,1),WORKDAY(DATE(YEAR(E6)+_xlfn.XLOOKUP(P$2,Paramètres!$A$4:$A$8,Paramètres!$B$4:$B$8,"??",0,1),MONTH(E6)+2,0)-1,1,Table3[Jours fériés]), WORKDAY(DATE(YEAR($E6)+_xlfn.XLOOKUP(P$2,Paramètres!$A$4:$A$8,Paramètres!$B$4:$B$8,"??",0,1),MONTH($E6),DAY($E6))-1,1,Table3[Jours fériés])),"")) -> 53359 | Q6: =IF(A6="","",IF(L6="",IF($F6=_xlfn.XLOOKUP(Q$2,Paramètres!$A$4:$A$8,Paramètres!$B$4:$B$8,"??",0,1),WORKDAY(DATE(YEAR(TODAY()),MONTH(F6)+2,0)-1,1,Table3[Jours fériés]), WORKDAY(DATE(YEAR($E6)+_xlfn.XLOOKUP(Q$2,Paramètres!$A$4:$A$8,Paramètres!$B$4:$B$8,"??",0,1),MONTH($E6),DAY($E6))-1,1,Table3[Jours fériés])),"")) -> 58838
A7: Nom_5 | B7: Thomas | C7: Financier - comptable | D7: 45986 | E7: 37431 | F7: 23 | G7: 0 | H7: {=_xlfn.XLOOKUP(1,(Table2[Nom]=$A7)*(Table2[Prénom]=$B7)*(Table2[Entretien réalisé]=H$2),Table2[Date de l''entretien],"",0,-1)} | I7: {=_xlfn.XLOOKUP(1,(Table2[Nom]=$A7)*(Table2[Prénom]=$B7)*(Table2[Entretien réalisé]=I$2),Table2[Date de l''entretien],"",0,-1)} | J7: {=_xlfn.XLOOKUP(1,(Table2[Nom]=$A7)*(Table2[Prénom]=$B7)*(Table2[Entretien réalisé]=J$2),Table2[Date de l''entretien],"",0,-1)} | K7: {=_xlfn.XLOOKUP(1,(Table2[Nom]=$A7)*(Table2[Prénom]=$B7)*(Table2[Entretien réalisé]=K$2),Table2[Date de l''entretien],"",0,-1)} | L7: {=_xlfn.XLOOKUP(1,(Table2[Nom]=$A7)*(Table2[Prénom]=$B7)*(Table2[Entretien réalisé]=L$2),Table2[Date de l''entretien],"",0,-1)} | M7: =IF(A7="","",IF(H7="",WORKDAY(DATE(YEAR($D7),MONTH($D7)+_xlfn.XLOOKUP(M$2,Paramètres!$A$4:$A$8,Paramètres!$B$4:$B$8,"??",0,1),DAY($D7))-1,1,Table3[Jours fériés]),"")) -> 46351 | N7: =IF(A7="","",IF(I7="",WORKDAY(DATE(YEAR($D7),MONTH($D7)+_xlfn.XLOOKUP(N$2,Paramètres!$A$4:$A$8,Paramètres!$B$4:$B$8,"??",0,1),DAY($D7))-1,1,Table3[Jours fériés]), WORKDAY(DATE(YEAR($I7),MONTH($I7)+_xlfn.XLOOKUP(N$2,Paramètres!$A$4:$A$8,Paramètres!$B$4:$B$8,"??",0,1),DAY($I7))-1,1,Table3[Jours fériés]))) -> 47448 | O7: =IF(A7="","",IF(J7="",WORKDAY(DATE(YEAR($D7),MONTH($D7)+_xlfn.XLOOKUP(O$2,Paramètres!$A$4:$A$8,Paramètres!$B$4:$B$8,"??",0,1),DAY($D7))-1,1,Table3[Jours fériés]),"")) -> 48908 | P7: =IF(A7="","",IF(K7="",IF($F7=_xlfn.XLOOKUP(P$2,Paramètres!$A$4:$A$8,Paramètres!$B$4:$B$8,"??",0,1),WORKDAY(DATE(YEAR(E7)+_xlfn.XLOOKUP(P$2,Paramètres!$A$4:$A$8,Paramètres!$B$4:$B$8,"??",0,1),MONTH(E7)+2,0)-1,1,Table3[Jours fériés]), WORKDAY(DATE(YEAR($E7)+_xlfn.XLOOKUP(P$2,Paramètres!$A$4:$A$8,Paramètres!$B$4:$B$8,"??",0,1),MONTH($E7),DAY($E7))-1,1,Table3[Jours fériés])),"")) -> 53867 | Q7: =IF(A7="","",IF(L7="",IF($F7=_xlfn.XLOOKUP(Q$2,Paramètres!$A$4:$A$8,Paramètres!$B$4:$B$8,"??",0,1),WORKDAY(DATE(YEAR(TODAY()),MONTH(F7)+2,0)-1,1,Table3[Jours fériés]), WORKDAY(DATE(YEAR($E7)+_xlfn.XLOOKUP(Q$2,Paramètres!$A$4:$A$8,Paramètres!$B$4:$B$8,"??",0,1),MONTH($E7),DAY($E7))-1,1,Table3[Jours fériés])),"")) -> 59348
A8: Nom_4 | B8: Nicole | C8: Agent - assurance qualité | D8: 42069 | E8: 32974 | F8: 35 | G8: 10 | H8: {=_xlfn.XLOOKUP(1,(Table2[Nom]=$A8)*(Table2[Prénom]=$B8)*(Table2[Entretien réalisé]=H$2),Table2[Date de l''entretien],"",0,-1)} -> 42436 | I8: {=_xlfn.XLOOKUP(1,(Table2[Nom]=$A8)*(Table2[Prénom]=$B8)*(Table2[Entretien réalisé]=I$2),Table2[Date de l''entretien],"",0,-1)} -> 44991 | J8: {=_xlfn.XLOOKUP(1,(Table2[Nom]=$A8)*(Table2[Prénom]=$B8)*(Table2[Entretien réalisé]=J$2),Table2[Date de l''entretien],"",0,-1)} -> 44991 | K8: {=_xlfn.XLOOKUP(1,(Table2[Nom]=$A8)*(Table2[Prénom]=$B8)*(Table2[Entretien réalisé]=K$2),Table2[Date de l''entretien],"",0,-1)} | L8: {=_xlfn.XLOOKUP(1,(Table2[Nom]=$A8)*(Table2[Prénom]=$B8)*(Table2[Entretien réalisé]=L$2),Table2[Date de l''entretien],"",0,-1)} | M8: =IF(A8="","",IF(H8="",WORKDAY(DATE(YEAR($D8),MONTH($D8)+_xlfn.XLOOKUP(M$2,Paramètres!$A$4:$A$8,Paramètres!$B$4:$B$8,"??",0,1),DAY($D8))-1,1,Table3[Jours fériés]),"")) | N8: =IF(A8="","",IF(I8="",WORKDAY(DATE(YEAR($D8),MONTH($D8)+_xlfn.XLOOKUP(N$2,Paramètres!$A$4:$A$8,Paramètres!$B$4:$B$8,"??",0,1),DAY($D8))-1,1,Table3[Jours fériés]), WORKDAY(DATE(YEAR($I8),MONTH($I8)+_xlfn.XLOOKUP(N$2,Paramètres!$A$4:$A$8,Paramètres!$B$4:$B$8,"??",0,1),DAY($I8))-1,1,Table3[Jours fériés]))) -> 46454 | O8: =IF(A8="","",IF(J8="",WORKDAY(DATE(YEAR($D8),MONTH($D8)+_xlfn.XLOOKUP(O$2,Paramètres!$A$4:$A$8,Paramètres!$B$4:$B$8,"??",0,1),DAY($D8))-1,1,Table3[Jours fériés]),"")) | P8: =IF(A8="","",IF(K8="",IF($F8=_xlfn.XLOOKUP(P$2,Paramètres!$A$4:$A$8,Paramètres!$B$4:$B$8,"??",0,1),WORKDAY(DATE(YEAR(E8)+_xlfn.XLOOKUP(P$2,Paramètres!$A$4:$A$8,Paramètres!$B$4:$B$8,"??",0,1),MONTH(E8)+2,0)-1,1,Table3[Jours fériés]), WORKDAY(DATE(YEAR($E8)+_xlfn.XLOOKUP(P$2,Paramètres!$A$4:$A$8,Paramètres!$B$4:$B$8,"??",0,1),MONTH($E8),DAY($E8))-1,1,Table3[Jours fériés])),"")) -> 49410 | Q8: =IF(A8="","",IF(L8="",IF($F8=_xlfn.XLOOKUP(Q$2,Paramètres!$A$4:$A$8,Paramètres!$B$4:$B$8,"??",0,1),WORKDAY(DATE(YEAR(TODAY()),MONTH(F8)+2,0)-1,1,Table3[Jours fériés]), WORKDAY(DATE(YEAR($E8)+_xlfn.XLOOKUP(Q$2,Paramètres!$A$4:$A$8,Paramètres!$B$4:$B$8,"??",0,1),MONTH($E8),DAY($E8))-1,1,Table3[Jours fériés])),"")) -> 54889
A9: Nom_3 | B9: Thérèse | C9: Financier - comptable | D9: 32888 | E9: 24174 | F9: 59 | G9: 35 | H9: {=_xlfn.XLOOKUP(1,(Table2[Nom]=$A9)*(Table2[Prénom]=$B9)*(Table2[Entretien réalisé]=H$2),Table2[Date de l''entretien],"",0,-1)} -> 33253 | I9: {=_xlfn.XLOOKUP(1,(Table2[Nom]=$A9)*(Table2[Prénom]=$B9)*(Table2[Entretien réalisé]=I$2),Table2[Date de l''entretien],"",0,-1)} -> 44578 | J9: {=_xlfn.XLOOKUP(1,(Table2[Nom]=$A9)*(Table2[Prénom]=$B9)*(Table2[Entretien réalisé]=J$2),Table2[Date de l''entretien],"",0,-1)} -> 44578 | K9: {=_xlfn.XLOOKUP(1,(Table2[Nom]=$A9)*(Table2[Prénom]=$B9)*(Table2[Entretien réalisé]=K$2),Table2[Date de l''entretien],"",0,-1)} -> 40610 | L9: {=_xlfn.XLOOKUP(1,(Table2[Nom]=$A9)*(Table2[Prénom]=$B9)*(Table2[Entretien réalisé]=L$2),Table2[Date de l''entretien],"",0,-1)} | M9: =IF(A9="","",IF(H9="",WORKDAY(DATE(YEAR($D9),MONTH($D9)+_xlfn.XLOOKUP(M$2,Paramètres!$A$4:$A$8,Paramètres!$B$4:$B$8,"??",0,1),DAY($D9))-1,1,Table3[Jours fériés]),"")) | N9: =IF(A9="","",IF(I9="",WORKDAY(DATE(YEAR($D9),MONTH($D9)+_xlfn.XLOOKUP(N$2,Paramètres!$A$4:$A$8,Paramètres!$B$4:$B$8,"??",0,1),DAY($D9))-1,1,Table3[Jours fériés]), WORKDAY(DATE(YEAR($I9),MONTH($I9)+_xlfn.XLOOKUP(N$2,Paramètres!$A$4:$A$8,Paramètres!$B$4:$B$8,"??",0,1),DAY($I9))-1,1,Table3[Jours fériés]))) -> 46041 | O9: =IF(A9="","",IF(J9="",WORKDAY(DATE(YEAR($D9),MONTH($D9)+_xlfn.XLOOKUP(O$2,Paramètres!$A$4:$A$8,Paramètres!$B$4:$B$8,"??",0,1),DAY($D9))-1,1,Table3[Jours fériés]),"")) | P9: =IF(A9="","",IF(K9="",IF($F9=_xlfn.XLOOKUP(P$2,Paramètres!$A$4:$A$8,Paramètres!$B$4:$B$8,"??",0,1),WORKDAY(DATE(YEAR(E9)+_xlfn.XLOOKUP(P$2,Paramètres!$A$4:$A$8,Paramètres!$B$4:$B$8,"??",0,1),MONTH(E9)+2,0)-1,1,Table3[Jours fériés]), WORKDAY(DATE(YEAR($E9)+_xlfn.XLOOKUP(P$2,Paramètres!$A$4:$A$8,Paramètres!$B$4:$B$8,"??",0,1),MONTH($E9),DAY($E9))-1,1,Table3[Jours fériés])),"")) | Q9: =IF(A9="","",IF(L9="",IF($F9=_xlfn.XLOOKUP(Q$2,Paramètres!$A$4:$A$8,Paramètres!$B$4:$B$8,"??",0,1),WORKDAY(DATE(YEAR(TODAY()),MONTH(F9)+2,0)-1,1,Table3[Jours fériés]), WORKDAY(DATE(YEAR($E9)+_xlfn.XLOOKUP(Q$2,Paramètres!$A$4:$A$8,Paramètres!$B$4:$B$8,"??",0,1),MONTH($E9),DAY($E9))-1,1,Table3[Jours fériés])),"")) -> 46090
A10: Nom_1 | B10: Paul | C10: Représentant | D10: 36592 | E10: 24904 | F10: 57 | G10: 25 | H10: {=_xlfn.XLOOKUP(1,(Table2[Nom]=$A10)*(Table2[Prénom]=$B10)*(Table2[Entretien réalisé]=H$2),Table2[Date de l''entretien],"",0,-1)} -> 36957 | I10: {=_xlfn.XLOOKUP(1,(Table2[Nom]=$A10)*(Table2[Prénom]=$B10)*(Table2[Entretien réalisé]=I$2),Table2[Date de l''entretien],"",0,-1)} -> 45358 | J10: {=_xlfn.XLOOKUP(1,(Table2[Nom]=$A10)*(Table2[Prénom]=$B10)*(Table2[Entretien réalisé]=J$2),Table2[Date de l''entretien],"",0,-1)} -> 45358 | K10: {=_xlfn.XLOOKUP(1,(Table2[Nom]=$A10)*(Table2[Prénom]=$B10)*(Table2[Entretien réalisé]=K$2),Table2[Date de l''entretien],"",0,-1)} -> 41340 | L10: {=_xlfn.XLOOKUP(1,(Table2[Nom]=$A10)*(Table2[Prénom]=$B10)*(Table2[Entretien réalisé]=L$2),Table2[Date de l''entretien],"",0,-1)} | M10: =IF(A10="","",IF(H10="",WORKDAY(DATE(YEAR($D10),MONTH($D10)+_xlfn.XLOOKUP(M$2,Paramètres!$A$4:$A$8,Paramètres!$B$4:$B$8,"??",0,1),DAY($D10))-1,1,Table3[Jours fériés]),"")) | N10: =IF(A10="","",IF(I10="",WORKDAY(DATE(YEAR($D10),MONTH($D10)+_xlfn.XLOOKUP(N$2,Paramètres!$A$4:$A$8,Paramètres!$B$4:$B$8,"??",0,1),DAY($D10))-1,1,Table3[Jours fériés]), WORKDAY(DATE(YEAR($I10),MONTH($I10)+_xlfn.XLOOKUP(N$2,Paramètres!$A$4:$A$8,Paramètres!$B$4:$B$8,"??",0,1),DAY($I10))-1,1,Table3[Jours fériés]))) -> 46819 | O10: =IF(A10="","",IF(J10="",WORKDAY(DATE(YEAR($D10),MONTH($D10)+_xlfn.XLOOKUP(O$2,Paramètres!$A$4:$A$8,Paramètres!$B$4:$B$8,"??",0,1),DAY($D10))-1,1,Table3[Jours fériés]),"")) | P10: =IF(A10="","",IF(K10="",IF($F10=_xlfn.XLOOKUP(P$2,Paramètres!$A$4:$A$8,Paramètres!$B$4:$B$8,"??",0,1),WORKDAY(DATE(YEAR(E10)+_xlfn.XLOOKUP(P$2,Paramètres!$A$4:$A$8,Paramètres!$B$4:$B$8,"??",0,1),MONTH(E10)+2,0)-1,1,Table3[Jours fériés]), WORKDAY(DATE(YEAR($E10)+_xlfn.XLOOKUP(P$2,Paramètres!$A$4:$A$8,Paramètres!$B$4:$B$8,"??",0,1),MONTH($E10),DAY($E10))-1,1,Table3[Jours fériés])),"")) | Q10: =IF(A10="","",IF(L10="",IF($F10=_xlfn.XLOOKUP(Q$2,Paramètres!$A$4:$A$8,Paramètres!$B$4:$B$8,"??",0,1),WORKDAY(DATE(YEAR(TODAY()),MONTH(F10)+2,0)-1,1,Table3[Jours fériés]), WORKDAY(DATE(YEAR($E10)+_xlfn.XLOOKUP(Q$2,Paramètres!$A$4:$A$8,Paramètres!$B$4:$B$8,"??",0,1),MONTH($E10),DAY($E10))-1,1,Table3[Jours fériés])),"")) -> 46819
H11: {=_xlfn.XLOOKUP(1,(Table2[Nom]=$A11)*(Table2[Prénom]=$B11)*(Table2[Entretien réalisé]=H$2),Table2[Date de l''entretien],"",0,-1)} | I11: {=_xlfn.XLOOKUP(1,(Table2[Nom]=$A11)*(Table2[Prénom]=$B11)*(Table2[Entretien réalisé]=I$2),Table2[Date de l''entretien],"",0,-1)} | J11: {=_xlfn.XLOOKUP(1,(Table2[Nom]=$A11)*(Table2[Prénom]=$B11)*(Table2[Entretien réalisé]=J$2),Table2[Date de l''entretien],"",0,-1)} | K11: {=_xlfn.XLOOKUP(1,(Table2[Nom]=$A11)*(Table2[Prénom]=$B11)*(Table2[Entretien réalisé]=K$2),Table2[Date de l''entretien],"",0,-1)} | L11: {=_xlfn.XLOOKUP(1,(Table2[Nom]=$A11)*(Table2[Prénom]=$B11)*(Table2[Entretien réalisé]=L$2),Table2[Date de l''entretien],"",0,-1)} | M11: =IF(A11="","",IF(H11="",WORKDAY(DATE(YEAR($D11),MONTH($D11)+_xlfn.XLOOKUP(M$2,Paramètres!$A$4:$A$8,Paramètres!$B$4:$B$8,"??",0,1),DAY($D11))-1,1,Table3[Jours fériés]),"")) | N11: =IF(A11="","",IF(I11="",WORKDAY(DATE(YEAR($D11),MONTH($D11)+_xlfn.XLOOKUP(N$2,Paramètres!$A$4:$A$8,Paramètres!$B$4:$B$8,"??",0,1),DAY($D11))-1,1,Table3[Jours fériés]), WORKDAY(DATE(YEAR($I11),MONTH($I11)+_xlfn.XLOOKUP(N$2,Paramètres!$A$4:$A$8,Paramètres!$B$4:$B$8,"??",0,1),DAY($I11))-1,1,Table3[Jours fériés]))) | O11: =IF(A11="","",IF(J11="",WORKDAY(DATE(YEAR($D11),MONTH($D11)+_xlfn.XLOOKUP(O$2,Paramètres!$A$4:$A$8,Paramètres!$B$4:$B$8,"??",0,1),DAY($D11))-1,1,Table3[Jours fériés]),"")) | P11: =IF(A11="","",IF(K11="",IF($F11=_xlfn.XLOOKUP(P$2,Paramètres!$A$4:$A$8,Paramètres!$B$4:$B$8,"??",0,1),WORKDAY(DATE(YEAR(E11)+_xlfn.XLOOKUP(P$2,Paramètres!$A$4:$A$8,Paramètres!$B$4:$B$8,"??",0,1),MONTH(E11)+2,0)-1,1,Table3[Jours fériés]), WORKDAY(DATE(YEAR($E11)+_xlfn.XLOOKUP(P$2,Paramètres!$A$4:$A$8,Paramètres!$B$4:$B$8,"??",0,1),MONTH($E11),DAY($E11))-1,1,Table3[Jours fériés])),"")) | Q11: =IF(A11="","",IF(L11="",IF($F11=_xlfn.XLOOKUP(Q$2,Paramètres!$A$4:$A$8,Paramètres!$B$4:$B$8,"??",0,1),WORKDAY(DATE(YEAR(TODAY()),MONTH(F11)+2,0)-1,1,Table3[Jours fériés]), WORKDAY(DATE(YEAR($E11)+_xlfn.XLOOKUP(Q$2,Paramètres!$A$4:$A$8,Paramètres!$B$4:$B$8,"??",0,1),MONTH($E11),DAY($E11))-1,1,Table3[Jours fériés])),""))
H12: {=_xlfn.XLOOKUP(1,(Table2[Nom]=$A12)*(Table2[Prénom]=$B12)*(Table2[Entretien réalisé]=H$2),Table2[Date de l''entretien],"",0,-1)} | I12: {=_xlfn.XLOOKUP(1,(Table2[Nom]=$A12)*(Table2[Prénom]=$B12)*(Table2[Entretien réalisé]=I$2),Table2[Date de l''entretien],"",0,-1)} | J12: {=_xlfn.XLOOKUP(1,(Table2[Nom]=$A12)*(Table2[Prénom]=$B12)*(Table2[Entretien réalisé]=J$2),Table2[Date de l''entretien],"",0,-1)} | K12: {=_xlfn.XLOOKUP(1,(Table2[Nom]=$A12)*(Table2[Prénom]=$B12)*(Table2[Entretien réalisé]=K$2),Table2[Date de l''entretien],"",0,-1)} | L12: {=_xlfn.XLOOKUP(1,(Table2[Nom]=$A12)*(Table2[Prénom]=$B12)*(Table2[Entretien réalisé]=L$2),Table2[Date de l''entretien],"",0,-1)} | M12: =IF(A12="","",IF(H12="",WORKDAY(DATE(YEAR($D12),MONTH($D12)+_xlfn.XLOOKUP(M$2,Paramètres!$A$4:$A$8,Paramètres!$B$4:$B$8,"??",0,1),DAY($D12))-1,1,Table3[Jours fériés]),"")) | N12: =IF(A12="","",IF(I12="",WORKDAY(DATE(YEAR($D12),MONTH($D12)+_xlfn.XLOOKUP(N$2,Paramètres!$A$4:$A$8,Paramètres!$B$4:$B$8,"??",0,1),DAY($D12))-1,1,Table3[Jours fériés]), WORKDAY(DATE(YEAR($I12),MONTH($I12)+_xlfn.XLOOKUP(N$2,Paramètres!$A$4:$A$8,Paramètres!$B$4:$B$8,"??",0,1),DAY($I12))-1,1,Table3[Jours fériés]))) | O12: =IF(A12="","",IF(J12="",WORKDAY(DATE(YEAR($D12),MONTH($D12)+_xlfn.XLOOKUP(O$2,Paramètres!$A$4:$A$8,Paramètres!$B$4:$B$8,"??",0,1),DAY($D12))-1,1,Table3[Jours fériés]),"")) | P12: =IF(A12="","",IF(K12="",IF($F12=_xlfn.XLOOKUP(P$2,Paramètres!$A$4:$A$8,Paramètres!$B$4:$B$8,"??",0,1),WORKDAY(DATE(YEAR(E12)+_xlfn.XLOOKUP(P$2,Paramètres!$A$4:$A$8,Paramètres!$B$4:$B$8,"??",0,1),MONTH(E12)+2,0)-1,1,Table3[Jours fériés]), WORKDAY(DATE(YEAR($E12)+_xlfn.XLOOKUP(P$2,Paramètres!$A$4:$A$8,Paramètres!$B$4:$B$8,"??",0,1),MONTH($E12),DAY($E12))-1,1,Table3[Jours fériés])),"")) | Q12: =IF(A12="","",IF(L12="",IF($F12=_xlfn.XLOOKUP(Q$2,Paramètres!$A$4:$A$8,Paramètres!$B$4:$B$8,"??",0,1),WORKDAY(DATE(YEAR(TODAY()),MONTH(F12)+2,0)-1,1,Table3[Jours fériés]), WORKDAY(DATE(YEAR($E12)+_xlfn.XLOOKUP(Q$2,Paramètres!$A$4:$A$8,Paramètres!$B$4:$B$8,"??",0,1),MONTH($E12),DAY($E12))-1,1,Table3[Jours fériés])),""))
H13: {=_xlfn.XLOOKUP(1,(Table2[Nom]=$A13)*(Table2[Prénom]=$B13)*(Table2[Entretien réalisé]=H$2),Table2[Date de l''entretien],"",0,-1)} | I13: {=_xlfn.XLOOKUP(1,(Table2[Nom]=$A13)*(Table2[Prénom]=$B13)*(Table2[Entretien réalisé]=I$2),Table2[Date de l''entretien],"",0,-1)} | J13: {=_xlfn.XLOOKUP(1,(Table2[Nom]=$A13)*(Table2[Prénom]=$B13)*(Table2[Entretien réalisé]=J$2),Table2[Date de l''entretien],"",0,-1)} | K13: {=_xlfn.XLOOKUP(1,(Table2[Nom]=$A13)*(Table2[Prénom]=$B13)*(Table2[Entretien réalisé]=K$2),Table2[Date de l''entretien],"",0,-1)} | L13: {=_xlfn.XLOOKUP(1,(Table2[Nom]=$A13)*(Table2[Prénom]=$B13)*(Table2[Entretien réalisé]=L$2),Table2[Date de l''entretien],"",0,-1)} | M13: =IF(A13="","",IF(H13="",WORKDAY(DATE(YEAR($D13),MONTH($D13)+_xlfn.XLOOKUP(M$2,Paramètres!$A$4:$A$8,Paramètres!$B$4:$B$8,"??",0,1),DAY($D13))-1,1,Table3[Jours fériés]),"")) | N13: =IF(A13="","",IF(I13="",WORKDAY(DATE(YEAR($D13),MONTH($D13)+_xlfn.XLOOKUP(N$2,Paramètres!$A$4:$A$8,Paramètres!$B$4:$B$8,"??",0,1),DAY($D13))-1,1,Table3[Jours fériés]), WORKDAY(DATE(YEAR($I13),MONTH($I13)+_xlfn.XLOOKUP(N$2,Paramètres!$A$4:$A$8,Paramètres!$B$4:$B$8,"??",0,1),DAY($I13))-1,1,Table3[Jours fériés]))) | O13: =IF(A13="","",IF(J13="",WORKDAY(DATE(YEAR($D13),MONTH($D13)+_xlfn.XLOOKUP(O$2,Paramètres!$A$4:$A$8,Paramètres!$B$4:$B$8,"??",0,1),DAY($D13))-1,1,Table3[Jours fériés]),"")) | P13: =IF(A13="","",IF(K13="",IF($F13=_xlfn.XLOOKUP(P$2,Paramètres!$A$4:$A$8,Paramètres!$B$4:$B$8,"??",0,1),WORKDAY(DATE(YEAR(E13)+_xlfn.XLOOKUP(P$2,Paramètres!$A$4:$A$8,Paramètres!$B$4:$B$8,"??",0,1),MONTH(E13)+2,0)-1,1,Table3[Jours fériés]), WORKDAY(DATE(YEAR($E13)+_xlfn.XLOOKUP(P$2,Paramètres!$A$4:$A$8,Paramètres!$B$4:$B$8,"??",0,1),MONTH($E13),DAY($E13))-1,1,Table3[Jours fériés])),"")) | Q13: =IF(A13="","",IF(L13="",IF($F13=_xlfn.XLOOKUP(Q$2,Paramètres!$A$4:$A$8,Paramètres!$B$4:$B$8,"??",0,1),WORKDAY(DATE(YEAR(TODAY()),MONTH(F13)+2,0)-1,1,Table3[Jours fériés]), WORKDAY(DATE(YEAR($E13)+_xlfn.XLOOKUP(Q$2,Paramètres!$A$4:$A$8,Paramètres!$B$4:$B$8,"??",0,1),MONTH($E13),DAY($E13))-1,1,Table3[Jours fériés])),""))
H14: {=_xlfn.XLOOKUP(1,(Table2[Nom]=$A14)*(Table2[Prénom]=$B14)*(Table2[Entretien réalisé]=H$2),Table2[Date de l''entretien],"",0,-1)} | I14: {=_xlfn.XLOOKUP(1,(Table2[Nom]=$A14)*(Table2[Prénom]=$B14)*(Table2[Entretien réalisé]=I$2),Table2[Date de l''entretien],"",0,-1)} | J14: {=_xlfn.XLOOKUP(1,(Table2[Nom]=$A14)*(Table2[Prénom]=$B14)*(Table2[Entretien réalisé]=J$2),Table2[Date de l''entretien],"",0,-1)} | K14: {=_xlfn.XLOOKUP(1,(Table2[Nom]=$A14)*(Table2[Prénom]=$B14)*(Table2[Entretien réalisé]=K$2),Table2[Date de l''entretien],"",0,-1)} | L14: {=_xlfn.XLOOKUP(1,(Table2[Nom]=$A14)*(Table2[Prénom]=$B14)*(Table2[Entretien réalisé]=L$2),Table2[Date de l''entretien],"",0,-1)} | M14: =IF(A14="","",IF(H14="",WORKDAY(DATE(YEAR($D14),MONTH($D14)+_xlfn.XLOOKUP(M$2,Paramètres!$A$4:$A$8,Paramètres!$B$4:$B$8,"??",0,1),DAY($D14))-1,1,Table3[Jours fériés]),"")) | N14: =IF(A14="","",IF(I14="",WORKDAY(DATE(YEAR($D14),MONTH($D14)+_xlfn.XLOOKUP(N$2,Paramètres!$A$4:$A$8,Paramètres!$B$4:$B$8,"??",0,1),DAY($D14))-1,1,Table3[Jours fériés]), WORKDAY(DATE(YEAR($I14),MONTH($I14)+_xlfn.XLOOKUP(N$2,Paramètres!$A$4:$A$8,Paramètres!$B$4:$B$8,"??",0,1),DAY($I14))-1,1,Table3[Jours fériés]))) | O14: =IF(A14="","",IF(J14="",WORKDAY(DATE(YEAR($D14),MONTH($D14)+_xlfn.XLOOKUP(O$2,Paramètres!$A$4:$A$8,Paramètres!$B$4:$B$8,"??",0,1),DAY($D14))-1,1,Table3[Jours fériés]),"")) | P14: =IF(A14="","",IF(K14="",IF($F14=_xlfn.XLOOKUP(P$2,Paramètres!$A$4:$A$8,Paramètres!$B$4:$B$8,"??",0,1),WORKDAY(DATE(YEAR(E14)+_xlfn.XLOOKUP(P$2,Paramètres!$A$4:$A$8,Paramètres!$B$4:$B$8,"??",0,1),MONTH(E14)+2,0)-1,1,Table3[Jours fériés]), WORKDAY(DATE(YEAR($E14)+_xlfn.XLOOKUP(P$2,Paramètres!$A$4:$A$8,Paramètres!$B$4:$B$8,"??",0,1),MONTH($E14),DAY($E14))-1,1,Table3[Jours fériés])),"")) | Q14: =IF(A14="","",IF(L14="",IF($F14=_xlfn.XLOOKUP(Q$2,Paramètres!$A$4:$A$8,Paramètres!$B$4:$B$8,"??",0,1),WORKDAY(DATE(YEAR(TODAY()),MONTH(F14)+2,0)-1,1,Table3[Jours fériés]), WORKDAY(DATE(YEAR($E14)+_xlfn.XLOOKUP(Q$2,Paramètres!$A$4:$A$8,Paramètres!$B$4:$B$8,"??",0,1),MONTH($E14),DAY($E14))-1,1,Table3[Jours fériés])),""))
H15: {=_xlfn.XLOOKUP(1,(Table2[Nom]=$A15)*(Table2[Prénom]=$B15)*(Table2[Entretien réalisé]=H$2),Table2[Date de l''entretien],"",0,-1)} | I15: {=_xlfn.XLOOKUP(1,(Table2[Nom]=$A15)*(Table2[Prénom]=$B15)*(Table2[Entretien réalisé]=I$2),Table2[Date de l''entretien],"",0,-1)} | J15: {=_xlfn.XLOOKUP(1,(Table2[Nom]=$A15)*(Table2[Prénom]=$B15)*(Table2[Entretien réalisé]=J$2),Table2[Date de l''entretien],"",0,-1)} | K15: {=_xlfn.XLOOKUP(1,(Table2[Nom]=$A15)*(Table2[Prénom]=$B15)*(Table2[Entretien réalisé]=K$2),Table2[Date de l''entretien],"",0,-1)} | L15: {=_xlfn.XLOOKUP(1,(Table2[Nom]=$A15)*(Table2[Prénom]=$B15)*(Table2[Entretien réalisé]=L$2),Table2[Date de l''entretien],"",0,-1)} | M15: =IF(A15="","",IF(H15="",WORKDAY(DATE(YEAR($D15),MONTH($D15)+_xlfn.XLOOKUP(M$2,Paramètres!$A$4:$A$8,Paramètres!$B$4:$B$8,"??",0,1),DAY($D15))-1,1,Table3[Jours fériés]),"")) | N15: =IF(A15="","",IF(I15="",WORKDAY(DATE(YEAR($D15),MONTH($D15)+_xlfn.XLOOKUP(N$2,Paramètres!$A$4:$A$8,Paramètres!$B$4:$B$8,"??",0,1),DAY($D15))-1,1,Table3[Jours fériés]), WORKDAY(DATE(YEAR($I15),MONTH($I15)+_xlfn.XLOOKUP(N$2,Paramètres!$A$4:$A$8,Paramètres!$B$4:$B$8,"??",0,1),DAY($I15))-1,1,Table3[Jours fériés]))) | O15: =IF(A15="","",IF(J15="",WORKDAY(DATE(YEAR($D15),MONTH($D15)+_xlfn.XLOOKUP(O$2,Paramètres!$A$4:$A$8,Paramètres!$B$4:$B$8,"??",0,1),DAY($D15))-1,1,Table3[Jours fériés]),"")) | P15: =IF(A15="","",IF(K15="",IF($F15=_xlfn.XLOOKUP(P$2,Paramètres!$A$4:$A$8,Paramètres!$B$4:$B$8,"??",0,1),WORKDAY(DATE(YEAR(E15)+_xlfn.XLOOKUP(P$2,Paramètres!$A$4:$A$8,Paramètres!$B$4:$B$8,"??",0,1),MONTH(E15)+2,0)-1,1,Table3[Jours fériés]), WORKDAY(DATE(YEAR($E15)+_xlfn.XLOOKUP(P$2,Paramètres!$A$4:$A$8,Paramètres!$B$4:$B$8,"??",0,1),MONTH($E15),DAY($E15))-1,1,Table3[Jours fériés])),"")) | Q15: =IF(A15="","",IF(L15="",IF($F15=_xlfn.XLOOKUP(Q$2,Paramètres!$A$4:$A$8,Paramètres!$B$4:$B$8,"??",0,1),WORKDAY(DATE(YEAR(TODAY()),MONTH(F15)+2,0)-1,1,Table3[Jours fériés]), WORKDAY(DATE(YEAR($E15)+_xlfn.XLOOKUP(Q$2,Paramètres!$A$4:$A$8,Paramètres!$B$4:$B$8,"??",0,1),MONTH($E15),DAY($E15))-1,1,Table3[Jours fériés])),""))
H16: {=_xlfn.XLOOKUP(1,(Table2[Nom]=$A16)*(Table2[Prénom]=$B16)*(Table2[Entretien réalisé]=H$2),Table2[Date de l''entretien],"",0,-1)} | I16: {=_xlfn.XLOOKUP(1,(Table2[Nom]=$A16)*(Table2[Prénom]=$B16)*(Table2[Entretien réalisé]=I$2),Table2[Date de l''entretien],"",0,-1)} | J16: {=_xlfn.XLOOKUP(1,(Table2[Nom]=$A16)*(Table2[Prénom]=$B16)*(Table2[Entretien réalisé]=J$2),Table2[Date de l''entretien],"",0,-1)} | K16: {=_xlfn.XLOOKUP(1,(Table2[Nom]=$A16)*(Table2[Prénom]=$B16)*(Table2[Entretien réalisé]=K$2),Table2[Date de l''entretien],"",0,-1)} | L16: {=_xlfn.XLOOKUP(1,(Table2[Nom]=$A16)*(Table2[Prénom]=$B16)*(Table2[Entretien réalisé]=L$2),Table2[Date de l''entretien],"",0,-1)} | M16: =IF(A16="","",IF(H16="",WORKDAY(DATE(YEAR($D16),MONTH($D16)+_xlfn.XLOOKUP(M$2,Paramètres!$A$4:$A$8,Paramètres!$B$4:$B$8,"??",0,1),DAY($D16))-1,1,Table3[Jours fériés]),"")) | N16: =IF(A16="","",IF(I16="",WORKDAY(DATE(YEAR($D16),MONTH($D16)+_xlfn.XLOOKUP(N$2,Paramètres!$A$4:$A$8,Paramètres!$B$4:$B$8,"??",0,1),DAY($D16))-1,1,Table3[Jours fériés]), WORKDAY(DATE(YEAR($I16),MONTH($I16)+_xlfn.XLOOKUP(N$2,Paramètres!$A$4:$A$8,Paramètres!$B$4:$B$8,"??",0,1),DAY($I16))-1,1,Table3[Jours fériés]))) | O16: =IF(A16="","",IF(J16="",WORKDAY(DATE(YEAR($D16),MONTH($D16)+_xlfn.XLOOKUP(O$2,Paramètres!$A$4:$A$8,Paramètres!$B$4:$B$8,"??",0,1),DAY($D16))-1,1,Table3[Jours fériés]),"")) | P16: =IF(A16="","",IF(K16="",IF($F16=_xlfn.XLOOKUP(P$2,Paramètres!$A$4:$A$8,Paramètres!$B$4:$B$8,"??",0,1),WORKDAY(DATE(YEAR(E16)+_xlfn.XLOOKUP(P$2,Paramètres!$A$4:$A$8,Paramètres!$B$4:$B$8,"??",0,1),MONTH(E16)+2,0)-1,1,Table3[Jours fériés]), WORKDAY(DATE(YEAR($E16)+_xlfn.XLOOKUP(P$2,Paramètres!$A$4:$A$8,Paramètres!$B$4:$B$8,"??",0,1),MONTH($E16),DAY($E16))-1,1,Table3[Jours fériés])),"")) | Q16: =IF(A16="","",IF(L16="",IF($F16=_xlfn.XLOOKUP(Q$2,Paramètres!$A$4:$A$8,Paramètres!$B$4:$B$8,"??",0,1),WORKDAY(DATE(YEAR(TODAY()),MONTH(F16)+2,0)-1,1,Table3[Jours fériés]), WORKDAY(DATE(YEAR($E16)+_xlfn.XLOOKUP(Q$2,Paramètres!$A$4:$A$8,Paramètres!$B$4:$B$8,"??",0,1),MONTH($E16),DAY($E16))-1,1,Table3[Jours fériés])),""))
H17: {=_xlfn.XLOOKUP(1,(Table2[Nom]=$A17)*(Table2[Prénom]=$B17)*(Table2[Entretien réalisé]=H$2),Table2[Date de l''entretien],"",0,-1)} | I17: {=_xlfn.XLOOKUP(1,(Table2[Nom]=$A17)*(Table2[Prénom]=$B17)*(Table2[Entretien réalisé]=I$2),Table2[Date de l''entretien],"",0,-1)} | J17: {=_xlfn.XLOOKUP(1,(Table2[Nom]=$A17)*(Table2[Prénom]=$B17)*(Table2[Entretien réalisé]=J$2),Table2[Date de l''entretien],"",0,-1)} | K17: {=_xlfn.XLOOKUP(1,(Table2[Nom]=$A17)*(Table2[Prénom]=$B17)*(Table2[Entretien réalisé]=K$2),Table2[Date de l''entretien],"",0,-1)} | L17: {=_xlfn.XLOOKUP(1,(Table2[Nom]=$A17)*(Table2[Prénom]=$B17)*(Table2[Entretien réalisé]=L$2),Table2[Date de l''entretien],"",0,-1)} | M17: =IF(A17="","",IF(H17="",WORKDAY(DATE(YEAR($D17),MONTH($D17)+_xlfn.XLOOKUP(M$2,Paramètres!$A$4:$A$8,Paramètres!$B$4:$B$8,"??",0,1),DAY($D17))-1,1,Table3[Jours fériés]),"")) | N17: =IF(A17="","",IF(I17="",WORKDAY(DATE(YEAR($D17),MONTH($D17)+_xlfn.XLOOKUP(N$2,Paramètres!$A$4:$A$8,Paramètres!$B$4:$B$8,"??",0,1),DAY($D17))-1,1,Table3[Jours fériés]), WORKDAY(DATE(YEAR($I17),MONTH($I17)+_xlfn.XLOOKUP(N$2,Paramètres!$A$4:$A$8,Paramètres!$B$4:$B$8,"??",0,1),DAY($I17))-1,1,Table3[Jours fériés]))) | O17: =IF(A17="","",IF(J17="",WORKDAY(DATE(YEAR($D17),MONTH($D17)+_xlfn.XLOOKUP(O$2,Paramètres!$A$4:$A$8,Paramètres!$B$4:$B$8,"??",0,1),DAY($D17))-1,1,Table3[Jours fériés]),"")) | P17: =IF(A17="","",IF(K17="",IF($F17=_xlfn.XLOOKUP(P$2,Paramètres!$A$4:$A$8,Paramètres!$B$4:$B$8,"??",0,1),WORKDAY(DATE(YEAR(E17)+_xlfn.XLOOKUP(P$2,Paramètres!$A$4:$A$8,Paramètres!$B$4:$B$8,"??",0,1),MONTH(E17)+2,0)-1,1,Table3[Jours fériés]), WORKDAY(DATE(YEAR($E17)+_xlfn.XLOOKUP(P$2,Paramètres!$A$4:$A$8,Paramètres!$B$4:$B$8,"??",0,1),MONTH($E17),DAY($E17))-1,1,Table3[Jours fériés])),"")) | Q17: =IF(A17="","",IF(L17="",IF($F17=_xlfn.XLOOKUP(Q$2,Paramètres!$A$4:$A$8,Paramètres!$B$4:$B$8,"??",0,1),WORKDAY(DATE(YEAR(TODAY()),MONTH(F17)+2,0)-1,1,Table3[Jours fériés]), WORKDAY(DATE(YEAR($E17)+_xlfn.XLOOKUP(Q$2,Paramètres!$A$4:$A$8,Paramètres!$B$4:$B$8,"??",0,1),MONTH($E17),DAY($E17))-1,1,Table3[Jours fériés])),""))
H18: {=_xlfn.XLOOKUP(1,(Table2[Nom]=$A18)*(Table2[Prénom]=$B18)*(Table2[Entretien réalisé]=H$2),Table2[Date de l''entretien],"",0,-1)} | I18: {=_xlfn.XLOOKUP(1,(Table2[Nom]=$A18)*(Table2[Prénom]=$B18)*(Table2[Entretien réalisé]=I$2),Table2[Date de l''entretien],"",0,-1)} | J18: {=_xlfn.XLOOKUP(1,(Table2[Nom]=$A18)*(Table2[Prénom]=$B18)*(Table2[Entretien réalisé]=J$2),Table2[Date de l''entretien],"",0,-1)} | K18: {=_xlfn.XLOOKUP(1,(Table2[Nom]=$A18)*(Table2[Prénom]=$B18)*(Table2[Entretien réalisé]=K$2),Table2[Date de l''entretien],"",0,-1)} | L18: {=_xlfn.XLOOKUP(1,(Table2[Nom]=$A18)*(Table2[Prénom]=$B18)*(Table2[Entretien réalisé]=L$2),Table2[Date de l''entretien],"",0,-1)} | M18: =IF(A18="","",IF(H18="",WORKDAY(DATE(YEAR($D18),MONTH($D18)+_xlfn.XLOOKUP(M$2,Paramètres!$A$4:$A$8,Paramètres!$B$4:$B$8,"??",0,1),DAY($D18))-1,1,Table3[Jours fériés]),"")) | N18: =IF(A18="","",IF(I18="",WORKDAY(DATE(YEAR($D18),MONTH($D18)+_xlfn.XLOOKUP(N$2,Paramètres!$A$4:$A$8,Paramètres!$B$4:$B$8,"??",0,1),DAY($D18))-1,1,Table3[Jours fériés]), WORKDAY(DATE(YEAR($I18),MONTH($I18)+_xlfn.XLOOKUP(N$2,Paramètres!$A$4:$A$8,Paramètres!$B$4:$B$8,"??",0,1),DAY($I18))-1,1,Table3[Jours fériés]))) | O18: =IF(A18="","",IF(J18="",WORKDAY(DATE(YEAR($D18),MONTH($D18)+_xlfn.XLOOKUP(O$2,Paramètres!$A$4:$A$8,Paramètres!$B$4:$B$8,"??",0,1),DAY($D18))-1,1,Table3[Jours fériés]),"")) | P18: =IF(A18="","",IF(K18="",IF($F18=_xlfn.XLOOKUP(P$2,Paramètres!$A$4:$A$8,Paramètres!$B$4:$B$8,"??",0,1),WORKDAY(DATE(YEAR(E18)+_xlfn.XLOOKUP(P$2,Paramètres!$A$4:$A$8,Paramètres!$B$4:$B$8,"??",0,1),MONTH(E18)+2,0)-1,1,Table3[Jours fériés]), WORKDAY(DATE(YEAR($E18)+_xlfn.XLOOKUP(P$2,Paramètres!$A$4:$A$8,Paramètres!$B$4:$B$8,"??",0,1),MONTH($E18),DAY($E18))-1,1,Table3[Jours fériés])),"")) | Q18: =IF(A18="","",IF(L18="",IF($F18=_xlfn.XLOOKUP(Q$2,Paramètres!$A$4:$A$8,Paramètres!$B$4:$B$8,"??",0,1),WORKDAY(DATE(YEAR(TODAY()),MONTH(F18)+2,0)-1,1,Table3[Jours fériés]), WORKDAY(DATE(YEAR($E18)+_xlfn.XLOOKUP(Q$2,Paramètres!$A$4:$A$8,Paramètres!$B$4:$B$8,"??",0,1),MONTH($E18),DAY($E18))-1,1,Table3[Jours fériés])),""))
H19: {=_xlfn.XLOOKUP(1,(Table2[Nom]=$A19)*(Table2[Prénom]=$B19)*(Table2[Entretien réalisé]=H$2),Table2[Date de l''entretien],"",0,-1)} | I19: {=_xlfn.XLOOKUP(1,(Table2[Nom]=$A19)*(Table2[Prénom]=$B19)*(Table2[Entretien réalisé]=I$2),Table2[Date de l''entretien],"",0,-1)} | J19: {=_xlfn.XLOOKUP(1,(Table2[Nom]=$A19)*(Table2[Prénom]=$B19)*(Table2[Entretien réalisé]=J$2),Table2[Date de l''entretien],"",0,-1)} | K19: {=_xlfn.XLOOKUP(1,(Table2[Nom]=$A19)*(Table2[Prénom]=$B19)*(Table2[Entretien réalisé]=K$2),Table2[Date de l''entretien],"",0,-1)} | L19: {=_xlfn.XLOOKUP(1,(Table2[Nom]=$A19)*(Table2[Prénom]=$B19)*(Table2[Entretien réalisé]=L$2),Table2[Date de l''entretien],"",0,-1)} | M19: =IF(A19="","",IF(H19="",WORKDAY(DATE(YEAR($D19),MONTH($D19)+_xlfn.XLOOKUP(M$2,Paramètres!$A$4:$A$8,Paramètres!$B$4:$B$8,"??",0,1),DAY($D19))-1,1,Table3[Jours fériés]),"")) | N19: =IF(A19="","",IF(I19="",WORKDAY(DATE(YEAR($D19),MONTH($D19)+_xlfn.XLOOKUP(N$2,Paramètres!$A$4:$A$8,Paramètres!$B$4:$B$8,"??",0,1),DAY($D19))-1,1,Table3[Jours fériés]), WORKDAY(DATE(YEAR($I19),MONTH($I19)+_xlfn.XLOOKUP(N$2,Paramètres!$A$4:$A$8,Paramètres!$B$4:$B$8,"??",0,1),DAY($I19))-1,1,Table3[Jours fériés]))) | O19: =IF(A19="","",IF(J19="",WORKDAY(DATE(YEAR($D19),MONTH($D19)+_xlfn.XLOOKUP(O$2,Paramètres!$A$4:$A$8,Paramètres!$B$4:$B$8,"??",0,1),DAY($D19))-1,1,Table3[Jours fériés]),"")) | P19: =IF(A19="","",IF(K19="",IF($F19=_xlfn.XLOOKUP(P$2,Paramètres!$A$4:$A$8,Paramètres!$B$4:$B$8,"??",0,1),WORKDAY(DATE(YEAR(E19)+_xlfn.XLOOKUP(P$2,Paramètres!$A$4:$A$8,Paramètres!$B$4:$B$8,"??",0,1),MONTH(E19)+2,0)-1,1,Table3[Jours fériés]), WORKDAY(DATE(YEAR($E19)+_xlfn.XLOOKUP(P$2,Paramètres!$A$4:$A$8,Paramètres!$B$4:$B$8,"??",0,1),MONTH($E19),DAY($E19))-1,1,Table3[Jours fériés])),"")) | Q19: =IF(A19="","",IF(L19="",IF($F19=_xlfn.XLOOKUP(Q$2,Paramètres!$A$4:$A$8,Paramètres!$B$4:$B$8,"??",0,1),WORKDAY(DATE(YEAR(TODAY()),MONTH(F19)+2,0)-1,1,Table3[Jours fériés]), WORKDAY(DATE(YEAR($E19)+_xlfn.XLOOKUP(Q$2,Paramètres!$A$4:$A$8,Paramètres!$B$4:$B$8,"??",0,1),MONTH($E19),DAY($E19))-1,1,Table3[Jours fériés])),""))
H20: {=_xlfn.XLOOKUP(1,(Table2[Nom]=$A20)*(Table2[Prénom]=$B20)*(Table2[Entretien réalisé]=H$2),Table2[Date de l''entretien],"",0,-1)} | I20: {=_xlfn.XLOOKUP(1,(Table2[Nom]=$A20)*(Table2[Prénom]=$B20)*(Table2[Entretien réalisé]=I$2),Table2[Date de l''entretien],"",0,-1)} | J20: {=_xlfn.XLOOKUP(1,(Table2[Nom]=$A20)*(Table2[Prénom]=$B20)*(Table2[Entretien réalisé]=J$2),Table2[Date de l''entretien],"",0,-1)} | K20: {=_xlfn.XLOOKUP(1,(Table2[Nom]=$A20)*(Table2[Prénom]=$B20)*(Table2[Entretien réalisé]=K$2),Table2[Date de l''entretien],"",0,-1)} | L20: {=_xlfn.XLOOKUP(1,(Table2[Nom]=$A20)*(Table2[Prénom]=$B20)*(Table2[Entretien réalisé]=L$2),Table2[Date de l''entretien],"",0,-1)} | M20: =IF(A20="","",IF(H20="",WORKDAY(DATE(YEAR($D20),MONTH($D20)+_xlfn.XLOOKUP(M$2,Paramètres!$A$4:$A$8,Paramètres!$B$4:$B$8,"??",0,1),DAY($D20))-1,1,Table3[Jours fériés]),"")) | N20: =IF(A20="","",IF(I20="",WORKDAY(DATE(YEAR($D20),MONTH($D20)+_xlfn.XLOOKUP(N$2,Paramètres!$A$4:$A$8,Paramètres!$B$4:$B$8,"??",0,1),DAY($D20))-1,1,Table3[Jours fériés]), WORKDAY(DATE(YEAR($I20),MONTH($I20)+_xlfn.XLOOKUP(N$2,Paramètres!$A$4:$A$8,Paramètres!$B$4:$B$8,"??",0,1),DAY($I20))-1,1,Table3[Jours fériés]))) | O20: =IF(A20="","",IF(J20="",WORKDAY(DATE(YEAR($D20),MONTH($D20)+_xlfn.XLOOKUP(O$2,Paramètres!$A$4:$A$8,Paramètres!$B$4:$B$8,"??",0,1),DAY($D20))-1,1,Table3[Jours fériés]),"")) | P20: =IF(A20="","",IF(K20="",IF($F20=_xlfn.XLOOKUP(P$2,Paramètres!$A$4:$A$8,Paramètres!$B$4:$B$8,"??",0,1),WORKDAY(DATE(YEAR(E20)+_xlfn.XLOOKUP(P$2,Paramètres!$A$4:$A$8,Paramètres!$B$4:$B$8,"??",0,1),MONTH(E20)+2,0)-1,1,Table3[Jours fériés]), WORKDAY(DATE(YEAR($E20)+_xlfn.XLOOKUP(P$2,Paramètres!$A$4:$A$8,Paramètres!$B$4:$B$8,"??",0,1),MONTH($E20),DAY($E20))-1,1,Table3[Jours fériés])),"")) | Q20: =IF(A20="","",IF(L20="",IF($F20=_xlfn.XLOOKUP(Q$2,Paramètres!$A$4:$A$8,Paramètres!$B$4:$B$8,"??",0,1),WORKDAY(DATE(YEAR(TODAY()),MONTH(F20)+2,0)-1,1,Table3[Jours fériés]), WORKDAY(DATE(YEAR($E20)+_xlfn.XLOOKUP(Q$2,Paramètres!$A$4:$A$8,Paramètres!$B$4:$B$8,"??",0,1),MONTH($E20),DAY($E20))-1,1,Table3[Jours fériés])),""))
H21: {=_xlfn.XLOOKUP(1,(Table2[Nom]=$A21)*(Table2[Prénom]=$B21)*(Table2[Entretien réalisé]=H$2),Table2[Date de l''entretien],"",0,-1)} | I21: {=_xlfn.XLOOKUP(1,(Table2[Nom]=$A21)*(Table2[Prénom]=$B21)*(Table2[Entretien réalisé]=I$2),Table2[Date de l''entretien],"",0,-1)} | J21: {=_xlfn.XLOOKUP(1,(Table2[Nom]=$A21)*(Table2[Prénom]=$B21)*(Table2[Entretien réalisé]=J$2),Table2[Date de l''entretien],"",0,-1)} | K21: {=_xlfn.XLOOKUP(1,(Table2[Nom]=$A21)*(Table2[Prénom]=$B21)*(Table2[Entretien réalisé]=K$2),Table2[Date de l''entretien],"",0,-1)} | L21: {=_xlfn.XLOOKUP(1,(Table2[Nom]=$A21)*(Table2[Prénom]=$B21)*(Table2[Entretien réalisé]=L$2),Table2[Date de l''entretien],"",0,-1)} | M21: =IF(A21="","",IF(H21="",WORKDAY(DATE(YEAR($D21),MONTH($D21)+_xlfn.XLOOKUP(M$2,Paramètres!$A$4:$A$8,Paramètres!$B$4:$B$8,"??",0,1),DAY($D21))-1,1,Table3[Jours fériés]),"")) | N21: =IF(A21="","",IF(I21="",WORKDAY(DATE(YEAR($D21),MONTH($D21)+_xlfn.XLOOKUP(N$2,Paramètres!$A$4:$A$8,Paramètres!$B$4:$B$8,"??",0,1),DAY($D21))-1,1,Table3[Jours fériés]), WORKDAY(DATE(YEAR($I21),MONTH($I21)+_xlfn.XLOOKUP(N$2,Paramètres!$A$4:$A$8,Paramètres!$B$4:$B$8,"??",0,1),DAY($I21))-1,1,Table3[Jours fériés]))) | O21: =IF(A21="","",IF(J21="",WORKDAY(DATE(YEAR($D21),MONTH($D21)+_xlfn.XLOOKUP(O$2,Paramètres!$A$4:$A$8,Paramètres!$B$4:$B$8,"??",0,1),DAY($D21))-1,1,Table3[Jours fériés]),"")) | P21: =IF(A21="","",IF(K21="",IF($F21=_xlfn.XLOOKUP(P$2,Paramètres!$A$4:$A$8,Paramètres!$B$4:$B$8,"??",0,1),WORKDAY(DATE(YEAR(E21)+_xlfn.XLOOKUP(P$2,Paramètres!$A$4:$A$8,Paramètres!$B$4:$B$8,"??",0,1),MONTH(E21)+2,0)-1,1,Table3[Jours fériés]), WORKDAY(DATE(YEAR($E21)+_xlfn.XLOOKUP(P$2,Paramètres!$A$4:$A$8,Paramètres!$B$4:$B$8,"??",0,1),MONTH($E21),DAY($E21))-1,1,Table3[Jours fériés])),"")) | Q21: =IF(A21="","",IF(L21="",IF($F21=_xlfn.XLOOKUP(Q$2,Paramètres!$A$4:$A$8,Paramètres!$B$4:$B$8,"??",0,1),WORKDAY(DATE(YEAR(TODAY()),MONTH(F21)+2,0)-1,1,Table3[Jours fériés]), WORKDAY(DATE(YEAR($E21)+_xlfn.XLOOKUP(Q$2,Paramètres!$A$4:$A$8,Paramètres!$B$4:$B$8,"??",0,1),MONTH($E21),DAY($E21))-1,1,Table3[Jours fériés])),""))
H22: {=_xlfn.XLOOKUP(1,(Table2[Nom]=$A22)*(Table2[Prénom]=$B22)*(Table2[Entretien réalisé]=H$2),Table2[Date de l''entretien],"",0,-1)} | I22: {=_xlfn.XLOOKUP(1,(Table2[Nom]=$A22)*(Table2[Prénom]=$B22)*(Table2[Entretien réalisé]=I$2),Table2[Date de l''entretien],"",0,-1)} | J22: {=_xlfn.XLOOKUP(1,(Table2[Nom]=$A22)*(Table2[Prénom]=$B22)*(Table2[Entretien réalisé]=J$2),Table2[Date de l''entretien],"",0,-1)} | K22: {=_xlfn.XLOOKUP(1,(Table2[Nom]=$A22)*(Table2[Prénom]=$B22)*(Table2[Entretien réalisé]=K$2),Table2[Date de l''entretien],"",0,-1)} | L22: {=_xlfn.XLOOKUP(1,(Table2[Nom]=$A22)*(Table2[Prénom]=$B22)*(Table2[Entretien réalisé]=L$2),Table2[Date de l''entretien],"",0,-1)} | M22: =IF(A22="","",IF(H22="",WORKDAY(DATE(YEAR($D22),MONTH($D22)+_xlfn.XLOOKUP(M$2,Paramètres!$A$4:$A$8,Paramètres!$B$4:$B$8,"??",0,1),DAY($D22))-1,1,Table3[Jours fériés]),"")) | N22: =IF(A22="","",IF(I22="",WORKDAY(DATE(YEAR($D22),MONTH($D22)+_xlfn.XLOOKUP(N$2,Paramètres!$A$4:$A$8,Paramètres!$B$4:$B$8,"??",0,1),DAY($D22))-1,1,Table3[Jours fériés]), WORKDAY(DATE(YEAR($I22),MONTH($I22)+_xlfn.XLOOKUP(N$2,Paramètres!$A$4:$A$8,Paramètres!$B$4:$B$8,"??",0,1),DAY($I22))-1,1,Table3[Jours fériés]))) | O22: =IF(A22="","",IF(J22="",WORKDAY(DATE(YEAR($D22),MONTH($D22)+_xlfn.XLOOKUP(O$2,Paramètres!$A$4:$A$8,Paramètres!$B$4:$B$8,"??",0,1),DAY($D22))-1,1,Table3[Jours fériés]),"")) | P22: =IF(A22="","",IF(K22="",IF($F22=_xlfn.XLOOKUP(P$2,Paramètres!$A$4:$A$8,Paramètres!$B$4:$B$8,"??",0,1),WORKDAY(DATE(YEAR(E22)+_xlfn.XLOOKUP(P$2,Paramètres!$A$4:$A$8,Paramètres!$B$4:$B$8,"??",0,1),MONTH(E22)+2,0)-1,1,Table3[Jours fériés]), WORKDAY(DATE(YEAR($E22)+_xlfn.XLOOKUP(P$2,Paramètres!$A$4:$A$8,Paramètres!$B$4:$B$8,"??",0,1),MONTH($E22),DAY($E22))-1,1,Table3[Jours fériés])),"")) | Q22: =IF(A22="","",IF(L22="",IF($F22=_xlfn.XLOOKUP(Q$2,Paramètres!$A$4:$A$8,Paramètres!$B$4:$B$8,"??",0,1),WORKDAY(DATE(YEAR(TODAY()),MONTH(F22)+2,0)-1,1,Table3[Jours fériés]), WORKDAY(DATE(YEAR($E22)+_xlfn.XLOOKUP(Q$2,Paramètres!$A$4:$A$8,Paramètres!$B$4:$B$8,"??",0,1),MONTH($E22),DAY($E22))-1,1,Table3[Jours fériés])),""))
... H300: {=_xlfn.XLOOKUP(1,(Table2[Nom]=$A300)*(Table2[Prénom]=$B300)*(Table2[Entretien réalisé]=H$2),Table2[Date de l''entretien],"",0,-1)} | I300: {=_xlfn.XLOOKUP(1,(Table2[Nom]=$A300)*(Table2[Prénom]=$B300)*(Table2[Entretien réalisé]=I$2),Table2[Date de l''entretien],"",0,-1)} | J300: {=_xlfn.XLOOKUP(1,(Table2[Nom]=$A300)*(Table2[Prénom]=$B300)*(Table2[Entretien réalisé]=J$2),Table2[Date de l''entretien],"",0,-1)} | K300: {=_xlfn.XLOOKUP(1,(Table2[Nom]=$A300)*(Table2[Prénom]=$B300)*(Table2[Entretien réalisé]=K$2),Table2[Date de l''entretien],"",0,-1)} | L300: {=_xlfn.XLOOKUP(1,(Table2[Nom]=$A300)*(Table2[Prénom]=$B300)*(Table2[Entretien réalisé]=L$2),Table2[Date de l''entretien],"",0,-1)} | M300: =IF(A300="","",IF(H300="",WORKDAY(DATE(YEAR($D300),MONTH($D300)+_xlfn.XLOOKUP(M$2,Paramètres!$A$4:$A$8,Paramètres!$B$4:$B$8,"??",0,1),DAY($D300))-1,1,Table3[Jours fériés]),"")) | N300: =IF(A300="","",IF(I300="",WORKDAY(DATE(YEAR($D300),MONTH($D300)+_xlfn.XLOOKUP(N$2,Paramètres!$A$4:$A$8,Paramètres!$B$4:$B$8,"??",0,1),DAY($D300))-1,1,Table3[Jours fériés]), WORKDAY(DATE(YEAR($I300),MONTH($I300)+_xlfn.XLOOKUP(N$2,Paramètres!$A$4:$A$8,Paramètres!$B$4:$B$8,"??",0,1),DAY($I300))-1,1,Table3[Jours fériés]))) | O300: =IF(A300="","",IF(J300="",WORKDAY(DATE(YEAR($D300),MONTH($D300)+_xlfn.XLOOKUP(O$2,Paramètres!$A$4:$A$8,Paramètres!$B$4:$B$8,"??",0,1),DAY($D300))-1,1,Table3[Jours fériés]),"")) | P300: =IF(A300="","",IF(K300="",IF($F300=_xlfn.XLOOKUP(P$2,Paramètres!$A$4:$A$8,Paramètres!$B$4:$B$8,"??",0,1),WORKDAY(DATE(YEAR(E300)+_xlfn.XLOOKUP(P$2,Paramètres!$A$4:$A$8,Paramètres!$B$4:$B$8,"??",0,1),MONTH(E300)+2,0)-1,1,Table3[Jours fériés]), WORKDAY(DATE(YEAR($E300)+_xlfn.XLOOKUP(P$2,Paramètres!$A$4:$A$8,Paramètres!$B$4:$B$8,"??",0,1),MONTH($E300),DAY($E300))-1,1,Table3[Jours fériés])),"")) | Q300: =IF(A300="","",IF(L300="",IF($F300=_xlfn.XLOOKUP(Q$2,Paramètres!$A$4:$A$8,Paramètres!$B$4:$B$8,"??",0,1),WORKDAY(DATE(YEAR(TODAY()),MONTH(F300)+2,0)-1,1,Table3[Jours fériés]), WORKDAY(DATE(YEAR($E300)+_xlfn.XLOOKUP(Q$2,Paramètres!$A$4:$A$8,Paramètres!$B$4:$B$8,"??",0,1),MONTH($E300),DAY($E300))-1,1,Table3[Jours fériés])),""))

Sheet Individuel
A1: Dossier individuel | E1: =NOW() -> 46036.656
A2: Nom | B2: Nom_5 | C2: Prénom | D2: Thomas
A3: Fonction - poste | B3: Date d'intégration | C3: Date de naissance | D3: Âge (ans) | E3: Ancienneté (ans)
A4: {=IF(AND(ISTEXT(B2),ISTEXT(D2)),_xlfn._xlws.FILTER(Table1[[Fonction - poste]:[Ancienneté (ans)]],(Table1[Nom]=$B$2)*(Table1[Prénom]=$D$2),"N'existe pas!"),"")} -> Financier - comptable | B4: 45986 | C4: 37431 | D4: 23 | E4: 0
A6: Entretiens réalisés
A7: {=TRANSPOSE(Paramètres!$A$4:$A$8)} -> Délai 1er entretien (mois) | B7: Périodicité entretien (mois) | C7: Périodicité bilan récapitulatif (mois) | D7: Âge indicatif mi-carrière (ans) | E7: Âge indicatif fin de carrière (ans)
A8: {=_xlfn._xlws.FILTER(Table2[Date de l''entretien],(Table2[Nom]=$B$2)*(Table2[Prénom]=$D$2)*(Table2[Entretien réalisé]=A$7),"Aucun à date")} -> Aucun à date | B8: {=_xlfn._xlws.FILTER(Table2[Date de l''entretien],(Table2[Nom]=$B$2)*(Table2[Prénom]=$D$2)*(Table2[Entretien réalisé]=B$7),"Aucun à date")} -> Aucun à date | C8: {=_xlfn._xlws.FILTER(Table2[Date de l''entretien],(Table2[Nom]=$B$2)*(Table2[Prénom]=$D$2)*(Table2[Entretien réalisé]=C$7),"Aucun à date")} -> Aucun à date | D8: {=_xlfn._xlws.FILTER(Table2[Date de l''entretien],(Table2[Nom]=$B$2)*(Table2[Prénom]=$D$2)*(Table2[Entretien réalisé]=D$7),"Aucun à date")} -> Aucun à date | E8: {=_xlfn._xlws.FILTER(Table2[Date de l''entretien],(Table2[Nom]=$B$2)*(Table2[Prénom]=$D$2)*(Table2[Entretien réalisé]=E$7),"Aucun à date")} -> Aucun à date
A19: Entretiens planifiés
A20: {=TRANSPOSE(Paramètres!$A$4:$A$8)} -> Délai 1er entretien (mois) | B20: Périodicité entretien (mois) | C20: Périodicité bilan récapitulatif (mois) | D20: Âge indicatif mi-carrière (ans) | E20: Âge indicatif fin de carrière (ans)
A21: =IF($A$4="N'existe pas!","",IF(MAX(A$8:A$18)=0,WORKDAY(DATE(YEAR($B$4),MONTH($B$4)+11,DAY($B$4))-1,1,Table3[Jours fériés]),"Aucun à prévoir")) -> 46321 | B21: =IF($A$4="N'existe pas!","", _xlfn.LET(_xlpm.Interval,_xlfn.XLOOKUP(B$20,Paramètres!$A$4:$A$8,Paramètres!$B$4:$B$8,"??",0,1), _xlpm.Fin,Paramètres!$B$8, _xlpm.Dernier,MAX(B$8:B$18), _xlpm.Suivant,IF(_xlpm.Dernier=0,DATE(YEAR($B$4),MONTH($B$4)+_xlpm.Interval,DAY($B$4)), DATE(YEAR(_xlpm.Dernier),MONTH(_xlpm.Dernier)+_xlpm.Interval,DAY(_xlpm.Dernier))), _xlpm.R,IF(_xlpm.Suivant>=DATE(YEAR($C$4)+_xlpm.Fin,MONTH($C$4),DAY($C$4)),"",_xlpm.Suivant), _xlpm.Résultat,IF(_xlpm.R="","",WORKDAY(_xlpm.R-1,1,Table3[Jours fériés])), _xlpm.Résultat)) -> 47448 | C21: =IF($A$4="N'existe pas!","", _xlfn.LET(_xlpm.Interval,_xlfn.XLOOKUP(C$20,Paramètres!$A$4:$A$8,Paramètres!$B$4:$B$8,"??",0,1), _xlpm.Fin,Paramètres!$B$8, _xlpm.Dernier,MAX(C$8:C$18), _xlpm.Suivant,IF(_xlpm.Dernier=0,DATE(YEAR($B$4),MONTH($B$4)+_xlpm.Interval,DAY($B$4)),DATE(YEAR(_xlpm.Dernier),MONTH(_xlpm.Dernier)+_xlpm.Interval,DAY(_xlpm.Dernier))), _xlpm.R,IF(_xlpm.Suivant="","",IF(_xlpm.Suivant>=DATE(YEAR($C$4)+_xlpm.Fin,MONTH($C$4),DAY($C$4)),"",_xlpm.Suivant)), _xlpm.Résultat,IF(_xlpm.R="","",WORKDAY(_xlpm.R-1,1,Table3[Jours fériés])), _xlpm.Résultat)) -> 48908 | D21: =IF($A$4="N'existe pas!","", _xlfn.LET(_xlpm.Interval,_xlfn.XLOOKUP(D$20,Paramètres!$A$4:$A$8,Paramètres!$B$4:$B$8,"??",0,1), _xlpm.Fin,Paramètres!$B$8, _xlpm.Dernier,MAX(D$8:D$18), _xlpm.Suivant,IF(_xlpm.Dernier=0,WORKDAY(DATE(YEAR($C$4)+_xlpm.Interval,MONTH($C$4),DAY($C$4))-1,1,Table3[Jours fériés]),""), _xlpm.Suivant)) -> 53867 | E21: =IF($A$4="N'existe pas!","", _xlfn.LET(_xlpm.Interval,_xlfn.XLOOKUP(E$20,Paramètres!$A$4:$A$8,Paramètres!$B$4:$B$8,"??",0,1), _xlpm.Fin,Paramètres!$B$8, _xlpm.Dernier,MAX(E$8:E$18), _xlpm.Suivant,IF(_xlpm.Dernier=0,WORKDAY(DATE(YEAR($C$4)+_xlpm.Interval,MONTH($C$4),DAY($C$4))-1,1,Table3[Jours fériés]),""), _xlpm.Suivant)) -> 59348
B22: =IF($A$4="N'existe pas!","", _xlfn.LET(_xlpm.Interval,_xlfn.XLOOKUP(B$20,Paramètres!$A$4:$A$8,Paramètres!$B$4:$B$8,"??",0,1), _xlpm.Fin,Paramètres!$B$8, _xlpm.Dernier,MAX(B$21:B21), _xlpm.Suivant,IF(_xlpm.Dernier=0,"",DATE(YEAR(_xlpm.Dernier),MONTH(_xlpm.Dernier)+_xlpm.Interval,DAY(_xlpm.Dernier))), _xlpm.R,IF(_xlpm.Suivant="","",IF(_xlpm.Suivant>=DATE(YEAR($C$4)+_xlpm.Fin,MONTH($C$4),DAY($C$4)),"",_xlpm.Suivant)), _xlpm.Résultat,IF(_xlpm.R="","",WORKDAY(_xlpm.R-1,1,Table3[Jours fériés])), _xlpm.Résultat)) -> 48911 | C22: =IF($A$4="N'existe pas!","", _xlfn.LET(_xlpm.Interval,_xlfn.XLOOKUP(C$20,Paramètres!$A$4:$A$8,Paramètres!$B$4:$B$8,"??",0,1), _xlpm.Fin,Paramètres!$B$8, _xlpm.Dernier,MAX(C$21:C21), _xlpm.Suivant,IF(_xlpm.Dernier=0,"",DATE(YEAR(_xlpm.Dernier),MONTH(_xlpm.Dernier)+_xlpm.Interval,DAY(_xlpm.Dernier))), _xlpm.R,IF(_xlpm.Suivant="","",IF(_xlpm.Suivant>=DATE(YEAR($C$4)+_xlpm.Fin,MONTH($C$4),DAY($C$4)),"",_xlpm.Suivant)), _xlpm.Résultat,IF(_xlpm.R="","",WORKDAY(_xlpm.R-1,1,Table3[Jours fériés])), _xlpm.Résultat)) -> 51830
B23: =IF($A$4="N'existe pas!","", _xlfn.LET(_xlpm.Interval,_xlfn.XLOOKUP(B$20,Paramètres!$A$4:$A$8,Paramètres!$B$4:$B$8,"??",0,1), _xlpm.Fin,Paramètres!$B$8, _xlpm.Dernier,MAX(B$21:B22), _xlpm.Suivant,IF(_xlpm.Dernier=0,"",DATE(YEAR(_xlpm.Dernier),MONTH(_xlpm.Dernier)+_xlpm.Interval,DAY(_xlpm.Dernier))), _xlpm.R,IF(_xlpm.Suivant="","",IF(_xlpm.Suivant>=DATE(YEAR($C$4)+_xlpm.Fin,MONTH($C$4),DAY($C$4)),"",_xlpm.Suivant)), _xlpm.Résultat,IF(_xlpm.R="","",WORKDAY(_xlpm.R-1,1,Table3[Jours fériés])), _xlpm.Résultat)) -> 50374 | C23: =IF($A$4="N'existe pas!","", _xlfn.LET(_xlpm.Interval,_xlfn.XLOOKUP(C$20,Paramètres!$A$4:$A$8,Paramètres!$B$4:$B$8,"??",0,1), _xlpm.Fin,Paramètres!$B$8, _xlpm.Dernier,MAX(C$21:C22), _xlpm.Suivant,IF(_xlpm.Dernier=0,"",DATE(YEAR(_xlpm.Dernier),MONTH(_xlpm.Dernier)+_xlpm.Interval,DAY(_xlpm.Dernier))), _xlpm.R,IF(_xlpm.Suivant="","",IF(_xlpm.Suivant>=DATE(YEAR($C$4)+_xlpm.Fin,MONTH($C$4),DAY($C$4)),"",_xlpm.Suivant)), _xlpm.Résultat,IF(_xlpm.R="","",WORKDAY(_xlpm.R-1,1,Table3[Jours fériés])), _xlpm.Résultat)) -> 54752
B24: =IF($A$4="N'existe pas!","", _xlfn.LET(_xlpm.Interval,_xlfn.XLOOKUP(B$20,Paramètres!$A$4:$A$8,Paramètres!$B$4:$B$8,"??",0,1), _xlpm.Fin,Paramètres!$B$8, _xlpm.Dernier,MAX(B$21:B23), _xlpm.Suivant,IF(_xlpm.Dernier=0,"",DATE(YEAR(_xlpm.Dernier),MONTH(_xlpm.Dernier)+_xlpm.Interval,DAY(_xlpm.Dernier))), _xlpm.R,IF(_xlpm.Suivant="","",IF(_xlpm.Suivant>=DATE(YEAR($C$4)+_xlpm.Fin,MONTH($C$4),DAY($C$4)),"",_xlpm.Suivant)), _xlpm.Résultat,IF(_xlpm.R="","",WORKDAY(_xlpm.R-1,1,Table3[Jours fériés])), _xlpm.Résultat)) -> 51837 | C24: =IF($A$4="N'existe pas!","", _xlfn.LET(_xlpm.Interval,_xlfn.XLOOKUP(C$20,Paramètres!$A$4:$A$8,Paramètres!$B$4:$B$8,"??",0,1), _xlpm.Fin,Paramètres!$B$8, _xlpm.Dernier,MAX(C$21:C23), _xlpm.Suivant,IF(_xlpm.Dernier=0,"",DATE(YEAR(_xlpm.Dernier),MONTH(_xlpm.Dernier)+_xlpm.Interval,DAY(_xlpm.Dernier))), _xlpm.R,IF(_xlpm.Suivant="","",IF(_xlpm.Suivant>=DATE(YEAR($C$4)+_xlpm.Fin,MONTH($C$4),DAY($C$4)),"",_xlpm.Suivant)), _xlpm.Résultat,IF(_xlpm.R="","",WORKDAY(_xlpm.R-1,1,Table3[Jours fériés])), _xlpm.Résultat)) -> 57675
B25: =IF($A$4="N'existe pas!","", _xlfn.LET(_xlpm.Interval,_xlfn.XLOOKUP(B$20,Paramètres!$A$4:$A$8,Paramètres!$B$4:$B$8,"??",0,1), _xlpm.Fin,Paramètres!$B$8, _xlpm.Dernier,MAX(B$21:B24), _xlpm.Suivant,IF(_xlpm.Dernier=0,"",DATE(YEAR(_xlpm.Dernier),MONTH(_xlpm.Dernier)+_xlpm.Interval,DAY(_xlpm.Dernier))), _xlpm.R,IF(_xlpm.Suivant="","",IF(_xlpm.Suivant>=DATE(YEAR($C$4)+_xlpm.Fin,MONTH($C$4),DAY($C$4)),"",_xlpm.Suivant)), _xlpm.Résultat,IF(_xlpm.R="","",WORKDAY(_xlpm.R-1,1,Table3[Jours fériés])), _xlpm.Résultat)) -> 53300 | C25: =IF($A$4="N'existe pas!","", _xlfn.LET(_xlpm.Interval,_xlfn.XLOOKUP(C$20,Paramètres!$A$4:$A$8,Paramètres!$B$4:$B$8,"??",0,1), _xlpm.Fin,Paramètres!$B$8, _xlpm.Dernier,MAX(C$21:C24), _xlpm.Suivant,IF(_xlpm.Dernier=0,"",DATE(YEAR(_xlpm.Dernier),MONTH(_xlpm.Dernier)+_xlpm.Interval,DAY(_xlpm.Dernier))), _xlpm.R,IF(_xlpm.Suivant="","",IF(_xlpm.Suivant>=DATE(YEAR($C$4)+_xlpm.Fin,MONTH($C$4),DAY($C$4)),"",_xlpm.Suivant)), _xlpm.Résultat,IF(_xlpm.R="","",WORKDAY(_xlpm.R-1,1,Table3[Jours fériés])), _xlpm.Résultat))
B26: =IF($A$4="N'existe pas!","", _xlfn.LET(_xlpm.Interval,_xlfn.XLOOKUP(B$20,Paramètres!$A$4:$A$8,Paramètres!$B$4:$B$8,"??",0,1), _xlpm.Fin,Paramètres!$B$8, _xlpm.Dernier,MAX(B$21:B25), _xlpm.Suivant,IF(_xlpm.Dernier=0,"",DATE(YEAR(_xlpm.Dernier),MONTH(_xlpm.Dernier)+_xlpm.Interval,DAY(_xlpm.Dernier))), _xlpm.R,IF(_xlpm.Suivant="","",IF(_xlpm.Suivant>=DATE(YEAR($C$4)+_xlpm.Fin,MONTH($C$4),DAY($C$4)),"",_xlpm.Suivant)), _xlpm.Résultat,IF(_xlpm.R="","",WORKDAY(_xlpm.R-1,1,Table3[Jours fériés])), _xlpm.Résultat)) -> 54763 | C26: =IF($A$4="N'existe pas!","", _xlfn.LET(_xlpm.Interval,_xlfn.XLOOKUP(C$20,Paramètres!$A$4:$A$8,Paramètres!$B$4:$B$8,"??",0,1), _xlpm.Fin,Paramètres!$B$8, _xlpm.Dernier,MAX(C$21:C25), _xlpm.Suivant,IF(_xlpm.Dernier=0,"",DATE(YEAR(_xlpm.Dernier),MONTH(_xlpm.Dernier)+_xlpm.Interval,DAY(_xlpm.Dernier))), _xlpm.R,IF(_xlpm.Suivant="","",IF(_xlpm.Suivant>=DATE(YEAR($C$4)+_xlpm.Fin,MONTH($C$4),DAY($C$4)),"",_xlpm.Suivant)), _xlpm.Résultat,IF(_xlpm.R="","",WORKDAY(_xlpm.R-1,1,Table3[Jours fériés])), _xlpm.Résultat))
B27: =IF($A$4="N'existe pas!","", _xlfn.LET(_xlpm.Interval,_xlfn.XLOOKUP(B$20,Paramètres!$A$4:$A$8,Paramètres!$B$4:$B$8,"??",0,1), _xlpm.Fin,Paramètres!$B$8, _xlpm.Dernier,MAX(B$21:B26), _xlpm.Suivant,IF(_xlpm.Dernier=0,"",DATE(YEAR(_xlpm.Dernier),MONTH(_xlpm.Dernier)+_xlpm.Interval,DAY(_xlpm.Dernier))), _xlpm.R,IF(_xlpm.Suivant="","",IF(_xlpm.Suivant>=DATE(YEAR($C$4)+_xlpm.Fin,MONTH($C$4),DAY($C$4)),"",_xlpm.Suivant)), _xlpm.Résultat,IF(_xlpm.R="","",WORKDAY(_xlpm.R-1,1,Table3[Jours fériés])), _xlpm.Résultat)) -> 56226 | C27: =IF($A$4="N'existe pas!","", _xlfn.LET(_xlpm.Interval,_xlfn.XLOOKUP(C$20,Paramètres!$A$4:$A$8,Paramètres!$B$4:$B$8,"??",0,1), _xlpm.Fin,Paramètres!$B$8, _xlpm.Dernier,MAX(C$21:C26), _xlpm.Suivant,IF(_xlpm.Dernier=0,"",DATE(YEAR(_xlpm.Dernier),MONTH(_xlpm.Dernier)+_xlpm.Interval,DAY(_xlpm.Dernier))), _xlpm.R,IF(_xlpm.Suivant="","",IF(_xlpm.Suivant>=DATE(YEAR($C$4)+_xlpm.Fin,MONTH($C$4),DAY($C$4)),"",_xlpm.Suivant)), _xlpm.Résultat,IF(_xlpm.R="","",WORKDAY(_xlpm.R-1,1,Table3[Jours fériés])), _xlpm.Résultat))
B28: =IF($A$4="N'existe pas!","", _xlfn.LET(_xlpm.Interval,_xlfn.XLOOKUP(B$20,Paramètres!$A$4:$A$8,Paramètres!$B$4:$B$8,"??",0,1), _xlpm.Fin,Paramètres!$B$8, _xlpm.Dernier,MAX(B$21:B27), _xlpm.Suivant,IF(_xlpm.Dernier=0,"",DATE(YEAR(_xlpm.Dernier),MONTH(_xlpm.Dernier)+_xlpm.Interval,DAY(_xlpm.Dernier))), _xlpm.R,IF(_xlpm.Suivant="","",IF(_xlpm.Suivant>=DATE(YEAR($C$4)+_xlpm.Fin,MONTH($C$4),DAY($C$4)),"",_xlpm.Suivant)), _xlpm.Résultat,IF(_xlpm.R="","",WORKDAY(_xlpm.R-1,1,Table3[Jours fériés])), _xlpm.Résultat)) -> 57689 | C28: =IF($A$4="N'existe pas!","", _xlfn.LET(_xlpm.Interval,_xlfn.XLOOKUP(C$20,Paramètres!$A$4:$A$8,Paramètres!$B$4:$B$8,"??",0,1), _xlpm.Fin,Paramètres!$B$8, _xlpm.Dernier,MAX(C$21:C27), _xlpm.Suivant,IF(_xlpm.Dernier=0,"",DATE(YEAR(_xlpm.Dernier),MONTH(_xlpm.Dernier)+_xlpm.Interval,DAY(_xlpm.Dernier))), _xlpm.R,IF(_xlpm.Suivant="","",IF(_xlpm.Suivant>=DATE(YEAR($C$4)+_xlpm.Fin,MONTH($C$4),DAY($C$4)),"",_xlpm.Suivant)), _xlpm.Résultat,IF(_xlpm.R="","",WORKDAY(_xlpm.R-1,1,Table3[Jours fériés])), _xlpm.Résultat))
B29: =IF($A$4="N'existe pas!","", _xlfn.LET(_xlpm.Interval,_xlfn.XLOOKUP(B$20,Paramètres!$A$4:$A$8,Paramètres!$B$4:$B$8,"??",0,1), _xlpm.Fin,Paramètres!$B$8, _xlpm.Dernier,MAX(B$21:B28), _xlpm.Suivant,IF(_xlpm.Dernier=0,"",DATE(YEAR(_xlpm.Dernier),MONTH(_xlpm.Dernier)+_xlpm.Interval,DAY(_xlpm.Dernier))), _xlpm.R,IF(_xlpm.Suivant="","",IF(_xlpm.Suivant>=DATE(YEAR($C$4)+_xlpm.Fin,MONTH($C$4),DAY($C$4)),"",_xlpm.Suivant)), _xlpm.Résultat,IF(_xlpm.R="","",WORKDAY(_xlpm.R-1,1,Table3[Jours fériés])), _xlpm.Résultat)) -> 59152 | C29: =IF($A$4="N'existe pas!","", _xlfn.LET(_xlpm.Interval,_xlfn.XLOOKUP(C$20,Paramètres!$A$4:$A$8,Paramètres!$B$4:$B$8,"??",0,1), _xlpm.Fin,Paramètres!$B$8, _xlpm.Dernier,MAX(C$21:C28), _xlpm.Suivant,IF(_xlpm.Dernier=0,"",DATE(YEAR(_xlpm.Dernier),MONTH(_xlpm.Dernier)+_xlpm.Interval,DAY(_xlpm.Dernier))), _xlpm.R,IF(_xlpm.Suivant="","",IF(_xlpm.Suivant>=DATE(YEAR($C$4)+_xlpm.Fin,MONTH($C$4),DAY($C$4)),"",_xlpm.Suivant)), _xlpm.Résultat,IF(_xlpm.R="","",WORKDAY(_xlpm.R-1,1,Table3[Jours fériés])), _xlpm.Résultat))
B30: =IF($A$4="N'existe pas!","", _xlfn.LET(_xlpm.Interval,_xlfn.XLOOKUP(B$20,Paramètres!$A$4:$A$8,Paramètres!$B$4:$B$8,"??",0,1), _xlpm.Fin,Paramètres!$B$8, _xlpm.Dernier,MAX(B$21:B29), _xlpm.Suivant,IF(_xlpm.Dernier=0,"",DATE(YEAR(_xlpm.Dernier),MONTH(_xlpm.Dernier)+_xlpm.Interval,DAY(_xlpm.Dernier))), _xlpm.R,IF(_xlpm.Suivant="","",IF(_xlpm.Suivant>=DATE(YEAR($C$4)+_xlpm.Fin,MONTH($C$4),DAY($C$4)),"",_xlpm.Suivant)), _xlpm.Résultat,IF(_xlpm.R="","",WORKDAY(_xlpm.R-1,1,Table3[Jours fériés])), _xlpm.Résultat)) | C30: =IF($A$4="N'existe pas!","", _xlfn.LET(_xlpm.Interval,_xlfn.XLOOKUP(C$20,Paramètres!$A$4:$A$8,Paramètres!$B$4:$B$8,"??",0,1), _xlpm.Fin,Paramètres!$B$8, _xlpm.Dernier,MAX(C$21:C29), _xlpm.Suivant,IF(_xlpm.Dernier=0,"",DATE(YEAR(_xlpm.Dernier),MONTH(_xlpm.Dernier)+_xlpm.Interval,DAY(_xlpm.Dernier))), _xlpm.R,IF(_xlpm.Suivant="","",IF(_xlpm.Suivant>=DATE(YEAR($C$4)+_xlpm.Fin,MONTH($C$4),DAY($C$4)),"",_xlpm.Suivant)), _xlpm.Résultat,IF(_xlpm.R="","",WORKDAY(_xlpm.R-1,1,Table3[Jours fériés])), _xlpm.Résultat))

Sheet Suivi
A1: Nom | B1: Prénom | C1: Fonction / poste | D1: Date d'intégration | E1: Date de naissance | F1: Âge (ans) | G1: Ancienneté (ans) | H1: 1er entretien (échéance) | I1: Dernier entretien (date) | J1: Type du dernier entretien | K1: Prochain entretien (échéance) | L1: Bilan 8 ans (échéance) | M1: Mi-carrière concerné ? | N1: Fin de carrière concerné ? | O1: Entretien à planifier (type) | P1: Date planifiée | Q1: Réalisé ? | R1: Date réalisé | S1: Compte-rendu rédigé ? | T1: Compte-rendu signé ? | U1: Thèmes abordés (résumé) | V1: Actions / formations à prévoir | W1: Responsable action | X1: Échéance action | Y1: Statut action | Z1: Commentaires
A2: Nom_1 | B2: Pierre | C2: Informaticien | D2: 37895 | E2: 28979 | F2: =IF($E2="","",DATEDIF($E2,Paramètres!$B$3,"Y")) -> 46 | G2: =IF($D2="","",DATEDIF($D2,Paramètres!$B$3,"Y")) -> 22 | H2: =IF($D2="","",EDATE($D2,Paramètres!$B$4)) -> 38261 | J2: Mi-carrière | K2: =IF($D2="","",IF($I2="",$H2,EDATE($I2,Paramètres!$B$5))) -> 38261 | L2: =IF($D2="","",EDATE($D2,Paramètres!$B$6)) -> 40817 | M2: =IF($F2="","",IF($F2>=Paramètres!$B$7,"Oui","Non")) -> Oui | N2: =IF($F2="","",IF($F2>=Paramètres!$B$8,"Oui","Non")) -> Non | O2: =IF($D2="","",IF($I2="", "Parcours (1ère année)",IF(Paramètres!$B$3>=($L2-Paramètres!$B$9), "Bilan récapitulatif (8 ans)",IF(Paramètres!$B$3>=($K2-Paramètres!$B$9), "Parcours (tous les 4 ans)",IF($N2="Oui","Fin de carrière",IF($M2="Oui","Mi-carrière","")))))) -> Parcours (1ère année)
A3: Nom_2 | B3: Alain | C3: Concepteur - bureau d'étude | D3: 43895 | E3: 34172 | F3: =IF($E3="","",DATEDIF($E3,Paramètres!$B$3,"Y")) -> 32 | G3: =IF($D3="","",DATEDIF($D3,Paramètres!$B$3,"Y")) -> 5 | H3: =IF($D3="","",EDATE($D3,Paramètres!$B$4)) -> 44260 | K3: =IF($D3="","",IF($I3="",$H3,EDATE($I3,Paramètres!$B$5))) -> 44260 | L3: =IF($D3="","",EDATE($D3,Paramètres!$B$6)) -> 46817 | M3: =IF($F3="","",IF($F3>=Paramètres!$B$7,"Oui","Non")) -> Non | N3: =IF($F3="","",IF($F3>=Paramètres!$B$8,"Oui","Non")) -> Non | O3: =IF($D3="","",IF($I3="", "Parcours (1ère année)",IF(Paramètres!$B$3>=($L3-Paramètres!$B$9), "Bilan récapitulatif (8 ans)",IF(Paramètres!$B$3>=($K3-Paramètres!$B$9), "Parcours (tous les 4 ans)",IF($N3="Oui","Fin de carrière",IF($M3="Oui","Mi-carrière","")))))) -> Parcours (1ère année)
F4: =IF($E4="","",DATEDIF($E4,Paramètres!$B$3,"Y")) | G4: =IF($D4="","",DATEDIF($D4,Paramètres!$B$3,"Y")) | H4: =IF($D4="","",EDATE($D4,Paramètres!$B$4)) | K4: =IF($D4="","",IF($I4="",$H4,EDATE($I4,Paramètres!$B$5))) | L4: =IF($D4="","",EDATE($D4,Paramètres!$B$6)) | M4: =IF($F4="","",IF($F4>=Paramètres!$B$7,"Oui","Non")) | N4: =IF($F4="","",IF($F4>=Paramètres!$B$8,"Oui","Non")) | O4: =IF($D4="","",IF($I4="", "Parcours (1ère année)",IF(Paramètres!$B$3>=($L4-Paramètres!$B$9), "Bilan récapitulatif (8 ans)",IF(Paramètres!$B$3>=($K4-Paramètres!$B$9), "Parcours (tous les 4 ans)",IF($N4="Oui","Fin de carrière",IF($M4="Oui","Mi-carrière",""))))))
F5: =IF($E5="","",DATEDIF($E5,Paramètres!$B$3,"Y")) | G5: =IF($D5="","",DATEDIF($D5,Paramètres!$B$3,"Y")) | H5: =IF($D5="","",EDATE($D5,Paramètres!$B$4)) | K5: =IF($D5="","",IF($I5="",$H5,EDATE($I5,Paramètres!$B$5))) | L5: =IF($D5="","",EDATE($D5,Paramètres!$B$6)) | M5: =IF($F5="","",IF($F5>=Paramètres!$B$7,"Oui","Non")) | N5: =IF($F5="","",IF($F5>=Paramètres!$B$8,"Oui","Non")) | O5: =IF($D5="","",IF($I5="", "Parcours (1ère année)",IF(Paramètres!$B$3>=($L5-Paramètres!$B$9), "Bilan récapitulatif (8 ans)",IF(Paramètres!$B$3>=($K5-Paramètres!$B$9), "Parcours (tous les 4 ans)",IF($N5="Oui","Fin de carrière",IF($M5="Oui","Mi-carrière",""))))))
F6: =IF($E6="","",DATEDIF($E6,Paramètres!$B$3,"Y")) | G6: =IF($D6="","",DATEDIF($D6,Paramètres!$B$3,"Y")) | H6: =IF($D6="","",EDATE($D6,Paramètres!$B$4)) | K6: =IF($D6="","",IF($I6="",$H6,EDATE($I6,Paramètres!$B$5))) | L6: =IF($D6="","",EDATE($D6,Paramètres!$B$6)) | M6: =IF($F6="","",IF($F6>=Paramètres!$B$7,"Oui","Non")) | N6: =IF($F6="","",IF($F6>=Paramètres!$B$8,"Oui","Non")) | O6: =IF($D6="","",IF($I6="", "Parcours (1ère année)",IF(Paramètres!$B$3>=($L6-Paramètres!$B$9), "Bilan récapitulatif (8 ans)",IF(Paramètres!$B$3>=($K6-Paramètres!$B$9), "Parcours (tous les 4 ans)",IF($N6="Oui","Fin de carrière",IF($M6="Oui","Mi-carrière",""))))))
F7: =IF($E7="","",DATEDIF($E7,Paramètres!$B$3,"Y")) | G7: =IF($D7="","",DATEDIF($D7,Paramètres!$B$3,"Y")) | H7: =IF($D7="","",EDATE($D7,Paramètres!$B$4)) | K7: =IF($D7="","",IF($I7="",$H7,EDATE($I7,Paramètres!$B$5))) | L7: =IF($D7="","",EDATE($D7,Paramètres!$B$6)) | M7: =IF($F7="","",IF($F7>=Paramètres!$B$7,"Oui","Non")) | N7: =IF($F7="","",IF($F7>=Paramètres!$B$8,"Oui","Non")) | O7: =IF($D7="","",IF($I7="", "Parcours (1ère année)",IF(Paramètres!$B$3>=($L7-Paramètres!$B$9), "Bilan récapitulatif (8 ans)",IF(Paramètres!$B$3>=($K7-Paramètres!$B$9), "Parcours (tous les 4 ans)",IF($N7="Oui","Fin de carrière",IF($M7="Oui","Mi-carrière",""))))))
F8: =IF($E8="","",DATEDIF($E8,Paramètres!$B$3,"Y")) | G8: =IF($D8="","",DATEDIF($D8,Paramètres!$B$3,"Y")) | H8: =IF($D8="","",EDATE($D8,Paramètres!$B$4)) | K8: =IF($D8="","",IF($I8="",$H8,EDATE($I8,Paramètres!$B$5))) | L8: =IF($D8="","",EDATE($D8,Paramètres!$B$6)) | M8: =IF($F8="","",IF($F8>=Paramètres!$B$7,"Oui","Non")) | N8: =IF($F8="","",IF($F8>=Paramètres!$B$8,"Oui","Non")) | O8: =IF($D8="","",IF($I8="", "Parcours (1ère année)",IF(Paramètres!$B$3>=($L8-Paramètres!$B$9), "Bilan récapitulatif (8 ans)",IF(Paramètres!$B$3>=($K8-Paramètres!$B$9), "Parcours (tous les 4 ans)",IF($N8="Oui","Fin de carrière",IF($M8="Oui","Mi-carrière",""))))))
F9: =IF($E9="","",DATEDIF($E9,Paramètres!$B$3,"Y")) | G9: =IF($D9="","",DATEDIF($D9,Paramètres!$B$3,"Y")) | H9: =IF($D9="","",EDATE($D9,Paramètres!$B$4)) | K9: =IF($D9="","",IF($I9="",$H9,EDATE($I9,Paramètres!$B$5))) | L9: =IF($D9="","",EDATE($D9,Paramètres!$B$6)) | M9: =IF($F9="","",IF($F9>=Paramètres!$B$7,"Oui","Non")) | N9: =IF($F9="","",IF($F9>=Paramètres!$B$8,"Oui","Non")) | O9: =IF($D9="","",IF($I9="", "Parcours (1ère année)",IF(Paramètres!$B$3>=($L9-Paramètres!$B$9), "Bilan récapitulatif (8 ans)",IF(Paramètres!$B$3>=($K9-Paramètres!$B$9), "Parcours (tous les 4 ans)",IF($N9="Oui","Fin de carrière",IF($M9="Oui","Mi-carrière",""))))))
F10: =IF($E10="","",DATEDIF($E10,Paramètres!$B$3,"Y")) | G10: =IF($D10="","",DATEDIF($D10,Paramètres!$B$3,"Y")) | H10: =IF($D10="","",EDATE($D10,Paramètres!$B$4)) | K10: =IF($D10="","",IF($I10="",$H10,EDATE($I10,Paramètres!$B$5))) | L10: =IF($D10="","",EDATE($D10,Paramètres!$B$6)) | M10: =IF($F10="","",IF($F10>=Paramètres!$B$7,"Oui","Non")) | N10: =IF($F10="","",IF($F10>=Paramètres!$B$8,"Oui","Non")) | O10: =IF($D10="","",IF($I10="", "Parcours (1ère année)",IF(Paramètres!$B$3>=($L10-Paramètres!$B$9), "Bilan récapitulatif (8 ans)",IF(Paramètres!$B$3>=($K10-Paramètres!$B$9), "Parcours (tous les 4 ans)",IF($N10="Oui","Fin de carrière",IF($M10="Oui","Mi-carrière",""))))))
F11: =IF($E11="","",DATEDIF($E11,Paramètres!$B$3,"Y")) | G11: =IF($D11="","",DATEDIF($D11,Paramètres!$B$3,"Y")) | H11: =IF($D11="","",EDATE($D11,Paramètres!$B$4)) | K11: =IF($D11="","",IF($I11="",$H11,EDATE($I11,Paramètres!$B$5))) | L11: =IF($D11="","",EDATE($D11,Paramètres!$B$6)) | M11: =IF($F11="","",IF($F11>=Paramètres!$B$7,"Oui","Non")) | N11: =IF($F11="","",IF($F11>=Paramètres!$B$8,"Oui","Non")) | O11: =IF($D11="","",IF($I11="", "Parcours (1ère année)",IF(Paramètres!$B$3>=($L11-Paramètres!$B$9), "Bilan récapitulatif (8 ans)",IF(Paramètres!$B$3>=($K11-Paramètres!$B$9), "Parcours (tous les 4 ans)",IF($N11="Oui","Fin de carrière",IF($M11="Oui","Mi-carrière",""))))))
F12: =IF($E12="","",DATEDIF($E12,Paramètres!$B$3,"Y")) | G12: =IF($D12="","",DATEDIF($D12,Paramètres!$B$3,"Y")) | H12: =IF($D12="","",EDATE($D12,Paramètres!$B$4)) | K12: =IF($D12="","",IF($I12="",$H12,EDATE($I12,Paramètres!$B$5))) | L12: =IF($D12="","",EDATE($D12,Paramètres!$B$6)) | M12: =IF($F12="","",IF($F12>=Paramètres!$B$7,"Oui","Non")) | N12: =IF($F12="","",IF($F12>=Paramètres!$B$8,"Oui","Non")) | O12: =IF($D12="","",IF($I12="", "Parcours (1ère année)",IF(Paramètres!$B$3>=($L12-Paramètres!$B$9), "Bilan récapitulatif (8 ans)",IF(Paramètres!$B$3>=($K12-Paramètres!$B$9), "Parcours (tous les 4 ans)",IF($N12="Oui","Fin de carrière",IF($M12="Oui","Mi-carrière",""))))))
F13: =IF($E13="","",DATEDIF($E13,Paramètres!$B$3,"Y")) | G13: =IF($D13="","",DATEDIF($D13,Paramètres!$B$3,"Y")) | H13: =IF($D13="","",EDATE($D13,Paramètres!$B$4)) | K13: =IF($D13="","",IF($I13="",$H13,EDATE($I13,Paramètres!$B$5))) | L13: =IF($D13="","",EDATE($D13,Paramètres!$B$6)) | M13: =IF($F13="","",IF($F13>=Paramètres!$B$7,"Oui","Non")) | N13: =IF($F13="","",IF($F13>=Paramètres!$B$8,"Oui","Non")) | O13: =IF($D13="","",IF($I13="", "Parcours (1ère année)",IF(Paramètres!$B$3>=($L13-Paramètres!$B$9), "Bilan récapitulatif (8 ans)",IF(Paramètres!$B$3>=($K13-Paramètres!$B$9), "Parcours (tous les 4 ans)",IF($N13="Oui","Fin de carrière",IF($M13="Oui","Mi-carrière",""))))))
F14: =IF($E14="","",DATEDIF($E14,Paramètres!$B$3,"Y")) | G14: =IF($D14="","",DATEDIF($D14,Paramètres!$B$3,"Y")) | H14: =IF($D14="","",EDATE($D14,Paramètres!$B$4)) | K14: =IF($D14="","",IF($I14="",$H14,EDATE($I14,Paramètres!$B$5))) | L14: =IF($D14="","",EDATE($D14,Paramètres!$B$6)) | M14: =IF($F14="","",IF($F14>=Paramètres!$B$7,"Oui","Non")) | N14: =IF($F14="","",IF($F14>=Paramètres!$B$8,"Oui","Non")) | O14: =IF($D14="","",IF($I14="", "Parcours (1ère année)",IF(Paramètres!$B$3>=($L14-Paramètres!$B$9), "Bilan récapitulatif (8 ans)",IF(Paramètres!$B$3>=($K14-Paramètres!$B$9), "Parcours (tous les 4 ans)",IF($N14="Oui","Fin de carrière",IF($M14="Oui","Mi-carrière",""))))))
F15: =IF($E15="","",DATEDIF($E15,Paramètres!$B$3,"Y")) | G15: =IF($D15="","",DATEDIF($D15,Paramètres!$B$3,"Y")) | H15: =IF($D15="","",EDATE($D15,Paramètres!$B$4)) | K15: =IF($D15="","",IF($I15="",$H15,EDATE($I15,Paramètres!$B$5))) | L15: =IF($D15="","",EDATE($D15,Paramètres!$B$6)) | M15: =IF($F15="","",IF($F15>=Paramètres!$B$7,"Oui","Non")) | N15: =IF($F15="","",IF($F15>=Paramètres!$B$8,"Oui","Non")) | O15: =IF($D15="","",IF($I15="", "Parcours (1ère année)",IF(Paramètres!$B$3>=($L15-Paramètres!$B$9), "Bilan récapitulatif (8 ans)",IF(Paramètres!$B$3>=($K15-Paramètres!$B$9), "Parcours (tous les 4 ans)",IF($N15="Oui","Fin de carrière",IF($M15="Oui","Mi-carrière",""))))))
... F500: =IF($E500="","",DATEDIF($E500,Paramètres!$B$3,"Y")) | G500: =IF($D500="","",DATEDIF($D500,Paramètres!$B$3,"Y")) | H500: =IF($D500="","",EDATE($D500,Paramètres!$B$4)) | K500: =IF($D500="","",IF($I500="",$H500,EDATE($I500,Paramètres!$B$5))) | L500: =IF($D500="","",EDATE($D500,Paramètres!$B$6)) | M500: =IF($F500="","",IF($F500>=Paramètres!$B$7,"Oui","Non")) | N500: =IF($F500="","",IF($F500>=Paramètres!$B$8,"Oui","Non")) | O500: =IF($D500="","",IF($I500="", "Parcours (1ère année)",IF(Paramètres!$B$3>=($L500-Paramètres!$B$9), "Bilan récapitulatif (8 ans)",IF(Paramètres!$B$3>=($K500-Paramètres!$B$9), "Parcours (tous les 4 ans)",IF($N500="Oui","Fin de carrière",IF($M500="Oui","Mi-carrière",""))))))

Sheet Alertes
A1: Tableau de pilotage – Échéances et retards
A3: Indicateurs (basés sur l'onglet Suivi et la Date de référence)
A4: Indicateur | B4: Valeur
A5: Effectif suivi (lignes avec date d’intégration) | B5: =COUNTIF(Suivi!$D:$D,">0")-1 -> 1
A6: Entretiens en retard | B6: =COUNTIFS(Suivi!$D:$D,">0",Suivi!$K:$K,"<"&Paramètres!$B$3,Suivi!$Q:$Q,"<>Oui") -> 2
A7: Entretiens à faire sous la fenêtre d’alerte | B7: =COUNTIFS(Suivi!$D:$D,">0",Suivi!$K:$K,">="&Paramètres!$B$3,Suivi!$K:$K,"<="&(Paramètres!$B$3+Paramètres!$B$9),Suivi!$Q:$Q,"<>Oui") -> 0
A8: Bilans 8 ans à faire sous la fenêtre d’alerte | B8: =COUNTIFS(Suivi!$D:$D,">0",Suivi!$L:$L,">="&Paramètres!$B$3,Suivi!$L:$L,"<="&(Paramètres!$B$3+Paramètres!$B$9)) -> 0
A9: Salariés concernés mi-carrière (≥ seuil) | B9: =COUNTIF(Suivi!$M:$M,"Oui") -> 1
A10: Salariés concernés fin de carrière (≥ seuil) | B10: =COUNTIF(Suivi!$N:$N,"Oui") -> 0
A13: Légende (onglet Suivi)
A14: Rouge : entretien en retard (selon prochaine échéance)
A15: Jaune : entretien à réaliser sous la fenêtre d’alerte (par défaut 90 jours)
A16: Seuils et périodicités modifiables dans l’onglet Paramètres.
