Workbook
Name DateJ: #REF!
Name DateN_1: #REF!
Name DebutN: #REF!
Name DebutN_1: #REF!
Name ETAB: [1]Paramètres!#REF!
Name ETAB: [1]Paramètres!#REF!
Name ETAB: [2]Paramètres!#REF!
Name FinN: #REF!
Name FinN_1: #REF!
Name Prestations: '[1]Prestas gestion'!#REF!
Name Prestations: '[1]Prestas gestion'!#REF!
Name Prestations: '[2]Prestas gestion'!#REF!
Name Produit_exclu: [1]Paramètres!#REF!
Name Produit_exclu: [1]Paramètres!#REF!
Name Produit_exclu: [2]Paramètres!#REF!
Name Rubrique: [1]Paramètres!#REF!
Name Rubrique: [1]Paramètres!#REF!
Name Rubrique: [2]Paramètres!#REF!

Sheet Semaine
A1: Date N-1 | B1: =D1-364 -> 45036 | C1: Date | D1: =TODAY() -> 45400
A2: Date | B2: N°Sem | C2: CA HEB Brut HT
C3: N | D3: N-1 | E3: N VS N-1
A4: 45199 | B4: 40 | C4: {=SUMPRODUCT((BDD!$H$1:$NC$1=Semaine!B4)*(BDD!$H$4:$NC$375))} -> 0 | D4: {=SUMPRODUCT(('BDD N-1'!H1:ND1=Semaine!B4)*('BDD N-1'!$A$4:$A$32<=$B$1)*('BDD N-1'!$H$4:$NM$32))} -> #N/A
A5: 45206 | B5: 41 | C5: {=SUMPRODUCT((BDD!$H$1:$NC$1=Semaine!B5)*(BDD!$H$4:$NC$375))} -> 0 | D5: {=SUMPRODUCT(('BDD N-1'!H2:ND2=Semaine!B5)*('BDD N-1'!$A$4:$A$32<=$B$1)*('BDD N-1'!$H$4:$NM$32))} -> #N/A
A6: 45213 | B6: 42 | C6: {=SUMPRODUCT((BDD!$H$1:$NC$1=Semaine!B6)*(BDD!$H$4:$NC$375))} -> 0 | D6: {=SUMPRODUCT(('BDD N-1'!H3:ND3=Semaine!B6)*('BDD N-1'!$A$4:$A$32<=$B$1)*('BDD N-1'!$H$4:$NM$32))} -> #N/A
A7: 45220 | B7: 43 | C7: {=SUMPRODUCT((BDD!$H$1:$NC$1=Semaine!B7)*(BDD!$H$4:$NC$375))} -> 0 | D7: {=SUMPRODUCT(('BDD N-1'!H4:ND4=Semaine!B7)*('BDD N-1'!$A$4:$A$32<=$B$1)*('BDD N-1'!$H$4:$NM$32))} -> #N/A
A8: 45227 | B8: 44 | C8: {=SUMPRODUCT((BDD!$H$1:$NC$1=Semaine!B8)*(BDD!$H$4:$NC$375))} -> 0 | D8: {=SUMPRODUCT(('BDD N-1'!H5:ND5=Semaine!B8)*('BDD N-1'!$A$4:$A$32<=$B$1)*('BDD N-1'!$H$4:$NM$32))} -> #N/A
A9: 45234 | B9: 45 | C9: {=SUMPRODUCT((BDD!$H$1:$NC$1=Semaine!B9)*(BDD!$H$4:$NC$375))} -> 0 | D9: {=SUMPRODUCT(('BDD N-1'!H6:ND6=Semaine!B9)*('BDD N-1'!$A$4:$A$32<=$B$1)*('BDD N-1'!$H$4:$NM$32))} -> #N/A
A10: 45241 | B10: 46 | C10: {=SUMPRODUCT((BDD!$H$1:$NC$1=Semaine!B10)*(BDD!$H$4:$NC$375))} -> 0 | D10: {=SUMPRODUCT(('BDD N-1'!H7:ND7=Semaine!B10)*('BDD N-1'!$A$4:$A$32<=$B$1)*('BDD N-1'!$H$4:$NM$32))} -> #N/A
A11: 45248 | B11: 47 | C11: {=SUMPRODUCT((BDD!$H$1:$NC$1=Semaine!B11)*(BDD!$H$4:$NC$375))} -> 0 | D11: {=SUMPRODUCT(('BDD N-1'!H8:ND8=Semaine!B11)*('BDD N-1'!$A$4:$A$32<=$B$1)*('BDD N-1'!$H$4:$NM$32))} -> #N/A
A12: 45255 | B12: 48 | C12: {=SUMPRODUCT((BDD!$H$1:$NC$1=Semaine!B12)*(BDD!$H$4:$NC$375))} -> 0 | D12: {=SUMPRODUCT(('BDD N-1'!H9:ND9=Semaine!B12)*('BDD N-1'!$A$4:$A$32<=$B$1)*('BDD N-1'!$H$4:$NM$32))} -> #N/A
A13: 45262 | B13: 49 | C13: {=SUMPRODUCT((BDD!$H$1:$NC$1=Semaine!B13)*(BDD!$H$4:$NC$375))} -> 0 | D13: {=SUMPRODUCT(('BDD N-1'!H10:ND10=Semaine!B13)*('BDD N-1'!$A$4:$A$32<=$B$1)*('BDD N-1'!$H$4:$NM$32))} -> #N/A
A14: 45269 | B14: 50 | C14: {=SUMPRODUCT((BDD!$H$1:$NC$1=Semaine!B14)*(BDD!$H$4:$NC$375))} -> 0 | D14: {=SUMPRODUCT(('BDD N-1'!H11:ND11=Semaine!B14)*('BDD N-1'!$A$4:$A$32<=$B$1)*('BDD N-1'!$H$4:$NM$32))} -> #N/A
A15: 45276 | B15: 51 | C15: {=SUMPRODUCT((BDD!$H$1:$NC$1=Semaine!B15)*(BDD!$H$4:$NC$375))} -> 0 | D15: {=SUMPRODUCT(('BDD N-1'!H12:ND12=Semaine!B15)*('BDD N-1'!$A$4:$A$32<=$B$1)*('BDD N-1'!$H$4:$NM$32))} -> #N/A
... A55: 45556 | B55: 39 | C55: {=SUMPRODUCT((BDD!$H$1:$NC$1=Semaine!B55)*(BDD!$H$4:$NC$375))} -> 0 | D55: {=SUMPRODUCT(('BDD N-1'!H52:ND52=Semaine!B55)*('BDD N-1'!$A$4:$A$32<=$B$1)*('BDD N-1'!$H$4:$NM$32))} -> #N/A
A56: TOTAL | B56: 0

Sheet Synthèse Logements
J1: Date de MAJ | L1: 45064 | N1: Pick up : | O1: =D18-#REF! -> #REF! | P1: =L1-#REF! -> #REF! | Q1: jour
B3: GLOBAL Mois | M3: GLOBAL Destination
C4: Mois | D4: CA NET TTC | E4: Var | F4: TO | G4: Var | H4: PM | I4: Var | J4: RevPar | K4: Var | N4: Destination | O4: CA NET TTC | P4: Var | Q4: TO | R4: Var | S4: PM | T4: Var | U4: RevPar | V4: Var
B5: 2023 | H5: =IF(D5=0,"",AVERAGEIFS(#REF!,#REF!,'Synthèse Logements'!C5,#REF!,'Synthèse Logements'!$B$5)) | J5: =IF(D5=0,"",AVERAGEIFS(#REF!,#REF!,'Synthèse Logements'!C5,#REF!,'Synthèse Logements'!$B$5)) | M5: 2023
C6: Décembre | D6: =SUMIFS(#REF!,#REF!,'Synthèse Logements'!C6,#REF!,'Synthèse Logements'!$B$5) -> #REF! | E6: =D6-#REF! -> #REF! | F6: =IF(D6=0,"",AVERAGEIFS(#REF!,#REF!,'Synthèse Logements'!C6,#REF!,'Synthèse Logements'!$B$5)) -> #REF! | G6: =IFERROR(F6/#REF!-1,"") | H6: =IF(D6=0,"",AVERAGEIFS(#REF!,#REF!,'Synthèse Logements'!C6,#REF!,'Synthèse Logements'!$B$5)) -> #REF! | I6: =IFERROR(H6-#REF!,"") | J6: =IF(D6=0,"",AVERAGEIFS(#REF!,#REF!,'Synthèse Logements'!C6,#REF!,'Synthèse Logements'!$B$5)) -> #REF! | K6: =IFERROR(J6-#REF!,"") | N6: Saint Sorlin | O6: =SUMIFS(#REF!,#REF!,'Synthèse Logements'!N6,#REF!,'Synthèse Logements'!$M$5) -> #REF! | Q6: =AVERAGEIFS(#REF!,#REF!,'Synthèse Logements'!N6,#REF!,'Synthèse Logements'!$M$5) -> #REF! | R6: =IFERROR(Q6/#REF!-1,"") | S6: =AVERAGEIFS(#REF!,#REF!,'Synthèse Logements'!N6,#REF!,'Synthèse Logements'!$M$5) -> #REF! | U6: =AVERAGEIFS(#REF!,#REF!,'Synthèse Logements'!N6,#REF!,'Synthèse Logements'!$M$5) -> #REF!
C7: Janvier | D7: =SUMIFS(#REF!,#REF!,'Synthèse Logements'!C7,#REF!,'Synthèse Logements'!$B$5) -> #REF! | E7: =D7-#REF! -> #REF! | F7: =IF(D7=0,"",AVERAGEIFS(#REF!,#REF!,'Synthèse Logements'!C7,#REF!,'Synthèse Logements'!$B$5)) -> #REF! | G7: =IFERROR(F7/#REF!-1,"") | H7: =IF(D7=0,"",AVERAGEIFS(#REF!,#REF!,'Synthèse Logements'!C7,#REF!,'Synthèse Logements'!$B$5)) -> #REF! | I7: =IFERROR(H7-#REF!,"") | J7: =IF(D7=0,"",AVERAGEIFS(#REF!,#REF!,'Synthèse Logements'!C7,#REF!,'Synthèse Logements'!$B$5)) -> #REF! | K7: =IFERROR(J7-#REF!,"") | N7: Morillon | O7: =SUMIFS(#REF!,#REF!,'Synthèse Logements'!N7,#REF!,'Synthèse Logements'!$M$5) -> #REF! | Q7: =AVERAGEIFS(#REF!,#REF!,'Synthèse Logements'!N7,#REF!,'Synthèse Logements'!$M$5) -> #REF! | R7: =IFERROR(Q7/#REF!-1,"") | S7: =AVERAGEIFS(#REF!,#REF!,'Synthèse Logements'!N7,#REF!,'Synthèse Logements'!$M$5) -> #REF! | U7: =AVERAGEIFS(#REF!,#REF!,'Synthèse Logements'!N7,#REF!,'Synthèse Logements'!$M$5) -> #REF!
C8: Février | D8: =SUMIFS(#REF!,#REF!,'Synthèse Logements'!C8,#REF!,'Synthèse Logements'!$B$5) -> #REF! | E8: =D8-#REF! -> #REF! | F8: =IF(D8=0,"",AVERAGEIFS(#REF!,#REF!,'Synthèse Logements'!C8,#REF!,'Synthèse Logements'!$B$5)) -> #REF! | G8: =IFERROR(F8/#REF!-1,"") | H8: =IF(D8=0,"",AVERAGEIFS(#REF!,#REF!,'Synthèse Logements'!C8,#REF!,'Synthèse Logements'!$B$5)) -> #REF! | I8: =IFERROR(H8-#REF!,"") | J8: =IF(D8=0,"",AVERAGEIFS(#REF!,#REF!,'Synthèse Logements'!C8,#REF!,'Synthèse Logements'!$B$5)) -> #REF! | K8: =IFERROR(J8-#REF!,"") | N8: Orcieres | O8: =SUMIFS(#REF!,#REF!,'Synthèse Logements'!N8,#REF!,'Synthèse Logements'!$M$5) -> #REF! | Q8: =AVERAGEIFS(#REF!,#REF!,'Synthèse Logements'!N8,#REF!,'Synthèse Logements'!$M$5) -> #REF! | R8: =IFERROR(Q8/#REF!-1,"") | S8: =AVERAGEIFS(#REF!,#REF!,'Synthèse Logements'!N8,#REF!,'Synthèse Logements'!$M$5) -> #REF! | U8: =AVERAGEIFS(#REF!,#REF!,'Synthèse Logements'!N8,#REF!,'Synthèse Logements'!$M$5) -> #REF!
C9: Mars | D9: =SUMIFS(#REF!,#REF!,'Synthèse Logements'!C9,#REF!,'Synthèse Logements'!$B$5) -> #REF! | E9: =D9-#REF! -> #REF! | F9: =IF(D9=0,"",AVERAGEIFS(#REF!,#REF!,'Synthèse Logements'!C9,#REF!,'Synthèse Logements'!$B$5)) -> #REF! | G9: =IFERROR(F9/#REF!-1,"") | H9: =IF(D9=0,"",AVERAGEIFS(#REF!,#REF!,'Synthèse Logements'!C9,#REF!,'Synthèse Logements'!$B$5)) -> #REF! | I9: =IFERROR(H9-#REF!,"") | J9: =IF(D9=0,"",AVERAGEIFS(#REF!,#REF!,'Synthèse Logements'!C9,#REF!,'Synthèse Logements'!$B$5)) -> #REF! | K9: =IFERROR(J9-#REF!,"") | N9: La Foux | O9: =SUMIFS(#REF!,#REF!,'Synthèse Logements'!N9,#REF!,'Synthèse Logements'!$M$5) -> #REF! | Q9: =AVERAGEIFS(#REF!,#REF!,'Synthèse Logements'!N9,#REF!,'Synthèse Logements'!$M$5) -> #REF! | R9: =IFERROR(Q9/#REF!-1,"") | S9: =AVERAGEIFS(#REF!,#REF!,'Synthèse Logements'!N9,#REF!,'Synthèse Logements'!$M$5) -> #REF! | U9: =AVERAGEIFS(#REF!,#REF!,'Synthèse Logements'!N9,#REF!,'Synthèse Logements'!$M$5) -> #REF!
C10: Avril | D10: =SUMIFS(#REF!,#REF!,'Synthèse Logements'!C10,#REF!,'Synthèse Logements'!$B$5) -> #REF! | E10: =D10-#REF! -> #REF! | F10: =IF(D10=0,"",AVERAGEIFS(#REF!,#REF!,'Synthèse Logements'!C10,#REF!,'Synthèse Logements'!$B$5)) -> #REF! | G10: =IFERROR(F10/#REF!-1,"") | H10: =IF(D10=0,"",AVERAGEIFS(#REF!,#REF!,'Synthèse Logements'!C10,#REF!,'Synthèse Logements'!$B$5)) -> #REF! | I10: =IFERROR(H10-#REF!,"") | J10: =IF(D10=0,"",AVERAGEIFS(#REF!,#REF!,'Synthèse Logements'!C10,#REF!,'Synthèse Logements'!$B$5)) -> #REF! | K10: =IFERROR(J10-#REF!,"") | N10: Doucy | O10: =SUMIFS(#REF!,#REF!,'Synthèse Logements'!N10,#REF!,'Synthèse Logements'!$M$5) -> #REF! | Q10: =AVERAGEIFS(#REF!,#REF!,'Synthèse Logements'!N10,#REF!,'Synthèse Logements'!$M$5) -> #REF! | R10: =IFERROR(Q10/#REF!-1,"") | S10: =AVERAGEIFS(#REF!,#REF!,'Synthèse Logements'!N10,#REF!,'Synthèse Logements'!$M$5) -> #REF! | U10: =AVERAGEIFS(#REF!,#REF!,'Synthèse Logements'!N10,#REF!,'Synthèse Logements'!$M$5) -> #REF!
C11: Mai | D11: =SUMIFS(#REF!,#REF!,'Synthèse Logements'!C11,#REF!,'Synthèse Logements'!$B$5) -> #REF! | E11: =D11-#REF! -> #REF! | F11: =IF(D11=0,"",AVERAGEIFS(#REF!,#REF!,'Synthèse Logements'!C11,#REF!,'Synthèse Logements'!$B$5)) -> #REF! | G11: =IFERROR(F11/#REF!-1,"") | H11: =IF(D11=0,"",AVERAGEIFS(#REF!,#REF!,'Synthèse Logements'!C11,#REF!,'Synthèse Logements'!$B$5)) -> #REF! | I11: =IFERROR(H11-#REF!,"") | J11: =IF(D11=0,"",AVERAGEIFS(#REF!,#REF!,'Synthèse Logements'!C11,#REF!,'Synthèse Logements'!$B$5)) -> #REF! | K11: =IFERROR(J11-#REF!,"") | N11: Cagnes-sur-mer | O11: =SUMIFS(#REF!,#REF!,'Synthèse Logements'!N11,#REF!,'Synthèse Logements'!$M$5) -> #REF! | Q11: =AVERAGEIFS(#REF!,#REF!,'Synthèse Logements'!N11,#REF!,'Synthèse Logements'!$M$5) -> #REF! | R11: =IFERROR(Q11/#REF!-1,"") | S11: =AVERAGEIFS(#REF!,#REF!,'Synthèse Logements'!N11,#REF!,'Synthèse Logements'!$M$5) -> #REF! | U11: =AVERAGEIFS(#REF!,#REF!,'Synthèse Logements'!N11,#REF!,'Synthèse Logements'!$M$5) -> #REF!
C12: Juin | D12: =SUMIFS(#REF!,#REF!,'Synthèse Logements'!C12,#REF!,'Synthèse Logements'!$B$5) -> #REF! | E12: =D12-#REF! -> #REF! | F12: =IF(D12=0,"",AVERAGEIFS(#REF!,#REF!,'Synthèse Logements'!C12,#REF!,'Synthèse Logements'!$B$5)) -> #REF! | G12: =IFERROR(F12/#REF!-1,"") | H12: =IF(D12=0,"",AVERAGEIFS(#REF!,#REF!,'Synthèse Logements'!C12,#REF!,'Synthèse Logements'!$B$5)) -> #REF! | I12: =IFERROR(H12-#REF!,"") | J12: =IF(D12=0,"",AVERAGEIFS(#REF!,#REF!,'Synthèse Logements'!C12,#REF!,'Synthèse Logements'!$B$5)) -> #REF! | K12: =IFERROR(J12-#REF!,"") | N12: Agde | O12: =SUMIFS(#REF!,#REF!,'Synthèse Logements'!N12,#REF!,'Synthèse Logements'!$M$5) -> #REF! | Q12: =AVERAGEIFS(#REF!,#REF!,'Synthèse Logements'!N12,#REF!,'Synthèse Logements'!$M$5) -> #REF! | R12: =IFERROR(Q12/#REF!-1,"") | S12: =AVERAGEIFS(#REF!,#REF!,'Synthèse Logements'!N12,#REF!,'Synthèse Logements'!$M$5) -> #REF! | U12: =AVERAGEIFS(#REF!,#REF!,'Synthèse Logements'!N12,#REF!,'Synthèse Logements'!$M$5) -> #REF!
C13: Juillet | D13: =SUMIFS(#REF!,#REF!,'Synthèse Logements'!C13,#REF!,'Synthèse Logements'!$B$5) -> #REF! | E13: =D13-#REF! -> #REF! | F13: =IF(D13=0,"",AVERAGEIFS(#REF!,#REF!,'Synthèse Logements'!C13,#REF!,'Synthèse Logements'!$B$5)) -> #REF! | G13: =IFERROR(F13/#REF!-1,"") | H13: =IF(D13=0,"",AVERAGEIFS(#REF!,#REF!,'Synthèse Logements'!C13,#REF!,'Synthèse Logements'!$B$5)) -> #REF! | I13: =IFERROR(H13-#REF!,"") | J13: =IF(D13=0,"",AVERAGEIFS(#REF!,#REF!,'Synthèse Logements'!C13,#REF!,'Synthèse Logements'!$B$5)) -> #REF! | K13: =IFERROR(J13-#REF!,"") | R13: =IFERROR(Q13/#REF!-1,"")
C14: Août | D14: =SUMIFS(#REF!,#REF!,'Synthèse Logements'!C14,#REF!,'Synthèse Logements'!$B$5) -> #REF! | E14: =D14-#REF! -> #REF! | F14: =IF(D14=0,"",AVERAGEIFS(#REF!,#REF!,'Synthèse Logements'!C14,#REF!,'Synthèse Logements'!$B$5)) -> #REF! | G14: =IFERROR(F14/#REF!-1,"") | H14: =IF(D14=0,"",AVERAGEIFS(#REF!,#REF!,'Synthèse Logements'!C14,#REF!,'Synthèse Logements'!$B$5)) -> #REF! | I14: =IFERROR(H14-#REF!,"") | J14: =IF(D14=0,"",AVERAGEIFS(#REF!,#REF!,'Synthèse Logements'!C14,#REF!,'Synthèse Logements'!$B$5)) -> #REF! | K14: =IFERROR(J14-#REF!,"") | R14: =IFERROR(Q14/#REF!-1,"")
C15: Septembre | D15: =SUMIFS(#REF!,#REF!,'Synthèse Logements'!C15,#REF!,'Synthèse Logements'!$B$5) -> #REF! | E15: =D15-#REF! -> #REF! | F15: =IF(D15=0,"",AVERAGEIFS(#REF!,#REF!,'Synthèse Logements'!C15,#REF!,'Synthèse Logements'!$B$5)) -> #REF! | G15: =IFERROR(F15/#REF!-1,"") | H15: =IF(D15=0,"",AVERAGEIFS(#REF!,#REF!,'Synthèse Logements'!C15,#REF!,'Synthèse Logements'!$B$5)) -> #REF! | I15: =IFERROR(H15-#REF!,"") | J15: =IF(D15=0,"",AVERAGEIFS(#REF!,#REF!,'Synthèse Logements'!C15,#REF!,'Synthèse Logements'!$B$5)) -> #REF! | K15: =IFERROR(J15-#REF!,"") | R15: =IFERROR(Q15/#REF!-1,"")
C16: Octobre | D16: =SUMIFS(#REF!,#REF!,'Synthèse Logements'!C16,#REF!,'Synthèse Logements'!$B$5) -> #REF! | E16: =D16-#REF! -> #REF! | F16: =IF(D16=0,"",AVERAGEIFS(#REF!,#REF!,'Synthèse Logements'!C16,#REF!,'Synthèse Logements'!$B$5)) -> #REF! | G16: =IFERROR(F16/#REF!-1,"") | H16: =IF(D16=0,"",AVERAGEIFS(#REF!,#REF!,'Synthèse Logements'!C16,#REF!,'Synthèse Logements'!$B$5)) -> #REF! | I16: =IFERROR(H16-#REF!,"") | J16: =IF(D16=0,"",AVERAGEIFS(#REF!,#REF!,'Synthèse Logements'!C16,#REF!,'Synthèse Logements'!$B$5)) -> #REF! | K16: =IFERROR(J16-#REF!,"") | R16: =IFERROR(Q16/#REF!-1,"")
C17: Novembre | D17: =SUMIFS(#REF!,#REF!,'Synthèse Logements'!C17,#REF!,'Synthèse Logements'!$B$5) -> #REF! | E17: =D17-#REF! -> #REF! | F17: =IF(D17=0,"",AVERAGEIFS(#REF!,#REF!,'Synthèse Logements'!C17,#REF!,'Synthèse Logements'!$B$5)) -> #REF! | G17: =IFERROR((F17-#REF!)/#REF!,"") | H17: =IF(D17=0,"",AVERAGEIFS(#REF!,#REF!,'Synthèse Logements'!C17,#REF!,'Synthèse Logements'!$B$5)) -> #REF! | I17: =IFERROR(H17-#REF!,"") | J17: =IF(D17=0,"",AVERAGEIFS(#REF!,#REF!,'Synthèse Logements'!C17,#REF!,'Synthèse Logements'!$B$5)) -> #REF! | K17: =IFERROR(J17-#REF!,"") | R17: =IFERROR(Q17/#REF!-1,"")
C18: Total | D18: =SUM(D6:D17) -> #REF! | F18: =IF(C18=0,"",AVERAGEIFS(#REF!,#REF!,'Synthèse Logements'!$B$5)) -> #REF! | H18: =IF(D18=0,"",AVERAGEIFS(#REF!,#REF!,'Synthèse Logements'!$B$5)) -> #REF! | J18: =F18*H18 -> #REF! | N18: Total | O18: =SUM(O6:O17) -> #REF! | Q18: =IF(N18=0,"",AVERAGEIFS(#REF!,#REF!,'Synthèse Logements'!$M$5)) -> #REF! | S18: =IF(O18=0,"",AVERAGEIFS(#REF!,#REF!,'Synthèse Logements'!$M$5)) -> #REF! | U18: =Q18*S18 -> #REF!
B20: Montagne | M20: Mer
C21: Mois | D21: CA NET TTC | E21: Var | F21: TO | G21: Var | H21: PM | I21: Var | J21: RevPar | K21: Var | N21: Mois | O21: CA NET TTC | P21: Var | Q21: TO | R21: Var | S21: PM | T21: Var | U21: RevPar | V21: Var
B22: 2023 | H22: =IF(D22=0,"",AVERAGEIFS(#REF!,#REF!,'Synthèse Logements'!C22,#REF!,'Synthèse Logements'!$B$22,#REF!,'Synthèse Logements'!$B$20)) | J22: =IF(D22=0,"",AVERAGEIFS(#REF!,#REF!,'Synthèse Logements'!C22,#REF!,'Synthèse Logements'!$B$22,#REF!,'Synthèse Logements'!$B$20)) | M22: 2023 | Q22: =IF(O22=0,"",(AVERAGEIFS(#REF!,#REF!,'Synthèse Logements'!N22,#REF!,'Synthèse Logements'!$M$22,#REF!,'Synthèse Logements'!$M$20))) | S22: =IF(O22=0,"",(AVERAGEIFS(#REF!,#REF!,'Synthèse Logements'!N22,#REF!,'Synthèse Logements'!$M$22,#REF!,'Synthèse Logements'!$M$20,#REF!,'Synthèse Logements'!$M$20))) | U22: =IF(O22=0,"",(AVERAGEIFS(#REF!,#REF!,'Synthèse Logements'!N22,#REF!,'Synthèse Logements'!$M$22,#REF!,'Synthèse Logements'!$M$20,#REF!,'Synthèse Logements'!$M$20,#REF!,'Synthèse Logements'!$M$20)))
C23: Décembre | D23: =SUMIFS(#REF!,#REF!,'Synthèse Logements'!C23,#REF!,'Synthèse Logements'!$B$22,#REF!,'Synthèse Logements'!$B$20) -> #REF! | E23: =D23-#REF! -> #REF! | F23: =IF(D23=0,"",AVERAGEIFS(#REF!,#REF!,'Synthèse Logements'!C23,#REF!,'Synthèse Logements'!$B$22,#REF!,'Synthèse Logements'!$B$20)) -> #REF! | G23: =IFERROR(F23/#REF!-1,"") | H23: =IF(D23=0,"",AVERAGEIFS(#REF!,#REF!,'Synthèse Logements'!C23,#REF!,'Synthèse Logements'!$B$22,#REF!,'Synthèse Logements'!$B$20)) -> #REF! | I23: =IFERROR(H23-#REF!,"") | J23: =IF(D23=0,"",AVERAGEIFS(#REF!,#REF!,'Synthèse Logements'!C23,#REF!,'Synthèse Logements'!$B$22,#REF!,'Synthèse Logements'!$B$20)) -> #REF! | K23: =IFERROR(J23-#REF!,"") | N23: Décembre | O23: =SUMIFS(#REF!,#REF!,'Synthèse Logements'!N23,#REF!,'Synthèse Logements'!$M$22,#REF!,'Synthèse Logements'!$M$20) -> #REF! | P23: =O23-#REF! -> #REF! | Q23: =IF(O23=0,"",(AVERAGEIFS(#REF!,#REF!,'Synthèse Logements'!N23,#REF!,'Synthèse Logements'!$M$22,#REF!,'Synthèse Logements'!$M$20))) -> #REF! | R23: =IFERROR(Q23/#REF!-1,"") | S23: =IF(O23=0,"",(AVERAGEIFS(#REF!,#REF!,'Synthèse Logements'!N23,#REF!,'Synthèse Logements'!$M$22,#REF!,'Synthèse Logements'!$M$20,#REF!,'Synthèse Logements'!$M$20))) -> #REF! | T23: =IFERROR(S23-#REF!,"") | U23: =IF(O23=0,"",(AVERAGEIFS(#REF!,#REF!,'Synthèse Logements'!N23,#REF!,'Synthèse Logements'!$M$22,#REF!,'Synthèse Logements'!$M$20,#REF!,'Synthèse Logements'!$M$20,#REF!,'Synthèse Logements'!$M$20))) -> #REF! | V23: =IFERROR(U23-#REF!,"")
C24: Janvier | D24: =SUMIFS(#REF!,#REF!,'Synthèse Logements'!C24,#REF!,'Synthèse Logements'!$B$22,#REF!,'Synthèse Logements'!$B$20) -> #REF! | E24: =D24-#REF! -> #REF! | F24: =IF(D24=0,"",AVERAGEIFS(#REF!,#REF!,'Synthèse Logements'!C24,#REF!,'Synthèse Logements'!$B$22,#REF!,'Synthèse Logements'!$B$20)) -> #REF! | G24: =IFERROR(F24/#REF!-1,"") | H24: =IF(D24=0,"",AVERAGEIFS(#REF!,#REF!,'Synthèse Logements'!C24,#REF!,'Synthèse Logements'!$B$22,#REF!,'Synthèse Logements'!$B$20)) -> #REF! | I24: =IFERROR(H24-#REF!,"") | J24: =IF(D24=0,"",AVERAGEIFS(#REF!,#REF!,'Synthèse Logements'!C24,#REF!,'Synthèse Logements'!$B$22,#REF!,'Synthèse Logements'!$B$20)) -> #REF! | K24: =IFERROR(J24-#REF!,"") | N24: Janvier | O24: =SUMIFS(#REF!,#REF!,'Synthèse Logements'!N24,#REF!,'Synthèse Logements'!$M$22,#REF!,'Synthèse Logements'!$M$20) -> #REF! | P24: =O24-#REF! -> #REF! | Q24: =IF(O24=0,"",(AVERAGEIFS(#REF!,#REF!,'Synthèse Logements'!N24,#REF!,'Synthèse Logements'!$M$22,#REF!,'Synthèse Logements'!$M$20))) -> #REF! | R24: =IFERROR(Q24/#REF!-1,"") | S24: =IF(O24=0,"",(AVERAGEIFS(#REF!,#REF!,'Synthèse Logements'!N24,#REF!,'Synthèse Logements'!$M$22,#REF!,'Synthèse Logements'!$M$20,#REF!,'Synthèse Logements'!$M$20))) -> #REF! | T24: =IFERROR(S24-#REF!,"") | U24: =IF(O24=0,"",(AVERAGEIFS(#REF!,#REF!,'Synthèse Logements'!N24,#REF!,'Synthèse Logements'!$M$22,#REF!,'Synthèse Logements'!$M$20,#REF!,'Synthèse Logements'!$M$20,#REF!,'Synthèse Logements'!$M$20))) -> #REF! | V24: =IFERROR(U24-#REF!,"")
C25: Février | D25: =SUMIFS(#REF!,#REF!,'Synthèse Logements'!C25,#REF!,'Synthèse Logements'!$B$22,#REF!,'Synthèse Logements'!$B$20) -> #REF! | E25: =D25-#REF! -> #REF! | F25: =IF(D25=0,"",AVERAGEIFS(#REF!,#REF!,'Synthèse Logements'!C25,#REF!,'Synthèse Logements'!$B$22,#REF!,'Synthèse Logements'!$B$20)) -> #REF! | G25: =IFERROR(F25/#REF!-1,"") | H25: =IF(D25=0,"",AVERAGEIFS(#REF!,#REF!,'Synthèse Logements'!C25,#REF!,'Synthèse Logements'!$B$22,#REF!,'Synthèse Logements'!$B$20)) -> #REF! | I25: =IFERROR(H25-#REF!,"") | J25: =IF(D25=0,"",AVERAGEIFS(#REF!,#REF!,'Synthèse Logements'!C25,#REF!,'Synthèse Logements'!$B$22,#REF!,'Synthèse Logements'!$B$20)) -> #REF! | K25: =IFERROR(J25-#REF!,"") | N25: Février | O25: =SUMIFS(#REF!,#REF!,'Synthèse Logements'!N25,#REF!,'Synthèse Logements'!$M$22,#REF!,'Synthèse Logements'!$M$20) -> #REF! | P25: =O25-#REF! -> #REF! | Q25: =IF(O25=0,"",(AVERAGEIFS(#REF!,#REF!,'Synthèse Logements'!N25,#REF!,'Synthèse Logements'!$M$22,#REF!,'Synthèse Logements'!$M$20))) -> #REF! | R25: =IFERROR(Q25/#REF!-1,"") | S25: =IF(O25=0,"",(AVERAGEIFS(#REF!,#REF!,'Synthèse Logements'!N25,#REF!,'Synthèse Logements'!$M$22,#REF!,'Synthèse Logements'!$M$20,#REF!,'Synthèse Logements'!$M$20))) -> #REF! | T25: =IFERROR(S25-#REF!,"") | U25: =IF(O25=0,"",(AVERAGEIFS(#REF!,#REF!,'Synthèse Logements'!N25,#REF!,'Synthèse Logements'!$M$22,#REF!,'Synthèse Logements'!$M$20,#REF!,'Synthèse Logements'!$M$20,#REF!,'Synthèse Logements'!$M$20))) -> #REF! | V25: =IFERROR(U25-#REF!,"")
C26: Mars | D26: =SUMIFS(#REF!,#REF!,'Synthèse Logements'!C26,#REF!,'Synthèse Logements'!$B$22,#REF!,'Synthèse Logements'!$B$20) -> #REF! | E26: =D26-#REF! -> #REF! | F26: =IF(D26=0,"",AVERAGEIFS(#REF!,#REF!,'Synthèse Logements'!C26,#REF!,'Synthèse Logements'!$B$22,#REF!,'Synthèse Logements'!$B$20)) -> #REF! | G26: =IFERROR(F26/#REF!-1,"") | H26: =IF(D26=0,"",AVERAGEIFS(#REF!,#REF!,'Synthèse Logements'!C26,#REF!,'Synthèse Logements'!$B$22,#REF!,'Synthèse Logements'!$B$20)) -> #REF! | I26: =IFERROR(H26-#REF!,"") | J26: =IF(D26=0,"",AVERAGEIFS(#REF!,#REF!,'Synthèse Logements'!C26,#REF!,'Synthèse Logements'!$B$22,#REF!,'Synthèse Logements'!$B$20)) -> #REF! | K26: =IFERROR(J26-#REF!,"") | N26: Mars | O26: =SUMIFS(#REF!,#REF!,'Synthèse Logements'!N26,#REF!,'Synthèse Logements'!$M$22,#REF!,'Synthèse Logements'!$M$20) -> #REF! | P26: =O26-#REF! -> #REF! | Q26: =IF(O26=0,"",(AVERAGEIFS(#REF!,#REF!,'Synthèse Logements'!N26,#REF!,'Synthèse Logements'!$M$22,#REF!,'Synthèse Logements'!$M$20))) -> #REF! | R26: =IFERROR(Q26/#REF!-1,"") | S26: =IF(O26=0,"",(AVERAGEIFS(#REF!,#REF!,'Synthèse Logements'!N26,#REF!,'Synthèse Logements'!$M$22,#REF!,'Synthèse Logements'!$M$20,#REF!,'Synthèse Logements'!$M$20))) -> #REF! | T26: =IFERROR(S26-#REF!,"") | U26: =IF(O26=0,"",(AVERAGEIFS(#REF!,#REF!,'Synthèse Logements'!N26,#REF!,'Synthèse Logements'!$M$22,#REF!,'Synthèse Logements'!$M$20,#REF!,'Synthèse Logements'!$M$20,#REF!,'Synthèse Logements'!$M$20))) -> #REF! | V26: =IFERROR(U26-#REF!,"")
C27: Avril | D27: =SUMIFS(#REF!,#REF!,'Synthèse Logements'!C27,#REF!,'Synthèse Logements'!$B$22,#REF!,'Synthèse Logements'!$B$20) -> #REF! | E27: =D27-#REF! -> #REF! | F27: =IF(D27=0,"",AVERAGEIFS(#REF!,#REF!,'Synthèse Logements'!C27,#REF!,'Synthèse Logements'!$B$22,#REF!,'Synthèse Logements'!$B$20)) -> #REF! | G27: =IFERROR(F27/#REF!-1,"") | H27: =IF(D27=0,"",AVERAGEIFS(#REF!,#REF!,'Synthèse Logements'!C27,#REF!,'Synthèse Logements'!$B$22,#REF!,'Synthèse Logements'!$B$20)) -> #REF! | I27: =IFERROR(H27-#REF!,"") | J27: =IF(D27=0,"",AVERAGEIFS(#REF!,#REF!,'Synthèse Logements'!C27,#REF!,'Synthèse Logements'!$B$22,#REF!,'Synthèse Logements'!$B$20)) -> #REF! | K27: =IFERROR(J27-#REF!,"") | N27: Avril | O27: =SUMIFS(#REF!,#REF!,'Synthèse Logements'!N27,#REF!,'Synthèse Logements'!$M$22,#REF!,'Synthèse Logements'!$M$20) -> #REF! | P27: =O27-#REF! -> #REF! | Q27: =IF(O27=0,"",(AVERAGEIFS(#REF!,#REF!,'Synthèse Logements'!N27,#REF!,'Synthèse Logements'!$M$22,#REF!,'Synthèse Logements'!$M$20))) -> #REF! | R27: =IFERROR(Q27/#REF!-1,"") | S27: =IF(O27=0,"",(AVERAGEIFS(#REF!,#REF!,'Synthèse Logements'!N27,#REF!,'Synthèse Logements'!$M$22,#REF!,'Synthèse Logements'!$M$20,#REF!,'Synthèse Logements'!$M$20))) -> #REF! | T27: =IFERROR(S27-#REF!,"") | U27: =IF(O27=0,"",(AVERAGEIFS(#REF!,#REF!,'Synthèse Logements'!N27,#REF!,'Synthèse Logements'!$M$22,#REF!,'Synthèse Logements'!$M$20,#REF!,'Synthèse Logements'!$M$20,#REF!,'Synthèse Logements'!$M$20))) -> #REF! | V27: =IFERROR(U27-#REF!,"")
C28: Mai | D28: =SUMIFS(#REF!,#REF!,'Synthèse Logements'!C28,#REF!,'Synthèse Logements'!$B$22,#REF!,'Synthèse Logements'!$B$20) -> #REF! | E28: =D28-#REF! -> #REF! | F28: =IF(D28=0,"",AVERAGEIFS(#REF!,#REF!,'Synthèse Logements'!C28,#REF!,'Synthèse Logements'!$B$22,#REF!,'Synthèse Logements'!$B$20)) -> #REF! | G28: =IFERROR(F28/#REF!-1,"") | H28: =IF(D28=0,"",AVERAGEIFS(#REF!,#REF!,'Synthèse Logements'!C28,#REF!,'Synthèse Logements'!$B$22,#REF!,'Synthèse Logements'!$B$20)) -> #REF! | I28: =IFERROR(H28-#REF!,"") | J28: =IF(D28=0,"",AVERAGEIFS(#REF!,#REF!,'Synthèse Logements'!C28,#REF!,'Synthèse Logements'!$B$22,#REF!,'Synthèse Logements'!$B$20)) -> #REF! | K28: =IFERROR(J28-#REF!,"") | N28: Mai | O28: =SUMIFS(#REF!,#REF!,'Synthèse Logements'!N28,#REF!,'Synthèse Logements'!$M$22,#REF!,'Synthèse Logements'!$M$20) -> #REF! | P28: =O28-#REF! -> #REF! | Q28: =IF(O28=0,"",(AVERAGEIFS(#REF!,#REF!,'Synthèse Logements'!N28,#REF!,'Synthèse Logements'!$M$22,#REF!,'Synthèse Logements'!$M$20))) -> #REF! | R28: =IFERROR(Q28/#REF!-1,"") | S28: =IF(O28=0,"",(AVERAGEIFS(#REF!,#REF!,'Synthèse Logements'!N28,#REF!,'Synthèse Logements'!$M$22,#REF!,'Synthèse Logements'!$M$20,#REF!,'Synthèse Logements'!$M$20))) -> #REF! | T28: =IFERROR(S28-#REF!,"") | U28: =IF(O28=0,"",(AVERAGEIFS(#REF!,#REF!,'Synthèse Logements'!N28,#REF!,'Synthèse Logements'!$M$22,#REF!,'Synthèse Logements'!$M$20,#REF!,'Synthèse Logements'!$M$20,#REF!,'Synthèse Logements'!$M$20))) -> #REF! | V28: =IFERROR(U28-#REF!,"")
C29: Juin | D29: =SUMIFS(#REF!,#REF!,'Synthèse Logements'!C29,#REF!,'Synthèse Logements'!$B$22,#REF!,'Synthèse Logements'!$B$20) -> #REF! | E29: =D29-#REF! -> #REF! | F29: =IF(D29=0,"",AVERAGEIFS(#REF!,#REF!,'Synthèse Logements'!C29,#REF!,'Synthèse Logements'!$B$22,#REF!,'Synthèse Logements'!$B$20)) -> #REF! | G29: =IFERROR(F29/#REF!-1,"") | H29: =IF(D29=0,"",AVERAGEIFS(#REF!,#REF!,'Synthèse Logements'!C29,#REF!,'Synthèse Logements'!$B$22,#REF!,'Synthèse Logements'!$B$20)) -> #REF! | I29: =IFERROR(H29-#REF!,"") | J29: =IF(D29=0,"",AVERAGEIFS(#REF!,#REF!,'Synthèse Logements'!C29,#REF!,'Synthèse Logements'!$B$22,#REF!,'Synthèse Logements'!$B$20)) -> #REF! | K29: =IFERROR(J29-#REF!,"") | N29: Juin | O29: =SUMIFS(#REF!,#REF!,'Synthèse Logements'!N29,#REF!,'Synthèse Logements'!$M$22,#REF!,'Synthèse Logements'!$M$20) -> #REF! | P29: =O29-#REF! -> #REF! | Q29: =IF(O29=0,"",(AVERAGEIFS(#REF!,#REF!,'Synthèse Logements'!N29,#REF!,'Synthèse Logements'!$M$22,#REF!,'Synthèse Logements'!$M$20))) -> #REF! | R29: =IFERROR(Q29/#REF!-1,"") | S29: =IF(O29=0,"",(AVERAGEIFS(#REF!,#REF!,'Synthèse Logements'!N29,#REF!,'Synthèse Logements'!$M$22,#REF!,'Synthèse Logements'!$M$20,#REF!,'Synthèse Logements'!$M$20))) -> #REF! | T29: =IFERROR(S29-#REF!,"") | U29: =IF(O29=0,"",(AVERAGEIFS(#REF!,#REF!,'Synthèse Logements'!N29,#REF!,'Synthèse Logements'!$M$22,#REF!,'Synthèse Logements'!$M$20,#REF!,'Synthèse Logements'!$M$20,#REF!,'Synthèse Logements'!$M$20))) -> #REF! | V29: =IFERROR(U29-#REF!,"")
C30: Juillet | D30: =SUMIFS(#REF!,#REF!,'Synthèse Logements'!C30,#REF!,'Synthèse Logements'!$B$22,#REF!,'Synthèse Logements'!$B$20) -> #REF! | E30: =D30-#REF! -> #REF! | F30: =IF(D30=0,"",AVERAGEIFS(#REF!,#REF!,'Synthèse Logements'!C30,#REF!,'Synthèse Logements'!$B$22,#REF!,'Synthèse Logements'!$B$20)) -> #REF! | G30: =IFERROR(F30/#REF!-1,"") | H30: =IF(D30=0,"",AVERAGEIFS(#REF!,#REF!,'Synthèse Logements'!C30,#REF!,'Synthèse Logements'!$B$22,#REF!,'Synthèse Logements'!$B$20)) -> #REF! | I30: =IFERROR(H30-#REF!,"") | J30: =IF(D30=0,"",AVERAGEIFS(#REF!,#REF!,'Synthèse Logements'!C30,#REF!,'Synthèse Logements'!$B$22,#REF!,'Synthèse Logements'!$B$20)) -> #REF! | K30: =IFERROR(J30-#REF!,"") | N30: Juillet | O30: =SUMIFS(#REF!,#REF!,'Synthèse Logements'!N30,#REF!,'Synthèse Logements'!$M$22,#REF!,'Synthèse Logements'!$M$20) -> #REF! | P30: =O30-#REF! -> #REF! | Q30: =IF(O30=0,"",(AVERAGEIFS(#REF!,#REF!,'Synthèse Logements'!N30,#REF!,'Synthèse Logements'!$M$22,#REF!,'Synthèse Logements'!$M$20))) -> #REF! | R30: =IFERROR(Q30/#REF!-1,"") | S30: =IF(O30=0,"",(AVERAGEIFS(#REF!,#REF!,'Synthèse Logements'!N30,#REF!,'Synthèse Logements'!$M$22,#REF!,'Synthèse Logements'!$M$20,#REF!,'Synthèse Logements'!$M$20))) -> #REF! | T30: =IFERROR(S30-#REF!,"") | U30: =IF(O30=0,"",(AVERAGEIFS(#REF!,#REF!,'Synthèse Logements'!N30,#REF!,'Synthèse Logements'!$M$22,#REF!,'Synthèse Logements'!$M$20,#REF!,'Synthèse Logements'!$M$20,#REF!,'Synthèse Logements'!$M$20))) -> #REF! | V30: =IFERROR(U30-#REF!,"")
C31: Août | D31: =SUMIFS(#REF!,#REF!,'Synthèse Logements'!C31,#REF!,'Synthèse Logements'!$B$22,#REF!,'Synthèse Logements'!$B$20) -> #REF! | E31: =D31-#REF! -> #REF! | F31: =IF(D31=0,"",AVERAGEIFS(#REF!,#REF!,'Synthèse Logements'!C31,#REF!,'Synthèse Logements'!$B$22,#REF!,'Synthèse Logements'!$B$20)) -> #REF! | G31: =IFERROR(F31/#REF!-1,"") | H31: =IF(D31=0,"",AVERAGEIFS(#REF!,#REF!,'Synthèse Logements'!C31,#REF!,'Synthèse Logements'!$B$22,#REF!,'Synthèse Logements'!$B$20)) -> #REF! | I31: =IFERROR(H31-#REF!,"") | J31: =IF(D31=0,"",AVERAGEIFS(#REF!,#REF!,'Synthèse Logements'!C31,#REF!,'Synthèse Logements'!$B$22,#REF!,'Synthèse Logements'!$B$20)) -> #REF! | K31: =IFERROR(J31-#REF!,"") | N31: Août | O31: =SUMIFS(#REF!,#REF!,'Synthèse Logements'!N31,#REF!,'Synthèse Logements'!$M$22,#REF!,'Synthèse Logements'!$M$20) -> #REF! | P31: =O31-#REF! -> #REF! | Q31: =IF(O31=0,"",(AVERAGEIFS(#REF!,#REF!,'Synthèse Logements'!N31,#REF!,'Synthèse Logements'!$M$22,#REF!,'Synthèse Logements'!$M$20))) -> #REF! | R31: =IFERROR(Q31/#REF!-1,"") | S31: =IF(O31=0,"",(AVERAGEIFS(#REF!,#REF!,'Synthèse Logements'!N31,#REF!,'Synthèse Logements'!$M$22,#REF!,'Synthèse Logements'!$M$20,#REF!,'Synthèse Logements'!$M$20))) -> #REF! | T31: =IFERROR(S31-#REF!,"") | U31: =IF(O31=0,"",(AVERAGEIFS(#REF!,#REF!,'Synthèse Logements'!N31,#REF!,'Synthèse Logements'!$M$22,#REF!,'Synthèse Logements'!$M$20,#REF!,'Synthèse Logements'!$M$20,#REF!,'Synthèse Logements'!$M$20))) -> #REF! | V31: =IFERROR(U31-#REF!,"")
C32: Septembre | D32: =SUMIFS(#REF!,#REF!,'Synthèse Logements'!C32,#REF!,'Synthèse Logements'!$B$22,#REF!,'Synthèse Logements'!$B$20) -> #REF! | E32: =D32-#REF! -> #REF! | F32: =IF(D32=0,"",AVERAGEIFS(#REF!,#REF!,'Synthèse Logements'!C32,#REF!,'Synthèse Logements'!$B$22,#REF!,'Synthèse Logements'!$B$20)) -> #REF! | G32: =IFERROR(F32/#REF!-1,"") | H32: =IF(D32=0,"",AVERAGEIFS(#REF!,#REF!,'Synthèse Logements'!C32,#REF!,'Synthèse Logements'!$B$22,#REF!,'Synthèse Logements'!$B$20)) -> #REF! | I32: =IFERROR(H32-#REF!,"") | J32: =IF(D32=0,"",AVERAGEIFS(#REF!,#REF!,'Synthèse Logements'!C32,#REF!,'Synthèse Logements'!$B$22,#REF!,'Synthèse Logements'!$B$20)) -> #REF! | K32: =IFERROR(J32-#REF!,"") | N32: Septembre | O32: =SUMIFS(#REF!,#REF!,'Synthèse Logements'!N32,#REF!,'Synthèse Logements'!$M$22,#REF!,'Synthèse Logements'!$M$20) -> #REF! | P32: =O32-#REF! -> #REF! | Q32: =IF(O32=0,"",(AVERAGEIFS(#REF!,#REF!,'Synthèse Logements'!N32,#REF!,'Synthèse Logements'!$M$22,#REF!,'Synthèse Logements'!$M$20))) -> #REF! | R32: =IFERROR(Q32/#REF!-1,"") | S32: =IF(O32=0,"",(AVERAGEIFS(#REF!,#REF!,'Synthèse Logements'!N32,#REF!,'Synthèse Logements'!$M$22,#REF!,'Synthèse Logements'!$M$20,#REF!,'Synthèse Logements'!$M$20))) -> #REF! | T32: =IFERROR(S32-#REF!,"") | V32: =IFERROR(U32-#REF!,"")
C33: Octobre | D33: =SUMIFS(#REF!,#REF!,'Synthèse Logements'!C33,#REF!,'Synthèse Logements'!$B$22,#REF!,'Synthèse Logements'!$B$20) -> #REF! | E33: =D33-#REF! -> #REF! | F33: =IF(D33=0,"",AVERAGEIFS(#REF!,#REF!,'Synthèse Logements'!C33,#REF!,'Synthèse Logements'!$B$22,#REF!,'Synthèse Logements'!$B$20)) -> #REF! | G33: =IFERROR(F33/#REF!-1,"") | H33: =IF(D33=0,"",AVERAGEIFS(#REF!,#REF!,'Synthèse Logements'!C33,#REF!,'Synthèse Logements'!$B$22,#REF!,'Synthèse Logements'!$B$20)) -> #REF! | I33: =IFERROR(H33-#REF!,"") | J33: =IF(D33=0,"",AVERAGEIFS(#REF!,#REF!,'Synthèse Logements'!C33,#REF!,'Synthèse Logements'!$B$22,#REF!,'Synthèse Logements'!$B$20)) -> #REF! | K33: =IFERROR(J33-#REF!,"") | N33: Octobre | O33: =SUMIFS(#REF!,#REF!,'Synthèse Logements'!N33,#REF!,'Synthèse Logements'!$M$22,#REF!,'Synthèse Logements'!$M$20) -> #REF! | P33: =O33-#REF! -> #REF! | Q33: =IF(O33=0,"",(AVERAGEIFS(#REF!,#REF!,'Synthèse Logements'!N33,#REF!,'Synthèse Logements'!$M$22,#REF!,'Synthèse Logements'!$M$20))) -> #REF! | R33: =IFERROR(Q33/#REF!-1,"") | S33: =IF(O33=0,"",(AVERAGEIFS(#REF!,#REF!,'Synthèse Logements'!N33,#REF!,'Synthèse Logements'!$M$22,#REF!,'Synthèse Logements'!$M$20,#REF!,'Synthèse Logements'!$M$20))) -> #REF! | T33: =IFERROR(S33-#REF!,"") | U33: =IF(O33=0,"",(AVERAGEIFS(#REF!,#REF!,'Synthèse Logements'!N33,#REF!,'Synthèse Logements'!$M$22,#REF!,'Synthèse Logements'!$M$20,#REF!,'Synthèse Logements'!$M$20,#REF!,'Synthèse Logements'!$M$20))) -> #REF! | V33: =IFERROR(U33-#REF!,"")
C34: Novembre | D34: =SUMIFS(#REF!,#REF!,'Synthèse Logements'!C34,#REF!,'Synthèse Logements'!$B$22,#REF!,'Synthèse Logements'!$B$20) -> #REF! | E34: =D34-#REF! -> #REF! | F34: =IF(D34=0,"",AVERAGEIFS(#REF!,#REF!,'Synthèse Logements'!C34,#REF!,'Synthèse Logements'!$B$22,#REF!,'Synthèse Logements'!$B$20)) -> #REF! | G34: =IFERROR(F34/#REF!-1,"") | H34: =IF(D34=0,"",AVERAGEIFS(#REF!,#REF!,'Synthèse Logements'!C34,#REF!,'Synthèse Logements'!$B$22,#REF!,'Synthèse Logements'!$B$20)) -> #REF! | I34: =IFERROR(H34-#REF!,"") | J34: =IF(D34=0,"",AVERAGEIFS(#REF!,#REF!,'Synthèse Logements'!C34,#REF!,'Synthèse Logements'!$B$22,#REF!,'Synthèse Logements'!$B$20)) -> #REF! | K34: =IFERROR(J34-#REF!,"") | N34: Novembre | O34: =SUMIFS(#REF!,#REF!,'Synthèse Logements'!N34,#REF!,'Synthèse Logements'!$M$22,#REF!,'Synthèse Logements'!$M$20) -> #REF! | P34: =O34-#REF! -> #REF! | Q34: =IF(O34=0,"",(AVERAGEIFS(#REF!,#REF!,'Synthèse Logements'!N34,#REF!,'Synthèse Logements'!$M$22,#REF!,'Synthèse Logements'!$M$20))) -> #REF! | R34: =IFERROR(Q34/#REF!-1,"") | S34: =IF(O34=0,"",(AVERAGEIFS(#REF!,#REF!,'Synthèse Logements'!N34,#REF!,'Synthèse Logements'!$M$22,#REF!,'Synthèse Logements'!$M$20,#REF!,'Synthèse Logements'!$M$20))) -> #REF! | T34: =IFERROR(S34-#REF!,"") | U34: =IF(O34=0,"",(AVERAGEIFS(#REF!,#REF!,'Synthèse Logements'!N34,#REF!,'Synthèse Logements'!$M$22,#REF!,'Synthèse Logements'!$M$20,#REF!,'Synthèse Logements'!$M$20,#REF!,'Synthèse Logements'!$M$20))) -> #REF! | V34: =IFERROR(U34-#REF!,"")
C35: Total | D35: =SUM(D23:D34) -> #REF! | F35: =IF(C35=0,"",AVERAGEIFS(#REF!,#REF!,'Synthèse Logements'!$B$22,#REF!,'Synthèse Logements'!$B$20)) -> #REF! | H35: =AVERAGE(H23:H30) -> #REF! | J35: =AVERAGE(J23:J34) -> #REF! | N35: Total | O35: =SUM(O23:O34) -> #REF! | Q35: =IF(N35=0,"",AVERAGEIFS(#REF!,#REF!,'Synthèse Logements'!$M$22,#REF!,'Synthèse Logements'!$M$20)) -> #REF! | S35: =AVERAGE(S27:S32) -> #REF! | U35: =AVERAGE(U23:U34) -> #REF!
B37: Liste déroulante Orcières | M37: Liste déroulante Agde
C38: Mois | D38: CA NET TTC | E38: % | F38: TO | G38: Var | H38: PM | I38: Var | J38: RevPar | K38: Var | N38: Mois | O38: CA NET TTC | P38: Var | Q38: TO | R38: Var | S38: PM | T38: Var | U38: RevPar | V38: Var
B39: 2023 | H39: =IF(D39=0,"",AVERAGEIFS(#REF!,#REF!,'Synthèse Logements'!C39,#REF!,'Synthèse Logements'!$B$22,#REF!,'Synthèse Logements'!$B$20)) | J39: =IF(D39=0,"",AVERAGEIFS(#REF!,#REF!,'Synthèse Logements'!C39,#REF!,'Synthèse Logements'!$B$22,#REF!,'Synthèse Logements'!$B$20)) | M39: 2023 | S39: =IF(O39=0,"",AVERAGEIFS(#REF!,#REF!,'Synthèse Logements'!N39,#REF!,'Synthèse Logements'!$B$22,#REF!,'Synthèse Logements'!$B$20)) | U39: =IF(O39=0,"",AVERAGEIFS(#REF!,#REF!,'Synthèse Logements'!N39,#REF!,'Synthèse Logements'!$B$22,#REF!,'Synthèse Logements'!$B$20))
C40: Décembre | D40: =SUMIFS(#REF!,#REF!,'Synthèse Logements'!C40,#REF!,'Synthèse Logements'!$B$39,#REF!,'Synthèse Logements'!$B$37) -> #REF! | E40: =IFERROR(D40/#REF!,"") | F40: =IF(D40=0,"",AVERAGEIFS(#REF!,#REF!,'Synthèse Logements'!C40,#REF!,'Synthèse Logements'!$B$39,#REF!,'Synthèse Logements'!$B$37)) -> #REF! | H40: =IF(D40=0,"",AVERAGEIFS(#REF!,#REF!,'Synthèse Logements'!C40,#REF!,'Synthèse Logements'!$B$39,#REF!,'Synthèse Logements'!$B$37)) -> #REF! | J40: =IF(D40=0,"",AVERAGEIFS(#REF!,#REF!,'Synthèse Logements'!C40,#REF!,'Synthèse Logements'!$B$39,#REF!,'Synthèse Logements'!$B$37)) -> #REF! | N40: Décembre | O40: =SUMIFS(#REF!,#REF!,'Synthèse Logements'!N40,#REF!,'Synthèse Logements'!$M$39,#REF!,'Synthèse Logements'!$M$37) -> #REF! | P40: =IFERROR(O40/#REF!,"") | Q40: =IF(O40=0,"",AVERAGEIFS(#REF!,#REF!,'Synthèse Logements'!N40,#REF!,'Synthèse Logements'!$M$39,#REF!,'Synthèse Logements'!$M$37)) -> #REF! | S40: =IF(O40=0,"",AVERAGEIFS(#REF!,#REF!,'Synthèse Logements'!N40,#REF!,'Synthèse Logements'!$M$39,#REF!,'Synthèse Logements'!$M$37)) -> #REF! | U40: =IF(O40=0,"",AVERAGEIFS(#REF!,#REF!,'Synthèse Logements'!N40,#REF!,'Synthèse Logements'!$M$39,#REF!,'Synthèse Logements'!$M$37)) -> #REF!
C41: Janvier | D41: =SUMIFS(#REF!,#REF!,'Synthèse Logements'!C41,#REF!,'Synthèse Logements'!$B$39,#REF!,'Synthèse Logements'!$B$37) -> #REF! | E41: =IFERROR(D41/#REF!,"") | F41: =IF(D41=0,"",AVERAGEIFS(#REF!,#REF!,'Synthèse Logements'!C41,#REF!,'Synthèse Logements'!$B$39,#REF!,'Synthèse Logements'!$B$37)) -> #REF! | H41: =IF(D41=0,"",AVERAGEIFS(#REF!,#REF!,'Synthèse Logements'!C41,#REF!,'Synthèse Logements'!$B$39,#REF!,'Synthèse Logements'!$B$37)) -> #REF! | J41: =IF(D41=0,"",AVERAGEIFS(#REF!,#REF!,'Synthèse Logements'!C41,#REF!,'Synthèse Logements'!$B$39,#REF!,'Synthèse Logements'!$B$37)) -> #REF! | N41: Janvier | O41: =SUMIFS(#REF!,#REF!,'Synthèse Logements'!N41,#REF!,'Synthèse Logements'!$M$39,#REF!,'Synthèse Logements'!$M$37) -> #REF! | P41: =IFERROR(O41/#REF!,"") | Q41: =IF(O41=0,"",AVERAGEIFS(#REF!,#REF!,'Synthèse Logements'!N41,#REF!,'Synthèse Logements'!$M$39,#REF!,'Synthèse Logements'!$M$37)) -> #REF! | S41: =IF(O41=0,"",AVERAGEIFS(#REF!,#REF!,'Synthèse Logements'!N41,#REF!,'Synthèse Logements'!$M$39,#REF!,'Synthèse Logements'!$M$37)) -> #REF! | U41: =IF(O41=0,"",AVERAGEIFS(#REF!,#REF!,'Synthèse Logements'!N41,#REF!,'Synthèse Logements'!$M$39,#REF!,'Synthèse Logements'!$M$37)) -> #REF!
C42: Février | D42: =SUMIFS(#REF!,#REF!,'Synthèse Logements'!C42,#REF!,'Synthèse Logements'!$B$39,#REF!,'Synthèse Logements'!$B$37) -> #REF! | E42: =IFERROR(D42/#REF!,"") | F42: =IF(D42=0,"",AVERAGEIFS(#REF!,#REF!,'Synthèse Logements'!C42,#REF!,'Synthèse Logements'!$B$39,#REF!,'Synthèse Logements'!$B$37)) -> #REF! | H42: =IF(D42=0,"",AVERAGEIFS(#REF!,#REF!,'Synthèse Logements'!C42,#REF!,'Synthèse Logements'!$B$39,#REF!,'Synthèse Logements'!$B$37)) -> #REF! | J42: =IF(D42=0,"",AVERAGEIFS(#REF!,#REF!,'Synthèse Logements'!C42,#REF!,'Synthèse Logements'!$B$39,#REF!,'Synthèse Logements'!$B$37)) -> #REF! | N42: Février | O42: =SUMIFS(#REF!,#REF!,'Synthèse Logements'!N42,#REF!,'Synthèse Logements'!$M$39,#REF!,'Synthèse Logements'!$M$37) -> #REF! | P42: =IFERROR(O42/#REF!,"") | Q42: =IF(O42=0,"",AVERAGEIFS(#REF!,#REF!,'Synthèse Logements'!N42,#REF!,'Synthèse Logements'!$M$39,#REF!,'Synthèse Logements'!$M$37)) -> #REF! | S42: =IF(O42=0,"",AVERAGEIFS(#REF!,#REF!,'Synthèse Logements'!N42,#REF!,'Synthèse Logements'!$M$39,#REF!,'Synthèse Logements'!$M$37)) -> #REF! | U42: =IF(O42=0,"",AVERAGEIFS(#REF!,#REF!,'Synthèse Logements'!N42,#REF!,'Synthèse Logements'!$M$39,#REF!,'Synthèse Logements'!$M$37)) -> #REF!
C43: Mars | D43: =SUMIFS(#REF!,#REF!,'Synthèse Logements'!C43,#REF!,'Synthèse Logements'!$B$39,#REF!,'Synthèse Logements'!$B$37) -> #REF! | E43: =IFERROR(D43/#REF!,"") | F43: =IF(D43=0,"",AVERAGEIFS(#REF!,#REF!,'Synthèse Logements'!C43,#REF!,'Synthèse Logements'!$B$39,#REF!,'Synthèse Logements'!$B$37)) -> #REF! | H43: =IF(D43=0,"",AVERAGEIFS(#REF!,#REF!,'Synthèse Logements'!C43,#REF!,'Synthèse Logements'!$B$39,#REF!,'Synthèse Logements'!$B$37)) -> #REF! | J43: =IF(D43=0,"",AVERAGEIFS(#REF!,#REF!,'Synthèse Logements'!C43,#REF!,'Synthèse Logements'!$B$39,#REF!,'Synthèse Logements'!$B$37)) -> #REF! | N43: Mars | O43: =SUMIFS(#REF!,#REF!,'Synthèse Logements'!N43,#REF!,'Synthèse Logements'!$M$39,#REF!,'Synthèse Logements'!$M$37) -> #REF! | P43: =IFERROR(O43/#REF!,"") | Q43: =IF(O43=0,"",AVERAGEIFS(#REF!,#REF!,'Synthèse Logements'!N43,#REF!,'Synthèse Logements'!$M$39,#REF!,'Synthèse Logements'!$M$37)) -> #REF! | S43: =IF(O43=0,"",AVERAGEIFS(#REF!,#REF!,'Synthèse Logements'!N43,#REF!,'Synthèse Logements'!$M$39,#REF!,'Synthèse Logements'!$M$37)) -> #REF! | U43: =IF(O43=0,"",AVERAGEIFS(#REF!,#REF!,'Synthèse Logements'!N43,#REF!,'Synthèse Logements'!$M$39,#REF!,'Synthèse Logements'!$M$37)) -> #REF!
C44: Avril | D44: =SUMIFS(#REF!,#REF!,'Synthèse Logements'!C44,#REF!,'Synthèse Logements'!$B$39,#REF!,'Synthèse Logements'!$B$37) -> #REF! | E44: =IFERROR(D44/#REF!,"") | F44: =IF(D44=0,"",AVERAGEIFS(#REF!,#REF!,'Synthèse Logements'!C44,#REF!,'Synthèse Logements'!$B$39,#REF!,'Synthèse Logements'!$B$37)) -> #REF! | H44: =IF(D44=0,"",AVERAGEIFS(#REF!,#REF!,'Synthèse Logements'!C44,#REF!,'Synthèse Logements'!$B$39,#REF!,'Synthèse Logements'!$B$37)) -> #REF! | J44: =IF(D44=0,"",AVERAGEIFS(#REF!,#REF!,'Synthèse Logements'!C44,#REF!,'Synthèse Logements'!$B$39,#REF!,'Synthèse Logements'!$B$37)) -> #REF! | N44: Avril | O44: =SUMIFS(#REF!,#REF!,'Synthèse Logements'!N44,#REF!,'Synthèse Logements'!$M$39,#REF!,'Synthèse Logements'!$M$37) -> #REF! | P44: =IFERROR(O44/#REF!,"") | Q44: =IF(O44=0,"",AVERAGEIFS(#REF!,#REF!,'Synthèse Logements'!N44,#REF!,'Synthèse Logements'!$M$39,#REF!,'Synthèse Logements'!$M$37)) -> #REF! | S44: =IF(O44=0,"",AVERAGEIFS(#REF!,#REF!,'Synthèse Logements'!N44,#REF!,'Synthèse Logements'!$M$39,#REF!,'Synthèse Logements'!$M$37)) -> #REF! | U44: =IF(O44=0,"",AVERAGEIFS(#REF!,#REF!,'Synthèse Logements'!N44,#REF!,'Synthèse Logements'!$M$39,#REF!,'Synthèse Logements'!$M$37)) -> #REF!
C45: Mai | D45: =SUMIFS(#REF!,#REF!,'Synthèse Logements'!C45,#REF!,'Synthèse Logements'!$B$39,#REF!,'Synthèse Logements'!$B$37) -> #REF! | E45: =IFERROR(D45/#REF!,"") | F45: =IF(D45=0,"",AVERAGEIFS(#REF!,#REF!,'Synthèse Logements'!C45,#REF!,'Synthèse Logements'!$B$39,#REF!,'Synthèse Logements'!$B$37)) -> #REF! | H45: =IF(D45=0,"",AVERAGEIFS(#REF!,#REF!,'Synthèse Logements'!C45,#REF!,'Synthèse Logements'!$B$39,#REF!,'Synthèse Logements'!$B$37)) -> #REF! | J45: =IF(D45=0,"",AVERAGEIFS(#REF!,#REF!,'Synthèse Logements'!C45,#REF!,'Synthèse Logements'!$B$39,#REF!,'Synthèse Logements'!$B$37)) -> #REF! | N45: Mai | O45: =SUMIFS(#REF!,#REF!,'Synthèse Logements'!N45,#REF!,'Synthèse Logements'!$M$39,#REF!,'Synthèse Logements'!$M$37) -> #REF! | P45: =IFERROR(O45/#REF!,"") | Q45: =IF(O45=0,"",AVERAGEIFS(#REF!,#REF!,'Synthèse Logements'!N45,#REF!,'Synthèse Logements'!$M$39,#REF!,'Synthèse Logements'!$M$37)) -> #REF! | S45: =IF(O45=0,"",AVERAGEIFS(#REF!,#REF!,'Synthèse Logements'!N45,#REF!,'Synthèse Logements'!$M$39,#REF!,'Synthèse Logements'!$M$37)) -> #REF! | U45: =IF(O45=0,"",AVERAGEIFS(#REF!,#REF!,'Synthèse Logements'!N45,#REF!,'Synthèse Logements'!$M$39,#REF!,'Synthèse Logements'!$M$37)) -> #REF!
C46: Juin | D46: =SUMIFS(#REF!,#REF!,'Synthèse Logements'!C46,#REF!,'Synthèse Logements'!$B$39,#REF!,'Synthèse Logements'!$B$37) -> #REF! | E46: =IFERROR(D46/#REF!,"") | F46: =IF(D46=0,"",AVERAGEIFS(#REF!,#REF!,'Synthèse Logements'!C46,#REF!,'Synthèse Logements'!$B$39,#REF!,'Synthèse Logements'!$B$37)) -> #REF! | H46: =IF(D46=0,"",AVERAGEIFS(#REF!,#REF!,'Synthèse Logements'!C46,#REF!,'Synthèse Logements'!$B$39,#REF!,'Synthèse Logements'!$B$37)) -> #REF! | J46: =IF(D46=0,"",AVERAGEIFS(#REF!,#REF!,'Synthèse Logements'!C46,#REF!,'Synthèse Logements'!$B$39,#REF!,'Synthèse Logements'!$B$37)) -> #REF! | N46: Juin | O46: =SUMIFS(#REF!,#REF!,'Synthèse Logements'!N46,#REF!,'Synthèse Logements'!$M$39,#REF!,'Synthèse Logements'!$M$37) -> #REF! | P46: =IFERROR(O46/#REF!,"") | Q46: =IF(O46=0,"",AVERAGEIFS(#REF!,#REF!,'Synthèse Logements'!N46,#REF!,'Synthèse Logements'!$M$39,#REF!,'Synthèse Logements'!$M$37)) -> #REF! | S46: =IF(O46=0,"",AVERAGEIFS(#REF!,#REF!,'Synthèse Logements'!N46,#REF!,'Synthèse Logements'!$M$39,#REF!,'Synthèse Logements'!$M$37)) -> #REF! | U46: =IF(O46=0,"",AVERAGEIFS(#REF!,#REF!,'Synthèse Logements'!N46,#REF!,'Synthèse Logements'!$M$39,#REF!,'Synthèse Logements'!$M$37)) -> #REF!
C47: Juillet | D47: =SUMIFS(#REF!,#REF!,'Synthèse Logements'!C47,#REF!,'Synthèse Logements'!$B$39,#REF!,'Synthèse Logements'!$B$37) -> #REF! | E47: =IFERROR(D47/#REF!,"") | F47: =IF(D47=0,"",AVERAGEIFS(#REF!,#REF!,'Synthèse Logements'!C47,#REF!,'Synthèse Logements'!$B$39,#REF!,'Synthèse Logements'!$B$37)) -> #REF! | H47: =IF(D47=0,"",AVERAGEIFS(#REF!,#REF!,'Synthèse Logements'!C47,#REF!,'Synthèse Logements'!$B$39,#REF!,'Synthèse Logements'!$B$37)) -> #REF! | J47: =IF(D47=0,"",AVERAGEIFS(#REF!,#REF!,'Synthèse Logements'!C47,#REF!,'Synthèse Logements'!$B$39,#REF!,'Synthèse Logements'!$B$37)) -> #REF! | N47: Juillet | O47: =SUMIFS(#REF!,#REF!,'Synthèse Logements'!N47,#REF!,'Synthèse Logements'!$M$39,#REF!,'Synthèse Logements'!$M$37) -> #REF! | P47: =IFERROR(O47/#REF!,"") | Q47: =IF(O47=0,"",AVERAGEIFS(#REF!,#REF!,'Synthèse Logements'!N47,#REF!,'Synthèse Logements'!$M$39,#REF!,'Synthèse Logements'!$M$37)) -> #REF! | S47: =IF(O47=0,"",AVERAGEIFS(#REF!,#REF!,'Synthèse Logements'!N47,#REF!,'Synthèse Logements'!$M$39,#REF!,'Synthèse Logements'!$M$37)) -> #REF! | U47: =IF(O47=0,"",AVERAGEIFS(#REF!,#REF!,'Synthèse Logements'!N47,#REF!,'Synthèse Logements'!$M$39,#REF!,'Synthèse Logements'!$M$37)) -> #REF!
C48: Août | D48: =SUMIFS(#REF!,#REF!,'Synthèse Logements'!C48,#REF!,'Synthèse Logements'!$B$39,#REF!,'Synthèse Logements'!$B$37) -> #REF! | E48: =IFERROR(D48/#REF!,"") | F48: =IF(D48=0,"",AVERAGEIFS(#REF!,#REF!,'Synthèse Logements'!C48,#REF!,'Synthèse Logements'!$B$39,#REF!,'Synthèse Logements'!$B$37)) -> #REF! | H48: =IF(D48=0,"",AVERAGEIFS(#REF!,#REF!,'Synthèse Logements'!C48,#REF!,'Synthèse Logements'!$B$39,#REF!,'Synthèse Logements'!$B$37)) -> #REF! | J48: =IF(D48=0,"",AVERAGEIFS(#REF!,#REF!,'Synthèse Logements'!C48,#REF!,'Synthèse Logements'!$B$39,#REF!,'Synthèse Logements'!$B$37)) -> #REF! | N48: Août | O48: =SUMIFS(#REF!,#REF!,'Synthèse Logements'!N48,#REF!,'Synthèse Logements'!$M$39,#REF!,'Synthèse Logements'!$M$37) -> #REF! | P48: =IFERROR(O48/#REF!,"") | Q48: =IF(O48=0,"",AVERAGEIFS(#REF!,#REF!,'Synthèse Logements'!N48,#REF!,'Synthèse Logements'!$M$39,#REF!,'Synthèse Logements'!$M$37)) -> #REF! | S48: =IF(O48=0,"",AVERAGEIFS(#REF!,#REF!,'Synthèse Logements'!N48,#REF!,'Synthèse Logements'!$M$39,#REF!,'Synthèse Logements'!$M$37)) -> #REF! | U48: =IF(O48=0,"",AVERAGEIFS(#REF!,#REF!,'Synthèse Logements'!N48,#REF!,'Synthèse Logements'!$M$39,#REF!,'Synthèse Logements'!$M$37)) -> #REF!
C49: Septembre | D49: =SUMIFS(#REF!,#REF!,'Synthèse Logements'!C49,#REF!,'Synthèse Logements'!$B$39,#REF!,'Synthèse Logements'!$B$37) -> #REF! | E49: =IFERROR(D49/#REF!,"") | F49: =IF(D49=0,"",AVERAGEIFS(#REF!,#REF!,'Synthèse Logements'!C49,#REF!,'Synthèse Logements'!$B$39,#REF!,'Synthèse Logements'!$B$37)) -> #REF! | H49: =IF(D49=0,"",AVERAGEIFS(#REF!,#REF!,'Synthèse Logements'!C49,#REF!,'Synthèse Logements'!$B$39,#REF!,'Synthèse Logements'!$B$37)) -> #REF! | J49: =IF(D49=0,"",AVERAGEIFS(#REF!,#REF!,'Synthèse Logements'!C49,#REF!,'Synthèse Logements'!$B$39,#REF!,'Synthèse Logements'!$B$37)) -> #REF! | N49: Septembre | O49: =SUMIFS(#REF!,#REF!,'Synthèse Logements'!N49,#REF!,'Synthèse Logements'!$M$39,#REF!,'Synthèse Logements'!$M$37) -> #REF! | P49: =IFERROR(O49/#REF!,"") | Q49: =IF(O49=0,"",AVERAGEIFS(#REF!,#REF!,'Synthèse Logements'!N49,#REF!,'Synthèse Logements'!$M$39,#REF!,'Synthèse Logements'!$M$37)) -> #REF! | S49: =IF(O49=0,"",AVERAGEIFS(#REF!,#REF!,'Synthèse Logements'!N49,#REF!,'Synthèse Logements'!$M$39,#REF!,'Synthèse Logements'!$M$37)) -> #REF! | U49: =IF(O49=0,"",AVERAGEIFS(#REF!,#REF!,'Synthèse Logements'!N49,#REF!,'Synthèse Logements'!$M$39,#REF!,'Synthèse Logements'!$M$37)) -> #REF!
C50: Octobre | D50: =SUMIFS(#REF!,#REF!,'Synthèse Logements'!C50,#REF!,'Synthèse Logements'!$B$39,#REF!,'Synthèse Logements'!$B$37) -> #REF! | E50: =IFERROR(D50/#REF!,"") | F50: =IF(D50=0,"",AVERAGEIFS(#REF!,#REF!,'Synthèse Logements'!C50,#REF!,'Synthèse Logements'!$B$39,#REF!,'Synthèse Logements'!$B$37)) -> #REF! | H50: =IF(D50=0,"",AVERAGEIFS(#REF!,#REF!,'Synthèse Logements'!C50,#REF!,'Synthèse Logements'!$B$39,#REF!,'Synthèse Logements'!$B$37)) -> #REF! | J50: =IF(D50=0,"",AVERAGEIFS(#REF!,#REF!,'Synthèse Logements'!C50,#REF!,'Synthèse Logements'!$B$39,#REF!,'Synthèse Logements'!$B$37)) -> #REF! | N50: Octobre | O50: =SUMIFS(#REF!,#REF!,'Synthèse Logements'!N50,#REF!,'Synthèse Logements'!$M$39,#REF!,'Synthèse Logements'!$M$37) -> #REF! | P50: =IFERROR(O50/#REF!,"") | Q50: =IF(O50=0,"",AVERAGEIFS(#REF!,#REF!,'Synthèse Logements'!N50,#REF!,'Synthèse Logements'!$M$39,#REF!,'Synthèse Logements'!$M$37)) -> #REF! | S50: =IF(O50=0,"",AVERAGEIFS(#REF!,#REF!,'Synthèse Logements'!N50,#REF!,'Synthèse Logements'!$M$39,#REF!,'Synthèse Logements'!$M$37)) -> #REF! | U50: =IF(O50=0,"",AVERAGEIFS(#REF!,#REF!,'Synthèse Logements'!N50,#REF!,'Synthèse Logements'!$M$39,#REF!,'Synthèse Logements'!$M$37)) -> #REF!
C51: Novembre | D51: =SUMIFS(#REF!,#REF!,'Synthèse Logements'!C51,#REF!,'Synthèse Logements'!$B$39,#REF!,'Synthèse Logements'!$B$37) -> #REF! | E51: =IFERROR(D51/#REF!,"") | F51: =IF(D51=0,"",AVERAGEIFS(#REF!,#REF!,'Synthèse Logements'!C51,#REF!,'Synthèse Logements'!$B$39,#REF!,'Synthèse Logements'!$B$37)) -> #REF! | G51: =IFERROR(F51/#REF!,"") | H51: =IF(D51=0,"",AVERAGEIFS(#REF!,#REF!,'Synthèse Logements'!C51,#REF!,'Synthèse Logements'!$B$39,#REF!,'Synthèse Logements'!$B$37)) -> #REF! | I51: =IFERROR(H51-#REF!,"") | J51: =IF(D51=0,"",AVERAGEIFS(#REF!,#REF!,'Synthèse Logements'!C51,#REF!,'Synthèse Logements'!$B$39,#REF!,'Synthèse Logements'!$B$37)) -> #REF! | K51: =IFERROR(J51-#REF!,"") | N51: Novembre | O51: =SUMIFS(#REF!,#REF!,'Synthèse Logements'!N51,#REF!,'Synthèse Logements'!$M$39,#REF!,'Synthèse Logements'!$M$37) -> #REF! | P51: =IFERROR(O51/#REF!,"") | Q51: =IF(O51=0,"",AVERAGEIFS(#REF!,#REF!,'Synthèse Logements'!N51,#REF!,'Synthèse Logements'!$M$39,#REF!,'Synthèse Logements'!$M$37)) -> #REF! | S51: =IF(O51=0,"",AVERAGEIFS(#REF!,#REF!,'Synthèse Logements'!N51,#REF!,'Synthèse Logements'!$M$39,#REF!,'Synthèse Logements'!$M$37)) -> #REF! | U51: =IF(O51=0,"",AVERAGEIFS(#REF!,#REF!,'Synthèse Logements'!N51,#REF!,'Synthèse Logements'!$M$39,#REF!,'Synthèse Logements'!$M$37)) -> #REF!
C52: Total | D52: =SUM(D40:D51) -> #REF! | F52: =IF(C52=0,"",AVERAGEIFS(#REF!,#REF!,'Synthèse Logements'!$B$39,#REF!,'Synthèse Logements'!$B$37)) -> #REF! | H52: =AVERAGE(H40:H51) -> #REF! | J52: =AVERAGE(J40:J51) -> #REF! | N52: Total | O52: =SUM(O40:O51) -> #REF! | Q52: =IF(N52=0,"",AVERAGEIFS(#REF!,#REF!,'Synthèse Logements'!$M$39,#REF!,'Synthèse Logements'!$M$37)) -> #REF! | S52: =AVERAGE(S40:S51) -> #REF! | U52: =AVERAGE(U40:U51) -> #REF!
B54: Liste déroulante Saint Sorlin | M54: Cagnes-sur-mer
C55: Mois | D55: CA NET TTC | E55: % | F55: TO | G55: Var | H55: PM | I55: Var | J55: RevPar | K55: Var | N55: Mois | O55: CA NET TTC | P55: Var | Q55: TO | R55: Var | S55: PM | T55: Var | U55: RevPar | V55: Var
B56: 2023 | H56: =IF(D56=0,"",AVERAGEIFS(#REF!,#REF!,'Synthèse Logements'!C56,#REF!,'Synthèse Logements'!$B$22,#REF!,'Synthèse Logements'!$B$20)) | J56: =IF(D56=0,"",AVERAGEIFS(#REF!,#REF!,'Synthèse Logements'!C56,#REF!,'Synthèse Logements'!$B$22,#REF!,'Synthèse Logements'!$B$20)) | M56: 2023 | S56: =IF(O56=0,"",AVERAGEIFS(#REF!,#REF!,'Synthèse Logements'!N56,#REF!,'Synthèse Logements'!$B$22,#REF!,'Synthèse Logements'!$B$20)) | U56: =IF(O56=0,"",AVERAGEIFS(#REF!,#REF!,'Synthèse Logements'!N56,#REF!,'Synthèse Logements'!$B$22,#REF!,'Synthèse Logements'!$B$20))
C57: Décembre | D57: =SUMIFS(#REF!,#REF!,'Synthèse Logements'!C57,#REF!,'Synthèse Logements'!$B$56,#REF!,'Synthèse Logements'!$B$54) -> #REF! | E57: =IFERROR(D57/#REF!,"") | F57: =IF(D57=0,"",AVERAGEIFS(#REF!,#REF!,'Synthèse Logements'!C57,#REF!,'Synthèse Logements'!$B$56,#REF!,'Synthèse Logements'!$B$54)) -> #REF! | H57: =IF(D57=0,"",AVERAGEIFS(#REF!,#REF!,'Synthèse Logements'!C57,#REF!,'Synthèse Logements'!$B$56,#REF!,'Synthèse Logements'!$B$54)) -> #REF! | J57: =IF(D57=0,"",AVERAGEIFS(#REF!,#REF!,'Synthèse Logements'!C57,#REF!,'Synthèse Logements'!$B$56,#REF!,'Synthèse Logements'!$B$54)) -> #REF! | N57: Décembre | O57: =SUMIFS(#REF!,#REF!,'Synthèse Logements'!N57,#REF!,'Synthèse Logements'!$M$56,#REF!,'Synthèse Logements'!$M$54) -> #REF! | P57: =IFERROR(O57/#REF!,"") | Q57: =IF(O57=0,"",AVERAGEIFS(#REF!,#REF!,'Synthèse Logements'!N57,#REF!,'Synthèse Logements'!$M$56,#REF!,'Synthèse Logements'!$M$54)) -> #REF! | R57: =IFERROR(Q57/#REF!-1,"") | S57: =IF(O57=0,"",AVERAGEIFS(#REF!,#REF!,'Synthèse Logements'!N57,#REF!,'Synthèse Logements'!$M$56,#REF!,'Synthèse Logements'!$M$54)) -> #REF! | T57: =IFERROR(S57-#REF!,"") | U57: =IF(O57=0,"",AVERAGEIFS(#REF!,#REF!,'Synthèse Logements'!N57,#REF!,'Synthèse Logements'!$M$56,#REF!,'Synthèse Logements'!$M$54)) -> #REF! | V57: =IFERROR(U57-#REF!,"")
C58: Janvier | D58: =SUMIFS(#REF!,#REF!,'Synthèse Logements'!C58,#REF!,'Synthèse Logements'!$B$56,#REF!,'Synthèse Logements'!$B$54) -> #REF! | E58: =IFERROR(D58/#REF!,"") | F58: =IF(D58=0,"",AVERAGEIFS(#REF!,#REF!,'Synthèse Logements'!C58,#REF!,'Synthèse Logements'!$B$56,#REF!,'Synthèse Logements'!$B$54)) -> #REF! | H58: =IF(D58=0,"",AVERAGEIFS(#REF!,#REF!,'Synthèse Logements'!C58,#REF!,'Synthèse Logements'!$B$56,#REF!,'Synthèse Logements'!$B$54)) -> #REF! | J58: =IF(D58=0,"",AVERAGEIFS(#REF!,#REF!,'Synthèse Logements'!C58,#REF!,'Synthèse Logements'!$B$56,#REF!,'Synthèse Logements'!$B$54)) -> #REF! | N58: Janvier | O58: =SUMIFS(#REF!,#REF!,'Synthèse Logements'!N58,#REF!,'Synthèse Logements'!$M$56,#REF!,'Synthèse Logements'!$M$54) -> #REF! | P58: =IFERROR(O58/#REF!,"") | Q58: =IF(O58=0,"",AVERAGEIFS(#REF!,#REF!,'Synthèse Logements'!N58,#REF!,'Synthèse Logements'!$M$56,#REF!,'Synthèse Logements'!$M$54)) -> #REF! | R58: =IFERROR(Q58/#REF!-1,"") | S58: =IF(O58=0,"",AVERAGEIFS(#REF!,#REF!,'Synthèse Logements'!N58,#REF!,'Synthèse Logements'!$M$56,#REF!,'Synthèse Logements'!$M$54)) -> #REF! | T58: =IFERROR(S58-#REF!,"") | U58: =IF(O58=0,"",AVERAGEIFS(#REF!,#REF!,'Synthèse Logements'!N58,#REF!,'Synthèse Logements'!$M$56,#REF!,'Synthèse Logements'!$M$54)) -> #REF! | V58: =IFERROR(U58-#REF!,"")
C59: Février | D59: =SUMIFS(#REF!,#REF!,'Synthèse Logements'!C59,#REF!,'Synthèse Logements'!$B$56,#REF!,'Synthèse Logements'!$B$54) -> #REF! | E59: =IFERROR(D59/#REF!,"") | F59: =IF(D59=0,"",AVERAGEIFS(#REF!,#REF!,'Synthèse Logements'!C59,#REF!,'Synthèse Logements'!$B$56,#REF!,'Synthèse Logements'!$B$54)) -> #REF! | H59: =IF(D59=0,"",AVERAGEIFS(#REF!,#REF!,'Synthèse Logements'!C59,#REF!,'Synthèse Logements'!$B$56,#REF!,'Synthèse Logements'!$B$54)) -> #REF! | J59: =IF(D59=0,"",AVERAGEIFS(#REF!,#REF!,'Synthèse Logements'!C59,#REF!,'Synthèse Logements'!$B$56,#REF!,'Synthèse Logements'!$B$54)) -> #REF! | N59: Février | O59: =SUMIFS(#REF!,#REF!,'Synthèse Logements'!N59,#REF!,'Synthèse Logements'!$M$56,#REF!,'Synthèse Logements'!$M$54) -> #REF! | P59: =IFERROR(O59/#REF!,"") | Q59: =IF(O59=0,"",AVERAGEIFS(#REF!,#REF!,'Synthèse Logements'!N59,#REF!,'Synthèse Logements'!$M$56,#REF!,'Synthèse Logements'!$M$54)) -> #REF! | R59: =IFERROR(Q59/#REF!-1,"") | S59: =IF(O59=0,"",AVERAGEIFS(#REF!,#REF!,'Synthèse Logements'!N59,#REF!,'Synthèse Logements'!$M$56,#REF!,'Synthèse Logements'!$M$54)) -> #REF! | T59: =IFERROR(S59-#REF!,"") | U59: =IF(O59=0,"",AVERAGEIFS(#REF!,#REF!,'Synthèse Logements'!N59,#REF!,'Synthèse Logements'!$M$56,#REF!,'Synthèse Logements'!$M$54)) -> #REF! | V59: =IFERROR(U59-#REF!,"")
C60: Mars | D60: =SUMIFS(#REF!,#REF!,'Synthèse Logements'!C60,#REF!,'Synthèse Logements'!$B$56,#REF!,'Synthèse Logements'!$B$54) -> #REF! | E60: =IFERROR(D60/#REF!,"") | F60: =IF(D60=0,"",AVERAGEIFS(#REF!,#REF!,'Synthèse Logements'!C60,#REF!,'Synthèse Logements'!$B$56,#REF!,'Synthèse Logements'!$B$54)) -> #REF! | H60: =IF(D60=0,"",AVERAGEIFS(#REF!,#REF!,'Synthèse Logements'!C60,#REF!,'Synthèse Logements'!$B$56,#REF!,'Synthèse Logements'!$B$54)) -> #REF! | J60: =IF(D60=0,"",AVERAGEIFS(#REF!,#REF!,'Synthèse Logements'!C60,#REF!,'Synthèse Logements'!$B$56,#REF!,'Synthèse Logements'!$B$54)) -> #REF! | N60: Mars | O60: =SUMIFS(#REF!,#REF!,'Synthèse Logements'!N60,#REF!,'Synthèse Logements'!$M$56,#REF!,'Synthèse Logements'!$M$54) -> #REF! | P60: =IFERROR(O60/#REF!,"") | Q60: =IF(O60=0,"",AVERAGEIFS(#REF!,#REF!,'Synthèse Logements'!N60,#REF!,'Synthèse Logements'!$M$56,#REF!,'Synthèse Logements'!$M$54)) -> #REF! | R60: =IFERROR(Q60/#REF!-1,"") | S60: =IF(O60=0,"",AVERAGEIFS(#REF!,#REF!,'Synthèse Logements'!N60,#REF!,'Synthèse Logements'!$M$56,#REF!,'Synthèse Logements'!$M$54)) -> #REF! | T60: =IFERROR(S60-#REF!,"") | U60: =IF(O60=0,"",AVERAGEIFS(#REF!,#REF!,'Synthèse Logements'!N60,#REF!,'Synthèse Logements'!$M$56,#REF!,'Synthèse Logements'!$M$54)) -> #REF! | V60: =IFERROR(U60-#REF!,"")
C61: Avril | D61: =SUMIFS(#REF!,#REF!,'Synthèse Logements'!C61,#REF!,'Synthèse Logements'!$B$56,#REF!,'Synthèse Logements'!$B$54) -> #REF! | E61: =IFERROR(D61/#REF!,"") | F61: =IF(D61=0,"",AVERAGEIFS(#REF!,#REF!,'Synthèse Logements'!C61,#REF!,'Synthèse Logements'!$B$56,#REF!,'Synthèse Logements'!$B$54)) -> #REF! | H61: =IF(D61=0,"",AVERAGEIFS(#REF!,#REF!,'Synthèse Logements'!C61,#REF!,'Synthèse Logements'!$B$56,#REF!,'Synthèse Logements'!$B$54)) -> #REF! | J61: =IF(D61=0,"",AVERAGEIFS(#REF!,#REF!,'Synthèse Logements'!C61,#REF!,'Synthèse Logements'!$B$56,#REF!,'Synthèse Logements'!$B$54)) -> #REF! | N61: Avril | O61: =SUMIFS(#REF!,#REF!,'Synthèse Logements'!N61,#REF!,'Synthèse Logements'!$M$56,#REF!,'Synthèse Logements'!$M$54) -> #REF! | P61: =IFERROR(O61/#REF!,"") | Q61: =IF(O61=0,"",AVERAGEIFS(#REF!,#REF!,'Synthèse Logements'!N61,#REF!,'Synthèse Logements'!$M$56,#REF!,'Synthèse Logements'!$M$54)) -> #REF! | R61: =IFERROR(Q61/#REF!-1,"") | S61: =IF(O61=0,"",AVERAGEIFS(#REF!,#REF!,'Synthèse Logements'!N61,#REF!,'Synthèse Logements'!$M$56,#REF!,'Synthèse Logements'!$M$54)) -> #REF! | T61: =IFERROR(S61-#REF!,"") | U61: =IF(O61=0,"",AVERAGEIFS(#REF!,#REF!,'Synthèse Logements'!N61,#REF!,'Synthèse Logements'!$M$56,#REF!,'Synthèse Logements'!$M$54)) -> #REF! | V61: =IFERROR(U61-#REF!,"")
C62: Mai | D62: =SUMIFS(#REF!,#REF!,'Synthèse Logements'!C62,#REF!,'Synthèse Logements'!$B$56,#REF!,'Synthèse Logements'!$B$54) -> #REF! | E62: =IFERROR(D62/#REF!,"") | F62: =IF(D62=0,"",AVERAGEIFS(#REF!,#REF!,'Synthèse Logements'!C62,#REF!,'Synthèse Logements'!$B$56,#REF!,'Synthèse Logements'!$B$54)) -> #REF! | H62: =IF(D62=0,"",AVERAGEIFS(#REF!,#REF!,'Synthèse Logements'!C62,#REF!,'Synthèse Logements'!$B$56,#REF!,'Synthèse Logements'!$B$54)) -> #REF! | J62: =IF(D62=0,"",AVERAGEIFS(#REF!,#REF!,'Synthèse Logements'!C62,#REF!,'Synthèse Logements'!$B$56,#REF!,'Synthèse Logements'!$B$54)) -> #REF! | N62: Mai | O62: =SUMIFS(#REF!,#REF!,'Synthèse Logements'!N62,#REF!,'Synthèse Logements'!$M$56,#REF!,'Synthèse Logements'!$M$54) -> #REF! | P62: =IFERROR(O62/#REF!,"") | Q62: =IF(O62=0,"",AVERAGEIFS(#REF!,#REF!,'Synthèse Logements'!N62,#REF!,'Synthèse Logements'!$M$56,#REF!,'Synthèse Logements'!$M$54)) -> #REF! | R62: =IFERROR(Q62/#REF!-1,"") | S62: =IF(O62=0,"",AVERAGEIFS(#REF!,#REF!,'Synthèse Logements'!N62,#REF!,'Synthèse Logements'!$M$56,#REF!,'Synthèse Logements'!$M$54)) -> #REF! | T62: =IFERROR(S62-#REF!,"") | U62: =IF(O62=0,"",AVERAGEIFS(#REF!,#REF!,'Synthèse Logements'!N62,#REF!,'Synthèse Logements'!$M$56,#REF!,'Synthèse Logements'!$M$54)) -> #REF! | V62: =IFERROR(U62-#REF!,"")
C63: Juin | D63: =SUMIFS(#REF!,#REF!,'Synthèse Logements'!C63,#REF!,'Synthèse Logements'!$B$56,#REF!,'Synthèse Logements'!$B$54) -> #REF! | E63: =IFERROR(D63/#REF!,"") | F63: =IF(D63=0,"",AVERAGEIFS(#REF!,#REF!,'Synthèse Logements'!C63,#REF!,'Synthèse Logements'!$B$56,#REF!,'Synthèse Logements'!$B$54)) -> #REF! | H63: =IF(D63=0,"",AVERAGEIFS(#REF!,#REF!,'Synthèse Logements'!C63,#REF!,'Synthèse Logements'!$B$56,#REF!,'Synthèse Logements'!$B$54)) -> #REF! | J63: =IF(D63=0,"",AVERAGEIFS(#REF!,#REF!,'Synthèse Logements'!C63,#REF!,'Synthèse Logements'!$B$56,#REF!,'Synthèse Logements'!$B$54)) -> #REF! | N63: Juin | O63: =SUMIFS(#REF!,#REF!,'Synthèse Logements'!N63,#REF!,'Synthèse Logements'!$M$56,#REF!,'Synthèse Logements'!$M$54) -> #REF! | P63: =IFERROR(O63/#REF!,"") | Q63: =IF(O63=0,"",AVERAGEIFS(#REF!,#REF!,'Synthèse Logements'!N63,#REF!,'Synthèse Logements'!$M$56,#REF!,'Synthèse Logements'!$M$54)) -> #REF! | R63: =IFERROR(Q63/#REF!-1,"") | S63: =IF(O63=0,"",AVERAGEIFS(#REF!,#REF!,'Synthèse Logements'!N63,#REF!,'Synthèse Logements'!$M$56,#REF!,'Synthèse Logements'!$M$54)) -> #REF! | T63: =IFERROR(S63-#REF!,"") | U63: =IF(O63=0,"",AVERAGEIFS(#REF!,#REF!,'Synthèse Logements'!N63,#REF!,'Synthèse Logements'!$M$56,#REF!,'Synthèse Logements'!$M$54)) -> #REF! | V63: =IFERROR(U63-#REF!,"")
C64: Juillet | D64: =SUMIFS(#REF!,#REF!,'Synthèse Logements'!C64,#REF!,'Synthèse Logements'!$B$56,#REF!,'Synthèse Logements'!$B$54) -> #REF! | E64: =IFERROR(D64/#REF!,"") | F64: =IF(D64=0,"",AVERAGEIFS(#REF!,#REF!,'Synthèse Logements'!C64,#REF!,'Synthèse Logements'!$B$56,#REF!,'Synthèse Logements'!$B$54)) -> #REF! | H64: =IF(D64=0,"",AVERAGEIFS(#REF!,#REF!,'Synthèse Logements'!C64,#REF!,'Synthèse Logements'!$B$56,#REF!,'Synthèse Logements'!$B$54)) -> #REF! | J64: =IF(D64=0,"",AVERAGEIFS(#REF!,#REF!,'Synthèse Logements'!C64,#REF!,'Synthèse Logements'!$B$56,#REF!,'Synthèse Logements'!$B$54)) -> #REF! | N64: Juillet | O64: =SUMIFS(#REF!,#REF!,'Synthèse Logements'!N64,#REF!,'Synthèse Logements'!$M$56,#REF!,'Synthèse Logements'!$M$54) -> #REF! | P64: =IFERROR(O64/#REF!,"") | Q64: =IF(O64=0,"",AVERAGEIFS(#REF!,#REF!,'Synthèse Logements'!N64,#REF!,'Synthèse Logements'!$M$56,#REF!,'Synthèse Logements'!$M$54)) -> #REF! | R64: =IFERROR(Q64/#REF!-1,"") | S64: =IF(O64=0,"",AVERAGEIFS(#REF!,#REF!,'Synthèse Logements'!N64,#REF!,'Synthèse Logements'!$M$56,#REF!,'Synthèse Logements'!$M$54)) -> #REF! | T64: =IFERROR(S64-#REF!,"") | U64: =IF(O64=0,"",AVERAGEIFS(#REF!,#REF!,'Synthèse Logements'!N64,#REF!,'Synthèse Logements'!$M$56,#REF!,'Synthèse Logements'!$M$54)) -> #REF! | V64: =IFERROR(U64-#REF!,"")
C65: Août | D65: =SUMIFS(#REF!,#REF!,'Synthèse Logements'!C65,#REF!,'Synthèse Logements'!$B$56,#REF!,'Synthèse Logements'!$B$54) -> #REF! | E65: =IFERROR(D65/#REF!,"") | F65: =IF(D65=0,"",AVERAGEIFS(#REF!,#REF!,'Synthèse Logements'!C65,#REF!,'Synthèse Logements'!$B$56,#REF!,'Synthèse Logements'!$B$54)) -> #REF! | H65: =IF(D65=0,"",AVERAGEIFS(#REF!,#REF!,'Synthèse Logements'!C65,#REF!,'Synthèse Logements'!$B$56,#REF!,'Synthèse Logements'!$B$54)) -> #REF! | J65: =IF(D65=0,"",AVERAGEIFS(#REF!,#REF!,'Synthèse Logements'!C65,#REF!,'Synthèse Logements'!$B$56,#REF!,'Synthèse Logements'!$B$54)) -> #REF! | N65: Août | O65: =SUMIFS(#REF!,#REF!,'Synthèse Logements'!N65,#REF!,'Synthèse Logements'!$M$56,#REF!,'Synthèse Logements'!$M$54) -> #REF! | P65: =IFERROR(O65/#REF!,"") | Q65: =IF(O65=0,"",AVERAGEIFS(#REF!,#REF!,'Synthèse Logements'!N65,#REF!,'Synthèse Logements'!$M$56,#REF!,'Synthèse Logements'!$M$54)) -> #REF! | R65: =IFERROR(Q65/#REF!-1,"") | S65: =IF(O65=0,"",AVERAGEIFS(#REF!,#REF!,'Synthèse Logements'!N65,#REF!,'Synthèse Logements'!$M$56,#REF!,'Synthèse Logements'!$M$54)) -> #REF! | T65: =IFERROR(S65-#REF!,"") | U65: =IF(O65=0,"",AVERAGEIFS(#REF!,#REF!,'Synthèse Logements'!N65,#REF!,'Synthèse Logements'!$M$56,#REF!,'Synthèse Logements'!$M$54)) -> #REF! | V65: =IFERROR(U65-#REF!,"")
C66: Septembre | D66: =SUMIFS(#REF!,#REF!,'Synthèse Logements'!C66,#REF!,'Synthèse Logements'!$B$56,#REF!,'Synthèse Logements'!$B$54) -> #REF! | E66: =IFERROR(D66/#REF!,"") | F66: =IF(D66=0,"",AVERAGEIFS(#REF!,#REF!,'Synthèse Logements'!C66,#REF!,'Synthèse Logements'!$B$56,#REF!,'Synthèse Logements'!$B$54)) -> #REF! | H66: =IF(D66=0,"",AVERAGEIFS(#REF!,#REF!,'Synthèse Logements'!C66,#REF!,'Synthèse Logements'!$B$56,#REF!,'Synthèse Logements'!$B$54)) -> #REF! | J66: =IF(D66=0,"",AVERAGEIFS(#REF!,#REF!,'Synthèse Logements'!C66,#REF!,'Synthèse Logements'!$B$56,#REF!,'Synthèse Logements'!$B$54)) -> #REF! | N66: Septembre | O66: =SUMIFS(#REF!,#REF!,'Synthèse Logements'!N66,#REF!,'Synthèse Logements'!$M$56,#REF!,'Synthèse Logements'!$M$54) -> #REF! | P66: =IFERROR(O66/#REF!,"") | Q66: =IF(O66=0,"",AVERAGEIFS(#REF!,#REF!,'Synthèse Logements'!N66,#REF!,'Synthèse Logements'!$M$56,#REF!,'Synthèse Logements'!$M$54)) -> #REF! | R66: =IFERROR(Q66/#REF!-1,"") | S66: =IF(O66=0,"",AVERAGEIFS(#REF!,#REF!,'Synthèse Logements'!N66,#REF!,'Synthèse Logements'!$M$56,#REF!,'Synthèse Logements'!$M$54)) -> #REF! | T66: =IFERROR(S66-#REF!,"") | U66: =IF(O66=0,"",AVERAGEIFS(#REF!,#REF!,'Synthèse Logements'!N66,#REF!,'Synthèse Logements'!$M$56,#REF!,'Synthèse Logements'!$M$54)) -> #REF! | V66: =IFERROR(U66-#REF!,"")
C67: Octobre | D67: =SUMIFS(#REF!,#REF!,'Synthèse Logements'!C67,#REF!,'Synthèse Logements'!$B$56,#REF!,'Synthèse Logements'!$B$54) -> #REF! | E67: =IFERROR(D67/#REF!,"") | F67: =IF(D67=0,"",AVERAGEIFS(#REF!,#REF!,'Synthèse Logements'!C67,#REF!,'Synthèse Logements'!$B$56,#REF!,'Synthèse Logements'!$B$54)) -> #REF! | H67: =IF(D67=0,"",AVERAGEIFS(#REF!,#REF!,'Synthèse Logements'!C67,#REF!,'Synthèse Logements'!$B$56,#REF!,'Synthèse Logements'!$B$54)) -> #REF! | J67: =IF(D67=0,"",AVERAGEIFS(#REF!,#REF!,'Synthèse Logements'!C67,#REF!,'Synthèse Logements'!$B$56,#REF!,'Synthèse Logements'!$B$54)) -> #REF! | N67: Octobre | O67: =SUMIFS(#REF!,#REF!,'Synthèse Logements'!N67,#REF!,'Synthèse Logements'!$M$56,#REF!,'Synthèse Logements'!$M$54) -> #REF! | P67: =IFERROR(O67/#REF!,"") | Q67: =IF(O67=0,"",AVERAGEIFS(#REF!,#REF!,'Synthèse Logements'!N67,#REF!,'Synthèse Logements'!$M$56,#REF!,'Synthèse Logements'!$M$54)) -> #REF! | R67: =IFERROR(Q67/#REF!-1,"") | S67: =IF(O67=0,"",AVERAGEIFS(#REF!,#REF!,'Synthèse Logements'!N67,#REF!,'Synthèse Logements'!$M$56,#REF!,'Synthèse Logements'!$M$54)) -> #REF! | T67: =IFERROR(S67-#REF!,"") | U67: =IF(O67=0,"",AVERAGEIFS(#REF!,#REF!,'Synthèse Logements'!N67,#REF!,'Synthèse Logements'!$M$56,#REF!,'Synthèse Logements'!$M$54)) -> #REF! | V67: =IFERROR(U67-#REF!,"")
C68: Novembre | D68: =SUMIFS(#REF!,#REF!,'Synthèse Logements'!C68,#REF!,'Synthèse Logements'!$B$56,#REF!,'Synthèse Logements'!$B$54) -> #REF! | E68: =IFERROR(D68/#REF!,"") | F68: =IF(D68=0,"",AVERAGEIFS(#REF!,#REF!,'Synthèse Logements'!C68,#REF!,'Synthèse Logements'!$B$56,#REF!,'Synthèse Logements'!$B$54)) -> #REF! | H68: =IF(D68=0,"",AVERAGEIFS(#REF!,#REF!,'Synthèse Logements'!C68,#REF!,'Synthèse Logements'!$B$56,#REF!,'Synthèse Logements'!$B$54)) -> #REF! | J68: =IF(D68=0,"",AVERAGEIFS(#REF!,#REF!,'Synthèse Logements'!C68,#REF!,'Synthèse Logements'!$B$56,#REF!,'Synthèse Logements'!$B$54)) -> #REF! | K68: =IFERROR(J68-#REF!,"") | N68: Novembre | O68: =SUMIFS(#REF!,#REF!,'Synthèse Logements'!N68,#REF!,'Synthèse Logements'!$M$56,#REF!,'Synthèse Logements'!$M$54) -> #REF! | P68: =IFERROR(O68/#REF!,"") | Q68: =IF(O68=0,"",AVERAGEIFS(#REF!,#REF!,'Synthèse Logements'!N68,#REF!,'Synthèse Logements'!$M$56,#REF!,'Synthèse Logements'!$M$54)) -> #REF! | R68: =IFERROR(Q68/#REF!-1,"") | S68: =IF(O68=0,"",AVERAGEIFS(#REF!,#REF!,'Synthèse Logements'!N68,#REF!,'Synthèse Logements'!$M$56,#REF!,'Synthèse Logements'!$M$54)) -> #REF! | T68: =IFERROR(S68-#REF!,"") | U68: =IF(O68=0,"",AVERAGEIFS(#REF!,#REF!,'Synthèse Logements'!N68,#REF!,'Synthèse Logements'!$M$56,#REF!,'Synthèse Logements'!$M$54)) -> #REF! | V68: =IFERROR(U68-#REF!,"")
C69: Total | D69: =SUM(D57:D68) -> #REF! | F69: =IF(C69=0,"",AVERAGEIFS(#REF!,#REF!,'Synthèse Logements'!$B$56,#REF!,'Synthèse Logements'!$B$54)) -> #REF! | H69: =AVERAGE(H57:H64) -> #REF! | J69: =AVERAGE(J57:J68) -> #REF! | N69: Total | O69: =SUM(O57:O68) -> #REF! | Q69: =IF(N69=0,"",AVERAGEIFS(#REF!,#REF!,'Synthèse Logements'!$M$56,#REF!,'Synthèse Logements'!$M$54)) -> #REF! | S69: =AVERAGE(S57:S68) -> #REF! | U69: =AVERAGE(U57:U68) -> #REF!
B71: Bois de Champelle- 94 Magnifique Chalet-10 pers
C72: Mois | D72: CA NET TTC | E72: % | F72: TO | G72: Var | H72: PM | I72: Var | J72: RevPar | K72: Var
B73: 2023 | H73: =IF(D73=0,"",AVERAGEIFS(#REF!,#REF!,'Synthèse Logements'!C73,#REF!,'Synthèse Logements'!$B$22,#REF!,'Synthèse Logements'!$B$20)) | J73: =IF(D73=0,"",AVERAGEIFS(#REF!,#REF!,'Synthèse Logements'!C73,#REF!,'Synthèse Logements'!$B$22,#REF!,'Synthèse Logements'!$B$20))
C74: Décembre | D74: =SUMIFS(#REF!,#REF!,'Synthèse Logements'!C74,#REF!,'Synthèse Logements'!$B$73,#REF!,'Synthèse Logements'!$B$71) -> #REF! | E74: =IFERROR(D74/#REF!,"") | F74: =IF(D74=0,"",AVERAGEIFS(#REF!,#REF!,'Synthèse Logements'!C74,#REF!,'Synthèse Logements'!$B$73,#REF!,'Synthèse Logements'!$B$71)) -> #REF! | H74: =IF(D74=0,"",AVERAGEIFS(#REF!,#REF!,'Synthèse Logements'!C74,#REF!,'Synthèse Logements'!$B$73,#REF!,'Synthèse Logements'!$B$71)) -> #REF! | J74: =IF(D74=0,"",AVERAGEIFS(#REF!,#REF!,'Synthèse Logements'!C74,#REF!,'Synthèse Logements'!$B$73,#REF!,'Synthèse Logements'!$B$71)) -> #REF!
C75: Janvier | D75: =SUMIFS(#REF!,#REF!,'Synthèse Logements'!C75,#REF!,'Synthèse Logements'!$B$73,#REF!,'Synthèse Logements'!$B$71) -> #REF! | E75: =IFERROR(D75/#REF!,"") | F75: =IF(D75=0,"",AVERAGEIFS(#REF!,#REF!,'Synthèse Logements'!C75,#REF!,'Synthèse Logements'!$B$73,#REF!,'Synthèse Logements'!$B$71)) -> #REF! | H75: =IF(D75=0,"",AVERAGEIFS(#REF!,#REF!,'Synthèse Logements'!C75,#REF!,'Synthèse Logements'!$B$73,#REF!,'Synthèse Logements'!$B$71)) -> #REF! | J75: =IF(D75=0,"",AVERAGEIFS(#REF!,#REF!,'Synthèse Logements'!C75,#REF!,'Synthèse Logements'!$B$73,#REF!,'Synthèse Logements'!$B$71)) -> #REF!
C76: Février | D76: =SUMIFS(#REF!,#REF!,'Synthèse Logements'!C76,#REF!,'Synthèse Logements'!$B$73,#REF!,'Synthèse Logements'!$B$71) -> #REF! | E76: =IFERROR(D76/#REF!,"") | F76: =IF(D76=0,"",AVERAGEIFS(#REF!,#REF!,'Synthèse Logements'!C76,#REF!,'Synthèse Logements'!$B$73,#REF!,'Synthèse Logements'!$B$71)) -> #REF! | H76: =IF(D76=0,"",AVERAGEIFS(#REF!,#REF!,'Synthèse Logements'!C76,#REF!,'Synthèse Logements'!$B$73,#REF!,'Synthèse Logements'!$B$71)) -> #REF! | J76: =IF(D76=0,"",AVERAGEIFS(#REF!,#REF!,'Synthèse Logements'!C76,#REF!,'Synthèse Logements'!$B$73,#REF!,'Synthèse Logements'!$B$71)) -> #REF!
C77: Mars | D77: =SUMIFS(#REF!,#REF!,'Synthèse Logements'!C77,#REF!,'Synthèse Logements'!$B$73,#REF!,'Synthèse Logements'!$B$71) -> #REF! | E77: =IFERROR(D77/#REF!,"") | F77: =IF(D77=0,"",AVERAGEIFS(#REF!,#REF!,'Synthèse Logements'!C77,#REF!,'Synthèse Logements'!$B$73,#REF!,'Synthèse Logements'!$B$71)) -> #REF! | H77: =IF(D77=0,"",AVERAGEIFS(#REF!,#REF!,'Synthèse Logements'!C77,#REF!,'Synthèse Logements'!$B$73,#REF!,'Synthèse Logements'!$B$71)) -> #REF! | J77: =IF(D77=0,"",AVERAGEIFS(#REF!,#REF!,'Synthèse Logements'!C77,#REF!,'Synthèse Logements'!$B$73,#REF!,'Synthèse Logements'!$B$71)) -> #REF!
C78: Avril | D78: =SUMIFS(#REF!,#REF!,'Synthèse Logements'!C78,#REF!,'Synthèse Logements'!$B$73,#REF!,'Synthèse Logements'!$B$71) -> #REF! | E78: =IFERROR(D78/#REF!,"") | F78: =IF(D78=0,"",AVERAGEIFS(#REF!,#REF!,'Synthèse Logements'!C78,#REF!,'Synthèse Logements'!$B$73,#REF!,'Synthèse Logements'!$B$71)) -> #REF! | H78: =IF(D78=0,"",AVERAGEIFS(#REF!,#REF!,'Synthèse Logements'!C78,#REF!,'Synthèse Logements'!$B$73,#REF!,'Synthèse Logements'!$B$71)) -> #REF! | J78: =IF(D78=0,"",AVERAGEIFS(#REF!,#REF!,'Synthèse Logements'!C78,#REF!,'Synthèse Logements'!$B$73,#REF!,'Synthèse Logements'!$B$71)) -> #REF!
C79: Mai | D79: =SUMIFS(#REF!,#REF!,'Synthèse Logements'!C79,#REF!,'Synthèse Logements'!$B$73,#REF!,'Synthèse Logements'!$B$71) -> #REF! | E79: =IFERROR(D79/#REF!,"") | F79: =IF(D79=0,"",AVERAGEIFS(#REF!,#REF!,'Synthèse Logements'!C79,#REF!,'Synthèse Logements'!$B$73,#REF!,'Synthèse Logements'!$B$71)) -> #REF! | H79: =IF(D79=0,"",AVERAGEIFS(#REF!,#REF!,'Synthèse Logements'!C79,#REF!,'Synthèse Logements'!$B$73,#REF!,'Synthèse Logements'!$B$71)) -> #REF! | J79: =IF(D79=0,"",AVERAGEIFS(#REF!,#REF!,'Synthèse Logements'!C79,#REF!,'Synthèse Logements'!$B$73,#REF!,'Synthèse Logements'!$B$71)) -> #REF!
C80: Juin | D80: =SUMIFS(#REF!,#REF!,'Synthèse Logements'!C80,#REF!,'Synthèse Logements'!$B$73,#REF!,'Synthèse Logements'!$B$71) -> #REF! | E80: =IFERROR(D80/#REF!,"") | F80: =IF(D80=0,"",AVERAGEIFS(#REF!,#REF!,'Synthèse Logements'!C80,#REF!,'Synthèse Logements'!$B$73,#REF!,'Synthèse Logements'!$B$71)) -> #REF! | H80: =IF(D80=0,"",AVERAGEIFS(#REF!,#REF!,'Synthèse Logements'!C80,#REF!,'Synthèse Logements'!$B$73,#REF!,'Synthèse Logements'!$B$71)) -> #REF! | J80: =IF(D80=0,"",AVERAGEIFS(#REF!,#REF!,'Synthèse Logements'!C80,#REF!,'Synthèse Logements'!$B$73,#REF!,'Synthèse Logements'!$B$71)) -> #REF!
C81: Juillet | D81: =SUMIFS(#REF!,#REF!,'Synthèse Logements'!C81,#REF!,'Synthèse Logements'!$B$73,#REF!,'Synthèse Logements'!$B$71) -> #REF! | E81: =IFERROR(D81/#REF!,"") | F81: =IF(D81=0,"",AVERAGEIFS(#REF!,#REF!,'Synthèse Logements'!C81,#REF!,'Synthèse Logements'!$B$73,#REF!,'Synthèse Logements'!$B$71)) -> #REF! | H81: =IF(D81=0,"",AVERAGEIFS(#REF!,#REF!,'Synthèse Logements'!C81,#REF!,'Synthèse Logements'!$B$73,#REF!,'Synthèse Logements'!$B$71)) -> #REF! | J81: =IF(D81=0,"",AVERAGEIFS(#REF!,#REF!,'Synthèse Logements'!C81,#REF!,'Synthèse Logements'!$B$73,#REF!,'Synthèse Logements'!$B$71)) -> #REF!
C82: Août | D82: =SUMIFS(#REF!,#REF!,'Synthèse Logements'!C82,#REF!,'Synthèse Logements'!$B$73,#REF!,'Synthèse Logements'!$B$71) -> #REF! | E82: =IFERROR(D82/#REF!,"") | F82: =IF(D82=0,"",AVERAGEIFS(#REF!,#REF!,'Synthèse Logements'!C82,#REF!,'Synthèse Logements'!$B$73,#REF!,'Synthèse Logements'!$B$71)) -> #REF! | G82: =IFERROR(F82/#REF!-1,"") | H82: =IF(D82=0,"",AVERAGEIFS(#REF!,#REF!,'Synthèse Logements'!C82,#REF!,'Synthèse Logements'!$B$73,#REF!,'Synthèse Logements'!$B$71)) -> #REF! | I82: =IFERROR(H82-#REF!,"") | J82: =IF(D82=0,"",AVERAGEIFS(#REF!,#REF!,'Synthèse Logements'!C82,#REF!,'Synthèse Logements'!$B$73,#REF!,'Synthèse Logements'!$B$71)) -> #REF! | K82: =IFERROR(J82-#REF!,"")
C83: Septembre | D83: =SUMIFS(#REF!,#REF!,'Synthèse Logements'!C83,#REF!,'Synthèse Logements'!$B$73,#REF!,'Synthèse Logements'!$B$71) -> #REF! | E83: =IFERROR(D83/#REF!,"") | F83: =IF(D83=0,"",AVERAGEIFS(#REF!,#REF!,'Synthèse Logements'!C83,#REF!,'Synthèse Logements'!$B$73,#REF!,'Synthèse Logements'!$B$71)) -> #REF! | G83: =IFERROR(F83/#REF!-1,"") | H83: =IF(D83=0,"",AVERAGEIFS(#REF!,#REF!,'Synthèse Logements'!C83,#REF!,'Synthèse Logements'!$B$73,#REF!,'Synthèse Logements'!$B$71)) -> #REF! | I83: =IFERROR(H83-#REF!,"") | J83: =IF(D83=0,"",AVERAGEIFS(#REF!,#REF!,'Synthèse Logements'!C83,#REF!,'Synthèse Logements'!$B$73,#REF!,'Synthèse Logements'!$B$71)) -> #REF! | K83: =IFERROR(J83-#REF!,"")
C84: Octobre | D84: =SUMIFS(#REF!,#REF!,'Synthèse Logements'!C84,#REF!,'Synthèse Logements'!$B$73,#REF!,'Synthèse Logements'!$B$71) -> #REF! | E84: =IFERROR(D84/#REF!,"") | F84: =IF(D84=0,"",AVERAGEIFS(#REF!,#REF!,'Synthèse Logements'!C84,#REF!,'Synthèse Logements'!$B$73,#REF!,'Synthèse Logements'!$B$71)) -> #REF! | G84: =IFERROR(F84/#REF!-1,"") | H84: =IF(D84=0,"",AVERAGEIFS(#REF!,#REF!,'Synthèse Logements'!C84,#REF!,'Synthèse Logements'!$B$73,#REF!,'Synthèse Logements'!$B$71)) -> #REF! | I84: =IFERROR(H84-#REF!,"") | J84: =IF(D84=0,"",AVERAGEIFS(#REF!,#REF!,'Synthèse Logements'!C84,#REF!,'Synthèse Logements'!$B$73,#REF!,'Synthèse Logements'!$B$71)) -> #REF! | K84: =IFERROR(J84-#REF!,"")
C85: Novembre | D85: =SUMIFS(#REF!,#REF!,'Synthèse Logements'!C85,#REF!,'Synthèse Logements'!$B$73,#REF!,'Synthèse Logements'!$B$71) -> #REF! | E85: =IFERROR(D85/#REF!,"") | F85: =IF(D85=0,"",AVERAGEIFS(#REF!,#REF!,'Synthèse Logements'!C85,#REF!,'Synthèse Logements'!$B$73,#REF!,'Synthèse Logements'!$B$71)) -> #REF! | G85: =IFERROR(F85/#REF!-1,"") | H85: =IF(D85=0,"",AVERAGEIFS(#REF!,#REF!,'Synthèse Logements'!C85,#REF!,'Synthèse Logements'!$B$73,#REF!,'Synthèse Logements'!$B$71)) -> #REF! | I85: =IFERROR(H85-#REF!,"") | J85: =IF(D85=0,"",AVERAGEIFS(#REF!,#REF!,'Synthèse Logements'!C85,#REF!,'Synthèse Logements'!$B$73,#REF!,'Synthèse Logements'!$B$71)) -> #REF! | K85: =IFERROR(J85-#REF!,"")
C86: Total | D86: =SUM(D74:D85) -> #REF! | F86: =IF(C86=0,"",AVERAGEIFS(#REF!,#REF!,'Synthèse Logements'!$B$73,#REF!,'Synthèse Logements'!$B$71)) -> #REF! | H86: =AVERAGE(H74:H85) -> #REF! | J86: =AVERAGE(J74:J85) -> #REF!
B88: Liste déroulante La foux
C89: Mois | D89: CA NET TTC | E89: Var | F89: TO | G89: Var | H89: PM | I89: Var | J89: RevPar | K89: Var
B90: 2023 | H90: =IF(D90=0,"",AVERAGEIFS(#REF!,#REF!,'Synthèse Logements'!C90,#REF!,'Synthèse Logements'!$B$22,#REF!,'Synthèse Logements'!$B$20)) | J90: =IF(D90=0,"",AVERAGEIFS(#REF!,#REF!,'Synthèse Logements'!C90,#REF!,'Synthèse Logements'!$B$22,#REF!,'Synthèse Logements'!$B$20))
C91: Décembre | D91: =SUMIFS(#REF!,#REF!,'Synthèse Logements'!C91,#REF!,'Synthèse Logements'!$B$90,#REF!,'Synthèse Logements'!$B$88) -> #REF! | E91: =IFERROR(D91/#REF!,"") | F91: =IF(D91=0,"",AVERAGEIFS(#REF!,#REF!,'Synthèse Logements'!C91,#REF!,'Synthèse Logements'!$B$90,#REF!,'Synthèse Logements'!$B$88)) -> #REF! | H91: =IF(D91=0,"",AVERAGEIFS(#REF!,#REF!,'Synthèse Logements'!C91,#REF!,'Synthèse Logements'!$B$90,#REF!,'Synthèse Logements'!$B$88)) -> #REF! | J91: =IF(D91=0,"",AVERAGEIFS(#REF!,#REF!,'Synthèse Logements'!C91,#REF!,'Synthèse Logements'!$B$90,#REF!,'Synthèse Logements'!$B$88)) -> #REF!
C92: Janvier | D92: =SUMIFS(#REF!,#REF!,'Synthèse Logements'!C92,#REF!,'Synthèse Logements'!$B$90,#REF!,'Synthèse Logements'!$B$88) -> #REF! | E92: =IFERROR(D92/#REF!,"") | F92: =IF(D92=0,"",AVERAGEIFS(#REF!,#REF!,'Synthèse Logements'!C92,#REF!,'Synthèse Logements'!$B$90,#REF!,'Synthèse Logements'!$B$88)) -> #REF! | H92: =IF(D92=0,"",AVERAGEIFS(#REF!,#REF!,'Synthèse Logements'!C92,#REF!,'Synthèse Logements'!$B$90,#REF!,'Synthèse Logements'!$B$88)) -> #REF! | J92: =IF(D92=0,"",AVERAGEIFS(#REF!,#REF!,'Synthèse Logements'!C92,#REF!,'Synthèse Logements'!$B$90,#REF!,'Synthèse Logements'!$B$88)) -> #REF!
C93: Février | D93: =SUMIFS(#REF!,#REF!,'Synthèse Logements'!C93,#REF!,'Synthèse Logements'!$B$90,#REF!,'Synthèse Logements'!$B$88) -> #REF! | E93: =IFERROR(D93/#REF!,"") | F93: =IF(D93=0,"",AVERAGEIFS(#REF!,#REF!,'Synthèse Logements'!C93,#REF!,'Synthèse Logements'!$B$90,#REF!,'Synthèse Logements'!$B$88)) -> #REF! | H93: =IF(D93=0,"",AVERAGEIFS(#REF!,#REF!,'Synthèse Logements'!C93,#REF!,'Synthèse Logements'!$B$90,#REF!,'Synthèse Logements'!$B$88)) -> #REF! | J93: =IF(D93=0,"",AVERAGEIFS(#REF!,#REF!,'Synthèse Logements'!C93,#REF!,'Synthèse Logements'!$B$90,#REF!,'Synthèse Logements'!$B$88)) -> #REF!
C94: Mars | D94: =SUMIFS(#REF!,#REF!,'Synthèse Logements'!C94,#REF!,'Synthèse Logements'!$B$90,#REF!,'Synthèse Logements'!$B$88) -> #REF! | E94: =IFERROR(D94/#REF!,"") | F94: =IF(D94=0,"",AVERAGEIFS(#REF!,#REF!,'Synthèse Logements'!C94,#REF!,'Synthèse Logements'!$B$90,#REF!,'Synthèse Logements'!$B$88)) -> #REF! | H94: =IF(D94=0,"",AVERAGEIFS(#REF!,#REF!,'Synthèse Logements'!C94,#REF!,'Synthèse Logements'!$B$90,#REF!,'Synthèse Logements'!$B$88)) -> #REF! | J94: =IF(D94=0,"",AVERAGEIFS(#REF!,#REF!,'Synthèse Logements'!C94,#REF!,'Synthèse Logements'!$B$90,#REF!,'Synthèse Logements'!$B$88)) -> #REF!
C95: Avril | D95: =SUMIFS(#REF!,#REF!,'Synthèse Logements'!C95,#REF!,'Synthèse Logements'!$B$90,#REF!,'Synthèse Logements'!$B$88) -> #REF! | E95: =IFERROR(D95/#REF!,"") | F95: =IF(D95=0,"",AVERAGEIFS(#REF!,#REF!,'Synthèse Logements'!C95,#REF!,'Synthèse Logements'!$B$90,#REF!,'Synthèse Logements'!$B$88)) -> #REF! | H95: =IF(D95=0,"",AVERAGEIFS(#REF!,#REF!,'Synthèse Logements'!C95,#REF!,'Synthèse Logements'!$B$90,#REF!,'Synthèse Logements'!$B$88)) -> #REF! | J95: =IF(D95=0,"",AVERAGEIFS(#REF!,#REF!,'Synthèse Logements'!C95,#REF!,'Synthèse Logements'!$B$90,#REF!,'Synthèse Logements'!$B$88)) -> #REF!
C96: Mai | D96: =SUMIFS(#REF!,#REF!,'Synthèse Logements'!C96,#REF!,'Synthèse Logements'!$B$90,#REF!,'Synthèse Logements'!$B$88) -> #REF! | E96: =IFERROR(D96/#REF!,"") | F96: =IF(D96=0,"",AVERAGEIFS(#REF!,#REF!,'Synthèse Logements'!C96,#REF!,'Synthèse Logements'!$B$90,#REF!,'Synthèse Logements'!$B$88)) -> #REF! | H96: =IF(D96=0,"",AVERAGEIFS(#REF!,#REF!,'Synthèse Logements'!C96,#REF!,'Synthèse Logements'!$B$90,#REF!,'Synthèse Logements'!$B$88)) -> #REF! | J96: =IF(D96=0,"",AVERAGEIFS(#REF!,#REF!,'Synthèse Logements'!C96,#REF!,'Synthèse Logements'!$B$90,#REF!,'Synthèse Logements'!$B$88)) -> #REF!
C97: Juin | D97: =SUMIFS(#REF!,#REF!,'Synthèse Logements'!C97,#REF!,'Synthèse Logements'!$B$90,#REF!,'Synthèse Logements'!$B$88) -> #REF! | E97: =IFERROR(D97/#REF!,"") | F97: =IF(D97=0,"",AVERAGEIFS(#REF!,#REF!,'Synthèse Logements'!C97,#REF!,'Synthèse Logements'!$B$90,#REF!,'Synthèse Logements'!$B$88)) -> #REF! | H97: =IF(D97=0,"",AVERAGEIFS(#REF!,#REF!,'Synthèse Logements'!C97,#REF!,'Synthèse Logements'!$B$90,#REF!,'Synthèse Logements'!$B$88)) -> #REF! | J97: =IF(D97=0,"",AVERAGEIFS(#REF!,#REF!,'Synthèse Logements'!C97,#REF!,'Synthèse Logements'!$B$90,#REF!,'Synthèse Logements'!$B$88)) -> #REF!
C98: Juillet | D98: =SUMIFS(#REF!,#REF!,'Synthèse Logements'!C98,#REF!,'Synthèse Logements'!$B$90,#REF!,'Synthèse Logements'!$B$88) -> #REF! | E98: =IFERROR(D98/#REF!,"") | F98: =IF(D98=0,"",AVERAGEIFS(#REF!,#REF!,'Synthèse Logements'!C98,#REF!,'Synthèse Logements'!$B$90,#REF!,'Synthèse Logements'!$B$88)) -> #REF! | H98: =IF(D98=0,"",AVERAGEIFS(#REF!,#REF!,'Synthèse Logements'!C98,#REF!,'Synthèse Logements'!$B$90,#REF!,'Synthèse Logements'!$B$88)) -> #REF! | J98: =IF(D98=0,"",AVERAGEIFS(#REF!,#REF!,'Synthèse Logements'!C98,#REF!,'Synthèse Logements'!$B$90,#REF!,'Synthèse Logements'!$B$88)) -> #REF!
C99: Août | D99: =SUMIFS(#REF!,#REF!,'Synthèse Logements'!C99,#REF!,'Synthèse Logements'!$B$90,#REF!,'Synthèse Logements'!$B$88) -> #REF! | E99: =IFERROR(D99/#REF!,"") | F99: =IF(D99=0,"",AVERAGEIFS(#REF!,#REF!,'Synthèse Logements'!C99,#REF!,'Synthèse Logements'!$B$90,#REF!,'Synthèse Logements'!$B$88)) -> #REF! | H99: =IF(D99=0,"",AVERAGEIFS(#REF!,#REF!,'Synthèse Logements'!C99,#REF!,'Synthèse Logements'!$B$90,#REF!,'Synthèse Logements'!$B$88)) -> #REF! | J99: =IF(D99=0,"",AVERAGEIFS(#REF!,#REF!,'Synthèse Logements'!C99,#REF!,'Synthèse Logements'!$B$90,#REF!,'Synthèse Logements'!$B$88)) -> #REF!
C100: Septembre | D100: =SUMIFS(#REF!,#REF!,'Synthèse Logements'!C100,#REF!,'Synthèse Logements'!$B$90,#REF!,'Synthèse Logements'!$B$88) -> #REF! | E100: =IFERROR(D100/#REF!,"") | F100: =IF(D100=0,"",AVERAGEIFS(#REF!,#REF!,'Synthèse Logements'!C100,#REF!,'Synthèse Logements'!$B$90,#REF!,'Synthèse Logements'!$B$88)) -> #REF! | G100: =IFERROR(F100/#REF!-1,"") | H100: =IF(D100=0,"",AVERAGEIFS(#REF!,#REF!,'Synthèse Logements'!C100,#REF!,'Synthèse Logements'!$B$90,#REF!,'Synthèse Logements'!$B$88)) -> #REF! | J100: =IF(D100=0,"",AVERAGEIFS(#REF!,#REF!,'Synthèse Logements'!C100,#REF!,'Synthèse Logements'!$B$90,#REF!,'Synthèse Logements'!$B$88)) -> #REF!
C101: Octobre | D101: =SUMIFS(#REF!,#REF!,'Synthèse Logements'!C101,#REF!,'Synthèse Logements'!$B$90,#REF!,'Synthèse Logements'!$B$88) -> #REF! | E101: =IFERROR(D101/#REF!,"") | F101: =IF(D101=0,"",AVERAGEIFS(#REF!,#REF!,'Synthèse Logements'!C101,#REF!,'Synthèse Logements'!$B$90,#REF!,'Synthèse Logements'!$B$88)) -> #REF! | G101: =IFERROR(F101/#REF!-1,"") | H101: =IF(D101=0,"",AVERAGEIFS(#REF!,#REF!,'Synthèse Logements'!C101,#REF!,'Synthèse Logements'!$B$90,#REF!,'Synthèse Logements'!$B$88)) -> #REF! | J101: =IF(D101=0,"",AVERAGEIFS(#REF!,#REF!,'Synthèse Logements'!C101,#REF!,'Synthèse Logements'!$B$90,#REF!,'Synthèse Logements'!$B$88)) -> #REF!
C102: Novembre | D102: =SUMIFS(#REF!,#REF!,'Synthèse Logements'!C102,#REF!,'Synthèse Logements'!$B$90,#REF!,'Synthèse Logements'!$B$88) -> #REF! | E102: =IFERROR(D102/#REF!,"") | F102: =IF(D102=0,"",AVERAGEIFS(#REF!,#REF!,'Synthèse Logements'!C102,#REF!,'Synthèse Logements'!$B$90,#REF!,'Synthèse Logements'!$B$88)) -> #REF! | G102: =IFERROR(F102/#REF!-1,"") | H102: =IF(D102=0,"",AVERAGEIFS(#REF!,#REF!,'Synthèse Logements'!C102,#REF!,'Synthèse Logements'!$B$90,#REF!,'Synthèse Logements'!$B$88)) -> #REF! | J102: =IF(D102=0,"",AVERAGEIFS(#REF!,#REF!,'Synthèse Logements'!C102,#REF!,'Synthèse Logements'!$B$90,#REF!,'Synthèse Logements'!$B$88)) -> #REF!
C103: Total | D103: =SUM(D91:D102) -> #REF! | F103: =IF(C103=0,"",AVERAGEIFS(#REF!,#REF!,'Synthèse Logements'!$B$90,#REF!,'Synthèse Logements'!$B$88)) -> #REF! | H103: =AVERAGE(H91:H102) -> #REF! | J103: =AVERAGE(J91:J102) -> #REF!
B105: Liste déroulante Doucy
C106: Mois | D106: CA NET TTC | E106: Var | F106: TO | G106: Var | H106: PM | I106: Var | J106: RevPar | K106: Var
B107: 2023 | H107: =IF(D107=0,"",AVERAGEIFS(#REF!,#REF!,'Synthèse Logements'!C107,#REF!,'Synthèse Logements'!$B$22,#REF!,'Synthèse Logements'!$B$20)) | J107: =IF(D107=0,"",AVERAGEIFS(#REF!,#REF!,'Synthèse Logements'!C107,#REF!,'Synthèse Logements'!$B$22,#REF!,'Synthèse Logements'!$B$20))
...

Sheet BDD
H1: =WEEKNUM(H3,16) -> 44 | I1: =WEEKNUM(I3,16) -> 44 | J1: =WEEKNUM(J3,16) -> 44 | K1: =WEEKNUM(K3,16) -> 45 | L1: =WEEKNUM(L3,16) -> 45 | M1: =WEEKNUM(M3,16) -> 45 | N1: =WEEKNUM(N3,16) -> 45 | O1: =WEEKNUM(O3,16) -> 45 | ... NJ1: =WEEKNUM(NJ3,16) -> 44
H2: =MONTH(H3) -> 11 | I2: =MONTH(I3) -> 11 | J2: =MONTH(J3) -> 11 | K2: =MONTH(K3) -> 11 | L2: =MONTH(L3) -> 11 | M2: =MONTH(M3) -> 11 | N2: =MONTH(N3) -> 11 | O2: =MONTH(O3) -> 11 | ... NJ2: =MONTH(NJ3) -> 11
A3: date de création | B3: Date d'arrivée | C3: Date de sortie | D3: nuits | E3: CA | F3: Date d'arrivée | G3: Date de sortie | H3: 45231 | I3: 45232 | J3: 45233 | K3: 45234 | L3: 45235 | M3: 45236 | N3: 45237 | O3: 45238 | P3: 45239 | Q3: 45240 | R3: 45241 | S3: 45242 | T3: 45243 | U3: 45244 | V3: 45245 | W3: 45246 | X3: 45247 | Y3: 45248 | Z3: 45249 | AA3: 45250 | AB3: 45251 | AC3: 45252 | AD3: 45253 | AE3: 45254 | AF3: 45255 | AG3: 45256 | AH3: 45257 | AI3: 45258 | AJ3: 45259 | AK3: 45260 | AL3: 45261 | AM3: 45262 | AN3: 45263 | AO3: 45264 | AP3: 45265 | AQ3: 45266 | AR3: 45267 | AS3: 45268 | AT3: 45269 | AU3: 45270 | AV3: 45271 | AW3: 45272 | AX3: 45273 | AY3: 45274 | AZ3: 45275 | BA3: 45276 | BB3: 45277 | BC3: 45278 | BD3: 45279 | BE3: 45280 | BF3: 45281 | BG3: 45282 | BH3: 45283 | BI3: 45284 | BJ3: 45285 | BK3: 45286 | BL3: 45287 | BM3: 45288 | BN3: 45289 | BO3: 45290 | BP3: 45291 | BQ3: 45292 | BR3: 45293 | BS3: 45294 | BT3: 45295 | BU3: 45296 | BV3: 45297 | BW3: 45298 | BX3: 45299 | BY3: 45300 | BZ3: 45301 | CA3: 45302 | CB3: 45303 | CC3: 45304 | CD3: 45305 | CE3: 45306 | CF3: 45307 | CG3: 45308 | CH3: 45309 | CI3: 45310 | CJ3: 45311 | CK3: 45312 | CL3: 45313 | CM3: 45314 | CN3: 45315 | CO3: 45316 | CP3: 45317 | CQ3: 45318 | CR3: 45319 | CS3: 45320 | CT3: 45321 | CU3: 45322 | CV3: 45323 | CW3: 45324 | CX3: 45325 | CY3: 45326 | CZ3: 45327 | DA3: 45328 | DB3: 45329 | DC3: 45330 | DD3: 45331 | DE3: 45332 | DF3: 45333 | DG3: 45334 | DH3: 45335 | DI3: 45336 | DJ3: 45337 | DK3: 45338 | DL3: 45339 | DM3: 45340 | DN3: 45341 | DO3: 45342 | DP3: 45343 | DQ3: 45344 | DR3: 45345 | DS3: 45346 | DT3: 45347 | DU3: 45348 | DV3: 45349 | DW3: 45350 | DX3: 45351 | DY3: 45352 | DZ3: 45353 | EA3: 45354 | EB3: 45355 | EC3: 45356 | ED3: 45357 | EE3: 45358 | EF3: 45359 | EG3: 45360 | EH3: 45361 | EI3: 45362 | EJ3: 45363 | EK3: 45364 | EL3: 45365 | EM3: 45366 | EN3: 45367 | EO3: 45368 | EP3: 45369 | EQ3: 45370 | ER3: 45371 | ES3: 45372 | ET3: 45373 | EU3: 45374 | EV3: 45375 | EW3: 45376 | EX3: 45377 | EY3: 45378 | EZ3: 45379 | FA3: 45380 | FB3: 45381 | FC3: 45382 | FD3: 45383 | FE3: 45384 | FF3: 45385 | FG3: 45386 | FH3: 45387 | FI3: 45388 | FJ3: 45389 | FK3: 45390 | FL3: 45391 | FM3: 45392 | FN3: 45393 | FO3: 45394 | FP3: 45395 | FQ3: 45396 | FR3: 45397 | FS3: 45398 | FT3: 45399 | FU3: 45400 | FV3: 45401 | FW3: 45402 | FX3: 45403 | FY3: 45404 | FZ3: 45405 | GA3: 45406 | GB3: 45407 | GC3: 45408 | GD3: 45409 | GE3: 45410 | GF3: 45411 | GG3: 45412 | GH3: 45413 | GI3: 45414 | GJ3: 45415 | GK3: 45416 | GL3: 45417 | GM3: 45418 | GN3: 45419 | GO3: 45420 | GP3: 45421 | GQ3: 45422 | GR3: 45423 | GS3: 45424 | GT3: 45425 | GU3: 45426 | GV3: 45427 | GW3: 45428 | GX3: 45429 | GY3: 45430 | GZ3: 45431 | HA3: 45432 | HB3: 45433 | HC3: 45434 | HD3: 45435 | HE3: 45436 | HF3: 45437 | HG3: 45438 | HH3: 45439 | HI3: 45440 | HJ3: 45441 | HK3: 45442 | HL3: 45443 | HM3: 45444 | HN3: 45445 | HO3: 45446 | HP3: 45447 | HQ3: 45448 | HR3: 45449 | HS3: 45450 | HT3: 45451 | HU3: 45452 | HV3: 45453 | HW3: 45454 | HX3: 45455 | HY3: 45456 | HZ3: 45457 | IA3: 45458 | IB3: 45459 | IC3: 45460 | ID3: 45461 | IE3: 45462 | IF3: 45463 | IG3: 45464 | IH3: 45465 | II3: 45466 | IJ3: 45467 | IK3: 45468 | IL3: 45469 | IM3: 45470 | IN3: 45471 | IO3: 45472 | IP3: 45473 | IQ3: 45474 | IR3: 45475 | IS3: 45476 | IT3: 45477 | IU3: 45478 | IV3: 45479 | IW3: 45480 | IX3: 45481 | IY3: 45482 | IZ3: 45483 | JA3: 45484 | JB3: 45485 | JC3: 45486 | JD3: 45487 | JE3: 45488 | JF3: 45489 | JG3: 45490 | JH3: 45491 | JI3: 45492 | JJ3: 45493 | JK3: 45494 | JL3: 45495 | JM3: 45496 | JN3: 45497 | JO3: 45498 | JP3: 45499 | JQ3: 45500 | JR3: 45501 | JS3: 45502 | JT3: 45503 | JU3: 45504 | JV3: 45505 | JW3: 45506 | JX3: 45507 | JY3: 45508 | JZ3: 45509 | KA3: 45510 | KB3: 45511 | KC3: 45512 | KD3: 45513 | KE3: 45514 | KF3: 45515 | KG3: 45516 | KH3: 45517 | KI3: 45518 | KJ3: 45519 | KK3: 45520 | KL3: 45521 | KM3: 45522 | KN3: 45523 | KO3: 45524 | KP3: 45525 | KQ3: 45526 | KR3: 45527 | KS3: 45528 | KT3: 45529 | KU3: 45530 | KV3: 45531 | KW3: 45532 | KX3: 45533 | KY3: 45534 | KZ3: 45535 | LA3: 45536 | LB3: 45537 | LC3: 45538 | LD3: 45539 | LE3: 45540 | LF3: 45541 | LG3: 45542 | LH3: 45543 | LI3: 45544 | LJ3: 45545 | LK3: 45546 | LL3: 45547 | LM3: 45548 | LN3: 45549 | LO3: 45550 | LP3: 45551 | LQ3: 45552 | LR3: 45553 | LS3: 45554 | LT3: 45555 | LU3: 45556 | LV3: 45557 | LW3: 45558 | LX3: 45559 | LY3: 45560 | LZ3: 45561 | MA3: 45562 | MB3: 45563 | MC3: 45564 | MD3: 45565 | ME3: 45566 | MF3: 45567 | MG3: 45568 | MH3: 45569 | MI3: 45570 | MJ3: 45571 | MK3: 45572 | ML3: 45573 | MM3: 45574 | MN3: 45575 | MO3: 45576 | MP3: 45577 | MQ3: 45578 | MR3: 45579 | MS3: 45580 | MT3: 45581 | MU3: 45582 | MV3: 45583 | MW3: 45584 | MX3: 45585 | MY3: 45586 | MZ3: 45587 | NA3: 45588 | NB3: 45589 | NC3: 45590 | ND3: 45591 | NE3: 45592 | NF3: 45593 | NG3: 45594 | NH3: 45595 | NI3: 45596 | NJ3: 45597 | NK3: Total | NL3: Vérif | NO3: Octobre | NP3: Novembre | NQ3: Décembre | NR3: Janvier | NS3: Février | NT3: Mars | NU3: Avril | NV3: Mai | NW3: Juin | NX3: Juillet | NY3: Aout | NZ3: Septembre | OA3: Année | OB3: Vérif | OC3: S1 | OD3: S2 | OE3: Année | OF3: Vérif
A4: 11/04/2024 | B4: 08/06/2024 | C4: 15/06/2024 | D4: 7 | E4: 100 | F4: =B4+0 -> 45451 | G4: =C4-1 -> 45457 | H4: =IFERROR(IF(AND(H$3>=$F4,H$3<=$G4),1,"0")*$E4/$D4,0) -> 0 | I4: =IFERROR(IF(AND(I$3>=$F4,I$3<=$G4),1,"0")*$E4/$D4,0) -> 0 | J4: =IFERROR(IF(AND(J$3>=$F4,J$3<=$G4),1,"0")*$E4/$D4,0) -> 0 | K4: =IFERROR(IF(AND(K$3>=$F4,K$3<=$G4),1,"0")*$E4/$D4,0) -> 0 | L4: =IFERROR(IF(AND(L$3>=$F4,L$3<=$G4),1,"0")*$E4/$D4,0) -> 0 | M4: =IFERROR(IF(AND(M$3>=$F4,M$3<=$G4),1,"0")*$E4/$D4,0) -> 0 | N4: =IFERROR(IF(AND(N$3>=$F4,N$3<=$G4),1,"0")*$E4/$D4,0) -> 0 | O4: =IFERROR(IF(AND(O$3>=$F4,O$3<=$G4),1,"0")*$E4/$D4,0) -> 0 | ... NJ4: =IFERROR(IF(AND(NJ$3>=$F4,NJ$3<=$G4),1,"0")*$E4/$D4,0) -> 0 | NK4: =SUM(H4:NJ4) -> 100 | NL4: =+NK4-E4 -> 0 | NO4: =SUM(ME4:NI4) -> 0 | NP4: =SUM(H4:AK4) -> 0 | NQ4: =SUM(AL4:BP4) -> 0 | NR4: =SUM(BQ4:CU4) -> 0 | NS4: =SUM(CV4:DX4) -> 0 | NT4: =SUM(DY4:FC4) -> 0 | NU4: =SUM(FD4:GG4) -> 0 | NV4: =SUM(GH4:HL4) -> 0 | NW4: =SUM(HM4:IP4) -> 100 | NX4: =SUM(IQ4:JU4) -> 0 | NY4: =SUM(JV4:KZ4) -> 0 | NZ4: =SUM(LA4:MD4) -> 0 | OA4: =SUM(NO4:NZ4) -> 100 | OB4: =+OA4-NK4 -> 0 | OC4: =SUM(NP4:NU4) -> 0 | OD4: =SUM(NO4,NV4:NZ4) -> 100 | OE4: =SUM(OC4:OD4) -> 100 | OF4: =+OE4-NK4 -> 0 | OH4: 44 | OI4: {=SUMIF(H1:NC1,OH4:PD,H4:NC32)} -> 0
A5: 11/04/2024 | B5: 07/05/2024 | C5: 09/05/2024 | D5: 2 | E5: 100 | F5: =B5+0 -> 45419 | G5: =C5-1 -> 45420 | H5: =IFERROR(IF(AND(H$3>=$F5,H$3<=$G5),1,"0")*$E5/$D5,0) -> 0 | I5: =IFERROR(IF(AND(I$3>=$F5,I$3<=$G5),1,"0")*$E5/$D5,0) -> 0 | J5: =IFERROR(IF(AND(J$3>=$F5,J$3<=$G5),1,"0")*$E5/$D5,0) -> 0 | K5: =IFERROR(IF(AND(K$3>=$F5,K$3<=$G5),1,"0")*$E5/$D5,0) -> 0 | L5: =IFERROR(IF(AND(L$3>=$F5,L$3<=$G5),1,"0")*$E5/$D5,0) -> 0 | M5: =IFERROR(IF(AND(M$3>=$F5,M$3<=$G5),1,"0")*$E5/$D5,0) -> 0 | N5: =IFERROR(IF(AND(N$3>=$F5,N$3<=$G5),1,"0")*$E5/$D5,0) -> 0 | O5: =IFERROR(IF(AND(O$3>=$F5,O$3<=$G5),1,"0")*$E5/$D5,0) -> 0 | ... NJ5: =IFERROR(IF(AND(NJ$3>=$F5,NJ$3<=$G5),1,"0")*$E5/$D5,0) -> 0 | NK5: =SUM(H5:NJ5) -> 100 | NL5: =+NK5-E5 -> 0 | NO5: =SUM(ME5:NI5) -> 0 | NP5: =SUM(H5:AK5) -> 0 | NQ5: =SUM(AL5:BP5) -> 0 | NR5: =SUM(BQ5:CU5) -> 0 | NS5: =SUM(CV5:DX5) -> 0 | NT5: =SUM(DY5:FC5) -> 0 | NU5: =SUM(FD5:GG5) -> 0 | NV5: =SUM(GH5:HL5) -> 100 | NW5: =SUM(HM5:IP5) -> 0 | NX5: =SUM(IQ5:JU5) -> 0 | NY5: =SUM(JV5:KZ5) -> 0 | NZ5: =SUM(LA5:MD5) -> 0 | OA5: =SUM(NO5:NZ5) -> 100 | OB5: =+OA5-NK5 -> 0 | OC5: =SUM(NP5:NU5) -> 0 | OD5: =SUM(NO5,NV5:NZ5) -> 100 | OE5: =SUM(OC5:OD5) -> 100 | OF5: =+OE5-NK5 -> 0 | OH5: 45 | OI5: {=SUMIF(H2:NC2,OH5:PD,H5:NC32)} -> 0
A6: 11/04/2024 | B6: 26/04/2024 | C6: 28/04/2024 | D6: 2 | E6: 100 | F6: =B6+0 -> 45408 | G6: =C6-1 -> 45409 | H6: =IFERROR(IF(AND(H$3>=$F6,H$3<=$G6),1,"0")*$E6/$D6,0) -> 0 | I6: =IFERROR(IF(AND(I$3>=$F6,I$3<=$G6),1,"0")*$E6/$D6,0) -> 0 | J6: =IFERROR(IF(AND(J$3>=$F6,J$3<=$G6),1,"0")*$E6/$D6,0) -> 0 | K6: =IFERROR(IF(AND(K$3>=$F6,K$3<=$G6),1,"0")*$E6/$D6,0) -> 0 | L6: =IFERROR(IF(AND(L$3>=$F6,L$3<=$G6),1,"0")*$E6/$D6,0) -> 0 | M6: =IFERROR(IF(AND(M$3>=$F6,M$3<=$G6),1,"0")*$E6/$D6,0) -> 0 | N6: =IFERROR(IF(AND(N$3>=$F6,N$3<=$G6),1,"0")*$E6/$D6,0) -> 0 | O6: =IFERROR(IF(AND(O$3>=$F6,O$3<=$G6),1,"0")*$E6/$D6,0) -> 0 | ... NJ6: =IFERROR(IF(AND(NJ$3>=$F6,NJ$3<=$G6),1,"0")*$E6/$D6,0) -> 0 | NK6: =SUM(H6:NJ6) -> 100 | NL6: =+NK6-E6 -> 0 | NO6: =SUM(ME6:NI6) -> 0 | NP6: =SUM(H6:AK6) -> 0 | NQ6: =SUM(AL6:BP6) -> 0 | NR6: =SUM(BQ6:CU6) -> 0 | NS6: =SUM(CV6:DX6) -> 0 | NT6: =SUM(DY6:FC6) -> 0 | NU6: =SUM(FD6:GG6) -> 100 | NV6: =SUM(GH6:HL6) -> 0 | NW6: =SUM(HM6:IP6) -> 0 | NX6: =SUM(IQ6:JU6) -> 0 | NY6: =SUM(JV6:KZ6) -> 0 | NZ6: =SUM(LA6:MD6) -> 0 | OA6: =SUM(NO6:NZ6) -> 100 | OB6: =+OA6-NK6 -> 0 | OC6: =SUM(NP6:NU6) -> 100 | OD6: =SUM(NO6,NV6:NZ6) -> 0 | OE6: =SUM(OC6:OD6) -> 100 | OF6: =+OE6-NK6 -> 0 | OH6: 46 | OI6: {=SUMIF(H3:NC3,OH6:PD,H6:NC33)} -> 0
A7: 11/04/2024 | B7: 22/06/2024 | C7: 29/06/2024 | D7: 7 | E7: 100 | F7: =B7+0 -> 45465 | G7: =C7-1 -> 45471 | H7: =IFERROR(IF(AND(H$3>=$F7,H$3<=$G7),1,"0")*$E7/$D7,0) -> 0 | I7: =IFERROR(IF(AND(I$3>=$F7,I$3<=$G7),1,"0")*$E7/$D7,0) -> 0 | J7: =IFERROR(IF(AND(J$3>=$F7,J$3<=$G7),1,"0")*$E7/$D7,0) -> 0 | K7: =IFERROR(IF(AND(K$3>=$F7,K$3<=$G7),1,"0")*$E7/$D7,0) -> 0 | L7: =IFERROR(IF(AND(L$3>=$F7,L$3<=$G7),1,"0")*$E7/$D7,0) -> 0 | M7: =IFERROR(IF(AND(M$3>=$F7,M$3<=$G7),1,"0")*$E7/$D7,0) -> 0 | N7: =IFERROR(IF(AND(N$3>=$F7,N$3<=$G7),1,"0")*$E7/$D7,0) -> 0 | O7: =IFERROR(IF(AND(O$3>=$F7,O$3<=$G7),1,"0")*$E7/$D7,0) -> 0 | ... NJ7: =IFERROR(IF(AND(NJ$3>=$F7,NJ$3<=$G7),1,"0")*$E7/$D7,0) -> 0 | NK7: =SUM(H7:NJ7) -> 100 | NL7: =+NK7-E7 -> 0 | NO7: =SUM(ME7:NI7) -> 0 | NP7: =SUM(H7:AK7) -> 0 | NQ7: =SUM(AL7:BP7) -> 0 | NR7: =SUM(BQ7:CU7) -> 0 | NS7: =SUM(CV7:DX7) -> 0 | NT7: =SUM(DY7:FC7) -> 0 | NU7: =SUM(FD7:GG7) -> 0 | NV7: =SUM(GH7:HL7) -> 0 | NW7: =SUM(HM7:IP7) -> 100 | NX7: =SUM(IQ7:JU7) -> 0 | NY7: =SUM(JV7:KZ7) -> 0 | NZ7: =SUM(LA7:MD7) -> 0 | OA7: =SUM(NO7:NZ7) -> 100 | OB7: =+OA7-NK7 -> 0 | OC7: =SUM(NP7:NU7) -> 0 | OD7: =SUM(NO7,NV7:NZ7) -> 100 | OE7: =SUM(OC7:OD7) -> 100 | OF7: =+OE7-NK7 -> 0 | OH7: 47 | OI7: {=SUMIF(H4:NC4,OH7:PD,H7:NC34)} -> 0
A8: 11/04/2024 | B8: 12/04/2024 | C8: 14/04/2024 | D8: 2 | E8: 100 | F8: =B8+0 -> 45394 | G8: =C8-1 -> 45395 | H8: =IFERROR(IF(AND(H$3>=$F8,H$3<=$G8),1,"0")*$E8/$D8,0) -> 0 | I8: =IFERROR(IF(AND(I$3>=$F8,I$3<=$G8),1,"0")*$E8/$D8,0) -> 0 | J8: =IFERROR(IF(AND(J$3>=$F8,J$3<=$G8),1,"0")*$E8/$D8,0) -> 0 | K8: =IFERROR(IF(AND(K$3>=$F8,K$3<=$G8),1,"0")*$E8/$D8,0) -> 0 | L8: =IFERROR(IF(AND(L$3>=$F8,L$3<=$G8),1,"0")*$E8/$D8,0) -> 0 | M8: =IFERROR(IF(AND(M$3>=$F8,M$3<=$G8),1,"0")*$E8/$D8,0) -> 0 | N8: =IFERROR(IF(AND(N$3>=$F8,N$3<=$G8),1,"0")*$E8/$D8,0) -> 0 | O8: =IFERROR(IF(AND(O$3>=$F8,O$3<=$G8),1,"0")*$E8/$D8,0) -> 0 | ... NJ8: =IFERROR(IF(AND(NJ$3>=$F8,NJ$3<=$G8),1,"0")*$E8/$D8,0) -> 0 | NK8: =SUM(H8:NJ8) -> 100 | NL8: =+NK8-E8 -> 0 | NO8: =SUM(ME8:NI8) -> 0 | NP8: =SUM(H8:AK8) -> 0 | NQ8: =SUM(AL8:BP8) -> 0 | NR8: =SUM(BQ8:CU8) -> 0 | NS8: =SUM(CV8:DX8) -> 0 | NT8: =SUM(DY8:FC8) -> 0 | NU8: =SUM(FD8:GG8) -> 100 | NV8: =SUM(GH8:HL8) -> 0 | NW8: =SUM(HM8:IP8) -> 0 | NX8: =SUM(IQ8:JU8) -> 0 | NY8: =SUM(JV8:KZ8) -> 0 | NZ8: =SUM(LA8:MD8) -> 0 | OA8: =SUM(NO8:NZ8) -> 100 | OB8: =+OA8-NK8 -> 0 | OC8: =SUM(NP8:NU8) -> 100 | OD8: =SUM(NO8,NV8:NZ8) -> 0 | OE8: =SUM(OC8:OD8) -> 100 | OF8: =+OE8-NK8 -> 0 | OH8: 48 | OI8: {=SUMIF(H5:NC5,OH8:PD,H8:NC35)} -> 0
A9: 10/04/2024 | B9: 12/04/2024 | C9: 14/04/2024 | D9: 2 | E9: 100 | F9: =B9+0 -> 45394 | G9: =C9-1 -> 45395 | H9: =IFERROR(IF(AND(H$3>=$F9,H$3<=$G9),1,"0")*$E9/$D9,0) -> 0 | I9: =IFERROR(IF(AND(I$3>=$F9,I$3<=$G9),1,"0")*$E9/$D9,0) -> 0 | J9: =IFERROR(IF(AND(J$3>=$F9,J$3<=$G9),1,"0")*$E9/$D9,0) -> 0 | K9: =IFERROR(IF(AND(K$3>=$F9,K$3<=$G9),1,"0")*$E9/$D9,0) -> 0 | L9: =IFERROR(IF(AND(L$3>=$F9,L$3<=$G9),1,"0")*$E9/$D9,0) -> 0 | M9: =IFERROR(IF(AND(M$3>=$F9,M$3<=$G9),1,"0")*$E9/$D9,0) -> 0 | N9: =IFERROR(IF(AND(N$3>=$F9,N$3<=$G9),1,"0")*$E9/$D9,0) -> 0 | O9: =IFERROR(IF(AND(O$3>=$F9,O$3<=$G9),1,"0")*$E9/$D9,0) -> 0 | ... NJ9: =IFERROR(IF(AND(NJ$3>=$F9,NJ$3<=$G9),1,"0")*$E9/$D9,0) -> 0 | NK9: =SUM(H9:NJ9) -> 100 | NL9: =+NK9-E9 -> 0 | NO9: =SUM(ME9:NI9) -> 0 | NP9: =SUM(H9:AK9) -> 0 | NQ9: =SUM(AL9:BP9) -> 0 | NR9: =SUM(BQ9:CU9) -> 0 | NS9: =SUM(CV9:DX9) -> 0 | NT9: =SUM(DY9:FC9) -> 0 | NU9: =SUM(FD9:GG9) -> 100 | NV9: =SUM(GH9:HL9) -> 0 | NW9: =SUM(HM9:IP9) -> 0 | NX9: =SUM(IQ9:JU9) -> 0 | NY9: =SUM(JV9:KZ9) -> 0 | NZ9: =SUM(LA9:MD9) -> 0 | OA9: =SUM(NO9:NZ9) -> 100 | OB9: =+OA9-NK9 -> 0 | OC9: =SUM(NP9:NU9) -> 100 | OD9: =SUM(NO9,NV9:NZ9) -> 0 | OE9: =SUM(OC9:OD9) -> 100 | OF9: =+OE9-NK9 -> 0 | OH9: 49 | OI9: {=SUMIF(H6:NC6,OH9:PD,H9:NC36)} -> 0
A10: 10/04/2024 | B10: 07/06/2024 | C10: 14/06/2024 | D10: 7 | E10: 100 | F10: =B10+0 -> 45450 | G10: =C10-1 -> 45456 | H10: =IFERROR(IF(AND(H$3>=$F10,H$3<=$G10),1,"0")*$E10/$D10,0) -> 0 | I10: =IFERROR(IF(AND(I$3>=$F10,I$3<=$G10),1,"0")*$E10/$D10,0) -> 0 | J10: =IFERROR(IF(AND(J$3>=$F10,J$3<=$G10),1,"0")*$E10/$D10,0) -> 0 | K10: =IFERROR(IF(AND(K$3>=$F10,K$3<=$G10),1,"0")*$E10/$D10,0) -> 0 | L10: =IFERROR(IF(AND(L$3>=$F10,L$3<=$G10),1,"0")*$E10/$D10,0) -> 0 | M10: =IFERROR(IF(AND(M$3>=$F10,M$3<=$G10),1,"0")*$E10/$D10,0) -> 0 | N10: =IFERROR(IF(AND(N$3>=$F10,N$3<=$G10),1,"0")*$E10/$D10,0) -> 0 | O10: =IFERROR(IF(AND(O$3>=$F10,O$3<=$G10),1,"0")*$E10/$D10,0) -> 0 | ... NJ10: =IFERROR(IF(AND(NJ$3>=$F10,NJ$3<=$G10),1,"0")*$E10/$D10,0) -> 0 | NK10: =SUM(H10:NJ10) -> 100 | NL10: =+NK10-E10 -> 0 | NO10: =SUM(ME10:NI10) -> 0 | NP10: =SUM(H10:AK10) -> 0 | NQ10: =SUM(AL10:BP10) -> 0 | NR10: =SUM(BQ10:CU10) -> 0 | NS10: =SUM(CV10:DX10) -> 0 | NT10: =SUM(DY10:FC10) -> 0 | NU10: =SUM(FD10:GG10) -> 0 | NV10: =SUM(GH10:HL10) -> 0 | NW10: =SUM(HM10:IP10) -> 100 | NX10: =SUM(IQ10:JU10) -> 0 | NY10: =SUM(JV10:KZ10) -> 0 | NZ10: =SUM(LA10:MD10) -> 0 | OA10: =SUM(NO10:NZ10) -> 100 | OB10: =+OA10-NK10 -> 0 | OC10: =SUM(NP10:NU10) -> 0 | OD10: =SUM(NO10,NV10:NZ10) -> 100 | OE10: =SUM(OC10:OD10) -> 100 | OF10: =+OE10-NK10 -> 0 | OH10: 50 | OI10: {=SUMIF(H7:NC7,OH10:PD,H10:NC37)} -> 0
A11: 09/04/2024 | B11: 28/06/2024 | C11: 01/07/2024 | D11: 3 | E11: 100 | F11: =B11+0 -> 45471 | G11: =C11-1 -> 45473 | H11: =IFERROR(IF(AND(H$3>=$F11,H$3<=$G11),1,"0")*$E11/$D11,0) -> 0 | I11: =IFERROR(IF(AND(I$3>=$F11,I$3<=$G11),1,"0")*$E11/$D11,0) -> 0 | J11: =IFERROR(IF(AND(J$3>=$F11,J$3<=$G11),1,"0")*$E11/$D11,0) -> 0 | K11: =IFERROR(IF(AND(K$3>=$F11,K$3<=$G11),1,"0")*$E11/$D11,0) -> 0 | L11: =IFERROR(IF(AND(L$3>=$F11,L$3<=$G11),1,"0")*$E11/$D11,0) -> 0 | M11: =IFERROR(IF(AND(M$3>=$F11,M$3<=$G11),1,"0")*$E11/$D11,0) -> 0 | N11: =IFERROR(IF(AND(N$3>=$F11,N$3<=$G11),1,"0")*$E11/$D11,0) -> 0 | O11: =IFERROR(IF(AND(O$3>=$F11,O$3<=$G11),1,"0")*$E11/$D11,0) -> 0 | ... NJ11: =IFERROR(IF(AND(NJ$3>=$F11,NJ$3<=$G11),1,"0")*$E11/$D11,0) -> 0 | NK11: =SUM(H11:NJ11) -> 100 | NL11: =+NK11-E11 -> 0 | NO11: =SUM(ME11:NI11) -> 0 | NP11: =SUM(H11:AK11) -> 0 | NQ11: =SUM(AL11:BP11) -> 0 | NR11: =SUM(BQ11:CU11) -> 0 | NS11: =SUM(CV11:DX11) -> 0 | NT11: =SUM(DY11:FC11) -> 0 | NU11: =SUM(FD11:GG11) -> 0 | NV11: =SUM(GH11:HL11) -> 0 | NW11: =SUM(HM11:IP11) -> 100 | NX11: =SUM(IQ11:JU11) -> 0 | NY11: =SUM(JV11:KZ11) -> 0 | NZ11: =SUM(LA11:MD11) -> 0 | OA11: =SUM(NO11:NZ11) -> 100 | OB11: =+OA11-NK11 -> 0 | OC11: =SUM(NP11:NU11) -> 0 | OD11: =SUM(NO11,NV11:NZ11) -> 100 | OE11: =SUM(OC11:OD11) -> 100 | OF11: =+OE11-NK11 -> 0 | OH11: 51 | OI11: {=SUMIF(H8:NC8,OH11:PD,H11:NC38)} -> 0
A12: 09/04/2024 | B12: 10/08/2024 | C12: 17/08/2024 | D12: 7 | E12: 100 | F12: =B12+0 -> 45514 | G12: =C12-1 -> 45520 | H12: =IFERROR(IF(AND(H$3>=$F12,H$3<=$G12),1,"0")*$E12/$D12,0) -> 0 | I12: =IFERROR(IF(AND(I$3>=$F12,I$3<=$G12),1,"0")*$E12/$D12,0) -> 0 | J12: =IFERROR(IF(AND(J$3>=$F12,J$3<=$G12),1,"0")*$E12/$D12,0) -> 0 | K12: =IFERROR(IF(AND(K$3>=$F12,K$3<=$G12),1,"0")*$E12/$D12,0) -> 0 | L12: =IFERROR(IF(AND(L$3>=$F12,L$3<=$G12),1,"0")*$E12/$D12,0) -> 0 | M12: =IFERROR(IF(AND(M$3>=$F12,M$3<=$G12),1,"0")*$E12/$D12,0) -> 0 | N12: =IFERROR(IF(AND(N$3>=$F12,N$3<=$G12),1,"0")*$E12/$D12,0) -> 0 | O12: =IFERROR(IF(AND(O$3>=$F12,O$3<=$G12),1,"0")*$E12/$D12,0) -> 0 | ... NJ12: =IFERROR(IF(AND(NJ$3>=$F12,NJ$3<=$G12),1,"0")*$E12/$D12,0) -> 0 | NK12: =SUM(H12:NJ12) -> 100 | NL12: =+NK12-E12 -> 0 | NO12: =SUM(ME12:NI12) -> 0 | NP12: =SUM(H12:AK12) -> 0 | NQ12: =SUM(AL12:BP12) -> 0 | NR12: =SUM(BQ12:CU12) -> 0 | NS12: =SUM(CV12:DX12) -> 0 | NT12: =SUM(DY12:FC12) -> 0 | NU12: =SUM(FD12:GG12) -> 0 | NV12: =SUM(GH12:HL12) -> 0 | NW12: =SUM(HM12:IP12) -> 0 | NX12: =SUM(IQ12:JU12) -> 0 | NY12: =SUM(JV12:KZ12) -> 100 | NZ12: =SUM(LA12:MD12) -> 0 | OA12: =SUM(NO12:NZ12) -> 100 | OB12: =+OA12-NK12 -> 0 | OC12: =SUM(NP12:NU12) -> 0 | OD12: =SUM(NO12,NV12:NZ12) -> 100 | OE12: =SUM(OC12:OD12) -> 100 | OF12: =+OE12-NK12 -> 0 | OH12: 52 | OI12: {=SUMIF(H9:NC9,OH12:PD,H12:NC39)} -> 0
A13: 09/04/2024 | B13: 12/04/2024 | C13: 14/04/2024 | D13: 2 | E13: 100 | F13: =B13+0 -> 45394 | G13: =C13-1 -> 45395 | H13: =IFERROR(IF(AND(H$3>=$F13,H$3<=$G13),1,"0")*$E13/$D13,0) -> 0 | I13: =IFERROR(IF(AND(I$3>=$F13,I$3<=$G13),1,"0")*$E13/$D13,0) -> 0 | J13: =IFERROR(IF(AND(J$3>=$F13,J$3<=$G13),1,"0")*$E13/$D13,0) -> 0 | K13: =IFERROR(IF(AND(K$3>=$F13,K$3<=$G13),1,"0")*$E13/$D13,0) -> 0 | L13: =IFERROR(IF(AND(L$3>=$F13,L$3<=$G13),1,"0")*$E13/$D13,0) -> 0 | M13: =IFERROR(IF(AND(M$3>=$F13,M$3<=$G13),1,"0")*$E13/$D13,0) -> 0 | N13: =IFERROR(IF(AND(N$3>=$F13,N$3<=$G13),1,"0")*$E13/$D13,0) -> 0 | O13: =IFERROR(IF(AND(O$3>=$F13,O$3<=$G13),1,"0")*$E13/$D13,0) -> 0 | ... NJ13: =IFERROR(IF(AND(NJ$3>=$F13,NJ$3<=$G13),1,"0")*$E13/$D13,0) -> 0 | NK13: =SUM(H13:NJ13) -> 100 | NL13: =+NK13-E13 -> 0 | NO13: =SUM(ME13:NI13) -> 0 | NP13: =SUM(H13:AK13) -> 0 | NQ13: =SUM(AL13:BP13) -> 0 | NR13: =SUM(BQ13:CU13) -> 0 | NS13: =SUM(CV13:DX13) -> 0 | NT13: =SUM(DY13:FC13) -> 0 | NU13: =SUM(FD13:GG13) -> 100 | NV13: =SUM(GH13:HL13) -> 0 | NW13: =SUM(HM13:IP13) -> 0 | NX13: =SUM(IQ13:JU13) -> 0 | NY13: =SUM(JV13:KZ13) -> 0 | NZ13: =SUM(LA13:MD13) -> 0 | OA13: =SUM(NO13:NZ13) -> 100 | OB13: =+OA13-NK13 -> 0 | OC13: =SUM(NP13:NU13) -> 100 | OD13: =SUM(NO13,NV13:NZ13) -> 0 | OE13: =SUM(OC13:OD13) -> 100 | OF13: =+OE13-NK13 -> 0 | OH13: 1 | OI13: {=SUMIF(H10:NC10,OH13:PD,H13:NC40)} -> 0
A14: 08/04/2024 | B14: 20/06/2024 | C14: 24/06/2024 | D14: 4 | E14: 100 | F14: =B14+0 -> 45463 | G14: =C14-1 -> 45466 | H14: =IFERROR(IF(AND(H$3>=$F14,H$3<=$G14),1,"0")*$E14/$D14,0) -> 0 | I14: =IFERROR(IF(AND(I$3>=$F14,I$3<=$G14),1,"0")*$E14/$D14,0) -> 0 | J14: =IFERROR(IF(AND(J$3>=$F14,J$3<=$G14),1,"0")*$E14/$D14,0) -> 0 | K14: =IFERROR(IF(AND(K$3>=$F14,K$3<=$G14),1,"0")*$E14/$D14,0) -> 0 | L14: =IFERROR(IF(AND(L$3>=$F14,L$3<=$G14),1,"0")*$E14/$D14,0) -> 0 | M14: =IFERROR(IF(AND(M$3>=$F14,M$3<=$G14),1,"0")*$E14/$D14,0) -> 0 | N14: =IFERROR(IF(AND(N$3>=$F14,N$3<=$G14),1,"0")*$E14/$D14,0) -> 0 | O14: =IFERROR(IF(AND(O$3>=$F14,O$3<=$G14),1,"0")*$E14/$D14,0) -> 0 | ... NJ14: =IFERROR(IF(AND(NJ$3>=$F14,NJ$3<=$G14),1,"0")*$E14/$D14,0) -> 0 | NK14: =SUM(H14:NJ14) -> 100 | NL14: =+NK14-E14 -> 0 | NO14: =SUM(ME14:NI14) -> 0 | NP14: =SUM(H14:AK14) -> 0 | NQ14: =SUM(AL14:BP14) -> 0 | NR14: =SUM(BQ14:CU14) -> 0 | NS14: =SUM(CV14:DX14) -> 0 | NT14: =SUM(DY14:FC14) -> 0 | NU14: =SUM(FD14:GG14) -> 0 | NV14: =SUM(GH14:HL14) -> 0 | NW14: =SUM(HM14:IP14) -> 100 | NX14: =SUM(IQ14:JU14) -> 0 | NY14: =SUM(JV14:KZ14) -> 0 | NZ14: =SUM(LA14:MD14) -> 0 | OA14: =SUM(NO14:NZ14) -> 100 | OB14: =+OA14-NK14 -> 0 | OC14: =SUM(NP14:NU14) -> 0 | OD14: =SUM(NO14,NV14:NZ14) -> 100 | OE14: =SUM(OC14:OD14) -> 100 | OF14: =+OE14-NK14 -> 0 | OH14: 2 | OI14: {=SUMIF(H11:NC11,OH14:PD,H14:NC41)} -> 0
A15: 08/04/2024 | B15: 10/08/2024 | C15: 24/08/2024 | D15: 14 | E15: 100 | F15: =B15+0 -> 45514 | G15: =C15-1 -> 45527 | H15: =IFERROR(IF(AND(H$3>=$F15,H$3<=$G15),1,"0")*$E15/$D15,0) -> 0 | I15: =IFERROR(IF(AND(I$3>=$F15,I$3<=$G15),1,"0")*$E15/$D15,0) -> 0 | J15: =IFERROR(IF(AND(J$3>=$F15,J$3<=$G15),1,"0")*$E15/$D15,0) -> 0 | K15: =IFERROR(IF(AND(K$3>=$F15,K$3<=$G15),1,"0")*$E15/$D15,0) -> 0 | L15: =IFERROR(IF(AND(L$3>=$F15,L$3<=$G15),1,"0")*$E15/$D15,0) -> 0 | M15: =IFERROR(IF(AND(M$3>=$F15,M$3<=$G15),1,"0")*$E15/$D15,0) -> 0 | N15: =IFERROR(IF(AND(N$3>=$F15,N$3<=$G15),1,"0")*$E15/$D15,0) -> 0 | O15: =IFERROR(IF(AND(O$3>=$F15,O$3<=$G15),1,"0")*$E15/$D15,0) -> 0 | ... NJ15: =IFERROR(IF(AND(NJ$3>=$F15,NJ$3<=$G15),1,"0")*$E15/$D15,0) -> 0 | NK15: =SUM(H15:NJ15) -> 100 | NL15: =+NK15-E15 -> 0 | NO15: =SUM(ME15:NI15) -> 0 | NP15: =SUM(H15:AK15) -> 0 | NQ15: =SUM(AL15:BP15) -> 0 | NR15: =SUM(BQ15:CU15) -> 0 | NS15: =SUM(CV15:DX15) -> 0 | NT15: =SUM(DY15:FC15) -> 0 | NU15: =SUM(FD15:GG15) -> 0 | NV15: =SUM(GH15:HL15) -> 0 | NW15: =SUM(HM15:IP15) -> 0 | NX15: =SUM(IQ15:JU15) -> 0 | NY15: =SUM(JV15:KZ15) -> 100 | NZ15: =SUM(LA15:MD15) -> 0 | OA15: =SUM(NO15:NZ15) -> 100 | OB15: =+OA15-NK15 -> 0 | OC15: =SUM(NP15:NU15) -> 0 | OD15: =SUM(NO15,NV15:NZ15) -> 100 | OE15: =SUM(OC15:OD15) -> 100 | OF15: =+OE15-NK15 -> 0 | OH15: 3 | OI15: {=SUMIF(H12:NC12,OH15:PD,H15:NC42)} -> 0
A16: 08/04/2024 | B16: 27/05/2024 | C16: 07/06/2024 | D16: 11 | E16: 100 | F16: =B16+0 -> 45439 | G16: =C16-1 -> 45449 | H16: =IFERROR(IF(AND(H$3>=$F16,H$3<=$G16),1,"0")*$E16/$D16,0) -> 0 | I16: =IFERROR(IF(AND(I$3>=$F16,I$3<=$G16),1,"0")*$E16/$D16,0) -> 0 | J16: =IFERROR(IF(AND(J$3>=$F16,J$3<=$G16),1,"0")*$E16/$D16,0) -> 0 | K16: =IFERROR(IF(AND(K$3>=$F16,K$3<=$G16),1,"0")*$E16/$D16,0) -> 0 | L16: =IFERROR(IF(AND(L$3>=$F16,L$3<=$G16),1,"0")*$E16/$D16,0) -> 0 | M16: =IFERROR(IF(AND(M$3>=$F16,M$3<=$G16),1,"0")*$E16/$D16,0) -> 0 | N16: =IFERROR(IF(AND(N$3>=$F16,N$3<=$G16),1,"0")*$E16/$D16,0) -> 0 | O16: =IFERROR(IF(AND(O$3>=$F16,O$3<=$G16),1,"0")*$E16/$D16,0) -> 0 | ... NJ16: =IFERROR(IF(AND(NJ$3>=$F16,NJ$3<=$G16),1,"0")*$E16/$D16,0) -> 0 | NK16: =SUM(H16:NJ16) -> 100 | NL16: =+NK16-E16 -> 0 | NO16: =SUM(ME16:NI16) -> 0 | NP16: =SUM(H16:AK16) -> 0 | NQ16: =SUM(AL16:BP16) -> 0 | NR16: =SUM(BQ16:CU16) -> 0 | NS16: =SUM(CV16:DX16) -> 0 | NT16: =SUM(DY16:FC16) -> 0 | NU16: =SUM(FD16:GG16) -> 0 | NV16: =SUM(GH16:HL16) -> 45.454545 | NW16: =SUM(HM16:IP16) -> 54.545455 | NX16: =SUM(IQ16:JU16) -> 0 | NY16: =SUM(JV16:KZ16) -> 0 | NZ16: =SUM(LA16:MD16) -> 0 | OA16: =SUM(NO16:NZ16) -> 100 | OB16: =+OA16-NK16 -> 0 | OC16: =SUM(NP16:NU16) -> 0 | OD16: =SUM(NO16,NV16:NZ16) -> 100 | OE16: =SUM(OC16:OD16) -> 100 | OF16: =+OE16-NK16 -> 0 | OH16: 4 | OI16: {=SUMIF(H13:NC13,OH16:PD,H16:NC43)} -> 0
... A32: 03/04/2024 | B32: 08/06/2024 | C32: 14/06/2024 | D32: 6 | E32: 100 | F32: =B32+0 -> 45451 | G32: =C32-1 -> 45456 | H32: =IFERROR(IF(AND(H$3>=$F32,H$3<=$G32),1,"0")*$E32/$D32,0) -> 0 | I32: =IFERROR(IF(AND(I$3>=$F32,I$3<=$G32),1,"0")*$E32/$D32,0) -> 0 | J32: =IFERROR(IF(AND(J$3>=$F32,J$3<=$G32),1,"0")*$E32/$D32,0) -> 0 | K32: =IFERROR(IF(AND(K$3>=$F32,K$3<=$G32),1,"0")*$E32/$D32,0) -> 0 | L32: =IFERROR(IF(AND(L$3>=$F32,L$3<=$G32),1,"0")*$E32/$D32,0) -> 0 | M32: =IFERROR(IF(AND(M$3>=$F32,M$3<=$G32),1,"0")*$E32/$D32,0) -> 0 | N32: =IFERROR(IF(AND(N$3>=$F32,N$3<=$G32),1,"0")*$E32/$D32,0) -> 0 | O32: =IFERROR(IF(AND(O$3>=$F32,O$3<=$G32),1,"0")*$E32/$D32,0) -> 0 | ... NJ32: =IFERROR(IF(AND(NJ$3>=$F32,NJ$3<=$G32),1,"0")*$E32/$D32,0) -> 0 | NK32: =SUM(H32:NJ32) -> 100 | NL32: =+NK32-E32 -> 0 | NO32: =SUM(ME32:NI32) -> 0 | NP32: =SUM(H32:AK32) -> 0 | NQ32: =SUM(AL32:BP32) -> 0 | NR32: =SUM(BQ32:CU32) -> 0 | NS32: =SUM(CV32:DX32) -> 0 | NT32: =SUM(DY32:FC32) -> 0 | NU32: =SUM(FD32:GG32) -> 0 | NV32: =SUM(GH32:HL32) -> 0 | NW32: =SUM(HM32:IP32) -> 100 | NX32: =SUM(IQ32:JU32) -> 0 | NY32: =SUM(JV32:KZ32) -> 0 | NZ32: =SUM(LA32:MD32) -> 0 | OA32: =SUM(NO32:NZ32) -> 100 | OB32: =+OA32-NK32 -> 0 | OC32: =SUM(NP32:NU32) -> 0 | OD32: =SUM(NO32,NV32:NZ32) -> 100 | OE32: =SUM(OC32:OD32) -> 100 | OF32: =+OE32-NK32 -> 0 | OH32: 20 | OI32: {=SUMIF(H29:NC29,OH32:PD,H32:NC59)} -> 0

Sheet BDD N-1
H1: =WEEKNUM(H3,16) -> 44 | I1: =WEEKNUM(I3,16) -> 44 | J1: =WEEKNUM(J3,16) -> 44 | K1: =WEEKNUM(K3,16) -> 44 | L1: =WEEKNUM(L3,16) -> 45 | M1: =WEEKNUM(M3,16) -> 45 | N1: =WEEKNUM(N3,16) -> 45 | O1: =WEEKNUM(O3,16) -> 45 | ... NM1: =WEEKNUM(NM3,16) -> 45
H2: =MONTH(H3) -> 11 | I2: =MONTH(I3) -> 11 | J2: =MONTH(J3) -> 11 | K2: =MONTH(K3) -> 11 | L2: =MONTH(L3) -> 11 | M2: =MONTH(M3) -> 11 | N2: =MONTH(N3) -> 11 | O2: =MONTH(O3) -> 11 | ... NM2: =MONTH(NM3) -> 11
A3: Date de création | B3: Date d'arrivée | C3: Date de sortie | D3: nuits | E3: Location hors taxes | F3: Date d'arrivée | G3: Date de sortie | H3: 44866 | I3: 44867 | J3: 44868 | K3: 44869 | L3: 44870 | M3: 44871 | N3: 44872 | O3: 44873 | P3: 44874 | Q3: 44875 | R3: 44876 | S3: 44877 | T3: 44878 | U3: 44879 | V3: 44880 | W3: 44881 | X3: 44882 | Y3: 44883 | Z3: 44884 | AA3: 44885 | AB3: 44886 | AC3: 44887 | AD3: 44888 | AE3: 44889 | AF3: 44890 | AG3: 44891 | AH3: 44892 | AI3: 44893 | AJ3: 44894 | AK3: 44895 | AL3: 44896 | AM3: 44897 | AN3: 44898 | AO3: 44899 | AP3: 44900 | AQ3: 44901 | AR3: 44902 | AS3: 44903 | AT3: 44904 | AU3: 44905 | AV3: 44906 | AW3: 44907 | AX3: 44908 | AY3: 44909 | AZ3: 44910 | BA3: 44911 | BB3: 44912 | BC3: 44913 | BD3: 44914 | BE3: 44915 | BF3: 44916 | BG3: 44917 | BH3: 44918 | BI3: 44919 | BJ3: 44920 | BK3: 44921 | BL3: 44922 | BM3: 44923 | BN3: 44924 | BO3: 44925 | BP3: 44926 | BQ3: 44927 | BR3: 44928 | BS3: 44929 | BT3: 44930 | BU3: 44931 | BV3: 44932 | BW3: 44933 | BX3: 44934 | BY3: 44935 | BZ3: 44936 | CA3: 44937 | CB3: 44938 | CC3: 44939 | CD3: 44940 | CE3: 44941 | CF3: 44942 | CG3: 44943 | CH3: 44944 | CI3: 44945 | CJ3: 44946 | CK3: 44947 | CL3: 44948 | CM3: 44949 | CN3: 44950 | CO3: 44951 | CP3: 44952 | CQ3: 44953 | CR3: 44954 | CS3: 44955 | CT3: 44956 | CU3: 44957 | CV3: 44958 | CW3: 44959 | CX3: 44960 | CY3: 44961 | CZ3: 44962 | DA3: 44963 | DB3: 44964 | DC3: 44965 | DD3: 44966 | DE3: 44967 | DF3: 44968 | DG3: 44969 | DH3: 44970 | DI3: 44971 | DJ3: 44972 | DK3: 44973 | DL3: 44974 | DM3: 44975 | DN3: 44976 | DO3: 44977 | DP3: 44978 | DQ3: 44979 | DR3: 44980 | DS3: 44981 | DT3: 44982 | DU3: 44983 | DV3: 44984 | DW3: 44985 | DX3: 44986 | DY3: 44987 | DZ3: 44988 | EA3: 44989 | EB3: 44990 | EC3: 44991 | ED3: 44992 | EE3: 44993 | EF3: 44994 | EG3: 44995 | EH3: 44996 | EI3: 44997 | EJ3: 44998 | EK3: 44999 | EL3: 45000 | EM3: 45001 | EN3: 45002 | EO3: 45003 | EP3: 45004 | EQ3: 45005 | ER3: 45006 | ES3: 45007 | ET3: 45008 | EU3: 45009 | EV3: 45010 | EW3: 45011 | EX3: 45012 | EY3: 45013 | EZ3: 45014 | FA3: 45015 | FB3: 45016 | FC3: 45017 | FD3: 45018 | FE3: 45019 | FF3: 45020 | FG3: 45021 | FH3: 45022 | FI3: 45023 | FJ3: 45024 | FK3: 45025 | FL3: 45026 | FM3: 45027 | FN3: 45028 | FO3: 45029 | FP3: 45030 | FQ3: 45031 | FR3: 45032 | FS3: 45033 | FT3: 45034 | FU3: 45035 | FV3: 45036 | FW3: 45037 | FX3: 45038 | FY3: 45039 | FZ3: 45040 | GA3: 45041 | GB3: 45042 | GC3: 45043 | GD3: 45044 | GE3: 45045 | GF3: 45046 | GG3: 45047 | GH3: 45048 | GI3: 45049 | GJ3: 45050 | GK3: 45051 | GL3: 45052 | GM3: 45053 | GN3: 45054 | GO3: 45055 | GP3: 45056 | GQ3: 45057 | GR3: 45058 | GS3: 45059 | GT3: 45060 | GU3: 45061 | GV3: 45062 | GW3: 45063 | GX3: 45064 | GY3: 45065 | GZ3: 45066 | HA3: 45067 | HB3: 45068 | HC3: 45069 | HD3: 45070 | HE3: 45071 | HF3: 45072 | HG3: 45073 | HH3: 45074 | HI3: 45075 | HJ3: 45076 | HK3: 45077 | HL3: 45078 | HM3: 45079 | HN3: 45080 | HO3: 45081 | HP3: 45082 | HQ3: 45083 | HR3: 45084 | HS3: 45085 | HT3: 45086 | HU3: 45087 | HV3: 45088 | HW3: 45089 | HX3: 45090 | HY3: 45091 | HZ3: 45092 | IA3: 45093 | IB3: 45094 | IC3: 45095 | ID3: 45096 | IE3: 45097 | IF3: 45098 | IG3: 45099 | IH3: 45100 | II3: 45101 | IJ3: 45102 | IK3: 45103 | IL3: 45104 | IM3: 45105 | IN3: 45106 | IO3: 45107 | IP3: 45108 | IQ3: 45109 | IR3: 45110 | IS3: 45111 | IT3: 45112 | IU3: 45113 | IV3: 45114 | IW3: 45115 | IX3: 45116 | IY3: 45117 | IZ3: 45118 | JA3: 45119 | JB3: 45120 | JC3: 45121 | JD3: 45122 | JE3: 45123 | JF3: 45124 | JG3: 45125 | JH3: 45126 | JI3: 45127 | JJ3: 45128 | JK3: 45129 | JL3: 45130 | JM3: 45131 | JN3: 45132 | JO3: 45133 | JP3: 45134 | JQ3: 45135 | JR3: 45136 | JS3: 45137 | JT3: 45138 | JU3: 45139 | JV3: 45140 | JW3: 45141 | JX3: 45142 | JY3: 45143 | JZ3: 45144 | KA3: 45145 | KB3: 45146 | KC3: 45147 | KD3: 45148 | KE3: 45149 | KF3: 45150 | KG3: 45151 | KH3: 45152 | KI3: 45153 | KJ3: 45154 | KK3: 45155 | KL3: 45156 | KM3: 45157 | KN3: 45158 | KO3: 45159 | KP3: 45160 | KQ3: 45161 | KR3: 45162 | KS3: 45163 | KT3: 45164 | KU3: 45165 | KV3: 45166 | KW3: 45167 | KX3: 45168 | KY3: 45169 | KZ3: 45170 | LA3: 45171 | LB3: 45172 | LC3: 45173 | LD3: 45174 | LE3: 45175 | LF3: 45176 | LG3: 45177 | LH3: 45178 | LI3: 45179 | LJ3: 45180 | LK3: 45181 | LL3: 45182 | LM3: 45183 | LN3: 45184 | LO3: 45185 | LP3: 45186 | LQ3: 45187 | LR3: 45188 | LS3: 45189 | LT3: 45190 | LU3: 45191 | LV3: 45192 | LW3: 45193 | LX3: 45194 | LY3: 45195 | LZ3: 45196 | MA3: 45197 | MB3: 45198 | MC3: 45199 | MD3: 45200 | ME3: 45201 | MF3: 45202 | MG3: 45203 | MH3: 45204 | MI3: 45205 | MJ3: 45206 | MK3: 45207 | ML3: 45208 | MM3: 45209 | MN3: 45210 | MO3: 45211 | MP3: 45212 | MQ3: 45213 | MR3: 45214 | MS3: 45215 | MT3: 45216 | MU3: 45217 | MV3: 45218 | MW3: 45219 | MX3: 45220 | MY3: 45221 | MZ3: 45222 | NA3: 45223 | NB3: 45224 | NC3: 45225 | ND3: 45226 | NE3: 45227 | NF3: 45228 | NG3: 45229 | NH3: 45230 | NI3: 45231 | NJ3: 45232 | NK3: 45233 | NL3: 45234 | NM3: 45235 | NN3: Total | NO3: Vérif | NR3: Octobre | NS3: Novembre | NT3: Décembre | NU3: Janvier | NV3: Février | NW3: Mars | NX3: Avril | NY3: Mai | NZ3: Juin | OA3: Juillet | OB3: Aout | OC3: Septembre | OD3: Année | OE3: Vérif | OF3: S1 | OG3: S2 | OH3: Année | OI3: Vérif
A4: 14/10/2023 | B4: 21/10/2023 | C4: 28/10/2023 | D4: 7 | E4: 100 | F4: =B4+0 -> 45220 | G4: =C4-1 -> 45226 | H4: =IFERROR(IF(AND(H$3>=$F4,H$3<=$G4),1,"0")*$E4/$D4,0) -> 0 | I4: =IFERROR(IF(AND(I$3>=$F4,I$3<=$G4),1,"0")*$E4/$D4,0) -> 0 | J4: =IFERROR(IF(AND(J$3>=$F4,J$3<=$G4),1,"0")*$E4/$D4,0) -> 0 | K4: =IFERROR(IF(AND(K$3>=$F4,K$3<=$G4),1,"0")*$E4/$D4,0) -> 0 | L4: =IFERROR(IF(AND(L$3>=$F4,L$3<=$G4),1,"0")*$E4/$D4,0) -> 0 | M4: =IFERROR(IF(AND(M$3>=$F4,M$3<=$G4),1,"0")*$E4/$D4,0) -> 0 | N4: =IFERROR(IF(AND(N$3>=$F4,N$3<=$G4),1,"0")*$E4/$D4,0) -> 0 | O4: =IFERROR(IF(AND(O$3>=$F4,O$3<=$G4),1,"0")*$E4/$D4,0) -> 0 | ... NM4: =IFERROR(IF(AND(NM$3>=$F4,NM$3<=$G4),1,"0")*$E4/$D4,0) -> 0 | NN4: =SUM(H4:NM4) -> 100 | NO4: =+NN4-E4 -> 0 | NR4: =SUM(ME4:NI4) -> 100 | NS4: =SUM(H4:AK4) -> 0 | NT4: =SUM(AL4:BP4) -> 0 | NU4: =SUM(BQ4:CU4) -> 0 | NV4: =SUM(CV4:DX4) -> 0 | NW4: =SUM(DY4:FC4) -> 0 | NX4: =SUM(FC4:GF4) -> 0 | NY4: =SUM(GH4:HL4) -> 0 | NZ4: =SUM(HM4:IP4) -> 0 | OA4: =SUM(IQ4:JU4) -> 0 | OB4: =SUM(JV4:KZ4) -> 0 | OC4: =SUM(LA4:MD4) -> 0 | OD4: =SUM(NR4:OC4) -> 100 | OE4: =+OD4-NN4 -> 0 | OF4: =SUM(NS4:NX4) -> 0 | OG4: =SUM(NR4,NY4:OC4) -> 100 | OH4: =SUM(OF4:OG4) -> 100 | OI4: =+OH4-NN4 -> 0 | OJ4: =SUM(NX:NX) -> 0
A5: 12/10/2023 | B5: 05/07/2023 | C5: 12/07/2023 | D5: 7 | E5: 100 | F5: =B5+0 -> 45112 | G5: =C5-1 -> 45118 | H5: =IFERROR(IF(AND(H$3>=$F5,H$3<=$G5),1,"0")*$E5/$D5,0) -> 0 | I5: =IFERROR(IF(AND(I$3>=$F5,I$3<=$G5),1,"0")*$E5/$D5,0) -> 0 | J5: =IFERROR(IF(AND(J$3>=$F5,J$3<=$G5),1,"0")*$E5/$D5,0) -> 0 | K5: =IFERROR(IF(AND(K$3>=$F5,K$3<=$G5),1,"0")*$E5/$D5,0) -> 0 | L5: =IFERROR(IF(AND(L$3>=$F5,L$3<=$G5),1,"0")*$E5/$D5,0) -> 0 | M5: =IFERROR(IF(AND(M$3>=$F5,M$3<=$G5),1,"0")*$E5/$D5,0) -> 0 | N5: =IFERROR(IF(AND(N$3>=$F5,N$3<=$G5),1,"0")*$E5/$D5,0) -> 0 | O5: =IFERROR(IF(AND(O$3>=$F5,O$3<=$G5),1,"0")*$E5/$D5,0) -> 0 | ... NM5: =IFERROR(IF(AND(NM$3>=$F5,NM$3<=$G5),1,"0")*$E5/$D5,0) -> 0 | NN5: =SUM(H5:NM5) -> 100 | NO5: =+NN5-E5 -> 0 | NR5: =SUM(ME5:NI5) -> 0 | NS5: =SUM(H5:AK5) -> 0 | NT5: =SUM(AL5:BP5) -> 0 | NU5: =SUM(BQ5:CU5) -> 0 | NV5: =SUM(CV5:DX5) -> 0 | NW5: =SUM(DY5:FC5) -> 0 | NX5: =SUM(FC5:GF5) -> 0 | NY5: =SUM(GH5:HL5) -> 0 | NZ5: =SUM(HM5:IP5) -> 0 | OA5: =SUM(IQ5:JU5) -> 100 | OB5: =SUM(JV5:KZ5) -> 0 | OC5: =SUM(LA5:MD5) -> 0 | OD5: =SUM(NR5:OC5) -> 100 | OE5: =+OD5-NN5 -> 0 | OF5: =SUM(NS5:NX5) -> 0 | OG5: =SUM(NR5,NY5:OC5) -> 100 | OH5: =SUM(OF5:OG5) -> 100 | OI5: =+OH5-NN5 -> 0 | OJ5: =SUMIF(A:A,"<"&14/4/2023,NX:NX) -> 0
A6: 11/10/2023 | B6: 18/10/2023 | C6: 23/10/2023 | D6: 5 | E6: 100 | F6: =B6+0 -> 45217 | G6: =C6-1 -> 45221 | H6: =IFERROR(IF(AND(H$3>=$F6,H$3<=$G6),1,"0")*$E6/$D6,0) -> 0 | I6: =IFERROR(IF(AND(I$3>=$F6,I$3<=$G6),1,"0")*$E6/$D6,0) -> 0 | J6: =IFERROR(IF(AND(J$3>=$F6,J$3<=$G6),1,"0")*$E6/$D6,0) -> 0 | K6: =IFERROR(IF(AND(K$3>=$F6,K$3<=$G6),1,"0")*$E6/$D6,0) -> 0 | L6: =IFERROR(IF(AND(L$3>=$F6,L$3<=$G6),1,"0")*$E6/$D6,0) -> 0 | M6: =IFERROR(IF(AND(M$3>=$F6,M$3<=$G6),1,"0")*$E6/$D6,0) -> 0 | N6: =IFERROR(IF(AND(N$3>=$F6,N$3<=$G6),1,"0")*$E6/$D6,0) -> 0 | O6: =IFERROR(IF(AND(O$3>=$F6,O$3<=$G6),1,"0")*$E6/$D6,0) -> 0 | ... NM6: =IFERROR(IF(AND(NM$3>=$F6,NM$3<=$G6),1,"0")*$E6/$D6,0) -> 0 | NN6: =SUM(H6:NM6) -> 100 | NO6: =+NN6-E6 -> 0 | NR6: =SUM(ME6:NI6) -> 100 | NS6: =SUM(H6:AK6) -> 0 | NT6: =SUM(AL6:BP6) -> 0 | NU6: =SUM(BQ6:CU6) -> 0 | NV6: =SUM(CV6:DX6) -> 0 | NW6: =SUM(DY6:FC6) -> 0 | NX6: =SUM(FC6:GF6) -> 0 | NY6: =SUM(GH6:HL6) -> 0 | NZ6: =SUM(HM6:IP6) -> 0 | OA6: =SUM(IQ6:JU6) -> 0 | OB6: =SUM(JV6:KZ6) -> 0 | OC6: =SUM(LA6:MD6) -> 0 | OD6: =SUM(NR6:OC6) -> 100 | OE6: =+OD6-NN6 -> 0 | OF6: =SUM(NS6:NX6) -> 0 | OG6: =SUM(NR6,NY6:OC6) -> 100 | OH6: =SUM(OF6:OG6) -> 100 | OI6: =+OH6-NN6 -> 0
A7: 10/10/2023 | B7: 28/10/2023 | C7: 30/10/2023 | D7: 2 | E7: 100 | F7: =B7+0 -> 45227 | G7: =C7-1 -> 45228 | H7: =IFERROR(IF(AND(H$3>=$F7,H$3<=$G7),1,"0")*$E7/$D7,0) -> 0 | I7: =IFERROR(IF(AND(I$3>=$F7,I$3<=$G7),1,"0")*$E7/$D7,0) -> 0 | J7: =IFERROR(IF(AND(J$3>=$F7,J$3<=$G7),1,"0")*$E7/$D7,0) -> 0 | K7: =IFERROR(IF(AND(K$3>=$F7,K$3<=$G7),1,"0")*$E7/$D7,0) -> 0 | L7: =IFERROR(IF(AND(L$3>=$F7,L$3<=$G7),1,"0")*$E7/$D7,0) -> 0 | M7: =IFERROR(IF(AND(M$3>=$F7,M$3<=$G7),1,"0")*$E7/$D7,0) -> 0 | N7: =IFERROR(IF(AND(N$3>=$F7,N$3<=$G7),1,"0")*$E7/$D7,0) -> 0 | O7: =IFERROR(IF(AND(O$3>=$F7,O$3<=$G7),1,"0")*$E7/$D7,0) -> 0 | ... NM7: =IFERROR(IF(AND(NM$3>=$F7,NM$3<=$G7),1,"0")*$E7/$D7,0) -> 0 | NN7: =SUM(H7:NM7) -> 100 | NO7: =+NN7-E7 -> 0 | NR7: =SUM(ME7:NI7) -> 100 | NS7: =SUM(H7:AK7) -> 0 | NT7: =SUM(AL7:BP7) -> 0 | NU7: =SUM(BQ7:CU7) -> 0 | NV7: =SUM(CV7:DX7) -> 0 | NW7: =SUM(DY7:FC7) -> 0 | NX7: =SUM(FC7:GF7) -> 0 | NY7: =SUM(GH7:HL7) -> 0 | NZ7: =SUM(HM7:IP7) -> 0 | OA7: =SUM(IQ7:JU7) -> 0 | OB7: =SUM(JV7:KZ7) -> 0 | OC7: =SUM(LA7:MD7) -> 0 | OD7: =SUM(NR7:OC7) -> 100 | OE7: =+OD7-NN7 -> 0 | OF7: =SUM(NS7:NX7) -> 0 | OG7: =SUM(NR7,NY7:OC7) -> 100 | OH7: =SUM(OF7:OG7) -> 100 | OI7: =+OH7-NN7 -> 0
A8: 10/10/2023 | B8: 21/10/2023 | C8: 28/10/2023 | D8: 7 | E8: 100 | F8: =B8+0 -> 45220 | G8: =C8-1 -> 45226 | H8: =IFERROR(IF(AND(H$3>=$F8,H$3<=$G8),1,"0")*$E8/$D8,0) -> 0 | I8: =IFERROR(IF(AND(I$3>=$F8,I$3<=$G8),1,"0")*$E8/$D8,0) -> 0 | J8: =IFERROR(IF(AND(J$3>=$F8,J$3<=$G8),1,"0")*$E8/$D8,0) -> 0 | K8: =IFERROR(IF(AND(K$3>=$F8,K$3<=$G8),1,"0")*$E8/$D8,0) -> 0 | L8: =IFERROR(IF(AND(L$3>=$F8,L$3<=$G8),1,"0")*$E8/$D8,0) -> 0 | M8: =IFERROR(IF(AND(M$3>=$F8,M$3<=$G8),1,"0")*$E8/$D8,0) -> 0 | N8: =IFERROR(IF(AND(N$3>=$F8,N$3<=$G8),1,"0")*$E8/$D8,0) -> 0 | O8: =IFERROR(IF(AND(O$3>=$F8,O$3<=$G8),1,"0")*$E8/$D8,0) -> 0 | ... NM8: =IFERROR(IF(AND(NM$3>=$F8,NM$3<=$G8),1,"0")*$E8/$D8,0) -> 0 | NN8: =SUM(H8:NM8) -> 100 | NO8: =+NN8-E8 -> 0 | NR8: =SUM(ME8:NI8) -> 100 | NS8: =SUM(H8:AK8) -> 0 | NT8: =SUM(AL8:BP8) -> 0 | NU8: =SUM(BQ8:CU8) -> 0 | NV8: =SUM(CV8:DX8) -> 0 | NW8: =SUM(DY8:FC8) -> 0 | NX8: =SUM(FC8:GF8) -> 0 | NY8: =SUM(GH8:HL8) -> 0 | NZ8: =SUM(HM8:IP8) -> 0 | OA8: =SUM(IQ8:JU8) -> 0 | OB8: =SUM(JV8:KZ8) -> 0 | OC8: =SUM(LA8:MD8) -> 0 | OD8: =SUM(NR8:OC8) -> 100 | OE8: =+OD8-NN8 -> 0 | OF8: =SUM(NS8:NX8) -> 0 | OG8: =SUM(NR8,NY8:OC8) -> 100 | OH8: =SUM(OF8:OG8) -> 100 | OI8: =+OH8-NN8 -> 0
A9: 09/10/2023 | B9: 13/10/2023 | C9: 15/10/2023 | D9: 2 | E9: 100 | F9: =B9+0 -> 45212 | G9: =C9-1 -> 45213 | H9: =IFERROR(IF(AND(H$3>=$F9,H$3<=$G9),1,"0")*$E9/$D9,0) -> 0 | I9: =IFERROR(IF(AND(I$3>=$F9,I$3<=$G9),1,"0")*$E9/$D9,0) -> 0 | J9: =IFERROR(IF(AND(J$3>=$F9,J$3<=$G9),1,"0")*$E9/$D9,0) -> 0 | K9: =IFERROR(IF(AND(K$3>=$F9,K$3<=$G9),1,"0")*$E9/$D9,0) -> 0 | L9: =IFERROR(IF(AND(L$3>=$F9,L$3<=$G9),1,"0")*$E9/$D9,0) -> 0 | M9: =IFERROR(IF(AND(M$3>=$F9,M$3<=$G9),1,"0")*$E9/$D9,0) -> 0 | N9: =IFERROR(IF(AND(N$3>=$F9,N$3<=$G9),1,"0")*$E9/$D9,0) -> 0 | O9: =IFERROR(IF(AND(O$3>=$F9,O$3<=$G9),1,"0")*$E9/$D9,0) -> 0 | ... NM9: =IFERROR(IF(AND(NM$3>=$F9,NM$3<=$G9),1,"0")*$E9/$D9,0) -> 0 | NN9: =SUM(H9:NM9) -> 100 | NO9: =+NN9-E9 -> 0 | NR9: =SUM(ME9:NI9) -> 100 | NS9: =SUM(H9:AK9) -> 0 | NT9: =SUM(AL9:BP9) -> 0 | NU9: =SUM(BQ9:CU9) -> 0 | NV9: =SUM(CV9:DX9) -> 0 | NW9: =SUM(DY9:FC9) -> 0 | NX9: =SUM(FC9:GF9) -> 0 | NY9: =SUM(GH9:HL9) -> 0 | NZ9: =SUM(HM9:IP9) -> 0 | OA9: =SUM(IQ9:JU9) -> 0 | OB9: =SUM(JV9:KZ9) -> 0 | OC9: =SUM(LA9:MD9) -> 0 | OD9: =SUM(NR9:OC9) -> 100 | OE9: =+OD9-NN9 -> 0 | OF9: =SUM(NS9:NX9) -> 0 | OG9: =SUM(NR9,NY9:OC9) -> 100 | OH9: =SUM(OF9:OG9) -> 100 | OI9: =+OH9-NN9 -> 0
A10: 09/10/2023 | B10: 10/10/2023 | C10: 12/10/2023 | D10: 2 | E10: 100 | F10: =B10+0 -> 45209 | G10: =C10-1 -> 45210 | H10: =IFERROR(IF(AND(H$3>=$F10,H$3<=$G10),1,"0")*$E10/$D10,0) -> 0 | I10: =IFERROR(IF(AND(I$3>=$F10,I$3<=$G10),1,"0")*$E10/$D10,0) -> 0 | J10: =IFERROR(IF(AND(J$3>=$F10,J$3<=$G10),1,"0")*$E10/$D10,0) -> 0 | K10: =IFERROR(IF(AND(K$3>=$F10,K$3<=$G10),1,"0")*$E10/$D10,0) -> 0 | L10: =IFERROR(IF(AND(L$3>=$F10,L$3<=$G10),1,"0")*$E10/$D10,0) -> 0 | M10: =IFERROR(IF(AND(M$3>=$F10,M$3<=$G10),1,"0")*$E10/$D10,0) -> 0 | N10: =IFERROR(IF(AND(N$3>=$F10,N$3<=$G10),1,"0")*$E10/$D10,0) -> 0 | O10: =IFERROR(IF(AND(O$3>=$F10,O$3<=$G10),1,"0")*$E10/$D10,0) -> 0 | ... NM10: =IFERROR(IF(AND(NM$3>=$F10,NM$3<=$G10),1,"0")*$E10/$D10,0) -> 0 | NN10: =SUM(H10:NM10) -> 100 | NO10: =+NN10-E10 -> 0 | NR10: =SUM(ME10:NI10) -> 100 | NS10: =SUM(H10:AK10) -> 0 | NT10: =SUM(AL10:BP10) -> 0 | NU10: =SUM(BQ10:CU10) -> 0 | NV10: =SUM(CV10:DX10) -> 0 | NW10: =SUM(DY10:FC10) -> 0 | NX10: =SUM(FC10:GF10) -> 0 | NY10: =SUM(GH10:HL10) -> 0 | NZ10: =SUM(HM10:IP10) -> 0 | OA10: =SUM(IQ10:JU10) -> 0 | OB10: =SUM(JV10:KZ10) -> 0 | OC10: =SUM(LA10:MD10) -> 0 | OD10: =SUM(NR10:OC10) -> 100 | OE10: =+OD10-NN10 -> 0 | OF10: =SUM(NS10:NX10) -> 0 | OG10: =SUM(NR10,NY10:OC10) -> 100 | OH10: =SUM(OF10:OG10) -> 100 | OI10: =+OH10-NN10 -> 0
A11: 09/10/2023 | B11: 13/10/2023 | C11: 15/10/2023 | D11: 2 | E11: 100 | F11: =B11+0 -> 45212 | G11: =C11-1 -> 45213 | H11: =IFERROR(IF(AND(H$3>=$F11,H$3<=$G11),1,"0")*$E11/$D11,0) -> 0 | I11: =IFERROR(IF(AND(I$3>=$F11,I$3<=$G11),1,"0")*$E11/$D11,0) -> 0 | J11: =IFERROR(IF(AND(J$3>=$F11,J$3<=$G11),1,"0")*$E11/$D11,0) -> 0 | K11: =IFERROR(IF(AND(K$3>=$F11,K$3<=$G11),1,"0")*$E11/$D11,0) -> 0 | L11: =IFERROR(IF(AND(L$3>=$F11,L$3<=$G11),1,"0")*$E11/$D11,0) -> 0 | M11: =IFERROR(IF(AND(M$3>=$F11,M$3<=$G11),1,"0")*$E11/$D11,0) -> 0 | N11: =IFERROR(IF(AND(N$3>=$F11,N$3<=$G11),1,"0")*$E11/$D11,0) -> 0 | O11: =IFERROR(IF(AND(O$3>=$F11,O$3<=$G11),1,"0")*$E11/$D11,0) -> 0 | ... NM11: =IFERROR(IF(AND(NM$3>=$F11,NM$3<=$G11),1,"0")*$E11/$D11,0) -> 0 | NN11: =SUM(H11:NM11) -> 100 | NO11: =+NN11-E11 -> 0 | NR11: =SUM(ME11:NI11) -> 100 | NS11: =SUM(H11:AK11) -> 0 | NT11: =SUM(AL11:BP11) -> 0 | NU11: =SUM(BQ11:CU11) -> 0 | NV11: =SUM(CV11:DX11) -> 0 | NW11: =SUM(DY11:FC11) -> 0 | NX11: =SUM(FC11:GF11) -> 0 | NY11: =SUM(GH11:HL11) -> 0 | NZ11: =SUM(HM11:IP11) -> 0 | OA11: =SUM(IQ11:JU11) -> 0 | OB11: =SUM(JV11:KZ11) -> 0 | OC11: =SUM(LA11:MD11) -> 0 | OD11: =SUM(NR11:OC11) -> 100 | OE11: =+OD11-NN11 -> 0 | OF11: =SUM(NS11:NX11) -> 0 | OG11: =SUM(NR11,NY11:OC11) -> 100 | OH11: =SUM(OF11:OG11) -> 100 | OI11: =+OH11-NN11 -> 0
A12: 08/10/2023 | B12: 17/10/2023 | C12: 19/10/2023 | D12: 2 | E12: 100 | F12: =B12+0 -> 45216 | G12: =C12-1 -> 45217 | H12: =IFERROR(IF(AND(H$3>=$F12,H$3<=$G12),1,"0")*$E12/$D12,0) -> 0 | I12: =IFERROR(IF(AND(I$3>=$F12,I$3<=$G12),1,"0")*$E12/$D12,0) -> 0 | J12: =IFERROR(IF(AND(J$3>=$F12,J$3<=$G12),1,"0")*$E12/$D12,0) -> 0 | K12: =IFERROR(IF(AND(K$3>=$F12,K$3<=$G12),1,"0")*$E12/$D12,0) -> 0 | L12: =IFERROR(IF(AND(L$3>=$F12,L$3<=$G12),1,"0")*$E12/$D12,0) -> 0 | M12: =IFERROR(IF(AND(M$3>=$F12,M$3<=$G12),1,"0")*$E12/$D12,0) -> 0 | N12: =IFERROR(IF(AND(N$3>=$F12,N$3<=$G12),1,"0")*$E12/$D12,0) -> 0 | O12: =IFERROR(IF(AND(O$3>=$F12,O$3<=$G12),1,"0")*$E12/$D12,0) -> 0 | ... NM12: =IFERROR(IF(AND(NM$3>=$F12,NM$3<=$G12),1,"0")*$E12/$D12,0) -> 0 | NN12: =SUM(H12:NM12) -> 100 | NO12: =+NN12-E12 -> 0 | NR12: =SUM(ME12:NI12) -> 100 | NS12: =SUM(H12:AK12) -> 0 | NT12: =SUM(AL12:BP12) -> 0 | NU12: =SUM(BQ12:CU12) -> 0 | NV12: =SUM(CV12:DX12) -> 0 | NW12: =SUM(DY12:FC12) -> 0 | NX12: =SUM(FC12:GF12) -> 0 | NY12: =SUM(GH12:HL12) -> 0 | NZ12: =SUM(HM12:IP12) -> 0 | OA12: =SUM(IQ12:JU12) -> 0 | OB12: =SUM(JV12:KZ12) -> 0 | OC12: =SUM(LA12:MD12) -> 0 | OD12: =SUM(NR12:OC12) -> 100 | OE12: =+OD12-NN12 -> 0 | OF12: =SUM(NS12:NX12) -> 0 | OG12: =SUM(NR12,NY12:OC12) -> 100 | OH12: =SUM(OF12:OG12) -> 100 | OI12: =+OH12-NN12 -> 0
A13: 08/10/2023 | B13: 10/10/2023 | C13: 12/10/2023 | D13: 2 | E13: 100 | F13: =B13+0 -> 45209 | G13: =C13-1 -> 45210 | H13: =IFERROR(IF(AND(H$3>=$F13,H$3<=$G13),1,"0")*$E13/$D13,0) -> 0 | I13: =IFERROR(IF(AND(I$3>=$F13,I$3<=$G13),1,"0")*$E13/$D13,0) -> 0 | J13: =IFERROR(IF(AND(J$3>=$F13,J$3<=$G13),1,"0")*$E13/$D13,0) -> 0 | K13: =IFERROR(IF(AND(K$3>=$F13,K$3<=$G13),1,"0")*$E13/$D13,0) -> 0 | L13: =IFERROR(IF(AND(L$3>=$F13,L$3<=$G13),1,"0")*$E13/$D13,0) -> 0 | M13: =IFERROR(IF(AND(M$3>=$F13,M$3<=$G13),1,"0")*$E13/$D13,0) -> 0 | N13: =IFERROR(IF(AND(N$3>=$F13,N$3<=$G13),1,"0")*$E13/$D13,0) -> 0 | O13: =IFERROR(IF(AND(O$3>=$F13,O$3<=$G13),1,"0")*$E13/$D13,0) -> 0 | ... NM13: =IFERROR(IF(AND(NM$3>=$F13,NM$3<=$G13),1,"0")*$E13/$D13,0) -> 0 | NN13: =SUM(H13:NM13) -> 100 | NO13: =+NN13-E13 -> 0 | NR13: =SUM(ME13:NI13) -> 100 | NS13: =SUM(H13:AK13) -> 0 | NT13: =SUM(AL13:BP13) -> 0 | NU13: =SUM(BQ13:CU13) -> 0 | NV13: =SUM(CV13:DX13) -> 0 | NW13: =SUM(DY13:FC13) -> 0 | NX13: =SUM(FC13:GF13) -> 0 | NY13: =SUM(GH13:HL13) -> 0 | NZ13: =SUM(HM13:IP13) -> 0 | OA13: =SUM(IQ13:JU13) -> 0 | OB13: =SUM(JV13:KZ13) -> 0 | OC13: =SUM(LA13:MD13) -> 0 | OD13: =SUM(NR13:OC13) -> 100 | OE13: =+OD13-NN13 -> 0 | OF13: =SUM(NS13:NX13) -> 0 | OG13: =SUM(NR13,NY13:OC13) -> 100 | OH13: =SUM(OF13:OG13) -> 100 | OI13: =+OH13-NN13 -> 0
A14: 06/10/2023 | B14: 20/10/2023 | C14: 22/10/2023 | D14: 2 | E14: 100 | F14: =B14+0 -> 45219 | G14: =C14-1 -> 45220 | H14: =IFERROR(IF(AND(H$3>=$F14,H$3<=$G14),1,"0")*$E14/$D14,0) -> 0 | I14: =IFERROR(IF(AND(I$3>=$F14,I$3<=$G14),1,"0")*$E14/$D14,0) -> 0 | J14: =IFERROR(IF(AND(J$3>=$F14,J$3<=$G14),1,"0")*$E14/$D14,0) -> 0 | K14: =IFERROR(IF(AND(K$3>=$F14,K$3<=$G14),1,"0")*$E14/$D14,0) -> 0 | L14: =IFERROR(IF(AND(L$3>=$F14,L$3<=$G14),1,"0")*$E14/$D14,0) -> 0 | M14: =IFERROR(IF(AND(M$3>=$F14,M$3<=$G14),1,"0")*$E14/$D14,0) -> 0 | N14: =IFERROR(IF(AND(N$3>=$F14,N$3<=$G14),1,"0")*$E14/$D14,0) -> 0 | O14: =IFERROR(IF(AND(O$3>=$F14,O$3<=$G14),1,"0")*$E14/$D14,0) -> 0 | ... NM14: =IFERROR(IF(AND(NM$3>=$F14,NM$3<=$G14),1,"0")*$E14/$D14,0) -> 0 | NN14: =SUM(H14:NM14) -> 100 | NO14: =+NN14-E14 -> 0 | NR14: =SUM(ME14:NI14) -> 100 | NS14: =SUM(H14:AK14) -> 0 | NT14: =SUM(AL14:BP14) -> 0 | NU14: =SUM(BQ14:CU14) -> 0 | NV14: =SUM(CV14:DX14) -> 0 | NW14: =SUM(DY14:FC14) -> 0 | NX14: =SUM(FC14:GF14) -> 0 | NY14: =SUM(GH14:HL14) -> 0 | NZ14: =SUM(HM14:IP14) -> 0 | OA14: =SUM(IQ14:JU14) -> 0 | OB14: =SUM(JV14:KZ14) -> 0 | OC14: =SUM(LA14:MD14) -> 0 | OD14: =SUM(NR14:OC14) -> 100 | OE14: =+OD14-NN14 -> 0 | OF14: =SUM(NS14:NX14) -> 0 | OG14: =SUM(NR14,NY14:OC14) -> 100 | OH14: =SUM(OF14:OG14) -> 100 | OI14: =+OH14-NN14 -> 0
A15: 05/10/2023 | B15: 07/10/2023 | C15: 09/10/2023 | D15: 2 | E15: 100 | F15: =B15+0 -> 45206 | G15: =C15-1 -> 45207 | H15: =IFERROR(IF(AND(H$3>=$F15,H$3<=$G15),1,"0")*$E15/$D15,0) -> 0 | I15: =IFERROR(IF(AND(I$3>=$F15,I$3<=$G15),1,"0")*$E15/$D15,0) -> 0 | J15: =IFERROR(IF(AND(J$3>=$F15,J$3<=$G15),1,"0")*$E15/$D15,0) -> 0 | K15: =IFERROR(IF(AND(K$3>=$F15,K$3<=$G15),1,"0")*$E15/$D15,0) -> 0 | L15: =IFERROR(IF(AND(L$3>=$F15,L$3<=$G15),1,"0")*$E15/$D15,0) -> 0 | M15: =IFERROR(IF(AND(M$3>=$F15,M$3<=$G15),1,"0")*$E15/$D15,0) -> 0 | N15: =IFERROR(IF(AND(N$3>=$F15,N$3<=$G15),1,"0")*$E15/$D15,0) -> 0 | O15: =IFERROR(IF(AND(O$3>=$F15,O$3<=$G15),1,"0")*$E15/$D15,0) -> 0 | ... NM15: =IFERROR(IF(AND(NM$3>=$F15,NM$3<=$G15),1,"0")*$E15/$D15,0) -> 0 | NN15: =SUM(H15:NM15) -> 100 | NO15: =+NN15-E15 -> 0 | NR15: =SUM(ME15:NI15) -> 100 | NS15: =SUM(H15:AK15) -> 0 | NT15: =SUM(AL15:BP15) -> 0 | NU15: =SUM(BQ15:CU15) -> 0 | NV15: =SUM(CV15:DX15) -> 0 | NW15: =SUM(DY15:FC15) -> 0 | NX15: =SUM(FC15:GF15) -> 0 | NY15: =SUM(GH15:HL15) -> 0 | NZ15: =SUM(HM15:IP15) -> 0 | OA15: =SUM(IQ15:JU15) -> 0 | OB15: =SUM(JV15:KZ15) -> 0 | OC15: =SUM(LA15:MD15) -> 0 | OD15: =SUM(NR15:OC15) -> 100 | OE15: =+OD15-NN15 -> 0 | OF15: =SUM(NS15:NX15) -> 0 | OG15: =SUM(NR15,NY15:OC15) -> 100 | OH15: =SUM(OF15:OG15) -> 100 | OI15: =+OH15-NN15 -> 0
A16: 04/10/2023 | B16: 27/10/2023 | C16: 04/11/2023 | D16: 8 | E16: 100 | F16: =B16+0 -> 45226 | G16: =C16-1 -> 45233 | H16: =IFERROR(IF(AND(H$3>=$F16,H$3<=$G16),1,"0")*$E16/$D16,0) -> 0 | I16: =IFERROR(IF(AND(I$3>=$F16,I$3<=$G16),1,"0")*$E16/$D16,0) -> 0 | J16: =IFERROR(IF(AND(J$3>=$F16,J$3<=$G16),1,"0")*$E16/$D16,0) -> 0 | K16: =IFERROR(IF(AND(K$3>=$F16,K$3<=$G16),1,"0")*$E16/$D16,0) -> 0 | L16: =IFERROR(IF(AND(L$3>=$F16,L$3<=$G16),1,"0")*$E16/$D16,0) -> 0 | M16: =IFERROR(IF(AND(M$3>=$F16,M$3<=$G16),1,"0")*$E16/$D16,0) -> 0 | N16: =IFERROR(IF(AND(N$3>=$F16,N$3<=$G16),1,"0")*$E16/$D16,0) -> 0 | O16: =IFERROR(IF(AND(O$3>=$F16,O$3<=$G16),1,"0")*$E16/$D16,0) -> 0 | ... NM16: =IFERROR(IF(AND(NM$3>=$F16,NM$3<=$G16),1,"0")*$E16/$D16,0) -> 0 | NN16: =SUM(H16:NM16) -> 100 | NO16: =+NN16-E16 -> 0 | NR16: =SUM(ME16:NI16) -> 75 | NS16: =SUM(H16:AK16) -> 0 | NT16: =SUM(AL16:BP16) -> 0 | NU16: =SUM(BQ16:CU16) -> 0 | NV16: =SUM(CV16:DX16) -> 0 | NW16: =SUM(DY16:FC16) -> 0 | NX16: =SUM(FC16:GF16) -> 0 | NY16: =SUM(GH16:HL16) -> 0 | NZ16: =SUM(HM16:IP16) -> 0 | OA16: =SUM(IQ16:JU16) -> 0 | OB16: =SUM(JV16:KZ16) -> 0 | OC16: =SUM(LA16:MD16) -> 0 | OD16: =SUM(NR16:OC16) -> 75 | OE16: =+OD16-NN16 -> -25 | OF16: =SUM(NS16:NX16) -> 0 | OG16: =SUM(NR16,NY16:OC16) -> 75 | OH16: =SUM(OF16:OG16) -> 75 | OI16: =+OH16-NN16 -> -25
A17: 03/10/2023 | B17: 13/10/2023 | C17: 15/10/2023 | D17: 2 | E17: 100 | F17: =B17+0 -> 45212 | G17: =C17-1 -> 45213 | H17: =IFERROR(IF(AND(H$3>=$F17,H$3<=$G17),1,"0")*$E17/$D17,0) -> 0 | I17: =IFERROR(IF(AND(I$3>=$F17,I$3<=$G17),1,"0")*$E17/$D17,0) -> 0 | J17: =IFERROR(IF(AND(J$3>=$F17,J$3<=$G17),1,"0")*$E17/$D17,0) -> 0 | K17: =IFERROR(IF(AND(K$3>=$F17,K$3<=$G17),1,"0")*$E17/$D17,0) -> 0 | L17: =IFERROR(IF(AND(L$3>=$F17,L$3<=$G17),1,"0")*$E17/$D17,0) -> 0 | M17: =IFERROR(IF(AND(M$3>=$F17,M$3<=$G17),1,"0")*$E17/$D17,0) -> 0 | N17: =IFERROR(IF(AND(N$3>=$F17,N$3<=$G17),1,"0")*$E17/$D17,0) -> 0 | O17: =IFERROR(IF(AND(O$3>=$F17,O$3<=$G17),1,"0")*$E17/$D17,0) -> 0 | ... NM17: =IFERROR(IF(AND(NM$3>=$F17,NM$3<=$G17),1,"0")*$E17/$D17,0) -> 0 | NN17: =SUM(H17:NM17) -> 100 | NO17: =+NN17-E17 -> 0 | NR17: =SUM(ME17:NI17) -> 100 | NS17: =SUM(H17:AK17) -> 0 | NT17: =SUM(AL17:BP17) -> 0 | NU17: =SUM(BQ17:CU17) -> 0 | NV17: =SUM(CV17:DX17) -> 0 | NW17: =SUM(DY17:FC17) -> 0 | NX17: =SUM(FC17:GF17) -> 0 | NY17: =SUM(GH17:HL17) -> 0 | NZ17: =SUM(HM17:IP17) -> 0 | OA17: =SUM(IQ17:JU17) -> 0 | OB17: =SUM(JV17:KZ17) -> 0 | OC17: =SUM(LA17:MD17) -> 0 | OD17: =SUM(NR17:OC17) -> 100 | OE17: =+OD17-NN17 -> 0 | OF17: =SUM(NS17:NX17) -> 0 | OG17: =SUM(NR17,NY17:OC17) -> 100 | OH17: =SUM(OF17:OG17) -> 100 | OI17: =+OH17-NN17 -> 0
... A32: 27/09/2023 | B32: 02/10/2023 | C32: 06/10/2023 | D32: 4 | E32: 100 | F32: =B32+0 -> 45201 | G32: =C32-1 -> 45204 | H32: =IFERROR(IF(AND(H$3>=$F32,H$3<=$G32),1,"0")*$E32/$D32,0) -> 0 | I32: =IFERROR(IF(AND(I$3>=$F32,I$3<=$G32),1,"0")*$E32/$D32,0) -> 0 | J32: =IFERROR(IF(AND(J$3>=$F32,J$3<=$G32),1,"0")*$E32/$D32,0) -> 0 | K32: =IFERROR(IF(AND(K$3>=$F32,K$3<=$G32),1,"0")*$E32/$D32,0) -> 0 | L32: =IFERROR(IF(AND(L$3>=$F32,L$3<=$G32),1,"0")*$E32/$D32,0) -> 0 | M32: =IFERROR(IF(AND(M$3>=$F32,M$3<=$G32),1,"0")*$E32/$D32,0) -> 0 | N32: =IFERROR(IF(AND(N$3>=$F32,N$3<=$G32),1,"0")*$E32/$D32,0) -> 0 | O32: =IFERROR(IF(AND(O$3>=$F32,O$3<=$G32),1,"0")*$E32/$D32,0) -> 0 | ... NM32: =IFERROR(IF(AND(NM$3>=$F32,NM$3<=$G32),1,"0")*$E32/$D32,0) -> 0 | NN32: =SUM(H32:NM32) -> 100 | NO32: =+NN32-E32 -> 0 | NR32: =SUM(ME32:NI32) -> 100 | NS32: =SUM(H32:AK32) -> 0 | NT32: =SUM(AL32:BP32) -> 0 | NU32: =SUM(BQ32:CU32) -> 0 | NV32: =SUM(CV32:DX32) -> 0 | NW32: =SUM(DY32:FC32) -> 0 | NX32: =SUM(FC32:GF32) -> 0 | NY32: =SUM(GH32:HL32) -> 0 | NZ32: =SUM(HM32:IP32) -> 0 | OA32: =SUM(IQ32:JU32) -> 0 | OB32: =SUM(JV32:KZ32) -> 0 | OC32: =SUM(LA32:MD32) -> 0 | OD32: =SUM(NR32:OC32) -> 100 | OE32: =+OD32-NN32 -> 0 | OF32: =SUM(NS32:NX32) -> 0 | OG32: =SUM(NR32,NY32:OC32) -> 100 | OH32: =SUM(OF32:OG32) -> 100 | OI32: =+OH32-NN32 -> 0
