Workbook
Name DateJ: #REF!
Name DateN_1: #REF!
Name DebutN: #REF!
Name DebutN_1: #REF!
Name ETAB: [1]Paramètres!#REF!
Name ETAB: [1]Paramètres!#REF!
Name ETAB: [2]Paramètres!#REF!
Name FinN: #REF!
Name FinN_1: #REF!
Name Prestations: '[1]Prestas gestion'!#REF!
Name Prestations: '[1]Prestas gestion'!#REF!
Name Prestations: '[2]Prestas gestion'!#REF!
Name Produit_exclu: [1]Paramètres!#REF!
Name Produit_exclu: [1]Paramètres!#REF!
Name Produit_exclu: [2]Paramètres!#REF!
Name Rubrique: [1]Paramètres!#REF!
Name Rubrique: [1]Paramètres!#REF!
Name Rubrique: [2]Paramètres!#REF!

Sheet Semaine
A1: Date N-1 | B1: =D1-364 -> 45036 | C1: Date | D1: =TODAY() -> 45400
A2: Date | B2: N°Sem | C2: CA HEB Brut HT
C3: N | D3: N-1 | E3: N VS N-1
A4: 45199 | B4: 40 | C4: {=SUMPRODUCT((BDD!$H$1:$NC$1=Semaine!B4)*(BDD!$H$4:$NC$375))} -> 0 | D4: {=SUMPRODUCT(('BDD N-1'!H1:ND1=Semaine!B4)*('BDD N-1'!$A$4:$A$32<=$B$1)*('BDD N-1'!$H$4:$NM$32))} -> #N/A
A5: 45206 | B5: 41 | C5: {=SUMPRODUCT((BDD!$H$1:$NC$1=Semaine!B5)*(BDD!$H$4:$NC$375))} -> 0 | D5: {=SUMPRODUCT(('BDD N-1'!H2:ND2=Semaine!B5)*('BDD N-1'!$A$4:$A$32<=$B$1)*('BDD N-1'!$H$4:$NM$32))} -> #N/A
A6: 45213 | B6: 42 | C6: {=SUMPRODUCT((BDD!$H$1:$NC$1=Semaine!B6)*(BDD!$H$4:$NC$375))} -> 0 | D6: {=SUMPRODUCT(('BDD N-1'!H3:ND3=Semaine!B6)*('BDD N-1'!$A$4:$A$32<=$B$1)*('BDD N-1'!$H$4:$NM$32))} -> #N/A
A7: 45220 | B7: 43 | C7: {=SUMPRODUCT((BDD!$H$1:$NC$1=Semaine!B7)*(BDD!$H$4:$NC$375))} -> 0 | D7: {=SUMPRODUCT(('BDD N-1'!H4:ND4=Semaine!B7)*('BDD N-1'!$A$4:$A$32<=$B$1)*('BDD N-1'!$H$4:$NM$32))} -> #N/A
A8: 45227 | B8: 44 | C8: {=SUMPRODUCT((BDD!$H$1:$NC$1=Semaine!B8)*(BDD!$H$4:$NC$375))} -> 0 | D8: {=SUMPRODUCT(('BDD N-1'!H5:ND5=Semaine!B8)*('BDD N-1'!$A$4:$A$32<=$B$1)*('BDD N-1'!$H$4:$NM$32))} -> #N/A
A9: 45234 | B9: 45 | C9: {=SUMPRODUCT((BDD!$H$1:$NC$1=Semaine!B9)*(BDD!$H$4:$NC$375))} -> 0 | D9: {=SUMPRODUCT(('BDD N-1'!H6:ND6=Semaine!B9)*('BDD N-1'!$A$4:$A$32<=$B$1)*('BDD N-1'!$H$4:$NM$32))} -> #N/A
A10: 45241 | B10: 46 | C10: {=SUMPRODUCT((BDD!$H$1:$NC$1=Semaine!B10)*(BDD!$H$4:$NC$375))} -> 0 | D10: {=SUMPRODUCT(('BDD N-1'!H7:ND7=Semaine!B10)*('BDD N-1'!$A$4:$A$32<=$B$1)*('BDD N-1'!$H$4:$NM$32))} -> #N/A
A11: 45248 | B11: 47 | C11: {=SUMPRODUCT((BDD!$H$1:$NC$1=Semaine!B11)*(BDD!$H$4:$NC$375))} -> 0 | D11: {=SUMPRODUCT(('BDD N-1'!H8:ND8=Semaine!B11)*('BDD N-1'!$A$4:$A$32<=$B$1)*('BDD N-1'!$H$4:$NM$32))} -> #N/A
A12: 45255 | B12: 48 | C12: {=SUMPRODUCT((BDD!$H$1:$NC$1=Semaine!B12)*(BDD!$H$4:$NC$375))} -> 0 | D12: {=SUMPRODUCT(('BDD N-1'!H9:ND9=Semaine!B12)*('BDD N-1'!$A$4:$A$32<=$B$1)*('BDD N-1'!$H$4:$NM$32))} -> #N/A
A13: 45262 | B13: 49 | C13: {=SUMPRODUCT((BDD!$H$1:$NC$1=Semaine!B13)*(BDD!$H$4:$NC$375))} -> 0 | D13: {=SUMPRODUCT(('BDD N-1'!H10:ND10=Semaine!B13)*('BDD N-1'!$A$4:$A$32<=$B$1)*('BDD N-1'!$H$4:$NM$32))} -> #N/A
A14: 45269 | B14: 50 | C14: {=SUMPRODUCT((BDD!$H$1:$NC$1=Semaine!B14)*(BDD!$H$4:$NC$375))} -> 0 | D14: {=SUMPRODUCT(('BDD N-1'!H11:ND11=Semaine!B14)*('BDD N-1'!$A$4:$A$32<=$B$1)*('BDD N-1'!$H$4:$NM$32))} -> #N/A
A15: 45276 | B15: 51 | C15: {=SUMPRODUCT((BDD!$H$1:$NC$1=Semaine!B15)*(BDD!$H$4:$NC$375))} -> 0 | D15: {=SUMPRODUCT(('BDD N-1'!H12:ND12=Semaine!B15)*('BDD N-1'!$A$4:$A$32<=$B$1)*('BDD N-1'!$H$4:$NM$32))} -> #N/A
... A55: 45556 | B55: 39 | C55: {=SUMPRODUCT((BDD!$H$1:$NC$1=Semaine!B55)*(BDD!$H$4:$NC$375))} -> 0 | D55: {=SUMPRODUCT(('BDD N-1'!H52:ND52=Semaine!B55)*('BDD N-1'!$A$4:$A$32<=$B$1)*('BDD N-1'!$H$4:$NM$32))} -> #N/A
A56: TOTAL | B56: 0

Sheet Synthèse Logements
J1: Date de MAJ | L1: 45064 | N1: Pick up : | O1: =D18-#REF! -> #REF! | P1: =L1-#REF! -> #REF! | Q1: jour
B3: GLOBAL Mois | M3: GLOBAL Destination
C4: Mois | D4: CA NET TTC | E4: Var | F4: TO | G4: Var | H4: PM | I4: Var | J4: RevPar | K4: Var | N4: Destination | O4: CA NET TTC | P4: Var | Q4: TO | R4: Var | S4: PM | T4: Var | U4: RevPar | V4: Var
B5: 2023 | H5: =IF(D5=0,"",AVERAGEIFS(#REF!,#REF!,'Synthèse Logements'!C5,#REF!,'Synthèse Logements'!$B$5)) | J5: =IF(D5=0,"",AVERAGEIFS(#REF!,#REF!,'Synthèse Logements'!C5,#REF!,'Synthèse Logements'!$B$5)) | M5: 2023
C6: Décembre | D6: =SUMIFS(#REF!,#REF!,'Synthèse Logements'!C6,#REF!,'Synthèse Logements'!$B$5) -> #REF! | E6: =D6-#REF! -> #REF! | F6: =IF(D6=0,"",AVERAGEIFS(#REF!,#REF!,'Synthèse Logements'!C6,#REF!,'Synthèse Logements'!$B$5)) -> #REF! | G6: =IFERROR(F6/#REF!-1,"") | H6: =IF(D6=0,"",AVERAGEIFS(#REF!,#REF!,'Synthèse Logements'!C6,#REF!,'Synthèse Logements'!$B$5)) -> #REF! | I6: =IFERROR(H6-#REF!,"") | J6: =IF(D6=0,"",AVERAGEIFS(#REF!,#REF!,'Synthèse Logements'!C6,#REF!,'Synthèse Logements'!$B$5)) -> #REF! | K6: =IFERROR(J6-#REF!,"") | N6: Saint Sorlin | O6: =SUMIFS(#REF!,#REF!,'Synthèse Logements'!N6,#REF!,'Synthèse Logements'!$M$5) -> #REF! | Q6: =AVERAGEIFS(#REF!,#REF!,'Synthèse Logements'!N6,#REF!,'Synthèse Logements'!$M$5) -> #REF! | R6: =IFERROR(Q6/#REF!-1,"") | S6: =AVERAGEIFS(#REF!,#REF!,'Synthèse Logements'!N6,#REF!,'Synthèse Logements'!$M$5) -> #REF! | U6: =AVERAGEIFS(#REF!,#REF!,'Synthèse Logements'!N6,#REF!,'Synthèse Logements'!$M$5) -> #REF!
C7: Janvier | D7: =SUMIFS(#REF!,#REF!,'Synthèse Logements'!C7,#REF!,'Synthèse Logements'!$B$5) -> #REF! | E7: =D7-#REF! -> #REF! | F7: =IF(D7=0,"",AVERAGEIFS(#REF!,#REF!,'Synthèse Logements'!C7,#REF!,'Synthèse Logements'!$B$5)) -> #REF! | G7: =IFERROR(F7/#REF!-1,"") | H7: =IF(D7=0,"",AVERAGEIFS(#REF!,#REF!,'Synthèse Logements'!C7,#REF!,'Synthèse Logements'!$B$5)) -> #REF! | I7: =IFERROR(H7-#REF!,"") | J7: =IF(D7=0,"",AVERAGEIFS(#REF!,#REF!,'Synthèse Logements'!C7,#REF!,'Synthèse Logements'!$B$5)) -> #REF! | K7: =IFERROR(J7-#REF!,"") | N7: Morillon | O7: =SUMIFS(#REF!,#REF!,'Synthèse Logements'!N7,#REF!,'Synthèse Logements'!$M$5) -> #REF! | Q7: =AVERAGEIFS(#REF!,#REF!,'Synthèse Logements'!N7,#REF!,'Synthèse Logements'!$M$5) -> #REF! | R7: =IFERROR(Q7/#REF!-1,"") | S7: =AVERAGEIFS(#REF!,#REF!,'Synthèse Logements'!N7,#REF!,'Synthèse Logements'!$M$5) -> #REF! | U7: =AVERAGEIFS(#REF!,#REF!,'Synthèse Logements'!N7,#REF!,'Synthèse Logements'!$M$5) -> #REF!
C8: Février | D8: =SUMIFS(#REF!,#REF!,'Synthèse Logements'!C8,#REF!,'Synthèse Logements'!$B$5) -> #REF! | E8: =D8-#REF! -> #REF! | F8: =IF(D8=0,"",AVERAGEIFS(#REF!,#REF!,'Synthèse Logements'!C8,#REF!,'Synthèse Logements'!$B$5)) -> #REF! | G8: =IFERROR(F8/#REF!-1,"") | H8: =IF(D8=0,"",AVERAGEIFS(#REF!,#REF!,'Synthèse Logements'!C8,#REF!,'Synthèse Logements'!$B$5)) -> #REF! | I8: =IFERROR(H8-#REF!,"") | J8: =IF(D8=0,"",AVERAGEIFS(#REF!,#REF!,'Synthèse Logements'!C8,#REF!,'Synthèse Logements'!$B$5)) -> #REF! | K8: =IFERROR(J8-#REF!,"") | N8: Orcieres | O8: =SUMIFS(#REF!,#REF!,'Synthèse Logements'!N8,#REF!,'Synthèse Logements'!$M$5) -> #REF! | Q8: =AVERAGEIFS(#REF!,#REF!,'Synthèse Logements'!N8,#REF!,'Synthèse Logements'!$M$5) -> #REF! | R8: =IFERROR(Q8/#REF!-1,"") | S8: =AVERAGEIFS(#REF!,#REF!,'Synthèse Logements'!N8,#REF!,'Synthèse Logements'!$M$5) -> #REF! | U8: =AVERAGEIFS(#REF!,#REF!,'Synthèse Logements'!N8,#REF!,'Synthèse Logements'!$M$5) -> #REF!
C9: Mars | D9: =SUMIFS(#REF!,#REF!,'Synthèse Logements'!C9,#REF!,'Synthèse Logements'!$B$5) -> #REF! | E9: =D9-#REF! -> #REF! | F9: =IF(D9=0,"",AVERAGEIFS(#REF!,#REF!,'Synthèse Logements'!C9,#REF!,'Synthèse Logements'!$B$5)) -> #REF! | G9: =IFERROR(F9/#REF!-1,"") | H9: =IF(D9=0,"",AVERAGEIFS(#REF!,#REF!,'Synthèse Logements'!C9,#REF!,'Synthèse Logements'!$B$5)) -> #REF! | I9: =IFERROR(H9-#REF!,"") | J9: =IF(D9=0,"",AVERAGEIFS(#REF!,#REF!,'Synthèse Logements'!C9,#REF!,'Synthèse Logements'!$B$5)) -> #REF! | K9: =IFERROR(J9-#REF!,"") | N9: La Foux | O9: =SUMIFS(#REF!,#REF!,'Synthèse Logements'!N9,#REF!,'Synthèse Logements'!$M$5) -> #REF! | Q9: =AVERAGEIFS(#REF!,#REF!,'Synthèse Logements'!N9,#REF!,'Synthèse Logements'!$M$5) -> #REF! | R9: =IFERROR(Q9/#REF!-1,"") | S9: =AVERAGEIFS(#REF!,#REF!,'Synthèse Logements'!N9,#REF!,'Synthèse Logements'!$M$5) -> #REF! | U9: =AVERAGEIFS(#REF!,#REF!,'Synthèse Logements'!N9,#REF!,'Synthèse Logements'!$M$5) -> #REF!
C10: Avril | D10: =SUMIFS(#REF!,#REF!,'Synthèse Logements'!C10,#REF!,'Synthèse Logements'!$B$5) -> #REF! | E10: =D10-#REF! -> #REF! | F10: =IF(D10=0,"",AVERAGEIFS(#REF!,#REF!,'Synthèse Logements'!C10,#REF!,'Synthèse Logements'!$B$5)) -> #REF! | G10: =IFERROR(F10/#REF!-1,"") | H10: =IF(D10=0,"",AVERAGEIFS(#REF!,#REF!,'Synthèse Logements'!C10,#REF!,'Synthèse Logements'!$B$5)) -> #REF! | I10: =IFERROR(H10-#REF!,"") | J10: =IF(D10=0,"",AVERAGEIFS(#REF!,#REF!,'Synthèse Logements'!C10,#REF!,'Synthèse Logements'!$B$5)) -> #REF! | K10: =IFERROR(J10-#REF!,"") | N10: Doucy | O10: =SUMIFS(#REF!,#REF!,'Synthèse Logements'!N10,#REF!,'Synthèse Logements'!$M$5) -> #REF! | Q10: =AVERAGEIFS(#REF!,#REF!,'Synthèse Logements'!N10,#REF!,'Synthèse Logements'!$M$5) -> #REF! | R10: =IFERROR(Q10/#REF!-1,"") | S10: =AVERAGEIFS(#REF!,#REF!,'Synthèse Logements'!N10,#REF!,'Synthèse Logements'!$M$5) -> #REF! | U10: =AVERAGEIFS(#REF!,#REF!,'Synthèse Logements'!N10,#REF!,'Synthèse Logements'!$M$5) -> #REF!
C11: Mai | D11: =SUMIFS(#REF!,#REF!,'Synthèse Logements'!C11,#REF!,'Synthèse Logements'!$B$5) -> #REF! | E11: =D11-#REF! -> #REF! | F11: =IF(D11=0,"",AVERAGEIFS(#REF!,#REF!,'Synthèse Logements'!C11,#REF!,'Synthèse Logements'!$B$5)) -> #REF! | G11: =IFERROR(F11/#REF!-1,"") | H11: =IF(D11=0,"",AVERAGEIFS(#REF!,#REF!,'Synthèse Logements'!C11,#REF!,'Synthèse Logements'!$B$5)) -> #REF! | I11: =IFERROR(H11-#REF!,"") | J11: =IF(D11=0,"",AVERAGEIFS(#REF!,#REF!,'Synthèse Logements'!C11,#REF!,'Synthèse Logements'!$B$5)) -> #REF! | K11: =IFERROR(J11-#REF!,"") | N11: Cagnes-sur-mer | O11: =SUMIFS(#REF!,#REF!,'Synthèse Logements'!N11,#REF!,'Synthèse Logements'!$M$5) -> #REF! | Q11: =AVERAGEIFS(#REF!,#REF!,'Synthèse Logements'!N11,#REF!,'Synthèse Logements'!$M$5) -> #REF! | R11: =IFERROR(Q11/#REF!-1,"") | S11: =AVERAGEIFS(#REF!,#REF!,'Synthèse Logements'!N11,#REF!,'Synthèse Logements'!$M$5) -> #REF! | U11: =AVERAGEIFS(#REF!,#REF!,'Synthèse Logements'!N11,#REF!,'Synthèse Logements'!$M$5) -> #REF!
C12: Juin | D12: =SUMIFS(#REF!,#REF!,'Synthèse Logements'!C12,#REF!,'Synthèse Logements'!$B$5) -> #REF! | E12: =D12-#REF! -> #REF! | F12: =IF(D12=0,"",AVERAGEIFS(#REF!,#REF!,'Synthèse Logements'!C12,#REF!,'Synthèse Logements'!$B$5)) -> #REF! | G12: =IFERROR(F12/#REF!-1,"") | H12: =IF(D12=0,"",AVERAGEIFS(#REF!,#REF!,'Synthèse Logements'!C12,#REF!,'Synthèse Logements'!$B$5)) -> #REF! | I12: =IFERROR(H12-#REF!,"") | J12: =IF(D12=0,"",AVERAGEIFS(#REF!,#REF!,'Synthèse Logements'!C12,#REF!,'Synthèse Logements'!$B$5)) -> #REF! | K12: =IFERROR(J12-#REF!,"") | N12: Agde | O12: =SUMIFS(#REF!,#REF!,'Synthèse Logements'!N12,#REF!,'Synthèse Logements'!$M$5) -> #REF! | Q12: =AVERAGEIFS(#REF!,#REF!,'Synthèse Logements'!N12,#REF!,'Synthèse Logements'!$M$5) -> #REF! | R12: =IFERROR(Q12/#REF!-1,"") | S12: =AVERAGEIFS(#REF!,#REF!,'Synthèse Logements'!N12,#REF!,'Synthèse Logements'!$M$5) -> #REF! | U12: =AVERAGEIFS(#REF!,#REF!,'Synthèse Logements'!N12,#REF!,'Synthèse Logements'!$M$5) -> #REF!
C13: Juillet | D13: =SUMIFS(#REF!,#REF!,'Synthèse Logements'!C13,#REF!,'Synthèse Logements'!$B$5) -> #REF! | E13: =D13-#REF! -> #REF! | F13: =IF(D13=0,"",AVERAGEIFS(#REF!,#REF!,'Synthèse Logements'!C13,#REF!,'Synthèse Logements'!$B$5)) -> #REF! | G13: =IFERROR(F13/#REF!-1,"") | H13: =IF(D13=0,"",AVERAGEIFS(#REF!,#REF!,'Synthèse Logements'!C13,#REF!,'Synthèse Logements'!$B$5)) -> #REF! | I13: =IFERROR(H13-#REF!,"") | J13: =IF(D13=0,"",AVERAGEIFS(#REF!,#REF!,'Synthèse Logements'!C13,#REF!,'Synthèse Logements'!$B$5)) -> #REF! | K13: =IFERROR(J13-#REF!,"") | R13: =IFERROR(Q13/#REF!-1,"")
C14: Août | D14: =SUMIFS(#REF!,#REF!,'Synthèse Logements'!C14,#REF!,'Synthèse Logements'!$B$5) -> #REF! | E14: =D14-#REF! -> #REF! | F14: =IF(D14=0,"",AVERAGEIFS(#REF!,#REF!,'Synthèse Logements'!C14,#REF!,'Synthèse Logements'!$B$5)) -> #REF! | G14: =IFERROR(F14/#REF!-1,"") | H14: =IF(D14=0,"",AVERAGEIFS(#REF!,#REF!,'Synthèse Logements'!C14,#REF!,'Synthèse Logements'!$B$5)) -> #REF! | I14: =IFERROR(H14-#REF!,"") | J14: =IF(D14=0,"",AVERAGEIFS(#REF!,#REF!,'Synthèse Logements'!C14,#REF!,'Synthèse Logements'!$B$5)) -> #REF! | K14: =IFERROR(J14-#REF!,"") | R14: =IFERROR(Q14/#REF!-1,"")
C15: Septembre | D15: =SUMIFS(#REF!,#REF!,'Synthèse Logements'!C15,#REF!,'Synthèse Logements'!$B$5) -> #REF! | E15: =D15-#REF! -> #REF! | F15: =IF(D15=0,"",AVERAGEIFS(#REF!,#REF!,'Synthèse Logements'!C15,#REF!,'Synthèse Logements'!$B$5)) -> #REF! | G15: =IFERROR(F15/#REF!-1,"") | H15: =IF(D15=0,"",AVERAGEIFS(#REF!,#REF!,'Synthèse Logements'!C15,#REF!,'Synthèse Logements'!$B$5)) -> #REF! | I15: =IFERROR(H15-#REF!,"") | J15: =IF(D15=0,"",AVERAGEIFS(#REF!,#REF!,'Synthèse Logements'!C15,#REF!,'Synthèse Logements'!$B$5)) -> #REF! | K15: =IFERROR(J15-#REF!,"") | R15: =IFERROR(Q15/#REF!-1,"")
C16: Octobre | D16: =SUMIFS(#REF!,#REF!,'Synthèse Logements'!C16,#REF!,'Synthèse Logements'!$B$5) -> #REF! | E16: =D16-#REF! -> #REF! | F16: =IF(D16=0,"",AVERAGEIFS(#REF!,#REF!,'Synthèse Logements'!C16,#REF!,'Synthèse Logements'!$B$5)) -> #REF! | G16: =IFERROR(F16/#REF!-1,"") | H16: =IF(D16=0,"",AVERAGEIFS(#REF!,#REF!,'Synthèse Logements'!C16,#REF!,'Synthèse Logements'!$B$5)) -> #REF! | I16: =IFERROR(H16-#REF!,"") | J16: =IF(D16=0,"",AVERAGEIFS(#REF!,#REF!,'Synthèse Logements'!C16,#REF!,'Synthèse Logements'!$B$5)) -> #REF! | K16: =IFERROR(J16-#REF!,"") | R16: =IFERROR(Q16/#REF!-1,"")
C17: Novembre | D17: =SUMIFS(#REF!,#REF!,'Synthèse Logements'!C17,#REF!,'Synthèse Logements'!$B$5) -> #REF! | E17: =D17-#REF! -> #REF! | F17: =IF(D17=0,"",AVERAGEIFS(#REF!,#REF!,'Synthèse Logements'!C17,#REF!,'Synthèse Logements'!$B$5)) -> #REF! | G17: =IFERROR((F17-#REF!)/#REF!,"") | H17: =IF(D17=0,"",AVERAGEIFS(#REF!,#REF!,'Synthèse Logements'!C17,#REF!,'Synthèse Logements'!$B$5)) -> #REF! | I17: =IFERROR(H17-#REF!,"") | J17: =IF(D17=0,"",AVERAGEIFS(#REF!,#REF!,'Synthèse Logements'!C17,#REF!,'Synthèse Logements'!$B$5)) -> #REF! | K17: =IFERROR(J17-#REF!,"") | R17: =IFERROR(Q17/#REF!-1,"")
C18: Total | D18: =SUM(D6:D17) -> #REF! | F18: =IF(C18=0,"",AVERAGEIFS(#REF!,#REF!,'Synthèse Logements'!$B$5)) -> #REF! | H18: =IF(D18=0,"",AVERAGEIFS(#REF!,#REF!,'Synthèse Logements'!$B$5)) -> #REF! | J18: =F18*H18 -> #REF! | N18: Total | O18: =SUM(O6:O17) -> #REF! | Q18: =IF(N18=0,"",AVERAGEIFS(#REF!,#REF!,'Synthèse Logements'!$M$5)) -> #REF! | S18: =IF(O18=0,"",AVERAGEIFS(#REF!,#REF!,'Synthèse Logements'!$M$5)) -> #REF! | U18: =Q18*S18 -> #REF!
B20: Montagne | M20: Mer
C21: Mois | D21: CA NET TTC | E21: Var | F21: TO | G21: Var | H21: PM | I21: Var | J21: RevPar | K21: Var | N21: Mois | O21: CA NET TTC | P21: Var | Q21: TO | R21: Var | S21: PM | T21: Var | U21: RevPar | V21: Var
B22: 2023 | H22: =IF(D22=0,"",AVERAGEIFS(#REF!,#REF!,'Synthèse Logements'!C22,#REF!,'Synthèse Logements'!$B$22,#REF!,'Synthèse Logements'!$B$20)) | J22: =IF(D22=0,"",AVERAGEIFS(#REF!,#REF!,'Synthèse Logements'!C22,#REF!,'Synthèse Logements'!$B$22,#REF!,'Synthèse Logements'!$B$20)) | M22: 2023 | Q22: =IF(O22=0,"",(AVERAGEIFS(#REF!,#REF!,'Synthèse Logements'!N22,#REF!,'Synthèse Logements'!$M$22,#REF!,'Synthèse Logements'!$M$20))) | S22: =IF(O22=0,"",(AVERAGEIFS(#REF!,#REF!,'Synthèse Logements'!N22,#REF!,'Synthèse Logements'!$M$22,#REF!,'Synthèse Logements'!$M$20,#REF!,'Synthèse Logements'!$M$20))) | U22: =IF(O22=0,"",(AVERAGEIFS(#REF!,#REF!,'Synthèse Logements'!N22,#REF!,'Synthèse Logements'!$M$22,#REF!,'Synthèse Logements'!$M$20,#REF!,'Synthèse Logements'!$M$20,#REF!,'Synthèse Logements'!$M$20)))
C23: Décembre | D23: =SUMIFS(#REF!,#REF!,'Synthèse Logements'!C23,#REF!,'Synthèse Logements'!$B$22,#REF!,'Synthèse Logements'!$B$20) -> #REF! | E23: =D23-#REF! -> #REF! | F23: =IF(D23=0,"",AVERAGEIFS(#REF!,#REF!,'Synthèse Logements'!C23,#REF!,'Synthèse Logements'!$B$22,#REF!,'Synthèse Logements'!$B$20)) -> #REF! | G23: =IFERROR(F23/#REF!-1,"") | H23: =IF(D23=0,"",AVERAGEIFS(#REF!,#REF!,'Synthèse Logements'!C23,#REF!,'Synthèse Logements'!$B$22,#REF!,'Synthèse Logements'!$B$20)) -> #REF! | I23: =IFERROR(H23-#REF!,"") | J23: =IF(D23=0,"",AVERAGEIFS(#REF!,#REF!,'Synthèse Logements'!C23,#REF!,'Synthèse Logements'!$B$22,#REF!,'Synthèse Logements'!$B$20)) -> #REF! | K23: =IFERROR(J23-#REF!,"") | N23: Décembre | O23: =SUMIFS(#REF!,#REF!,'Synthèse Logements'!N23,#REF!,'Synthèse Logements'!$M$22,#REF!,'Synthèse Logements'!$M$20) -> #REF! | P23: =O23-#REF! -> #REF! | Q23: =IF(O23=0,"",(AVERAGEIFS(#REF!,#REF!,'Synthèse Logements'!N23,#REF!,'Synthèse Logements'!$M$22,#REF!,'Synthèse Logements'!$M$20))) -> #REF! | R23: =IFERROR(Q23/#REF!-1,"") | S23: =IF(O23=0,"",(AVERAGEIFS(#REF!,#REF!,'Synthèse Logements'!N23,#REF!,'Synthèse Logements'!$M$22,#REF!,'Synthèse Logements'!$M$20,#REF!,'Synthèse Logements'!$M$20))) -> #REF! | T23: =IFERROR(S23-#REF!,"") | U23: =IF(O23=0,"",(AVERAGEIFS(#REF!,#REF!,'Synthèse Logements'!N23,#REF!,'Synthèse Logements'!$M$22,#REF!,'Synthèse Logements'!$M$20,#REF!,'Synthèse Logements'!$M$20,#REF!,'Synthèse Logements'!$M$20))) -> #REF! | V23: =IFERROR(U23-#REF!,"")
C24: Janvier | D24: =SUMIFS(#REF!,#REF!,'Synthèse Logements'!C24,#REF!,'Synthèse Logements'!$B$22,#REF!,'Synthèse Logements'!$B$20) -> #REF! | E24: =D24-#REF! -> #REF! | F24: =IF(D24=0,"",AVERAGEIFS(#REF!,#REF!,'Synthèse Logements'!C24,#REF!,'Synthèse Logements'!$B$22,#REF!,'Synthèse Logements'!$B$20)) -> #REF! | G24: =IFERROR(F24/#REF!-1,"") | H24: =IF(D24=0,"",AVERAGEIFS(#REF!,#REF!,'Synthèse Logements'!C24,#REF!,'Synthèse Logements'!$B$22,#REF!,'Synthèse Logements'!$B$20)) -> #REF! | I24: =IFERROR(H24-#REF!,"") | J24: =IF(D24=0,"",AVERAGEIFS(#REF!,#REF!,'Synthèse Logements'!C24,#REF!,'Synthèse Logements'!$B$22,#REF!,'Synthèse Logements'!$B$20)) -> #REF! | K24: =IFERROR(J24-#REF!,"") | N24: Janvier | O24: =SUMIFS(#REF!,#REF!,'Synthèse Logements'!N24,#REF!,'Synthèse Logements'!$M$22,#REF!,'Synthèse Logements'!$M$20) -> #REF! | P24: =O24-#REF! -> #REF! | Q24: =IF(O24=0,"",(AVERAGEIFS(#REF!,#REF!,'Synthèse Logements'!N24,#REF!,'Synthèse Logements'!$M$22,#REF!,'Synthèse Logements'!$M$20))) -> #REF! | R24: =IFERROR(Q24/#REF!-1,"") | S24: =IF(O24=0,"",(AVERAGEIFS(#REF!,#REF!,'Synthèse Logements'!N24,#REF!,'Synthèse Logements'!$M$22,#REF!,'Synthèse Logements'!$M$20,#REF!,'Synthèse Logements'!$M$20))) -> #REF! | T24: =IFERROR(S24-#REF!,"") | U24: =IF(O24=0,"",(AVERAGEIFS(#REF!,#REF!,'Synthèse Logements'!N24,#REF!,'Synthèse Logements'!$M$22,#REF!,'Synthèse Logements'!$M$20,#REF!,'Synthèse Logements'!$M$20,#REF!,'Synthèse Logements'!$M$20))) -> #REF! | V24: =IFERROR(U24-#REF!,"")
C25: Février | D25: =SUMIFS(#REF!,#REF!,'Synthèse Logements'!C25,#REF!,'Synthèse Logements'!$B$22,#REF!,'Synthèse Logements'!$B$20) -> #REF! | E25: =D25-#REF! -> #REF! | F25: =IF(D25=0,"",AVERAGEIFS(#REF!,#REF!,'Synthèse Logements'!C25,#REF!,'Synthèse Logements'!$B$22,#REF!,'Synthèse Logements'!$B$20)) -> #REF! | G25: =IFERROR(F25/#REF!-1,"") | H25: =IF(D25=0,"",AVERAGEIFS(#REF!,#REF!,'Synthèse Logements'!C25,#REF!,'Synthèse Logements'!$B$22,#REF!,'Synthèse Logements'!$B$20)) -> #REF! | I25: =IFERROR(H25-#REF!,"") | J25: =IF(D25=0,"",AVERAGEIFS(#REF!,#REF!,'Synthèse Logements'!C25,#REF!,'Synthèse Logements'!$B$22,#REF!,'Synthèse Logements'!$B$20)) -> #REF! | K25: =IFERROR(J25-#REF!,"") | N25: Février | O25: =SUMIFS(#REF!,#REF!,'Synthèse Logements'!N25,#REF!,'Synthèse Logements'!$M$22,#REF!,'Synthèse Logements'!$M$20) -> #REF! | P25: =O25-#REF! -> #REF! | Q25: =IF(O25=0,"",(AVERAGEIFS(#REF!,#REF!,'Synthèse Logements'!N25,#REF!,'Synthèse Logements'!$M$22,#REF!,'Synthèse Logements'!$M$20))) -> #REF! | R25: =IFERROR(Q25/#REF!-1,"") | S25: =IF(O25=0,"",(AVERAGEIFS(#REF!,#REF!,'Synthèse Logements'!N25,#REF!,'Synthèse Logements'!$M$22,#REF!,'Synthèse Logements'!$M$20,#REF!,'Synthèse Logements'!$M$20))) -> #REF! | T25: =IFERROR(S25-#REF!,"") | U25: =IF(O25=0,"",(AVERAGEIFS(#REF!,#REF!,'Synthèse Logements'!N25,#REF!,'Synthèse Logements'!$M$22,#REF!,'Synthèse Logements'!$M$20,#REF!,'Synthèse Logements'!$M$20,#REF!,'Synthèse Logements'!$M$20))) -> #REF! | V25: =IFERROR(U25-#REF!,"")
C26: Mars | D26: =SUMIFS(#REF!,#REF!,'Synthèse Logements'!C26,#REF!,'Synthèse Logements'!$B$22,#REF!,'Synthèse Logements'!$B$20) -> #REF! | E26: =D26-#REF! -> #REF! | F26: =IF(D26=0,"",AVERAGEIFS(#REF!,#REF!,'Synthèse Logements'!C26,#REF!,'Synthèse Logements'!$B$22,#REF!,'Synthèse Logements'!$B$20)) -> #REF! | G26: =IFERROR(F26/#REF!-1,"") | H26: =IF(D26=0,"",AVERAGEIFS(#REF!,#REF!,'Synthèse Logements'!C26,#REF!,'Synthèse Logements'!$B$22,#REF!,'Synthèse Logements'!$B$20)) -> #REF! | I26: =IFERROR(H26-#REF!,"") | J26: =IF(D26=0,"",AVERAGEIFS(#REF!,#REF!,'Synthèse Logements'!C26,#REF!,'Synthèse Logements'!$B$22,#REF!,'Synthèse Logements'!$B$20)) -> #REF! | K26: =IFERROR(J26-#REF!,"") | N26: Mars | O26: =SUMIFS(#REF!,#REF!,'Synthèse Logements'!N26,#REF!,'Synthèse Logements'!$M$22,#REF!,'Synthèse Logements'!$M$20) -> #REF! | P26: =O26-#REF! -> #REF! | Q26: =IF(O26=0,"",(AVERAGEIFS(#REF!,#REF!,'Synthèse Logements'!N26,#REF!,'Synthèse Logements'!$M$22,#REF!,'Synthèse Logements'!$M$20))) -> #REF! | R26: =IFERROR(Q26/#REF!-1,"") | S26: =IF(O26=0,"",(AVERAGEIFS(#REF!,#REF!,'Synthèse Logements'!N26,#REF!,'Synthèse Logements'!$M$22,#REF!,'Synthèse Logements'!$M$20,#REF!,'Synthèse Logements'!$M$20))) -> #REF! | T26: =IFERROR(S26-#REF!,"") | U26: =IF(O26=0,"",(AVERAGEIFS(#REF!,#REF!,'Synthèse Logements'!N26,#REF!,'Synthèse Logements'!$M$22,#REF!,'Synthèse Logements'!$M$20,#REF!,'Synthèse Logements'!$M$20,#REF!,'Synthèse Logements'!$M$20))) -> #REF! | V26: =IFERROR(U26-#REF!,"")
C27: Avril | D27: =SUMIFS(#REF!,#REF!,'Synthèse Logements'!C27,#REF!,'Synthèse Logements'!$B$22,#REF!,'Synthèse Logements'!$B$20) -> #REF! | E27: =D27-#REF! -> #REF! | F27: =IF(D27=0,"",AVERAGEIFS(#REF!,#REF!,'Synthèse Logements'!C27,#REF!,'Synthèse Logements'!$B$22,#REF!,'Synthèse Logements'!$B$20)) -> #REF! | G27: =IFERROR(F27/#REF!-1,"") | H27: =IF(D27=0,"",AVERAGEIFS(#REF!,#REF!,'Synthèse Logements'!C27,#REF!,'Synthèse Logements'!$B$22,#REF!,'Synthèse Logements'!$B$20)) -> #REF! | I27: =IFERROR(H27-#REF!,"") | J27: =IF(D27=0,"",AVERAGEIFS(#REF!,#REF!,'Synthèse Logements'!C27,#REF!,'Synthèse Logements'!$B$22,#REF!,'Synthèse Logements'!$B$20)) -> #REF! | K27: =IFERROR(J27-#REF!,"") | N27: Avril | O27: =SUMIFS(#REF!,#REF!,'Synthèse Logements'!N27,#REF!,'Synthèse Logements'!$M$22,#REF!,'Synthèse Logements'!$M$20) -> #REF! | P27: =O27-#REF! -> #REF! | Q27: =IF(O27=0,"",(AVERAGEIFS(#REF!,#REF!,'Synthèse Logements'!N27,#REF!,'Synthèse Logements'!$M$22,#REF!,'Synthèse Logements'!$M$20))) -> #REF! | R27: =IFERROR(Q27/#REF!-1,"") | S27: =IF(O27=0,"",(AVERAGEIFS(#REF!,#REF!,'Synthèse Logements'!N27,#REF!,'Synthèse Logements'!$M$22,#REF!,'Synthèse Logements'!$M$20,#REF!,'Synthèse Logements'!$M$20))) -> #REF! | T27: =IFERROR(S27-#REF!,"") | U27: =IF(O27=0,"",(AVERAGEIFS(#REF!,#REF!,'Synthèse Logements'!N27,#REF!,'Synthèse Logements'!$M$22,#REF!,'Synthèse Logements'!$M$20,#REF!,'Synthèse Logements'!$M$20,#REF!,'Synthèse Logements'!$M$20))) -> #REF! | V27: =IFERROR(U27-#REF!,"")
C28: Mai | D28: =SUMIFS(#REF!,#REF!,'Synthèse Logements'!C28,#REF!,'Synthèse Logements'!$B$22,#REF!,'Synthèse Logements'!$B$20) -> #REF! | E28: =D28-#REF! -> #REF! | F28: =IF(D28=0,"",AVERAGEIFS(#REF!,#REF!,'Synthèse Logements'!C28,#REF!,'Synthèse Logements'!$B$22,#REF!,'Synthèse Logements'!$B$20)) -> #REF! | G28: =IFERROR(F28/#REF!-1,"") | H28: =IF(D28=0,"",AVERAGEIFS(#REF!,#REF!,'Synthèse Logements'!C28,#REF!,'Synthèse Logements'!$B$22,#REF!,'Synthèse Logements'!$B$20)) -> #REF! | I28: =IFERROR(H28-#REF!,"") | J28: =IF(D28=0,"",AVERAGEIFS(#REF!,#REF!,'Synthèse Logements'!C28,#REF!,'Synthèse Logements'!$B$22,#REF!,'Synthèse Logements'!$B$20)) -> #REF! | K28: =IFERROR(J28-#REF!,"") | N28: Mai | O28: =SUMIFS(#REF!,#REF!,'Synthèse Logements'!N28,#REF!,'Synthèse Logements'!$M$22,#REF!,'Synthèse Logements'!$M$20) -> #REF! | P28: =O28-#REF! -> #REF! | Q28: =IF(O28=0,"",(AVERAGEIFS(#REF!,#REF!,'Synthèse Logements'!N28,#REF!,'Synthèse Logements'!$M$22,#REF!,'Synthèse Logements'!$M$20))) -> #REF! | R28: =IFERROR(Q28/#REF!-1,"") | S28: =IF(O28=0,"",(AVERAGEIFS(#REF!,#REF!,'Synthèse Logements'!N28,#REF!,'Synthèse Logements'!$M$22,#REF!,'Synthèse Logements'!$M$20,#REF!,'Synthèse Logements'!$M$20))) -> #REF! | T28: =IFERROR(S28-#REF!,"") | U28: =IF(O28=0,"",(AVERAGEIFS(#REF!,#REF!,'Synthèse Logements'!N28,#REF!,'Synthèse Logements'!$M$22,#REF!,'Synthèse Logements'!$M$20,#REF!,'Synthèse Logements'!$M$20,#REF!,'Synthèse Logements'!$M$20))) -> #REF! | V28: =IFERROR(U28-#REF!,"")
C29: Juin | D29: =SUMIFS(#REF!,#REF!,'Synthèse Logements'!C29,#REF!,'Synthèse Logements'!$B$22,#REF!,'Synthèse Logements'!$B$20) -> #REF! | E29: =D29-#REF! -> #REF! | F29: =IF(D29=0,"",AVERAGEIFS(#REF!,#REF!,'Synthèse Logements'!C29,#REF!,'Synthèse Logements'!$B$22,#REF!,'Synthèse Logements'!$B$20)) -> #REF! | G29: =IFERROR(F29/#REF!-1,"") | H29: =IF(D29=0,"",AVERAGEIFS(#REF!,#REF!,'Synthèse Logements'!C29,#REF!,'Synthèse Logements'!$B$22,#REF!,'Synthèse Logements'!$B$20)) -> #REF! | I29: =IFERROR(H29-#REF!,"") | J29: =IF(D29=0,"",AVERAGEIFS(#REF!,#REF!,'Synthèse Logements'!C29,#REF!,'Synthèse Logements'!$B$22,#REF!,'Synthèse Logements'!$B$20)) -> #REF! | K29: =IFERROR(J29-#REF!,"") | N29: Juin | O29: =SUMIFS(#REF!,#REF!,'Synthèse Logements'!N29,#REF!,'Synthèse Logements'!$M$22,#REF!,'Synthèse Logements'!$M$20) -> #REF! | P29: =O29-#REF! -> #REF! | Q29: =IF(O29=0,"",(AVERAGEIFS(#REF!,#REF!,'Synthèse Logements'!N29,#REF!,'Synthèse Logements'!$M$22,#REF!,'Synthèse Logements'!$M$20))) -> #REF! | R29: =IFERROR(Q29/#REF!-1,"") | S29: =IF(O29=0,"",(AVERAGEIFS(#REF!,#REF!,'Synthèse Logements'!N29,#REF!,'Synthèse Logements'!$M$22,#REF!,'Synthèse Logements'!$M$20,#REF!,'Synthèse Logements'!$M$20))) -> #REF! | T29: =IFERROR(S29-#REF!,"") | U29: =IF(O29=0,"",(AVERAGEIFS(#REF!,#REF!,'Synthèse Logements'!N29,#REF!,'Synthèse Logements'!$M$22,#REF!,'Synthèse Logements'!$M$20,#REF!,'Synthèse Logements'!$M$20,#REF!,'Synthèse Logements'!$M$20))) -> #REF! | V29: =IFERROR(U29-#REF!,"")
C30: Juillet | D30: =SUMIFS(#REF!,#REF!,'Synthèse Logements'!C30,#REF!,'Synthèse Logements'!$B$22,#REF!,'Synthèse Logements'!$B$20) -> #REF! | E30: =D30-#REF! -> #REF! | F30: =IF(D30=0,"",AVERAGEIFS(#REF!,#REF!,'Synthèse Logements'!C30,#REF!,'Synthèse Logements'!$B$22,#REF!,'Synthèse Logements'!$B$20)) -> #REF! | G30: =IFERROR(F30/#REF!-1,"") | H30: =IF(D30=0,"",AVERAGEIFS(#REF!,#REF!,'Synthèse Logements'!C30,#REF!,'Synthèse Logements'!$B$22,#REF!,'Synthèse Logements'!$B$20)) -> #REF! | I30: =IFERROR(H30-#REF!,"") | J30: =IF(D30=0,"",AVERAGEIFS(#REF!,#REF!,'Synthèse Logements'!C30,#REF!,'Synthèse Logements'!$B$22,#REF!,'Synthèse Logements'!$B$20)) -> #REF! | K30: =IFERROR(J30-#REF!,"") | N30: Juillet | O30: =SUMIFS(#REF!,#REF!,'Synthèse Logements'!N30,#REF!,'Synthèse Logements'!$M$22,#REF!,'Synthèse Logements'!$M$20) -> #REF! | P30: =O30-#REF! -> #REF! | Q30: =IF(O30=0,"",(AVERAGEIFS(#REF!,#REF!,'Synthèse Logements'!N30,#REF!,'Synthèse Logements'!$M$22,#REF!,'Synthèse Logements'!$M$20))) -> #REF! | R30: =IFERROR(Q30/#REF!-1,"") | S30: =IF(O30=0,"",(AVERAGEIFS(#REF!,#REF!,'Synthèse Logements'!N30,#REF!,'Synthèse Logements'!$M$22,#REF!,'Synthèse Logements'!$M$20,#REF!,'Synthèse Logements'!$M$20))) -> #REF! | T30: =IFERROR(S30-#REF!,"") | U30: =IF(O30=0,"",(AVERAGEIFS(#REF!,#REF!,'Synthèse Logements'!N30,#REF!,'Synthèse Logements'!$M$22,#REF!,'Synthèse Logements'!$M$20,#REF!,'Synthèse Logements'!$M$20,#REF!,'Synthèse Logements'!$M$20))) -> #REF! | V30: =IFERROR(U30-#REF!,"")
C31: Août | D31: =SUMIFS(#REF!,#REF!,'Synthèse Logements'!C31,#REF!,'Synthèse Logements'!$B$22,#REF!,'Synthèse Logements'!$B$20) -> #REF! | E31: =D31-#REF! -> #REF! | F31: =IF(D31=0,"",AVERAGEIFS(#REF!,#REF!,'Synthèse Logements'!C31,#REF!,'Synthèse Logements'!$B$22,#REF!,'Synthèse Logements'!$B$20)) -> #REF! | G31: =IFERROR(F31/#REF!-1,"") | H31: =IF(D31=0,"",AVERAGEIFS(#REF!,#REF!,'Synthèse Logements'!C31,#REF!,'Synthèse Logements'!$B$22,#REF!,'Synthèse Logements'!$B$20)) -> #REF! | I31: =IFERROR(H31-#REF!,"") | J31: =IF(D31=0,"",AVERAGEIFS(#REF!,#REF!,'Synthèse Logements'!C31,#REF!,'Synthèse Logements'!$B$22,#REF!,'Synthèse Logements'!$B$20)) -> #REF! | K31: =IFERROR(J31-#REF!,"") | N31: Août | O31: =SUMIFS(#REF!,#REF!,'Synthèse Logements'!N31,#REF!,'Synthèse Logements'!$M$22,#REF!,'Synthèse Logements'!$M$20) -> #REF! | P31: =O31-#REF! -> #REF! | Q31: =IF(O31=0,"",(AVERAGEIFS(#REF!,#REF!,'Synthèse Logements'!N31,#REF!,'Synthèse Logements'!$M$22,#REF!,'Synthèse Logements'!$M$20))) -> #REF! | R31: =IFERROR(Q31/#REF!-1,"") | S31: =IF(O31=0,"",(AVERAGEIFS(#REF!,#REF!,'Synthèse Logements'!N31,#REF!,'Synthèse Logements'!$M$22,#REF!,'Synthèse Logements'!$M$20,#REF!,'Synthèse Logements'!$M$20))) -> #REF! | T31: =IFERROR(S31-#REF!,"") | U31: =IF(O31=0,"",(AVERAGEIFS(#REF!,#REF!,'Synthèse Logements'!N31,#REF!,'Synthèse Logements'!$M$22,#REF!,'Synthèse Logements'!$M$20,#REF!,'Synthèse Logements'!$M$20,#REF!,'Synthèse Logements'!$M$20))) -> #REF! | V31: =IFERROR(U31-#REF!,"")
C32: Septembre | D32: =SUMIFS(#REF!,#REF!,'Synthèse Logements'!C32,#REF!,'Synthèse Logements'!$B$22,#REF!,'Synthèse Logements'!$B$20) -> #REF! | E32: =D32-#REF! -> #REF! | F32: =IF(D32=0,"",AVERAGEIFS(#REF!,#REF!,'Synthèse Logements'!C32,#REF!,'Synthèse Logements'!$B$22,#REF!,'Synthèse Logements'!$B$20)) -> #REF! | G32: =IFERROR(F32/#REF!-1,"") | H32: =IF(D32=0,"",AVERAGEIFS(#REF!,#REF!,'Synthèse Logements'!C32,#REF!,'Synthèse Logements'!$B$22,#REF!,'Synthèse Logements'!$B$20)) -> #REF! | I32: =IFERROR(H32-#REF!,"") | J32: =IF(D32=0,"",AVERAGEIFS(#REF!,#REF!,'Synthèse Logements'!C32,#REF!,'Synthèse Logements'!$B$22,#REF!,'Synthèse Logements'!$B$20)) -> #REF! | K32: =IFERROR(J32-#REF!,"") | N32: Septembre | O32: =SUMIFS(#REF!,#REF!,'Synthèse Logements'!N32,#REF!,'Synthèse Logements'!$M$22,#REF!,'Synthèse Logements'!$M$20) -> #REF! | P32: =O32-#REF! -> #REF! | Q32: =IF(O32=0,"",(AVERAGEIFS(#REF!,#REF!,'Synthèse Logements'!N32,#REF!,'Synthèse Logements'!$M$22,#REF!,'Synthèse Logements'!$M$20))) -> #REF! | R32: =IFERROR(Q32/#REF!-1,"") | S32: =IF(O32=0,"",(AVERAGEIFS(#REF!,#REF!,'Synthèse Logements'!N32,#REF!,'Synthèse Logements'!$M$22,#REF!,'Synthèse Logements'!$M$20,#REF!,'Synthèse Logements'!$M$20))) -> #REF! | T32: =IFERROR(S32-#REF!,"") | V32: =IFERROR(U32-#REF!,"")
C33: Octobre | D33: =SUMIFS(#REF!,#REF!,'Synthèse Logements'!C33,#REF!,'Synthèse Logements'!$B$22,#REF!,'Synthèse Logements'!$B$20) -> #REF! | E33: =D33-#REF! -> #REF! | F33: =IF(D33=0,"",AVERAGEIFS(#REF!,#REF!,'Synthèse Logements'!C33,#REF!,'Synthèse Logements'!$B$22,#REF!,'Synthèse Logements'!$B$20)) -> #REF! | G33: =IFERROR(F33/#REF!-1,"") | H33: =IF(D33=0,"",AVERAGEIFS(#REF!,#REF!,'Synthèse Logements'!C33,#REF!,'Synthèse Logements'!$B$22,#REF!,'Synthèse Logements'!$B$20)) -> #REF! | I33: =IFERROR(H33-#REF!,"") | J33: =IF(D33=0,"",AVERAGEIFS(#REF!,#REF!,'Synthèse Logements'!C33,#REF!,'Synthèse Logements'!$B$22,#REF!,'Synthèse Logements'!$B$20)) -> #REF! | K33: =IFERROR(J33-#REF!,"") | N33: Octobre | O33: =SUMIFS(#REF!,#REF!,'Synthèse Logements'!N33,#REF!,'Synthèse Logements'!$M$22,#REF!,'Synthèse Logements'!$M$20) -> #REF! | P33: =O33-#REF! -> #REF! | Q33: =IF(O33=0,"",(AVERAGEIFS(#REF!,#REF!,'Synthèse Logements'!N33,#REF!,'Synthèse Logements'!$M$22,#REF!,'Synthèse Logements'!$M$20))) -> #REF! | R33: =IFERROR(Q33/#REF!-1,"") | S33: =IF(O33=0,"",(AVERAGEIFS(#REF!,#REF!,'Synthèse Logements'!N33,#REF!,'Synthèse Logements'!$M$22,#REF!,'Synthèse Logements'!$M$20,#REF!,'Synthèse Logements'!$M$20))) -> #REF! | T33: =IFERROR(S33-#REF!,"") | U33: =IF(O33=0,"",(AVERAGEIFS(#REF!,#REF!,'Synthèse Logements'!N33,#REF!,'Synthèse Logements'!$M$22,#REF!,'Synthèse Logements'!$M$20,#REF!,'Synthèse Logements'!$M$20,#REF!,'Synthèse Logements'!$M$20))) -> #REF! | V33: =IFERROR(U33-#REF!,"")
C34: Novembre | D34: =SUMIFS(#REF!,#REF!,'Synthèse Logements'!C34,#REF!,'Synthèse Logements'!$B$22,#REF!,'Synthèse Logements'!$B$20) -> #REF! | E34: =D34-#REF! -> #REF! | F34: =IF(D34=0,"",AVERAGEIFS(#REF!,#REF!,'Synthèse Logements'!C34,#REF!,'Synthèse Logements'!$B$22,#REF!,'Synthèse Logements'!$B$20)) -> #REF! | G34: =IFERROR(F34/#REF!-1,"") | H34: =IF(D34=0,"",AVERAGEIFS(#REF!,#REF!,'Synthèse Logements'!C34,#REF!,'Synthèse Logements'!$B$22,#REF!,'Synthèse Logements'!$B$20)) -> #REF! | I34: =IFERROR(H34-#REF!,"") | J34: =IF(D34=0,"",AVERAGEIFS(#REF!,#REF!,'Synthèse Logements'!C34,#REF!,'Synthèse Logements'!$B$22,#REF!,'Synthèse Logements'!$B$20)) -> #REF! | K34: =IFERROR(J34-#REF!,"") | N34: Novembre | O34: =SUMIFS(#REF!,#REF!,'Synthèse Logements'!N34,#REF!,'Synthèse Logements'!$M$22,#REF!,'Synthèse Logements'!$M$20) -> #REF! | P34: =O34-#REF! -> #REF! | Q34: =IF(O34=0,"",(AVERAGEIFS(#REF!,#REF!,'Synthèse Logements'!N34,#REF!,'Synthèse Logements'!$M$22,#REF!,'Synthèse Logements'!$M$20))) -> #REF! | R34: =IFERROR(Q34/#REF!-1,"") | S34: =IF(O34=0,"",(AVERAGEIFS(#REF!,#REF!,'Synthèse Logements'!N34,#REF!,'Synthèse Logements'!$M$22,#REF!,'Synthèse Logements'!$M$20,#REF!,'Synthèse Logements'!$M$20))) -> #REF! | T34: =IFERROR(S34-#REF!,"") | U34: =IF(O34=0,"",(AVERAGEIFS(#REF!,#REF!,'Synthèse Logements'!N34,#REF!,'Synthèse Logements'!$M$22,#REF!,'Synthèse Logements'!$M$20,#REF!,'Synthèse Logements'!$M$20,#REF!,'Synthèse Logements'!$M$20))) -> #REF! | V34: =IFERROR(U34-#REF!,"")
C35: Total | D35: =SUM(D23:D34) -> #REF! | F35: =IF(C35=0,"",AVERAGEIFS(#REF!,#REF!,'Synthèse Logements'!$B$22,#REF!,'Synthèse Logements'!$B$20)) -> #REF! | H35: =AVERAGE(H23:H30) -> #REF! | J35: =AVERAGE(J23:J34) -> #REF! | N35: Total | O35: =SUM(O23:O34) -> #REF! | Q35: =IF(N35=0,"",AVERAGEIFS(#REF!,#REF!,'Synthèse Logements'!$M$22,#REF!,'Synthèse Logements'!$M$20)) -> #REF! | S35: =AVERAGE(S27:S32) -> #REF! | U35: =AVERAGE(U23:U34) -> #REF!
B37: Liste déroulante Orcières | M37: Liste déroulante Agde
C38: Mois | D38: CA NET TTC | E38: % | F38: TO | G38: Var | H38: PM | I38: Var | J38: RevPar | K38: Var | N38: Mois | O38: CA NET TTC | P38: Var | Q38: TO | R38: Var | S38: PM | T38: Var | U38: RevPar | V38: Var
B39: 2023 | H39: =IF(D39=0,"",AVERAGEIFS(#REF!,#REF!,'Synthèse Logements'!C39,#REF!,'Synthèse Logements'!$B$22,#REF!,'Synthèse Logements'!$B$20)) | J39: =IF(D39=0,"",AVERAGEIFS(#REF!,#REF!,'Synthèse Logements'!C39,#REF!,'Synthèse Logements'!$B$22,#REF!,'Synthèse Logements'!$B$20)) | M39: 2023 | S39: =IF(O39=0,"",AVERAGEIFS(#REF!,#REF!,'Synthèse Logements'!N39,#REF!,'Synthèse Logements'!$B$22,#REF!,'Synthèse Logements'!$B$20)) | U39: =IF(O39=0,"",AVERAGEIFS(#REF!,#REF!,'Synthèse Logements'!N39,#REF!,'Synthèse Logements'!$B$22,#REF!,'Synthèse Logements'!$B$20))
C40: Décembre | D40: =SUMIFS(#REF!,#REF!,'Synthèse Logements'!C40,#REF!,'Synthèse Logements'!$B$39,#REF!,'Synthèse Logements'!$B$37) -> #REF! | E40: =IFERROR(D40/#REF!,"") | F40: =IF(D40=0,"",AVERAGEIFS(#REF!,#REF!,'Synthèse Logements'!C40,#REF!,'Synthèse Logements'!$B$39,#REF!,'Synthèse Logements'!$B$37)) -> #REF! | H40: =IF(D40=0,"",AVERAGEIFS(#REF!,#REF!,'Synthèse Logements'!C40,#REF!,'Synthèse Logements'!$B$39,#REF!,'Synthèse Logements'!$B$37)) -> #REF! | J40: =IF(D40=0,"",AVERAGEIFS(#REF!,#REF!,'Synthèse Logements'!C40,#REF!,'Synthèse Logements'!$B$39,#REF!,'Synthèse Logements'!$B$37)) -> #REF! | N40: Décembre | O40: =SUMIFS(#REF!,#REF!,'Synthèse Logements'!N40,#REF!,'Synthèse Logements'!$M$39,#REF!,'Synthèse Logements'!$M$37) -> #REF! | P40: =IFERROR(O40/#REF!,"") | Q40: =IF(O40=0,"",AVERAGEIFS(#REF!,#REF!,'Synthèse Logements'!N40,#REF!,'Synthèse Logements'!$M$39,#REF!,'Synthèse Logements'!$M$37)) -> #REF! | S40: =IF(O40=0,"",AVERAGEIFS(#REF!,#REF!,'Synthèse Logements'!N40,#REF!,'Synthèse Logements'!$M$39,#REF!,'Synthèse Logements'!$M$37)) -> #REF! | U40: =IF(O40=0,"",AVERAGEIFS(#REF!,#REF!,'Synthèse Logements'!N40,#REF!,'Synthèse Logements'!$M$39,#REF!,'Synthèse Logements'!$M$37)) -> #REF!
C41: Janvier | D41: =SUMIFS(#REF!,#REF!,'Synthèse Logements'!C41,#REF!,'Synthèse Logements'!$B$39,#REF!,'Synthèse Logements'!$B$37) -> #REF! | E41: =IFERROR(D41/#REF!,"") | F41: =IF(D41=0,"",AVERAGEIFS(#REF!,#REF!,'Synthèse Logements'!C41,#REF!,'Synthèse Logements'!$B$39,#REF!,'Synthèse Logements'!$B$37)) -> #REF! | H41: =IF(D41=0,"",AVERAGEIFS(#REF!,#REF!,'Synthèse Logements'!C41,#REF!,'Synthèse Logements'!$B$39,#REF!,'Synthèse Logements'!$B$37)) -> #REF! | J41: =IF(D41=0,"",AVERAGEIFS(#REF!,#REF!,'Synthèse Logements'!C41,#REF!,'Synthèse Logements'!$B$39,#REF!,'Synthèse Logements'!$B$37)) -> #REF! | N41: Janvier | O41: =SUMIFS(#REF!,#REF!,'Synthèse Logements'!N41,#REF!,'Synthèse Logements'!$M$39,#REF!,'Synthèse Logements'!$M$37) -> #REF! | P41: =IFERROR(O41/#REF!,"") | Q41: =IF(O41=0,"",AVERAGEIFS(#REF!,#REF!,'Synthèse Logements'!N41,#REF!,'Synthèse Logements'!$M$39,#REF!,'Synthèse Logements'!$M$37)) -> #REF! | S41: =IF(O41=0,"",AVERAGEIFS(#REF!,#REF!,'Synthèse Logements'!N41,#REF!,'Synthèse Logements'!$M$39,#REF!,'Synthèse Logements'!$M$37)) -> #REF! | U41: =IF(O41=0,"",AVERAGEIFS(#REF!,#REF!,'Synthèse Logements'!N41,#REF!,'Synthèse Logements'!$M$39,#REF!,'Synthèse Logements'!$M$37)) -> #REF!
C42: Février | D42: =SUMIFS(#REF!,#REF!,'Synthèse Logements'!C42,#REF!,'Synthèse Logements'!$B$39,#REF!,'Synthèse Logements'!$B$37) -> #REF! | E42: =IFERROR(D42/#REF!,"") | F42: =IF(D42=0,"",AVERAGEIFS(#REF!,#REF!,'Synthèse Logements'!C42,#REF!,'Synthèse Logements'!$B$39,#REF!,'Synthèse Logements'!$B$37)) -> #REF! | H42: =IF(D42=0,"",AVERAGEIFS(#REF!,#REF!,'Synthèse Logements'!C42,#REF!,'Synthèse Logements'!$B$39,#REF!,'Synthèse Logements'!$B$37)) -> #REF! | J42: =IF(D42=0,"",AVERAGEIFS(#REF!,#REF!,'Synthèse Logements'!C42,#REF!,'Synthèse Logements'!$B$39,#REF!,'Synthèse Logements'!$B$37)) -> #REF! | N42: Février | O42: =SUMIFS(#REF!,#REF!,'Synthèse Logements'!N42,#REF!,'Synthèse Logements'!$M$39,#REF!,'Synthèse Logements'!$M$37) -> #REF! | P42: =IFERROR(O42/#REF!,"") | Q42: =IF(O42=0,"",AVERAGEIFS(#REF!,#REF!,'Synthèse Logements'!N42,#REF!,'Synthèse Logements'!$M$39,#REF!,'Synthèse Logements'!$M$37)) -> #REF! | S42: =IF(O42=0,"",AVERAGEIFS(#REF!,#REF!,'Synthèse Logements'!N42,#REF!,'Synthèse Logements'!$M$39,#REF!,'Synthèse Logements'!$M$37)) -> #REF! | U42: =IF(O42=0,"",AVERAGEIFS(#REF!,#REF!,'Synthèse Logements'!N42,#REF!,'Synthèse Logements'!$M$39,#REF!,'Synthèse Logements'!$M$37)) -> #REF!
C43: Mars | D43: =SUMIFS(#REF!,#REF!,'Synthèse Logements'!C43,#REF!,'Synthèse Logements'!$B$39,#REF!,'Synthèse Logements'!$B$37) -> #REF! | E43: =IFERROR(D43/#REF!,"") | F43: =IF(D43=0,"",AVERAGEIFS(#REF!,#REF!,'Synthèse Logements'!C43,#REF!,'Synthèse Logements'!$B$39,#REF!,'Synthèse Logements'!$B$37)) -> #REF! | H43: =IF(D43=0,"",AVERAGEIFS(#REF!,#REF!,'Synthèse Logements'!C43,#REF!,'Synthèse Logements'!$B$39,#REF!,'Synthèse Logements'!$B$37)) -> #REF! | J43: =IF(D43=0,"",AVERAGEIFS(#REF!,#REF!,'Synthèse Logements'!C43,#REF!,'Synthèse Logements'!$B$39,#REF!,'Synthèse Logements'!$B$37)) -> #REF! | N43: Mars | O43: =SUMIFS(#REF!,#REF!,'Synthèse Logements'!N43,#REF!,'Synthèse Logements'!$M$39,#REF!,'Synthèse Logements'!$M$37) -> #REF! | P43: =IFERROR(O43/#REF!,"") | Q43: =IF(O43=0,"",AVERAGEIFS(#REF!,#REF!,'Synthèse Logements'!N43,#REF!,'Synthèse Logements'!$M$39,#REF!,'Synthèse Logements'!$M$37)) -> #REF! | S43: =IF(O43=0,"",AVERAGEIFS(#REF!,#REF!,'Synthèse Logements'!N43,#REF!,'Synthèse Logements'!$M$39,#REF!,'Synthèse Logements'!$M$37)) -> #REF! | U43: =IF(O43=0,"",AVERAGEIFS(#REF!,#REF!,'Synthèse Logements'!N43,#REF!,'Synthèse Logements'!$M$39,#REF!,'Synthèse Logements'!$M$37)) -> #REF!
...

Sheet BDD
H1: =WEEKNUM(H3,16) -> 44 | I1: =WEEKNUM(I3,16) -> 44 | J1: =WEEKNUM(J3,16) -> 44 | K1: =WEEKNUM(K3,16) -> 45 | L1: =WEEKNUM(L3,16) -> 45 | M1: =WEEKNUM(M3,16) -> 45 | N1: =WEEKNUM(N3,16) -> 45 | O1: =WEEKNUM(O3,16) -> 45 | ... NJ1: =WEEKNUM(NJ3,16) -> 44
H2: =MONTH(H3) -> 11 | I2: =MONTH(I3) -> 11 | J2: =MONTH(J3) -> 11 | K2: =MONTH(K3) -> 11 | L2: =MONTH(L3) -> 11 | M2: =MONTH(M3) -> 11 | N2: =MONTH(N3) -> 11 | O2: =MONTH(O3) -> 11 | ... NJ2: =MONTH(NJ3) -> 11
A3: date de création | B3: Date d'arrivée | C3: Date de sortie | D3: nuits | E3: CA | F3: Date d'arrivée | G3: Date de sortie | H3: 45231 | I3: 45232 | J3: 45233 | K3: 45234 | L3: 45235 | M3: 45236 | N3: 45237 | O3: 45238 | P3: 45239 | Q3: 45240 | R3: 45241 | S3: 45242 | T3: 45243 | U3: 45244 | V3: 45245 | W3: 45246 | X3: 45247 | Y3: 45248 | Z3: 45249 | AA3: 45250 | AB3: 45251 | AC3: 45252 | AD3: 45253 | AE3: 45254 | AF3: 45255 | AG3: 45256 | AH3: 45257 | AI3: 45258 | AJ3: 45259 | AK3: 45260 | AL3: 45261 | AM3: 45262 | AN3: 45263 | AO3: 45264 | AP3: 45265 | AQ3: 45266 | AR3: 45267 | AS3: 45268 | AT3: 45269 | AU3: 45270 | AV3: 45271 | AW3: 45272 | AX3: 45273 | AY3: 45274 | AZ3: 45275 | BA3: 45276 | BB3: 45277 | BC3: 45278 | BD3: 45279 | BE3: 45280 | BF3: 45281 | BG3: 45282 | BH3: 45283 | BI3: 45284 | BJ3: 45285 | BK3: 45286 | BL3: 45287 | BM3: 45288 | BN3: 45289 | BO3: 45290 | BP3: 45291 | BQ3: 45292 | BR3: 45293 | BS3: 45294 | BT3: 45295 | BU3: 45296 | BV3: 45297 | BW3: 45298 | BX3: 45299 | BY3: 45300 | BZ3: 45301 | CA3: 45302 | CB3: 45303 | CC3: 45304 | CD3: 45305 | CE3: 45306 | CF3: 45307 | CG3: 45308 | CH3: 45309 | CI3: 45310 | CJ3: 45311 | CK3: 45312 | CL3: 45313 | CM3: 45314 | CN3: 45315 | CO3: 45316 | CP3: 45317 | CQ3: 45318 | CR3: 45319 | CS3: 45320 | CT3: 45321 | CU3: 45322 | CV3: 45323 | CW3: 45324 | CX3: 45325 | CY3: 45326 | CZ3: 45327 | DA3: 45328 | DB3: 45329 | DC3: 45330 | DD3: 45331 | DE3: 45332 | DF3: 45333 | DG3: 45334 | DH3: 45335 | DI3: 45336 | DJ3: 45337 | DK3: 45338 | DL3: 45339 | DM3: 45340 | DN3: 45341 | DO3: 45342 | DP3: 45343 | DQ3: 45344 | DR3: 45345 | DS3: 45346 | DT3: 45347 | DU3: 45348 | DV3: 45349 | DW3: 45350 | DX3: 45351 | DY3: 45352 | DZ3: 45353 | EA3: 45354 | EB3: 45355 | EC3: 45356 | ED3: 45357 | EE3: 45358 | EF3: 45359 | EG3: 45360 | EH3: 45361 | EI3: 45362 | EJ3: 45363 | EK3: 45364 | EL3: 45365 | EM3: 45366 | EN3: 45367 | EO3: 45368 | EP3: 45369 | EQ3: 45370 | ER3: 45371 | ES3: 45372 | ET3: 45373 | EU3: 45374 | EV3: 45375 | EW3: 45376 | EX3: 45377 | EY3: 45378 | EZ3: 45379 | FA3: 45380 | FB3: 45381 | FC3: 45382 | FD3: 45383 | FE3: 45384 | FF3: 45385 | FG3: 45386 | FH3: 45387 | FI3: 45388 | FJ3: 45389 | FK3: 45390 | FL3: 45391 | FM3: 45392 | FN3: 45393 | FO3: 45394 | FP3: 45395 | FQ3: 45396 | FR3: 45397 | FS3: 45398 | FT3: 45399 | FU3: 45400 | FV3: 45401 | FW3: 45402 | FX3: 45403 | FY3: 45404 | FZ3: 45405 | GA3: 45406 | GB3: 45407 | GC3: 45408 | GD3: 45409 | GE3: 45410 | GF3: 45411 | GG3: 45412 | GH3: 45413 | GI3: 45414 | GJ3: 45415 | GK3: 45416 | GL3: 45417 | GM3: 45418 | GN3: 45419 | GO3: 45420 | GP3: 45421 | GQ3: 45422 | GR3: 45423 | GS3: 45424 | GT3: 45425 | GU3: 45426 | GV3: 45427 | GW3: 45428 | GX3: 45429 | GY3: 45430 | GZ3: 45431 | HA3: 45432 | HB3: 45433 | HC3: 45434 | HD3: 45435 | HE3: 45436 | HF3: 45437 | HG3: 45438 | HH3: 45439 | HI3: 45440 | HJ3: 45441 | HK3: 45442 | HL3: 45443 | HM3: 45444 | HN3: 45445 | HO3: 45446 | HP3: 45447 | HQ3: 45448 | HR3: 45449 | HS3: 45450 | HT3: 45451 | HU3: 45452 | HV3: 45453 | HW3: 45454 | HX3: 45455 | HY3: 45456 | HZ3: 45457 | IA3: 45458 | IB3: 45459 | IC3: 45460 | ID3: 45461 | IE3: 45462 | IF3: 45463 | IG3: 45464 | IH3: 45465 | II3: 45466 | IJ3: 45467 | IK3: 45468 | IL3: 45469 | IM3: 45470 | IN3: 45471 | IO3: 45472 | IP3: 45473 | IQ3: 45474 | IR3: 45475 | IS3: 45476 | IT3: 45477 | IU3: 45478 | IV3: 45479 | IW3: 45480 | IX3: 45481 | IY3: 45482 | IZ3: 45483 | JA3: 45484 | JB3: 45485 | JC3: 45486 | JD3: 45487 | JE3: 45488 | JF3: 45489 | JG3: 45490 | JH3: 45491 | JI3: 45492 | JJ3: 45493 | JK3: 45494 | JL3: 45495 | JM3: 45496 | JN3: 45497 | JO3: 45498 | JP3: 45499 | JQ3: 45500 | JR3: 45501 | JS3: 45502 | JT3: 45503 | JU3: 45504 | JV3: 45505 | JW3: 45506 | JX3: 45507 | JY3: 45508 | JZ3: 45509 | KA3: 45510 | KB3: 45511 | KC3: 45512 | KD3: 45513 | KE3: 45514 | KF3: 45515 | KG3: 45516 | KH3: 45517 | KI3: 45518 | KJ3: 45519 | KK3: 45520 | KL3: 45521 | KM3: 45522 | KN3: 45523 | KO3: 45524 | KP3: 45525 | KQ3: 45526 | KR3: 45527 | KS3: 45528 | KT3: 45529 | KU3: 45530 | KV3: 45531 | KW3: 45532 | KX3: 45533 | KY3: 45534 | KZ3: 45535 | LA3: 45536 | LB3: 45537 | LC3: 45538 | LD3: 45539 | LE3: 45540 | LF3: 45541 | LG3: 45542 | LH3: 45543 | LI3: 45544 | LJ3: 45545 | LK3: 45546 | LL3: 45547 | LM3: 45548 | LN3: 45549 | LO3: 45550 | LP3: 45551 | LQ3: 45552 | LR3: 45553 | LS3: 45554 | LT3: 45555 | LU3: 45556 | LV3: 45557 | LW3: 45558 | LX3: 45559 | LY3: 45560 | LZ3: 45561 | MA3: 45562 | MB3: 45563 | MC3: 45564 | MD3: 45565 | ME3: 45566 | MF3: 45567 | MG3: 45568 | MH3: 45569 | MI3: 45570 | MJ3: 45571 | MK3: 45572 | ML3: 45573 | MM3: 45574 | MN3: 45575 | MO3: 45576 | MP3: 45577 | MQ3: 45578 | MR3: 45579 | MS3: 45580 | MT3: 45581 | MU3: 45582 | MV3: 45583 | MW3: 45584 | MX3: 45585 | MY3: 45586 | MZ3: 45587 | NA3: 45588 | NB3: 45589 | NC3: 45590 | ND3: 45591 | NE3: 45592 | NF3: 45593 | NG3: 45594 | NH3: 45595 | NI3: 45596 | NJ3: 45597 | NK3: Total | NL3: Vérif | NO3: Octobre | NP3: Novembre | NQ3: Décembre | NR3: Janvier | NS3: Février | NT3: Mars | NU3: Avril | NV3: Mai | NW3: Juin | NX3: Juillet | NY3: Aout | NZ3: Septembre | OA3: Année | OB3: Vérif | OC3: S1 | OD3: S2 | OE3: Année | OF3: Vérif
A4: 11/04/2024 | B4: 08/06/2024 | C4: 15/06/2024 | D4: 7 | E4: 100 | F4: =B4+0 -> 45451 | G4: =C4-1 -> 45457 | H4: =IFERROR(IF(AND(H$3>=$F4,H$3<=$G4),1,"0")*$E4/$D4,0) -> 0 | I4: =IFERROR(IF(AND(I$3>=$F4,I$3<=$G4),1,"0")*$E4/$D4,0) -> 0 | J4: =IFERROR(IF(AND(J$3>=$F4,J$3<=$G4),1,"0")*$E4/$D4,0) -> 0 | K4: =IFERROR(IF(AND(K$3>=$F4,K$3<=$G4),1,"0")*$E4/$D4,0) -> 0 | L4: =IFERROR(IF(AND(L$3>=$F4,L$3<=$G4),1,"0")*$E4/$D4,0) -> 0 | M4: =IFERROR(IF(AND(M$3>=$F4,M$3<=$G4),1,"0")*$E4/$D4,0) -> 0 | N4: =IFERROR(IF(AND(N$3>=$F4,N$3<=$G4),1,"0")*$E4/$D4,0) -> 0 | O4: =IFERROR(IF(AND(O$3>=$F4,O$3<=$G4),1,"0")*$E4/$D4,0) -> 0 | ... NJ4: =IFERROR(IF(AND(NJ$3>=$F4,NJ$3<=$G4),1,"0")*$E4/$D4,0) -> 0 | NK4: =SUM(H4:NJ4) -> 100 | NL4: =+NK4-E4 -> 0 | NO4: =SUM(ME4:NI4) -> 0 | NP4: =SUM(H4:AK4) -> 0 | NQ4: =SUM(AL4:BP4) -> 0 | NR4: =SUM(BQ4:CU4) -> 0 | NS4: =SUM(CV4:DX4) -> 0 | NT4: =SUM(DY4:FC4) -> 0 | NU4: =SUM(FD4:GG4) -> 0 | NV4: =SUM(GH4:HL4) -> 0 | NW4: =SUM(HM4:IP4) -> 100 | NX4: =SUM(IQ4:JU4) -> 0 | NY4: =SUM(JV4:KZ4) -> 0 | NZ4: =SUM(LA4:MD4) -> 0 | OA4: =SUM(NO4:NZ4) -> 100 | OB4: =+OA4-NK4 -> 0 | OC4: =SUM(NP4:NU4) -> 0 | OD4: =SUM(NO4,NV4:NZ4) -> 100 | OE4: =SUM(OC4:OD4) -> 100 | OF4: =+OE4-NK4 -> 0 | OH4: 44 | OI4: {=SUMIF(H1:NC1,OH4:PD,H4:NC32)} -> 0
A5: 11/04/2024 | B5: 07/05/2024 | C5: 09/05/2024 | D5: 2 | E5: 100 | F5: =B5+0 -> 45419 | G5: =C5-1 -> 45420 | H5: =IFERROR(IF(AND(H$3>=$F5,H$3<=$G5),1,"0")*$E5/$D5,0) -> 0 | I5: =IFERROR(IF(AND(I$3>=$F5,I$3<=$G5),1,"0")*$E5/$D5,0) -> 0 | J5: =IFERROR(IF(AND(J$3>=$F5,J$3<=$G5),1,"0")*$E5/$D5,0) -> 0 | K5: =IFERROR(IF(AND(K$3>=$F5,K$3<=$G5),1,"0")*$E5/$D5,0) -> 0 | L5: =IFERROR(IF(AND(L$3>=$F5,L$3<=$G5),1,"0")*$E5/$D5,0) -> 0 | M5: =IFERROR(IF(AND(M$3>=$F5,M$3<=$G5),1,"0")*$E5/$D5,0) -> 0 | N5: =IFERROR(IF(AND(N$3>=$F5,N$3<=$G5),1,"0")*$E5/$D5,0) -> 0 | O5: =IFERROR(IF(AND(O$3>=$F5,O$3<=$G5),1,"0")*$E5/$D5,0) -> 0 | ... NJ5: =IFERROR(IF(AND(NJ$3>=$F5,NJ$3<=$G5),1,"0")*$E5/$D5,0) -> 0 | NK5: =SUM(H5:NJ5) -> 100 | NL5: =+NK5-E5 -> 0 | NO5: =SUM(ME5:NI5) -> 0 | NP5: =SUM(H5:AK5) -> 0 | NQ5: =SUM(AL5:BP5) -> 0 | NR5: =SUM(BQ5:CU5) -> 0 | NS5: =SUM(CV5:DX5) -> 0 | NT5: =SUM(DY5:FC5) -> 0 | NU5: =SUM(FD5:GG5) -> 0 | NV5: =SUM(GH5:HL5) -> 100 | NW5: =SUM(HM5:IP5) -> 0 | NX5: =SUM(IQ5:JU5) -> 0 | NY5: =SUM(JV5:KZ5) -> 0 | NZ5: =SUM(LA5:MD5) -> 0 | OA5: =SUM(NO5:NZ5) -> 100 | OB5: =+OA5-NK5 -> 0 | OC5: =SUM(NP5:NU5) -> 0 | OD5: =SUM(NO5,NV5:NZ5) -> 100 | OE5: =SUM(OC5:OD5) -> 100 | OF5: =+OE5-NK5 -> 0 | OH5: 45 | OI5: {=SUMIF(H2:NC2,OH5:PD,H5:NC32)} -> 0
A6: 11/04/2024 | B6: 26/04/2024 | C6: 28/04/2024 | D6: 2 | E6: 100 | F6: =B6+0 -> 45408 | G6: =C6-1 -> 45409 | H6: =IFERROR(IF(AND(H$3>=$F6,H$3<=$G6),1,"0")*$E6/$D6,0) -> 0 | I6: =IFERROR(IF(AND(I$3>=$F6,I$3<=$G6),1,"0")*$E6/$D6,0) -> 0 | J6: =IFERROR(IF(AND(J$3>=$F6,J$3<=$G6),1,"0")*$E6/$D6,0) -> 0 | K6: =IFERROR(IF(AND(K$3>=$F6,K$3<=$G6),1,"0")*$E6/$D6,0) -> 0 | L6: =IFERROR(IF(AND(L$3>=$F6,L$3<=$G6),1,"0")*$E6/$D6,0) -> 0 | M6: =IFERROR(IF(AND(M$3>=$F6,M$3<=$G6),1,"0")*$E6/$D6,0) -> 0 | N6: =IFERROR(IF(AND(N$3>=$F6,N$3<=$G6),1,"0")*$E6/$D6,0) -> 0 | O6: =IFERROR(IF(AND(O$3>=$F6,O$3<=$G6),1,"0")*$E6/$D6,0) -> 0 | ... NJ6: =IFERROR(IF(AND(NJ$3>=$F6,NJ$3<=$G6),1,"0")*$E6/$D6,0) -> 0 | NK6: =SUM(H6:NJ6) -> 100 | NL6: =+NK6-E6 -> 0 | NO6: =SUM(ME6:NI6) -> 0 | NP6: =SUM(H6:AK6) -> 0 | NQ6: =SUM(AL6:BP6) -> 0 | NR6: =SUM(BQ6:CU6) -> 0 | NS6: =SUM(CV6:DX6) -> 0 | NT6: =SUM(DY6:FC6) -> 0 | NU6: =SUM(FD6:GG6) -> 100 | NV6: =SUM(GH6:HL6) -> 0 | NW6: =SUM(HM6:IP6) -> 0 | NX6: =SUM(IQ6:JU6) -> 0 | NY6: =SUM(JV6:KZ6) -> 0 | NZ6: =SUM(LA6:MD6) -> 0 | OA6: =SUM(NO6:NZ6) -> 100 | OB6: =+OA6-NK6 -> 0 | OC6: =SUM(NP6:NU6) -> 100 | OD6: =SUM(NO6,NV6:NZ6) -> 0 | OE6: =SUM(OC6:OD6) -> 100 | OF6: =+OE6-NK6 -> 0 | OH6: 46 | OI6: {=SUMIF(H3:NC3,OH6:PD,H6:NC33)} -> 0
A7: 11/04/2024 | B7: 22/06/2024 | C7: 29/06/2024 | D7: 7 | E7: 100 | F7: =B7+0 -> 45465 | G7: =C7-1 -> 45471 | H7: =IFERROR(IF(AND(H$3>=$F7,H$3<=$G7),1,"0")*$E7/$D7,0) -> 0 | I7: =IFERROR(IF(AND(I$3>=$F7,I$3<=$G7),1,"0")*$E7/$D7,0) -> 0 | J7: =IFERROR(IF(AND(J$3>=$F7,J$3<=$G7),1,"0")*$E7/$D7,0) -> 0 | K7: =IFERROR(IF(AND(K$3>=$F7,K$3<=$G7),1,"0")*$E7/$D7,0) -> 0 | L7: =IFERROR(IF(AND(L$3>=$F7,L$3<=$G7),1,"0")*$E7/$D7,0) -> 0 | M7: =IFERROR(IF(AND(M$3>=$F7,M$3<=$G7),1,"0")*$E7/$D7,0) -> 0 | N7: =IFERROR(IF(AND(N$3>=$F7,N$3<=$G7),1,"0")*$E7/$D7,0) -> 0 | O7: =IFERROR(IF(AND(O$3>=$F7,O$3<=$G7),1,"0")*$E7/$D7,0) -> 0 | ... NJ7: =IFERROR(IF(AND(NJ$3>=$F7,NJ$3<=$G7),1,"0")*$E7/$D7,0) -> 0 | NK7: =SUM(H7:NJ7) -> 100 | NL7: =+NK7-E7 -> 0 | NO7: =SUM(ME7:NI7) -> 0 | NP7: =SUM(H7:AK7) -> 0 | NQ7: =SUM(AL7:BP7) -> 0 | NR7: =SUM(BQ7:CU7) -> 0 | NS7: =SUM(CV7:DX7) -> 0 | NT7: =SUM(DY7:FC7) -> 0 | NU7: =SUM(FD7:GG7) -> 0 | NV7: =SUM(GH7:HL7) -> 0 | NW7: =SUM(HM7:IP7) -> 100 | NX7: =SUM(IQ7:JU7) -> 0 | NY7: =SUM(JV7:KZ7) -> 0 | NZ7: =SUM(LA7:MD7) -> 0 | OA7: =SUM(NO7:NZ7) -> 100 | OB7: =+OA7-NK7 -> 0 | OC7: =SUM(NP7:NU7) -> 0 | OD7: =SUM(NO7,NV7:NZ7) -> 100 | OE7: =SUM(OC7:OD7) -> 100 | OF7: =+OE7-NK7 -> 0 | OH7: 47 | OI7: {=SUMIF(H4:NC4,OH7:PD,H7:NC34)} -> 0
A8: 11/04/2024 | B8: 12/04/2024 | C8: 14/04/2024 | D8: 2 | E8: 100 | F8: =B8+0 -> 45394 | G8: =C8-1 -> 45395 | H8: =IFERROR(IF(AND(H$3>=$F8,H$3<=$G8),1,"0")*$E8/$D8,0) -> 0 | I8: =IFERROR(IF(AND(I$3>=$F8,I$3<=$G8),1,"0")*$E8/$D8,0) -> 0 | J8: =IFERROR(IF(AND(J$3>=$F8,J$3<=$G8),1,"0")*$E8/$D8,0) -> 0 | K8: =IFERROR(IF(AND(K$3>=$F8,K$3<=$G8),1,"0")*$E8/$D8,0) -> 0 | L8: =IFERROR(IF(AND(L$3>=$F8,L$3<=$G8),1,"0")*$E8/$D8,0) -> 0 | M8: =IFERROR(IF(AND(M$3>=$F8,M$3<=$G8),1,"0")*$E8/$D8,0) -> 0 | N8: =IFERROR(IF(AND(N$3>=$F8,N$3<=$G8),1,"0")*$E8/$D8,0) -> 0 | O8: =IFERROR(IF(AND(O$3>=$F8,O$3<=$G8),1,"0")*$E8/$D8,0) -> 0 | ... NJ8: =IFERROR(IF(AND(NJ$3>=$F8,NJ$3<=$G8),1,"0")*$E8/$D8,0) -> 0 | NK8: =SUM(H8:NJ8) -> 100 | NL8: =+NK8-E8 -> 0 | NO8: =SUM(ME8:NI8) -> 0 | NP8: =SUM(H8:AK8) -> 0 | NQ8: =SUM(AL8:BP8) -> 0 | NR8: =SUM(BQ8:CU8) -> 0 | NS8: =SUM(CV8:DX8) -> 0 | NT8: =SUM(DY8:FC8) -> 0 | NU8: =SUM(FD8:GG8) -> 100 | NV8: =SUM(GH8:HL8) -> 0 | NW8: =SUM(HM8:IP8) -> 0 | NX8: =SUM(IQ8:JU8) -> 0 | NY8: =SUM(JV8:KZ8) -> 0 | NZ8: =SUM(LA8:MD8) -> 0 | OA8: =SUM(NO8:NZ8) -> 100 | OB8: =+OA8-NK8 -> 0 | OC8: =SUM(NP8:NU8) -> 100 | OD8: =SUM(NO8,NV8:NZ8) -> 0 | OE8: =SUM(OC8:OD8) -> 100 | OF8: =+OE8-NK8 -> 0 | OH8: 48 | OI8: {=SUMIF(H5:NC5,OH8:PD,H8:NC35)} -> 0
A9: 10/04/2024 | B9: 12/04/2024 | C9: 14/04/2024 | D9: 2 | E9: 100 | F9: =B9+0 -> 45394 | G9: =C9-1 -> 45395 | H9: =IFERROR(IF(AND(H$3>=$F9,H$3<=$G9),1,"0")*$E9/$D9,0) -> 0 | I9: =IFERROR(IF(AND(I$3>=$F9,I$3<=$G9),1,"0")*$E9/$D9,0) -> 0 | J9: =IFERROR(IF(AND(J$3>=$F9,J$3<=$G9),1,"0")*$E9/$D9,0) -> 0 | K9: =IFERROR(IF(AND(K$3>=$F9,K$3<=$G9),1,"0")*$E9/$D9,0) -> 0 | L9: =IFERROR(IF(AND(L$3>=$F9,L$3<=$G9),1,"0")*$E9/$D9,0) -> 0 | M9: =IFERROR(IF(AND(M$3>=$F9,M$3<=$G9),1,"0")*$E9/$D9,0) -> 0 | N9: =IFERROR(IF(AND(N$3>=$F9,N$3<=$G9),1,"0")*$E9/$D9,0) -> 0 | O9: =IFERROR(IF(AND(O$3>=$F9,O$3<=$G9),1,"0")*$E9/$D9,0) -> 0 | ... NJ9: =IFERROR(IF(AND(NJ$3>=$F9,NJ$3<=$G9),1,"0")*$E9/$D9,0) -> 0 | NK9: =SUM(H9:NJ9) -> 100 | NL9: =+NK9-E9 -> 0 | NO9: =SUM(ME9:NI9) -> 0 | NP9: =SUM(H9:AK9) -> 0 | NQ9: =SUM(AL9:BP9) -> 0 | NR9: =SUM(BQ9:CU9) -> 0 | NS9: =SUM(CV9:DX9) -> 0 | NT9: =SUM(DY9:FC9) -> 0 | NU9: =SUM(FD9:GG9) -> 100 | NV9: =SUM(GH9:HL9) -> 0 | NW9: =SUM(HM9:IP9) -> 0 | NX9: =SUM(IQ9:JU9) -> 0 | NY9: =SUM(JV9:KZ9) -> 0 | NZ9: =SUM(LA9:MD9) -> 0 | OA9: =SUM(NO9:NZ9) -> 100 | OB9: =+OA9-NK9 -> 0 | OC9: =SUM(NP9:NU9) -> 100 | OD9: =SUM(NO9,NV9:NZ9) -> 0 | OE9: =SUM(OC9:OD9) -> 100 | OF9: =+OE9-NK9 -> 0 | OH9: 49 | OI9: {=SUMIF(H6:NC6,OH9:PD,H9:NC36)} -> 0
A10: 10/04/2024 | B10: 07/06/2024 | C10: 14/06/2024 | D10: 7 | E10: 100 | F10: =B10+0 -> 45450 | G10: =C10-1 -> 45456 | H10: =IFERROR(IF(AND(H$3>=$F10,H$3<=$G10),1,"0")*$E10/$D10,0) -> 0 | I10: =IFERROR(IF(AND(I$3>=$F10,I$3<=$G10),1,"0")*$E10/$D10,0) -> 0 | J10: =IFERROR(IF(AND(J$3>=$F10,J$3<=$G10),1,"0")*$E10/$D10,0) -> 0 | K10: =IFERROR(IF(AND(K$3>=$F10,K$3<=$G10),1,"0")*$E10/$D10,0) -> 0 | L10: =IFERROR(IF(AND(L$3>=$F10,L$3<=$G10),1,"0")*$E10/$D10,0) -> 0 | M10: =IFERROR(IF(AND(M$3>=$F10,M$3<=$G10),1,"0")*$E10/$D10,0) -> 0 | N10: =IFERROR(IF(AND(N$3>=$F10,N$3<=$G10),1,"0")*$E10/$D10,0) -> 0 | O10: =IFERROR(IF(AND(O$3>=$F10,O$3<=$G10),1,"0")*$E10/$D10,0) -> 0 | ... NJ10: =IFERROR(IF(AND(NJ$3>=$F10,NJ$3<=$G10),1,"0")*$E10/$D10,0) -> 0 | NK10: =SUM(H10:NJ10) -> 100 | NL10: =+NK10-E10 -> 0 | NO10: =SUM(ME10:NI10) -> 0 | NP10: =SUM(H10:AK10) -> 0 | NQ10: =SUM(AL10:BP10) -> 0 | NR10: =SUM(BQ10:CU10) -> 0 | NS10: =SUM(CV10:DX10) -> 0 | NT10: =SUM(DY10:FC10) -> 0 | NU10: =SUM(FD10:GG10) -> 0 | NV10: =SUM(GH10:HL10) -> 0 | NW10: =SUM(HM10:IP10) -> 100 | NX10: =SUM(IQ10:JU10) -> 0 | NY10: =SUM(JV10:KZ10) -> 0 | NZ10: =SUM(LA10:MD10) -> 0 | OA10: =SUM(NO10:NZ10) -> 100 | OB10: =+OA10-NK10 -> 0 | OC10: =SUM(NP10:NU10) -> 0 | OD10: =SUM(NO10,NV10:NZ10) -> 100 | OE10: =SUM(OC10:OD10) -> 100 | OF10: =+OE10-NK10 -> 0 | OH10: 50 | OI10: {=SUMIF(H7:NC7,OH10:PD,H10:NC37)} -> 0
A11: 09/04/2024 | B11: 28/06/2024 | C11: 01/07/2024 | D11: 3 | E11: 100 | F11: =B11+0 -> 45471 | G11: =C11-1 -> 45473 | H11: =IFERROR(IF(AND(H$3>=$F11,H$3<=$G11),1,"0")*$E11/$D11,0) -> 0 | I11: =IFERROR(IF(AND(I$3>=$F11,I$3<=$G11),1,"0")*$E11/$D11,0) -> 0 | J11: =IFERROR(IF(AND(J$3>=$F11,J$3<=$G11),1,"0")*$E11/$D11,0) -> 0 | K11: =IFERROR(IF(AND(K$3>=$F11,K$3<=$G11),1,"0")*$E11/$D11,0) -> 0 | L11: =IFERROR(IF(AND(L$3>=$F11,L$3<=$G11),1,"0")*$E11/$D11,0) -> 0 | M11: =IFERROR(IF(AND(M$3>=$F11,M$3<=$G11),1,"0")*$E11/$D11,0) -> 0 | N11: =IFERROR(IF(AND(N$3>=$F11,N$3<=$G11),1,"0")*$E11/$D11,0) -> 0 | O11: =IFERROR(IF(AND(O$3>=$F11,O$3<=$G11),1,"0")*$E11/$D11,0) -> 0 | ... NJ11: =IFERROR(IF(AND(NJ$3>=$F11,NJ$3<=$G11),1,"0")*$E11/$D11,0) -> 0 | NK11: =SUM(H11:NJ11) -> 100 | NL11: =+NK11-E11 -> 0 | NO11: =SUM(ME11:NI11) -> 0 | NP11: =SUM(H11:AK11) -> 0 | NQ11: =SUM(AL11:BP11) -> 0 | NR11: =SUM(BQ11:CU11) -> 0 | NS11: =SUM(CV11:DX11) -> 0 | NT11: =SUM(DY11:FC11) -> 0 | NU11: =SUM(FD11:GG11) -> 0 | NV11: =SUM(GH11:HL11) -> 0 | NW11: =SUM(HM11:IP11) -> 100 | NX11: =SUM(IQ11:JU11) -> 0 | NY11: =SUM(JV11:KZ11) -> 0 | NZ11: =SUM(LA11:MD11) -> 0 | OA11: =SUM(NO11:NZ11) -> 100 | OB11: =+OA11-NK11 -> 0 | OC11: =SUM(NP11:NU11) -> 0 | OD11: =SUM(NO11,NV11:NZ11) -> 100 | OE11: =SUM(OC11:OD11) -> 100 | OF11: =+OE11-NK11 -> 0 | OH11: 51 | OI11: {=SUMIF(H8:NC8,OH11:PD,H11:NC38)} -> 0
A12: 09/04/2024 | B12: 10/08/2024 | C12: 17/08/2024 | D12: 7 | E12: 100 | F12: =B12+0 -> 45514 | G12: =C12-1 -> 45520 | H12: =IFERROR(IF(AND(H$3>=$F12,H$3<=$G12),1,"0")*$E12/$D12,0) -> 0 | I12: =IFERROR(IF(AND(I$3>=$F12,I$3<=$G12),1,"0")*$E12/$D12,0) -> 0 | J12: =IFERROR(IF(AND(J$3>=$F12,J$3<=$G12),1,"0")*$E12/$D12,0) -> 0 | K12: =IFERROR(IF(AND(K$3>=$F12,K$3<=$G12),1,"0")*$E12/$D12,0) -> 0 | L12: =IFERROR(IF(AND(L$3>=$F12,L$3<=$G12),1,"0")*$E12/$D12,0) -> 0 | M12: =IFERROR(IF(AND(M$3>=$F12,M$3<=$G12),1,"0")*$E12/$D12,0) -> 0 | N12: =IFERROR(IF(AND(N$3>=$F12,N$3<=$G12),1,"0")*$E12/$D12,0) -> 0 | O12: =IFERROR(IF(AND(O$3>=$F12,O$3<=$G12),1,"0")*$E12/$D12,0) -> 0 | ... NJ12: =IFERROR(IF(AND(NJ$3>=$F12,NJ$3<=$G12),1,"0")*$E12/$D12,0) -> 0 | NK12: =SUM(H12:NJ12) -> 100 | NL12: =+NK12-E12 -> 0 | NO12: =SUM(ME12:NI12) -> 0 | NP12: =SUM(H12:AK12) -> 0 | NQ12: =SUM(AL12:BP12) -> 0 | NR12: =SUM(BQ12:CU12) -> 0 | NS12: =SUM(CV12:DX12) -> 0 | NT12: =SUM(DY12:FC12) -> 0 | NU12: =SUM(FD12:GG12) -> 0 | NV12: =SUM(GH12:HL12) -> 0 | NW12: =SUM(HM12:IP12) -> 0 | NX12: =SUM(IQ12:JU12) -> 0 | NY12: =SUM(JV12:KZ12) -> 100 | NZ12: =SUM(LA12:MD12) -> 0 | OA12: =SUM(NO12:NZ12) -> 100 | OB12: =+OA12-NK12 -> 0 | OC12: =SUM(NP12:NU12) -> 0 | OD12: =SUM(NO12,NV12:NZ12) -> 100 | OE12: =SUM(OC12:OD12) -> 100 | OF12: =+OE12-NK12 -> 0 | OH12: 52 | OI12: {=SUMIF(H9:NC9,OH12:PD,H12:NC39)} -> 0
A13: 09/04/2024 | B13: 12/04/2024 | C13: 14/04/2024 | D13: 2 | E13: 100 | F13: =B13+0 -> 45394 | G13: =C13-1 -> 45395 | H13: =IFERROR(IF(AND(H$3>=$F13,H$3<=$G13),1,"0")*$E13/$D13,0) -> 0 | I13: =IFERROR(IF(AND(I$3>=$F13,I$3<=$G13),1,"0")*$E13/$D13,0) -> 0 | J13: =IFERROR(IF(AND(J$3>=$F13,J$3<=$G13),1,"0")*$E13/$D13,0) -> 0 | K13: =IFERROR(IF(AND(K$3>=$F13,K$3<=$G13),1,"0")*$E13/$D13,0) -> 0 | L13: =IFERROR(IF(AND(L$3>=$F13,L$3<=$G13),1,"0")*$E13/$D13,0) -> 0 | M13: =IFERROR(IF(AND(M$3>=$F13,M$3<=$G13),1,"0")*$E13/$D13,0) -> 0 | N13: =IFERROR(IF(AND(N$3>=$F13,N$3<=$G13),1,"0")*$E13/$D13,0) -> 0 | O13: =IFERROR(IF(AND(O$3>=$F13,O$3<=$G13),1,"0")*$E13/$D13,0) -> 0 | ... NJ13: =IFERROR(IF(AND(NJ$3>=$F13,NJ$3<=$G13),1,"0")*$E13/$D13,0) -> 0 | NK13: =SUM(H13:NJ13) -> 100 | NL13: =+NK13-E13 -> 0 | NO13: =SUM(ME13:NI13) -> 0 | NP13: =SUM(H13:AK13) -> 0 | NQ13: =SUM(AL13:BP13) -> 0 | NR13: =SUM(BQ13:CU13) -> 0 | NS13: =SUM(CV13:DX13) -> 0 | NT13: =SUM(DY13:FC13) -> 0 | NU13: =SUM(FD13:GG13) -> 100 | NV13: =SUM(GH13:HL13) -> 0 | NW13: =SUM(HM13:IP13) -> 0 | NX13: =SUM(IQ13:JU13) -> 0 | NY13: =SUM(JV13:KZ13) -> 0 | NZ13: =SUM(LA13:MD13) -> 0 | OA13: =SUM(NO13:NZ13) -> 100 | OB13: =+OA13-NK13 -> 0 | OC13: =SUM(NP13:NU13) -> 100 | OD13: =SUM(NO13,NV13:NZ13) -> 0 | OE13: =SUM(OC13:OD13) -> 100 | OF13: =+OE13-NK13 -> 0 | OH13: 1 | OI13: {=SUMIF(H10:NC10,OH13:PD,H13:NC40)} -> 0
A14: 08/04/2024 | B14: 20/06/2024 | C14: 24/06/2024 | D14: 4 | E14: 100 | F14: =B14+0 -> 45463 | G14: =C14-1 -> 45466 | H14: =IFERROR(IF(AND(H$3>=$F14,H$3<=$G14),1,"0")*$E14/$D14,0) -> 0 | I14: =IFERROR(IF(AND(I$3>=$F14,I$3<=$G14),1,"0")*$E14/$D14,0) -> 0 | J14: =IFERROR(IF(AND(J$3>=$F14,J$3<=$G14),1,"0")*$E14/$D14,0) -> 0 | K14: =IFERROR(IF(AND(K$3>=$F14,K$3<=$G14),1,"0")*$E14/$D14,0) -> 0 | L14: =IFERROR(IF(AND(L$3>=$F14,L$3<=$G14),1,"0")*$E14/$D14,0) -> 0 | M14: =IFERROR(IF(AND(M$3>=$F14,M$3<=$G14),1,"0")*$E14/$D14,0) -> 0 | N14: =IFERROR(IF(AND(N$3>=$F14,N$3<=$G14),1,"0")*$E14/$D14,0) -> 0 | O14: =IFERROR(IF(AND(O$3>=$F14,O$3<=$G14),1,"0")*$E14/$D14,0) -> 0 | ... NJ14: =IFERROR(IF(AND(NJ$3>=$F14,NJ$3<=$G14),1,"0")*$E14/$D14,0) -> 0 | NK14: =SUM(H14:NJ14) -> 100 | NL14: =+NK14-E14 -> 0 | NO14: =SUM(ME14:NI14) -> 0 | NP14: =SUM(H14:AK14) -> 0 | NQ14: =SUM(AL14:BP14) -> 0 | NR14: =SUM(BQ14:CU14) -> 0 | NS14: =SUM(CV14:DX14) -> 0 | NT14: =SUM(DY14:FC14) -> 0 | NU14: =SUM(FD14:GG14) -> 0 | NV14: =SUM(GH14:HL14) -> 0 | NW14: =SUM(HM14:IP14) -> 100 | NX14: =SUM(IQ14:JU14) -> 0 | NY14: =SUM(JV14:KZ14) -> 0 | NZ14: =SUM(LA14:MD14) -> 0 | OA14: =SUM(NO14:NZ14) -> 100 | OB14: =+OA14-NK14 -> 0 | OC14: =SUM(NP14:NU14) -> 0 | OD14: =SUM(NO14,NV14:NZ14) -> 100 | OE14: =SUM(OC14:OD14) -> 100 | OF14: =+OE14-NK14 -> 0 | OH14: 2 | OI14: {=SUMIF(H11:NC11,OH14:PD,H14:NC41)} -> 0
