Workbook
Name Année: CALENDRIER!$H$3
Name Année1: CALENDRIER!$H$3
Name AnnéeA: CALENDRIER!$H$3
Name AnnéeB: CALENDRIER!$I$3

Sheet CALENDRIER
B3: Calendrier de l'année : | H3: 2024 | I3: 2025 | L3: Légende : | M3: PERM | N3: P19 | O3: REU | P3: TEL1 | Q3: TEL2 | R3: FORM | S3: ABS | T3: TP | U3: Jours fériés / WE / fermeture | V3: Semaine réduite
C8: Période journée | D8: =Paramétrage!E2 -> Personnel 1 | E8: =Paramétrage!F2 -> Personnel 2 | F8: =Paramétrage!G2 -> Personnel 3 | G8: =Paramétrage!H2 -> Personnel 4 | H8: =Paramétrage!I2 -> Personnel 5 | I8: =Paramétrage!J2 -> Personnel 6 | J8: =Paramétrage!K2 -> Personnel 7 | K8: =Paramétrage!L2 -> Personnel 8 | ... X8: =Paramétrage!Y2 -> Personnel 21 | Z8: =Paramétrage!E3 -> Vacataire 1 | AA8: =Paramétrage!F3 -> Vacataire 2 | AB8: =Paramétrage!G3 -> Vacataire 3 | AC8: =Paramétrage!H3 -> Vacataire 4 | AD8: =Paramétrage!I3 -> Vacataire 5 | AE8: =Paramétrage!J3 -> Vacataire 6 | AF8: =Paramétrage!K3 -> Vacataire 7 | AG8: =Paramétrage!L3 -> Vacataire 8 | ... AS8: =Paramétrage!X3 -> Vacataire 20
A9: =B9 -> 45536 | B9: =DATE(AnnéeA,9,1) -> 45536 | C9: matin
C10: après-midi
C11: soir
A12: =B12 -> 45537 | B12: =B9+1 -> 45537 | C12: matin
C13: après-midi
C14: soir
A15: =B15 -> 45538 | B15: =B12+1 -> 45538 | C15: matin
C16: après-midi
C17: soir
A18: =B18 -> 45539 | B18: =B15+1 -> 45539 | C18: matin
C19: après-midi
C20: soir
A21: =B21 -> 45540 | B21: =B18+1 -> 45540 | C21: matin
C22: après-midi
C23: soir
A24: =B24 -> 45541 | B24: =B21+1 -> 45541 | C24: matin
C25: après-midi
C26: soir
A27: =B27 -> 45542 | B27: =B24+1 -> 45542 | C27: matin
C28: après-midi
C29: soir
A30: =B30 -> 45543 | B30: =B27+1 -> 45543 | C30: matin
C31: après-midi
C32: soir
A33: =B33 -> 45544 | B33: =B30+1 -> 45544 | C33: matin
C34: après-midi
C35: soir
A36: =B36 -> 45545 | B36: =B33+1 -> 45545 | C36: matin
C37: après-midi
C38: soir
A39: =B39 -> 45546 | B39: =B36+1 -> 45546 | C39: matin
C40: après-midi
C41: soir
A42: =B42 -> 45547 | B42: =B39+1 -> 45547 | C42: matin
C43: après-midi
C44: soir
A45: =B45 -> 45548 | B45: =B42+1 -> 45548 | C45: matin
C46: après-midi
...

Sheet Données injectées
B2: PERM | C2: Date | D2: Période | F2: P19 | G2: Date | H2: Période | J2: REU | K2: Date | L2: Période | N2: TEL1 | O2: Date | P2: Période | R2: TEL2 | S2: Date | T2: Période | V2: FORM | W2: Date | X2: Période | Z2: ABS | AA2: Date | AB2: Période | AD2: TP | AE2: Date | AF2: Période
B3: Personnel 1 | C3: 45536 | D3: matin | F3: Personnel 1 | G3: 45537 | H3: soir | J3: Personnel 1 | K3: 45538 | L3: matin | N3: Personnel 1 | O3: 45539 | P3: matin | R3: Personnel 1 | S3: 45540 | T3: matin | V3: Personnel 1 | W3: 45541 | X3: matin | Z3: Personnel 1 | AA3: 45541 | AB3: matin | AD3: Personnel 1 | AE3: 45542 | AF3: matin
B4: Personnel 2 | C4: 45536 | D4: après-midi | F4: Personnel 2 | G4: 45537 | H4: soir | J4: Personnel 2 | K4: 45538 | L4: après-midi | N4: Personnel 2 | O4: 45539 | P4: après-midi | R4: Personnel 2 | S4: 45540 | T4: après-midi | V4: Personnel 2 | W4: 45541 | X4: après-midi | Z4: Personnel 2 | AA4: 45541 | AB4: après-midi | AD4: Personnel 2 | AE4: 45542 | AF4: après-midi

Sheet Jours OFF
B2: Jours fériés | C2: Date | E2: Semaine réduite | F2: Date | H2: Fermeture | I2: Date
B3: Toussaint | C3: =DATE(AnnéeA,11,1) -> 45597
B4: Armistice 1918 | C4: =DATE(AnnéeA,11,11) -> 45607
B5: Jour de Noël | C5: =DATE(AnnéeA,12,25) -> 45651
B6: Jour de l'an | C6: =DATE(AnnéeB,1,1) -> 45658
B7: Lundi de Pâques | C7: =DATE(AnnéeB,4,1) -> 45748
B8: Fête du travail | C8: =DATE(AnnéeB,5,1) -> 45778
B9: Victoire 1945 | C9: =DATE(AnnéeB,5,8) -> 45785
B10: Ascension | C10: =C7+38 -> 45786
B11: Pentecôte | C11: =C7+49 -> 45797
B12: Fête Nationale | C12: =DATE(AnnéeB,7,14) -> 45852
B13: Assomption | C13: =DATE(AnnéeB,8,15) -> 45884

Sheet Paramétrage
A1: Application de mise en forme conditionnelle (couleurs) | E1: Liste des personnels / vacataires
A2: Week-ends | B2: Gris | C2: =JOURSEM($B9;2)>5 | E2: Personnel 1 | F2: Personnel 2 | G2: Personnel 3 | H2: Personnel 4 | I2: Personnel 5 | J2: Personnel 6 | K2: Personnel 7 | L2: Personnel 8 | M2: Personnel 9 | N2: Personnel 10 | O2: Personnel 11 | P2: Personnel 12 | Q2: Personnel 13 | R2: Personnel 14 | S2: Personnel 15 | T2: Personnel 16 | U2: Personnel 17 | V2: Personnel 18 | W2: Personnel 19 | X2: Personnel 20 | Y2: Personnel 21
A3: Jours fériés | B3: Gris | C3: =OU(NB.SI(Paramètres!$C$3:$C$100;$B9)=1;NB.SI(Paramètres!$C$3:$C$100;$B9)=1) | E3: Vacataire 1 | F3: Vacataire 2 | G3: Vacataire 3 | H3: Vacataire 4 | I3: Vacataire 5 | J3: Vacataire 6 | K3: Vacataire 7 | L3: Vacataire 8 | M3: Vacataire 9 | N3: Vacataire 10 | O3: Vacataire 11 | P3: Vacataire 12 | Q3: Vacataire 13 | R3: Vacataire 14 | S3: Vacataire 15 | T3: Vacataire 16 | U3: Vacataire 17 | V3: Vacataire 18 | W3: Vacataire 19 | X3: Vacataire 20
A4: Fermeture | B4: Gris | C4: =OU(NB.SI(Paramètres!$I$3:$I$100;$B9)=1;NB.SI(Paramètres!$I$3:$I$100;B9)=1)
A5: Semaine réduite | B5: Vert | C5: =OU(NB.SI(Paramètres!$F$3:$F$100;$B9)=1;NB.SI(Paramètres!$F$3:$F$100;B9)=1)
C6: =SI(NB.SI.ENS('Données injectées'!B:B;CALENDRIER!D8;'Données injectées'!C:C;CALENDRIER!B9;'Données injectées'!D:D;CALENDRIER!C9);"PERM";"")

Sheet STATISTIQUES GLOBALES
C1: =CALENDRIER!D8 -> Personnel 1 | D1: =CALENDRIER!E8 -> Personnel 2 | E1: =CALENDRIER!F8 -> Personnel 3 | F1: =CALENDRIER!G8 -> Personnel 4 | G1: =CALENDRIER!H8 -> Personnel 5 | H1: =CALENDRIER!I8 -> Personnel 6 | I1: =CALENDRIER!J8 -> Personnel 7 | J1: =CALENDRIER!K8 -> Personnel 8 | ... W1: =CALENDRIER!X8 -> Personnel 21
A2: Sur l'année | B2: PERM | C2: =COUNTIF(CALENDRIER!D$9:D$1103,$B2) -> 0 | D2: =COUNTIF(CALENDRIER!E$9:E$1103,$B2) -> 0 | E2: =COUNTIF(CALENDRIER!F$9:F$1103,$B2) -> 0 | F2: =COUNTIF(CALENDRIER!G$9:G$1103,$B2) -> 0 | G2: =COUNTIF(CALENDRIER!H$9:H$1103,$B2) -> 0 | H2: =COUNTIF(CALENDRIER!I$9:I$1103,$B2) -> 0 | I2: =COUNTIF(CALENDRIER!J$9:J$1103,$B2) -> 0 | J2: =COUNTIF(CALENDRIER!K$9:K$1103,$B2) -> 0 | ... W2: =COUNTIF(CALENDRIER!X$9:X$1103,$B2) -> 0
B3: P19 | C3: =COUNTIF(CALENDRIER!D$9:D$1103,$B3) -> 0 | D3: =COUNTIF(CALENDRIER!E$9:E$1103,$B3) -> 0 | E3: =COUNTIF(CALENDRIER!F$9:F$1103,$B3) -> 0 | F3: =COUNTIF(CALENDRIER!G$9:G$1103,$B3) -> 0 | G3: =COUNTIF(CALENDRIER!H$9:H$1103,$B3) -> 0 | H3: =COUNTIF(CALENDRIER!I$9:I$1103,$B3) -> 0 | I3: =COUNTIF(CALENDRIER!J$9:J$1103,$B3) -> 0 | J3: =COUNTIF(CALENDRIER!K$9:K$1103,$B3) -> 0 | ... W3: =COUNTIF(CALENDRIER!X$9:X$1103,$B3) -> 0
B4: REU | C4: =COUNTIF(CALENDRIER!D$9:D$1103,$B4) -> 0 | D4: =COUNTIF(CALENDRIER!E$9:E$1103,$B4) -> 0 | E4: =COUNTIF(CALENDRIER!F$9:F$1103,$B4) -> 0 | F4: =COUNTIF(CALENDRIER!G$9:G$1103,$B4) -> 0 | G4: =COUNTIF(CALENDRIER!H$9:H$1103,$B4) -> 0 | H4: =COUNTIF(CALENDRIER!I$9:I$1103,$B4) -> 0 | I4: =COUNTIF(CALENDRIER!J$9:J$1103,$B4) -> 0 | J4: =COUNTIF(CALENDRIER!K$9:K$1103,$B4) -> 0 | ... W4: =COUNTIF(CALENDRIER!X$9:X$1103,$B4) -> 0
B5: TEL1 | C5: =COUNTIF(CALENDRIER!D$9:D$1103,$B5) -> 0 | D5: =COUNTIF(CALENDRIER!E$9:E$1103,$B5) -> 0 | E5: =COUNTIF(CALENDRIER!F$9:F$1103,$B5) -> 0 | F5: =COUNTIF(CALENDRIER!G$9:G$1103,$B5) -> 0 | G5: =COUNTIF(CALENDRIER!H$9:H$1103,$B5) -> 0 | H5: =COUNTIF(CALENDRIER!I$9:I$1103,$B5) -> 0 | I5: =COUNTIF(CALENDRIER!J$9:J$1103,$B5) -> 0 | J5: =COUNTIF(CALENDRIER!K$9:K$1103,$B5) -> 0 | ... W5: =COUNTIF(CALENDRIER!X$9:X$1103,$B5) -> 0
B6: TEL2 | C6: =COUNTIF(CALENDRIER!D$9:D$1103,$B6) -> 0 | D6: =COUNTIF(CALENDRIER!E$9:E$1103,$B6) -> 0 | E6: =COUNTIF(CALENDRIER!F$9:F$1103,$B6) -> 0 | F6: =COUNTIF(CALENDRIER!G$9:G$1103,$B6) -> 0 | G6: =COUNTIF(CALENDRIER!H$9:H$1103,$B6) -> 0 | H6: =COUNTIF(CALENDRIER!I$9:I$1103,$B6) -> 0 | I6: =COUNTIF(CALENDRIER!J$9:J$1103,$B6) -> 0 | J6: =COUNTIF(CALENDRIER!K$9:K$1103,$B6) -> 0 | ... W6: =COUNTIF(CALENDRIER!X$9:X$1103,$B6) -> 0
B7: FORM | C7: =COUNTIF(CALENDRIER!D$9:D$1103,$B7) -> 0 | D7: =COUNTIF(CALENDRIER!E$9:E$1103,$B7) -> 0 | E7: =COUNTIF(CALENDRIER!F$9:F$1103,$B7) -> 0 | F7: =COUNTIF(CALENDRIER!G$9:G$1103,$B7) -> 0 | G7: =COUNTIF(CALENDRIER!H$9:H$1103,$B7) -> 0 | H7: =COUNTIF(CALENDRIER!I$9:I$1103,$B7) -> 0 | I7: =COUNTIF(CALENDRIER!J$9:J$1103,$B7) -> 0 | J7: =COUNTIF(CALENDRIER!K$9:K$1103,$B7) -> 0 | ... W7: =COUNTIF(CALENDRIER!X$9:X$1103,$B7) -> 0
B8: ABS | C8: =COUNTIF(CALENDRIER!D$9:D$1103,$B8) -> 0 | D8: =COUNTIF(CALENDRIER!E$9:E$1103,$B8) -> 0 | E8: =COUNTIF(CALENDRIER!F$9:F$1103,$B8) -> 0 | F8: =COUNTIF(CALENDRIER!G$9:G$1103,$B8) -> 0 | G8: =COUNTIF(CALENDRIER!H$9:H$1103,$B8) -> 0 | H8: =COUNTIF(CALENDRIER!I$9:I$1103,$B8) -> 0 | I8: =COUNTIF(CALENDRIER!J$9:J$1103,$B8) -> 0 | J8: =COUNTIF(CALENDRIER!K$9:K$1103,$B8) -> 0 | ... W8: =COUNTIF(CALENDRIER!X$9:X$1103,$B8) -> 0
B9: TP | C9: =COUNTIF(CALENDRIER!D$9:D$1103,$B9) -> 0 | D9: =COUNTIF(CALENDRIER!E$9:E$1103,$B9) -> 0 | E9: =COUNTIF(CALENDRIER!F$9:F$1103,$B9) -> 0 | F9: =COUNTIF(CALENDRIER!G$9:G$1103,$B9) -> 0 | G9: =COUNTIF(CALENDRIER!H$9:H$1103,$B9) -> 0 | H9: =COUNTIF(CALENDRIER!I$9:I$1103,$B9) -> 0 | I9: =COUNTIF(CALENDRIER!J$9:J$1103,$B9) -> 0 | J9: =COUNTIF(CALENDRIER!K$9:K$1103,$B9) -> 0 | ... W9: =COUNTIF(CALENDRIER!X$9:X$1103,$B9) -> 0
A10: Septembre | B10: PERM | C10: =COUNTIF(CALENDRIER!D$9:D$98,$B10) -> 0 | D10: =COUNTIF(CALENDRIER!E$9:E$98,$B10) -> 0 | E10: =COUNTIF(CALENDRIER!F$9:F$98,$B10) -> 0 | F10: =COUNTIF(CALENDRIER!G$9:G$98,$B10) -> 0 | G10: =COUNTIF(CALENDRIER!H$9:H$98,$B10) -> 0 | H10: =COUNTIF(CALENDRIER!I$9:I$98,$B10) -> 0 | I10: =COUNTIF(CALENDRIER!J$9:J$98,$B10) -> 0 | J10: =COUNTIF(CALENDRIER!K$9:K$98,$B10) -> 0 | ... W10: =COUNTIF(CALENDRIER!X$9:X$98,$B10) -> 0
B11: P19 | C11: =COUNTIF(CALENDRIER!D$9:D$98,$B11) -> 0 | D11: =COUNTIF(CALENDRIER!E$9:E$98,$B11) -> 0 | E11: =COUNTIF(CALENDRIER!F$9:F$98,$B11) -> 0 | F11: =COUNTIF(CALENDRIER!G$9:G$98,$B11) -> 0 | G11: =COUNTIF(CALENDRIER!H$9:H$98,$B11) -> 0 | H11: =COUNTIF(CALENDRIER!I$9:I$98,$B11) -> 0 | I11: =COUNTIF(CALENDRIER!J$9:J$98,$B11) -> 0 | J11: =COUNTIF(CALENDRIER!K$9:K$98,$B11) -> 0 | ... W11: =COUNTIF(CALENDRIER!X$9:X$98,$B11) -> 0
B12: REU | C12: =COUNTIF(CALENDRIER!D$9:D$98,$B12) -> 0 | D12: =COUNTIF(CALENDRIER!E$9:E$98,$B12) -> 0 | E12: =COUNTIF(CALENDRIER!F$9:F$98,$B12) -> 0 | F12: =COUNTIF(CALENDRIER!G$9:G$98,$B12) -> 0 | G12: =COUNTIF(CALENDRIER!H$9:H$98,$B12) -> 0 | H12: =COUNTIF(CALENDRIER!I$9:I$98,$B12) -> 0 | I12: =COUNTIF(CALENDRIER!J$9:J$98,$B12) -> 0 | J12: =COUNTIF(CALENDRIER!K$9:K$98,$B12) -> 0 | ... W12: =COUNTIF(CALENDRIER!X$9:X$98,$B12) -> 0
B13: TEL1 | C13: =COUNTIF(CALENDRIER!D$9:D$98,$B13) -> 0 | D13: =COUNTIF(CALENDRIER!E$9:E$98,$B13) -> 0 | E13: =COUNTIF(CALENDRIER!F$9:F$98,$B13) -> 0 | F13: =COUNTIF(CALENDRIER!G$9:G$98,$B13) -> 0 | G13: =COUNTIF(CALENDRIER!H$9:H$98,$B13) -> 0 | H13: =COUNTIF(CALENDRIER!I$9:I$98,$B13) -> 0 | I13: =COUNTIF(CALENDRIER!J$9:J$98,$B13) -> 0 | J13: =COUNTIF(CALENDRIER!K$9:K$98,$B13) -> 0 | ... W13: =COUNTIF(CALENDRIER!X$9:X$98,$B13) -> 0
B14: TEL2 | C14: =COUNTIF(CALENDRIER!D$9:D$98,$B14) -> 0 | D14: =COUNTIF(CALENDRIER!E$9:E$98,$B14) -> 0 | E14: =COUNTIF(CALENDRIER!F$9:F$98,$B14) -> 0 | F14: =COUNTIF(CALENDRIER!G$9:G$98,$B14) -> 0 | G14: =COUNTIF(CALENDRIER!H$9:H$98,$B14) -> 0 | H14: =COUNTIF(CALENDRIER!I$9:I$98,$B14) -> 0 | I14: =COUNTIF(CALENDRIER!J$9:J$98,$B14) -> 0 | J14: =COUNTIF(CALENDRIER!K$9:K$98,$B14) -> 0 | ... W14: =COUNTIF(CALENDRIER!X$9:X$98,$B14) -> 0
B15: FORM | C15: =COUNTIF(CALENDRIER!D$9:D$98,$B15) -> 0 | D15: =COUNTIF(CALENDRIER!E$9:E$98,$B15) -> 0 | E15: =COUNTIF(CALENDRIER!F$9:F$98,$B15) -> 0 | F15: =COUNTIF(CALENDRIER!G$9:G$98,$B15) -> 0 | G15: =COUNTIF(CALENDRIER!H$9:H$98,$B15) -> 0 | H15: =COUNTIF(CALENDRIER!I$9:I$98,$B15) -> 0 | I15: =COUNTIF(CALENDRIER!J$9:J$98,$B15) -> 0 | J15: =COUNTIF(CALENDRIER!K$9:K$98,$B15) -> 0 | ... W15: =COUNTIF(CALENDRIER!X$9:X$98,$B15) -> 0
B16: ABS | C16: =COUNTIF(CALENDRIER!D$9:D$98,$B16) -> 0 | D16: =COUNTIF(CALENDRIER!E$9:E$98,$B16) -> 0 | E16: =COUNTIF(CALENDRIER!F$9:F$98,$B16) -> 0 | F16: =COUNTIF(CALENDRIER!G$9:G$98,$B16) -> 0 | G16: =COUNTIF(CALENDRIER!H$9:H$98,$B16) -> 0 | H16: =COUNTIF(CALENDRIER!I$9:I$98,$B16) -> 0 | I16: =COUNTIF(CALENDRIER!J$9:J$98,$B16) -> 0 | J16: =COUNTIF(CALENDRIER!K$9:K$98,$B16) -> 0 | ... W16: =COUNTIF(CALENDRIER!X$9:X$98,$B16) -> 0
B17: TP | C17: =COUNTIF(CALENDRIER!D$9:D$98,$B17) -> 0 | D17: =COUNTIF(CALENDRIER!E$9:E$98,$B17) -> 0 | E17: =COUNTIF(CALENDRIER!F$9:F$98,$B17) -> 0 | F17: =COUNTIF(CALENDRIER!G$9:G$98,$B17) -> 0 | G17: =COUNTIF(CALENDRIER!H$9:H$98,$B17) -> 0 | H17: =COUNTIF(CALENDRIER!I$9:I$98,$B17) -> 0 | I17: =COUNTIF(CALENDRIER!J$9:J$98,$B17) -> 0 | J17: =COUNTIF(CALENDRIER!K$9:K$98,$B17) -> 0 | ... W17: =COUNTIF(CALENDRIER!X$9:X$98,$B17) -> 0
A18: Octobre | B18: PERM | C18: =COUNTIF(CALENDRIER!D$99:D$191,$B18) -> 0 | D18: =COUNTIF(CALENDRIER!E$99:E$191,$B18) -> 0 | E18: =COUNTIF(CALENDRIER!F$99:F$191,$B18) -> 0 | F18: =COUNTIF(CALENDRIER!G$99:G$191,$B18) -> 0 | G18: =COUNTIF(CALENDRIER!H$99:H$191,$B18) -> 0 | H18: =COUNTIF(CALENDRIER!I$99:I$191,$B18) -> 0 | I18: =COUNTIF(CALENDRIER!J$99:J$191,$B18) -> 0 | J18: =COUNTIF(CALENDRIER!K$99:K$191,$B18) -> 0 | ... W18: =COUNTIF(CALENDRIER!X$99:X$191,$B18) -> 0
B19: P20 | C19: =COUNTIF(CALENDRIER!D$99:D$191,$B19) -> 0 | D19: =COUNTIF(CALENDRIER!E$99:E$191,$B19) -> 0 | E19: =COUNTIF(CALENDRIER!F$99:F$191,$B19) -> 0 | F19: =COUNTIF(CALENDRIER!G$99:G$191,$B19) -> 0 | G19: =COUNTIF(CALENDRIER!H$99:H$191,$B19) -> 0 | H19: =COUNTIF(CALENDRIER!I$99:I$191,$B19) -> 0 | I19: =COUNTIF(CALENDRIER!J$99:J$191,$B19) -> 0 | J19: =COUNTIF(CALENDRIER!K$99:K$191,$B19) -> 0 | ... W19: =COUNTIF(CALENDRIER!X$99:X$191,$B19) -> 0
B20: REU | C20: =COUNTIF(CALENDRIER!D$99:D$191,$B20) -> 0 | D20: =COUNTIF(CALENDRIER!E$99:E$191,$B20) -> 0 | E20: =COUNTIF(CALENDRIER!F$99:F$191,$B20) -> 0 | F20: =COUNTIF(CALENDRIER!G$99:G$191,$B20) -> 0 | G20: =COUNTIF(CALENDRIER!H$99:H$191,$B20) -> 0 | H20: =COUNTIF(CALENDRIER!I$99:I$191,$B20) -> 0 | I20: =COUNTIF(CALENDRIER!J$99:J$191,$B20) -> 0 | J20: =COUNTIF(CALENDRIER!K$99:K$191,$B20) -> 0 | ... W20: =COUNTIF(CALENDRIER!X$99:X$191,$B20) -> 0
B21: TEL1 | C21: =COUNTIF(CALENDRIER!D$99:D$191,$B21) -> 0 | D21: =COUNTIF(CALENDRIER!E$99:E$191,$B21) -> 0 | E21: =COUNTIF(CALENDRIER!F$99:F$191,$B21) -> 0 | F21: =COUNTIF(CALENDRIER!G$99:G$191,$B21) -> 0 | G21: =COUNTIF(CALENDRIER!H$99:H$191,$B21) -> 0 | H21: =COUNTIF(CALENDRIER!I$99:I$191,$B21) -> 0 | I21: =COUNTIF(CALENDRIER!J$99:J$191,$B21) -> 0 | J21: =COUNTIF(CALENDRIER!K$99:K$191,$B21) -> 0 | ... W21: =COUNTIF(CALENDRIER!X$99:X$191,$B21) -> 0
B22: TEL2 | C22: =COUNTIF(CALENDRIER!D$99:D$191,$B22) -> 0 | D22: =COUNTIF(CALENDRIER!E$99:E$191,$B22) -> 0 | E22: =COUNTIF(CALENDRIER!F$99:F$191,$B22) -> 0 | F22: =COUNTIF(CALENDRIER!G$99:G$191,$B22) -> 0 | G22: =COUNTIF(CALENDRIER!H$99:H$191,$B22) -> 0 | H22: =COUNTIF(CALENDRIER!I$99:I$191,$B22) -> 0 | I22: =COUNTIF(CALENDRIER!J$99:J$191,$B22) -> 0 | J22: =COUNTIF(CALENDRIER!K$99:K$191,$B22) -> 0 | ... W22: =COUNTIF(CALENDRIER!X$99:X$191,$B22) -> 0
B23: FORM | C23: =COUNTIF(CALENDRIER!D$99:D$191,$B23) -> 0 | D23: =COUNTIF(CALENDRIER!E$99:E$191,$B23) -> 0 | E23: =COUNTIF(CALENDRIER!F$99:F$191,$B23) -> 0 | F23: =COUNTIF(CALENDRIER!G$99:G$191,$B23) -> 0 | G23: =COUNTIF(CALENDRIER!H$99:H$191,$B23) -> 0 | H23: =COUNTIF(CALENDRIER!I$99:I$191,$B23) -> 0 | I23: =COUNTIF(CALENDRIER!J$99:J$191,$B23) -> 0 | J23: =COUNTIF(CALENDRIER!K$99:K$191,$B23) -> 0 | ... W23: =COUNTIF(CALENDRIER!X$99:X$191,$B23) -> 0
B24: ABS | C24: =COUNTIF(CALENDRIER!D$99:D$191,$B24) -> 0 | D24: =COUNTIF(CALENDRIER!E$99:E$191,$B24) -> 0 | E24: =COUNTIF(CALENDRIER!F$99:F$191,$B24) -> 0 | F24: =COUNTIF(CALENDRIER!G$99:G$191,$B24) -> 0 | G24: =COUNTIF(CALENDRIER!H$99:H$191,$B24) -> 0 | H24: =COUNTIF(CALENDRIER!I$99:I$191,$B24) -> 0 | I24: =COUNTIF(CALENDRIER!J$99:J$191,$B24) -> 0 | J24: =COUNTIF(CALENDRIER!K$99:K$191,$B24) -> 0 | ... W24: =COUNTIF(CALENDRIER!X$99:X$191,$B24) -> 0
B25: TP | C25: =COUNTIF(CALENDRIER!D$99:D$191,$B25) -> 0 | D25: =COUNTIF(CALENDRIER!E$99:E$191,$B25) -> 0 | E25: =COUNTIF(CALENDRIER!F$99:F$191,$B25) -> 0 | F25: =COUNTIF(CALENDRIER!G$99:G$191,$B25) -> 0 | G25: =COUNTIF(CALENDRIER!H$99:H$191,$B25) -> 0 | H25: =COUNTIF(CALENDRIER!I$99:I$191,$B25) -> 0 | I25: =COUNTIF(CALENDRIER!J$99:J$191,$B25) -> 0 | J25: =COUNTIF(CALENDRIER!K$99:K$191,$B25) -> 0 | ... W25: =COUNTIF(CALENDRIER!X$99:X$191,$B25) -> 0
A26: Novembre | B26: PERM | C26: =COUNTIF(CALENDRIER!D$192:D$281,$B26) -> 0 | D26: =COUNTIF(CALENDRIER!E$192:E$281,$B26) -> 0 | E26: =COUNTIF(CALENDRIER!F$192:F$281,$B26) -> 0 | F26: =COUNTIF(CALENDRIER!G$192:G$281,$B26) -> 0 | G26: =COUNTIF(CALENDRIER!H$192:H$281,$B26) -> 0 | H26: =COUNTIF(CALENDRIER!I$192:I$281,$B26) -> 0 | I26: =COUNTIF(CALENDRIER!J$192:J$281,$B26) -> 0 | J26: =COUNTIF(CALENDRIER!K$192:K$281,$B26) -> 0 | ... W26: =COUNTIF(CALENDRIER!X$192:X$281,$B26) -> 0
B27: P21 | C27: =COUNTIF(CALENDRIER!D$192:D$281,$B27) -> 0 | D27: =COUNTIF(CALENDRIER!E$192:E$281,$B27) -> 0 | E27: =COUNTIF(CALENDRIER!F$192:F$281,$B27) -> 0 | F27: =COUNTIF(CALENDRIER!G$192:G$281,$B27) -> 0 | G27: =COUNTIF(CALENDRIER!H$192:H$281,$B27) -> 0 | H27: =COUNTIF(CALENDRIER!I$192:I$281,$B27) -> 0 | I27: =COUNTIF(CALENDRIER!J$192:J$281,$B27) -> 0 | J27: =COUNTIF(CALENDRIER!K$192:K$281,$B27) -> 0 | ... W27: =COUNTIF(CALENDRIER!X$192:X$281,$B27) -> 0
B28: REU | C28: =COUNTIF(CALENDRIER!D$192:D$281,$B28) -> 0 | D28: =COUNTIF(CALENDRIER!E$192:E$281,$B28) -> 0 | E28: =COUNTIF(CALENDRIER!F$192:F$281,$B28) -> 0 | F28: =COUNTIF(CALENDRIER!G$192:G$281,$B28) -> 0 | G28: =COUNTIF(CALENDRIER!H$192:H$281,$B28) -> 0 | H28: =COUNTIF(CALENDRIER!I$192:I$281,$B28) -> 0 | I28: =COUNTIF(CALENDRIER!J$192:J$281,$B28) -> 0 | J28: =COUNTIF(CALENDRIER!K$192:K$281,$B28) -> 0 | ... W28: =COUNTIF(CALENDRIER!X$192:X$281,$B28) -> 0
B29: TEL1 | C29: =COUNTIF(CALENDRIER!D$192:D$281,$B29) -> 0 | D29: =COUNTIF(CALENDRIER!E$192:E$281,$B29) -> 0 | E29: =COUNTIF(CALENDRIER!F$192:F$281,$B29) -> 0 | F29: =COUNTIF(CALENDRIER!G$192:G$281,$B29) -> 0 | G29: =COUNTIF(CALENDRIER!H$192:H$281,$B29) -> 0 | H29: =COUNTIF(CALENDRIER!I$192:I$281,$B29) -> 0 | I29: =COUNTIF(CALENDRIER!J$192:J$281,$B29) -> 0 | J29: =COUNTIF(CALENDRIER!K$192:K$281,$B29) -> 0 | ... W29: =COUNTIF(CALENDRIER!X$192:X$281,$B29) -> 0
B30: TEL2 | C30: =COUNTIF(CALENDRIER!D$192:D$281,$B30) -> 0 | D30: =COUNTIF(CALENDRIER!E$192:E$281,$B30) -> 0 | E30: =COUNTIF(CALENDRIER!F$192:F$281,$B30) -> 0 | F30: =COUNTIF(CALENDRIER!G$192:G$281,$B30) -> 0 | G30: =COUNTIF(CALENDRIER!H$192:H$281,$B30) -> 0 | H30: =COUNTIF(CALENDRIER!I$192:I$281,$B30) -> 0 | I30: =COUNTIF(CALENDRIER!J$192:J$281,$B30) -> 0 | J30: =COUNTIF(CALENDRIER!K$192:K$281,$B30) -> 0 | ... W30: =COUNTIF(CALENDRIER!X$192:X$281,$B30) -> 0
B31: FORM | C31: =COUNTIF(CALENDRIER!D$192:D$281,$B31) -> 0 | D31: =COUNTIF(CALENDRIER!E$192:E$281,$B31) -> 0 | E31: =COUNTIF(CALENDRIER!F$192:F$281,$B31) -> 0 | F31: =COUNTIF(CALENDRIER!G$192:G$281,$B31) -> 0 | G31: =COUNTIF(CALENDRIER!H$192:H$281,$B31) -> 0 | H31: =COUNTIF(CALENDRIER!I$192:I$281,$B31) -> 0 | I31: =COUNTIF(CALENDRIER!J$192:J$281,$B31) -> 0 | J31: =COUNTIF(CALENDRIER!K$192:K$281,$B31) -> 0 | ... W31: =COUNTIF(CALENDRIER!X$192:X$281,$B31) -> 0
B32: ABS | C32: =COUNTIF(CALENDRIER!D$192:D$281,$B32) -> 0 | D32: =COUNTIF(CALENDRIER!E$192:E$281,$B32) -> 0 | E32: =COUNTIF(CALENDRIER!F$192:F$281,$B32) -> 0 | F32: =COUNTIF(CALENDRIER!G$192:G$281,$B32) -> 0 | G32: =COUNTIF(CALENDRIER!H$192:H$281,$B32) -> 0 | H32: =COUNTIF(CALENDRIER!I$192:I$281,$B32) -> 0 | I32: =COUNTIF(CALENDRIER!J$192:J$281,$B32) -> 0 | J32: =COUNTIF(CALENDRIER!K$192:K$281,$B32) -> 0 | ... W32: =COUNTIF(CALENDRIER!X$192:X$281,$B32) -> 0
B33: TP | C33: =COUNTIF(CALENDRIER!D$192:D$281,$B33) -> 0 | D33: =COUNTIF(CALENDRIER!E$192:E$281,$B33) -> 0 | E33: =COUNTIF(CALENDRIER!F$192:F$281,$B33) -> 0 | F33: =COUNTIF(CALENDRIER!G$192:G$281,$B33) -> 0 | G33: =COUNTIF(CALENDRIER!H$192:H$281,$B33) -> 0 | H33: =COUNTIF(CALENDRIER!I$192:I$281,$B33) -> 0 | I33: =COUNTIF(CALENDRIER!J$192:J$281,$B33) -> 0 | J33: =COUNTIF(CALENDRIER!K$192:K$281,$B33) -> 0 | ... W33: =COUNTIF(CALENDRIER!X$192:X$281,$B33) -> 0
A34: Décembre | B34: PERM | C34: =COUNTIF(CALENDRIER!D$282:D$374,$B34) -> 0 | D34: =COUNTIF(CALENDRIER!E$282:E$374,$B34) -> 0 | E34: =COUNTIF(CALENDRIER!F$282:F$374,$B34) -> 0 | F34: =COUNTIF(CALENDRIER!G$282:G$374,$B34) -> 0 | G34: =COUNTIF(CALENDRIER!H$282:H$374,$B34) -> 0 | H34: =COUNTIF(CALENDRIER!I$282:I$374,$B34) -> 0 | I34: =COUNTIF(CALENDRIER!J$282:J$374,$B34) -> 0 | J34: =COUNTIF(CALENDRIER!K$282:K$374,$B34) -> 0 | ... W34: =COUNTIF(CALENDRIER!X$282:X$374,$B34) -> 0
B35: P22 | C35: =COUNTIF(CALENDRIER!D$282:D$374,$B35) -> 0 | D35: =COUNTIF(CALENDRIER!E$282:E$374,$B35) -> 0 | E35: =COUNTIF(CALENDRIER!F$282:F$374,$B35) -> 0 | F35: =COUNTIF(CALENDRIER!G$282:G$374,$B35) -> 0 | G35: =COUNTIF(CALENDRIER!H$282:H$374,$B35) -> 0 | H35: =COUNTIF(CALENDRIER!I$282:I$374,$B35) -> 0 | I35: =COUNTIF(CALENDRIER!J$282:J$374,$B35) -> 0 | J35: =COUNTIF(CALENDRIER!K$282:K$374,$B35) -> 0 | ... W35: =COUNTIF(CALENDRIER!X$282:X$374,$B35) -> 0
B36: REU | C36: =COUNTIF(CALENDRIER!D$282:D$374,$B36) -> 0 | D36: =COUNTIF(CALENDRIER!E$282:E$374,$B36) -> 0 | E36: =COUNTIF(CALENDRIER!F$282:F$374,$B36) -> 0 | F36: =COUNTIF(CALENDRIER!G$282:G$374,$B36) -> 0 | G36: =COUNTIF(CALENDRIER!H$282:H$374,$B36) -> 0 | H36: =COUNTIF(CALENDRIER!I$282:I$374,$B36) -> 0 | I36: =COUNTIF(CALENDRIER!J$282:J$374,$B36) -> 0 | J36: =COUNTIF(CALENDRIER!K$282:K$374,$B36) -> 0 | ... W36: =COUNTIF(CALENDRIER!X$282:X$374,$B36) -> 0
B37: TEL1 | C37: =COUNTIF(CALENDRIER!D$282:D$374,$B37) -> 0 | D37: =COUNTIF(CALENDRIER!E$282:E$374,$B37) -> 0 | E37: =COUNTIF(CALENDRIER!F$282:F$374,$B37) -> 0 | F37: =COUNTIF(CALENDRIER!G$282:G$374,$B37) -> 0 | G37: =COUNTIF(CALENDRIER!H$282:H$374,$B37) -> 0 | H37: =COUNTIF(CALENDRIER!I$282:I$374,$B37) -> 0 | I37: =COUNTIF(CALENDRIER!J$282:J$374,$B37) -> 0 | J37: =COUNTIF(CALENDRIER!K$282:K$374,$B37) -> 0 | ... W37: =COUNTIF(CALENDRIER!X$282:X$374,$B37) -> 0
B38: TEL2 | C38: =COUNTIF(CALENDRIER!D$282:D$374,$B38) -> 0 | D38: =COUNTIF(CALENDRIER!E$282:E$374,$B38) -> 0 | E38: =COUNTIF(CALENDRIER!F$282:F$374,$B38) -> 0 | F38: =COUNTIF(CALENDRIER!G$282:G$374,$B38) -> 0 | G38: =COUNTIF(CALENDRIER!H$282:H$374,$B38) -> 0 | H38: =COUNTIF(CALENDRIER!I$282:I$374,$B38) -> 0 | I38: =COUNTIF(CALENDRIER!J$282:J$374,$B38) -> 0 | J38: =COUNTIF(CALENDRIER!K$282:K$374,$B38) -> 0 | ... W38: =COUNTIF(CALENDRIER!X$282:X$374,$B38) -> 0
B39: FORM | C39: =COUNTIF(CALENDRIER!D$282:D$374,$B39) -> 0 | D39: =COUNTIF(CALENDRIER!E$282:E$374,$B39) -> 0 | E39: =COUNTIF(CALENDRIER!F$282:F$374,$B39) -> 0 | F39: =COUNTIF(CALENDRIER!G$282:G$374,$B39) -> 0 | G39: =COUNTIF(CALENDRIER!H$282:H$374,$B39) -> 0 | H39: =COUNTIF(CALENDRIER!I$282:I$374,$B39) -> 0 | I39: =COUNTIF(CALENDRIER!J$282:J$374,$B39) -> 0 | J39: =COUNTIF(CALENDRIER!K$282:K$374,$B39) -> 0 | ... W39: =COUNTIF(CALENDRIER!X$282:X$374,$B39) -> 0
B40: ABS | C40: =COUNTIF(CALENDRIER!D$282:D$374,$B40) -> 0 | D40: =COUNTIF(CALENDRIER!E$282:E$374,$B40) -> 0 | E40: =COUNTIF(CALENDRIER!F$282:F$374,$B40) -> 0 | F40: =COUNTIF(CALENDRIER!G$282:G$374,$B40) -> 0 | G40: =COUNTIF(CALENDRIER!H$282:H$374,$B40) -> 0 | H40: =COUNTIF(CALENDRIER!I$282:I$374,$B40) -> 0 | I40: =COUNTIF(CALENDRIER!J$282:J$374,$B40) -> 0 | J40: =COUNTIF(CALENDRIER!K$282:K$374,$B40) -> 0 | ... W40: =COUNTIF(CALENDRIER!X$282:X$374,$B40) -> 0
...
