Workbook
Name Année: CALENDRIER!$H$3
Name Année1: CALENDRIER!$H$3
Name AnnéeA: CALENDRIER!$H$3
Name AnnéeB: CALENDRIER!$I$3

Sheet CALENDRIER
B3: Calendrier de l'année : | H3: 2024 | I3: 2025 | L3: Légende : | M3: PERM | N3: P19 | O3: REU | P3: TEL1 | Q3: TEL2 | R3: FORM | S3: ABS | T3: TP | U3: Jours fériés / WE / fermeture | V3: Semaine réduite
C8: Période journée | D8: =Paramétrage!E2 -> Personnel 1 | E8: =Paramétrage!F2 -> Personnel 2 | F8: =Paramétrage!G2 -> Personnel 3 | G8: =Paramétrage!H2 -> Personnel 4 | H8: =Paramétrage!I2 -> Personnel 5 | I8: =Paramétrage!J2 -> Personnel 6 | J8: =Paramétrage!K2 -> Personnel 7 | K8: =Paramétrage!L2 -> Personnel 8 | ... X8: =Paramétrage!Y2 -> Personnel 21 | Z8: =Paramétrage!E3 -> Vacataire 1 | AA8: =Paramétrage!F3 -> Vacataire 2 | AB8: =Paramétrage!G3 -> Vacataire 3 | AC8: =Paramétrage!H3 -> Vacataire 4 | AD8: =Paramétrage!I3 -> Vacataire 5 | AE8: =Paramétrage!J3 -> Vacataire 6 | AF8: =Paramétrage!K3 -> Vacataire 7 | AG8: =Paramétrage!L3 -> Vacataire 8 | ... AS8: =Paramétrage!X3 -> Vacataire 20
A9: =B9 -> 45536 | B9: =DATE(AnnéeA,9,1) -> 45536 | C9: matin
C10: après-midi
C11: soir
A12: =B12 -> 45537 | B12: =B9+1 -> 45537 | C12: matin
C13: après-midi
C14: soir
A15: =B15 -> 45538 | B15: =B12+1 -> 45538 | C15: matin
C16: après-midi
C17: soir
A18: =B18 -> 45539 | B18: =B15+1 -> 45539 | C18: matin
C19: après-midi
C20: soir
A21: =B21 -> 45540 | B21: =B18+1 -> 45540 | C21: matin
C22: après-midi
C23: soir
A24: =B24 -> 45541 | B24: =B21+1 -> 45541 | C24: matin
C25: après-midi
C26: soir
A27: =B27 -> 45542 | B27: =B24+1 -> 45542 | C27: matin
C28: après-midi
C29: soir
A30: =B30 -> 45543 | B30: =B27+1 -> 45543 | C30: matin
C31: après-midi
C32: soir
A33: =B33 -> 45544 | B33: =B30+1 -> 45544 | C33: matin
C34: après-midi
C35: soir
A36: =B36 -> 45545 | B36: =B33+1 -> 45545 | C36: matin
C37: après-midi
C38: soir
A39: =B39 -> 45546 | B39: =B36+1 -> 45546 | C39: matin
C40: après-midi
C41: soir
A42: =B42 -> 45547 | B42: =B39+1 -> 45547 | C42: matin
C43: après-midi
C44: soir
A45: =B45 -> 45548 | B45: =B42+1 -> 45548 | C45: matin
C46: après-midi
C47: soir
A48: =B48 -> 45549 | B48: =B45+1 -> 45549 | C48: matin
C49: après-midi
C50: soir
A51: =B51 -> 45550 | B51: =B48+1 -> 45550 | C51: matin
C52: après-midi
C53: soir
A54: =B54 -> 45551 | B54: =B51+1 -> 45551 | C54: matin
C55: après-midi
C56: soir
A57: =B57 -> 45552 | B57: =B54+1 -> 45552 | C57: matin
C58: après-midi
C59: soir
A60: =B60 -> 45553 | B60: =B57+1 -> 45553 | C60: matin
C61: après-midi
C62: soir
A63: =B63 -> 45554 | B63: =B60+1 -> 45554 | C63: matin
C64: après-midi
C65: soir
A66: =B66 -> 45555 | B66: =B63+1 -> 45555 | C66: matin
C67: après-midi
C68: soir
A69: =B69 -> 45556 | B69: =B66+1 -> 45556 | C69: matin
C70: après-midi
C71: soir
A72: =B72 -> 45557 | B72: =B69+1 -> 45557 | C72: matin
C73: après-midi
C74: soir
A75: =B75 -> 45558 | B75: =B72+1 -> 45558 | C75: matin
C76: après-midi
C77: soir
A78: =B78 -> 45559 | B78: =B75+1 -> 45559 | C78: matin
C79: après-midi
C80: soir
A81: =B81 -> 45560 | B81: =B78+1 -> 45560 | C81: matin
C82: après-midi
C83: soir
A84: =B84 -> 45561 | B84: =B81+1 -> 45561 | C84: matin
C85: après-midi
C86: soir
A87: =B87 -> 45562 | B87: =B84+1 -> 45562 | C87: matin
C88: après-midi
C89: soir
A90: =B90 -> 45563 | B90: =B87+1 -> 45563 | C90: matin
C91: après-midi
C92: soir
A93: =B93 -> 45564 | B93: =B90+1 -> 45564 | C93: matin
C94: après-midi
C95: soir
A96: =B96 -> 45565 | B96: =B93+1 -> 45565 | C96: matin
C97: après-midi
C98: soir
A99: =B99 -> 45566 | B99: =B96+1 -> 45566 | C99: matin
C100: après-midi
C101: soir
A102: =B102 -> 45567 | B102: =B99+1 -> 45567 | C102: matin
C103: après-midi
C104: soir
A105: =B105 -> 45568 | B105: =B102+1 -> 45568 | C105: matin
C106: après-midi
...

Sheet Données injectées
B2: PERM | C2: Date | D2: Période | F2: P19 | G2: Date | H2: Période | J2: REU | K2: Date | L2: Période | N2: TEL1 | O2: Date | P2: Période | R2: TEL2 | S2: Date | T2: Période | V2: FORM | W2: Date | X2: Période | Z2: ABS | AA2: Date | AB2: Période | AD2: TP | AE2: Date | AF2: Période
B3: Personnel 1 | C3: 45536 | D3: matin | F3: Personnel 1 | G3: 45537 | H3: soir | J3: Personnel 1 | K3: 45538 | L3: matin | N3: Personnel 1 | O3: 45539 | P3: matin | R3: Personnel 1 | S3: 45540 | T3: matin | V3: Personnel 1 | W3: 45541 | X3: matin | Z3: Personnel 1 | AA3: 45541 | AB3: matin | AD3: Personnel 1 | AE3: 45542 | AF3: matin
B4: Personnel 2 | C4: 45536 | D4: après-midi | F4: Personnel 2 | G4: 45537 | H4: soir | J4: Personnel 2 | K4: 45538 | L4: après-midi | N4: Personnel 2 | O4: 45539 | P4: après-midi | R4: Personnel 2 | S4: 45540 | T4: après-midi | V4: Personnel 2 | W4: 45541 | X4: après-midi | Z4: Personnel 2 | AA4: 45541 | AB4: après-midi | AD4: Personnel 2 | AE4: 45542 | AF4: après-midi

Sheet Jours OFF
B2: Jours fériés | C2: Date | E2: Semaine réduite | F2: Date | H2: Fermeture | I2: Date
B3: Toussaint | C3: =DATE(AnnéeA,11,1) -> 45597
B4: Armistice 1918 | C4: =DATE(AnnéeA,11,11) -> 45607
B5: Jour de Noël | C5: =DATE(AnnéeA,12,25) -> 45651
B6: Jour de l'an | C6: =DATE(AnnéeB,1,1) -> 45658
B7: Lundi de Pâques | C7: =DATE(AnnéeB,4,1) -> 45748
B8: Fête du travail | C8: =DATE(AnnéeB,5,1) -> 45778
B9: Victoire 1945 | C9: =DATE(AnnéeB,5,8) -> 45785
B10: Ascension | C10: =C7+38 -> 45786
B11: Pentecôte | C11: =C7+49 -> 45797
B12: Fête Nationale | C12: =DATE(AnnéeB,7,14) -> 45852
B13: Assomption | C13: =DATE(AnnéeB,8,15) -> 45884

Sheet Paramétrage
A1: Application de mise en forme conditionnelle (couleurs) | E1: Liste des personnels / vacataires
A2: Week-ends | B2: Gris | C2: =JOURSEM($B9;2)>5 | E2: Personnel 1 | F2: Personnel 2 | G2: Personnel 3 | H2: Personnel 4 | I2: Personnel 5 | J2: Personnel 6 | K2: Personnel 7 | L2: Personnel 8 | M2: Personnel 9 | N2: Personnel 10 | O2: Personnel 11 | P2: Personnel 12 | Q2: Personnel 13 | R2: Personnel 14 | S2: Personnel 15 | T2: Personnel 16 | U2: Personnel 17 | V2: Personnel 18 | W2: Personnel 19 | X2: Personnel 20 | Y2: Personnel 21
A3: Jours fériés | B3: Gris | C3: =OU(NB.SI(Paramètres!$C$3:$C$100;$B9)=1;NB.SI(Paramètres!$C$3:$C$100;$B9)=1) | E3: Vacataire 1 | F3: Vacataire 2 | G3: Vacataire 3 | H3: Vacataire 4 | I3: Vacataire 5 | J3: Vacataire 6 | K3: Vacataire 7 | L3: Vacataire 8 | M3: Vacataire 9 | N3: Vacataire 10 | O3: Vacataire 11 | P3: Vacataire 12 | Q3: Vacataire 13 | R3: Vacataire 14 | S3: Vacataire 15 | T3: Vacataire 16 | U3: Vacataire 17 | V3: Vacataire 18 | W3: Vacataire 19 | X3: Vacataire 20
A4: Fermeture | B4: Gris | C4: =OU(NB.SI(Paramètres!$I$3:$I$100;$B9)=1;NB.SI(Paramètres!$I$3:$I$100;B9)=1)
A5: Semaine réduite | B5: Vert | C5: =OU(NB.SI(Paramètres!$F$3:$F$100;$B9)=1;NB.SI(Paramètres!$F$3:$F$100;B9)=1)
C6: =SI(NB.SI.ENS('Données injectées'!B:B;CALENDRIER!D8;'Données injectées'!C:C;CALENDRIER!B9;'Données injectées'!D:D;CALENDRIER!C9);"PERM";"")

Sheet STATISTIQUES GLOBALES
C1: =CALENDRIER!D8 -> Personnel 1 | D1: =CALENDRIER!E8 -> Personnel 2 | E1: =CALENDRIER!F8 -> Personnel 3 | F1: =CALENDRIER!G8 -> Personnel 4 | G1: =CALENDRIER!H8 -> Personnel 5 | H1: =CALENDRIER!I8 -> Personnel 6 | I1: =CALENDRIER!J8 -> Personnel 7 | J1: =CALENDRIER!K8 -> Personnel 8 | ... W1: =CALENDRIER!X8 -> Personnel 21
A2: Sur l'année | B2: PERM | C2: =COUNTIF(CALENDRIER!D$9:D$1103,$B2) -> 0 | D2: =COUNTIF(CALENDRIER!E$9:E$1103,$B2) -> 0 | E2: =COUNTIF(CALENDRIER!F$9:F$1103,$B2) -> 0 | F2: =COUNTIF(CALENDRIER!G$9:G$1103,$B2) -> 0 | G2: =COUNTIF(CALENDRIER!H$9:H$1103,$B2) -> 0 | H2: =COUNTIF(CALENDRIER!I$9:I$1103,$B2) -> 0 | I2: =COUNTIF(CALENDRIER!J$9:J$1103,$B2) -> 0 | J2: =COUNTIF(CALENDRIER!K$9:K$1103,$B2) -> 0 | ... W2: =COUNTIF(CALENDRIER!X$9:X$1103,$B2) -> 0
B3: P19 | C3: =COUNTIF(CALENDRIER!D$9:D$1103,$B3) -> 0 | D3: =COUNTIF(CALENDRIER!E$9:E$1103,$B3) -> 0 | E3: =COUNTIF(CALENDRIER!F$9:F$1103,$B3) -> 0 | F3: =COUNTIF(CALENDRIER!G$9:G$1103,$B3) -> 0 | G3: =COUNTIF(CALENDRIER!H$9:H$1103,$B3) -> 0 | H3: =COUNTIF(CALENDRIER!I$9:I$1103,$B3) -> 0 | I3: =COUNTIF(CALENDRIER!J$9:J$1103,$B3) -> 0 | J3: =COUNTIF(CALENDRIER!K$9:K$1103,$B3) -> 0 | ... W3: =COUNTIF(CALENDRIER!X$9:X$1103,$B3) -> 0
B4: REU | C4: =COUNTIF(CALENDRIER!D$9:D$1103,$B4) -> 0 | D4: =COUNTIF(CALENDRIER!E$9:E$1103,$B4) -> 0 | E4: =COUNTIF(CALENDRIER!F$9:F$1103,$B4) -> 0 | F4: =COUNTIF(CALENDRIER!G$9:G$1103,$B4) -> 0 | G4: =COUNTIF(CALENDRIER!H$9:H$1103,$B4) -> 0 | H4: =COUNTIF(CALENDRIER!I$9:I$1103,$B4) -> 0 | I4: =COUNTIF(CALENDRIER!J$9:J$1103,$B4) -> 0 | J4: =COUNTIF(CALENDRIER!K$9:K$1103,$B4) -> 0 | ... W4: =COUNTIF(CALENDRIER!X$9:X$1103,$B4) -> 0
B5: TEL1 | C5: =COUNTIF(CALENDRIER!D$9:D$1103,$B5) -> 0 | D5: =COUNTIF(CALENDRIER!E$9:E$1103,$B5) -> 0 | E5: =COUNTIF(CALENDRIER!F$9:F$1103,$B5) -> 0 | F5: =COUNTIF(CALENDRIER!G$9:G$1103,$B5) -> 0 | G5: =COUNTIF(CALENDRIER!H$9:H$1103,$B5) -> 0 | H5: =COUNTIF(CALENDRIER!I$9:I$1103,$B5) -> 0 | I5: =COUNTIF(CALENDRIER!J$9:J$1103,$B5) -> 0 | J5: =COUNTIF(CALENDRIER!K$9:K$1103,$B5) -> 0 | ... W5: =COUNTIF(CALENDRIER!X$9:X$1103,$B5) -> 0
B6: TEL2 | C6: =COUNTIF(CALENDRIER!D$9:D$1103,$B6) -> 0 | D6: =COUNTIF(CALENDRIER!E$9:E$1103,$B6) -> 0 | E6: =COUNTIF(CALENDRIER!F$9:F$1103,$B6) -> 0 | F6: =COUNTIF(CALENDRIER!G$9:G$1103,$B6) -> 0 | G6: =COUNTIF(CALENDRIER!H$9:H$1103,$B6) -> 0 | H6: =COUNTIF(CALENDRIER!I$9:I$1103,$B6) -> 0 | I6: =COUNTIF(CALENDRIER!J$9:J$1103,$B6) -> 0 | J6: =COUNTIF(CALENDRIER!K$9:K$1103,$B6) -> 0 | ... W6: =COUNTIF(CALENDRIER!X$9:X$1103,$B6) -> 0
B7: FORM | C7: =COUNTIF(CALENDRIER!D$9:D$1103,$B7) -> 0 | D7: =COUNTIF(CALENDRIER!E$9:E$1103,$B7) -> 0 | E7: =COUNTIF(CALENDRIER!F$9:F$1103,$B7) -> 0 | F7: =COUNTIF(CALENDRIER!G$9:G$1103,$B7) -> 0 | G7: =COUNTIF(CALENDRIER!H$9:H$1103,$B7) -> 0 | H7: =COUNTIF(CALENDRIER!I$9:I$1103,$B7) -> 0 | I7: =COUNTIF(CALENDRIER!J$9:J$1103,$B7) -> 0 | J7: =COUNTIF(CALENDRIER!K$9:K$1103,$B7) -> 0 | ... W7: =COUNTIF(CALENDRIER!X$9:X$1103,$B7) -> 0
B8: ABS | C8: =COUNTIF(CALENDRIER!D$9:D$1103,$B8) -> 0 | D8: =COUNTIF(CALENDRIER!E$9:E$1103,$B8) -> 0 | E8: =COUNTIF(CALENDRIER!F$9:F$1103,$B8) -> 0 | F8: =COUNTIF(CALENDRIER!G$9:G$1103,$B8) -> 0 | G8: =COUNTIF(CALENDRIER!H$9:H$1103,$B8) -> 0 | H8: =COUNTIF(CALENDRIER!I$9:I$1103,$B8) -> 0 | I8: =COUNTIF(CALENDRIER!J$9:J$1103,$B8) -> 0 | J8: =COUNTIF(CALENDRIER!K$9:K$1103,$B8) -> 0 | ... W8: =COUNTIF(CALENDRIER!X$9:X$1103,$B8) -> 0
B9: TP | C9: =COUNTIF(CALENDRIER!D$9:D$1103,$B9) -> 0 | D9: =COUNTIF(CALENDRIER!E$9:E$1103,$B9) -> 0 | E9: =COUNTIF(CALENDRIER!F$9:F$1103,$B9) -> 0 | F9: =COUNTIF(CALENDRIER!G$9:G$1103,$B9) -> 0 | G9: =COUNTIF(CALENDRIER!H$9:H$1103,$B9) -> 0 | H9: =COUNTIF(CALENDRIER!I$9:I$1103,$B9) -> 0 | I9: =COUNTIF(CALENDRIER!J$9:J$1103,$B9) -> 0 | J9: =COUNTIF(CALENDRIER!K$9:K$1103,$B9) -> 0 | ... W9: =COUNTIF(CALENDRIER!X$9:X$1103,$B9) -> 0
A10: Septembre | B10: PERM | C10: =COUNTIF(CALENDRIER!D$9:D$98,$B10) -> 0 | D10: =COUNTIF(CALENDRIER!E$9:E$98,$B10) -> 0 | E10: =COUNTIF(CALENDRIER!F$9:F$98,$B10) -> 0 | F10: =COUNTIF(CALENDRIER!G$9:G$98,$B10) -> 0 | G10: =COUNTIF(CALENDRIER!H$9:H$98,$B10) -> 0 | H10: =COUNTIF(CALENDRIER!I$9:I$98,$B10) -> 0 | I10: =COUNTIF(CALENDRIER!J$9:J$98,$B10) -> 0 | J10: =COUNTIF(CALENDRIER!K$9:K$98,$B10) -> 0 | ... W10: =COUNTIF(CALENDRIER!X$9:X$98,$B10) -> 0
B11: P19 | C11: =COUNTIF(CALENDRIER!D$9:D$98,$B11) -> 0 | D11: =COUNTIF(CALENDRIER!E$9:E$98,$B11) -> 0 | E11: =COUNTIF(CALENDRIER!F$9:F$98,$B11) -> 0 | F11: =COUNTIF(CALENDRIER!G$9:G$98,$B11) -> 0 | G11: =COUNTIF(CALENDRIER!H$9:H$98,$B11) -> 0 | H11: =COUNTIF(CALENDRIER!I$9:I$98,$B11) -> 0 | I11: =COUNTIF(CALENDRIER!J$9:J$98,$B11) -> 0 | J11: =COUNTIF(CALENDRIER!K$9:K$98,$B11) -> 0 | ... W11: =COUNTIF(CALENDRIER!X$9:X$98,$B11) -> 0
B12: REU | C12: =COUNTIF(CALENDRIER!D$9:D$98,$B12) -> 0 | D12: =COUNTIF(CALENDRIER!E$9:E$98,$B12) -> 0 | E12: =COUNTIF(CALENDRIER!F$9:F$98,$B12) -> 0 | F12: =COUNTIF(CALENDRIER!G$9:G$98,$B12) -> 0 | G12: =COUNTIF(CALENDRIER!H$9:H$98,$B12) -> 0 | H12: =COUNTIF(CALENDRIER!I$9:I$98,$B12) -> 0 | I12: =COUNTIF(CALENDRIER!J$9:J$98,$B12) -> 0 | J12: =COUNTIF(CALENDRIER!K$9:K$98,$B12) -> 0 | ... W12: =COUNTIF(CALENDRIER!X$9:X$98,$B12) -> 0
B13: TEL1 | C13: =COUNTIF(CALENDRIER!D$9:D$98,$B13) -> 0 | D13: =COUNTIF(CALENDRIER!E$9:E$98,$B13) -> 0 | E13: =COUNTIF(CALENDRIER!F$9:F$98,$B13) -> 0 | F13: =COUNTIF(CALENDRIER!G$9:G$98,$B13) -> 0 | G13: =COUNTIF(CALENDRIER!H$9:H$98,$B13) -> 0 | H13: =COUNTIF(CALENDRIER!I$9:I$98,$B13) -> 0 | I13: =COUNTIF(CALENDRIER!J$9:J$98,$B13) -> 0 | J13: =COUNTIF(CALENDRIER!K$9:K$98,$B13) -> 0 | ... W13: =COUNTIF(CALENDRIER!X$9:X$98,$B13) -> 0
B14: TEL2 | C14: =COUNTIF(CALENDRIER!D$9:D$98,$B14) -> 0 | D14: =COUNTIF(CALENDRIER!E$9:E$98,$B14) -> 0 | E14: =COUNTIF(CALENDRIER!F$9:F$98,$B14) -> 0 | F14: =COUNTIF(CALENDRIER!G$9:G$98,$B14) -> 0 | G14: =COUNTIF(CALENDRIER!H$9:H$98,$B14) -> 0 | H14: =COUNTIF(CALENDRIER!I$9:I$98,$B14) -> 0 | I14: =COUNTIF(CALENDRIER!J$9:J$98,$B14) -> 0 | J14: =COUNTIF(CALENDRIER!K$9:K$98,$B14) -> 0 | ... W14: =COUNTIF(CALENDRIER!X$9:X$98,$B14) -> 0
B15: FORM | C15: =COUNTIF(CALENDRIER!D$9:D$98,$B15) -> 0 | D15: =COUNTIF(CALENDRIER!E$9:E$98,$B15) -> 0 | E15: =COUNTIF(CALENDRIER!F$9:F$98,$B15) -> 0 | F15: =COUNTIF(CALENDRIER!G$9:G$98,$B15) -> 0 | G15: =COUNTIF(CALENDRIER!H$9:H$98,$B15) -> 0 | H15: =COUNTIF(CALENDRIER!I$9:I$98,$B15) -> 0 | I15: =COUNTIF(CALENDRIER!J$9:J$98,$B15) -> 0 | J15: =COUNTIF(CALENDRIER!K$9:K$98,$B15) -> 0 | ... W15: =COUNTIF(CALENDRIER!X$9:X$98,$B15) -> 0
B16: ABS | C16: =COUNTIF(CALENDRIER!D$9:D$98,$B16) -> 0 | D16: =COUNTIF(CALENDRIER!E$9:E$98,$B16) -> 0 | E16: =COUNTIF(CALENDRIER!F$9:F$98,$B16) -> 0 | F16: =COUNTIF(CALENDRIER!G$9:G$98,$B16) -> 0 | G16: =COUNTIF(CALENDRIER!H$9:H$98,$B16) -> 0 | H16: =COUNTIF(CALENDRIER!I$9:I$98,$B16) -> 0 | I16: =COUNTIF(CALENDRIER!J$9:J$98,$B16) -> 0 | J16: =COUNTIF(CALENDRIER!K$9:K$98,$B16) -> 0 | ... W16: =COUNTIF(CALENDRIER!X$9:X$98,$B16) -> 0
B17: TP | C17: =COUNTIF(CALENDRIER!D$9:D$98,$B17) -> 0 | D17: =COUNTIF(CALENDRIER!E$9:E$98,$B17) -> 0 | E17: =COUNTIF(CALENDRIER!F$9:F$98,$B17) -> 0 | F17: =COUNTIF(CALENDRIER!G$9:G$98,$B17) -> 0 | G17: =COUNTIF(CALENDRIER!H$9:H$98,$B17) -> 0 | H17: =COUNTIF(CALENDRIER!I$9:I$98,$B17) -> 0 | I17: =COUNTIF(CALENDRIER!J$9:J$98,$B17) -> 0 | J17: =COUNTIF(CALENDRIER!K$9:K$98,$B17) -> 0 | ... W17: =COUNTIF(CALENDRIER!X$9:X$98,$B17) -> 0
A18: Octobre | B18: PERM | C18: =COUNTIF(CALENDRIER!D$99:D$191,$B18) -> 0 | D18: =COUNTIF(CALENDRIER!E$99:E$191,$B18) -> 0 | E18: =COUNTIF(CALENDRIER!F$99:F$191,$B18) -> 0 | F18: =COUNTIF(CALENDRIER!G$99:G$191,$B18) -> 0 | G18: =COUNTIF(CALENDRIER!H$99:H$191,$B18) -> 0 | H18: =COUNTIF(CALENDRIER!I$99:I$191,$B18) -> 0 | I18: =COUNTIF(CALENDRIER!J$99:J$191,$B18) -> 0 | J18: =COUNTIF(CALENDRIER!K$99:K$191,$B18) -> 0 | ... W18: =COUNTIF(CALENDRIER!X$99:X$191,$B18) -> 0
B19: P20 | C19: =COUNTIF(CALENDRIER!D$99:D$191,$B19) -> 0 | D19: =COUNTIF(CALENDRIER!E$99:E$191,$B19) -> 0 | E19: =COUNTIF(CALENDRIER!F$99:F$191,$B19) -> 0 | F19: =COUNTIF(CALENDRIER!G$99:G$191,$B19) -> 0 | G19: =COUNTIF(CALENDRIER!H$99:H$191,$B19) -> 0 | H19: =COUNTIF(CALENDRIER!I$99:I$191,$B19) -> 0 | I19: =COUNTIF(CALENDRIER!J$99:J$191,$B19) -> 0 | J19: =COUNTIF(CALENDRIER!K$99:K$191,$B19) -> 0 | ... W19: =COUNTIF(CALENDRIER!X$99:X$191,$B19) -> 0
B20: REU | C20: =COUNTIF(CALENDRIER!D$99:D$191,$B20) -> 0 | D20: =COUNTIF(CALENDRIER!E$99:E$191,$B20) -> 0 | E20: =COUNTIF(CALENDRIER!F$99:F$191,$B20) -> 0 | F20: =COUNTIF(CALENDRIER!G$99:G$191,$B20) -> 0 | G20: =COUNTIF(CALENDRIER!H$99:H$191,$B20) -> 0 | H20: =COUNTIF(CALENDRIER!I$99:I$191,$B20) -> 0 | I20: =COUNTIF(CALENDRIER!J$99:J$191,$B20) -> 0 | J20: =COUNTIF(CALENDRIER!K$99:K$191,$B20) -> 0 | ... W20: =COUNTIF(CALENDRIER!X$99:X$191,$B20) -> 0
B21: TEL1 | C21: =COUNTIF(CALENDRIER!D$99:D$191,$B21) -> 0 | D21: =COUNTIF(CALENDRIER!E$99:E$191,$B21) -> 0 | E21: =COUNTIF(CALENDRIER!F$99:F$191,$B21) -> 0 | F21: =COUNTIF(CALENDRIER!G$99:G$191,$B21) -> 0 | G21: =COUNTIF(CALENDRIER!H$99:H$191,$B21) -> 0 | H21: =COUNTIF(CALENDRIER!I$99:I$191,$B21) -> 0 | I21: =COUNTIF(CALENDRIER!J$99:J$191,$B21) -> 0 | J21: =COUNTIF(CALENDRIER!K$99:K$191,$B21) -> 0 | ... W21: =COUNTIF(CALENDRIER!X$99:X$191,$B21) -> 0
B22: TEL2 | C22: =COUNTIF(CALENDRIER!D$99:D$191,$B22) -> 0 | D22: =COUNTIF(CALENDRIER!E$99:E$191,$B22) -> 0 | E22: =COUNTIF(CALENDRIER!F$99:F$191,$B22) -> 0 | F22: =COUNTIF(CALENDRIER!G$99:G$191,$B22) -> 0 | G22: =COUNTIF(CALENDRIER!H$99:H$191,$B22) -> 0 | H22: =COUNTIF(CALENDRIER!I$99:I$191,$B22) -> 0 | I22: =COUNTIF(CALENDRIER!J$99:J$191,$B22) -> 0 | J22: =COUNTIF(CALENDRIER!K$99:K$191,$B22) -> 0 | ... W22: =COUNTIF(CALENDRIER!X$99:X$191,$B22) -> 0
B23: FORM | C23: =COUNTIF(CALENDRIER!D$99:D$191,$B23) -> 0 | D23: =COUNTIF(CALENDRIER!E$99:E$191,$B23) -> 0 | E23: =COUNTIF(CALENDRIER!F$99:F$191,$B23) -> 0 | F23: =COUNTIF(CALENDRIER!G$99:G$191,$B23) -> 0 | G23: =COUNTIF(CALENDRIER!H$99:H$191,$B23) -> 0 | H23: =COUNTIF(CALENDRIER!I$99:I$191,$B23) -> 0 | I23: =COUNTIF(CALENDRIER!J$99:J$191,$B23) -> 0 | J23: =COUNTIF(CALENDRIER!K$99:K$191,$B23) -> 0 | ... W23: =COUNTIF(CALENDRIER!X$99:X$191,$B23) -> 0
B24: ABS | C24: =COUNTIF(CALENDRIER!D$99:D$191,$B24) -> 0 | D24: =COUNTIF(CALENDRIER!E$99:E$191,$B24) -> 0 | E24: =COUNTIF(CALENDRIER!F$99:F$191,$B24) -> 0 | F24: =COUNTIF(CALENDRIER!G$99:G$191,$B24) -> 0 | G24: =COUNTIF(CALENDRIER!H$99:H$191,$B24) -> 0 | H24: =COUNTIF(CALENDRIER!I$99:I$191,$B24) -> 0 | I24: =COUNTIF(CALENDRIER!J$99:J$191,$B24) -> 0 | J24: =COUNTIF(CALENDRIER!K$99:K$191,$B24) -> 0 | ... W24: =COUNTIF(CALENDRIER!X$99:X$191,$B24) -> 0
B25: TP | C25: =COUNTIF(CALENDRIER!D$99:D$191,$B25) -> 0 | D25: =COUNTIF(CALENDRIER!E$99:E$191,$B25) -> 0 | E25: =COUNTIF(CALENDRIER!F$99:F$191,$B25) -> 0 | F25: =COUNTIF(CALENDRIER!G$99:G$191,$B25) -> 0 | G25: =COUNTIF(CALENDRIER!H$99:H$191,$B25) -> 0 | H25: =COUNTIF(CALENDRIER!I$99:I$191,$B25) -> 0 | I25: =COUNTIF(CALENDRIER!J$99:J$191,$B25) -> 0 | J25: =COUNTIF(CALENDRIER!K$99:K$191,$B25) -> 0 | ... W25: =COUNTIF(CALENDRIER!X$99:X$191,$B25) -> 0
A26: Novembre | B26: PERM | C26: =COUNTIF(CALENDRIER!D$192:D$281,$B26) -> 0 | D26: =COUNTIF(CALENDRIER!E$192:E$281,$B26) -> 0 | E26: =COUNTIF(CALENDRIER!F$192:F$281,$B26) -> 0 | F26: =COUNTIF(CALENDRIER!G$192:G$281,$B26) -> 0 | G26: =COUNTIF(CALENDRIER!H$192:H$281,$B26) -> 0 | H26: =COUNTIF(CALENDRIER!I$192:I$281,$B26) -> 0 | I26: =COUNTIF(CALENDRIER!J$192:J$281,$B26) -> 0 | J26: =COUNTIF(CALENDRIER!K$192:K$281,$B26) -> 0 | ... W26: =COUNTIF(CALENDRIER!X$192:X$281,$B26) -> 0
B27: P21 | C27: =COUNTIF(CALENDRIER!D$192:D$281,$B27) -> 0 | D27: =COUNTIF(CALENDRIER!E$192:E$281,$B27) -> 0 | E27: =COUNTIF(CALENDRIER!F$192:F$281,$B27) -> 0 | F27: =COUNTIF(CALENDRIER!G$192:G$281,$B27) -> 0 | G27: =COUNTIF(CALENDRIER!H$192:H$281,$B27) -> 0 | H27: =COUNTIF(CALENDRIER!I$192:I$281,$B27) -> 0 | I27: =COUNTIF(CALENDRIER!J$192:J$281,$B27) -> 0 | J27: =COUNTIF(CALENDRIER!K$192:K$281,$B27) -> 0 | ... W27: =COUNTIF(CALENDRIER!X$192:X$281,$B27) -> 0
B28: REU | C28: =COUNTIF(CALENDRIER!D$192:D$281,$B28) -> 0 | D28: =COUNTIF(CALENDRIER!E$192:E$281,$B28) -> 0 | E28: =COUNTIF(CALENDRIER!F$192:F$281,$B28) -> 0 | F28: =COUNTIF(CALENDRIER!G$192:G$281,$B28) -> 0 | G28: =COUNTIF(CALENDRIER!H$192:H$281,$B28) -> 0 | H28: =COUNTIF(CALENDRIER!I$192:I$281,$B28) -> 0 | I28: =COUNTIF(CALENDRIER!J$192:J$281,$B28) -> 0 | J28: =COUNTIF(CALENDRIER!K$192:K$281,$B28) -> 0 | ... W28: =COUNTIF(CALENDRIER!X$192:X$281,$B28) -> 0
B29: TEL1 | C29: =COUNTIF(CALENDRIER!D$192:D$281,$B29) -> 0 | D29: =COUNTIF(CALENDRIER!E$192:E$281,$B29) -> 0 | E29: =COUNTIF(CALENDRIER!F$192:F$281,$B29) -> 0 | F29: =COUNTIF(CALENDRIER!G$192:G$281,$B29) -> 0 | G29: =COUNTIF(CALENDRIER!H$192:H$281,$B29) -> 0 | H29: =COUNTIF(CALENDRIER!I$192:I$281,$B29) -> 0 | I29: =COUNTIF(CALENDRIER!J$192:J$281,$B29) -> 0 | J29: =COUNTIF(CALENDRIER!K$192:K$281,$B29) -> 0 | ... W29: =COUNTIF(CALENDRIER!X$192:X$281,$B29) -> 0
B30: TEL2 | C30: =COUNTIF(CALENDRIER!D$192:D$281,$B30) -> 0 | D30: =COUNTIF(CALENDRIER!E$192:E$281,$B30) -> 0 | E30: =COUNTIF(CALENDRIER!F$192:F$281,$B30) -> 0 | F30: =COUNTIF(CALENDRIER!G$192:G$281,$B30) -> 0 | G30: =COUNTIF(CALENDRIER!H$192:H$281,$B30) -> 0 | H30: =COUNTIF(CALENDRIER!I$192:I$281,$B30) -> 0 | I30: =COUNTIF(CALENDRIER!J$192:J$281,$B30) -> 0 | J30: =COUNTIF(CALENDRIER!K$192:K$281,$B30) -> 0 | ... W30: =COUNTIF(CALENDRIER!X$192:X$281,$B30) -> 0
B31: FORM | C31: =COUNTIF(CALENDRIER!D$192:D$281,$B31) -> 0 | D31: =COUNTIF(CALENDRIER!E$192:E$281,$B31) -> 0 | E31: =COUNTIF(CALENDRIER!F$192:F$281,$B31) -> 0 | F31: =COUNTIF(CALENDRIER!G$192:G$281,$B31) -> 0 | G31: =COUNTIF(CALENDRIER!H$192:H$281,$B31) -> 0 | H31: =COUNTIF(CALENDRIER!I$192:I$281,$B31) -> 0 | I31: =COUNTIF(CALENDRIER!J$192:J$281,$B31) -> 0 | J31: =COUNTIF(CALENDRIER!K$192:K$281,$B31) -> 0 | ... W31: =COUNTIF(CALENDRIER!X$192:X$281,$B31) -> 0
B32: ABS | C32: =COUNTIF(CALENDRIER!D$192:D$281,$B32) -> 0 | D32: =COUNTIF(CALENDRIER!E$192:E$281,$B32) -> 0 | E32: =COUNTIF(CALENDRIER!F$192:F$281,$B32) -> 0 | F32: =COUNTIF(CALENDRIER!G$192:G$281,$B32) -> 0 | G32: =COUNTIF(CALENDRIER!H$192:H$281,$B32) -> 0 | H32: =COUNTIF(CALENDRIER!I$192:I$281,$B32) -> 0 | I32: =COUNTIF(CALENDRIER!J$192:J$281,$B32) -> 0 | J32: =COUNTIF(CALENDRIER!K$192:K$281,$B32) -> 0 | ... W32: =COUNTIF(CALENDRIER!X$192:X$281,$B32) -> 0
B33: TP | C33: =COUNTIF(CALENDRIER!D$192:D$281,$B33) -> 0 | D33: =COUNTIF(CALENDRIER!E$192:E$281,$B33) -> 0 | E33: =COUNTIF(CALENDRIER!F$192:F$281,$B33) -> 0 | F33: =COUNTIF(CALENDRIER!G$192:G$281,$B33) -> 0 | G33: =COUNTIF(CALENDRIER!H$192:H$281,$B33) -> 0 | H33: =COUNTIF(CALENDRIER!I$192:I$281,$B33) -> 0 | I33: =COUNTIF(CALENDRIER!J$192:J$281,$B33) -> 0 | J33: =COUNTIF(CALENDRIER!K$192:K$281,$B33) -> 0 | ... W33: =COUNTIF(CALENDRIER!X$192:X$281,$B33) -> 0
A34: Décembre | B34: PERM | C34: =COUNTIF(CALENDRIER!D$282:D$374,$B34) -> 0 | D34: =COUNTIF(CALENDRIER!E$282:E$374,$B34) -> 0 | E34: =COUNTIF(CALENDRIER!F$282:F$374,$B34) -> 0 | F34: =COUNTIF(CALENDRIER!G$282:G$374,$B34) -> 0 | G34: =COUNTIF(CALENDRIER!H$282:H$374,$B34) -> 0 | H34: =COUNTIF(CALENDRIER!I$282:I$374,$B34) -> 0 | I34: =COUNTIF(CALENDRIER!J$282:J$374,$B34) -> 0 | J34: =COUNTIF(CALENDRIER!K$282:K$374,$B34) -> 0 | ... W34: =COUNTIF(CALENDRIER!X$282:X$374,$B34) -> 0
B35: P22 | C35: =COUNTIF(CALENDRIER!D$282:D$374,$B35) -> 0 | D35: =COUNTIF(CALENDRIER!E$282:E$374,$B35) -> 0 | E35: =COUNTIF(CALENDRIER!F$282:F$374,$B35) -> 0 | F35: =COUNTIF(CALENDRIER!G$282:G$374,$B35) -> 0 | G35: =COUNTIF(CALENDRIER!H$282:H$374,$B35) -> 0 | H35: =COUNTIF(CALENDRIER!I$282:I$374,$B35) -> 0 | I35: =COUNTIF(CALENDRIER!J$282:J$374,$B35) -> 0 | J35: =COUNTIF(CALENDRIER!K$282:K$374,$B35) -> 0 | ... W35: =COUNTIF(CALENDRIER!X$282:X$374,$B35) -> 0
B36: REU | C36: =COUNTIF(CALENDRIER!D$282:D$374,$B36) -> 0 | D36: =COUNTIF(CALENDRIER!E$282:E$374,$B36) -> 0 | E36: =COUNTIF(CALENDRIER!F$282:F$374,$B36) -> 0 | F36: =COUNTIF(CALENDRIER!G$282:G$374,$B36) -> 0 | G36: =COUNTIF(CALENDRIER!H$282:H$374,$B36) -> 0 | H36: =COUNTIF(CALENDRIER!I$282:I$374,$B36) -> 0 | I36: =COUNTIF(CALENDRIER!J$282:J$374,$B36) -> 0 | J36: =COUNTIF(CALENDRIER!K$282:K$374,$B36) -> 0 | ... W36: =COUNTIF(CALENDRIER!X$282:X$374,$B36) -> 0
B37: TEL1 | C37: =COUNTIF(CALENDRIER!D$282:D$374,$B37) -> 0 | D37: =COUNTIF(CALENDRIER!E$282:E$374,$B37) -> 0 | E37: =COUNTIF(CALENDRIER!F$282:F$374,$B37) -> 0 | F37: =COUNTIF(CALENDRIER!G$282:G$374,$B37) -> 0 | G37: =COUNTIF(CALENDRIER!H$282:H$374,$B37) -> 0 | H37: =COUNTIF(CALENDRIER!I$282:I$374,$B37) -> 0 | I37: =COUNTIF(CALENDRIER!J$282:J$374,$B37) -> 0 | J37: =COUNTIF(CALENDRIER!K$282:K$374,$B37) -> 0 | ... W37: =COUNTIF(CALENDRIER!X$282:X$374,$B37) -> 0
B38: TEL2 | C38: =COUNTIF(CALENDRIER!D$282:D$374,$B38) -> 0 | D38: =COUNTIF(CALENDRIER!E$282:E$374,$B38) -> 0 | E38: =COUNTIF(CALENDRIER!F$282:F$374,$B38) -> 0 | F38: =COUNTIF(CALENDRIER!G$282:G$374,$B38) -> 0 | G38: =COUNTIF(CALENDRIER!H$282:H$374,$B38) -> 0 | H38: =COUNTIF(CALENDRIER!I$282:I$374,$B38) -> 0 | I38: =COUNTIF(CALENDRIER!J$282:J$374,$B38) -> 0 | J38: =COUNTIF(CALENDRIER!K$282:K$374,$B38) -> 0 | ... W38: =COUNTIF(CALENDRIER!X$282:X$374,$B38) -> 0
B39: FORM | C39: =COUNTIF(CALENDRIER!D$282:D$374,$B39) -> 0 | D39: =COUNTIF(CALENDRIER!E$282:E$374,$B39) -> 0 | E39: =COUNTIF(CALENDRIER!F$282:F$374,$B39) -> 0 | F39: =COUNTIF(CALENDRIER!G$282:G$374,$B39) -> 0 | G39: =COUNTIF(CALENDRIER!H$282:H$374,$B39) -> 0 | H39: =COUNTIF(CALENDRIER!I$282:I$374,$B39) -> 0 | I39: =COUNTIF(CALENDRIER!J$282:J$374,$B39) -> 0 | J39: =COUNTIF(CALENDRIER!K$282:K$374,$B39) -> 0 | ... W39: =COUNTIF(CALENDRIER!X$282:X$374,$B39) -> 0
B40: ABS | C40: =COUNTIF(CALENDRIER!D$282:D$374,$B40) -> 0 | D40: =COUNTIF(CALENDRIER!E$282:E$374,$B40) -> 0 | E40: =COUNTIF(CALENDRIER!F$282:F$374,$B40) -> 0 | F40: =COUNTIF(CALENDRIER!G$282:G$374,$B40) -> 0 | G40: =COUNTIF(CALENDRIER!H$282:H$374,$B40) -> 0 | H40: =COUNTIF(CALENDRIER!I$282:I$374,$B40) -> 0 | I40: =COUNTIF(CALENDRIER!J$282:J$374,$B40) -> 0 | J40: =COUNTIF(CALENDRIER!K$282:K$374,$B40) -> 0 | ... W40: =COUNTIF(CALENDRIER!X$282:X$374,$B40) -> 0
B41: TP | C41: =COUNTIF(CALENDRIER!D$282:D$374,$B41) -> 0 | D41: =COUNTIF(CALENDRIER!E$282:E$374,$B41) -> 0 | E41: =COUNTIF(CALENDRIER!F$282:F$374,$B41) -> 0 | F41: =COUNTIF(CALENDRIER!G$282:G$374,$B41) -> 0 | G41: =COUNTIF(CALENDRIER!H$282:H$374,$B41) -> 0 | H41: =COUNTIF(CALENDRIER!I$282:I$374,$B41) -> 0 | I41: =COUNTIF(CALENDRIER!J$282:J$374,$B41) -> 0 | J41: =COUNTIF(CALENDRIER!K$282:K$374,$B41) -> 0 | ... W41: =COUNTIF(CALENDRIER!X$282:X$374,$B41) -> 0
A42: Janvier | B42: PERM | C42: =COUNTIF(CALENDRIER!D$375:D$464,$B42) -> 0 | D42: =COUNTIF(CALENDRIER!E$375:E$464,$B42) -> 0 | E42: =COUNTIF(CALENDRIER!F$375:F$464,$B42) -> 0 | F42: =COUNTIF(CALENDRIER!G$375:G$464,$B42) -> 0 | G42: =COUNTIF(CALENDRIER!H$375:H$464,$B42) -> 0 | H42: =COUNTIF(CALENDRIER!I$375:I$464,$B42) -> 0 | I42: =COUNTIF(CALENDRIER!J$375:J$464,$B42) -> 0 | J42: =COUNTIF(CALENDRIER!K$375:K$464,$B42) -> 0 | ... W42: =COUNTIF(CALENDRIER!X$375:X$464,$B42) -> 0
B43: P20 | C43: =COUNTIF(CALENDRIER!D$375:D$464,$B43) -> 0 | D43: =COUNTIF(CALENDRIER!E$375:E$464,$B43) -> 0 | E43: =COUNTIF(CALENDRIER!F$375:F$464,$B43) -> 0 | F43: =COUNTIF(CALENDRIER!G$375:G$464,$B43) -> 0 | G43: =COUNTIF(CALENDRIER!H$375:H$464,$B43) -> 0 | H43: =COUNTIF(CALENDRIER!I$375:I$464,$B43) -> 0 | I43: =COUNTIF(CALENDRIER!J$375:J$464,$B43) -> 0 | J43: =COUNTIF(CALENDRIER!K$375:K$464,$B43) -> 0 | ... W43: =COUNTIF(CALENDRIER!X$375:X$464,$B43) -> 0
B44: REU | C44: =COUNTIF(CALENDRIER!D$375:D$464,$B44) -> 0 | D44: =COUNTIF(CALENDRIER!E$375:E$464,$B44) -> 0 | E44: =COUNTIF(CALENDRIER!F$375:F$464,$B44) -> 0 | F44: =COUNTIF(CALENDRIER!G$375:G$464,$B44) -> 0 | G44: =COUNTIF(CALENDRIER!H$375:H$464,$B44) -> 0 | H44: =COUNTIF(CALENDRIER!I$375:I$464,$B44) -> 0 | I44: =COUNTIF(CALENDRIER!J$375:J$464,$B44) -> 0 | J44: =COUNTIF(CALENDRIER!K$375:K$464,$B44) -> 0 | ... W44: =COUNTIF(CALENDRIER!X$375:X$464,$B44) -> 0
B45: TEL1 | C45: =COUNTIF(CALENDRIER!D$375:D$464,$B45) -> 0 | D45: =COUNTIF(CALENDRIER!E$375:E$464,$B45) -> 0 | E45: =COUNTIF(CALENDRIER!F$375:F$464,$B45) -> 0 | F45: =COUNTIF(CALENDRIER!G$375:G$464,$B45) -> 0 | G45: =COUNTIF(CALENDRIER!H$375:H$464,$B45) -> 0 | H45: =COUNTIF(CALENDRIER!I$375:I$464,$B45) -> 0 | I45: =COUNTIF(CALENDRIER!J$375:J$464,$B45) -> 0 | J45: =COUNTIF(CALENDRIER!K$375:K$464,$B45) -> 0 | ... W45: =COUNTIF(CALENDRIER!X$375:X$464,$B45) -> 0
B46: TEL2 | C46: =COUNTIF(CALENDRIER!D$375:D$464,$B46) -> 0 | D46: =COUNTIF(CALENDRIER!E$375:E$464,$B46) -> 0 | E46: =COUNTIF(CALENDRIER!F$375:F$464,$B46) -> 0 | F46: =COUNTIF(CALENDRIER!G$375:G$464,$B46) -> 0 | G46: =COUNTIF(CALENDRIER!H$375:H$464,$B46) -> 0 | H46: =COUNTIF(CALENDRIER!I$375:I$464,$B46) -> 0 | I46: =COUNTIF(CALENDRIER!J$375:J$464,$B46) -> 0 | J46: =COUNTIF(CALENDRIER!K$375:K$464,$B46) -> 0 | ... W46: =COUNTIF(CALENDRIER!X$375:X$464,$B46) -> 0
B47: FORM | C47: =COUNTIF(CALENDRIER!D$375:D$464,$B47) -> 0 | D47: =COUNTIF(CALENDRIER!E$375:E$464,$B47) -> 0 | E47: =COUNTIF(CALENDRIER!F$375:F$464,$B47) -> 0 | F47: =COUNTIF(CALENDRIER!G$375:G$464,$B47) -> 0 | G47: =COUNTIF(CALENDRIER!H$375:H$464,$B47) -> 0 | H47: =COUNTIF(CALENDRIER!I$375:I$464,$B47) -> 0 | I47: =COUNTIF(CALENDRIER!J$375:J$464,$B47) -> 0 | J47: =COUNTIF(CALENDRIER!K$375:K$464,$B47) -> 0 | ... W47: =COUNTIF(CALENDRIER!X$375:X$464,$B47) -> 0
B48: ABS | C48: =COUNTIF(CALENDRIER!D$375:D$464,$B48) -> 0 | D48: =COUNTIF(CALENDRIER!E$375:E$464,$B48) -> 0 | E48: =COUNTIF(CALENDRIER!F$375:F$464,$B48) -> 0 | F48: =COUNTIF(CALENDRIER!G$375:G$464,$B48) -> 0 | G48: =COUNTIF(CALENDRIER!H$375:H$464,$B48) -> 0 | H48: =COUNTIF(CALENDRIER!I$375:I$464,$B48) -> 0 | I48: =COUNTIF(CALENDRIER!J$375:J$464,$B48) -> 0 | J48: =COUNTIF(CALENDRIER!K$375:K$464,$B48) -> 0 | ... W48: =COUNTIF(CALENDRIER!X$375:X$464,$B48) -> 0
B49: TP | C49: =COUNTIF(CALENDRIER!D$375:D$464,$B49) -> 0 | D49: =COUNTIF(CALENDRIER!E$375:E$464,$B49) -> 0 | E49: =COUNTIF(CALENDRIER!F$375:F$464,$B49) -> 0 | F49: =COUNTIF(CALENDRIER!G$375:G$464,$B49) -> 0 | G49: =COUNTIF(CALENDRIER!H$375:H$464,$B49) -> 0 | H49: =COUNTIF(CALENDRIER!I$375:I$464,$B49) -> 0 | I49: =COUNTIF(CALENDRIER!J$375:J$464,$B49) -> 0 | J49: =COUNTIF(CALENDRIER!K$375:K$464,$B49) -> 0 | ... W49: =COUNTIF(CALENDRIER!X$375:X$464,$B49) -> 0
A50: Février | B50: PERM | C50: =COUNTIF(CALENDRIER!D$468:D$551,$B50) -> 0 | D50: =COUNTIF(CALENDRIER!E$468:E$551,$B50) -> 0 | E50: =COUNTIF(CALENDRIER!F$468:F$551,$B50) -> 0 | F50: =COUNTIF(CALENDRIER!G$468:G$551,$B50) -> 0 | G50: =COUNTIF(CALENDRIER!H$468:H$551,$B50) -> 0 | H50: =COUNTIF(CALENDRIER!I$468:I$551,$B50) -> 0 | I50: =COUNTIF(CALENDRIER!J$468:J$551,$B50) -> 0 | J50: =COUNTIF(CALENDRIER!K$468:K$551,$B50) -> 0 | ... W50: =COUNTIF(CALENDRIER!X$468:X$551,$B50) -> 0
B51: P21 | C51: =COUNTIF(CALENDRIER!D$468:D$551,$B51) -> 0 | D51: =COUNTIF(CALENDRIER!E$468:E$551,$B51) -> 0 | E51: =COUNTIF(CALENDRIER!F$468:F$551,$B51) -> 0 | F51: =COUNTIF(CALENDRIER!G$468:G$551,$B51) -> 0 | G51: =COUNTIF(CALENDRIER!H$468:H$551,$B51) -> 0 | H51: =COUNTIF(CALENDRIER!I$468:I$551,$B51) -> 0 | I51: =COUNTIF(CALENDRIER!J$468:J$551,$B51) -> 0 | J51: =COUNTIF(CALENDRIER!K$468:K$551,$B51) -> 0 | ... W51: =COUNTIF(CALENDRIER!X$468:X$551,$B51) -> 0
B52: REU | C52: =COUNTIF(CALENDRIER!D$468:D$551,$B52) -> 0 | D52: =COUNTIF(CALENDRIER!E$468:E$551,$B52) -> 0 | E52: =COUNTIF(CALENDRIER!F$468:F$551,$B52) -> 0 | F52: =COUNTIF(CALENDRIER!G$468:G$551,$B52) -> 0 | G52: =COUNTIF(CALENDRIER!H$468:H$551,$B52) -> 0 | H52: =COUNTIF(CALENDRIER!I$468:I$551,$B52) -> 0 | I52: =COUNTIF(CALENDRIER!J$468:J$551,$B52) -> 0 | J52: =COUNTIF(CALENDRIER!K$468:K$551,$B52) -> 0 | ... W52: =COUNTIF(CALENDRIER!X$468:X$551,$B52) -> 0
B53: TEL1 | C53: =COUNTIF(CALENDRIER!D$468:D$551,$B53) -> 0 | D53: =COUNTIF(CALENDRIER!E$468:E$551,$B53) -> 0 | E53: =COUNTIF(CALENDRIER!F$468:F$551,$B53) -> 0 | F53: =COUNTIF(CALENDRIER!G$468:G$551,$B53) -> 0 | G53: =COUNTIF(CALENDRIER!H$468:H$551,$B53) -> 0 | H53: =COUNTIF(CALENDRIER!I$468:I$551,$B53) -> 0 | I53: =COUNTIF(CALENDRIER!J$468:J$551,$B53) -> 0 | J53: =COUNTIF(CALENDRIER!K$468:K$551,$B53) -> 0 | ... W53: =COUNTIF(CALENDRIER!X$468:X$551,$B53) -> 0
B54: TEL2 | C54: =COUNTIF(CALENDRIER!D$468:D$551,$B54) -> 0 | D54: =COUNTIF(CALENDRIER!E$468:E$551,$B54) -> 0 | E54: =COUNTIF(CALENDRIER!F$468:F$551,$B54) -> 0 | F54: =COUNTIF(CALENDRIER!G$468:G$551,$B54) -> 0 | G54: =COUNTIF(CALENDRIER!H$468:H$551,$B54) -> 0 | H54: =COUNTIF(CALENDRIER!I$468:I$551,$B54) -> 0 | I54: =COUNTIF(CALENDRIER!J$468:J$551,$B54) -> 0 | J54: =COUNTIF(CALENDRIER!K$468:K$551,$B54) -> 0 | ... W54: =COUNTIF(CALENDRIER!X$468:X$551,$B54) -> 0
B55: FORM | C55: =COUNTIF(CALENDRIER!D$468:D$551,$B55) -> 0 | D55: =COUNTIF(CALENDRIER!E$468:E$551,$B55) -> 0 | E55: =COUNTIF(CALENDRIER!F$468:F$551,$B55) -> 0 | F55: =COUNTIF(CALENDRIER!G$468:G$551,$B55) -> 0 | G55: =COUNTIF(CALENDRIER!H$468:H$551,$B55) -> 0 | H55: =COUNTIF(CALENDRIER!I$468:I$551,$B55) -> 0 | I55: =COUNTIF(CALENDRIER!J$468:J$551,$B55) -> 0 | J55: =COUNTIF(CALENDRIER!K$468:K$551,$B55) -> 0 | ... W55: =COUNTIF(CALENDRIER!X$468:X$551,$B55) -> 0
B56: ABS | C56: =COUNTIF(CALENDRIER!D$468:D$551,$B56) -> 0 | D56: =COUNTIF(CALENDRIER!E$468:E$551,$B56) -> 0 | E56: =COUNTIF(CALENDRIER!F$468:F$551,$B56) -> 0 | F56: =COUNTIF(CALENDRIER!G$468:G$551,$B56) -> 0 | G56: =COUNTIF(CALENDRIER!H$468:H$551,$B56) -> 0 | H56: =COUNTIF(CALENDRIER!I$468:I$551,$B56) -> 0 | I56: =COUNTIF(CALENDRIER!J$468:J$551,$B56) -> 0 | J56: =COUNTIF(CALENDRIER!K$468:K$551,$B56) -> 0 | ... W56: =COUNTIF(CALENDRIER!X$468:X$551,$B56) -> 0
B57: TP | C57: =COUNTIF(CALENDRIER!D$468:D$551,$B57) -> 0 | D57: =COUNTIF(CALENDRIER!E$468:E$551,$B57) -> 0 | E57: =COUNTIF(CALENDRIER!F$468:F$551,$B57) -> 0 | F57: =COUNTIF(CALENDRIER!G$468:G$551,$B57) -> 0 | G57: =COUNTIF(CALENDRIER!H$468:H$551,$B57) -> 0 | H57: =COUNTIF(CALENDRIER!I$468:I$551,$B57) -> 0 | I57: =COUNTIF(CALENDRIER!J$468:J$551,$B57) -> 0 | J57: =COUNTIF(CALENDRIER!K$468:K$551,$B57) -> 0 | ... W57: =COUNTIF(CALENDRIER!X$468:X$551,$B57) -> 0
A58: Mars | B58: PERM | C58: =COUNTIF(CALENDRIER!D$552:D$644,$B58) -> 0 | D58: =COUNTIF(CALENDRIER!E$552:E$644,$B58) -> 0 | E58: =COUNTIF(CALENDRIER!F$552:F$644,$B58) -> 0 | F58: =COUNTIF(CALENDRIER!G$552:G$644,$B58) -> 0 | G58: =COUNTIF(CALENDRIER!H$552:H$644,$B58) -> 0 | H58: =COUNTIF(CALENDRIER!I$552:I$644,$B58) -> 0 | I58: =COUNTIF(CALENDRIER!J$552:J$644,$B58) -> 0 | J58: =COUNTIF(CALENDRIER!K$552:K$644,$B58) -> 0 | ... W58: =COUNTIF(CALENDRIER!X$552:X$644,$B58) -> 0
B59: P22 | C59: =COUNTIF(CALENDRIER!D$552:D$644,$B59) -> 0 | D59: =COUNTIF(CALENDRIER!E$552:E$644,$B59) -> 0 | E59: =COUNTIF(CALENDRIER!F$552:F$644,$B59) -> 0 | F59: =COUNTIF(CALENDRIER!G$552:G$644,$B59) -> 0 | G59: =COUNTIF(CALENDRIER!H$552:H$644,$B59) -> 0 | H59: =COUNTIF(CALENDRIER!I$552:I$644,$B59) -> 0 | I59: =COUNTIF(CALENDRIER!J$552:J$644,$B59) -> 0 | J59: =COUNTIF(CALENDRIER!K$552:K$644,$B59) -> 0 | ... W59: =COUNTIF(CALENDRIER!X$552:X$644,$B59) -> 0
B60: REU | C60: =COUNTIF(CALENDRIER!D$552:D$644,$B60) -> 0 | D60: =COUNTIF(CALENDRIER!E$552:E$644,$B60) -> 0 | E60: =COUNTIF(CALENDRIER!F$552:F$644,$B60) -> 0 | F60: =COUNTIF(CALENDRIER!G$552:G$644,$B60) -> 0 | G60: =COUNTIF(CALENDRIER!H$552:H$644,$B60) -> 0 | H60: =COUNTIF(CALENDRIER!I$552:I$644,$B60) -> 0 | I60: =COUNTIF(CALENDRIER!J$552:J$644,$B60) -> 0 | J60: =COUNTIF(CALENDRIER!K$552:K$644,$B60) -> 0 | ... W60: =COUNTIF(CALENDRIER!X$552:X$644,$B60) -> 0
B61: TEL1 | C61: =COUNTIF(CALENDRIER!D$552:D$644,$B61) -> 0 | D61: =COUNTIF(CALENDRIER!E$552:E$644,$B61) -> 0 | E61: =COUNTIF(CALENDRIER!F$552:F$644,$B61) -> 0 | F61: =COUNTIF(CALENDRIER!G$552:G$644,$B61) -> 0 | G61: =COUNTIF(CALENDRIER!H$552:H$644,$B61) -> 0 | H61: =COUNTIF(CALENDRIER!I$552:I$644,$B61) -> 0 | I61: =COUNTIF(CALENDRIER!J$552:J$644,$B61) -> 0 | J61: =COUNTIF(CALENDRIER!K$552:K$644,$B61) -> 0 | ... W61: =COUNTIF(CALENDRIER!X$552:X$644,$B61) -> 0
B62: TEL2 | C62: =COUNTIF(CALENDRIER!D$552:D$644,$B62) -> 0 | D62: =COUNTIF(CALENDRIER!E$552:E$644,$B62) -> 0 | E62: =COUNTIF(CALENDRIER!F$552:F$644,$B62) -> 0 | F62: =COUNTIF(CALENDRIER!G$552:G$644,$B62) -> 0 | G62: =COUNTIF(CALENDRIER!H$552:H$644,$B62) -> 0 | H62: =COUNTIF(CALENDRIER!I$552:I$644,$B62) -> 0 | I62: =COUNTIF(CALENDRIER!J$552:J$644,$B62) -> 0 | J62: =COUNTIF(CALENDRIER!K$552:K$644,$B62) -> 0 | ... W62: =COUNTIF(CALENDRIER!X$552:X$644,$B62) -> 0
B63: FORM | C63: =COUNTIF(CALENDRIER!D$552:D$644,$B63) -> 0 | D63: =COUNTIF(CALENDRIER!E$552:E$644,$B63) -> 0 | E63: =COUNTIF(CALENDRIER!F$552:F$644,$B63) -> 0 | F63: =COUNTIF(CALENDRIER!G$552:G$644,$B63) -> 0 | G63: =COUNTIF(CALENDRIER!H$552:H$644,$B63) -> 0 | H63: =COUNTIF(CALENDRIER!I$552:I$644,$B63) -> 0 | I63: =COUNTIF(CALENDRIER!J$552:J$644,$B63) -> 0 | J63: =COUNTIF(CALENDRIER!K$552:K$644,$B63) -> 0 | ... W63: =COUNTIF(CALENDRIER!X$552:X$644,$B63) -> 0
B64: ABS | C64: =COUNTIF(CALENDRIER!D$552:D$644,$B64) -> 0 | D64: =COUNTIF(CALENDRIER!E$552:E$644,$B64) -> 0 | E64: =COUNTIF(CALENDRIER!F$552:F$644,$B64) -> 0 | F64: =COUNTIF(CALENDRIER!G$552:G$644,$B64) -> 0 | G64: =COUNTIF(CALENDRIER!H$552:H$644,$B64) -> 0 | H64: =COUNTIF(CALENDRIER!I$552:I$644,$B64) -> 0 | I64: =COUNTIF(CALENDRIER!J$552:J$644,$B64) -> 0 | J64: =COUNTIF(CALENDRIER!K$552:K$644,$B64) -> 0 | ... W64: =COUNTIF(CALENDRIER!X$552:X$644,$B64) -> 0
B65: TP | C65: =COUNTIF(CALENDRIER!D$552:D$644,$B65) -> 0 | D65: =COUNTIF(CALENDRIER!E$552:E$644,$B65) -> 0 | E65: =COUNTIF(CALENDRIER!F$552:F$644,$B65) -> 0 | F65: =COUNTIF(CALENDRIER!G$552:G$644,$B65) -> 0 | G65: =COUNTIF(CALENDRIER!H$552:H$644,$B65) -> 0 | H65: =COUNTIF(CALENDRIER!I$552:I$644,$B65) -> 0 | I65: =COUNTIF(CALENDRIER!J$552:J$644,$B65) -> 0 | J65: =COUNTIF(CALENDRIER!K$552:K$644,$B65) -> 0 | ... W65: =COUNTIF(CALENDRIER!X$552:X$644,$B65) -> 0
A66: Avril | B66: PERM | C66: =COUNTIF(CALENDRIER!D$645:D$734,$B66) -> 0 | D66: =COUNTIF(CALENDRIER!E$645:E$734,$B66) -> 0 | E66: =COUNTIF(CALENDRIER!F$645:F$734,$B66) -> 0 | F66: =COUNTIF(CALENDRIER!G$645:G$734,$B66) -> 0 | G66: =COUNTIF(CALENDRIER!H$645:H$734,$B66) -> 0 | H66: =COUNTIF(CALENDRIER!I$645:I$734,$B66) -> 0 | I66: =COUNTIF(CALENDRIER!J$645:J$734,$B66) -> 0 | J66: =COUNTIF(CALENDRIER!K$645:K$734,$B66) -> 0 | ... W66: =COUNTIF(CALENDRIER!X$645:X$734,$B66) -> 0
B67: P23 | C67: =COUNTIF(CALENDRIER!D$645:D$734,$B67) -> 0 | D67: =COUNTIF(CALENDRIER!E$645:E$734,$B67) -> 0 | E67: =COUNTIF(CALENDRIER!F$645:F$734,$B67) -> 0 | F67: =COUNTIF(CALENDRIER!G$645:G$734,$B67) -> 0 | G67: =COUNTIF(CALENDRIER!H$645:H$734,$B67) -> 0 | H67: =COUNTIF(CALENDRIER!I$645:I$734,$B67) -> 0 | I67: =COUNTIF(CALENDRIER!J$645:J$734,$B67) -> 0 | J67: =COUNTIF(CALENDRIER!K$645:K$734,$B67) -> 0 | ... W67: =COUNTIF(CALENDRIER!X$645:X$734,$B67) -> 0
B68: REU | C68: =COUNTIF(CALENDRIER!D$645:D$734,$B68) -> 0 | D68: =COUNTIF(CALENDRIER!E$645:E$734,$B68) -> 0 | E68: =COUNTIF(CALENDRIER!F$645:F$734,$B68) -> 0 | F68: =COUNTIF(CALENDRIER!G$645:G$734,$B68) -> 0 | G68: =COUNTIF(CALENDRIER!H$645:H$734,$B68) -> 0 | H68: =COUNTIF(CALENDRIER!I$645:I$734,$B68) -> 0 | I68: =COUNTIF(CALENDRIER!J$645:J$734,$B68) -> 0 | J68: =COUNTIF(CALENDRIER!K$645:K$734,$B68) -> 0 | ... W68: =COUNTIF(CALENDRIER!X$645:X$734,$B68) -> 0
B69: TEL1 | C69: =COUNTIF(CALENDRIER!D$645:D$734,$B69) -> 0 | D69: =COUNTIF(CALENDRIER!E$645:E$734,$B69) -> 0 | E69: =COUNTIF(CALENDRIER!F$645:F$734,$B69) -> 0 | F69: =COUNTIF(CALENDRIER!G$645:G$734,$B69) -> 0 | G69: =COUNTIF(CALENDRIER!H$645:H$734,$B69) -> 0 | H69: =COUNTIF(CALENDRIER!I$645:I$734,$B69) -> 0 | I69: =COUNTIF(CALENDRIER!J$645:J$734,$B69) -> 0 | J69: =COUNTIF(CALENDRIER!K$645:K$734,$B69) -> 0 | ... W69: =COUNTIF(CALENDRIER!X$645:X$734,$B69) -> 0
B70: TEL2 | C70: =COUNTIF(CALENDRIER!D$645:D$734,$B70) -> 0 | D70: =COUNTIF(CALENDRIER!E$645:E$734,$B70) -> 0 | E70: =COUNTIF(CALENDRIER!F$645:F$734,$B70) -> 0 | F70: =COUNTIF(CALENDRIER!G$645:G$734,$B70) -> 0 | G70: =COUNTIF(CALENDRIER!H$645:H$734,$B70) -> 0 | H70: =COUNTIF(CALENDRIER!I$645:I$734,$B70) -> 0 | I70: =COUNTIF(CALENDRIER!J$645:J$734,$B70) -> 0 | J70: =COUNTIF(CALENDRIER!K$645:K$734,$B70) -> 0 | ... W70: =COUNTIF(CALENDRIER!X$645:X$734,$B70) -> 0
B71: FORM | C71: =COUNTIF(CALENDRIER!D$645:D$734,$B71) -> 0 | D71: =COUNTIF(CALENDRIER!E$645:E$734,$B71) -> 0 | E71: =COUNTIF(CALENDRIER!F$645:F$734,$B71) -> 0 | F71: =COUNTIF(CALENDRIER!G$645:G$734,$B71) -> 0 | G71: =COUNTIF(CALENDRIER!H$645:H$734,$B71) -> 0 | H71: =COUNTIF(CALENDRIER!I$645:I$734,$B71) -> 0 | I71: =COUNTIF(CALENDRIER!J$645:J$734,$B71) -> 0 | J71: =COUNTIF(CALENDRIER!K$645:K$734,$B71) -> 0 | ... W71: =COUNTIF(CALENDRIER!X$645:X$734,$B71) -> 0
B72: ABS | C72: =COUNTIF(CALENDRIER!D$645:D$734,$B72) -> 0 | D72: =COUNTIF(CALENDRIER!E$645:E$734,$B72) -> 0 | E72: =COUNTIF(CALENDRIER!F$645:F$734,$B72) -> 0 | F72: =COUNTIF(CALENDRIER!G$645:G$734,$B72) -> 0 | G72: =COUNTIF(CALENDRIER!H$645:H$734,$B72) -> 0 | H72: =COUNTIF(CALENDRIER!I$645:I$734,$B72) -> 0 | I72: =COUNTIF(CALENDRIER!J$645:J$734,$B72) -> 0 | J72: =COUNTIF(CALENDRIER!K$645:K$734,$B72) -> 0 | ... W72: =COUNTIF(CALENDRIER!X$645:X$734,$B72) -> 0
B73: TP | C73: =COUNTIF(CALENDRIER!D$645:D$734,$B73) -> 0 | D73: =COUNTIF(CALENDRIER!E$645:E$734,$B73) -> 0 | E73: =COUNTIF(CALENDRIER!F$645:F$734,$B73) -> 0 | F73: =COUNTIF(CALENDRIER!G$645:G$734,$B73) -> 0 | G73: =COUNTIF(CALENDRIER!H$645:H$734,$B73) -> 0 | H73: =COUNTIF(CALENDRIER!I$645:I$734,$B73) -> 0 | I73: =COUNTIF(CALENDRIER!J$645:J$734,$B73) -> 0 | J73: =COUNTIF(CALENDRIER!K$645:K$734,$B73) -> 0 | ... W73: =COUNTIF(CALENDRIER!X$645:X$734,$B73) -> 0
A74: Mai | B74: PERM | C74: =COUNTIF(CALENDRIER!D$735:D$827,$B74) -> 0 | D74: =COUNTIF(CALENDRIER!E$735:E$827,$B74) -> 0 | E74: =COUNTIF(CALENDRIER!F$735:F$827,$B74) -> 0 | F74: =COUNTIF(CALENDRIER!G$735:G$827,$B74) -> 0 | G74: =COUNTIF(CALENDRIER!H$735:H$827,$B74) -> 0 | H74: =COUNTIF(CALENDRIER!I$735:I$827,$B74) -> 0 | I74: =COUNTIF(CALENDRIER!J$735:J$827,$B74) -> 0 | J74: =COUNTIF(CALENDRIER!K$735:K$827,$B74) -> 0 | ... W74: =COUNTIF(CALENDRIER!X$735:X$827,$B74) -> 0
B75: P20 | C75: =COUNTIF(CALENDRIER!D$735:D$827,$B75) -> 0 | D75: =COUNTIF(CALENDRIER!E$735:E$827,$B75) -> 0 | E75: =COUNTIF(CALENDRIER!F$735:F$827,$B75) -> 0 | F75: =COUNTIF(CALENDRIER!G$735:G$827,$B75) -> 0 | G75: =COUNTIF(CALENDRIER!H$735:H$827,$B75) -> 0 | H75: =COUNTIF(CALENDRIER!I$735:I$827,$B75) -> 0 | I75: =COUNTIF(CALENDRIER!J$735:J$827,$B75) -> 0 | J75: =COUNTIF(CALENDRIER!K$735:K$827,$B75) -> 0 | ... W75: =COUNTIF(CALENDRIER!X$735:X$827,$B75) -> 0
B76: REU | C76: =COUNTIF(CALENDRIER!D$735:D$827,$B76) -> 0 | D76: =COUNTIF(CALENDRIER!E$735:E$827,$B76) -> 0 | E76: =COUNTIF(CALENDRIER!F$735:F$827,$B76) -> 0 | F76: =COUNTIF(CALENDRIER!G$735:G$827,$B76) -> 0 | G76: =COUNTIF(CALENDRIER!H$735:H$827,$B76) -> 0 | H76: =COUNTIF(CALENDRIER!I$735:I$827,$B76) -> 0 | I76: =COUNTIF(CALENDRIER!J$735:J$827,$B76) -> 0 | J76: =COUNTIF(CALENDRIER!K$735:K$827,$B76) -> 0 | ... W76: =COUNTIF(CALENDRIER!X$735:X$827,$B76) -> 0
B77: TEL1 | C77: =COUNTIF(CALENDRIER!D$735:D$827,$B77) -> 0 | D77: =COUNTIF(CALENDRIER!E$735:E$827,$B77) -> 0 | E77: =COUNTIF(CALENDRIER!F$735:F$827,$B77) -> 0 | F77: =COUNTIF(CALENDRIER!G$735:G$827,$B77) -> 0 | G77: =COUNTIF(CALENDRIER!H$735:H$827,$B77) -> 0 | H77: =COUNTIF(CALENDRIER!I$735:I$827,$B77) -> 0 | I77: =COUNTIF(CALENDRIER!J$735:J$827,$B77) -> 0 | J77: =COUNTIF(CALENDRIER!K$735:K$827,$B77) -> 0 | ... W77: =COUNTIF(CALENDRIER!X$735:X$827,$B77) -> 0
B78: TEL2 | C78: =COUNTIF(CALENDRIER!D$735:D$827,$B78) -> 0 | D78: =COUNTIF(CALENDRIER!E$735:E$827,$B78) -> 0 | E78: =COUNTIF(CALENDRIER!F$735:F$827,$B78) -> 0 | F78: =COUNTIF(CALENDRIER!G$735:G$827,$B78) -> 0 | G78: =COUNTIF(CALENDRIER!H$735:H$827,$B78) -> 0 | H78: =COUNTIF(CALENDRIER!I$735:I$827,$B78) -> 0 | I78: =COUNTIF(CALENDRIER!J$735:J$827,$B78) -> 0 | J78: =COUNTIF(CALENDRIER!K$735:K$827,$B78) -> 0 | ... W78: =COUNTIF(CALENDRIER!X$735:X$827,$B78) -> 0
B79: FORM | C79: =COUNTIF(CALENDRIER!D$735:D$827,$B79) -> 0 | D79: =COUNTIF(CALENDRIER!E$735:E$827,$B79) -> 0 | E79: =COUNTIF(CALENDRIER!F$735:F$827,$B79) -> 0 | F79: =COUNTIF(CALENDRIER!G$735:G$827,$B79) -> 0 | G79: =COUNTIF(CALENDRIER!H$735:H$827,$B79) -> 0 | H79: =COUNTIF(CALENDRIER!I$735:I$827,$B79) -> 0 | I79: =COUNTIF(CALENDRIER!J$735:J$827,$B79) -> 0 | J79: =COUNTIF(CALENDRIER!K$735:K$827,$B79) -> 0 | ... W79: =COUNTIF(CALENDRIER!X$735:X$827,$B79) -> 0
B80: ABS | C80: =COUNTIF(CALENDRIER!D$735:D$827,$B80) -> 0 | D80: =COUNTIF(CALENDRIER!E$735:E$827,$B80) -> 0 | E80: =COUNTIF(CALENDRIER!F$735:F$827,$B80) -> 0 | F80: =COUNTIF(CALENDRIER!G$735:G$827,$B80) -> 0 | G80: =COUNTIF(CALENDRIER!H$735:H$827,$B80) -> 0 | H80: =COUNTIF(CALENDRIER!I$735:I$827,$B80) -> 0 | I80: =COUNTIF(CALENDRIER!J$735:J$827,$B80) -> 0 | J80: =COUNTIF(CALENDRIER!K$735:K$827,$B80) -> 0 | ... W80: =COUNTIF(CALENDRIER!X$735:X$827,$B80) -> 0
B81: TP | C81: =COUNTIF(CALENDRIER!D$735:D$827,$B81) -> 0 | D81: =COUNTIF(CALENDRIER!E$735:E$827,$B81) -> 0 | E81: =COUNTIF(CALENDRIER!F$735:F$827,$B81) -> 0 | F81: =COUNTIF(CALENDRIER!G$735:G$827,$B81) -> 0 | G81: =COUNTIF(CALENDRIER!H$735:H$827,$B81) -> 0 | H81: =COUNTIF(CALENDRIER!I$735:I$827,$B81) -> 0 | I81: =COUNTIF(CALENDRIER!J$735:J$827,$B81) -> 0 | J81: =COUNTIF(CALENDRIER!K$735:K$827,$B81) -> 0 | ... W81: =COUNTIF(CALENDRIER!X$735:X$827,$B81) -> 0
A82: Juin | B82: PERM | C82: =COUNTIF(CALENDRIER!D$828:D$917,$B82) -> 0 | D82: =COUNTIF(CALENDRIER!E$828:E$917,$B82) -> 0 | E82: =COUNTIF(CALENDRIER!F$828:F$917,$B82) -> 0 | F82: =COUNTIF(CALENDRIER!G$828:G$917,$B82) -> 0 | G82: =COUNTIF(CALENDRIER!H$828:H$917,$B82) -> 0 | H82: =COUNTIF(CALENDRIER!I$828:I$917,$B82) -> 0 | I82: =COUNTIF(CALENDRIER!J$828:J$917,$B82) -> 0 | J82: =COUNTIF(CALENDRIER!K$828:K$917,$B82) -> 0 | ... W82: =COUNTIF(CALENDRIER!X$828:X$917,$B82) -> 0
B83: P21 | C83: =COUNTIF(CALENDRIER!D$828:D$917,$B83) -> 0 | D83: =COUNTIF(CALENDRIER!E$828:E$917,$B83) -> 0 | E83: =COUNTIF(CALENDRIER!F$828:F$917,$B83) -> 0 | F83: =COUNTIF(CALENDRIER!G$828:G$917,$B83) -> 0 | G83: =COUNTIF(CALENDRIER!H$828:H$917,$B83) -> 0 | H83: =COUNTIF(CALENDRIER!I$828:I$917,$B83) -> 0 | I83: =COUNTIF(CALENDRIER!J$828:J$917,$B83) -> 0 | J83: =COUNTIF(CALENDRIER!K$828:K$917,$B83) -> 0 | ... W83: =COUNTIF(CALENDRIER!X$828:X$917,$B83) -> 0
B84: REU | C84: =COUNTIF(CALENDRIER!D$828:D$917,$B84) -> 0 | D84: =COUNTIF(CALENDRIER!E$828:E$917,$B84) -> 0 | E84: =COUNTIF(CALENDRIER!F$828:F$917,$B84) -> 0 | F84: =COUNTIF(CALENDRIER!G$828:G$917,$B84) -> 0 | G84: =COUNTIF(CALENDRIER!H$828:H$917,$B84) -> 0 | H84: =COUNTIF(CALENDRIER!I$828:I$917,$B84) -> 0 | I84: =COUNTIF(CALENDRIER!J$828:J$917,$B84) -> 0 | J84: =COUNTIF(CALENDRIER!K$828:K$917,$B84) -> 0 | ... W84: =COUNTIF(CALENDRIER!X$828:X$917,$B84) -> 0
B85: TEL1 | C85: =COUNTIF(CALENDRIER!D$828:D$917,$B85) -> 0 | D85: =COUNTIF(CALENDRIER!E$828:E$917,$B85) -> 0 | E85: =COUNTIF(CALENDRIER!F$828:F$917,$B85) -> 0 | F85: =COUNTIF(CALENDRIER!G$828:G$917,$B85) -> 0 | G85: =COUNTIF(CALENDRIER!H$828:H$917,$B85) -> 0 | H85: =COUNTIF(CALENDRIER!I$828:I$917,$B85) -> 0 | I85: =COUNTIF(CALENDRIER!J$828:J$917,$B85) -> 0 | J85: =COUNTIF(CALENDRIER!K$828:K$917,$B85) -> 0 | ... W85: =COUNTIF(CALENDRIER!X$828:X$917,$B85) -> 0
B86: TEL2 | C86: =COUNTIF(CALENDRIER!D$828:D$917,$B86) -> 0 | D86: =COUNTIF(CALENDRIER!E$828:E$917,$B86) -> 0 | E86: =COUNTIF(CALENDRIER!F$828:F$917,$B86) -> 0 | F86: =COUNTIF(CALENDRIER!G$828:G$917,$B86) -> 0 | G86: =COUNTIF(CALENDRIER!H$828:H$917,$B86) -> 0 | H86: =COUNTIF(CALENDRIER!I$828:I$917,$B86) -> 0 | I86: =COUNTIF(CALENDRIER!J$828:J$917,$B86) -> 0 | J86: =COUNTIF(CALENDRIER!K$828:K$917,$B86) -> 0 | ... W86: =COUNTIF(CALENDRIER!X$828:X$917,$B86) -> 0
B87: FORM | C87: =COUNTIF(CALENDRIER!D$828:D$917,$B87) -> 0 | D87: =COUNTIF(CALENDRIER!E$828:E$917,$B87) -> 0 | E87: =COUNTIF(CALENDRIER!F$828:F$917,$B87) -> 0 | F87: =COUNTIF(CALENDRIER!G$828:G$917,$B87) -> 0 | G87: =COUNTIF(CALENDRIER!H$828:H$917,$B87) -> 0 | H87: =COUNTIF(CALENDRIER!I$828:I$917,$B87) -> 0 | I87: =COUNTIF(CALENDRIER!J$828:J$917,$B87) -> 0 | J87: =COUNTIF(CALENDRIER!K$828:K$917,$B87) -> 0 | ... W87: =COUNTIF(CALENDRIER!X$828:X$917,$B87) -> 0
B88: ABS | C88: =COUNTIF(CALENDRIER!D$828:D$917,$B88) -> 0 | D88: =COUNTIF(CALENDRIER!E$828:E$917,$B88) -> 0 | E88: =COUNTIF(CALENDRIER!F$828:F$917,$B88) -> 0 | F88: =COUNTIF(CALENDRIER!G$828:G$917,$B88) -> 0 | G88: =COUNTIF(CALENDRIER!H$828:H$917,$B88) -> 0 | H88: =COUNTIF(CALENDRIER!I$828:I$917,$B88) -> 0 | I88: =COUNTIF(CALENDRIER!J$828:J$917,$B88) -> 0 | J88: =COUNTIF(CALENDRIER!K$828:K$917,$B88) -> 0 | ... W88: =COUNTIF(CALENDRIER!X$828:X$917,$B88) -> 0
B89: TP | C89: =COUNTIF(CALENDRIER!D$828:D$917,$B89) -> 0 | D89: =COUNTIF(CALENDRIER!E$828:E$917,$B89) -> 0 | E89: =COUNTIF(CALENDRIER!F$828:F$917,$B89) -> 0 | F89: =COUNTIF(CALENDRIER!G$828:G$917,$B89) -> 0 | G89: =COUNTIF(CALENDRIER!H$828:H$917,$B89) -> 0 | H89: =COUNTIF(CALENDRIER!I$828:I$917,$B89) -> 0 | I89: =COUNTIF(CALENDRIER!J$828:J$917,$B89) -> 0 | J89: =COUNTIF(CALENDRIER!K$828:K$917,$B89) -> 0 | ... W89: =COUNTIF(CALENDRIER!X$828:X$917,$B89) -> 0
A90: Juillet | B90: PERM | C90: =COUNTIF(CALENDRIER!D$918:D$1010,$B90) -> 0 | D90: =COUNTIF(CALENDRIER!E$918:E$1010,$B90) -> 0 | E90: =COUNTIF(CALENDRIER!F$918:F$1010,$B90) -> 0 | F90: =COUNTIF(CALENDRIER!G$918:G$1010,$B90) -> 0 | G90: =COUNTIF(CALENDRIER!H$918:H$1010,$B90) -> 0 | H90: =COUNTIF(CALENDRIER!I$918:I$1010,$B90) -> 0 | I90: =COUNTIF(CALENDRIER!J$918:J$1010,$B90) -> 0 | J90: =COUNTIF(CALENDRIER!K$918:K$1010,$B90) -> 0 | ... W90: =COUNTIF(CALENDRIER!X$918:X$1010,$B90) -> 0
B91: P22 | C91: =COUNTIF(CALENDRIER!D$918:D$1010,$B91) -> 0 | D91: =COUNTIF(CALENDRIER!E$918:E$1010,$B91) -> 0 | E91: =COUNTIF(CALENDRIER!F$918:F$1010,$B91) -> 0 | F91: =COUNTIF(CALENDRIER!G$918:G$1010,$B91) -> 0 | G91: =COUNTIF(CALENDRIER!H$918:H$1010,$B91) -> 0 | H91: =COUNTIF(CALENDRIER!I$918:I$1010,$B91) -> 0 | I91: =COUNTIF(CALENDRIER!J$918:J$1010,$B91) -> 0 | J91: =COUNTIF(CALENDRIER!K$918:K$1010,$B91) -> 0 | ... W91: =COUNTIF(CALENDRIER!X$918:X$1010,$B91) -> 0
B92: REU | C92: =COUNTIF(CALENDRIER!D$918:D$1010,$B92) -> 0 | D92: =COUNTIF(CALENDRIER!E$918:E$1010,$B92) -> 0 | E92: =COUNTIF(CALENDRIER!F$918:F$1010,$B92) -> 0 | F92: =COUNTIF(CALENDRIER!G$918:G$1010,$B92) -> 0 | G92: =COUNTIF(CALENDRIER!H$918:H$1010,$B92) -> 0 | H92: =COUNTIF(CALENDRIER!I$918:I$1010,$B92) -> 0 | I92: =COUNTIF(CALENDRIER!J$918:J$1010,$B92) -> 0 | J92: =COUNTIF(CALENDRIER!K$918:K$1010,$B92) -> 0 | ... W92: =COUNTIF(CALENDRIER!X$918:X$1010,$B92) -> 0
B93: TEL1 | C93: =COUNTIF(CALENDRIER!D$918:D$1010,$B93) -> 0 | D93: =COUNTIF(CALENDRIER!E$918:E$1010,$B93) -> 0 | E93: =COUNTIF(CALENDRIER!F$918:F$1010,$B93) -> 0 | F93: =COUNTIF(CALENDRIER!G$918:G$1010,$B93) -> 0 | G93: =COUNTIF(CALENDRIER!H$918:H$1010,$B93) -> 0 | H93: =COUNTIF(CALENDRIER!I$918:I$1010,$B93) -> 0 | I93: =COUNTIF(CALENDRIER!J$918:J$1010,$B93) -> 0 | J93: =COUNTIF(CALENDRIER!K$918:K$1010,$B93) -> 0 | ... W93: =COUNTIF(CALENDRIER!X$918:X$1010,$B93) -> 0
B94: TEL2 | C94: =COUNTIF(CALENDRIER!D$918:D$1010,$B94) -> 0 | D94: =COUNTIF(CALENDRIER!E$918:E$1010,$B94) -> 0 | E94: =COUNTIF(CALENDRIER!F$918:F$1010,$B94) -> 0 | F94: =COUNTIF(CALENDRIER!G$918:G$1010,$B94) -> 0 | G94: =COUNTIF(CALENDRIER!H$918:H$1010,$B94) -> 0 | H94: =COUNTIF(CALENDRIER!I$918:I$1010,$B94) -> 0 | I94: =COUNTIF(CALENDRIER!J$918:J$1010,$B94) -> 0 | J94: =COUNTIF(CALENDRIER!K$918:K$1010,$B94) -> 0 | ... W94: =COUNTIF(CALENDRIER!X$918:X$1010,$B94) -> 0
B95: FORM | C95: =COUNTIF(CALENDRIER!D$918:D$1010,$B95) -> 0 | D95: =COUNTIF(CALENDRIER!E$918:E$1010,$B95) -> 0 | E95: =COUNTIF(CALENDRIER!F$918:F$1010,$B95) -> 0 | F95: =COUNTIF(CALENDRIER!G$918:G$1010,$B95) -> 0 | G95: =COUNTIF(CALENDRIER!H$918:H$1010,$B95) -> 0 | H95: =COUNTIF(CALENDRIER!I$918:I$1010,$B95) -> 0 | I95: =COUNTIF(CALENDRIER!J$918:J$1010,$B95) -> 0 | J95: =COUNTIF(CALENDRIER!K$918:K$1010,$B95) -> 0 | ... W95: =COUNTIF(CALENDRIER!X$918:X$1010,$B95) -> 0
B96: ABS | C96: =COUNTIF(CALENDRIER!D$918:D$1010,$B96) -> 0 | D96: =COUNTIF(CALENDRIER!E$918:E$1010,$B96) -> 0 | E96: =COUNTIF(CALENDRIER!F$918:F$1010,$B96) -> 0 | F96: =COUNTIF(CALENDRIER!G$918:G$1010,$B96) -> 0 | G96: =COUNTIF(CALENDRIER!H$918:H$1010,$B96) -> 0 | H96: =COUNTIF(CALENDRIER!I$918:I$1010,$B96) -> 0 | I96: =COUNTIF(CALENDRIER!J$918:J$1010,$B96) -> 0 | J96: =COUNTIF(CALENDRIER!K$918:K$1010,$B96) -> 0 | ... W96: =COUNTIF(CALENDRIER!X$918:X$1010,$B96) -> 0
B97: TP | C97: =COUNTIF(CALENDRIER!D$918:D$1010,$B97) -> 0 | D97: =COUNTIF(CALENDRIER!E$918:E$1010,$B97) -> 0 | E97: =COUNTIF(CALENDRIER!F$918:F$1010,$B97) -> 0 | F97: =COUNTIF(CALENDRIER!G$918:G$1010,$B97) -> 0 | G97: =COUNTIF(CALENDRIER!H$918:H$1010,$B97) -> 0 | H97: =COUNTIF(CALENDRIER!I$918:I$1010,$B97) -> 0 | I97: =COUNTIF(CALENDRIER!J$918:J$1010,$B97) -> 0 | J97: =COUNTIF(CALENDRIER!K$918:K$1010,$B97) -> 0 | ... W97: =COUNTIF(CALENDRIER!X$918:X$1010,$B97) -> 0
A98: Août | B98: PERM | C98: =COUNTIF(CALENDRIER!D$1011:D$1103,$B98) -> 0 | D98: =COUNTIF(CALENDRIER!E$1011:E$1103,$B98) -> 0 | E98: =COUNTIF(CALENDRIER!F$1011:F$1103,$B98) -> 0 | F98: =COUNTIF(CALENDRIER!G$1011:G$1103,$B98) -> 0 | G98: =COUNTIF(CALENDRIER!H$1011:H$1103,$B98) -> 0 | H98: =COUNTIF(CALENDRIER!I$1011:I$1103,$B98) -> 0 | I98: =COUNTIF(CALENDRIER!J$1011:J$1103,$B98) -> 0 | J98: =COUNTIF(CALENDRIER!K$1011:K$1103,$B98) -> 0 | ... W98: =COUNTIF(CALENDRIER!X$1011:X$1103,$B98) -> 0
B99: P23 | C99: =COUNTIF(CALENDRIER!D$1011:D$1103,$B99) -> 0 | D99: =COUNTIF(CALENDRIER!E$1011:E$1103,$B99) -> 0 | E99: =COUNTIF(CALENDRIER!F$1011:F$1103,$B99) -> 0 | F99: =COUNTIF(CALENDRIER!G$1011:G$1103,$B99) -> 0 | G99: =COUNTIF(CALENDRIER!H$1011:H$1103,$B99) -> 0 | H99: =COUNTIF(CALENDRIER!I$1011:I$1103,$B99) -> 0 | I99: =COUNTIF(CALENDRIER!J$1011:J$1103,$B99) -> 0 | J99: =COUNTIF(CALENDRIER!K$1011:K$1103,$B99) -> 0 | ... W99: =COUNTIF(CALENDRIER!X$1011:X$1103,$B99) -> 0
B100: REU | C100: =COUNTIF(CALENDRIER!D$1011:D$1103,$B100) -> 0 | D100: =COUNTIF(CALENDRIER!E$1011:E$1103,$B100) -> 0 | E100: =COUNTIF(CALENDRIER!F$1011:F$1103,$B100) -> 0 | F100: =COUNTIF(CALENDRIER!G$1011:G$1103,$B100) -> 0 | G100: =COUNTIF(CALENDRIER!H$1011:H$1103,$B100) -> 0 | H100: =COUNTIF(CALENDRIER!I$1011:I$1103,$B100) -> 0 | I100: =COUNTIF(CALENDRIER!J$1011:J$1103,$B100) -> 0 | J100: =COUNTIF(CALENDRIER!K$1011:K$1103,$B100) -> 0 | ... W100: =COUNTIF(CALENDRIER!X$1011:X$1103,$B100) -> 0
...
