Workbook
Name fériés: Config!$G$6:$G$17
Name joursferies: Config!$G$6:$G$17
Name parcs: Config!$K$3:$M$5

Sheet Config
A3: AGENTS | C3: date d'entrée | D3: 2017
A4: AGENT1 | P4: BERGES DE SEINE
A5: AGENT2 | D5: start | E5: stop | G5: Les jours fériés | P5: MALRAUX
A6: AGENT3 | C6: janvier | D6: =DATE(D3,1,1) -> 42736 | E6: =EOMONTH(D6,0) -> 42766 | G6: =DATE(Config!D3,1,1) -> 42736 | H6: Nouvel An | P6: SCEAUX
A7: AGENT4 | C7: février | D7: =EDATE(D6,1) -> 42767 | E7: =EOMONTH(D7,0) -> 42794 | G7: =ROUND(DATE(D3,4,MOD(234-11*MOD(D3,19),30))/7,)*7-6 -> 42841 | H7: Dimanche de Pâques | P7: CHANTERAINES
A8: AGENT5 | C8: mars | D8: =EDATE(D7,1) -> 42795 | E8: =EOMONTH(D8,0) -> 42825 | G8: =G7+1 -> 42842 | H8: Lundi de Pâques | P8: ILE SAINT-GERMAIN
A9: AGENT6 | C9: avril | D9: =EDATE(D8,1) -> 42826 | E9: =EOMONTH(D9,0) -> 42855 | G9: =DATE(D3,5,1) -> 42856 | H9: Fête du travail
A10: AGENT7 | C10: mai | D10: =EDATE(D9,1) -> 42856 | E10: =EOMONTH(D10,0) -> 42886 | G10: =DATE(D3,5,8) -> 42863 | H10: Victoire 1945
A11: AGENT8 | C11: juin | D11: =EDATE(D10,1) -> 42887 | E11: =EOMONTH(D11,0) -> 42916 | G11: =G7+39 -> 42880 | H11: Ascension
A12: AGENT9 | C12: juillet | D12: =EDATE(D11,1) -> 42917 | E12: =EOMONTH(D12,0) -> 42947 | G12: =G7+50 -> 42891 | H12: Lundi de Pentecôte
A13: AGENT10 | C13: août | D13: =EDATE(D12,1) -> 42948 | E13: =EOMONTH(D13,0) -> 42978 | G13: =DATE(D3,7,14) -> 42930 | H13: Fête nationale
A14: AGENT11 | C14: septembre | D14: =EDATE(D13,1) -> 42979 | E14: =EOMONTH(D14,0) -> 43008 | G14: =DATE(D3,8,15) -> 42962 | H14: Assomption
A15: AGENT12 | C15: octobre | D15: =EDATE(D14,1) -> 43009 | E15: =EOMONTH(D15,0) -> 43039 | G15: =DATE(D3,11,1) -> 43040 | H15: Toussaint
A16: AGENT13 | C16: novembre | D16: =EDATE(D15,1) -> 43040 | E16: =EOMONTH(D16,0) -> 43069 | G16: =DATE(D3,11,11) -> 43050 | H16: Victoire 1918
A17: AGENT14 | C17: décembre | D17: =EDATE(D16,1) -> 43070 | E17: =EOMONTH(D17,0) -> 43100 | G17: =DATE(D3,12,25) -> 43094 | H17: Noël
A18: AGENT15
A19: AGENT16
A20: AGENT17
A21: AGENT18

Sheet Jan
A1: =Config!D6 -> 42736
A2: =Config!E6 -> 42766
F3: =A1 -> 42736 | G3: =F3+1 -> 42737 | H3: =G3+1 -> 42738 | I3: =H3+1 -> 42739 | J3: =I3+1 -> 42740 | K3: =J3+1 -> 42741 | L3: =K3+1 -> 42742 | M3: =L3+1 -> 42743 | N3: =M3+1 -> 42744 | ... AF3: =AE3+1 -> 42762 | AG3: =IFERROR(IF(AF3+1>$A$2,"",AF3+1),"") -> 42763 | AH3: =IFERROR(IF(AG3+1>$A$2,"",AG3+1),"") -> 42764 | AI3: =IFERROR(IF(AH3+1>$A$2,"",AH3+1),"") -> 42765 | AJ3: =IFERROR(IF(AI3+1>$A$2,"",AI3+1),"") -> 42766
N6: =Config!K9 -> 0
E7: =TEXT(A1,"Mmmmmmmmmmm") -> janvier
F9: =DAY(F3) -> 1 | G9: =DAY(G3) -> 2 | H9: =DAY(H3) -> 3 | I9: =DAY(I3) -> 4 | J9: =DAY(J3) -> 5 | K9: =DAY(K3) -> 6 | L9: =DAY(L3) -> 7 | M9: =DAY(M3) -> 8 | ... AF9: =DAY(AF3) -> 27 | AG9: =IFERROR(DAY(AG3),"") -> 28 | AH9: =IFERROR(DAY(AH3),"") -> 29 | AI9: =IFERROR(DAY(AI3),"") -> 30 | AJ9: =IFERROR(DAY(AJ3),"") -> 31 | AM9: BILAN MENSUEL | BA9: Total jours | BC9: BILAN ANNUEL | BQ9: Total jours | BS9: BILAN CONGES ANNUEL | BW9: BILAN CAS | CA9: BILAN JNT
E10: AGENTS | F10: =IFERROR(WEEKDAY(F3),"") -> 1 | G10: =IFERROR(WEEKDAY(G3),"") -> 2 | H10: =IFERROR(WEEKDAY(H3),"") -> 3 | I10: =IFERROR(WEEKDAY(I3),"") -> 4 | J10: =IFERROR(WEEKDAY(J3),"") -> 5 | K10: =IFERROR(WEEKDAY(K3),"") -> 6 | L10: =IFERROR(WEEKDAY(L3),"") -> 7 | M10: =IFERROR(WEEKDAY(M3),"") -> 1 | ... AJ10: =IFERROR(WEEKDAY(AJ3),"") -> 3 | AM10: T1 | AN10: L2 | AO10: P2 | AP10: 3 | AQ10: JNT | AR10: CA | AS10: CP | AT10: M | AU10: FR | AV10: FOR | AW10: ENF | AX10: R | AY10: CAS | AZ10: AAQ | BC10: T1 | BD10: L2 | BE10: P2 | BF10: 3 | BG10: JNT | BH10: CA | BI10: CP | BJ10: M | BK10: FR | BL10: FOR | BM10: ENF | BN10: R | BO10: CAS | BP10: AAQ | BS10: capital | BT10: pris | BU10: restant | BW10: capital | BX10: pris | BY10: restant | CA10: capital | CB10: pris | CC10: restant
E11: =IF(Config!A4<>"",Config!A4,"") -> AGENT1 | G11: R | H11: R | L11: R | M11: R | Q11: R | R11: R | W11: R | AB11: R | AC11: R | AG11: R | AH11: R | AM11: =COUNTIF(F11:AJ11,"1") -> 0 | AN11: =COUNTIF(F11:AJ11,"L2") -> 0 | AO11: =COUNTIF(F11:AJ11,"P2") -> 0 | AP11: =COUNTIF(F11:AJ11,"3") -> 0 | AQ11: =COUNTIF(F11:AJ11,"JNT") -> 0 | AR11: =COUNTIF(F11:AJ11,"CA") -> 0 | AS11: =COUNTIF(F11:AJ11,"CP") -> 0 | AT11: =COUNTIF(F11:AJ11,"M") -> 0 | AU11: =COUNTIF(F11:AJ11,"FR") -> 0 | AV11: =COUNTIF(F11:AJ11,"FOR") -> 0 | AW11: =COUNTIF(F11:AJ11,"ENF") -> 0 | AX11: =COUNTIF(F11:AJ11,"R") -> 11 | AY11: =COUNTIF(F11:AJ11,"CAS") -> 0 | AZ11: =COUNTIF(F11:AJ11,"AAQ") -> 0 | BA11: =SUM(AM11:AP11,AV11) -> 0 | BC11: =AM11 -> 0 | BD11: =AN11 -> 0 | BE11: =AO11 -> 0 | BF11: =AP11 -> 0 | BG11: =AQ11 -> 0 | BH11: =AR11 -> 0 | BI11: =AS11 -> 0 | BJ11: =AT11 -> 0 | ... BQ11: =BA11 -> 0 | BS11: 25 | BT11: =BH11 -> 0 | BU11: =BS11-BT11 -> 25 | BW11: 5 | BX11: =BO11 -> 0 | BY11: =BW11-BX11 -> 5 | CA11: 5 | CB11: =BG11 -> 0 | CC11: =CA11-CB11 -> 5
E12: =IF(Config!A5<>"",Config!A5,"") -> AGENT2 | G12: R | H12: R | L12: R | M12: R | Q12: R | R12: R | W12: R | AB12: R | AC12: R | AG12: R | AH12: R | AM12: =COUNTIF(F12:AJ12,"1") -> 0 | AN12: =COUNTIF(F12:AJ12,"L2") -> 0 | AO12: =COUNTIF(F12:AJ12,"P2") -> 0 | AP12: =COUNTIF(F12:AJ12,"3") -> 0 | AQ12: =COUNTIF(F12:AJ12,"JNT") -> 0 | AR12: =COUNTIF(F12:AJ12,"CA") -> 0 | AS12: =COUNTIF(F12:AJ12,"CP") -> 0 | AT12: =COUNTIF(F12:AJ12,"M") -> 0 | AU12: =COUNTIF(F12:AJ12,"FR") -> 0 | AV12: =COUNTIF(F12:AJ12,"FOR") -> 0 | AW12: =COUNTIF(F12:AJ12,"ENF") -> 0 | AX12: =COUNTIF(F12:AJ12,"R") -> 11 | AY12: =COUNTIF(F12:AJ12,"CAS") -> 0 | AZ12: =COUNTIF(F12:AJ12,"AAQ") -> 0 | BA12: =SUM(AM12:AP12,AV12) -> 0 | BC12: =AM12 -> 0 | BD12: =AN12 -> 0 | BE12: =AO12 -> 0 | BF12: =AP12 -> 0 | BG12: =AQ12 -> 0 | BH12: =AR12 -> 0 | BI12: =AS12 -> 0 | BJ12: =AT12 -> 0 | ... BQ12: =BA12 -> 0 | BS12: 25 | BT12: =BH12 -> 0 | BU12: =BS12-BT12 -> 25 | BW12: 5 | BX12: =BO12 -> 0 | BY12: =BW12-BX12 -> 5 | CA12: 5 | CB12: =BG12 -> 0 | CC12: =CA12-CB12 -> 5
E13: =IF(Config!A6<>"",Config!A6,"") -> AGENT3 | G13: R | H13: R | L13: R | M13: R | Q13: R | R13: R | W13: R | AB13: R | AC13: R | AG13: R | AH13: R | AM13: =COUNTIF(F13:AJ13,"1") -> 0 | AN13: =COUNTIF(F13:AJ13,"L2") -> 0 | AO13: =COUNTIF(F13:AJ13,"P2") -> 0 | AP13: =COUNTIF(F13:AJ13,"3") -> 0 | AQ13: =COUNTIF(F13:AJ13,"JNT") -> 0 | AR13: =COUNTIF(F13:AJ13,"CA") -> 0 | AS13: =COUNTIF(F13:AJ13,"CP") -> 0 | AT13: =COUNTIF(F13:AJ13,"M") -> 0 | AU13: =COUNTIF(F13:AJ13,"FR") -> 0 | AV13: =COUNTIF(F13:AJ13,"FOR") -> 0 | AW13: =COUNTIF(F13:AJ13,"ENF") -> 0 | AX13: =COUNTIF(F13:AJ13,"R") -> 11 | AY13: =COUNTIF(F13:AJ13,"CAS") -> 0 | AZ13: =COUNTIF(F13:AJ13,"AAQ") -> 0 | BA13: =SUM(AM13:AP13,AV13) -> 0 | BC13: =AM13 -> 0 | BD13: =AN13 -> 0 | BE13: =AO13 -> 0 | BF13: =AP13 -> 0 | BG13: =AQ13 -> 0 | BH13: =AR13 -> 0 | BI13: =AS13 -> 0 | BJ13: =AT13 -> 0 | ... BQ13: =BA13 -> 0 | BS13: 25 | BT13: =BH13 -> 0 | BU13: =BS13-BT13 -> 25 | BW13: 5 | BX13: =BO13 -> 0 | BY13: =BW13-BX13 -> 5 | CA13: 5 | CB13: =BG13 -> 0 | CC13: =CA13-CB13 -> 5
E14: =IF(Config!A7<>"",Config!A7,"") -> AGENT4 | G14: R | H14: R | L14: R | M14: R | Q14: R | R14: R | W14: R | AB14: R | AC14: R | AG14: R | AH14: R | AM14: =COUNTIF(F14:AJ14,"1") -> 0 | AN14: =COUNTIF(F14:AJ14,"L2") -> 0 | AO14: =COUNTIF(F14:AJ14,"P2") -> 0 | AP14: =COUNTIF(F14:AJ14,"3") -> 0 | AQ14: =COUNTIF(F14:AJ14,"JNT") -> 0 | AR14: =COUNTIF(F14:AJ14,"CA") -> 0 | AS14: =COUNTIF(F14:AJ14,"CP") -> 0 | AT14: =COUNTIF(F14:AJ14,"M") -> 0 | AU14: =COUNTIF(F14:AJ14,"FR") -> 0 | AV14: =COUNTIF(F14:AJ14,"FOR") -> 0 | AW14: =COUNTIF(F14:AJ14,"ENF") -> 0 | AX14: =COUNTIF(F14:AJ14,"R") -> 11 | AY14: =COUNTIF(F14:AJ14,"CAS") -> 0 | AZ14: =COUNTIF(F14:AJ14,"AAQ") -> 0 | BA14: =SUM(AM14:AP14,AV14) -> 0 | BC14: =AM14 -> 0 | BD14: =AN14 -> 0 | BE14: =AO14 -> 0 | BF14: =AP14 -> 0 | BG14: =AQ14 -> 0 | BH14: =AR14 -> 0 | BI14: =AS14 -> 0 | BJ14: =AT14 -> 0 | ... BQ14: =BA14 -> 0 | BS14: 25 | BT14: =BH14 -> 0 | BU14: =BS14-BT14 -> 25 | BW14: 5 | BX14: =BO14 -> 0 | BY14: =BW14-BX14 -> 5 | CA14: 5 | CB14: =BG14 -> 0 | CC14: =CA14-CB14 -> 5
E15: =IF(Config!A8<>"",Config!A8,"") -> AGENT5 | G15: R | H15: R | L15: R | M15: R | Q15: R | R15: R | W15: R | AB15: R | AC15: R | AG15: R | AH15: R | AM15: =COUNTIF(F15:AJ15,"1") -> 0 | AN15: =COUNTIF(F15:AJ15,"L2") -> 0 | AO15: =COUNTIF(F15:AJ15,"P2") -> 0 | AP15: =COUNTIF(F15:AJ15,"3") -> 0 | AQ15: =COUNTIF(F15:AJ15,"JNT") -> 0 | AR15: =COUNTIF(F15:AJ15,"CA") -> 0 | AS15: =COUNTIF(F15:AJ15,"CP") -> 0 | AT15: =COUNTIF(F15:AJ15,"M") -> 0 | AU15: =COUNTIF(F15:AJ15,"FR") -> 0 | AV15: =COUNTIF(F15:AJ15,"FOR") -> 0 | AW15: =COUNTIF(F15:AJ15,"ENF") -> 0 | AX15: =COUNTIF(F15:AJ15,"R") -> 11 | AY15: =COUNTIF(F15:AJ15,"CAS") -> 0 | AZ15: =COUNTIF(F15:AJ15,"AAQ") -> 0 | BA15: =SUM(AM15:AP15,AV15) -> 0 | BC15: =AM15 -> 0 | BD15: =AN15 -> 0 | BE15: =AO15 -> 0 | BF15: =AP15 -> 0 | BG15: =AQ15 -> 0 | BH15: =AR15 -> 0 | BI15: =AS15 -> 0 | BJ15: =AT15 -> 0 | ... BQ15: =BA15 -> 0 | BS15: 25 | BT15: =BH15 -> 0 | BU15: =BS15-BT15 -> 25 | BW15: 5 | BX15: =BO15 -> 0 | BY15: =BW15-BX15 -> 5 | CA15: 5 | CB15: =BG15 -> 0 | CC15: =CA15-CB15 -> 5
E16: =IF(Config!A9<>"",Config!A9,"") -> AGENT6 | G16: R | H16: R | L16: R | M16: R | Q16: R | R16: R | W16: R | AB16: R | AC16: R | AG16: R | AH16: R | AM16: =COUNTIF(F16:AJ16,"1") -> 0 | AN16: =COUNTIF(F16:AJ16,"L2") -> 0 | AO16: =COUNTIF(F16:AJ16,"P2") -> 0 | AP16: =COUNTIF(F16:AJ16,"3") -> 0 | AQ16: =COUNTIF(F16:AJ16,"JNT") -> 0 | AR16: =COUNTIF(F16:AJ16,"CA") -> 0 | AS16: =COUNTIF(F16:AJ16,"CP") -> 0 | AT16: =COUNTIF(F16:AJ16,"M") -> 0 | AU16: =COUNTIF(F16:AJ16,"FR") -> 0 | AV16: =COUNTIF(F16:AJ16,"FOR") -> 0 | AW16: =COUNTIF(F16:AJ16,"ENF") -> 0 | AX16: =COUNTIF(F16:AJ16,"R") -> 11 | AY16: =COUNTIF(F16:AJ16,"CAS") -> 0 | AZ16: =COUNTIF(F16:AJ16,"AAQ") -> 0 | BA16: =SUM(AM16:AP16,AV16) -> 0 | BC16: =AM16 -> 0 | BD16: =AN16 -> 0 | BE16: =AO16 -> 0 | BF16: =AP16 -> 0 | BG16: =AQ16 -> 0 | BH16: =AR16 -> 0 | BI16: =AS16 -> 0 | BJ16: =AT16 -> 0 | ... BQ16: =BA16 -> 0 | BS16: 25 | BT16: =BH16 -> 0 | BU16: =BS16-BT16 -> 25 | BW16: 5 | BX16: =BO16 -> 0 | BY16: =BW16-BX16 -> 5 | CA16: 5 | CB16: =BG16 -> 0 | CC16: =CA16-CB16 -> 5
E17: =IF(Config!A10<>"",Config!A10,"") -> AGENT7 | I17: R | N17: R | O17: R | S17: R | T17: R | X17: R | Y17: R | AD17: R | AI17: R | AJ17: R | AM17: =COUNTIF(F17:AJ17,"1") -> 0 | AN17: =COUNTIF(F17:AJ17,"L2") -> 0 | AO17: =COUNTIF(F17:AJ17,"P2") -> 0 | AP17: =COUNTIF(F17:AJ17,"3") -> 0 | AQ17: =COUNTIF(F17:AJ17,"JNT") -> 0 | AR17: =COUNTIF(F17:AJ17,"CA") -> 0 | AS17: =COUNTIF(F17:AJ17,"CP") -> 0 | AT17: =COUNTIF(F17:AJ17,"M") -> 0 | AU17: =COUNTIF(F17:AJ17,"FR") -> 0 | AV17: =COUNTIF(F17:AJ17,"FOR") -> 0 | AW17: =COUNTIF(F17:AJ17,"ENF") -> 0 | AX17: =COUNTIF(F17:AJ17,"R") -> 10 | AY17: =COUNTIF(F17:AJ17,"CAS") -> 0 | AZ17: =COUNTIF(F17:AJ17,"AAQ") -> 0 | BA17: =SUM(AM17:AP17,AV17) -> 0 | BC17: =AM17 -> 0 | BD17: =AN17 -> 0 | BE17: =AO17 -> 0 | BF17: =AP17 -> 0 | BG17: =AQ17 -> 0 | BH17: =AR17 -> 0 | BI17: =AS17 -> 0 | BJ17: =AT17 -> 0 | ... BQ17: =BA17 -> 0 | BS17: 25 | BT17: =BH17 -> 0 | BU17: =BS17-BT17 -> 25 | BW17: 5 | BX17: =BO17 -> 0 | BY17: =BW17-BX17 -> 5 | CA17: 5 | CB17: =BG17 -> 0 | CC17: =CA17-CB17 -> 5
E18: =IF(Config!A11<>"",Config!A11,"") -> AGENT8 | I18: R | N18: R | O18: R | S18: R | T18: R | X18: R | Y18: R | AD18: R | AI18: R | AJ18: R | AM18: =COUNTIF(F18:AJ18,"1") -> 0 | AN18: =COUNTIF(F18:AJ18,"L2") -> 0 | AO18: =COUNTIF(F18:AJ18,"P2") -> 0 | AP18: =COUNTIF(F18:AJ18,"3") -> 0 | AQ18: =COUNTIF(F18:AJ18,"JNT") -> 0 | AR18: =COUNTIF(F18:AJ18,"CA") -> 0 | AS18: =COUNTIF(F18:AJ18,"CP") -> 0 | AT18: =COUNTIF(F18:AJ18,"M") -> 0 | AU18: =COUNTIF(F18:AJ18,"FR") -> 0 | AV18: =COUNTIF(F18:AJ18,"FOR") -> 0 | AW18: =COUNTIF(F18:AJ18,"ENF") -> 0 | AX18: =COUNTIF(F18:AJ18,"R") -> 10 | AY18: =COUNTIF(F18:AJ18,"CAS") -> 0 | AZ18: =COUNTIF(F18:AJ18,"AAQ") -> 0 | BA18: =SUM(AM18:AP18,AV18) -> 0 | BC18: =AM18 -> 0 | BD18: =AN18 -> 0 | BE18: =AO18 -> 0 | BF18: =AP18 -> 0 | BG18: =AQ18 -> 0 | BH18: =AR18 -> 0 | BI18: =AS18 -> 0 | BJ18: =AT18 -> 0 | ... BQ18: =BA18 -> 0 | BS18: 25 | BT18: =BH18 -> 0 | BU18: =BS18-BT18 -> 25 | BW18: 5 | BX18: =BO18 -> 0 | BY18: =BW18-BX18 -> 5 | CA18: 5 | CB18: =BG18 -> 0 | CC18: =CA18-CB18 -> 5
E19: =IF(Config!A12<>"",Config!A12,"") -> AGENT9 | I19: R | N19: R | O19: R | S19: R | T19: R | X19: R | Y19: R | AD19: R | AI19: R | AJ19: R | AM19: =COUNTIF(F19:AJ19,"1") -> 0 | AN19: =COUNTIF(F19:AJ19,"L2") -> 0 | AO19: =COUNTIF(F19:AJ19,"P2") -> 0 | AP19: =COUNTIF(F19:AJ19,"3") -> 0 | AQ19: =COUNTIF(F19:AJ19,"JNT") -> 0 | AR19: =COUNTIF(F19:AJ19,"CA") -> 0 | AS19: =COUNTIF(F19:AJ19,"CP") -> 0 | AT19: =COUNTIF(F19:AJ19,"M") -> 0 | AU19: =COUNTIF(F19:AJ19,"FR") -> 0 | AV19: =COUNTIF(F19:AJ19,"FOR") -> 0 | AW19: =COUNTIF(F19:AJ19,"ENF") -> 0 | AX19: =COUNTIF(F19:AJ19,"R") -> 10 | AY19: =COUNTIF(F19:AJ19,"CAS") -> 0 | AZ19: =COUNTIF(F19:AJ19,"AAQ") -> 0 | BA19: =SUM(AM19:AP19,AV19) -> 0 | BC19: =AM19 -> 0 | BD19: =AN19 -> 0 | BE19: =AO19 -> 0 | BF19: =AP19 -> 0 | BG19: =AQ19 -> 0 | BH19: =AR19 -> 0 | BI19: =AS19 -> 0 | BJ19: =AT19 -> 0 | ... BQ19: =BA19 -> 0 | BS19: 25 | BT19: =BH19 -> 0 | BU19: =BS19-BT19 -> 25 | BW19: 5 | BX19: =BO19 -> 0 | BY19: =BW19-BX19 -> 5 | CA19: 5 | CB19: =BG19 -> 0 | CC19: =CA19-CB19 -> 5
E20: =IF(Config!A13<>"",Config!A13,"") -> AGENT10 | I20: R | N20: R | O20: R | S20: R | T20: R | X20: R | Y20: R | AD20: R | AI20: R | AJ20: R | AM20: =COUNTIF(F20:AJ20,"1") -> 0 | AN20: =COUNTIF(F20:AJ20,"L2") -> 0 | AO20: =COUNTIF(F20:AJ20,"P2") -> 0 | AP20: =COUNTIF(F20:AJ20,"3") -> 0 | AQ20: =COUNTIF(F20:AJ20,"JNT") -> 0 | AR20: =COUNTIF(F20:AJ20,"CA") -> 0 | AS20: =COUNTIF(F20:AJ20,"CP") -> 0 | AT20: =COUNTIF(F20:AJ20,"M") -> 0 | AU20: =COUNTIF(F20:AJ20,"FR") -> 0 | AV20: =COUNTIF(F20:AJ20,"FOR") -> 0 | AW20: =COUNTIF(F20:AJ20,"ENF") -> 0 | AX20: =COUNTIF(F20:AJ20,"R") -> 10 | AY20: =COUNTIF(F20:AJ20,"CAS") -> 0 | AZ20: =COUNTIF(F20:AJ20,"AAQ") -> 0 | BA20: =SUM(AM20:AP20,AV20) -> 0 | BC20: =AM20 -> 0 | BD20: =AN20 -> 0 | BE20: =AO20 -> 0 | BF20: =AP20 -> 0 | BG20: =AQ20 -> 0 | BH20: =AR20 -> 0 | BI20: =AS20 -> 0 | BJ20: =AT20 -> 0 | ... BQ20: =BA20 -> 0 | BS20: 25 | BT20: =BH20 -> 0 | BU20: =BS20-BT20 -> 25 | BW20: 5 | BX20: =BO20 -> 0 | BY20: =BW20-BX20 -> 5 | CA20: 5 | CB20: =BG20 -> 0 | CC20: =CA20-CB20 -> 5
E21: =IF(Config!A14<>"",Config!A14,"") -> AGENT11 | I21: R | N21: R | O21: R | S21: R | T21: R | X21: R | Y21: R | AD21: R | AI21: R | AJ21: R | AM21: =COUNTIF(F21:AJ21,"1") -> 0 | AN21: =COUNTIF(F21:AJ21,"L2") -> 0 | AO21: =COUNTIF(F21:AJ21,"P2") -> 0 | AP21: =COUNTIF(F21:AJ21,"3") -> 0 | AQ21: =COUNTIF(F21:AJ21,"JNT") -> 0 | AR21: =COUNTIF(F21:AJ21,"CA") -> 0 | AS21: =COUNTIF(F21:AJ21,"CP") -> 0 | AT21: =COUNTIF(F21:AJ21,"M") -> 0 | AU21: =COUNTIF(F21:AJ21,"FR") -> 0 | AV21: =COUNTIF(F21:AJ21,"FOR") -> 0 | AW21: =COUNTIF(F21:AJ21,"ENF") -> 0 | AX21: =COUNTIF(F21:AJ21,"R") -> 10 | AY21: =COUNTIF(F21:AJ21,"CAS") -> 0 | AZ21: =COUNTIF(F21:AJ21,"AAQ") -> 0 | BS21: 25 | BT21: =BH21 -> 0 | BU21: =BS21-BT21 -> 25 | BW21: 5 | BX21: =BO21 -> 0 | BY21: =BW21-BX21 -> 5 | CA21: 5 | CB21: =BG21 -> 0 | CC21: =CA21-CB21 -> 5
E22: =IF(Config!A14<>"",Config!A14,"") -> AGENT11 | I22: R | N22: R | O22: R | S22: R | T22: R | X22: R | Y22: R | AD22: R | AI22: R | AJ22: R | AM22: =COUNTIF(F22:AJ22,"1") -> 0 | AN22: =COUNTIF(F22:AJ22,"L2") -> 0 | AO22: =COUNTIF(F22:AJ22,"P2") -> 0 | AP22: =COUNTIF(F22:AJ22,"3") -> 0 | AQ22: =COUNTIF(F22:AJ22,"JNT") -> 0 | AR22: =COUNTIF(F22:AJ22,"CA") -> 0 | AS22: =COUNTIF(F22:AJ22,"CP") -> 0 | AT22: =COUNTIF(F22:AJ22,"M") -> 0 | AU22: =COUNTIF(F22:AJ22,"FR") -> 0 | AV22: =COUNTIF(F22:AJ22,"FOR") -> 0 | AW22: =COUNTIF(F22:AJ22,"ENF") -> 0 | AX22: =COUNTIF(F22:AJ22,"R") -> 10 | AY22: =COUNTIF(F22:AJ22,"CAS") -> 0 | AZ22: =COUNTIF(F22:AJ22,"AAQ") -> 0 | BA22: =SUM(AM22:AP22,AV22) -> 0 | BC22: =AM22 -> 0 | BD22: =AN22 -> 0 | BE22: =AO22 -> 0 | BF22: =AP22 -> 0 | BG22: =AQ22 -> 0 | BH22: =AR22 -> 0 | BI22: =AS22 -> 0 | BJ22: =AT22 -> 0 | ... BQ22: =BA22 -> 0 | BS22: 25 | BT22: =BH22 -> 0 | BU22: =BS22-BT22 -> 25 | BW22: 5 | BX22: =BO22 -> 0 | BY22: =BW22-BX22 -> 5 | CA22: 5 | CB22: =BG22 -> 0 | CC22: =CA22-CB22 -> 5
E23: =IF(Config!A15<>"",Config!A15,"") -> AGENT12 | I23: R | N23: R | O23: R | S23: R | T23: R | X23: R | Y23: R | AD23: R | AI23: R | AJ23: R | AM23: =COUNTIF(F23:AJ23,"1") -> 0 | AN23: =COUNTIF(F23:AJ23,"L2") -> 0 | AO23: =COUNTIF(F23:AJ23,"P2") -> 0 | AP23: =COUNTIF(F23:AJ23,"3") -> 0 | AQ23: =COUNTIF(F23:AJ23,"JNT") -> 0 | AR23: =COUNTIF(F23:AJ23,"CA") -> 0 | AS23: =COUNTIF(F23:AJ23,"CP") -> 0 | AT23: =COUNTIF(F23:AJ23,"M") -> 0 | AU23: =COUNTIF(F23:AJ23,"FR") -> 0 | AV23: =COUNTIF(F23:AJ23,"FOR") -> 0 | AW23: =COUNTIF(F23:AJ23,"ENF") -> 0 | AX23: =COUNTIF(F23:AJ23,"R") -> 10 | AY23: =COUNTIF(F23:AJ23,"CAS") -> 0 | AZ23: =COUNTIF(F23:AJ23,"AAQ") -> 0 | BA23: =SUM(AM23:AP23,AV23) -> 0 | BC23: =AM23 -> 0 | BD23: =AN23 -> 0 | BE23: =AO23 -> 0 | BF23: =AP23 -> 0 | BG23: =AQ23 -> 0 | BH23: =AR23 -> 0 | BI23: =AS23 -> 0 | BJ23: =AT23 -> 0 | ... BQ23: =BA23 -> 0 | BS23: 25 | BT23: =BH23 -> 0 | BU23: =BS23-BT23 -> 25 | BW23: 5 | BX23: =BO23 -> 0 | BY23: =BW23-BX23 -> 5 | CA23: 5 | CB23: =BG23 -> 0 | CC23: =CA23-CB23 -> 5
E24: =IF(Config!A16<>"",Config!A16,"") -> AGENT13 | F24: R | J24: R | K24: R | P24: R | U24: R | V24: R | Z24: R | AA24: R | AE24: R | AF24: R | AM24: =COUNTIF(F24:AJ24,"1") -> 0 | AN24: =COUNTIF(F24:AJ24,"L2") -> 0 | AO24: =COUNTIF(F24:AJ24,"P2") -> 0 | AP24: =COUNTIF(F24:AJ24,"3") -> 0 | AQ24: =COUNTIF(F24:AJ24,"JNT") -> 0 | AR24: =COUNTIF(F24:AJ24,"CA") -> 0 | AS24: =COUNTIF(F24:AJ24,"CP") -> 0 | AT24: =COUNTIF(F24:AJ24,"M") -> 0 | AU24: =COUNTIF(F24:AJ24,"FR") -> 0 | AV24: =COUNTIF(F24:AJ24,"FOR") -> 0 | AW24: =COUNTIF(F24:AJ24,"ENF") -> 0 | AX24: =COUNTIF(F24:AJ24,"R") -> 10 | AY24: =COUNTIF(F24:AJ24,"CAS") -> 0 | AZ24: =COUNTIF(F24:AJ24,"AAQ") -> 0 | BA24: =SUM(AM24:AP24,AV24) -> 0 | BC24: =AM24 -> 0 | BD24: =AN24 -> 0 | BE24: =AO24 -> 0 | BF24: =AP24 -> 0 | BG24: =AQ24 -> 0 | BH24: =AR24 -> 0 | BI24: =AS24 -> 0 | BJ24: =AT24 -> 0 | ... BQ24: =BA24 -> 0 | BS24: 25 | BT24: =BH24 -> 0 | BU24: =BS24-BT24 -> 25 | BW24: 5 | BX24: =BO24 -> 0 | BY24: =BW24-BX24 -> 5 | CA24: 5 | CB24: =BG24 -> 0 | CC24: =CA24-CB24 -> 5
E25: =IF(Config!A17<>"",Config!A17,"") -> AGENT14 | F25: R | J25: R | K25: R | P25: R | U25: R | V25: R | Z25: R | AA25: R | AE25: R | AF25: R | AM25: =COUNTIF(F25:AJ25,"1") -> 0 | AN25: =COUNTIF(F25:AJ25,"L2") -> 0 | AO25: =COUNTIF(F25:AJ25,"P2") -> 0 | AP25: =COUNTIF(F25:AJ25,"3") -> 0 | AQ25: =COUNTIF(F25:AJ25,"JNT") -> 0 | AR25: =COUNTIF(F25:AJ25,"CA") -> 0 | AS25: =COUNTIF(F25:AJ25,"CP") -> 0 | AT25: =COUNTIF(F25:AJ25,"M") -> 0 | AU25: =COUNTIF(F25:AJ25,"FR") -> 0 | AV25: =COUNTIF(F25:AJ25,"FOR") -> 0 | AW25: =COUNTIF(F25:AJ25,"ENF") -> 0 | AX25: =COUNTIF(F25:AJ25,"R") -> 10 | AY25: =COUNTIF(F25:AJ25,"CAS") -> 0 | AZ25: =COUNTIF(F25:AJ25,"AAQ") -> 0 | BA25: =SUM(AM25:AP25,AV25) -> 0 | BC25: =AM25 -> 0 | BD25: =AN25 -> 0 | BE25: =AO25 -> 0 | BF25: =AP25 -> 0 | BG25: =AQ25 -> 0 | BH25: =AR25 -> 0 | BI25: =AS25 -> 0 | BJ25: =AT25 -> 0 | ... BQ25: =BA25 -> 0 | BS25: 25 | BT25: =BH25 -> 0 | BU25: =BS25-BT25 -> 25 | BW25: 5 | BX25: =BO25 -> 0 | BY25: =BW25-BX25 -> 5 | CA25: 5 | CB25: =BG25 -> 0 | CC25: =CA25-CB25 -> 5
E26: =IF(Config!A18<>"",Config!A18,"") -> AGENT15 | F26: R | J26: R | K26: R | P26: R | U26: R | V26: R | Z26: R | AA26: R | AE26: R | AF26: R | AM26: =COUNTIF(F26:AJ26,"1") -> 0 | AN26: =COUNTIF(F26:AJ26,"L2") -> 0 | AO26: =COUNTIF(F26:AJ26,"P2") -> 0 | AP26: =COUNTIF(F26:AJ26,"3") -> 0 | AQ26: =COUNTIF(F26:AJ26,"JNT") -> 0 | AR26: =COUNTIF(F26:AJ26,"CA") -> 0 | AS26: =COUNTIF(F26:AJ26,"CP") -> 0 | AT26: =COUNTIF(F26:AJ26,"M") -> 0 | AU26: =COUNTIF(F26:AJ26,"FR") -> 0 | AV26: =COUNTIF(F26:AJ26,"FOR") -> 0 | AW26: =COUNTIF(F26:AJ26,"ENF") -> 0 | AX26: =COUNTIF(F26:AJ26,"R") -> 10 | AY26: =COUNTIF(F26:AJ26,"CAS") -> 0 | AZ26: =COUNTIF(F26:AJ26,"AAQ") -> 0 | BA26: =SUM(AM26:AP26,AV26) -> 0 | BC26: =AM26 -> 0 | BD26: =AN26 -> 0 | BE26: =AO26 -> 0 | BF26: =AP26 -> 0 | BG26: =AQ26 -> 0 | BH26: =AR26 -> 0 | BI26: =AS26 -> 0 | BJ26: =AT26 -> 0 | ... BQ26: =BA26 -> 0 | BS26: 25 | BT26: =BH26 -> 0 | BU26: =BS26-BT26 -> 25 | BW26: 5 | BX26: =BO26 -> 0 | BY26: =BW26-BX26 -> 5 | CA26: 5 | CB26: =BG26 -> 0 | CC26: =CA26-CB26 -> 5
E27: =IF(Config!A19<>"",Config!A19,"") -> AGENT16 | F27: R | J27: R | K27: R | P27: R | U27: R | V27: R | Z27: R | AA27: R | AE27: R | AF27: R | AM27: =COUNTIF(F27:AJ27,"1") -> 0 | AN27: =COUNTIF(F27:AJ27,"L2") -> 0 | AO27: =COUNTIF(F27:AJ27,"P2") -> 0 | AP27: =COUNTIF(F27:AJ27,"3") -> 0 | AQ27: =COUNTIF(F27:AJ27,"JNT") -> 0 | AR27: =COUNTIF(F27:AJ27,"CA") -> 0 | AS27: =COUNTIF(F27:AJ27,"CP") -> 0 | AT27: =COUNTIF(F27:AJ27,"M") -> 0 | AU27: =COUNTIF(F27:AJ27,"FR") -> 0 | AV27: =COUNTIF(F27:AJ27,"FOR") -> 0 | AW27: =COUNTIF(F27:AJ27,"ENF") -> 0 | AX27: =COUNTIF(F27:AJ27,"R") -> 10 | AY27: =COUNTIF(F27:AJ27,"CAS") -> 0 | AZ27: =COUNTIF(F27:AJ27,"AAQ") -> 0 | BA27: =SUM(AM27:AP27,AV27) -> 0 | BC27: =AM27 -> 0 | BD27: =AN27 -> 0 | BE27: =AO27 -> 0 | BF27: =AP27 -> 0 | BG27: =AQ27 -> 0 | BH27: =AR27 -> 0 | BI27: =AS27 -> 0 | BJ27: =AT27 -> 0 | ... BQ27: =BA27 -> 0 | BS27: 25 | BT27: =BH27 -> 0 | BU27: =BS27-BT27 -> 25 | BW27: 5 | BX27: =BO27 -> 0 | BY27: =BW27-BX27 -> 5 | CA27: 5 | CB27: =BG27 -> 0 | CC27: =CA27-CB27 -> 5
E28: =IF(Config!A20<>"",Config!A20,"") -> AGENT17 | F28: R | J28: R | K28: R | P28: R | U28: R | V28: R | Z28: R | AA28: R | AE28: R | AF28: R | AM28: =COUNTIF(F28:AJ28,"1") -> 0 | AN28: =COUNTIF(F28:AJ28,"L2") -> 0 | AO28: =COUNTIF(F28:AJ28,"P2") -> 0 | AP28: =COUNTIF(F28:AJ28,"3") -> 0 | AQ28: =COUNTIF(F28:AJ28,"JNT") -> 0 | AR28: =COUNTIF(F28:AJ28,"CA") -> 0 | AS28: =COUNTIF(F28:AJ28,"CP") -> 0 | AT28: =COUNTIF(F28:AJ28,"M") -> 0 | AU28: =COUNTIF(F28:AJ28,"FR") -> 0 | AV28: =COUNTIF(F28:AJ28,"FOR") -> 0 | AW28: =COUNTIF(F28:AJ28,"ENF") -> 0 | AX28: =COUNTIF(F28:AJ28,"R") -> 10 | AY28: =COUNTIF(F28:AJ28,"CAS") -> 0 | AZ28: =COUNTIF(F28:AJ28,"AAQ") -> 0 | BA28: =SUM(AM28:AP28,AV28) -> 0 | BC28: =AM28 -> 0 | BD28: =AN28 -> 0 | BE28: =AO28 -> 0 | BF28: =AP28 -> 0 | BG28: =AQ28 -> 0 | BH28: =AR28 -> 0 | BI28: =AS28 -> 0 | BJ28: =AT28 -> 0 | ... BQ28: =BA28 -> 0 | BS28: 25 | BT28: =BH28 -> 0 | BU28: =BS28-BT28 -> 25 | BW28: 5 | BX28: =BO28 -> 0 | BY28: =BW28-BX28 -> 5 | CA28: 5 | CB28: =BG28 -> 0 | CC28: =CA28-CB28 -> 5
E29: =IF(Config!A21<>"",Config!A21,"") -> AGENT18 | F29: R | J29: R | K29: R | P29: R | U29: R | V29: R | Z29: R | AA29: R | AE29: R | AF29: R | AM29: =COUNTIF(F29:AJ29,"1") -> 0 | AN29: =COUNTIF(F29:AJ29,"L2") -> 0 | AO29: =COUNTIF(F29:AJ29,"P2") -> 0 | AP29: =COUNTIF(F29:AJ29,"3") -> 0 | AQ29: =COUNTIF(F29:AJ29,"JNT") -> 0 | AR29: =COUNTIF(F29:AJ29,"CA") -> 0 | AS29: =COUNTIF(F29:AJ29,"CP") -> 0 | AT29: =COUNTIF(F29:AJ29,"M") -> 0 | AU29: =COUNTIF(F29:AJ29,"FR") -> 0 | AV29: =COUNTIF(F29:AJ29,"FOR") -> 0 | AW29: =COUNTIF(F29:AJ29,"ENF") -> 0 | AX29: =COUNTIF(F29:AJ29,"R") -> 10 | AY29: =COUNTIF(F29:AJ29,"CAS") -> 0 | AZ29: =COUNTIF(F29:AJ29,"AAQ") -> 0 | BA29: =SUM(AM29:AP29,AV29) -> 0 | BC29: =AM29 -> 0 | BD29: =AN29 -> 0 | BE29: =AO29 -> 0 | BF29: =AP29 -> 0 | BG29: =AQ29 -> 0 | BH29: =AR29 -> 0 | BI29: =AS29 -> 0 | BJ29: =AT29 -> 0 | ... BQ29: =BA29 -> 0 | BS29: 25 | BT29: =BH29 -> 0 | BU29: =BS29-BT29 -> 25 | BW29: 5 | BX29: =BO29 -> 0 | BY29: =BW29-BX29 -> 5 | CA29: 5 | CB29: =BG29 -> 0 | CC29: =CA29-CB29 -> 5
E31: TOUR 1 | F31: =COUNTIF(F11:F29,"1") -> 0 | G31: =COUNTIF(G11:G29,"1") -> 0 | H31: =COUNTIF(H11:H29,"1") -> 0 | I31: =COUNTIF(I11:I29,"1") -> 0 | J31: =COUNTIF(J11:J29,"1") -> 0 | K31: =COUNTIF(K11:K29,"1") -> 0 | L31: =COUNTIF(L11:L29,"1") -> 0 | M31: =COUNTIF(M11:M29,"1") -> 0 | ... AJ31: =COUNTIF(AJ11:AJ29,"1") -> 0
E32: TOUR L2 | F32: =COUNTIF(F11:F29,"L2") -> 0 | G32: =COUNTIF(G11:G29,"L2") -> 0 | H32: =COUNTIF(H11:H29,"L2") -> 0 | I32: =COUNTIF(I11:I29,"L2") -> 0 | J32: =COUNTIF(J11:J29,"L2") -> 0 | K32: =COUNTIF(K11:K29,"L2") -> 0 | L32: =COUNTIF(L11:L29,"L2") -> 0 | M32: =COUNTIF(M11:M29,"L2") -> 0 | ... AJ32: =COUNTIF(AJ11:AJ29,"L2") -> 0
E33: TOUR P2 | F33: =COUNTIF(F11:F29,"P2") -> 0 | G33: =COUNTIF(G11:G29,"P2") -> 0 | H33: =COUNTIF(H11:H29,"P2") -> 0 | I33: =COUNTIF(I11:I29,"P2") -> 0 | J33: =COUNTIF(J11:J29,"P2") -> 0 | K33: =COUNTIF(K11:K29,"P2") -> 0 | L33: =COUNTIF(L11:L29,"P2") -> 0 | M33: =COUNTIF(M11:M29,"P2") -> 0 | ... AJ33: =COUNTIF(AJ11:AJ29,"P2") -> 0
E34: TOUR 3 | F34: =COUNTIF(F11:F29,"3") -> 0 | G34: =COUNTIF(G11:G29,"3") -> 0 | H34: =COUNTIF(H11:H29,"3") -> 0 | I34: =COUNTIF(I11:I29,"3") -> 0 | J34: =COUNTIF(J11:J29,"3") -> 0 | K34: =COUNTIF(K11:K29,"3") -> 0 | L34: =COUNTIF(L11:L29,"3") -> 0 | M34: =COUNTIF(M11:M29,"3") -> 0 | ... AJ34: =COUNTIF(AJ11:AJ29,"3") -> 0
E35: TOTAL AAS | F35: =SUM(F31:F33:F32) -> 0 | G35: =SUM(G31:G33:G32) -> 0 | H35: =SUM(H31:H33:H32) -> 0 | I35: =SUM(I31:I33:I32) -> 0 | J35: =SUM(J31:J33:J32) -> 0 | K35: =SUM(K31:K33:K32) -> 0 | L35: =SUM(L31:L33:L32) -> 0 | M35: =SUM(M31:M33:M32) -> 0 | ... AJ35: =SUM(AJ31:AJ33:AJ32) -> 0
L37: CA | M37: congé | O37: CAS | R37: M | S37: Maladie | U37: FOR | V37: Formation | Y37: R | Z37: Repos | AB37: AAQ | AC37: Absence à qualifier

Sheet Fev
A1: =Config!D7 -> 42767
A2: =Config!E7 -> 42794
F3: =A1 -> 42767 | G3: =F3+1 -> 42768 | H3: =G3+1 -> 42769 | I3: =H3+1 -> 42770 | J3: =I3+1 -> 42771 | K3: =J3+1 -> 42772 | L3: =K3+1 -> 42773 | M3: =L3+1 -> 42774 | N3: =M3+1 -> 42775 | ... AF3: =AE3+1 -> 42793 | AG3: =IFERROR(IF(AF3+1>$A$2,"",AF3+1),"") -> 42794 | AH3: =IFERROR(IF(AG3+1>$A$2,"",AG3+1),"") | AI3: =IFERROR(IF(AH3+1>$A$2,"",AH3+1),"") | AJ3: =IFERROR(IF(AI3+1>$A$2,"",AI3+1),"")
N6: =Config!K9 -> 0
E7: =TEXT(A1,"Mmmmmmmmmmm") -> février
F9: =DAY(F3) -> 1 | G9: =DAY(G3) -> 2 | H9: =DAY(H3) -> 3 | I9: =DAY(I3) -> 4 | J9: =DAY(J3) -> 5 | K9: =DAY(K3) -> 6 | L9: =DAY(L3) -> 7 | M9: =DAY(M3) -> 8 | ... AF9: =DAY(AF3) -> 27 | AG9: =IFERROR(DAY(AG3),"") -> 28 | AH9: =IFERROR(DAY(AH3),"") | AI9: =IFERROR(DAY(AI3),"") | AJ9: =IFERROR(DAY(AJ3),"") | AM9: BILAN MENSUEL | BA9: Total jours | BC9: BILAN ANNUEL | BQ9: Total jours | BS9: BILAN CONGES ANNUEL | BW9: BILAN CAS | CA9: BILAN JNT
E10: AGENTS | F10: =IFERROR(WEEKDAY(F3),"") -> 4 | G10: =IFERROR(WEEKDAY(G3),"") -> 5 | H10: =IFERROR(WEEKDAY(H3),"") -> 6 | I10: =IFERROR(WEEKDAY(I3),"") -> 7 | J10: =IFERROR(WEEKDAY(J3),"") -> 1 | K10: =IFERROR(WEEKDAY(K3),"") -> 2 | L10: =IFERROR(WEEKDAY(L3),"") -> 3 | M10: =IFERROR(WEEKDAY(M3),"") -> 4 | ... AJ10: =IFERROR(WEEKDAY(AJ3),"") | AM10: T1 | AN10: L2 | AO10: P2 | AP10: 3 | AQ10: JNT | AR10: CA | AS10: CP | AT10: M | AU10: FR | AV10: FOR | AW10: ENF | AX10: R | AY10: CAS | AZ10: AAQ | BC10: T1 | BD10: L2 | BE10: P2 | BF10: 3 | BG10: JNT | BH10: CA | BI10: CP | BJ10: M | BK10: FR | BL10: FOR | BM10: ENF | BN10: R | BO10: CAS | BP10: AAQ | BS10: capital | BT10: pris | BU10: restant | BW10: capital | BX10: pris | BY10: restant | CA10: capital | CB10: pris | CC10: restant
E11: =IF(Config!A4<>"",Config!A4,"") -> AGENT1 | AM11: =COUNTIF(F11:AJ11,"1") -> 0 | AN11: =COUNTIF(F11:AJ11,"L2") -> 0 | AO11: =COUNTIF(F11:AJ11,"P2") -> 0 | AP11: =COUNTIF(F11:AJ11,"3") -> 0 | AQ11: =COUNTIF(F11:AJ11,"JNT") -> 0 | AR11: =COUNTIF(F11:AJ11,"CA") -> 0 | AS11: =COUNTIF(F11:AJ11,"CP") -> 0 | AT11: =COUNTIF(F11:AJ11,"M") -> 0 | AU11: =COUNTIF(F11:AJ11,"FR") -> 0 | AV11: =COUNTIF(F11:AJ11,"FOR") -> 0 | AW11: =COUNTIF(F11:AJ11,"ENF") -> 0 | AX11: =COUNTIF(F11:AJ11,"R") -> 0 | AY11: =COUNTIF(F11:AJ11,"CAS") -> 0 | AZ11: =COUNTIF(F11:AJ11,"AAQ") -> 0 | BA11: =SUM(AM11:AP11,AV11) -> 0 | BC11: =AM11+Jan!BC11 -> 0 | BD11: =AN11+Jan!BD11 -> 0 | BE11: =AO11+Jan!BE11 -> 0 | BF11: =AP11+Jan!BF11 -> 0 | BG11: =AQ11+Jan!BG11 -> 0 | BH11: =AR11+Jan!BH11 -> 0 | BI11: =AS11+Jan!BI11 -> 0 | BJ11: =AT11+Jan!BJ11 -> 0 | ... BQ11: =BA11+Jan!BQ11 -> 0 | BS11: 25 | BT11: =BH11 -> 0 | BU11: =BS11-BT11 -> 25 | BW11: 5 | BX11: =BO11 -> 0 | BY11: =BW11-BX11 -> 5 | CA11: 5 | CB11: =BG11 -> 0 | CC11: =CA11-CB11 -> 5
E12: =IF(Config!A5<>"",Config!A5,"") -> AGENT2 | S12: RT | AM12: =COUNTIF(F12:AJ12,"1") -> 0 | AN12: =COUNTIF(F12:AJ12,"L2") -> 0 | AO12: =COUNTIF(F12:AJ12,"P2") -> 0 | AP12: =COUNTIF(F12:AJ12,"3") -> 0 | AQ12: =COUNTIF(F12:AJ12,"JNT") -> 0 | AR12: =COUNTIF(F12:AJ12,"CA") -> 0 | AS12: =COUNTIF(F12:AJ12,"CP") -> 0 | AT12: =COUNTIF(F12:AJ12,"M") -> 0 | AU12: =COUNTIF(F12:AJ12,"FR") -> 0 | AV12: =COUNTIF(F12:AJ12,"FOR") -> 0 | AW12: =COUNTIF(F12:AJ12,"ENF") -> 0 | AX12: =COUNTIF(F12:AJ12,"R") -> 0 | AY12: =COUNTIF(F12:AJ12,"CAS") -> 0 | AZ12: =COUNTIF(F12:AJ12,"AAQ") -> 0 | BA12: =SUM(AM12:AP12,AV12) -> 0 | BC12: =AM12+Jan!BC12 -> 0 | BD12: =AN12+Jan!BD12 -> 0 | BE12: =AO12+Jan!BE12 -> 0 | BF12: =AP12+Jan!BF12 -> 0 | BG12: =AQ12+Jan!BG12 -> 0 | BH12: =AR12+Jan!BH12 -> 0 | BI12: =AS12+Jan!BI12 -> 0 | BJ12: =AT12+Jan!BJ12 -> 0 | ... BQ12: =BA12+Jan!BQ12 -> 0 | BS12: 25 | BT12: =BH12 -> 0 | BU12: =BS12-BT12 -> 25 | BW12: 5 | BX12: =BO12 -> 0 | BY12: =BW12-BX12 -> 5 | CA12: 5 | CB12: =BG12 -> 0 | CC12: =CA12-CB12 -> 5
E13: =IF(Config!A6<>"",Config!A6,"") -> AGENT3 | Z13: 1 | AM13: =COUNTIF(F13:AJ13,"1") -> 1 | AN13: =COUNTIF(F13:AJ13,"L2") -> 0 | AO13: =COUNTIF(F13:AJ13,"P2") -> 0 | AP13: =COUNTIF(F13:AJ13,"3") -> 0 | AQ13: =COUNTIF(F13:AJ13,"JNT") -> 0 | AR13: =COUNTIF(F13:AJ13,"CA") -> 0 | AS13: =COUNTIF(F13:AJ13,"CP") -> 0 | AT13: =COUNTIF(F13:AJ13,"M") -> 0 | AU13: =COUNTIF(F13:AJ13,"FR") -> 0 | AV13: =COUNTIF(F13:AJ13,"FOR") -> 0 | AW13: =COUNTIF(F13:AJ13,"ENF") -> 0 | AX13: =COUNTIF(F13:AJ13,"R") -> 0 | AY13: =COUNTIF(F13:AJ13,"CAS") -> 0 | AZ13: =COUNTIF(F13:AJ13,"AAQ") -> 0 | BA13: =SUM(AM13:AP13,AV13) -> 1 | BC13: =AM13+Jan!BC13 -> 1 | BD13: =AN13+Jan!BD13 -> 0 | BE13: =AO13+Jan!BE13 -> 0 | BF13: =AP13+Jan!BF13 -> 0 | BG13: =AQ13+Jan!BG13 -> 0 | BH13: =AR13+Jan!BH13 -> 0 | BI13: =AS13+Jan!BI13 -> 0 | BJ13: =AT13+Jan!BJ13 -> 0 | ... BQ13: =BA13+Jan!BQ13 -> 1 | BS13: 25 | BT13: =BH13 -> 0 | BU13: =BS13-BT13 -> 25 | BW13: 5 | BX13: =BO13 -> 0 | BY13: =BW13-BX13 -> 5 | CA13: 5 | CB13: =BG13 -> 0 | CC13: =CA13-CB13 -> 5
E14: =IF(Config!A7<>"",Config!A7,"") -> AGENT4 | L14: M | AA14: 1 | AC14: l2 | AM14: =COUNTIF(F14:AJ14,"1") -> 1 | AN14: =COUNTIF(F14:AJ14,"L2") -> 1 | AO14: =COUNTIF(F14:AJ14,"P2") -> 0 | AP14: =COUNTIF(F14:AJ14,"3") -> 0 | AQ14: =COUNTIF(F14:AJ14,"JNT") -> 0 | AR14: =COUNTIF(F14:AJ14,"CA") -> 0 | AS14: =COUNTIF(F14:AJ14,"CP") -> 0 | AT14: =COUNTIF(F14:AJ14,"M") -> 1 | AU14: =COUNTIF(F14:AJ14,"FR") -> 0 | AV14: =COUNTIF(F14:AJ14,"FOR") -> 0 | AW14: =COUNTIF(F14:AJ14,"ENF") -> 0 | AX14: =COUNTIF(F14:AJ14,"R") -> 0 | AY14: =COUNTIF(F14:AJ14,"CAS") -> 0 | AZ14: =COUNTIF(F14:AJ14,"AAQ") -> 0 | BA14: =SUM(AM14:AP14,AV14) -> 2 | BC14: =AM14+Jan!BC14 -> 1 | BD14: =AN14+Jan!BD14 -> 1 | BE14: =AO14+Jan!BE14 -> 0 | BF14: =AP14+Jan!BF14 -> 0 | BG14: =AQ14+Jan!BG14 -> 0 | BH14: =AR14+Jan!BH14 -> 0 | BI14: =AS14+Jan!BI14 -> 0 | BJ14: =AT14+Jan!BJ14 -> 1 | ... BQ14: =BA14+Jan!BQ14 -> 2 | BS14: 25 | BT14: =BH14 -> 0 | BU14: =BS14-BT14 -> 25 | BW14: 5 | BX14: =BO14 -> 0 | BY14: =BW14-BX14 -> 5 | CA14: 5 | CB14: =BG14 -> 0 | CC14: =CA14-CB14 -> 5
E15: =IF(Config!A8<>"",Config!A8,"") -> AGENT5 | P15: AAQ | AD15: l2 | AM15: =COUNTIF(F15:AJ15,"1") -> 0 | AN15: =COUNTIF(F15:AJ15,"L2") -> 1 | AO15: =COUNTIF(F15:AJ15,"P2") -> 0 | AP15: =COUNTIF(F15:AJ15,"3") -> 0 | AQ15: =COUNTIF(F15:AJ15,"JNT") -> 0 | AR15: =COUNTIF(F15:AJ15,"CA") -> 0 | AS15: =COUNTIF(F15:AJ15,"CP") -> 0 | AT15: =COUNTIF(F15:AJ15,"M") -> 0 | AU15: =COUNTIF(F15:AJ15,"FR") -> 0 | AV15: =COUNTIF(F15:AJ15,"FOR") -> 0 | AW15: =COUNTIF(F15:AJ15,"ENF") -> 0 | AX15: =COUNTIF(F15:AJ15,"R") -> 0 | AY15: =COUNTIF(F15:AJ15,"CAS") -> 0 | AZ15: =COUNTIF(F15:AJ15,"AAQ") -> 1 | BA15: =SUM(AM15:AP15,AV15) -> 1 | BC15: =AM15+Jan!BC15 -> 0 | BD15: =AN15+Jan!BD15 -> 1 | BE15: =AO15+Jan!BE15 -> 0 | BF15: =AP15+Jan!BF15 -> 0 | BG15: =AQ15+Jan!BG15 -> 0 | BH15: =AR15+Jan!BH15 -> 0 | BI15: =AS15+Jan!BI15 -> 0 | BJ15: =AT15+Jan!BJ15 -> 0 | ... BQ15: =BA15+Jan!BQ15 -> 1 | BS15: 25 | BT15: =BH15 -> 0 | BU15: =BS15-BT15 -> 25 | BW15: 5 | BX15: =BO15 -> 0 | BY15: =BW15-BX15 -> 5 | CA15: 5 | CB15: =BG15 -> 0 | CC15: =CA15-CB15 -> 5
E16: =IF(Config!A9<>"",Config!A9,"") -> AGENT6 | Q16: M | AM16: =COUNTIF(F16:AJ16,"1") -> 0 | AN16: =COUNTIF(F16:AJ16,"L2") -> 0 | AO16: =COUNTIF(F16:AJ16,"P2") -> 0 | AP16: =COUNTIF(F16:AJ16,"3") -> 0 | AQ16: =COUNTIF(F16:AJ16,"JNT") -> 0 | AR16: =COUNTIF(F16:AJ16,"CA") -> 0 | AS16: =COUNTIF(F16:AJ16,"CP") -> 0 | AT16: =COUNTIF(F16:AJ16,"M") -> 1 | AU16: =COUNTIF(F16:AJ16,"FR") -> 0 | AV16: =COUNTIF(F16:AJ16,"FOR") -> 0 | AW16: =COUNTIF(F16:AJ16,"ENF") -> 0 | AX16: =COUNTIF(F16:AJ16,"R") -> 0 | AY16: =COUNTIF(F16:AJ16,"CAS") -> 0 | AZ16: =COUNTIF(F16:AJ16,"AAQ") -> 0 | BA16: =SUM(AM16:AP16,AV16) -> 0 | BC16: =AM16+Jan!BC16 -> 0 | BD16: =AN16+Jan!BD16 -> 0 | BE16: =AO16+Jan!BE16 -> 0 | BF16: =AP16+Jan!BF16 -> 0 | BG16: =AQ16+Jan!BG16 -> 0 | BH16: =AR16+Jan!BH16 -> 0 | BI16: =AS16+Jan!BI16 -> 0 | BJ16: =AT16+Jan!BJ16 -> 1 | ... BQ16: =BA16+Jan!BQ16 -> 0 | BS16: 25 | BT16: =BH16 -> 0 | BU16: =BS16-BT16 -> 25 | BW16: 5 | BX16: =BO16 -> 0 | BY16: =BW16-BX16 -> 5 | CA16: 5 | CB16: =BG16 -> 0 | CC16: =CA16-CB16 -> 5
E17: =IF(Config!A10<>"",Config!A10,"") -> AGENT7 | X17: CA | AM17: =COUNTIF(F17:AJ17,"1") -> 0 | AN17: =COUNTIF(F17:AJ17,"L2") -> 0 | AO17: =COUNTIF(F17:AJ17,"P2") -> 0 | AP17: =COUNTIF(F17:AJ17,"3") -> 0 | AQ17: =COUNTIF(F17:AJ17,"JNT") -> 0 | AR17: =COUNTIF(F17:AJ17,"CA") -> 1 | AS17: =COUNTIF(F17:AJ17,"CP") -> 0 | AT17: =COUNTIF(F17:AJ17,"M") -> 0 | AU17: =COUNTIF(F17:AJ17,"FR") -> 0 | AV17: =COUNTIF(F17:AJ17,"FOR") -> 0 | AW17: =COUNTIF(F17:AJ17,"ENF") -> 0 | AX17: =COUNTIF(F17:AJ17,"R") -> 0 | AY17: =COUNTIF(F17:AJ17,"CAS") -> 0 | AZ17: =COUNTIF(F17:AJ17,"AAQ") -> 0 | BA17: =SUM(AM17:AP17,AV17) -> 0 | BC17: =AM17+Jan!BC17 -> 0 | BD17: =AN17+Jan!BD17 -> 0 | BE17: =AO17+Jan!BE17 -> 0 | BF17: =AP17+Jan!BF17 -> 0 | BG17: =AQ17+Jan!BG17 -> 0 | BH17: =AR17+Jan!BH17 -> 1 | BI17: =AS17+Jan!BI17 -> 0 | BJ17: =AT17+Jan!BJ17 -> 0 | ... BQ17: =BA17+Jan!BQ17 -> 0 | BS17: 25 | BT17: =BH17 -> 1 | BU17: =BS17-BT17 -> 24 | BW17: 5 | BX17: =BO17 -> 0 | BY17: =BW17-BX17 -> 5 | CA17: 5 | CB17: =BG17 -> 0 | CC17: =CA17-CB17 -> 5
E18: =IF(Config!A11<>"",Config!A11,"") -> AGENT8 | AM18: =COUNTIF(F18:AJ18,"1") -> 0 | AN18: =COUNTIF(F18:AJ18,"L2") -> 0 | AO18: =COUNTIF(F18:AJ18,"P2") -> 0 | AP18: =COUNTIF(F18:AJ18,"3") -> 0 | AQ18: =COUNTIF(F18:AJ18,"JNT") -> 0 | AR18: =COUNTIF(F18:AJ18,"CA") -> 0 | AS18: =COUNTIF(F18:AJ18,"CP") -> 0 | AT18: =COUNTIF(F18:AJ18,"M") -> 0 | AU18: =COUNTIF(F18:AJ18,"FR") -> 0 | AV18: =COUNTIF(F18:AJ18,"FOR") -> 0 | AW18: =COUNTIF(F18:AJ18,"ENF") -> 0 | AX18: =COUNTIF(F18:AJ18,"R") -> 0 | AY18: =COUNTIF(F18:AJ18,"CAS") -> 0 | AZ18: =COUNTIF(F18:AJ18,"AAQ") -> 0 | BA18: =SUM(AM18:AP18,AV18) -> 0 | BC18: =AM18+Jan!BC18 -> 0 | BD18: =AN18+Jan!BD18 -> 0 | BE18: =AO18+Jan!BE18 -> 0 | BF18: =AP18+Jan!BF18 -> 0 | BG18: =AQ18+Jan!BG18 -> 0 | BH18: =AR18+Jan!BH18 -> 0 | BI18: =AS18+Jan!BI18 -> 0 | BJ18: =AT18+Jan!BJ18 -> 0 | ... BQ18: =BA18+Jan!BQ18 -> 0 | BS18: 25 | BT18: =BH18 -> 0 | BU18: =BS18-BT18 -> 25 | BW18: 5 | BX18: =BO18 -> 0 | BY18: =BW18-BX18 -> 5 | CA18: 5 | CB18: =BG18 -> 0 | CC18: =CA18-CB18 -> 5
E19: =IF(Config!A12<>"",Config!A12,"") -> AGENT9 | AM19: =COUNTIF(F19:AJ19,"1") -> 0 | AN19: =COUNTIF(F19:AJ19,"L2") -> 0 | AO19: =COUNTIF(F19:AJ19,"P2") -> 0 | AP19: =COUNTIF(F19:AJ19,"3") -> 0 | AQ19: =COUNTIF(F19:AJ19,"JNT") -> 0 | AR19: =COUNTIF(F19:AJ19,"CA") -> 0 | AS19: =COUNTIF(F19:AJ19,"CP") -> 0 | AT19: =COUNTIF(F19:AJ19,"M") -> 0 | AU19: =COUNTIF(F19:AJ19,"FR") -> 0 | AV19: =COUNTIF(F19:AJ19,"FOR") -> 0 | AW19: =COUNTIF(F19:AJ19,"ENF") -> 0 | AX19: =COUNTIF(F19:AJ19,"R") -> 0 | AY19: =COUNTIF(F19:AJ19,"CAS") -> 0 | AZ19: =COUNTIF(F19:AJ19,"AAQ") -> 0 | BA19: =SUM(AM19:AP19,AV19) -> 0 | BC19: =AM19+Jan!BC19 -> 0 | BD19: =AN19+Jan!BD19 -> 0 | BE19: =AO19+Jan!BE19 -> 0 | BF19: =AP19+Jan!BF19 -> 0 | BG19: =AQ19+Jan!BG19 -> 0 | BH19: =AR19+Jan!BH19 -> 0 | BI19: =AS19+Jan!BI19 -> 0 | BJ19: =AT19+Jan!BJ19 -> 0 | ... BQ19: =BA19+Jan!BQ19 -> 0 | BS19: 25 | BT19: =BH19 -> 0 | BU19: =BS19-BT19 -> 25 | BW19: 5 | BX19: =BO19 -> 0 | BY19: =BW19-BX19 -> 5 | CA19: 5 | CB19: =BG19 -> 0 | CC19: =CA19-CB19 -> 5
E20: =IF(Config!A13<>"",Config!A13,"") -> AGENT10 | L20: rt | S20: for | AA20: r | AB20: cp | AM20: =COUNTIF(F20:AJ20,"1") -> 0 | AN20: =COUNTIF(F20:AJ20,"L2") -> 0 | AO20: =COUNTIF(F20:AJ20,"P2") -> 0 | AP20: =COUNTIF(F20:AJ20,"3") -> 0 | AQ20: =COUNTIF(F20:AJ20,"JNT") -> 0 | AR20: =COUNTIF(F20:AJ20,"CA") -> 0 | AS20: =COUNTIF(F20:AJ20,"CP") -> 1 | AT20: =COUNTIF(F20:AJ20,"M") -> 0 | AU20: =COUNTIF(F20:AJ20,"FR") -> 0 | AV20: =COUNTIF(F20:AJ20,"FOR") -> 1 | AW20: =COUNTIF(F20:AJ20,"ENF") -> 0 | AX20: =COUNTIF(F20:AJ20,"R") -> 1 | AY20: =COUNTIF(F20:AJ20,"CAS") -> 0 | AZ20: =COUNTIF(F20:AJ20,"AAQ") -> 0 | BA20: =SUM(AM20:AP20,AV20) -> 1 | BC20: =AM20+Jan!BC20 -> 0 | BD20: =AN20+Jan!BD20 -> 0 | BE20: =AO20+Jan!BE20 -> 0 | BF20: =AP20+Jan!BF20 -> 0 | BG20: =AQ20+Jan!BG20 -> 0 | BH20: =AR20+Jan!BH20 -> 0 | BI20: =AS20+Jan!BI20 -> 1 | BJ20: =AT20+Jan!BJ20 -> 0 | ... BQ20: =BA20+Jan!BQ20 -> 1 | BS20: 25 | BT20: =BH20 -> 0 | BU20: =BS20-BT20 -> 25 | BW20: 5 | BX20: =BO20 -> 0 | BY20: =BW20-BX20 -> 5 | CA20: 5 | CB20: =BG20 -> 0 | CC20: =CA20-CB20 -> 5
E21: =IF(Config!A14<>"",Config!A14,"") -> AGENT11 | L21: rt | S21: for | AA21: r | AB21: cp | AM21: =COUNTIF(F21:AJ21,"1") -> 0 | AN21: =COUNTIF(F21:AJ21,"L2") -> 0 | AO21: =COUNTIF(F21:AJ21,"P2") -> 0 | AP21: =COUNTIF(F21:AJ21,"3") -> 0 | AQ21: =COUNTIF(F21:AJ21,"JNT") -> 0 | AR21: =COUNTIF(F21:AJ21,"CA") -> 0 | AS21: =COUNTIF(F21:AJ21,"CP") -> 1 | AT21: =COUNTIF(F21:AJ21,"M") -> 0 | AU21: =COUNTIF(F21:AJ21,"FR") -> 0 | AV21: =COUNTIF(F21:AJ21,"FOR") -> 1 | AW21: =COUNTIF(F21:AJ21,"ENF") -> 0 | AX21: =COUNTIF(F21:AJ21,"R") -> 1 | AY21: =COUNTIF(F21:AJ21,"CAS") -> 0 | AZ21: =COUNTIF(F21:AJ21,"AAQ") -> 0 | BC21: =AM21+Jan!BC21 -> 0 | BD21: =AN21+Jan!BD21 -> 0 | BE21: =AO21+Jan!BE21 -> 0 | BF21: =AP21+Jan!BF21 -> 0 | BG21: =AQ21+Jan!BG21 -> 0 | BH21: =AR21+Jan!BH21 -> 0 | BI21: =AS21+Jan!BI21 -> 1 | BJ21: =AT21+Jan!BJ21 -> 0 | ... BQ21: =BA21+Jan!BQ21 -> 0 | BS21: 25 | BT21: =BH21 -> 0 | BU21: =BS21-BT21 -> 25 | BW21: 5 | BX21: =BO21 -> 0 | BY21: =BW21-BX21 -> 5 | CA21: 5 | CB21: =BG21 -> 0 | CC21: =CA21-CB21 -> 5
E22: =IF(Config!A14<>"",Config!A14,"") -> AGENT11 | AM22: =COUNTIF(F22:AJ22,"1") -> 0 | AN22: =COUNTIF(F22:AJ22,"L2") -> 0 | AO22: =COUNTIF(F22:AJ22,"P2") -> 0 | AP22: =COUNTIF(F22:AJ22,"3") -> 0 | AQ22: =COUNTIF(F22:AJ22,"JNT") -> 0 | AR22: =COUNTIF(F22:AJ22,"CA") -> 0 | AS22: =COUNTIF(F22:AJ22,"CP") -> 0 | AT22: =COUNTIF(F22:AJ22,"M") -> 0 | AU22: =COUNTIF(F22:AJ22,"FR") -> 0 | AV22: =COUNTIF(F22:AJ22,"FOR") -> 0 | AW22: =COUNTIF(F22:AJ22,"ENF") -> 0 | AX22: =COUNTIF(F22:AJ22,"R") -> 0 | AY22: =COUNTIF(F22:AJ22,"CAS") -> 0 | AZ22: =COUNTIF(F22:AJ22,"AAQ") -> 0 | BA22: =SUM(AM22:AP22,AV22) -> 0 | BC22: =AM22+Jan!BC22 -> 0 | BD22: =AN22+Jan!BD22 -> 0 | BE22: =AO22+Jan!BE22 -> 0 | BF22: =AP22+Jan!BF22 -> 0 | BG22: =AQ22+Jan!BG22 -> 0 | BH22: =AR22+Jan!BH22 -> 0 | BI22: =AS22+Jan!BI22 -> 0 | BJ22: =AT22+Jan!BJ22 -> 0 | ... BQ22: =BA22+Jan!BQ22 -> 0 | BS22: 25 | BT22: =BH22 -> 0 | BU22: =BS22-BT22 -> 25 | BW22: 5 | BX22: =BO22 -> 0 | BY22: =BW22-BX22 -> 5 | CA22: 5 | CB22: =BG22 -> 0 | CC22: =CA22-CB22 -> 5
E23: =IF(Config!A15<>"",Config!A15,"") -> AGENT12 | V23: for | AM23: =COUNTIF(F23:AJ23,"1") -> 0 | AN23: =COUNTIF(F23:AJ23,"L2") -> 0 | AO23: =COUNTIF(F23:AJ23,"P2") -> 0 | AP23: =COUNTIF(F23:AJ23,"3") -> 0 | AQ23: =COUNTIF(F23:AJ23,"JNT") -> 0 | AR23: =COUNTIF(F23:AJ23,"CA") -> 0 | AS23: =COUNTIF(F23:AJ23,"CP") -> 0 | AT23: =COUNTIF(F23:AJ23,"M") -> 0 | AU23: =COUNTIF(F23:AJ23,"FR") -> 0 | AV23: =COUNTIF(F23:AJ23,"FOR") -> 1 | AW23: =COUNTIF(F23:AJ23,"ENF") -> 0 | AX23: =COUNTIF(F23:AJ23,"R") -> 0 | AY23: =COUNTIF(F23:AJ23,"CAS") -> 0 | AZ23: =COUNTIF(F23:AJ23,"AAQ") -> 0 | BA23: =SUM(AM23:AP23,AV23) -> 1 | BC23: =AM23+Jan!BC23 -> 0 | BD23: =AN23+Jan!BD23 -> 0 | BE23: =AO23+Jan!BE23 -> 0 | BF23: =AP23+Jan!BF23 -> 0 | BG23: =AQ23+Jan!BG23 -> 0 | BH23: =AR23+Jan!BH23 -> 0 | BI23: =AS23+Jan!BI23 -> 0 | BJ23: =AT23+Jan!BJ23 -> 0 | ... BQ23: =BA23+Jan!BQ23 -> 1 | BS23: 25 | BT23: =BH23 -> 0 | BU23: =BS23-BT23 -> 25 | BW23: 5 | BX23: =BO23 -> 0 | BY23: =BW23-BX23 -> 5 | CA23: 5 | CB23: =BG23 -> 0 | CC23: =CA23-CB23 -> 5
E24: =IF(Config!A16<>"",Config!A16,"") -> AGENT13 | AM24: =COUNTIF(F24:AJ24,"1") -> 0 | AN24: =COUNTIF(F24:AJ24,"L2") -> 0 | AO24: =COUNTIF(F24:AJ24,"P2") -> 0 | AP24: =COUNTIF(F24:AJ24,"3") -> 0 | AQ24: =COUNTIF(F24:AJ24,"JNT") -> 0 | AR24: =COUNTIF(F24:AJ24,"CA") -> 0 | AS24: =COUNTIF(F24:AJ24,"CP") -> 0 | AT24: =COUNTIF(F24:AJ24,"M") -> 0 | AU24: =COUNTIF(F24:AJ24,"FR") -> 0 | AV24: =COUNTIF(F24:AJ24,"FOR") -> 0 | AW24: =COUNTIF(F24:AJ24,"ENF") -> 0 | AX24: =COUNTIF(F24:AJ24,"R") -> 0 | AY24: =COUNTIF(F24:AJ24,"CAS") -> 0 | AZ24: =COUNTIF(F24:AJ24,"AAQ") -> 0 | BA24: =SUM(AM24:AP24,AV24) -> 0 | BC24: =AM24+Jan!BC24 -> 0 | BD24: =AN24+Jan!BD24 -> 0 | BE24: =AO24+Jan!BE24 -> 0 | BF24: =AP24+Jan!BF24 -> 0 | BG24: =AQ24+Jan!BG24 -> 0 | BH24: =AR24+Jan!BH24 -> 0 | BI24: =AS24+Jan!BI24 -> 0 | BJ24: =AT24+Jan!BJ24 -> 0 | ... BQ24: =BA24+Jan!BQ24 -> 0 | BS24: 25 | BT24: =BH24 -> 0 | BU24: =BS24-BT24 -> 25 | BW24: 5 | BX24: =BO24 -> 0 | BY24: =BW24-BX24 -> 5 | CA24: 5 | CB24: =BG24 -> 0 | CC24: =CA24-CB24 -> 5
E25: =IF(Config!A17<>"",Config!A17,"") -> AGENT14 | U25: FOR | AM25: =COUNTIF(F25:AJ25,"1") -> 0 | AN25: =COUNTIF(F25:AJ25,"L2") -> 0 | AO25: =COUNTIF(F25:AJ25,"P2") -> 0 | AP25: =COUNTIF(F25:AJ25,"3") -> 0 | AQ25: =COUNTIF(F25:AJ25,"JNT") -> 0 | AR25: =COUNTIF(F25:AJ25,"CA") -> 0 | AS25: =COUNTIF(F25:AJ25,"CP") -> 0 | AT25: =COUNTIF(F25:AJ25,"M") -> 0 | AU25: =COUNTIF(F25:AJ25,"FR") -> 0 | AV25: =COUNTIF(F25:AJ25,"FOR") -> 1 | AW25: =COUNTIF(F25:AJ25,"ENF") -> 0 | AX25: =COUNTIF(F25:AJ25,"R") -> 0 | AY25: =COUNTIF(F25:AJ25,"CAS") -> 0 | AZ25: =COUNTIF(F25:AJ25,"AAQ") -> 0 | BA25: =SUM(AM25:AP25,AV25) -> 1 | BC25: =AM25+Jan!BC25 -> 0 | BD25: =AN25+Jan!BD25 -> 0 | BE25: =AO25+Jan!BE25 -> 0 | BF25: =AP25+Jan!BF25 -> 0 | BG25: =AQ25+Jan!BG25 -> 0 | BH25: =AR25+Jan!BH25 -> 0 | BI25: =AS25+Jan!BI25 -> 0 | BJ25: =AT25+Jan!BJ25 -> 0 | ... BQ25: =BA25+Jan!BQ25 -> 1 | BS25: 25 | BT25: =BH25 -> 0 | BU25: =BS25-BT25 -> 25 | BW25: 5 | BX25: =BO25 -> 0 | BY25: =BW25-BX25 -> 5 | CA25: 5 | CB25: =BG25 -> 0 | CC25: =CA25-CB25 -> 5
E26: =IF(Config!A18<>"",Config!A18,"") -> AGENT15 | AM26: =COUNTIF(F26:AJ26,"1") -> 0 | AN26: =COUNTIF(F26:AJ26,"L2") -> 0 | AO26: =COUNTIF(F26:AJ26,"P2") -> 0 | AP26: =COUNTIF(F26:AJ26,"3") -> 0 | AQ26: =COUNTIF(F26:AJ26,"JNT") -> 0 | AR26: =COUNTIF(F26:AJ26,"CA") -> 0 | AS26: =COUNTIF(F26:AJ26,"CP") -> 0 | AT26: =COUNTIF(F26:AJ26,"M") -> 0 | AU26: =COUNTIF(F26:AJ26,"FR") -> 0 | AV26: =COUNTIF(F26:AJ26,"FOR") -> 0 | AW26: =COUNTIF(F26:AJ26,"ENF") -> 0 | AX26: =COUNTIF(F26:AJ26,"R") -> 0 | AY26: =COUNTIF(F26:AJ26,"CAS") -> 0 | AZ26: =COUNTIF(F26:AJ26,"AAQ") -> 0 | BA26: =SUM(AM26:AP26,AV26) -> 0 | BC26: =AM26+Jan!BC26 -> 0 | BD26: =AN26+Jan!BD26 -> 0 | BE26: =AO26+Jan!BE26 -> 0 | BF26: =AP26+Jan!BF26 -> 0 | BG26: =AQ26+Jan!BG26 -> 0 | BH26: =AR26+Jan!BH26 -> 0 | BI26: =AS26+Jan!BI26 -> 0 | BJ26: =AT26+Jan!BJ26 -> 0 | ... BQ26: =BA26+Jan!BQ26 -> 0 | BS26: 25 | BT26: =BH26 -> 0 | BU26: =BS26-BT26 -> 25 | BW26: 5 | BX26: =BO26 -> 0 | BY26: =BW26-BX26 -> 5 | CA26: 5 | CB26: =BG26 -> 0 | CC26: =CA26-CB26 -> 5
E27: =IF(Config!A19<>"",Config!A19,"") -> AGENT16 | AM27: =COUNTIF(F27:AJ27,"1") -> 0 | AN27: =COUNTIF(F27:AJ27,"L2") -> 0 | AO27: =COUNTIF(F27:AJ27,"P2") -> 0 | AP27: =COUNTIF(F27:AJ27,"3") -> 0 | AQ27: =COUNTIF(F27:AJ27,"JNT") -> 0 | AR27: =COUNTIF(F27:AJ27,"CA") -> 0 | AS27: =COUNTIF(F27:AJ27,"CP") -> 0 | AT27: =COUNTIF(F27:AJ27,"M") -> 0 | AU27: =COUNTIF(F27:AJ27,"FR") -> 0 | AV27: =COUNTIF(F27:AJ27,"FOR") -> 0 | AW27: =COUNTIF(F27:AJ27,"ENF") -> 0 | AX27: =COUNTIF(F27:AJ27,"R") -> 0 | AY27: =COUNTIF(F27:AJ27,"CAS") -> 0 | AZ27: =COUNTIF(F27:AJ27,"AAQ") -> 0 | BA27: =SUM(AM27:AP27,AV27) -> 0 | BC27: =AM27+Jan!BC27 -> 0 | BD27: =AN27+Jan!BD27 -> 0 | BE27: =AO27+Jan!BE27 -> 0 | BF27: =AP27+Jan!BF27 -> 0 | BG27: =AQ27+Jan!BG27 -> 0 | BH27: =AR27+Jan!BH27 -> 0 | BI27: =AS27+Jan!BI27 -> 0 | BJ27: =AT27+Jan!BJ27 -> 0 | ... BQ27: =BA27+Jan!BQ27 -> 0 | BS27: 25 | BT27: =BH27 -> 0 | BU27: =BS27-BT27 -> 25 | BW27: 5 | BX27: =BO27 -> 0 | BY27: =BW27-BX27 -> 5 | CA27: 5 | CB27: =BG27 -> 0 | CC27: =CA27-CB27 -> 5
E28: =IF(Config!A20<>"",Config!A20,"") -> AGENT17 | AM28: =COUNTIF(F28:AJ28,"1") -> 0 | AN28: =COUNTIF(F28:AJ28,"L2") -> 0 | AO28: =COUNTIF(F28:AJ28,"P2") -> 0 | AP28: =COUNTIF(F28:AJ28,"3") -> 0 | AQ28: =COUNTIF(F28:AJ28,"JNT") -> 0 | AR28: =COUNTIF(F28:AJ28,"CA") -> 0 | AS28: =COUNTIF(F28:AJ28,"CP") -> 0 | AT28: =COUNTIF(F28:AJ28,"M") -> 0 | AU28: =COUNTIF(F28:AJ28,"FR") -> 0 | AV28: =COUNTIF(F28:AJ28,"FOR") -> 0 | AW28: =COUNTIF(F28:AJ28,"ENF") -> 0 | AX28: =COUNTIF(F28:AJ28,"R") -> 0 | AY28: =COUNTIF(F28:AJ28,"CAS") -> 0 | AZ28: =COUNTIF(F28:AJ28,"AAQ") -> 0 | BA28: =SUM(AM28:AP28,AV28) -> 0 | BC28: =AM28+Jan!BC28 -> 0 | BD28: =AN28+Jan!BD28 -> 0 | BE28: =AO28+Jan!BE28 -> 0 | BF28: =AP28+Jan!BF28 -> 0 | BG28: =AQ28+Jan!BG28 -> 0 | BH28: =AR28+Jan!BH28 -> 0 | BI28: =AS28+Jan!BI28 -> 0 | BJ28: =AT28+Jan!BJ28 -> 0 | ... BQ28: =BA28+Jan!BQ28 -> 0 | BS28: 25 | BT28: =BH28 -> 0 | BU28: =BS28-BT28 -> 25 | BW28: 5 | BX28: =BO28 -> 0 | BY28: =BW28-BX28 -> 5 | CA28: 5 | CB28: =BG28 -> 0 | CC28: =CA28-CB28 -> 5
E29: =IF(Config!A21<>"",Config!A21,"") -> AGENT18 | AD29: l2 | AM29: =COUNTIF(F29:AJ29,"1") -> 0 | AN29: =COUNTIF(F29:AJ29,"L2") -> 1 | AO29: =COUNTIF(F29:AJ29,"P2") -> 0 | AP29: =COUNTIF(F29:AJ29,"3") -> 0 | AQ29: =COUNTIF(F29:AJ29,"JNT") -> 0 | AR29: =COUNTIF(F29:AJ29,"CA") -> 0 | AS29: =COUNTIF(F29:AJ29,"CP") -> 0 | AT29: =COUNTIF(F29:AJ29,"M") -> 0 | AU29: =COUNTIF(F29:AJ29,"FR") -> 0 | AV29: =COUNTIF(F29:AJ29,"FOR") -> 0 | AW29: =COUNTIF(F29:AJ29,"ENF") -> 0 | AX29: =COUNTIF(F29:AJ29,"R") -> 0 | AY29: =COUNTIF(F29:AJ29,"CAS") -> 0 | AZ29: =COUNTIF(F29:AJ29,"AAQ") -> 0 | BA29: =SUM(AM29:AP29,AV29) -> 1 | BC29: =AM29+Jan!BC29 -> 0 | BD29: =AN29+Jan!BD29 -> 1 | BE29: =AO29+Jan!BE29 -> 0 | BF29: =AP29+Jan!BF29 -> 0 | BG29: =AQ29+Jan!BG29 -> 0 | BH29: =AR29+Jan!BH29 -> 0 | BI29: =AS29+Jan!BI29 -> 0 | BJ29: =AT29+Jan!BJ29 -> 0 | ... BQ29: =BA29+Jan!BQ29 -> 1 | BS29: 25 | BT29: =BH29 -> 0 | BU29: =BS29-BT29 -> 25 | BW29: 5 | BX29: =BO29 -> 0 | BY29: =BW29-BX29 -> 5 | CA29: 5 | CB29: =BG29 -> 0 | CC29: =CA29-CB29 -> 5
E31: TOUR 1 | F31: =COUNTIF(F11:F29,"1") -> 0 | G31: =COUNTIF(G11:G29,"1") -> 0 | H31: =COUNTIF(H11:H29,"1") -> 0 | I31: =COUNTIF(I11:I29,"1") -> 0 | J31: =COUNTIF(J11:J29,"1") -> 0 | K31: =COUNTIF(K11:K29,"1") -> 0 | L31: =COUNTIF(L11:L29,"1") -> 0 | M31: =COUNTIF(M11:M29,"1") -> 0 | ... AJ31: =COUNTIF(AJ11:AJ29,"1") -> 0
E32: TOUR L2 | F32: =COUNTIF(F11:F29,"L2") -> 0 | G32: =COUNTIF(G11:G29,"L2") -> 0 | H32: =COUNTIF(H11:H29,"L2") -> 0 | I32: =COUNTIF(I11:I29,"L2") -> 0 | J32: =COUNTIF(J11:J29,"L2") -> 0 | K32: =COUNTIF(K11:K29,"L2") -> 0 | L32: =COUNTIF(L11:L29,"L2") -> 0 | M32: =COUNTIF(M11:M29,"L2") -> 0 | ... AJ32: =COUNTIF(AJ11:AJ29,"L2") -> 0
E33: TOUR P2 | F33: =COUNTIF(F11:F29,"P2") -> 0 | G33: =COUNTIF(G11:G29,"P2") -> 0 | H33: =COUNTIF(H11:H29,"P2") -> 0 | I33: =COUNTIF(I11:I29,"P2") -> 0 | J33: =COUNTIF(J11:J29,"P2") -> 0 | K33: =COUNTIF(K11:K29,"P2") -> 0 | L33: =COUNTIF(L11:L29,"P2") -> 0 | M33: =COUNTIF(M11:M29,"P2") -> 0 | ... AJ33: =COUNTIF(AJ11:AJ29,"P2") -> 0
E34: TOUR 3 | F34: =COUNTIF(F11:F29,"3") -> 0 | G34: =COUNTIF(G11:G29,"3") -> 0 | H34: =COUNTIF(H11:H29,"3") -> 0 | I34: =COUNTIF(I11:I29,"3") -> 0 | J34: =COUNTIF(J11:J29,"3") -> 0 | K34: =COUNTIF(K11:K29,"3") -> 0 | L34: =COUNTIF(L11:L29,"3") -> 0 | M34: =COUNTIF(M11:M29,"3") -> 0 | ... AJ34: =COUNTIF(AJ11:AJ29,"3") -> 0
E35: TOTAL AAS | F35: =SUM(F31:F33:F32) -> 0 | G35: =SUM(G31:G33:G32) -> 0 | H35: =SUM(H31:H33:H32) -> 0 | I35: =SUM(I31:I33:I32) -> 0 | J35: =SUM(J31:J33:J32) -> 0 | K35: =SUM(K31:K33:K32) -> 0 | L35: =SUM(L31:L33:L32) -> 0 | M35: =SUM(M31:M33:M32) -> 0 | ... AJ35: =SUM(AJ31:AJ33:AJ32) -> 0
L37: CA | M37: congé | O37: CAS | R37: M | S37: Maladie | U37: FOR | V37: Formation | Y37: R | Z37: Repos | AB37: AAQ | AC37: Absence à qualifier

Sheet Mar
A1: =Config!D8 -> 42795
A2: =Config!E8 -> 42825
F3: =A1 -> 42795 | G3: =F3+1 -> 42796 | H3: =G3+1 -> 42797 | I3: =H3+1 -> 42798 | J3: =I3+1 -> 42799 | K3: =J3+1 -> 42800 | L3: =K3+1 -> 42801 | M3: =L3+1 -> 42802 | N3: =M3+1 -> 42803 | ... AF3: =AE3+1 -> 42821 | AG3: =IFERROR(IF(AF3+1>$A$2,"",AF3+1),"") -> 42822 | AH3: =IFERROR(IF(AG3+1>$A$2,"",AG3+1),"") -> 42823 | AI3: =IFERROR(IF(AH3+1>$A$2,"",AH3+1),"") -> 42824 | AJ3: =IFERROR(IF(AI3+1>$A$2,"",AI3+1),"") -> 42825
N6: =Config!K9 -> 0
E7: =TEXT(A1,"Mmmmmmmmmmm") -> mars
F9: =DAY(F3) -> 1 | G9: =DAY(G3) -> 2 | H9: =DAY(H3) -> 3 | I9: =DAY(I3) -> 4 | J9: =DAY(J3) -> 5 | K9: =DAY(K3) -> 6 | L9: =DAY(L3) -> 7 | M9: =DAY(M3) -> 8 | ... AF9: =DAY(AF3) -> 27 | AG9: =IFERROR(DAY(AG3),"") -> 28 | AH9: =IFERROR(DAY(AH3),"") -> 29 | AI9: =IFERROR(DAY(AI3),"") -> 30 | AJ9: =IFERROR(DAY(AJ3),"") -> 31 | AM9: BILAN MENSUEL | BA9: Total jours | BC9: BILAN ANNUEL | BQ9: Total jours | BS9: BILAN CONGES ANNUEL | BW9: BILAN CAS | CA9: BILAN JNT
E10: AGENTS | F10: =IFERROR(WEEKDAY(F3),"") -> 4 | G10: =IFERROR(WEEKDAY(G3),"") -> 5 | H10: =IFERROR(WEEKDAY(H3),"") -> 6 | I10: =IFERROR(WEEKDAY(I3),"") -> 7 | J10: =IFERROR(WEEKDAY(J3),"") -> 1 | K10: =IFERROR(WEEKDAY(K3),"") -> 2 | L10: =IFERROR(WEEKDAY(L3),"") -> 3 | M10: =IFERROR(WEEKDAY(M3),"") -> 4 | ... AJ10: =IFERROR(WEEKDAY(AJ3),"") -> 6 | AM10: T1 | AN10: L2 | AO10: P2 | AP10: 3 | AQ10: JNT | AR10: CA | AS10: CP | AT10: M | AU10: FR | AV10: FOR | AW10: ENF | AX10: R | AY10: CAS | AZ10: AAQ | BC10: T1 | BD10: L2 | BE10: P2 | BF10: 3 | BG10: JNT | BH10: CA | BI10: CP | BJ10: M | BK10: FR | BL10: FOR | BM10: ENF | BN10: R | BO10: CAS | BP10: AAQ | BS10: capital | BT10: pris | BU10: restant | BW10: capital | BX10: pris | BY10: restant | CA10: capital | CB10: pris | CC10: restant
E11: =IF(Config!A4<>"",Config!A4,"") -> AGENT1 | AM11: =COUNTIF(F11:AJ11,"1") -> 0 | AN11: =COUNTIF(F11:AJ11,"L2") -> 0 | AO11: =COUNTIF(F11:AJ11,"P2") -> 0 | AP11: =COUNTIF(F11:AJ11,"3") -> 0 | AQ11: =COUNTIF(F11:AJ11,"JNT") -> 0 | AR11: =COUNTIF(F11:AJ11,"CA") -> 0 | AS11: =COUNTIF(F11:AJ11,"CP") -> 0 | AT11: =COUNTIF(F11:AJ11,"M") -> 0 | AU11: =COUNTIF(F11:AJ11,"FR") -> 0 | AV11: =COUNTIF(F11:AJ11,"FOR") -> 0 | AW11: =COUNTIF(F11:AJ11,"ENF") -> 0 | AX11: =COUNTIF(F11:AJ11,"R") -> 0 | AY11: =COUNTIF(F11:AJ11,"CAS") -> 0 | AZ11: =COUNTIF(F11:AJ11,"AAQ") -> 0 | BA11: =SUM(AM11:AP11,AV11) -> 0 | BC11: =AM11+Fev!BC11 -> 0 | BD11: =AN11+Fev!BD11 -> 0 | BE11: =AO11+Fev!BE11 -> 0 | BF11: =AP11+Fev!BF11 -> 0 | BG11: =AQ11+Fev!BG11 -> 0 | BH11: =AR11+Fev!BH11 -> 0 | BI11: =AS11+Fev!BI11 -> 0 | BJ11: =AT11+Fev!BJ11 -> 0 | ... BQ11: =BA11+Fev!BQ11 -> 0 | BS11: 25 | BT11: =BH11 -> 0 | BU11: =BS11-BT11 -> 25 | BW11: 5 | BX11: =BO11 -> 0 | BY11: =BW11-BX11 -> 5 | CA11: 5 | CB11: =BG11 -> 0 | CC11: =CA11-CB11 -> 5
E12: =IF(Config!A5<>"",Config!A5,"") -> AGENT2 | S12: RT | AM12: =COUNTIF(F12:AJ12,"1") -> 0 | AN12: =COUNTIF(F12:AJ12,"L2") -> 0 | AO12: =COUNTIF(F12:AJ12,"P2") -> 0 | AP12: =COUNTIF(F12:AJ12,"3") -> 0 | AQ12: =COUNTIF(F12:AJ12,"JNT") -> 0 | AR12: =COUNTIF(F12:AJ12,"CA") -> 0 | AS12: =COUNTIF(F12:AJ12,"CP") -> 0 | AT12: =COUNTIF(F12:AJ12,"M") -> 0 | AU12: =COUNTIF(F12:AJ12,"FR") -> 0 | AV12: =COUNTIF(F12:AJ12,"FOR") -> 0 | AW12: =COUNTIF(F12:AJ12,"ENF") -> 0 | AX12: =COUNTIF(F12:AJ12,"R") -> 0 | AY12: =COUNTIF(F12:AJ12,"CAS") -> 0 | AZ12: =COUNTIF(F12:AJ12,"AAQ") -> 0 | BA12: =SUM(AM12:AP12,AV12) -> 0 | BC12: =AM12+Fev!BC12 -> 0 | BD12: =AN12+Fev!BD12 -> 0 | BE12: =AO12+Fev!BE12 -> 0 | BF12: =AP12+Fev!BF12 -> 0 | BG12: =AQ12+Fev!BG12 -> 0 | BH12: =AR12+Fev!BH12 -> 0 | BI12: =AS12+Fev!BI12 -> 0 | BJ12: =AT12+Fev!BJ12 -> 0 | ... BQ12: =BA12+Fev!BQ12 -> 0 | BS12: 25 | BT12: =BH12 -> 0 | BU12: =BS12-BT12 -> 25 | BW12: 5 | BX12: =BO12 -> 0 | BY12: =BW12-BX12 -> 5 | CA12: 5 | CB12: =BG12 -> 0 | CC12: =CA12-CB12 -> 5
E13: =IF(Config!A6<>"",Config!A6,"") -> AGENT3 | Z13: 1 | AM13: =COUNTIF(F13:AJ13,"1") -> 1 | AN13: =COUNTIF(F13:AJ13,"L2") -> 0 | AO13: =COUNTIF(F13:AJ13,"P2") -> 0 | AP13: =COUNTIF(F13:AJ13,"3") -> 0 | AQ13: =COUNTIF(F13:AJ13,"JNT") -> 0 | AR13: =COUNTIF(F13:AJ13,"CA") -> 0 | AS13: =COUNTIF(F13:AJ13,"CP") -> 0 | AT13: =COUNTIF(F13:AJ13,"M") -> 0 | AU13: =COUNTIF(F13:AJ13,"FR") -> 0 | AV13: =COUNTIF(F13:AJ13,"FOR") -> 0 | AW13: =COUNTIF(F13:AJ13,"ENF") -> 0 | AX13: =COUNTIF(F13:AJ13,"R") -> 0 | AY13: =COUNTIF(F13:AJ13,"CAS") -> 0 | AZ13: =COUNTIF(F13:AJ13,"AAQ") -> 0 | BA13: =SUM(AM13:AP13,AV13) -> 1 | BC13: =AM13+Fev!BC13 -> 2 | BD13: =AN13+Fev!BD13 -> 0 | BE13: =AO13+Fev!BE13 -> 0 | BF13: =AP13+Fev!BF13 -> 0 | BG13: =AQ13+Fev!BG13 -> 0 | BH13: =AR13+Fev!BH13 -> 0 | BI13: =AS13+Fev!BI13 -> 0 | BJ13: =AT13+Fev!BJ13 -> 0 | ... BQ13: =BA13+Fev!BQ13 -> 2 | BS13: 25 | BT13: =BH13 -> 0 | BU13: =BS13-BT13 -> 25 | BW13: 5 | BX13: =BO13 -> 0 | BY13: =BW13-BX13 -> 5 | CA13: 5 | CB13: =BG13 -> 0 | CC13: =CA13-CB13 -> 5
E14: =IF(Config!A7<>"",Config!A7,"") -> AGENT4 | L14: M | AA14: 1 | AC14: l2 | AM14: =COUNTIF(F14:AJ14,"1") -> 1 | AN14: =COUNTIF(F14:AJ14,"L2") -> 1 | AO14: =COUNTIF(F14:AJ14,"P2") -> 0 | AP14: =COUNTIF(F14:AJ14,"3") -> 0 | AQ14: =COUNTIF(F14:AJ14,"JNT") -> 0 | AR14: =COUNTIF(F14:AJ14,"CA") -> 0 | AS14: =COUNTIF(F14:AJ14,"CP") -> 0 | AT14: =COUNTIF(F14:AJ14,"M") -> 1 | AU14: =COUNTIF(F14:AJ14,"FR") -> 0 | AV14: =COUNTIF(F14:AJ14,"FOR") -> 0 | AW14: =COUNTIF(F14:AJ14,"ENF") -> 0 | AX14: =COUNTIF(F14:AJ14,"R") -> 0 | AY14: =COUNTIF(F14:AJ14,"CAS") -> 0 | AZ14: =COUNTIF(F14:AJ14,"AAQ") -> 0 | BA14: =SUM(AM14:AP14,AV14) -> 2 | BC14: =AM14+Fev!BC14 -> 2 | BD14: =AN14+Fev!BD14 -> 2 | BE14: =AO14+Fev!BE14 -> 0 | BF14: =AP14+Fev!BF14 -> 0 | BG14: =AQ14+Fev!BG14 -> 0 | BH14: =AR14+Fev!BH14 -> 0 | BI14: =AS14+Fev!BI14 -> 0 | BJ14: =AT14+Fev!BJ14 -> 2 | ... BQ14: =BA14+Fev!BQ14 -> 4 | BS14: 25 | BT14: =BH14 -> 0 | BU14: =BS14-BT14 -> 25 | BW14: 5 | BX14: =BO14 -> 0 | BY14: =BW14-BX14 -> 5 | CA14: 5 | CB14: =BG14 -> 0 | CC14: =CA14-CB14 -> 5
E15: =IF(Config!A8<>"",Config!A8,"") -> AGENT5 | P15: AAQ | AD15: l2 | AM15: =COUNTIF(F15:AJ15,"1") -> 0 | AN15: =COUNTIF(F15:AJ15,"L2") -> 1 | AO15: =COUNTIF(F15:AJ15,"P2") -> 0 | AP15: =COUNTIF(F15:AJ15,"3") -> 0 | AQ15: =COUNTIF(F15:AJ15,"JNT") -> 0 | AR15: =COUNTIF(F15:AJ15,"CA") -> 0 | AS15: =COUNTIF(F15:AJ15,"CP") -> 0 | AT15: =COUNTIF(F15:AJ15,"M") -> 0 | AU15: =COUNTIF(F15:AJ15,"FR") -> 0 | AV15: =COUNTIF(F15:AJ15,"FOR") -> 0 | AW15: =COUNTIF(F15:AJ15,"ENF") -> 0 | AX15: =COUNTIF(F15:AJ15,"R") -> 0 | AY15: =COUNTIF(F15:AJ15,"CAS") -> 0 | AZ15: =COUNTIF(F15:AJ15,"AAQ") -> 1 | BA15: =SUM(AM15:AP15,AV15) -> 1 | BC15: =AM15+Fev!BC15 -> 0 | BD15: =AN15+Fev!BD15 -> 2 | BE15: =AO15+Fev!BE15 -> 0 | BF15: =AP15+Fev!BF15 -> 0 | BG15: =AQ15+Fev!BG15 -> 0 | BH15: =AR15+Fev!BH15 -> 0 | BI15: =AS15+Fev!BI15 -> 0 | BJ15: =AT15+Fev!BJ15 -> 0 | ... BQ15: =BA15+Fev!BQ15 -> 2 | BS15: 25 | BT15: =BH15 -> 0 | BU15: =BS15-BT15 -> 25 | BW15: 5 | BX15: =BO15 -> 0 | BY15: =BW15-BX15 -> 5 | CA15: 5 | CB15: =BG15 -> 0 | CC15: =CA15-CB15 -> 5
E16: =IF(Config!A9<>"",Config!A9,"") -> AGENT6 | Q16: M | AM16: =COUNTIF(F16:AJ16,"1") -> 0 | AN16: =COUNTIF(F16:AJ16,"L2") -> 0 | AO16: =COUNTIF(F16:AJ16,"P2") -> 0 | AP16: =COUNTIF(F16:AJ16,"3") -> 0 | AQ16: =COUNTIF(F16:AJ16,"JNT") -> 0 | AR16: =COUNTIF(F16:AJ16,"CA") -> 0 | AS16: =COUNTIF(F16:AJ16,"CP") -> 0 | AT16: =COUNTIF(F16:AJ16,"M") -> 1 | AU16: =COUNTIF(F16:AJ16,"FR") -> 0 | AV16: =COUNTIF(F16:AJ16,"FOR") -> 0 | AW16: =COUNTIF(F16:AJ16,"ENF") -> 0 | AX16: =COUNTIF(F16:AJ16,"R") -> 0 | AY16: =COUNTIF(F16:AJ16,"CAS") -> 0 | AZ16: =COUNTIF(F16:AJ16,"AAQ") -> 0 | BA16: =SUM(AM16:AP16,AV16) -> 0 | BC16: =AM16+Fev!BC16 -> 0 | BD16: =AN16+Fev!BD16 -> 0 | BE16: =AO16+Fev!BE16 -> 0 | BF16: =AP16+Fev!BF16 -> 0 | BG16: =AQ16+Fev!BG16 -> 0 | BH16: =AR16+Fev!BH16 -> 0 | BI16: =AS16+Fev!BI16 -> 0 | BJ16: =AT16+Fev!BJ16 -> 2 | ... BQ16: =BA16+Fev!BQ16 -> 0 | BS16: 25 | BT16: =BH16 -> 0 | BU16: =BS16-BT16 -> 25 | BW16: 5 | BX16: =BO16 -> 0 | BY16: =BW16-BX16 -> 5 | CA16: 5 | CB16: =BG16 -> 0 | CC16: =CA16-CB16 -> 5
E17: =IF(Config!A10<>"",Config!A10,"") -> AGENT7 | X17: CA | AM17: =COUNTIF(F17:AJ17,"1") -> 0 | AN17: =COUNTIF(F17:AJ17,"L2") -> 0 | AO17: =COUNTIF(F17:AJ17,"P2") -> 0 | AP17: =COUNTIF(F17:AJ17,"3") -> 0 | AQ17: =COUNTIF(F17:AJ17,"JNT") -> 0 | AR17: =COUNTIF(F17:AJ17,"CA") -> 1 | AS17: =COUNTIF(F17:AJ17,"CP") -> 0 | AT17: =COUNTIF(F17:AJ17,"M") -> 0 | AU17: =COUNTIF(F17:AJ17,"FR") -> 0 | AV17: =COUNTIF(F17:AJ17,"FOR") -> 0 | AW17: =COUNTIF(F17:AJ17,"ENF") -> 0 | AX17: =COUNTIF(F17:AJ17,"R") -> 0 | AY17: =COUNTIF(F17:AJ17,"CAS") -> 0 | AZ17: =COUNTIF(F17:AJ17,"AAQ") -> 0 | BA17: =SUM(AM17:AP17,AV17) -> 0 | BC17: =AM17+Fev!BC17 -> 0 | BD17: =AN17+Fev!BD17 -> 0 | BE17: =AO17+Fev!BE17 -> 0 | BF17: =AP17+Fev!BF17 -> 0 | BG17: =AQ17+Fev!BG17 -> 0 | BH17: =AR17+Fev!BH17 -> 2 | BI17: =AS17+Fev!BI17 -> 0 | BJ17: =AT17+Fev!BJ17 -> 0 | ... BQ17: =BA17+Fev!BQ17 -> 0 | BS17: 25 | BT17: =BH17 -> 2 | BU17: =BS17-BT17 -> 23 | BW17: 5 | BX17: =BO17 -> 0 | BY17: =BW17-BX17 -> 5 | CA17: 5 | CB17: =BG17 -> 0 | CC17: =CA17-CB17 -> 5
E18: =IF(Config!A11<>"",Config!A11,"") -> AGENT8 | AM18: =COUNTIF(F18:AJ18,"1") -> 0 | AN18: =COUNTIF(F18:AJ18,"L2") -> 0 | AO18: =COUNTIF(F18:AJ18,"P2") -> 0 | AP18: =COUNTIF(F18:AJ18,"3") -> 0 | AQ18: =COUNTIF(F18:AJ18,"JNT") -> 0 | AR18: =COUNTIF(F18:AJ18,"CA") -> 0 | AS18: =COUNTIF(F18:AJ18,"CP") -> 0 | AT18: =COUNTIF(F18:AJ18,"M") -> 0 | AU18: =COUNTIF(F18:AJ18,"FR") -> 0 | AV18: =COUNTIF(F18:AJ18,"FOR") -> 0 | AW18: =COUNTIF(F18:AJ18,"ENF") -> 0 | AX18: =COUNTIF(F18:AJ18,"R") -> 0 | AY18: =COUNTIF(F18:AJ18,"CAS") -> 0 | AZ18: =COUNTIF(F18:AJ18,"AAQ") -> 0 | BA18: =SUM(AM18:AP18,AV18) -> 0 | BC18: =AM18+Fev!BC18 -> 0 | BD18: =AN18+Fev!BD18 -> 0 | BE18: =AO18+Fev!BE18 -> 0 | BF18: =AP18+Fev!BF18 -> 0 | BG18: =AQ18+Fev!BG18 -> 0 | BH18: =AR18+Fev!BH18 -> 0 | BI18: =AS18+Fev!BI18 -> 0 | BJ18: =AT18+Fev!BJ18 -> 0 | ... BQ18: =BA18+Fev!BQ18 -> 0 | BS18: 25 | BT18: =BH18 -> 0 | BU18: =BS18-BT18 -> 25 | BW18: 5 | BX18: =BO18 -> 0 | BY18: =BW18-BX18 -> 5 | CA18: 5 | CB18: =BG18 -> 0 | CC18: =CA18-CB18 -> 5
E19: =IF(Config!A12<>"",Config!A12,"") -> AGENT9 | AM19: =COUNTIF(F19:AJ19,"1") -> 0 | AN19: =COUNTIF(F19:AJ19,"L2") -> 0 | AO19: =COUNTIF(F19:AJ19,"P2") -> 0 | AP19: =COUNTIF(F19:AJ19,"3") -> 0 | AQ19: =COUNTIF(F19:AJ19,"JNT") -> 0 | AR19: =COUNTIF(F19:AJ19,"CA") -> 0 | AS19: =COUNTIF(F19:AJ19,"CP") -> 0 | AT19: =COUNTIF(F19:AJ19,"M") -> 0 | AU19: =COUNTIF(F19:AJ19,"FR") -> 0 | AV19: =COUNTIF(F19:AJ19,"FOR") -> 0 | AW19: =COUNTIF(F19:AJ19,"ENF") -> 0 | AX19: =COUNTIF(F19:AJ19,"R") -> 0 | AY19: =COUNTIF(F19:AJ19,"CAS") -> 0 | AZ19: =COUNTIF(F19:AJ19,"AAQ") -> 0 | BA19: =SUM(AM19:AP19,AV19) -> 0 | BC19: =AM19+Fev!BC19 -> 0 | BD19: =AN19+Fev!BD19 -> 0 | BE19: =AO19+Fev!BE19 -> 0 | BF19: =AP19+Fev!BF19 -> 0 | BG19: =AQ19+Fev!BG19 -> 0 | BH19: =AR19+Fev!BH19 -> 0 | BI19: =AS19+Fev!BI19 -> 0 | BJ19: =AT19+Fev!BJ19 -> 0 | ... BQ19: =BA19+Fev!BQ19 -> 0 | BS19: 25 | BT19: =BH19 -> 0 | BU19: =BS19-BT19 -> 25 | BW19: 5 | BX19: =BO19 -> 0 | BY19: =BW19-BX19 -> 5 | CA19: 5 | CB19: =BG19 -> 0 | CC19: =CA19-CB19 -> 5
