Workbook

Sheet Point équipe
A3: Equipes participants | B3: Montant payé | C3: Montant à payer | D3: Montant restant à payer | F3: Joueur 1 | G3: Joueur 2 | H3: Joueur 3 | I3: Joueur 4 | J3: Joueur 5 | K3: Joueur 6
A4: Nom équipe 1 | D4: =C4-B4 -> 0
A5: Nom équipe 2 | D5: =C5-B5 -> 0
A6: Nom équipe 3 | D6: =C6-B6 -> 0
A7: Nom équipe 4 | D7: =C7-B7 -> 0
A8: Nom équipe 5 | D8: =C8-B8 -> 0
A9: Nom équipe 6 | D9: =C9-B9 -> 0
A10: Nom équipe 7 | D10: =C10-B10 -> 0
A11: Nom équipe 8 | D11: =C11-B11 -> 0
A12: Nom équipe 9 | D12: =C12-B12 -> 0
A13: Nom équipe 10 | D13: =C13-B13 -> 0
A14: Nom équipe 11 | D14: =C14-B14 -> 0
A15: Nom équipe 12 | D15: =C15-B15 -> 0
B16: =SUM(B4:B15) -> 0 | C16: =SUM(C4:C15) -> 0 | D16: =SUM(D4:D15) -> 0

Sheet Param. - Transition
B4: Phase de Poule vers phase de classement - Sport 1
B6: 1 | C6: 2 | D6: 3 | E6: 4 | F6: 5 | G6: 6
A7: A | B7: =+VLOOKUP('Param. - Transition'!B$16,'1-Phase de poule-Sport 1'!$H$22:$I$27,2,FALSE) -> Nom équipe 5 | C7: =+VLOOKUP('Param. - Transition'!C$16,'1-Phase de poule-Sport 1'!$H$22:$I$27,2,FALSE) -> Nom équipe 3 | D7: =+VLOOKUP('Param. - Transition'!D$16,'1-Phase de poule-Sport 1'!$H$22:$I$27,2,FALSE) -> Nom équipe 1 | E7: =+VLOOKUP('Param. - Transition'!E$16,'1-Phase de poule-Sport 1'!$H$22:$I$27,2,FALSE) -> Nom équipe 7 | F7: =+VLOOKUP('Param. - Transition'!F$16,'1-Phase de poule-Sport 1'!$H$22:$I$27,2,FALSE) -> Nom équipe 11 | G7: =+VLOOKUP('Param. - Transition'!G$16,'1-Phase de poule-Sport 1'!$H$22:$I$27,2,FALSE) -> Nom équipe 9
A8: B | B8: =+VLOOKUP('Param. - Transition'!B$16,'1-Phase de poule-Sport 1'!$S$22:$T$27,2,FALSE) -> Nom équipe 6 | C8: =+VLOOKUP('Param. - Transition'!C$16,'1-Phase de poule-Sport 1'!$S$22:$T$27,2,FALSE) -> Nom équipe 4 | D8: =+VLOOKUP('Param. - Transition'!D$16,'1-Phase de poule-Sport 1'!$S$22:$T$27,2,FALSE) -> Nom équipe 2 | E8: =+VLOOKUP('Param. - Transition'!E$16,'1-Phase de poule-Sport 1'!$S$22:$T$27,2,FALSE) -> Nom équipe 8 | F8: =+VLOOKUP('Param. - Transition'!F$16,'1-Phase de poule-Sport 1'!$S$22:$T$27,2,FALSE) -> Nom équipe 10 | G8: =+VLOOKUP('Param. - Transition'!G$16,'1-Phase de poule-Sport 1'!$S$22:$T$27,2,FALSE) -> Nom équipe 12
B14: Phase de Poule vers phase de classement - Sport 2
B16: 1 | C16: 2 | D16: 3 | E16: 4 | F16: 5 | G16: 6
A17: A | B17: =+VLOOKUP('Param. - Transition'!B$16,'1-Phase de poule-Sport 2'!$H$22:$I$27,2,FALSE) -> Nom équipe 4 A | C17: =+VLOOKUP('Param. - Transition'!C$16,'1-Phase de poule-Sport 2'!$H$22:$I$27,2,FALSE) -> Nom équipe 5 A | D17: =+VLOOKUP('Param. - Transition'!D$16,'1-Phase de poule-Sport 2'!$H$22:$I$27,2,FALSE) -> Nom équipe 6 A | E17: =+VLOOKUP('Param. - Transition'!E$16,'1-Phase de poule-Sport 2'!$H$22:$I$27,2,FALSE) -> Nom équipe 3 A | F17: =+VLOOKUP('Param. - Transition'!F$16,'1-Phase de poule-Sport 2'!$H$22:$I$27,2,FALSE) -> Nom équipe 2 A | G17: =+VLOOKUP('Param. - Transition'!G$16,'1-Phase de poule-Sport 2'!$H$22:$I$27,2,FALSE) -> Nom équipe 1 A
A18: B | B18: =+VLOOKUP('Param. - Transition'!B$16,'1-Phase de poule-Sport 2'!$S$22:$T$27,2,FALSE) -> Nom équipe 10 A | C18: =+VLOOKUP('Param. - Transition'!C$16,'1-Phase de poule-Sport 2'!$S$22:$T$27,2,FALSE) -> Nom équipe 11 A | D18: =+VLOOKUP('Param. - Transition'!D$16,'1-Phase de poule-Sport 2'!$S$22:$T$27,2,FALSE) -> Nom équipe 12 A | E18: =+VLOOKUP('Param. - Transition'!E$16,'1-Phase de poule-Sport 2'!$S$22:$T$27,2,FALSE) -> Nom équipe 9 A | F18: =+VLOOKUP('Param. - Transition'!F$16,'1-Phase de poule-Sport 2'!$S$22:$T$27,2,FALSE) -> Nom équipe 8 A | G18: =+VLOOKUP('Param. - Transition'!G$16,'1-Phase de poule-Sport 2'!$S$22:$T$27,2,FALSE) -> Nom équipe 7 A
A19: C | B19: =+VLOOKUP('Param. - Transition'!B$16,'1-Phase de poule-Sport 2'!$AD$22:$AE$27,2,FALSE) -> Nom équipe 3 B | C19: =+VLOOKUP('Param. - Transition'!C$16,'1-Phase de poule-Sport 2'!$AD$22:$AE$27,2,FALSE) -> Nom équipe 2 B | D19: =+VLOOKUP('Param. - Transition'!D$16,'1-Phase de poule-Sport 2'!$AD$22:$AE$27,2,FALSE) -> Nom équipe 1 B | E19: =+VLOOKUP('Param. - Transition'!E$16,'1-Phase de poule-Sport 2'!$AD$22:$AE$27,2,FALSE) -> Nom équipe 4 B | F19: =+VLOOKUP('Param. - Transition'!F$16,'1-Phase de poule-Sport 2'!$AD$22:$AE$27,2,FALSE) -> Nom équipe 5 B | G19: =+VLOOKUP('Param. - Transition'!G$16,'1-Phase de poule-Sport 2'!$AD$22:$AE$27,2,FALSE) -> Nom équipe 6 B
A20: D | B20: =+VLOOKUP('Param. - Transition'!B$16,'1-Phase de poule-Sport 2'!$AO$22:$AP$27,2,FALSE) -> Nom équipe 9 B | C20: =+VLOOKUP('Param. - Transition'!C$16,'1-Phase de poule-Sport 2'!$AO$22:$AP$27,2,FALSE) -> Nom équipe 8 B | D20: =+VLOOKUP('Param. - Transition'!D$16,'1-Phase de poule-Sport 2'!$AO$22:$AP$27,2,FALSE) -> Nom équipe 7 B | E20: =+VLOOKUP('Param. - Transition'!E$16,'1-Phase de poule-Sport 2'!$AO$22:$AP$27,2,FALSE) -> Nom équipe 10 B | F20: =+VLOOKUP('Param. - Transition'!F$16,'1-Phase de poule-Sport 2'!$AO$22:$AP$27,2,FALSE) -> Nom équipe 11 B | G20: =+VLOOKUP('Param. - Transition'!G$16,'1-Phase de poule-Sport 2'!$AO$22:$AP$27,2,FALSE) -> Nom équipe 12 B

Sheet Paramétrage
A1: W
A2: N | E2: Equipes participants | F2: Binome A | G2: Binome A | I2: Sport | J2: Foot | K2: Sport en équipe
A3: L | E3: ='Point équipe'!A4 -> Nom équipe 1 | F3: =E3&" A" -> Nom équipe 1 A | G3: =E3&" B" -> Nom équipe 1 B | I3: Sport | J3: Padel | K3: Sport en binôme
E4: ='Point équipe'!A5 -> Nom équipe 2 | F4: =E4&" A" -> Nom équipe 2 A | G4: =E4&" B" -> Nom équipe 2 B
B5: OZAIPEOIAE | E5: ='Point équipe'!A6 -> Nom équipe 3 | F5: =E5&" A" -> Nom équipe 3 A | G5: =E5&" B" -> Nom équipe 3 B
B6: OZAIPEOIAE | E6: ='Point équipe'!A7 -> Nom équipe 4 | F6: =E6&" A" -> Nom équipe 4 A | G6: =E6&" B" -> Nom équipe 4 B
B7: OZAIPEOIAE | E7: ='Point équipe'!A8 -> Nom équipe 5 | F7: =E7&" A" -> Nom équipe 5 A | G7: =E7&" B" -> Nom équipe 5 B
B8: OZAIPEOIAE | E8: ='Point équipe'!A9 -> Nom équipe 6 | F8: =E8&" A" -> Nom équipe 6 A | G8: =E8&" B" -> Nom équipe 6 B
B9: OZAIPEOIAE | E9: ='Point équipe'!A10 -> Nom équipe 7 | F9: =E9&" A" -> Nom équipe 7 A | G9: =E9&" B" -> Nom équipe 7 B
B10: OZAIPEOIAE | E10: ='Point équipe'!A11 -> Nom équipe 8 | F10: =E10&" A" -> Nom équipe 8 A | G10: =E10&" B" -> Nom équipe 8 B
B11: OZAIPEOIAE | E11: ='Point équipe'!A12 -> Nom équipe 9 | F11: =E11&" A" -> Nom équipe 9 A | G11: =E11&" B" -> Nom équipe 9 B
B12: OZAIPEOIAE | E12: ='Point équipe'!A13 -> Nom équipe 10 | F12: =E12&" A" -> Nom équipe 10 A | G12: =E12&" B" -> Nom équipe 10 B
B13: OZAIPEOIAE | E13: ='Point équipe'!A14 -> Nom équipe 11 | F13: =E13&" A" -> Nom équipe 11 A | G13: =E13&" B" -> Nom équipe 11 B
B14: OZAIPEOIAE | E14: ='Point équipe'!A15 -> Nom équipe 12 | F14: =E14&" A" -> Nom équipe 12 A | G14: =E14&" B" -> Nom équipe 12 B
D16: ="Paramétrage Poule - "&Paramétrage!$J$2 -> Paramétrage Poule - Foot | E16: ="Paramétrage Poule - "&Paramétrage!$J$3 -> Paramétrage Poule - Padel | F16: ="Paramétrage Classement - "&Paramétrage!$J$2 -> Paramétrage Classement - Foot | G16: ="Paramétrage Classement - "&Paramétrage!$J$3 -> Paramétrage Classement - Padel
B17: Horaire de début | D17: 0.41666667 | E17: 0.58333333 | F17: 0.5 | G17: 0.70833333
B18: Temps match | D18: 0.00625 | E18: 0.00625 | F18: 0.00625 | G18: 0.00625
B19: Entre match | D19: 0.0020833333 | E19: 0.0020833333 | F19: 0.0020833333 | G19: 0.0020833333
B20: Passage à phase de classement
B21: Fin poule 1 | D21: ='1-Phase de poule-Sport 1'!C20 -> 0.5 | E21: ='1-Phase de poule-Sport 2'!C20 -> 0.70833333
B22: Fin poule 2
B23: Fin tournoi | F23: ='2-Phase de classement-Sport 1'!$H$55 -> 0.54166667 | G23: ='2-Phase de classement-Sport 2'!R55 -> 0.775
B33: Nombre point de victoire | C33: 3
B34: Nombre point le nul | C34: 2
B35: Nombre point la défaite | C35: 1

Sheet FdM
B2: Feuille de match | M2: Feuille de match
E7: ="POULE A - "&Paramétrage!$J$3 -> POULE A - Padel | P7: ="POULE B - "&Paramétrage!$J$3 -> POULE B - Padel
E9: Nom équipe | F9: W/L | G9: Dif. | I9: Nom équipe | J9: W/L | K9: Dif. | P9: Nom équipe | Q9: W/L | R9: Dif. | T9: Nom équipe | U9: W/L | V9: Dif.
A10: #REF! | B10: ='1-Phase de poule-Sport 1'!B5 -> T1 | C10: ='1-Phase de poule-Sport 1'!C5 -> 0.41666667 | E10: ='1-Phase de poule-Sport 1'!E5 -> Nom équipe 11 | H10: ='1-Phase de poule-Sport 1'!H5 -> VS | I10: ='1-Phase de poule-Sport 1'!I5 -> Nom équipe 5 | M10: =+'1-Phase de poule-Sport 1'!M5 -> T2 | N10: =+'1-Phase de poule-Sport 1'!N5 -> 0.41666667 | P10: =+'1-Phase de poule-Sport 1'!P5 -> Nom équipe 12 | S10: =+'1-Phase de poule-Sport 1'!S5 -> VS | T10: =+'1-Phase de poule-Sport 1'!T5 -> Nom équipe 6
A11: #REF! | B11: =+'1-Phase de poule-Sport 1'!B6 -> T3 | C11: =+'1-Phase de poule-Sport 1'!C6 -> 0.41666667 | E11: ='1-Phase de poule-Sport 1'!E6 -> Nom équipe 9 | H11: ='1-Phase de poule-Sport 1'!H6 -> VS | I11: ='1-Phase de poule-Sport 1'!I6 -> Nom équipe 3 | M11: =+'1-Phase de poule-Sport 1'!M6 -> T2 | N11: =+'1-Phase de poule-Sport 1'!N6 -> 0.425 | P11: =+'1-Phase de poule-Sport 1'!P6 -> Nom équipe 10 | S11: =+'1-Phase de poule-Sport 1'!S6 -> VS | T11: =+'1-Phase de poule-Sport 1'!T6 -> Nom équipe 4
A12: ='1-Phase de poule-Sport 1'!A7 -> 0 | B12: ='1-Phase de poule-Sport 1'!B7 -> T1 | C12: ='1-Phase de poule-Sport 1'!C7 -> 0.425 | D12: ='1-Phase de poule-Sport 1'!D7 -> 0 | E12: ='1-Phase de poule-Sport 1'!E7 -> Nom équipe 7 | H12: ='1-Phase de poule-Sport 1'!H7 -> VS | I12: ='1-Phase de poule-Sport 1'!I7 -> Nom équipe 1 | M12: ='1-Phase de poule-Sport 1'!M7 -> T3 | N12: ='1-Phase de poule-Sport 1'!N7 -> 0.425 | O12: ='1-Phase de poule-Sport 1'!O7 -> 0 | P12: ='1-Phase de poule-Sport 1'!P7 -> Nom équipe 8 | S12: ='1-Phase de poule-Sport 1'!S7 -> VS | T12: =+'1-Phase de poule-Sport 1'!T7 -> Nom équipe 2 | W12: ='1-Phase de poule-Sport 1'!W7 -> 0 | X12: ='1-Phase de poule-Sport 1'!X7 -> 0
A13: ='1-Phase de poule-Sport 1'!A8 -> 0 | B13: ='1-Phase de poule-Sport 1'!B8 -> T1 | C13: ='1-Phase de poule-Sport 1'!C8 -> 0.43333333 | D13: ='1-Phase de poule-Sport 1'!D8 -> 0 | E13: ='1-Phase de poule-Sport 1'!E8 -> Nom équipe 11 | H13: ='1-Phase de poule-Sport 1'!H8 -> VS | I13: ='1-Phase de poule-Sport 1'!I8 -> Nom équipe 3 | M13: ='1-Phase de poule-Sport 1'!M8 -> T2 | N13: ='1-Phase de poule-Sport 1'!N8 -> 0.43333333 | O13: ='1-Phase de poule-Sport 1'!O8 -> 0 | P13: ='1-Phase de poule-Sport 1'!P8 -> Nom équipe 12 | S13: ='1-Phase de poule-Sport 1'!S8 -> VS | T13: =+'1-Phase de poule-Sport 1'!T8 -> Nom équipe 4 | W13: ='1-Phase de poule-Sport 1'!W8 -> 0 | X13: ='1-Phase de poule-Sport 1'!X8 -> 0
A14: ='1-Phase de poule-Sport 1'!A9 -> 0 | B14: ='1-Phase de poule-Sport 1'!B9 -> T3 | C14: ='1-Phase de poule-Sport 1'!C9 -> 0.43333333 | D14: ='1-Phase de poule-Sport 1'!D9 -> 0 | E14: ='1-Phase de poule-Sport 1'!E9 -> Nom équipe 1 | H14: ='1-Phase de poule-Sport 1'!H9 -> VS | I14: ='1-Phase de poule-Sport 1'!I9 -> Nom équipe 5 | M14: ='1-Phase de poule-Sport 1'!M9 -> T2 | N14: ='1-Phase de poule-Sport 1'!N9 -> 0.44166667 | O14: ='1-Phase de poule-Sport 1'!O9 -> 0 | P14: ='1-Phase de poule-Sport 1'!P9 -> Nom équipe 2 | S14: ='1-Phase de poule-Sport 1'!S9 -> VS | T14: =+'1-Phase de poule-Sport 1'!T9 -> Nom équipe 6 | W14: ='1-Phase de poule-Sport 1'!W9 -> 0 | X14: ='1-Phase de poule-Sport 1'!X9 -> 0
A15: ='1-Phase de poule-Sport 1'!A10 -> 0 | B15: ='1-Phase de poule-Sport 1'!B10 -> T1 | C15: ='1-Phase de poule-Sport 1'!C10 -> 0.44166667 | D15: ='1-Phase de poule-Sport 1'!D10 -> 0 | E15: ='1-Phase de poule-Sport 1'!E10 -> Nom équipe 9 | H15: ='1-Phase de poule-Sport 1'!H10 -> VS | I15: ='1-Phase de poule-Sport 1'!I10 -> Nom équipe 7 | M15: ='1-Phase de poule-Sport 1'!M10 -> T3 | N15: ='1-Phase de poule-Sport 1'!N10 -> 0.44166667 | O15: ='1-Phase de poule-Sport 1'!O10 -> 0 | P15: ='1-Phase de poule-Sport 1'!P10 -> Nom équipe 10 | S15: ='1-Phase de poule-Sport 1'!S10 -> VS | T15: =+'1-Phase de poule-Sport 1'!T10 -> Nom équipe 8 | W15: ='1-Phase de poule-Sport 1'!W10 -> 0 | X15: ='1-Phase de poule-Sport 1'!X10 -> 0
A16: ='1-Phase de poule-Sport 1'!A11 -> 0 | B16: ='1-Phase de poule-Sport 1'!B11 -> T3 | C16: ='1-Phase de poule-Sport 1'!C11 -> 0.45 | D16: ='1-Phase de poule-Sport 1'!D11 -> 0 | E16: ='1-Phase de poule-Sport 1'!E11 -> Nom équipe 11 | H16: ='1-Phase de poule-Sport 1'!H11 -> VS | I16: ='1-Phase de poule-Sport 1'!I11 -> Nom équipe 1 | M16: ='1-Phase de poule-Sport 1'!M11 -> T2 | N16: ='1-Phase de poule-Sport 1'!N11 -> 0.45 | O16: ='1-Phase de poule-Sport 1'!O11 -> 0 | P16: ='1-Phase de poule-Sport 1'!P11 -> Nom équipe 12 | S16: ='1-Phase de poule-Sport 1'!S11 -> VS | T16: =+'1-Phase de poule-Sport 1'!T11 -> Nom équipe 2 | W16: ='1-Phase de poule-Sport 1'!W11 -> 0 | X16: ='1-Phase de poule-Sport 1'!X11 -> 0
A17: ='1-Phase de poule-Sport 1'!A12 -> 0 | B17: ='1-Phase de poule-Sport 1'!B12 -> T1 | C17: ='1-Phase de poule-Sport 1'!C12 -> 0.45 | D17: ='1-Phase de poule-Sport 1'!D12 -> 0 | E17: ='1-Phase de poule-Sport 1'!E12 -> Nom équipe 7 | H17: ='1-Phase de poule-Sport 1'!H12 -> VS | I17: ='1-Phase de poule-Sport 1'!I12 -> Nom équipe 3 | M17: ='1-Phase de poule-Sport 1'!M12 -> T2 | N17: ='1-Phase de poule-Sport 1'!N12 -> 0.45833333 | O17: ='1-Phase de poule-Sport 1'!O12 -> 0 | P17: ='1-Phase de poule-Sport 1'!P12 -> Nom équipe 8 | S17: ='1-Phase de poule-Sport 1'!S12 -> VS | T17: =+'1-Phase de poule-Sport 1'!T12 -> Nom équipe 4 | W17: ='1-Phase de poule-Sport 1'!W12 -> 0 | X17: ='1-Phase de poule-Sport 1'!X12 -> 0
A18: ='1-Phase de poule-Sport 1'!A13 -> 0 | B18: ='1-Phase de poule-Sport 1'!B13 -> T3 | C18: ='1-Phase de poule-Sport 1'!C13 -> 0.45833333 | D18: ='1-Phase de poule-Sport 1'!D13 -> 0 | E18: ='1-Phase de poule-Sport 1'!E13 -> Nom équipe 9 | H18: ='1-Phase de poule-Sport 1'!H13 -> VS | I18: ='1-Phase de poule-Sport 1'!I13 -> Nom équipe 5 | M18: ='1-Phase de poule-Sport 1'!M13 -> T3 | N18: ='1-Phase de poule-Sport 1'!N13 -> 0.45833333 | O18: ='1-Phase de poule-Sport 1'!O13 -> 0 | P18: ='1-Phase de poule-Sport 1'!P13 -> Nom équipe 10 | S18: ='1-Phase de poule-Sport 1'!S13 -> VS | T18: =+'1-Phase de poule-Sport 1'!T13 -> Nom équipe 6 | W18: ='1-Phase de poule-Sport 1'!W13 -> 0 | X18: ='1-Phase de poule-Sport 1'!X13 -> 0
A19: ='1-Phase de poule-Sport 1'!A14 -> 0 | B19: ='1-Phase de poule-Sport 1'!B14 -> T1 | C19: ='1-Phase de poule-Sport 1'!C14 -> 0.46666667 | D19: ='1-Phase de poule-Sport 1'!D14 -> 0 | E19: ='1-Phase de poule-Sport 1'!E14 -> Nom équipe 11 | H19: ='1-Phase de poule-Sport 1'!H14 -> VS | I19: ='1-Phase de poule-Sport 1'!I14 -> Nom équipe 7 | M19: ='1-Phase de poule-Sport 1'!M14 -> T2 | N19: ='1-Phase de poule-Sport 1'!N14 -> 0.46666667 | O19: ='1-Phase de poule-Sport 1'!O14 -> 0 | P19: ='1-Phase de poule-Sport 1'!P14 -> Nom équipe 12 | S19: ='1-Phase de poule-Sport 1'!S14 -> VS | T19: =+'1-Phase de poule-Sport 1'!T14 -> Nom équipe 8 | W19: ='1-Phase de poule-Sport 1'!W14 -> 0 | X19: ='1-Phase de poule-Sport 1'!X14 -> 0
A20: ='1-Phase de poule-Sport 1'!A15 -> 0 | B20: ='1-Phase de poule-Sport 1'!B15 -> T1 | C20: ='1-Phase de poule-Sport 1'!C15 -> 0.46666667 | D20: ='1-Phase de poule-Sport 1'!D15 -> 0 | E20: ='1-Phase de poule-Sport 1'!E15 -> Nom équipe 9 | H20: ='1-Phase de poule-Sport 1'!H15 -> VS | I20: ='1-Phase de poule-Sport 1'!I15 -> Nom équipe 1 | M20: ='1-Phase de poule-Sport 1'!M15 -> T2 | N20: ='1-Phase de poule-Sport 1'!N15 -> 0.475 | O20: ='1-Phase de poule-Sport 1'!O15 -> 0 | P20: ='1-Phase de poule-Sport 1'!P15 -> Nom équipe 10 | S20: ='1-Phase de poule-Sport 1'!S15 -> VS | T20: =+'1-Phase de poule-Sport 1'!T15 -> Nom équipe 2 | W20: ='1-Phase de poule-Sport 1'!W15 -> 0 | X20: ='1-Phase de poule-Sport 1'!X15 -> 0
A21: ='1-Phase de poule-Sport 1'!A16 -> 0 | B21: ='1-Phase de poule-Sport 1'!B16 -> T3 | C21: ='1-Phase de poule-Sport 1'!C16 -> 0.475 | D21: ='1-Phase de poule-Sport 1'!D16 -> 0 | E21: ='1-Phase de poule-Sport 1'!E16 -> Nom équipe 3 | H21: ='1-Phase de poule-Sport 1'!H16 -> VS | I21: ='1-Phase de poule-Sport 1'!I16 -> Nom équipe 5 | M21: ='1-Phase de poule-Sport 1'!M16 -> T3 | N21: ='1-Phase de poule-Sport 1'!N16 -> 0.475 | O21: ='1-Phase de poule-Sport 1'!O16 -> 0 | P21: ='1-Phase de poule-Sport 1'!P16 -> Nom équipe 4 | S21: ='1-Phase de poule-Sport 1'!S16 -> VS | T21: =+'1-Phase de poule-Sport 1'!T16 -> Nom équipe 6 | W21: ='1-Phase de poule-Sport 1'!W16 -> 0 | X21: ='1-Phase de poule-Sport 1'!X16 -> 0
A22: ='1-Phase de poule-Sport 1'!A17 -> 0 | B22: ='1-Phase de poule-Sport 1'!B17 -> T1 | C22: ='1-Phase de poule-Sport 1'!C17 -> 0.48333333 | D22: ='1-Phase de poule-Sport 1'!D17 -> 0 | E22: ='1-Phase de poule-Sport 1'!E17 -> Nom équipe 11 | H22: ='1-Phase de poule-Sport 1'!H17 -> VS | I22: ='1-Phase de poule-Sport 1'!I17 -> Nom équipe 9 | M22: ='1-Phase de poule-Sport 1'!M17 -> T2 | N22: ='1-Phase de poule-Sport 1'!N17 -> 0.48333333 | O22: ='1-Phase de poule-Sport 1'!O17 -> 0 | P22: ='1-Phase de poule-Sport 1'!P17 -> Nom équipe 12 | S22: ='1-Phase de poule-Sport 1'!S17 -> VS | T22: =+'1-Phase de poule-Sport 1'!T17 -> Nom équipe 10 | W22: ='1-Phase de poule-Sport 1'!W17 -> 0 | X22: ='1-Phase de poule-Sport 1'!X17 -> 0
A23: ='1-Phase de poule-Sport 1'!A18 -> 0 | B23: ='1-Phase de poule-Sport 1'!B18 -> T3 | C23: ='1-Phase de poule-Sport 1'!C18 -> 0.48333333 | D23: ='1-Phase de poule-Sport 1'!D18 -> 0 | E23: ='1-Phase de poule-Sport 1'!E18 -> Nom équipe 7 | H23: ='1-Phase de poule-Sport 1'!H18 -> VS | I23: ='1-Phase de poule-Sport 1'!I18 -> Nom équipe 5 | M23: ='1-Phase de poule-Sport 1'!M18 -> T2 | N23: ='1-Phase de poule-Sport 1'!N18 -> 0.49166667 | O23: ='1-Phase de poule-Sport 1'!O18 -> 0 | P23: ='1-Phase de poule-Sport 1'!P18 -> Nom équipe 8 | S23: ='1-Phase de poule-Sport 1'!S18 -> VS | T23: =+'1-Phase de poule-Sport 1'!T18 -> Nom équipe 6 | W23: ='1-Phase de poule-Sport 1'!W18 -> 0 | X23: ='1-Phase de poule-Sport 1'!X18 -> 0
A24: ='1-Phase de poule-Sport 1'!A19 -> 0 | B24: ='1-Phase de poule-Sport 1'!B19 -> T1 | C24: ='1-Phase de poule-Sport 1'!C19 -> 0.49166667 | D24: ='1-Phase de poule-Sport 1'!D19 -> 0 | E24: ='1-Phase de poule-Sport 1'!E19 -> Nom équipe 1 | H24: ='1-Phase de poule-Sport 1'!H19 -> VS | I24: ='1-Phase de poule-Sport 1'!I19 -> Nom équipe 3 | M24: ='1-Phase de poule-Sport 1'!M19 -> T3 | N24: ='1-Phase de poule-Sport 1'!N19 -> 0.49166667 | O24: ='1-Phase de poule-Sport 1'!O19 -> 0 | P24: ='1-Phase de poule-Sport 1'!P19 -> Nom équipe 2 | S24: ='1-Phase de poule-Sport 1'!S19 -> VS | T24: =+'1-Phase de poule-Sport 1'!T19 -> Nom équipe 4 | W24: ='1-Phase de poule-Sport 1'!W19 -> 0 | X24: ='1-Phase de poule-Sport 1'!X19 -> 0
A25: =+'1-Phase de poule-Sport 1'!A20 -> 0 | C25: =+'1-Phase de poule-Sport 1'!C20 -> 0.5 | N25: =+'1-Phase de poule-Sport 1'!N20 -> 0.5

Sheet 1-Phase de poule-Sport 1
E2: POULE A | P2: POULE B
E4: Nom équipe | F4: W/L | G4: Dif. | I4: Nom équipe | J4: W/L | K4: Dif. | P4: Nom équipe | Q4: W/L | R4: Dif. | T4: Nom équipe | U4: W/L | V4: Dif.
B5: T1 | C5: =Paramétrage!D17 -> 0.41666667 | E5: =+Paramétrage!E13 -> Nom équipe 11 | F5: W | H5: VS | I5: =+Paramétrage!E7 -> Nom équipe 5 | J5: =IF(F5="W","L",IF(F5="L","W","N")) -> L | K5: =-G5 -> 0 | M5: T2 | N5: =C5 -> 0.41666667 | P5: =+Paramétrage!E14 -> Nom équipe 12 | Q5: l | S5: VS | T5: =+Paramétrage!E8 -> Nom équipe 6 | U5: =IF(Q5="W","L",IF(Q5="L","W","N")) -> W | V5: =-R5 -> 0
B6: T3 | C6: =C5 -> 0.41666667 | E6: =+Paramétrage!E11 -> Nom équipe 9 | H6: VS | I6: =+Paramétrage!E5 -> Nom équipe 3 | J6: =IF(F6="W","L",IF(F6="L","W","N")) -> N | K6: =-G6 -> 0 | M6: T2 | N6: =C7 -> 0.425 | P6: =+Paramétrage!E12 -> Nom équipe 10 | S6: VS | T6: =+Paramétrage!E6 -> Nom équipe 4 | U6: =IF(Q6="W","L",IF(Q6="L","W","N")) -> N | V6: =-R6 -> 0
B7: T1 | C7: =C6+Paramétrage!$D$18+Paramétrage!$D$19 -> 0.425 | E7: =+Paramétrage!E9 -> Nom équipe 7 | H7: VS | I7: =+Paramétrage!E3 -> Nom équipe 1 | J7: =IF(F7="W","L",IF(F7="L","W","N")) -> N | K7: =-G7 -> 0 | M7: T3 | N7: =C7 -> 0.425 | P7: =+Paramétrage!E10 -> Nom équipe 8 | S7: VS | T7: =+Paramétrage!E4 -> Nom équipe 2 | U7: =IF(Q7="W","L",IF(Q7="L","W","N")) -> N | V7: =-R7 -> 0
B8: T1 | C8: =C7+Paramétrage!$D$18+Paramétrage!$D$19 -> 0.43333333 | E8: =E5 -> Nom équipe 11 | H8: VS | I8: =I6 -> Nom équipe 3 | J8: =IF(F8="W","L",IF(F8="L","W","N")) -> N | K8: =-G8 -> 0 | M8: T2 | N8: =C8 -> 0.43333333 | P8: =P5 -> Nom équipe 12 | S8: VS | T8: =T6 -> Nom équipe 4 | U8: =IF(Q8="W","L",IF(Q8="L","W","N")) -> N | V8: =-R8 -> 0
B9: T3 | C9: =C8 -> 0.43333333 | E9: =I7 -> Nom équipe 1 | H9: VS | I9: =I5 -> Nom équipe 5 | J9: =IF(F9="W","L",IF(F9="L","W","N")) -> N | K9: =-G9 -> 0 | M9: T2 | N9: =C10 -> 0.44166667 | P9: =T7 -> Nom équipe 2 | S9: VS | T9: =T5 -> Nom équipe 6 | U9: =IF(Q9="W","L",IF(Q9="L","W","N")) -> N | V9: =-R9 -> 0
B10: T1 | C10: =C9+Paramétrage!$D$18+Paramétrage!$D$19 -> 0.44166667 | E10: =E6 -> Nom équipe 9 | H10: VS | I10: =E7 -> Nom équipe 7 | J10: =IF(F10="W","L",IF(F10="L","W","N")) -> N | K10: =-G10 -> 0 | M10: T3 | N10: =C10 -> 0.44166667 | P10: =P6 -> Nom équipe 10 | S10: VS | T10: =P7 -> Nom équipe 8 | U10: =IF(Q10="W","L",IF(Q10="L","W","N")) -> N | V10: =-R10 -> 0
B11: T3 | C11: =C10+Paramétrage!$D$18+Paramétrage!$D$19 -> 0.45 | E11: =E5 -> Nom équipe 11 | H11: VS | I11: =I7 -> Nom équipe 1 | J11: =IF(F11="W","L",IF(F11="L","W","N")) -> N | K11: =-G11 -> 0 | M11: T2 | N11: =C11 -> 0.45 | P11: =P5 -> Nom équipe 12 | S11: VS | T11: =T7 -> Nom équipe 2 | U11: =IF(Q11="W","L",IF(Q11="L","W","N")) -> N | V11: =-R11 -> 0
B12: T1 | C12: =C11 -> 0.45 | E12: =E7 -> Nom équipe 7 | H12: VS | I12: =I6 -> Nom équipe 3 | J12: =IF(F12="W","L",IF(F12="L","W","N")) -> N | K12: =-G12 -> 0 | M12: T2 | N12: =C13 -> 0.45833333 | P12: =P7 -> Nom équipe 8 | S12: VS | T12: =T6 -> Nom équipe 4 | U12: =IF(Q12="W","L",IF(Q12="L","W","N")) -> N | V12: =-R12 -> 0
B13: T3 | C13: =C12+Paramétrage!$D$18+Paramétrage!$D$19 -> 0.45833333 | E13: =E6 -> Nom équipe 9 | H13: VS | I13: =I5 -> Nom équipe 5 | J13: =IF(F13="W","L",IF(F13="L","W","N")) -> N | K13: =-G13 -> 0 | M13: T3 | N13: =C13 -> 0.45833333 | P13: =P6 -> Nom équipe 10 | S13: VS | T13: =T5 -> Nom équipe 6 | U13: =IF(Q13="W","L",IF(Q13="L","W","N")) -> N | V13: =-R13 -> 0
B14: T1 | C14: =C13+Paramétrage!$D$18+Paramétrage!$D$19 -> 0.46666667 | E14: =E5 -> Nom équipe 11 | H14: VS | I14: =E7 -> Nom équipe 7 | J14: =IF(F14="W","L",IF(F14="L","W","N")) -> N | K14: =-G14 -> 0 | M14: T2 | N14: =C14 -> 0.46666667 | P14: =P5 -> Nom équipe 12 | S14: VS | T14: =P7 -> Nom équipe 8 | U14: =IF(Q14="W","L",IF(Q14="L","W","N")) -> N | V14: =-R14 -> 0
B15: T1 | C15: =C14 -> 0.46666667 | E15: =E6 -> Nom équipe 9 | H15: VS | I15: =I7 -> Nom équipe 1 | J15: =IF(F15="W","L",IF(F15="L","W","N")) -> N | K15: =-G15 -> 0 | M15: T2 | N15: =C16 -> 0.475 | P15: =P6 -> Nom équipe 10 | S15: VS | T15: =T7 -> Nom équipe 2 | U15: =IF(Q15="W","L",IF(Q15="L","W","N")) -> N | V15: =-R15 -> 0
B16: T3 | C16: =C15+Paramétrage!$D$18+Paramétrage!$D$19 -> 0.475 | E16: =I6 -> Nom équipe 3 | H16: VS | I16: =I5 -> Nom équipe 5 | J16: =IF(F16="W","L",IF(F16="L","W","N")) -> N | K16: =-G16 -> 0 | M16: T3 | N16: =C16 -> 0.475 | P16: =T6 -> Nom équipe 4 | S16: VS | T16: =T5 -> Nom équipe 6 | U16: =IF(Q16="W","L",IF(Q16="L","W","N")) -> N | V16: =-R16 -> 0
B17: T1 | C17: =C16+Paramétrage!$D$18+Paramétrage!$D$19 -> 0.48333333 | E17: =E5 -> Nom équipe 11 | H17: VS | I17: =E6 -> Nom équipe 9 | J17: =IF(F17="W","L",IF(F17="L","W","N")) -> N | K17: =-G17 -> 0 | M17: T2 | N17: =C17 -> 0.48333333 | P17: =P5 -> Nom équipe 12 | S17: VS | T17: =P6 -> Nom équipe 10 | U17: =IF(Q17="W","L",IF(Q17="L","W","N")) -> N | V17: =-R17 -> 0
B18: T3 | C18: =C17 -> 0.48333333 | E18: =E7 -> Nom équipe 7 | H18: VS | I18: =I5 -> Nom équipe 5 | J18: =IF(F18="W","L",IF(F18="L","W","N")) -> N | K18: =-G18 -> 0 | M18: T2 | N18: =C19 -> 0.49166667 | P18: =P7 -> Nom équipe 8 | S18: VS | T18: =T5 -> Nom équipe 6 | U18: =IF(Q18="W","L",IF(Q18="L","W","N")) -> N | V18: =-R18 -> 0
B19: T1 | C19: =C18+Paramétrage!$D$18+Paramétrage!$D$19 -> 0.49166667 | E19: =I7 -> Nom équipe 1 | H19: VS | I19: =I6 -> Nom équipe 3 | J19: =IF(F19="W","L",IF(F19="L","W","N")) -> N | K19: =-G19 -> 0 | M19: T3 | N19: =C19 -> 0.49166667 | P19: =T7 -> Nom équipe 2 | S19: VS | T19: =T6 -> Nom équipe 4 | U19: =IF(Q19="W","L",IF(Q19="L","W","N")) -> N | V19: =-R19 -> 0
C20: =C19+Paramétrage!$D$18+Paramétrage!$D$19 -> 0.5 | N20: =C20 -> 0.5
E21: Nom équipe | F21: Pts | G21: Dif. | H21: Clas. | I21: Ne pas toucher | P21: Nom équipe | Q21: Pts | R21: Dif. | S21: Clas. | T21: Ne pas toucher
D22: =F22+G22/1000 -> 3 | E22: =E5 -> Nom équipe 11 | F22: =(COUNTIFS(J$5:J$19,"w",I$5:I$19,E22)+COUNTIFS(F$5:F$19,"w",E$5:E$19,E22))*Paramétrage!$C$33+(COUNTIFS(J$5:J$19,"N",I$5:I$19,E22)+COUNTIFS(F$5:F$19,"N",E$5:E$19,E22))*Paramétrage!$C$34+(COUNTIFS(J$5:J$19,"L",I$5:I$19,E22)+COUNTIFS(F$5:F$19,"L",E$5:E$19,E22))*Paramétrage!$C$35 -> 3 | G22: =SUMIF(E$5:G$19,E22,G$5:G$19)+SUMIF(I$5:K$19,E22,K$5:K$19) -> 0 | H22: =RANK(D22,D$22:D$27,0) -> 5 | I22: =E22 -> Nom équipe 11 | O22: =Q22+R22/1000 -> 1 | P22: =P5 -> Nom équipe 12 | Q22: =(COUNTIFS(U$5:U$19,"w",T$5:T$19,P22)+COUNTIFS(Q$5:Q$19,"w",P$5:P$19,P22))*Paramétrage!$C$33+(COUNTIFS(U$5:U$19,"N",T$5:T$19,P22)+COUNTIFS(Q$5:Q$19,"N",P$5:P$19,P22))*Paramétrage!$C$34+(COUNTIFS(U$5:U$19,"L",T$5:T$19,P22)+COUNTIFS(Q$5:Q$19,"L",P$5:P$19,P22))*Paramétrage!$C$35 -> 1 | R22: =SUMIF(P$5:R$19,P22,R$5:R$19)+SUMIF(T$5:V$19,P22,V$5:V$19) -> 0 | S22: =RANK(O22,O$22:O$27,0) -> 6 | T22: =P22 -> Nom équipe 12
D23: =F23+G23/1000 -> 2 | E23: =E6 -> Nom équipe 9 | F23: =(COUNTIFS(J$5:J$19,"w",I$5:I$19,E23)+COUNTIFS(F$5:F$19,"w",E$5:E$19,E23))*Paramétrage!$C$33+(COUNTIFS(J$5:J$19,"N",I$5:I$19,E23)+COUNTIFS(F$5:F$19,"N",E$5:E$19,E23))*Paramétrage!$C$34+(COUNTIFS(J$5:J$19,"L",I$5:I$19,E23)+COUNTIFS(F$5:F$19,"L",E$5:E$19,E23))*Paramétrage!$C$35 -> 2 | G23: =SUMIF(E$5:G$19,E23,G$5:G$19)+SUMIF(I$5:K$19,E23,K$5:K$19) -> 0 | H23: =RANK(D23,D$22:D$27,0) -> 6 | I23: =E23 -> Nom équipe 9 | O23: =Q23+R23/1000 -> 2 | P23: =P6 -> Nom équipe 10 | Q23: =(COUNTIFS(U$5:U$19,"w",T$5:T$19,P23)+COUNTIFS(Q$5:Q$19,"w",P$5:P$19,P23))*Paramétrage!$C$33+(COUNTIFS(U$5:U$19,"N",T$5:T$19,P23)+COUNTIFS(Q$5:Q$19,"N",P$5:P$19,P23))*Paramétrage!$C$34+(COUNTIFS(U$5:U$19,"L",T$5:T$19,P23)+COUNTIFS(Q$5:Q$19,"L",P$5:P$19,P23))*Paramétrage!$C$35 -> 2 | R23: =SUMIF(P$5:R$19,P23,R$5:R$19)+SUMIF(T$5:V$19,P23,V$5:V$19) -> 0 | S23: =RANK(O23,O$22:O$27,0) -> 5 | T23: =P23 -> Nom équipe 10
D24: =F24+G24/1000 -> 4 | E24: =E7 -> Nom équipe 7 | F24: =(COUNTIFS(J$5:J$19,"w",I$5:I$19,E24)+COUNTIFS(F$5:F$19,"w",E$5:E$19,E24))*Paramétrage!$C$33+(COUNTIFS(J$5:J$19,"N",I$5:I$19,E24)+COUNTIFS(F$5:F$19,"N",E$5:E$19,E24))*Paramétrage!$C$34+(COUNTIFS(J$5:J$19,"L",I$5:I$19,E24)+COUNTIFS(F$5:F$19,"L",E$5:E$19,E24))*Paramétrage!$C$35 -> 4 | G24: =SUMIF(E$5:G$19,E24,G$5:G$19)+SUMIF(I$5:K$19,E24,K$5:K$19) -> 0 | H24: =RANK(D24,D$22:D$27,0) -> 4 | I24: =E24 -> Nom équipe 7 | O24: =Q24+R24/1000 -> 4 | P24: =P7 -> Nom équipe 8 | Q24: =(COUNTIFS(U$5:U$19,"w",T$5:T$19,P24)+COUNTIFS(Q$5:Q$19,"w",P$5:P$19,P24))*Paramétrage!$C$33+(COUNTIFS(U$5:U$19,"N",T$5:T$19,P24)+COUNTIFS(Q$5:Q$19,"N",P$5:P$19,P24))*Paramétrage!$C$34+(COUNTIFS(U$5:U$19,"L",T$5:T$19,P24)+COUNTIFS(Q$5:Q$19,"L",P$5:P$19,P24))*Paramétrage!$C$35 -> 4 | R24: =SUMIF(P$5:R$19,P24,R$5:R$19)+SUMIF(T$5:V$19,P24,V$5:V$19) -> 0 | S24: =RANK(O24,O$22:O$27,0) -> 4 | T24: =P24 -> Nom équipe 8
D25: =F25+G25/1000 -> 9 | E25: =I5 -> Nom équipe 5 | F25: =(COUNTIFS(J$5:J$19,"w",I$5:I$19,E25)+COUNTIFS(F$5:F$19,"w",E$5:E$19,E25))*Paramétrage!$C$33+(COUNTIFS(J$5:J$19,"N",I$5:I$19,E25)+COUNTIFS(F$5:F$19,"N",E$5:E$19,E25))*Paramétrage!$C$34+(COUNTIFS(J$5:J$19,"L",I$5:I$19,E25)+COUNTIFS(F$5:F$19,"L",E$5:E$19,E25))*Paramétrage!$C$35 -> 9 | G25: =SUMIF(E$5:G$19,E25,G$5:G$19)+SUMIF(I$5:K$19,E25,K$5:K$19) -> 0 | H25: =RANK(D25,D$22:D$27,0) -> 1 | I25: =E25 -> Nom équipe 5 | O25: =Q25+R25/1000 -> 11 | P25: =T5 -> Nom équipe 6 | Q25: =(COUNTIFS(U$5:U$19,"w",T$5:T$19,P25)+COUNTIFS(Q$5:Q$19,"w",P$5:P$19,P25))*Paramétrage!$C$33+(COUNTIFS(U$5:U$19,"N",T$5:T$19,P25)+COUNTIFS(Q$5:Q$19,"N",P$5:P$19,P25))*Paramétrage!$C$34+(COUNTIFS(U$5:U$19,"L",T$5:T$19,P25)+COUNTIFS(Q$5:Q$19,"L",P$5:P$19,P25))*Paramétrage!$C$35 -> 11 | R25: =SUMIF(P$5:R$19,P25,R$5:R$19)+SUMIF(T$5:V$19,P25,V$5:V$19) -> 0 | S25: =RANK(O25,O$22:O$27,0) -> 1 | T25: =P25 -> Nom équipe 6
D26: =F26+G26/1000 -> 8 | E26: =I6 -> Nom équipe 3 | F26: =(COUNTIFS(J$5:J$19,"w",I$5:I$19,E26)+COUNTIFS(F$5:F$19,"w",E$5:E$19,E26))*Paramétrage!$C$33+(COUNTIFS(J$5:J$19,"N",I$5:I$19,E26)+COUNTIFS(F$5:F$19,"N",E$5:E$19,E26))*Paramétrage!$C$34+(COUNTIFS(J$5:J$19,"L",I$5:I$19,E26)+COUNTIFS(F$5:F$19,"L",E$5:E$19,E26))*Paramétrage!$C$35 -> 8 | G26: =SUMIF(E$5:G$19,E26,G$5:G$19)+SUMIF(I$5:K$19,E26,K$5:K$19) -> 0 | H26: =RANK(D26,D$22:D$27,0) -> 2 | I26: =E26 -> Nom équipe 3 | O26: =Q26+R26/1000 -> 8 | P26: =T6 -> Nom équipe 4 | Q26: =(COUNTIFS(U$5:U$19,"w",T$5:T$19,P26)+COUNTIFS(Q$5:Q$19,"w",P$5:P$19,P26))*Paramétrage!$C$33+(COUNTIFS(U$5:U$19,"N",T$5:T$19,P26)+COUNTIFS(Q$5:Q$19,"N",P$5:P$19,P26))*Paramétrage!$C$34+(COUNTIFS(U$5:U$19,"L",T$5:T$19,P26)+COUNTIFS(Q$5:Q$19,"L",P$5:P$19,P26))*Paramétrage!$C$35 -> 8 | R26: =SUMIF(P$5:R$19,P26,R$5:R$19)+SUMIF(T$5:V$19,P26,V$5:V$19) -> 0 | S26: =RANK(O26,O$22:O$27,0) -> 2 | T26: =P26 -> Nom équipe 4
D27: =F27+G27/1000 -> 6 | E27: =I7 -> Nom équipe 1 | F27: =(COUNTIFS(J$5:J$19,"w",I$5:I$19,E27)+COUNTIFS(F$5:F$19,"w",E$5:E$19,E27))*Paramétrage!$C$33+(COUNTIFS(J$5:J$19,"N",I$5:I$19,E27)+COUNTIFS(F$5:F$19,"N",E$5:E$19,E27))*Paramétrage!$C$34+(COUNTIFS(J$5:J$19,"L",I$5:I$19,E27)+COUNTIFS(F$5:F$19,"L",E$5:E$19,E27))*Paramétrage!$C$35 -> 6 | G27: =SUMIF(E$5:G$19,E27,G$5:G$19)+SUMIF(I$5:K$19,E27,K$5:K$19) -> 0 | H27: =RANK(D27,D$22:D$27,0) -> 3 | I27: =E27 -> Nom équipe 1 | O27: =Q27+R27/1000 -> 6 | P27: =T7 -> Nom équipe 2 | Q27: =(COUNTIFS(U$5:U$19,"w",T$5:T$19,P27)+COUNTIFS(Q$5:Q$19,"w",P$5:P$19,P27))*Paramétrage!$C$33+(COUNTIFS(U$5:U$19,"N",T$5:T$19,P27)+COUNTIFS(Q$5:Q$19,"N",P$5:P$19,P27))*Paramétrage!$C$34+(COUNTIFS(U$5:U$19,"L",T$5:T$19,P27)+COUNTIFS(Q$5:Q$19,"L",P$5:P$19,P27))*Paramétrage!$C$35 -> 6 | R27: =SUMIF(P$5:R$19,P27,R$5:R$19)+SUMIF(T$5:V$19,P27,V$5:V$19) -> 0 | S27: =RANK(O27,O$22:O$27,0) -> 3 | T27: =P27 -> Nom équipe 2

Sheet 2-Phase de classement-Sport 1
M2: Classement
M5: 1er | N5: =IF(I46="","",VLOOKUP("w",I45:J46,2,FALSE)) -> Nom équipe 6
M6: 2ème | N6: =IF(I46="","",VLOOKUP("l",I45:J46,2,FALSE)) -> Nom équipe 4
M7: 3ème | N7: =IF(I52="","",VLOOKUP("w",I51:J52,2,FALSE)) -> Nom équipe 3
E8: ='1-Phase de poule-Sport 1'!C20+Paramétrage!$F$18+Paramétrage!$F$19 -> 0.50833333 | F8: T1 | M8: 4ème | N8: =IF(I52="","",VLOOKUP("l",I51:J52,2,FALSE)) -> Nom équipe 5
E9: ='Param. - Transition'!F8 -> Nom équipe 10 | F9: W | G9: =E9 -> Nom équipe 10 | M9: 5ème | N9: =IF(I30="","",VLOOKUP("w",I29:J30,2,FALSE)) -> Nom équipe 2
E10: ='Param. - Transition'!G7 -> Nom équipe 9 | F10: L | G10: =E10 -> Nom équipe 9 | M10: 6ème | N10: =IF(I30="","",VLOOKUP("l",I29:J30,2,FALSE)) -> Nom équipe 1
M11: 7ème | N11: =IF(I36="","",VLOOKUP("w",I35:J36,2,FALSE)) -> Nom équipe 7
H12: =E40+Paramétrage!$F$18+Paramétrage!$F$19 -> 0.525 | I12: T1 | M12: 8ème | N12: =IF(I35="","",VLOOKUP("l",I35:J36,2,FALSE)) -> Nom équipe 8
H13: =IF(F10="","",VLOOKUP("w",F9:G10,2,FALSE)) -> Nom équipe 10 | I13: W | J13: =H13 -> Nom équipe 10 | L13: 1 | M13: 9ème | N13: =IF(I14="","",VLOOKUP("w",I13:J14,2,FALSE)) -> Nom équipe 10
H14: =IF(F18="","",VLOOKUP("w",F17:G18,2,FALSE)) -> Nom équipe 11 | I14: L | J14: =H14 -> Nom équipe 11 | L14: 2 | M14: 10ème | N14: =IF(I14="","",VLOOKUP("l",I13:J14,2,FALSE)) -> Nom équipe 11
M15: 11ème | N15: =IF(I19="","",VLOOKUP("w",I19:J20,2,FALSE)) -> Nom équipe 9
E16: =+E8 -> 0.50833333 | F16: T2 | M16: 12ème | N16: =IF(I20="","",VLOOKUP("l",I19:J20,2,FALSE)) -> Nom équipe 12
E17: ='Param. - Transition'!F7 -> Nom équipe 11 | F17: W | G17: =E17 -> Nom équipe 11
E18: ='Param. - Transition'!G8 -> Nom équipe 12 | F18: L | G18: =E18 -> Nom équipe 12 | H18: =+H12 -> 0.525 | I18: T2
H19: =IF(F10="","",VLOOKUP("L",F9:G10,2,FALSE)) -> Nom équipe 9 | I19: W | J19: =H19 -> Nom équipe 9
H20: =IF(F18="","",VLOOKUP("L",F17:G18,2,FALSE)) -> Nom équipe 12 | I20: L | J20: =H20 -> Nom équipe 12
E24: =+E16 -> 0.50833333 | F24: T3
E25: ='Param. - Transition'!D8 -> Nom équipe 2 | F25: W | G25: =E25 -> Nom équipe 2
E26: ='Param. - Transition'!E7 -> Nom équipe 7 | F26: L | G26: =E26 -> Nom équipe 7
H28: =+H18 -> 0.525 | I28: T3
H29: =IF(F26="","",VLOOKUP("w",F25:G26,2,FALSE)) -> Nom équipe 2 | I29: W | J29: =H29 -> Nom équipe 2
H30: =IF(F34="","",VLOOKUP("w",F33:G34,2,FALSE)) -> Nom équipe 1 | I30: L | J30: =H30 -> Nom équipe 1
E32: =E24+Paramétrage!$F$18+Paramétrage!$F$19 -> 0.51666667 | F32: T1
E33: ='Param. - Transition'!D7 -> Nom équipe 1 | F33: W | G33: =E33 -> Nom équipe 1
E34: ='Param. - Transition'!E8 -> Nom équipe 8 | F34: L | G34: =E34 -> Nom équipe 8 | H34: =H28+Paramétrage!$F$18+Paramétrage!$F$19 -> 0.53333333 | I34: T1
H35: =IF(F26="","",VLOOKUP("L",F25:G26,2,FALSE)) -> Nom équipe 7 | I35: W | J35: =H35 -> Nom équipe 7
H36: =IF(F34="","",VLOOKUP("L",F33:G34,2,FALSE)) -> Nom équipe 8 | I36: L | J36: =H36 -> Nom équipe 8
E40: =+E32 -> 0.51666667 | F40: T2
E41: ='Param. - Transition'!B8 -> Nom équipe 6 | F41: W | G41: =E41 -> Nom équipe 6
E42: ='Param. - Transition'!C7 -> Nom équipe 3 | F42: L | G42: =E42 -> Nom équipe 3
H44: =+H34 -> 0.53333333 | I44: T2
H45: =IF(F42="","",VLOOKUP("w",F41:G42,2,FALSE)) -> Nom équipe 6 | I45: W | J45: =H45 -> Nom équipe 6
H46: =IF(F50="","",VLOOKUP("w",F49:G50,2,FALSE)) -> Nom équipe 4 | I46: L | J46: =H46 -> Nom équipe 4
E48: =+E32 -> 0.51666667 | F48: T3
E49: ='Param. - Transition'!C8 -> Nom équipe 4 | F49: W | G49: =E49 -> Nom équipe 4
E50: ='Param. - Transition'!B7 -> Nom équipe 5 | F50: L | G50: =E50 -> Nom équipe 5 | H50: =H44 -> 0.53333333 | I50: T3
H51: =IF(F42="","",VLOOKUP("L",F41:G42,2,FALSE)) -> Nom équipe 3 | I51: W | J51: =H51 -> Nom équipe 3
H52: =IF(F50="","",VLOOKUP("L",F49:G50,2,FALSE)) -> Nom équipe 5 | I52: L | J52: =H52 -> Nom équipe 5
H54: Fin
...

Sheet FdM (2)
B2: Feuille de match | M2: Feuille de match | X2: Feuille de match | AI2: Feuille de match
E7: ="POULE A - "&Paramétrage!$J$3 -> POULE A - Padel | P7: ="POULE B - "&Paramétrage!$J$3 -> POULE B - Padel | AA7: ="POULE C - "&Paramétrage!$J$3 -> POULE C - Padel | AL7: ="POULE D - "&Paramétrage!$J$3 -> POULE D - Padel
E9: Nom équipe | F9: W/L | G9: Dif. | I9: Nom équipe | J9: W/L | K9: Dif. | P9: Nom équipe | Q9: W/L | R9: Dif. | T9: Nom équipe | U9: W/L | V9: Dif. | AA9: Nom équipe | AB9: W/L | AC9: Dif. | AE9: Nom équipe | AF9: W/L | AG9: Dif. | AL9: Nom équipe | AM9: W/L | AN9: Dif. | AP9: Nom équipe | AQ9: W/L | AR9: Dif.
A10: #REF! | B10: ='1-Phase de poule-Sport 2'!B5 -> T1 | C10: ='1-Phase de poule-Sport 2'!C5 -> 0.58333333 | E10: ='1-Phase de poule-Sport 2'!E5 -> Nom équipe 1 A | H10: ='1-Phase de poule-Sport 2'!H5 -> VS | I10: ='1-Phase de poule-Sport 2'!I5 -> Nom équipe 4 A | M10: ='1-Phase de poule-Sport 2'!M5 -> T2 | N10: ='1-Phase de poule-Sport 2'!N5 -> 0.58333333 | P10: ='1-Phase de poule-Sport 2'!P5 -> Nom équipe 7 A | S10: ='1-Phase de poule-Sport 2'!S5 -> VS | T10: ='1-Phase de poule-Sport 2'!T5 -> Nom équipe 10 A | X10: ='1-Phase de poule-Sport 2'!X5 -> T3 | Y10: ='1-Phase de poule-Sport 2'!Y5 -> 0.58333333 | AA10: ='1-Phase de poule-Sport 2'!AA5 -> Nom équipe 6 B | AD10: ='1-Phase de poule-Sport 2'!AD5 -> VS | AE10: ='1-Phase de poule-Sport 2'!AE5 -> Nom équipe 3 B | AI10: ='1-Phase de poule-Sport 2'!AI5 -> T4 | AJ10: ='1-Phase de poule-Sport 2'!AJ5 -> 0.58333333 | AL10: ='1-Phase de poule-Sport 2'!AL5 -> Nom équipe 12 B | AO10: ='1-Phase de poule-Sport 2'!AO5 -> VS | AP10: ='1-Phase de poule-Sport 2'!AP5 -> Nom équipe 9 B
A11: #REF! | B11: =+'1-Phase de poule-Sport 2'!B6 -> T1 | C11: =+'1-Phase de poule-Sport 2'!C6 -> 0.59166667 | E11: ='1-Phase de poule-Sport 2'!E6 -> Nom équipe 2 A | H11: ='1-Phase de poule-Sport 2'!H6 -> VS | I11: ='1-Phase de poule-Sport 2'!I6 -> Nom équipe 5 A | M11: =+'1-Phase de poule-Sport 2'!M6 -> T2 | N11: =+'1-Phase de poule-Sport 2'!N6 -> 0.59166667 | P11: ='1-Phase de poule-Sport 2'!P6 -> Nom équipe 8 A | S11: ='1-Phase de poule-Sport 2'!S6 -> VS | T11: ='1-Phase de poule-Sport 2'!T6 -> Nom équipe 11 A | X11: =+'1-Phase de poule-Sport 2'!X6 -> T3 | Y11: =+'1-Phase de poule-Sport 2'!Y6 -> 0.59166667 | AA11: ='1-Phase de poule-Sport 2'!AA6 -> Nom équipe 5 B | AD11: ='1-Phase de poule-Sport 2'!AD6 -> VS | AE11: ='1-Phase de poule-Sport 2'!AE6 -> Nom équipe 2 B | AI11: =+'1-Phase de poule-Sport 2'!AI6 -> T4 | AJ11: =+'1-Phase de poule-Sport 2'!AJ6 -> 0.59166667 | AL11: ='1-Phase de poule-Sport 2'!AL6 -> Nom équipe 11 B | AO11: ='1-Phase de poule-Sport 2'!AO6 -> VS | AP11: ='1-Phase de poule-Sport 2'!AP6 -> Nom équipe 8 B
A12: ='1-Phase de poule-Sport 2'!A7 -> 0 | B12: ='1-Phase de poule-Sport 2'!B7 -> T1 | C12: ='1-Phase de poule-Sport 2'!C7 -> 0.6 | E12: ='1-Phase de poule-Sport 2'!E7 -> Nom équipe 3 A | H12: ='1-Phase de poule-Sport 2'!H7 -> VS | I12: ='1-Phase de poule-Sport 2'!I7 -> Nom équipe 6 A | M12: ='1-Phase de poule-Sport 2'!M7 -> T2 | N12: ='1-Phase de poule-Sport 2'!N7 -> 0.6 | P12: ='1-Phase de poule-Sport 2'!P7 -> Nom équipe 9 A | S12: ='1-Phase de poule-Sport 2'!S7 -> VS | T12: ='1-Phase de poule-Sport 2'!T7 -> Nom équipe 12 A | X12: ='1-Phase de poule-Sport 2'!X7 -> T3 | Y12: ='1-Phase de poule-Sport 2'!Y7 -> 0.6 | AA12: ='1-Phase de poule-Sport 2'!AA7 -> Nom équipe 4 B | AD12: ='1-Phase de poule-Sport 2'!AD7 -> VS | AE12: ='1-Phase de poule-Sport 2'!AE7 -> Nom équipe 1 B | AI12: ='1-Phase de poule-Sport 2'!AI7 -> T4 | AJ12: ='1-Phase de poule-Sport 2'!AJ7 -> 0.6 | AL12: ='1-Phase de poule-Sport 2'!AL7 -> Nom équipe 10 B | AO12: ='1-Phase de poule-Sport 2'!AO7 -> VS | AP12: ='1-Phase de poule-Sport 2'!AP7 -> Nom équipe 7 B
A13: ='1-Phase de poule-Sport 2'!A8 -> 0 | B13: ='1-Phase de poule-Sport 2'!B8 -> T1 | C13: ='1-Phase de poule-Sport 2'!C8 -> 0.60833333 | E13: ='1-Phase de poule-Sport 2'!E8 -> Nom équipe 1 A | H13: ='1-Phase de poule-Sport 2'!H8 -> VS | I13: ='1-Phase de poule-Sport 2'!I8 -> Nom équipe 5 A | M13: ='1-Phase de poule-Sport 2'!M8 -> T2 | N13: ='1-Phase de poule-Sport 2'!N8 -> 0.60833333 | P13: ='1-Phase de poule-Sport 2'!P8 -> Nom équipe 7 A | S13: ='1-Phase de poule-Sport 2'!S8 -> VS | T13: ='1-Phase de poule-Sport 2'!T8 -> Nom équipe 11 A | X13: ='1-Phase de poule-Sport 2'!X8 -> T3 | Y13: ='1-Phase de poule-Sport 2'!Y8 -> 0.60833333 | AA13: ='1-Phase de poule-Sport 2'!AA8 -> Nom équipe 6 B | AD13: ='1-Phase de poule-Sport 2'!AD8 -> VS | AE13: ='1-Phase de poule-Sport 2'!AE8 -> Nom équipe 2 B | AI13: ='1-Phase de poule-Sport 2'!AI8 -> T4 | AJ13: ='1-Phase de poule-Sport 2'!AJ8 -> 0.60833333 | AL13: ='1-Phase de poule-Sport 2'!AL8 -> Nom équipe 12 B | AO13: ='1-Phase de poule-Sport 2'!AO8 -> VS | AP13: ='1-Phase de poule-Sport 2'!AP8 -> Nom équipe 8 B
A14: ='1-Phase de poule-Sport 2'!A9 -> 0 | B14: ='1-Phase de poule-Sport 2'!B9 -> T1 | C14: ='1-Phase de poule-Sport 2'!C9 -> 0.61666667 | E14: ='1-Phase de poule-Sport 2'!E9 -> Nom équipe 6 A | H14: ='1-Phase de poule-Sport 2'!H9 -> VS | I14: ='1-Phase de poule-Sport 2'!I9 -> Nom équipe 4 A | M14: ='1-Phase de poule-Sport 2'!M9 -> T2 | N14: ='1-Phase de poule-Sport 2'!N9 -> 0.61666667 | P14: ='1-Phase de poule-Sport 2'!P9 -> Nom équipe 12 A | S14: ='1-Phase de poule-Sport 2'!S9 -> VS | T14: ='1-Phase de poule-Sport 2'!T9 -> Nom équipe 10 A | X14: ='1-Phase de poule-Sport 2'!X9 -> T3 | Y14: ='1-Phase de poule-Sport 2'!Y9 -> 0.61666667 | AA14: ='1-Phase de poule-Sport 2'!AA9 -> Nom équipe 1 B | AD14: ='1-Phase de poule-Sport 2'!AD9 -> VS | AE14: ='1-Phase de poule-Sport 2'!AE9 -> Nom équipe 3 B | AI14: ='1-Phase de poule-Sport 2'!AI9 -> T4 | AJ14: ='1-Phase de poule-Sport 2'!AJ9 -> 0.61666667 | AL14: ='1-Phase de poule-Sport 2'!AL9 -> Nom équipe 7 B | AO14: ='1-Phase de poule-Sport 2'!AO9 -> VS | AP14: ='1-Phase de poule-Sport 2'!AP9 -> Nom équipe 9 B
A15: ='1-Phase de poule-Sport 2'!A10 -> 0 | B15: ='1-Phase de poule-Sport 2'!B10 -> T1 | C15: ='1-Phase de poule-Sport 2'!C10 -> 0.625 | E15: ='1-Phase de poule-Sport 2'!E10 -> Nom équipe 2 A | H15: ='1-Phase de poule-Sport 2'!H10 -> VS | I15: ='1-Phase de poule-Sport 2'!I10 -> Nom équipe 3 A | M15: ='1-Phase de poule-Sport 2'!M10 -> T2 | N15: ='1-Phase de poule-Sport 2'!N10 -> 0.625 | P15: ='1-Phase de poule-Sport 2'!P10 -> Nom équipe 8 A | S15: ='1-Phase de poule-Sport 2'!S10 -> VS | T15: ='1-Phase de poule-Sport 2'!T10 -> Nom équipe 9 A | X15: ='1-Phase de poule-Sport 2'!X10 -> T3 | Y15: ='1-Phase de poule-Sport 2'!Y10 -> 0.625 | AA15: ='1-Phase de poule-Sport 2'!AA10 -> Nom équipe 5 B | AD15: ='1-Phase de poule-Sport 2'!AD10 -> VS | AE15: ='1-Phase de poule-Sport 2'!AE10 -> Nom équipe 4 B | AI15: ='1-Phase de poule-Sport 2'!AI10 -> T4 | AJ15: ='1-Phase de poule-Sport 2'!AJ10 -> 0.625 | AL15: ='1-Phase de poule-Sport 2'!AL10 -> Nom équipe 11 B | AO15: ='1-Phase de poule-Sport 2'!AO10 -> VS | AP15: ='1-Phase de poule-Sport 2'!AP10 -> Nom équipe 10 B
A16: ='1-Phase de poule-Sport 2'!A11 -> 0 | B16: ='1-Phase de poule-Sport 2'!B11 -> T1 | C16: ='1-Phase de poule-Sport 2'!C11 -> 0.63333333 | E16: ='1-Phase de poule-Sport 2'!E11 -> Nom équipe 1 A | H16: ='1-Phase de poule-Sport 2'!H11 -> VS | I16: ='1-Phase de poule-Sport 2'!I11 -> Nom équipe 6 A | M16: ='1-Phase de poule-Sport 2'!M11 -> T2 | N16: ='1-Phase de poule-Sport 2'!N11 -> 0.63333333 | P16: ='1-Phase de poule-Sport 2'!P11 -> Nom équipe 7 A | S16: ='1-Phase de poule-Sport 2'!S11 -> VS | T16: ='1-Phase de poule-Sport 2'!T11 -> Nom équipe 12 A | X16: ='1-Phase de poule-Sport 2'!X11 -> T3 | Y16: ='1-Phase de poule-Sport 2'!Y11 -> 0.63333333 | AA16: ='1-Phase de poule-Sport 2'!AA11 -> Nom équipe 6 B | AD16: ='1-Phase de poule-Sport 2'!AD11 -> VS | AE16: ='1-Phase de poule-Sport 2'!AE11 -> Nom équipe 1 B | AI16: ='1-Phase de poule-Sport 2'!AI11 -> T4 | AJ16: ='1-Phase de poule-Sport 2'!AJ11 -> 0.63333333 | AL16: ='1-Phase de poule-Sport 2'!AL11 -> Nom équipe 12 B | AO16: ='1-Phase de poule-Sport 2'!AO11 -> VS | AP16: ='1-Phase de poule-Sport 2'!AP11 -> Nom équipe 7 B
A17: ='1-Phase de poule-Sport 2'!A12 -> 0 | B17: ='1-Phase de poule-Sport 2'!B12 -> T1 | C17: ='1-Phase de poule-Sport 2'!C12 -> 0.64166667 | E17: ='1-Phase de poule-Sport 2'!E12 -> Nom équipe 3 A | H17: ='1-Phase de poule-Sport 2'!H12 -> VS | I17: ='1-Phase de poule-Sport 2'!I12 -> Nom équipe 5 A | M17: ='1-Phase de poule-Sport 2'!M12 -> T2 | N17: ='1-Phase de poule-Sport 2'!N12 -> 0.64166667 | P17: ='1-Phase de poule-Sport 2'!P12 -> Nom équipe 9 A | S17: ='1-Phase de poule-Sport 2'!S12 -> VS | T17: ='1-Phase de poule-Sport 2'!T12 -> Nom équipe 11 A | X17: ='1-Phase de poule-Sport 2'!X12 -> T3 | Y17: ='1-Phase de poule-Sport 2'!Y12 -> 0.64166667 | AA17: ='1-Phase de poule-Sport 2'!AA12 -> Nom équipe 4 B | AD17: ='1-Phase de poule-Sport 2'!AD12 -> VS | AE17: ='1-Phase de poule-Sport 2'!AE12 -> Nom équipe 2 B | AI17: ='1-Phase de poule-Sport 2'!AI12 -> T4 | AJ17: ='1-Phase de poule-Sport 2'!AJ12 -> 0.64166667 | AL17: ='1-Phase de poule-Sport 2'!AL12 -> Nom équipe 10 B | AO17: ='1-Phase de poule-Sport 2'!AO12 -> VS | AP17: ='1-Phase de poule-Sport 2'!AP12 -> Nom équipe 8 B
A18: ='1-Phase de poule-Sport 2'!A13 -> 0 | B18: ='1-Phase de poule-Sport 2'!B13 -> T1 | C18: ='1-Phase de poule-Sport 2'!C13 -> 0.65 | E18: ='1-Phase de poule-Sport 2'!E13 -> Nom équipe 2 A | H18: ='1-Phase de poule-Sport 2'!H13 -> VS | I18: ='1-Phase de poule-Sport 2'!I13 -> Nom équipe 4 A | M18: ='1-Phase de poule-Sport 2'!M13 -> T2 | N18: ='1-Phase de poule-Sport 2'!N13 -> 0.65 | P18: ='1-Phase de poule-Sport 2'!P13 -> Nom équipe 8 A | S18: ='1-Phase de poule-Sport 2'!S13 -> VS | T18: ='1-Phase de poule-Sport 2'!T13 -> Nom équipe 10 A | X18: ='1-Phase de poule-Sport 2'!X13 -> T3 | Y18: ='1-Phase de poule-Sport 2'!Y13 -> 0.65 | AA18: ='1-Phase de poule-Sport 2'!AA13 -> Nom équipe 5 B | AD18: ='1-Phase de poule-Sport 2'!AD13 -> VS | AE18: ='1-Phase de poule-Sport 2'!AE13 -> Nom équipe 3 B | AI18: ='1-Phase de poule-Sport 2'!AI13 -> T4 | AJ18: ='1-Phase de poule-Sport 2'!AJ13 -> 0.65 | AL18: ='1-Phase de poule-Sport 2'!AL13 -> Nom équipe 11 B | AO18: ='1-Phase de poule-Sport 2'!AO13 -> VS | AP18: ='1-Phase de poule-Sport 2'!AP13 -> Nom équipe 9 B
A19: ='1-Phase de poule-Sport 2'!A14 -> 0 | B19: ='1-Phase de poule-Sport 2'!B14 -> T1 | C19: ='1-Phase de poule-Sport 2'!C14 -> 0.65833333 | E19: ='1-Phase de poule-Sport 2'!E14 -> Nom équipe 1 A | H19: ='1-Phase de poule-Sport 2'!H14 -> VS | I19: ='1-Phase de poule-Sport 2'!I14 -> Nom équipe 3 A | M19: ='1-Phase de poule-Sport 2'!M14 -> T2 | N19: ='1-Phase de poule-Sport 2'!N14 -> 0.65833333 | P19: ='1-Phase de poule-Sport 2'!P14 -> Nom équipe 7 A | S19: ='1-Phase de poule-Sport 2'!S14 -> VS | T19: ='1-Phase de poule-Sport 2'!T14 -> Nom équipe 9 A | X19: ='1-Phase de poule-Sport 2'!X14 -> T3 | Y19: ='1-Phase de poule-Sport 2'!Y14 -> 0.65833333 | AA19: ='1-Phase de poule-Sport 2'!AA14 -> Nom équipe 6 B | AD19: ='1-Phase de poule-Sport 2'!AD14 -> VS | AE19: ='1-Phase de poule-Sport 2'!AE14 -> Nom équipe 4 B | AI19: ='1-Phase de poule-Sport 2'!AI14 -> T4 | AJ19: ='1-Phase de poule-Sport 2'!AJ14 -> 0.65833333 | AL19: ='1-Phase de poule-Sport 2'!AL14 -> Nom équipe 12 B | AO19: ='1-Phase de poule-Sport 2'!AO14 -> VS | AP19: ='1-Phase de poule-Sport 2'!AP14 -> Nom équipe 10 B
A20: ='1-Phase de poule-Sport 2'!A15 -> 0 | B20: ='1-Phase de poule-Sport 2'!B15 -> T1 | C20: ='1-Phase de poule-Sport 2'!C15 -> 0.66666667 | E20: ='1-Phase de poule-Sport 2'!E15 -> Nom équipe 2 A | H20: ='1-Phase de poule-Sport 2'!H15 -> VS | I20: ='1-Phase de poule-Sport 2'!I15 -> Nom équipe 6 A | M20: ='1-Phase de poule-Sport 2'!M15 -> T2 | N20: ='1-Phase de poule-Sport 2'!N15 -> 0.66666667 | P20: ='1-Phase de poule-Sport 2'!P15 -> Nom équipe 8 A | S20: ='1-Phase de poule-Sport 2'!S15 -> VS | T20: ='1-Phase de poule-Sport 2'!T15 -> Nom équipe 12 A | X20: ='1-Phase de poule-Sport 2'!X15 -> T3 | Y20: ='1-Phase de poule-Sport 2'!Y15 -> 0.66666667 | AA20: ='1-Phase de poule-Sport 2'!AA15 -> Nom équipe 5 B | AD20: ='1-Phase de poule-Sport 2'!AD15 -> VS | AE20: ='1-Phase de poule-Sport 2'!AE15 -> Nom équipe 1 B | AI20: ='1-Phase de poule-Sport 2'!AI15 -> T4 | AJ20: ='1-Phase de poule-Sport 2'!AJ15 -> 0.66666667 | AL20: ='1-Phase de poule-Sport 2'!AL15 -> Nom équipe 11 B | AO20: ='1-Phase de poule-Sport 2'!AO15 -> VS | AP20: ='1-Phase de poule-Sport 2'!AP15 -> Nom équipe 7 B
A21: ='1-Phase de poule-Sport 2'!A16 -> 0 | B21: ='1-Phase de poule-Sport 2'!B16 -> T1 | C21: ='1-Phase de poule-Sport 2'!C16 -> 0.675 | E21: ='1-Phase de poule-Sport 2'!E16 -> Nom équipe 5 A | H21: ='1-Phase de poule-Sport 2'!H16 -> VS | I21: ='1-Phase de poule-Sport 2'!I16 -> Nom équipe 4 A | M21: ='1-Phase de poule-Sport 2'!M16 -> T2 | N21: ='1-Phase de poule-Sport 2'!N16 -> 0.675 | P21: ='1-Phase de poule-Sport 2'!P16 -> Nom équipe 11 A | S21: ='1-Phase de poule-Sport 2'!S16 -> VS | T21: ='1-Phase de poule-Sport 2'!T16 -> Nom équipe 10 A | X21: ='1-Phase de poule-Sport 2'!X16 -> T3 | Y21: ='1-Phase de poule-Sport 2'!Y16 -> 0.675 | AA21: ='1-Phase de poule-Sport 2'!AA16 -> Nom équipe 2 B | AD21: ='1-Phase de poule-Sport 2'!AD16 -> VS | AE21: ='1-Phase de poule-Sport 2'!AE16 -> Nom équipe 3 B | AI21: ='1-Phase de poule-Sport 2'!AI16 -> T4 | AJ21: ='1-Phase de poule-Sport 2'!AJ16 -> 0.675 | AL21: ='1-Phase de poule-Sport 2'!AL16 -> Nom équipe 8 B | AO21: ='1-Phase de poule-Sport 2'!AO16 -> VS | AP21: ='1-Phase de poule-Sport 2'!AP16 -> Nom équipe 9 B
A22: ='1-Phase de poule-Sport 2'!A17 -> 0 | B22: ='1-Phase de poule-Sport 2'!B17 -> T1 | C22: ='1-Phase de poule-Sport 2'!C17 -> 0.68333333 | E22: ='1-Phase de poule-Sport 2'!E17 -> Nom équipe 1 A | H22: ='1-Phase de poule-Sport 2'!H17 -> VS | I22: ='1-Phase de poule-Sport 2'!I17 -> Nom équipe 2 A | M22: ='1-Phase de poule-Sport 2'!M17 -> T2 | N22: ='1-Phase de poule-Sport 2'!N17 -> 0.68333333 | P22: ='1-Phase de poule-Sport 2'!P17 -> Nom équipe 7 A | S22: ='1-Phase de poule-Sport 2'!S17 -> VS | T22: ='1-Phase de poule-Sport 2'!T17 -> Nom équipe 8 A | X22: ='1-Phase de poule-Sport 2'!X17 -> T3 | Y22: ='1-Phase de poule-Sport 2'!Y17 -> 0.68333333 | AA22: ='1-Phase de poule-Sport 2'!AA17 -> Nom équipe 6 B | AD22: ='1-Phase de poule-Sport 2'!AD17 -> VS | AE22: ='1-Phase de poule-Sport 2'!AE17 -> Nom équipe 5 B | AI22: ='1-Phase de poule-Sport 2'!AI17 -> T4 | AJ22: ='1-Phase de poule-Sport 2'!AJ17 -> 0.68333333 | AL22: ='1-Phase de poule-Sport 2'!AL17 -> Nom équipe 12 B | AO22: ='1-Phase de poule-Sport 2'!AO17 -> VS | AP22: ='1-Phase de poule-Sport 2'!AP17 -> Nom équipe 11 B
A23: ='1-Phase de poule-Sport 2'!A18 -> 0 | B23: ='1-Phase de poule-Sport 2'!B18 -> T1 | C23: ='1-Phase de poule-Sport 2'!C18 -> 0.69166667 | E23: ='1-Phase de poule-Sport 2'!E18 -> Nom équipe 3 A | H23: ='1-Phase de poule-Sport 2'!H18 -> VS | I23: ='1-Phase de poule-Sport 2'!I18 -> Nom équipe 4 A | M23: ='1-Phase de poule-Sport 2'!M18 -> T2 | N23: ='1-Phase de poule-Sport 2'!N18 -> 0.69166667 | P23: ='1-Phase de poule-Sport 2'!P18 -> Nom équipe 9 A | S23: ='1-Phase de poule-Sport 2'!S18 -> VS | T23: ='1-Phase de poule-Sport 2'!T18 -> Nom équipe 10 A | X23: ='1-Phase de poule-Sport 2'!X18 -> T3 | Y23: ='1-Phase de poule-Sport 2'!Y18 -> 0.69166667 | AA23: ='1-Phase de poule-Sport 2'!AA18 -> Nom équipe 4 B | AD23: ='1-Phase de poule-Sport 2'!AD18 -> VS | AE23: ='1-Phase de poule-Sport 2'!AE18 -> Nom équipe 3 B | AI23: ='1-Phase de poule-Sport 2'!AI18 -> T4 | AJ23: ='1-Phase de poule-Sport 2'!AJ18 -> 0.69166667 | AL23: ='1-Phase de poule-Sport 2'!AL18 -> Nom équipe 10 B | AO23: ='1-Phase de poule-Sport 2'!AO18 -> VS | AP23: ='1-Phase de poule-Sport 2'!AP18 -> Nom équipe 9 B
A24: ='1-Phase de poule-Sport 2'!A19 -> 0 | B24: ='1-Phase de poule-Sport 2'!B19 -> T1 | C24: ='1-Phase de poule-Sport 2'!C19 -> 0.7 | E24: ='1-Phase de poule-Sport 2'!E19 -> Nom équipe 6 A | H24: ='1-Phase de poule-Sport 2'!H19 -> VS | I24: ='1-Phase de poule-Sport 2'!I19 -> Nom équipe 5 A | M24: ='1-Phase de poule-Sport 2'!M19 -> T2 | N24: ='1-Phase de poule-Sport 2'!N19 -> 0.7 | P24: ='1-Phase de poule-Sport 2'!P19 -> Nom équipe 12 A | S24: ='1-Phase de poule-Sport 2'!S19 -> VS | T24: ='1-Phase de poule-Sport 2'!T19 -> Nom équipe 11 A | X24: ='1-Phase de poule-Sport 2'!X19 -> T3 | Y24: ='1-Phase de poule-Sport 2'!Y19 -> 0.7 | AA24: ='1-Phase de poule-Sport 2'!AA19 -> Nom équipe 1 B | AD24: ='1-Phase de poule-Sport 2'!AD19 -> VS | AE24: ='1-Phase de poule-Sport 2'!AE19 -> Nom équipe 2 B | AI24: ='1-Phase de poule-Sport 2'!AI19 -> T4 | AJ24: ='1-Phase de poule-Sport 2'!AJ19 -> 0.7 | AL24: ='1-Phase de poule-Sport 2'!AL19 -> Nom équipe 7 B | AO24: ='1-Phase de poule-Sport 2'!AO19 -> VS | AP24: ='1-Phase de poule-Sport 2'!AP19 -> Nom équipe 8 B
A25: =+'1-Phase de poule-Sport 2'!A20 -> 0 | C25: =+'1-Phase de poule-Sport 2'!C20 -> 0.70833333 | N25: =+'1-Phase de poule-Sport 2'!N20 -> 0.70833333 | Y25: =+'1-Phase de poule-Sport 2'!Y20 -> 0.70833333 | AJ25: =+'1-Phase de poule-Sport 2'!AJ20 -> 0.70833333

Sheet 1-Phase de poule-Sport 2
E2: POULE A | P2: POULE B | AA2: POULE C | AL2: POULE D
E4: Nom équipe | F4: W/L | G4: Dif. | I4: Nom équipe | J4: W/L | K4: Dif. | P4: Nom équipe | Q4: W/L | R4: Dif. | T4: Nom équipe | U4: W/L | V4: Dif. | AA4: Nom équipe | AB4: W/L | AC4: Dif. | AE4: Nom équipe | AF4: W/L | AG4: Dif. | AL4: Nom équipe | AM4: W/L | AN4: Dif. | AP4: Nom équipe | AQ4: W/L | AR4: Dif.
B5: T1 | C5: =Paramétrage!E17 -> 0.58333333 | E5: =+Paramétrage!F3 -> Nom équipe 1 A | H5: VS | I5: =+Paramétrage!F6 -> Nom équipe 4 A | J5: =IF(F5="W","L",IF(F5="L","W","N")) -> N | K5: =-G5 -> 0 | M5: T2 | N5: =C5 -> 0.58333333 | P5: =+Paramétrage!F9 -> Nom équipe 7 A | S5: VS | T5: =+Paramétrage!F12 -> Nom équipe 10 A | U5: =IF(Q5="W","L",IF(Q5="L","W","N")) -> N | V5: =-R5 -> 0 | X5: T3 | Y5: =+N5 -> 0.58333333 | AA5: =+Paramétrage!G8 -> Nom équipe 6 B | AD5: VS | AE5: =Paramétrage!G5 -> Nom équipe 3 B | AF5: =IF(AB5="W","L",IF(AB5="L","W","N")) -> N | AG5: =-AC5 -> 0 | AI5: T4 | AJ5: =Y5 -> 0.58333333 | AL5: =+Paramétrage!G14 -> Nom équipe 12 B | AO5: VS | AP5: =+Paramétrage!G11 -> Nom équipe 9 B | AQ5: =IF(AM5="W","L",IF(AM5="L","W","N")) -> N | AR5: =-AN5 -> 0
B6: T1 | C6: =C5+Paramétrage!$E$18+Paramétrage!$E$19 -> 0.59166667 | D6: =D5+Paramétrage!$E$18+Paramétrage!$E$19 -> 0.0083333333 | E6: =+Paramétrage!F4 -> Nom équipe 2 A | H6: VS | I6: =+Paramétrage!F7 -> Nom équipe 5 A | J6: =IF(F6="W","L",IF(F6="L","W","N")) -> N | K6: =-G6 -> 0 | M6: T2 | N6: =C6 -> 0.59166667 | P6: =+Paramétrage!F10 -> Nom équipe 8 A | S6: VS | T6: =+Paramétrage!F13 -> Nom équipe 11 A | U6: =IF(Q6="W","L",IF(Q6="L","W","N")) -> N | V6: =-R6 -> 0 | X6: T3 | Y6: =+N6 -> 0.59166667 | AA6: =Paramétrage!G7 -> Nom équipe 5 B | AD6: VS | AE6: =Paramétrage!G4 -> Nom équipe 2 B | AF6: =IF(AB6="W","L",IF(AB6="L","W","N")) -> N | AG6: =-AC6 -> 0 | AI6: T4 | AJ6: =Y6 -> 0.59166667 | AL6: =+Paramétrage!G13 -> Nom équipe 11 B | AO6: VS | AP6: =+Paramétrage!G10 -> Nom équipe 8 B | AQ6: =IF(AM6="W","L",IF(AM6="L","W","N")) -> N | AR6: =-AN6 -> 0
B7: T1 | C7: =C6+Paramétrage!$E$18+Paramétrage!$E$19 -> 0.6 | D7: =D6+Paramétrage!$E$18+Paramétrage!$E$19 -> 0.016666667 | E7: =+Paramétrage!F5 -> Nom équipe 3 A | H7: VS | I7: =+Paramétrage!F8 -> Nom équipe 6 A | J7: =IF(F7="W","L",IF(F7="L","W","N")) -> N | K7: =-G7 -> 0 | M7: T2 | N7: =C7 -> 0.6 | P7: =+Paramétrage!F11 -> Nom équipe 9 A | S7: VS | T7: =+Paramétrage!F14 -> Nom équipe 12 A | U7: =IF(Q7="W","L",IF(Q7="L","W","N")) -> N | V7: =-R7 -> 0 | X7: T3 | Y7: =+N7 -> 0.6 | AA7: =Paramétrage!G6 -> Nom équipe 4 B | AD7: VS | AE7: =Paramétrage!G3 -> Nom équipe 1 B | AF7: =IF(AB7="W","L",IF(AB7="L","W","N")) -> N | AG7: =-AC7 -> 0 | AI7: T4 | AJ7: =Y7 -> 0.6 | AL7: =+Paramétrage!G12 -> Nom équipe 10 B | AO7: VS | AP7: =+Paramétrage!G9 -> Nom équipe 7 B | AQ7: =IF(AM7="W","L",IF(AM7="L","W","N")) -> N | AR7: =-AN7 -> 0
B8: T1 | C8: =C7+Paramétrage!$E$18+Paramétrage!$E$19 -> 0.60833333 | D8: =D7+Paramétrage!$E$18+Paramétrage!$E$19 -> 0.025 | E8: =E5 -> Nom équipe 1 A | H8: VS | I8: =I6 -> Nom équipe 5 A | J8: =IF(F8="W","L",IF(F8="L","W","N")) -> N | K8: =-G8 -> 0 | M8: T2 | N8: =C8 -> 0.60833333 | P8: =P5 -> Nom équipe 7 A | S8: VS | T8: =T6 -> Nom équipe 11 A | U8: =IF(Q8="W","L",IF(Q8="L","W","N")) -> N | V8: =-R8 -> 0 | X8: T3 | Y8: =+N8 -> 0.60833333 | AA8: =AA5 -> Nom équipe 6 B | AD8: VS | AE8: =AE6 -> Nom équipe 2 B | AF8: =IF(AB8="W","L",IF(AB8="L","W","N")) -> N | AG8: =-AC8 -> 0 | AI8: T4 | AJ8: =Y8 -> 0.60833333 | AL8: =AL5 -> Nom équipe 12 B | AO8: VS | AP8: =AP6 -> Nom équipe 8 B | AQ8: =IF(AM8="W","L",IF(AM8="L","W","N")) -> N | AR8: =-AN8 -> 0
B9: T1 | C9: =C8+Paramétrage!$E$18+Paramétrage!$E$19 -> 0.61666667 | D9: =D8+Paramétrage!$E$18+Paramétrage!$E$19 -> 0.033333333 | E9: =I7 -> Nom équipe 6 A | H9: VS | I9: =I5 -> Nom équipe 4 A | J9: =IF(F9="W","L",IF(F9="L","W","N")) -> N | K9: =-G9 -> 0 | M9: T2 | N9: =C9 -> 0.61666667 | P9: =T7 -> Nom équipe 12 A | S9: VS | T9: =T5 -> Nom équipe 10 A | U9: =IF(Q9="W","L",IF(Q9="L","W","N")) -> N | V9: =-R9 -> 0 | X9: T3 | Y9: =+N9 -> 0.61666667 | AA9: =AE7 -> Nom équipe 1 B | AD9: VS | AE9: =AE5 -> Nom équipe 3 B | AF9: =IF(AB9="W","L",IF(AB9="L","W","N")) -> N | AG9: =-AC9 -> 0 | AI9: T4 | AJ9: =Y9 -> 0.61666667 | AL9: =AP7 -> Nom équipe 7 B | AO9: VS | AP9: =AP5 -> Nom équipe 9 B | AQ9: =IF(AM9="W","L",IF(AM9="L","W","N")) -> N | AR9: =-AN9 -> 0
B10: T1 | C10: =C9+Paramétrage!$E$18+Paramétrage!$E$19 -> 0.625 | D10: =D9+Paramétrage!$E$18+Paramétrage!$E$19 -> 0.041666667 | E10: =E6 -> Nom équipe 2 A | H10: VS | I10: =E7 -> Nom équipe 3 A | J10: =IF(F10="W","L",IF(F10="L","W","N")) -> N | K10: =-G10 -> 0 | M10: T2 | N10: =C10 -> 0.625 | P10: =P6 -> Nom équipe 8 A | S10: VS | T10: =P7 -> Nom équipe 9 A | U10: =IF(Q10="W","L",IF(Q10="L","W","N")) -> N | V10: =-R10 -> 0 | X10: T3 | Y10: =+N10 -> 0.625 | AA10: =AA6 -> Nom équipe 5 B | AD10: VS | AE10: =AA7 -> Nom équipe 4 B | AF10: =IF(AB10="W","L",IF(AB10="L","W","N")) -> N | AG10: =-AC10 -> 0 | AI10: T4 | AJ10: =Y10 -> 0.625 | AL10: =AL6 -> Nom équipe 11 B | AO10: VS | AP10: =AL7 -> Nom équipe 10 B | AQ10: =IF(AM10="W","L",IF(AM10="L","W","N")) -> N | AR10: =-AN10 -> 0
B11: T1 | C11: =C10+Paramétrage!$E$18+Paramétrage!$E$19 -> 0.63333333 | D11: =D10+Paramétrage!$E$18+Paramétrage!$E$19 -> 0.05 | E11: =E5 -> Nom équipe 1 A | H11: VS | I11: =I7 -> Nom équipe 6 A | J11: =IF(F11="W","L",IF(F11="L","W","N")) -> N | K11: =-G11 -> 0 | M11: T2 | N11: =C11 -> 0.63333333 | P11: =P5 -> Nom équipe 7 A | S11: VS | T11: =T7 -> Nom équipe 12 A | U11: =IF(Q11="W","L",IF(Q11="L","W","N")) -> N | V11: =-R11 -> 0 | X11: T3 | Y11: =+N11 -> 0.63333333 | AA11: =AA5 -> Nom équipe 6 B | AD11: VS | AE11: =AE7 -> Nom équipe 1 B | AF11: =IF(AB11="W","L",IF(AB11="L","W","N")) -> N | AG11: =-AC11 -> 0 | AI11: T4 | AJ11: =Y11 -> 0.63333333 | AL11: =AL5 -> Nom équipe 12 B | AO11: VS | AP11: =AP7 -> Nom équipe 7 B | AQ11: =IF(AM11="W","L",IF(AM11="L","W","N")) -> N | AR11: =-AN11 -> 0
B12: T1 | C12: =C11+Paramétrage!$E$18+Paramétrage!$E$19 -> 0.64166667 | D12: =D11+Paramétrage!$E$18+Paramétrage!$E$19 -> 0.058333333 | E12: =E7 -> Nom équipe 3 A | H12: VS | I12: =I6 -> Nom équipe 5 A | J12: =IF(F12="W","L",IF(F12="L","W","N")) -> N | K12: =-G12 -> 0 | M12: T2 | N12: =C12 -> 0.64166667 | P12: =P7 -> Nom équipe 9 A | S12: VS | T12: =T6 -> Nom équipe 11 A | U12: =IF(Q12="W","L",IF(Q12="L","W","N")) -> N | V12: =-R12 -> 0 | X12: T3 | Y12: =+N12 -> 0.64166667 | AA12: =AA7 -> Nom équipe 4 B | AD12: VS | AE12: =AE6 -> Nom équipe 2 B | AF12: =IF(AB12="W","L",IF(AB12="L","W","N")) -> N | AG12: =-AC12 -> 0 | AI12: T4 | AJ12: =Y12 -> 0.64166667 | AL12: =AL7 -> Nom équipe 10 B | AO12: VS | AP12: =AP6 -> Nom équipe 8 B | AQ12: =IF(AM12="W","L",IF(AM12="L","W","N")) -> N | AR12: =-AN12 -> 0
B13: T1 | C13: =C12+Paramétrage!$E$18+Paramétrage!$E$19 -> 0.65 | D13: =D12+Paramétrage!$E$18+Paramétrage!$E$19 -> 0.066666667 | E13: =E6 -> Nom équipe 2 A | H13: VS | I13: =I5 -> Nom équipe 4 A | J13: =IF(F13="W","L",IF(F13="L","W","N")) -> N | K13: =-G13 -> 0 | M13: T2 | N13: =C13 -> 0.65 | P13: =P6 -> Nom équipe 8 A | S13: VS | T13: =T5 -> Nom équipe 10 A | U13: =IF(Q13="W","L",IF(Q13="L","W","N")) -> N | V13: =-R13 -> 0 | X13: T3 | Y13: =+N13 -> 0.65 | AA13: =AA6 -> Nom équipe 5 B | AD13: VS | AE13: =AE5 -> Nom équipe 3 B | AF13: =IF(AB13="W","L",IF(AB13="L","W","N")) -> N | AG13: =-AC13 -> 0 | AI13: T4 | AJ13: =Y13 -> 0.65 | AL13: =AL6 -> Nom équipe 11 B | AO13: VS | AP13: =AP5 -> Nom équipe 9 B | AQ13: =IF(AM13="W","L",IF(AM13="L","W","N")) -> N | AR13: =-AN13 -> 0
B14: T1 | C14: =C13+Paramétrage!$E$18+Paramétrage!$E$19 -> 0.65833333 | D14: =D13+Paramétrage!$E$18+Paramétrage!$E$19 -> 0.075 | E14: =E5 -> Nom équipe 1 A | H14: VS | I14: =E7 -> Nom équipe 3 A | J14: =IF(F14="W","L",IF(F14="L","W","N")) -> N | K14: =-G14 -> 0 | M14: T2 | N14: =C14 -> 0.65833333 | P14: =P5 -> Nom équipe 7 A | S14: VS | T14: =P7 -> Nom équipe 9 A | U14: =IF(Q14="W","L",IF(Q14="L","W","N")) -> N | V14: =-R14 -> 0 | X14: T3 | Y14: =+N14 -> 0.65833333 | AA14: =AA5 -> Nom équipe 6 B | AD14: VS | AE14: =AA7 -> Nom équipe 4 B | AF14: =IF(AB14="W","L",IF(AB14="L","W","N")) -> N | AG14: =-AC14 -> 0 | AI14: T4 | AJ14: =Y14 -> 0.65833333 | AL14: =AL5 -> Nom équipe 12 B | AO14: VS | AP14: =AL7 -> Nom équipe 10 B | AQ14: =IF(AM14="W","L",IF(AM14="L","W","N")) -> N | AR14: =-AN14 -> 0
B15: T1 | C15: =C14+Paramétrage!$E$18+Paramétrage!$E$19 -> 0.66666667 | D15: =D14+Paramétrage!$E$18+Paramétrage!$E$19 -> 0.083333333 | E15: =E6 -> Nom équipe 2 A | H15: VS | I15: =I7 -> Nom équipe 6 A | J15: =IF(F15="W","L",IF(F15="L","W","N")) -> N | K15: =-G15 -> 0 | M15: T2 | N15: =C15 -> 0.66666667 | P15: =P6 -> Nom équipe 8 A | S15: VS | T15: =T7 -> Nom équipe 12 A | U15: =IF(Q15="W","L",IF(Q15="L","W","N")) -> N | V15: =-R15 -> 0 | X15: T3 | Y15: =+N15 -> 0.66666667 | AA15: =AA6 -> Nom équipe 5 B | AD15: VS | AE15: =AE7 -> Nom équipe 1 B | AF15: =IF(AB15="W","L",IF(AB15="L","W","N")) -> N | AG15: =-AC15 -> 0 | AI15: T4 | AJ15: =Y15 -> 0.66666667 | AL15: =AL6 -> Nom équipe 11 B | AO15: VS | AP15: =AP7 -> Nom équipe 7 B | AQ15: =IF(AM15="W","L",IF(AM15="L","W","N")) -> N | AR15: =-AN15 -> 0
