Workbook

Sheet Point équipe
A3: Equipes participants | B3: Montant payé | C3: Montant à payer | D3: Montant restant à payer | F3: Joueur 1 | G3: Joueur 2 | H3: Joueur 3 | I3: Joueur 4 | J3: Joueur 5 | K3: Joueur 6
A4: Nom équipe 1 | D4: =C4-B4 -> 0
A5: Nom équipe 2 | D5: =C5-B5 -> 0
A6: Nom équipe 3 | D6: =C6-B6 -> 0
A7: Nom équipe 4 | D7: =C7-B7 -> 0
A8: Nom équipe 5 | D8: =C8-B8 -> 0
A9: Nom équipe 6 | D9: =C9-B9 -> 0
A10: Nom équipe 7 | D10: =C10-B10 -> 0
A11: Nom équipe 8 | D11: =C11-B11 -> 0
A12: Nom équipe 9 | D12: =C12-B12 -> 0
A13: Nom équipe 10 | D13: =C13-B13 -> 0
A14: Nom équipe 11 | D14: =C14-B14 -> 0
A15: Nom équipe 12 | D15: =C15-B15 -> 0
B16: =SUM(B4:B15) -> 0 | C16: =SUM(C4:C15) -> 0 | D16: =SUM(D4:D15) -> 0

Sheet Param. - Transition
B4: Phase de Poule vers phase de classement - Sport 1
B6: 1 | C6: 2 | D6: 3 | E6: 4 | F6: 5 | G6: 6
A7: A | B7: =+VLOOKUP('Param. - Transition'!B$16,'1-Phase de poule-Sport 1'!$H$22:$I$27,2,FALSE) -> Nom équipe 5 | C7: =+VLOOKUP('Param. - Transition'!C$16,'1-Phase de poule-Sport 1'!$H$22:$I$27,2,FALSE) -> Nom équipe 3 | D7: =+VLOOKUP('Param. - Transition'!D$16,'1-Phase de poule-Sport 1'!$H$22:$I$27,2,FALSE) -> Nom équipe 1 | E7: =+VLOOKUP('Param. - Transition'!E$16,'1-Phase de poule-Sport 1'!$H$22:$I$27,2,FALSE) -> Nom équipe 7 | F7: =+VLOOKUP('Param. - Transition'!F$16,'1-Phase de poule-Sport 1'!$H$22:$I$27,2,FALSE) -> Nom équipe 11 | G7: =+VLOOKUP('Param. - Transition'!G$16,'1-Phase de poule-Sport 1'!$H$22:$I$27,2,FALSE) -> Nom équipe 9
A8: B | B8: =+VLOOKUP('Param. - Transition'!B$16,'1-Phase de poule-Sport 1'!$S$22:$T$27,2,FALSE) -> Nom équipe 6 | C8: =+VLOOKUP('Param. - Transition'!C$16,'1-Phase de poule-Sport 1'!$S$22:$T$27,2,FALSE) -> Nom équipe 4 | D8: =+VLOOKUP('Param. - Transition'!D$16,'1-Phase de poule-Sport 1'!$S$22:$T$27,2,FALSE) -> Nom équipe 2 | E8: =+VLOOKUP('Param. - Transition'!E$16,'1-Phase de poule-Sport 1'!$S$22:$T$27,2,FALSE) -> Nom équipe 8 | F8: =+VLOOKUP('Param. - Transition'!F$16,'1-Phase de poule-Sport 1'!$S$22:$T$27,2,FALSE) -> Nom équipe 10 | G8: =+VLOOKUP('Param. - Transition'!G$16,'1-Phase de poule-Sport 1'!$S$22:$T$27,2,FALSE) -> Nom équipe 12
B14: Phase de Poule vers phase de classement - Sport 2
B16: 1 | C16: 2 | D16: 3 | E16: 4 | F16: 5 | G16: 6
A17: A | B17: =+VLOOKUP('Param. - Transition'!B$16,'1-Phase de poule-Sport 2'!$H$22:$I$27,2,FALSE) -> Nom équipe 4 A | C17: =+VLOOKUP('Param. - Transition'!C$16,'1-Phase de poule-Sport 2'!$H$22:$I$27,2,FALSE) -> Nom équipe 5 A | D17: =+VLOOKUP('Param. - Transition'!D$16,'1-Phase de poule-Sport 2'!$H$22:$I$27,2,FALSE) -> Nom équipe 6 A | E17: =+VLOOKUP('Param. - Transition'!E$16,'1-Phase de poule-Sport 2'!$H$22:$I$27,2,FALSE) -> Nom équipe 3 A | F17: =+VLOOKUP('Param. - Transition'!F$16,'1-Phase de poule-Sport 2'!$H$22:$I$27,2,FALSE) -> Nom équipe 2 A | G17: =+VLOOKUP('Param. - Transition'!G$16,'1-Phase de poule-Sport 2'!$H$22:$I$27,2,FALSE) -> Nom équipe 1 A
A18: B | B18: =+VLOOKUP('Param. - Transition'!B$16,'1-Phase de poule-Sport 2'!$S$22:$T$27,2,FALSE) -> Nom équipe 10 A | C18: =+VLOOKUP('Param. - Transition'!C$16,'1-Phase de poule-Sport 2'!$S$22:$T$27,2,FALSE) -> Nom équipe 11 A | D18: =+VLOOKUP('Param. - Transition'!D$16,'1-Phase de poule-Sport 2'!$S$22:$T$27,2,FALSE) -> Nom équipe 12 A | E18: =+VLOOKUP('Param. - Transition'!E$16,'1-Phase de poule-Sport 2'!$S$22:$T$27,2,FALSE) -> Nom équipe 9 A | F18: =+VLOOKUP('Param. - Transition'!F$16,'1-Phase de poule-Sport 2'!$S$22:$T$27,2,FALSE) -> Nom équipe 8 A | G18: =+VLOOKUP('Param. - Transition'!G$16,'1-Phase de poule-Sport 2'!$S$22:$T$27,2,FALSE) -> Nom équipe 7 A
A19: C | B19: =+VLOOKUP('Param. - Transition'!B$16,'1-Phase de poule-Sport 2'!$AD$22:$AE$27,2,FALSE) -> Nom équipe 3 B | C19: =+VLOOKUP('Param. - Transition'!C$16,'1-Phase de poule-Sport 2'!$AD$22:$AE$27,2,FALSE) -> Nom équipe 2 B | D19: =+VLOOKUP('Param. - Transition'!D$16,'1-Phase de poule-Sport 2'!$AD$22:$AE$27,2,FALSE) -> Nom équipe 1 B | E19: =+VLOOKUP('Param. - Transition'!E$16,'1-Phase de poule-Sport 2'!$AD$22:$AE$27,2,FALSE) -> Nom équipe 4 B | F19: =+VLOOKUP('Param. - Transition'!F$16,'1-Phase de poule-Sport 2'!$AD$22:$AE$27,2,FALSE) -> Nom équipe 5 B | G19: =+VLOOKUP('Param. - Transition'!G$16,'1-Phase de poule-Sport 2'!$AD$22:$AE$27,2,FALSE) -> Nom équipe 6 B
A20: D | B20: =+VLOOKUP('Param. - Transition'!B$16,'1-Phase de poule-Sport 2'!$AO$22:$AP$27,2,FALSE) -> Nom équipe 9 B | C20: =+VLOOKUP('Param. - Transition'!C$16,'1-Phase de poule-Sport 2'!$AO$22:$AP$27,2,FALSE) -> Nom équipe 8 B | D20: =+VLOOKUP('Param. - Transition'!D$16,'1-Phase de poule-Sport 2'!$AO$22:$AP$27,2,FALSE) -> Nom équipe 7 B | E20: =+VLOOKUP('Param. - Transition'!E$16,'1-Phase de poule-Sport 2'!$AO$22:$AP$27,2,FALSE) -> Nom équipe 10 B | F20: =+VLOOKUP('Param. - Transition'!F$16,'1-Phase de poule-Sport 2'!$AO$22:$AP$27,2,FALSE) -> Nom équipe 11 B | G20: =+VLOOKUP('Param. - Transition'!G$16,'1-Phase de poule-Sport 2'!$AO$22:$AP$27,2,FALSE) -> Nom équipe 12 B

Sheet Paramétrage
A1: W
A2: N | E2: Equipes participants | F2: Binome A | G2: Binome A | I2: Sport | J2: Foot | K2: Sport en équipe
A3: L | E3: ='Point équipe'!A4 -> Nom équipe 1 | F3: =E3&" A" -> Nom équipe 1 A | G3: =E3&" B" -> Nom équipe 1 B | I3: Sport | J3: Padel | K3: Sport en binôme
E4: ='Point équipe'!A5 -> Nom équipe 2 | F4: =E4&" A" -> Nom équipe 2 A | G4: =E4&" B" -> Nom équipe 2 B
B5: OZAIPEOIAE | E5: ='Point équipe'!A6 -> Nom équipe 3 | F5: =E5&" A" -> Nom équipe 3 A | G5: =E5&" B" -> Nom équipe 3 B
B6: OZAIPEOIAE | E6: ='Point équipe'!A7 -> Nom équipe 4 | F6: =E6&" A" -> Nom équipe 4 A | G6: =E6&" B" -> Nom équipe 4 B
B7: OZAIPEOIAE | E7: ='Point équipe'!A8 -> Nom équipe 5 | F7: =E7&" A" -> Nom équipe 5 A | G7: =E7&" B" -> Nom équipe 5 B
B8: OZAIPEOIAE | E8: ='Point équipe'!A9 -> Nom équipe 6 | F8: =E8&" A" -> Nom équipe 6 A | G8: =E8&" B" -> Nom équipe 6 B
B9: OZAIPEOIAE | E9: ='Point équipe'!A10 -> Nom équipe 7 | F9: =E9&" A" -> Nom équipe 7 A | G9: =E9&" B" -> Nom équipe 7 B
B10: OZAIPEOIAE | E10: ='Point équipe'!A11 -> Nom équipe 8 | F10: =E10&" A" -> Nom équipe 8 A | G10: =E10&" B" -> Nom équipe 8 B
B11: OZAIPEOIAE | E11: ='Point équipe'!A12 -> Nom équipe 9 | F11: =E11&" A" -> Nom équipe 9 A | G11: =E11&" B" -> Nom équipe 9 B
B12: OZAIPEOIAE | E12: ='Point équipe'!A13 -> Nom équipe 10 | F12: =E12&" A" -> Nom équipe 10 A | G12: =E12&" B" -> Nom équipe 10 B
B13: OZAIPEOIAE | E13: ='Point équipe'!A14 -> Nom équipe 11 | F13: =E13&" A" -> Nom équipe 11 A | G13: =E13&" B" -> Nom équipe 11 B
B14: OZAIPEOIAE | E14: ='Point équipe'!A15 -> Nom équipe 12 | F14: =E14&" A" -> Nom équipe 12 A | G14: =E14&" B" -> Nom équipe 12 B
D16: ="Paramétrage Poule - "&Paramétrage!$J$2 -> Paramétrage Poule - Foot | E16: ="Paramétrage Poule - "&Paramétrage!$J$3 -> Paramétrage Poule - Padel | F16: ="Paramétrage Classement - "&Paramétrage!$J$2 -> Paramétrage Classement - Foot | G16: ="Paramétrage Classement - "&Paramétrage!$J$3 -> Paramétrage Classement - Padel
B17: Horaire de début | D17: 0.41666667 | E17: 0.58333333 | F17: 0.5 | G17: 0.70833333
B18: Temps match | D18: 0.00625 | E18: 0.00625 | F18: 0.00625 | G18: 0.00625
B19: Entre match | D19: 0.0020833333 | E19: 0.0020833333 | F19: 0.0020833333 | G19: 0.0020833333
B20: Passage à phase de classement
B21: Fin poule 1 | D21: ='1-Phase de poule-Sport 1'!C20 -> 0.5 | E21: ='1-Phase de poule-Sport 2'!C20 -> 0.70833333
B22: Fin poule 2
B23: Fin tournoi | F23: ='2-Phase de classement-Sport 1'!$H$55 -> 0.54166667 | G23: ='2-Phase de classement-Sport 2'!R55 -> 0.775
B33: Nombre point de victoire | C33: 3
B34: Nombre point le nul | C34: 2
B35: Nombre point la défaite | C35: 1

Sheet FdM
B2: Feuille de match | M2: Feuille de match
E7: ="POULE A - "&Paramétrage!$J$3 -> POULE A - Padel | P7: ="POULE B - "&Paramétrage!$J$3 -> POULE B - Padel
E9: Nom équipe | F9: W/L | G9: Dif. | I9: Nom équipe | J9: W/L | K9: Dif. | P9: Nom équipe | Q9: W/L | R9: Dif. | T9: Nom équipe | U9: W/L | V9: Dif.
A10: #REF! | B10: ='1-Phase de poule-Sport 1'!B5 -> T1 | C10: ='1-Phase de poule-Sport 1'!C5 -> 0.41666667 | E10: ='1-Phase de poule-Sport 1'!E5 -> Nom équipe 11 | H10: ='1-Phase de poule-Sport 1'!H5 -> VS | I10: ='1-Phase de poule-Sport 1'!I5 -> Nom équipe 5 | M10: =+'1-Phase de poule-Sport 1'!M5 -> T2 | N10: =+'1-Phase de poule-Sport 1'!N5 -> 0.41666667 | P10: =+'1-Phase de poule-Sport 1'!P5 -> Nom équipe 12 | S10: =+'1-Phase de poule-Sport 1'!S5 -> VS | T10: =+'1-Phase de poule-Sport 1'!T5 -> Nom équipe 6
A11: #REF! | B11: =+'1-Phase de poule-Sport 1'!B6 -> T3 | C11: =+'1-Phase de poule-Sport 1'!C6 -> 0.41666667 | E11: ='1-Phase de poule-Sport 1'!E6 -> Nom équipe 9 | H11: ='1-Phase de poule-Sport 1'!H6 -> VS | I11: ='1-Phase de poule-Sport 1'!I6 -> Nom équipe 3 | M11: =+'1-Phase de poule-Sport 1'!M6 -> T2 | N11: =+'1-Phase de poule-Sport 1'!N6 -> 0.425 | P11: =+'1-Phase de poule-Sport 1'!P6 -> Nom équipe 10 | S11: =+'1-Phase de poule-Sport 1'!S6 -> VS | T11: =+'1-Phase de poule-Sport 1'!T6 -> Nom équipe 4
A12: ='1-Phase de poule-Sport 1'!A7 -> 0 | B12: ='1-Phase de poule-Sport 1'!B7 -> T1 | C12: ='1-Phase de poule-Sport 1'!C7 -> 0.425 | D12: ='1-Phase de poule-Sport 1'!D7 -> 0 | E12: ='1-Phase de poule-Sport 1'!E7 -> Nom équipe 7 | H12: ='1-Phase de poule-Sport 1'!H7 -> VS | I12: ='1-Phase de poule-Sport 1'!I7 -> Nom équipe 1 | M12: ='1-Phase de poule-Sport 1'!M7 -> T3 | N12: ='1-Phase de poule-Sport 1'!N7 -> 0.425 | O12: ='1-Phase de poule-Sport 1'!O7 -> 0 | P12: ='1-Phase de poule-Sport 1'!P7 -> Nom équipe 8 | S12: ='1-Phase de poule-Sport 1'!S7 -> VS | T12: =+'1-Phase de poule-Sport 1'!T7 -> Nom équipe 2 | W12: ='1-Phase de poule-Sport 1'!W7 -> 0 | X12: ='1-Phase de poule-Sport 1'!X7 -> 0
A13: ='1-Phase de poule-Sport 1'!A8 -> 0 | B13: ='1-Phase de poule-Sport 1'!B8 -> T1 | C13: ='1-Phase de poule-Sport 1'!C8 -> 0.43333333 | D13: ='1-Phase de poule-Sport 1'!D8 -> 0 | E13: ='1-Phase de poule-Sport 1'!E8 -> Nom équipe 11 | H13: ='1-Phase de poule-Sport 1'!H8 -> VS | I13: ='1-Phase de poule-Sport 1'!I8 -> Nom équipe 3 | M13: ='1-Phase de poule-Sport 1'!M8 -> T2 | N13: ='1-Phase de poule-Sport 1'!N8 -> 0.43333333 | O13: ='1-Phase de poule-Sport 1'!O8 -> 0 | P13: ='1-Phase de poule-Sport 1'!P8 -> Nom équipe 12 | S13: ='1-Phase de poule-Sport 1'!S8 -> VS | T13: =+'1-Phase de poule-Sport 1'!T8 -> Nom équipe 4 | W13: ='1-Phase de poule-Sport 1'!W8 -> 0 | X13: ='1-Phase de poule-Sport 1'!X8 -> 0
A14: ='1-Phase de poule-Sport 1'!A9 -> 0 | B14: ='1-Phase de poule-Sport 1'!B9 -> T3 | C14: ='1-Phase de poule-Sport 1'!C9 -> 0.43333333 | D14: ='1-Phase de poule-Sport 1'!D9 -> 0 | E14: ='1-Phase de poule-Sport 1'!E9 -> Nom équipe 1 | H14: ='1-Phase de poule-Sport 1'!H9 -> VS | I14: ='1-Phase de poule-Sport 1'!I9 -> Nom équipe 5 | M14: ='1-Phase de poule-Sport 1'!M9 -> T2 | N14: ='1-Phase de poule-Sport 1'!N9 -> 0.44166667 | O14: ='1-Phase de poule-Sport 1'!O9 -> 0 | P14: ='1-Phase de poule-Sport 1'!P9 -> Nom équipe 2 | S14: ='1-Phase de poule-Sport 1'!S9 -> VS | T14: =+'1-Phase de poule-Sport 1'!T9 -> Nom équipe 6 | W14: ='1-Phase de poule-Sport 1'!W9 -> 0 | X14: ='1-Phase de poule-Sport 1'!X9 -> 0
A15: ='1-Phase de poule-Sport 1'!A10 -> 0 | B15: ='1-Phase de poule-Sport 1'!B10 -> T1 | C15: ='1-Phase de poule-Sport 1'!C10 -> 0.44166667 | D15: ='1-Phase de poule-Sport 1'!D10 -> 0 | E15: ='1-Phase de poule-Sport 1'!E10 -> Nom équipe 9 | H15: ='1-Phase de poule-Sport 1'!H10 -> VS | I15: ='1-Phase de poule-Sport 1'!I10 -> Nom équipe 7 | M15: ='1-Phase de poule-Sport 1'!M10 -> T3 | N15: ='1-Phase de poule-Sport 1'!N10 -> 0.44166667 | O15: ='1-Phase de poule-Sport 1'!O10 -> 0 | P15: ='1-Phase de poule-Sport 1'!P10 -> Nom équipe 10 | S15: ='1-Phase de poule-Sport 1'!S10 -> VS | T15: =+'1-Phase de poule-Sport 1'!T10 -> Nom équipe 8 | W15: ='1-Phase de poule-Sport 1'!W10 -> 0 | X15: ='1-Phase de poule-Sport 1'!X10 -> 0
A16: ='1-Phase de poule-Sport 1'!A11 -> 0 | B16: ='1-Phase de poule-Sport 1'!B11 -> T3 | C16: ='1-Phase de poule-Sport 1'!C11 -> 0.45 | D16: ='1-Phase de poule-Sport 1'!D11 -> 0 | E16: ='1-Phase de poule-Sport 1'!E11 -> Nom équipe 11 | H16: ='1-Phase de poule-Sport 1'!H11 -> VS | I16: ='1-Phase de poule-Sport 1'!I11 -> Nom équipe 1 | M16: ='1-Phase de poule-Sport 1'!M11 -> T2 | N16: ='1-Phase de poule-Sport 1'!N11 -> 0.45 | O16: ='1-Phase de poule-Sport 1'!O11 -> 0 | P16: ='1-Phase de poule-Sport 1'!P11 -> Nom équipe 12 | S16: ='1-Phase de poule-Sport 1'!S11 -> VS | T16: =+'1-Phase de poule-Sport 1'!T11 -> Nom équipe 2 | W16: ='1-Phase de poule-Sport 1'!W11 -> 0 | X16: ='1-Phase de poule-Sport 1'!X11 -> 0
A17: ='1-Phase de poule-Sport 1'!A12 -> 0 | B17: ='1-Phase de poule-Sport 1'!B12 -> T1 | C17: ='1-Phase de poule-Sport 1'!C12 -> 0.45 | D17: ='1-Phase de poule-Sport 1'!D12 -> 0 | E17: ='1-Phase de poule-Sport 1'!E12 -> Nom équipe 7 | H17: ='1-Phase de poule-Sport 1'!H12 -> VS | I17: ='1-Phase de poule-Sport 1'!I12 -> Nom équipe 3 | M17: ='1-Phase de poule-Sport 1'!M12 -> T2 | N17: ='1-Phase de poule-Sport 1'!N12 -> 0.45833333 | O17: ='1-Phase de poule-Sport 1'!O12 -> 0 | P17: ='1-Phase de poule-Sport 1'!P12 -> Nom équipe 8 | S17: ='1-Phase de poule-Sport 1'!S12 -> VS | T17: =+'1-Phase de poule-Sport 1'!T12 -> Nom équipe 4 | W17: ='1-Phase de poule-Sport 1'!W12 -> 0 | X17: ='1-Phase de poule-Sport 1'!X12 -> 0
A18: ='1-Phase de poule-Sport 1'!A13 -> 0 | B18: ='1-Phase de poule-Sport 1'!B13 -> T3 | C18: ='1-Phase de poule-Sport 1'!C13 -> 0.45833333 | D18: ='1-Phase de poule-Sport 1'!D13 -> 0 | E18: ='1-Phase de poule-Sport 1'!E13 -> Nom équipe 9 | H18: ='1-Phase de poule-Sport 1'!H13 -> VS | I18: ='1-Phase de poule-Sport 1'!I13 -> Nom équipe 5 | M18: ='1-Phase de poule-Sport 1'!M13 -> T3 | N18: ='1-Phase de poule-Sport 1'!N13 -> 0.45833333 | O18: ='1-Phase de poule-Sport 1'!O13 -> 0 | P18: ='1-Phase de poule-Sport 1'!P13 -> Nom équipe 10 | S18: ='1-Phase de poule-Sport 1'!S13 -> VS | T18: =+'1-Phase de poule-Sport 1'!T13 -> Nom équipe 6 | W18: ='1-Phase de poule-Sport 1'!W13 -> 0 | X18: ='1-Phase de poule-Sport 1'!X13 -> 0
A19: ='1-Phase de poule-Sport 1'!A14 -> 0 | B19: ='1-Phase de poule-Sport 1'!B14 -> T1 | C19: ='1-Phase de poule-Sport 1'!C14 -> 0.46666667 | D19: ='1-Phase de poule-Sport 1'!D14 -> 0 | E19: ='1-Phase de poule-Sport 1'!E14 -> Nom équipe 11 | H19: ='1-Phase de poule-Sport 1'!H14 -> VS | I19: ='1-Phase de poule-Sport 1'!I14 -> Nom équipe 7 | M19: ='1-Phase de poule-Sport 1'!M14 -> T2 | N19: ='1-Phase de poule-Sport 1'!N14 -> 0.46666667 | O19: ='1-Phase de poule-Sport 1'!O14 -> 0 | P19: ='1-Phase de poule-Sport 1'!P14 -> Nom équipe 12 | S19: ='1-Phase de poule-Sport 1'!S14 -> VS | T19: =+'1-Phase de poule-Sport 1'!T14 -> Nom équipe 8 | W19: ='1-Phase de poule-Sport 1'!W14 -> 0 | X19: ='1-Phase de poule-Sport 1'!X14 -> 0
A20: ='1-Phase de poule-Sport 1'!A15 -> 0 | B20: ='1-Phase de poule-Sport 1'!B15 -> T1 | C20: ='1-Phase de poule-Sport 1'!C15 -> 0.46666667 | D20: ='1-Phase de poule-Sport 1'!D15 -> 0 | E20: ='1-Phase de poule-Sport 1'!E15 -> Nom équipe 9 | H20: ='1-Phase de poule-Sport 1'!H15 -> VS | I20: ='1-Phase de poule-Sport 1'!I15 -> Nom équipe 1 | M20: ='1-Phase de poule-Sport 1'!M15 -> T2 | N20: ='1-Phase de poule-Sport 1'!N15 -> 0.475 | O20: ='1-Phase de poule-Sport 1'!O15 -> 0 | P20: ='1-Phase de poule-Sport 1'!P15 -> Nom équipe 10 | S20: ='1-Phase de poule-Sport 1'!S15 -> VS | T20: =+'1-Phase de poule-Sport 1'!T15 -> Nom équipe 2 | W20: ='1-Phase de poule-Sport 1'!W15 -> 0 | X20: ='1-Phase de poule-Sport 1'!X15 -> 0
A21: ='1-Phase de poule-Sport 1'!A16 -> 0 | B21: ='1-Phase de poule-Sport 1'!B16 -> T3 | C21: ='1-Phase de poule-Sport 1'!C16 -> 0.475 | D21: ='1-Phase de poule-Sport 1'!D16 -> 0 | E21: ='1-Phase de poule-Sport 1'!E16 -> Nom équipe 3 | H21: ='1-Phase de poule-Sport 1'!H16 -> VS | I21: ='1-Phase de poule-Sport 1'!I16 -> Nom équipe 5 | M21: ='1-Phase de poule-Sport 1'!M16 -> T3 | N21: ='1-Phase de poule-Sport 1'!N16 -> 0.475 | O21: ='1-Phase de poule-Sport 1'!O16 -> 0 | P21: ='1-Phase de poule-Sport 1'!P16 -> Nom équipe 4 | S21: ='1-Phase de poule-Sport 1'!S16 -> VS | T21: =+'1-Phase de poule-Sport 1'!T16 -> Nom équipe 6 | W21: ='1-Phase de poule-Sport 1'!W16 -> 0 | X21: ='1-Phase de poule-Sport 1'!X16 -> 0
A22: ='1-Phase de poule-Sport 1'!A17 -> 0 | B22: ='1-Phase de poule-Sport 1'!B17 -> T1 | C22: ='1-Phase de poule-Sport 1'!C17 -> 0.48333333 | D22: ='1-Phase de poule-Sport 1'!D17 -> 0 | E22: ='1-Phase de poule-Sport 1'!E17 -> Nom équipe 11 | H22: ='1-Phase de poule-Sport 1'!H17 -> VS | I22: ='1-Phase de poule-Sport 1'!I17 -> Nom équipe 9 | M22: ='1-Phase de poule-Sport 1'!M17 -> T2 | N22: ='1-Phase de poule-Sport 1'!N17 -> 0.48333333 | O22: ='1-Phase de poule-Sport 1'!O17 -> 0 | P22: ='1-Phase de poule-Sport 1'!P17 -> Nom équipe 12 | S22: ='1-Phase de poule-Sport 1'!S17 -> VS | T22: =+'1-Phase de poule-Sport 1'!T17 -> Nom équipe 10 | W22: ='1-Phase de poule-Sport 1'!W17 -> 0 | X22: ='1-Phase de poule-Sport 1'!X17 -> 0
A23: ='1-Phase de poule-Sport 1'!A18 -> 0 | B23: ='1-Phase de poule-Sport 1'!B18 -> T3 | C23: ='1-Phase de poule-Sport 1'!C18 -> 0.48333333 | D23: ='1-Phase de poule-Sport 1'!D18 -> 0 | E23: ='1-Phase de poule-Sport 1'!E18 -> Nom équipe 7 | H23: ='1-Phase de poule-Sport 1'!H18 -> VS | I23: ='1-Phase de poule-Sport 1'!I18 -> Nom équipe 5 | M23: ='1-Phase de poule-Sport 1'!M18 -> T2 | N23: ='1-Phase de poule-Sport 1'!N18 -> 0.49166667 | O23: ='1-Phase de poule-Sport 1'!O18 -> 0 | P23: ='1-Phase de poule-Sport 1'!P18 -> Nom équipe 8 | S23: ='1-Phase de poule-Sport 1'!S18 -> VS | T23: =+'1-Phase de poule-Sport 1'!T18 -> Nom équipe 6 | W23: ='1-Phase de poule-Sport 1'!W18 -> 0 | X23: ='1-Phase de poule-Sport 1'!X18 -> 0
A24: ='1-Phase de poule-Sport 1'!A19 -> 0 | B24: ='1-Phase de poule-Sport 1'!B19 -> T1 | C24: ='1-Phase de poule-Sport 1'!C19 -> 0.49166667 | D24: ='1-Phase de poule-Sport 1'!D19 -> 0 | E24: ='1-Phase de poule-Sport 1'!E19 -> Nom équipe 1 | H24: ='1-Phase de poule-Sport 1'!H19 -> VS | I24: ='1-Phase de poule-Sport 1'!I19 -> Nom équipe 3 | M24: ='1-Phase de poule-Sport 1'!M19 -> T3 | N24: ='1-Phase de poule-Sport 1'!N19 -> 0.49166667 | O24: ='1-Phase de poule-Sport 1'!O19 -> 0 | P24: ='1-Phase de poule-Sport 1'!P19 -> Nom équipe 2 | S24: ='1-Phase de poule-Sport 1'!S19 -> VS | T24: =+'1-Phase de poule-Sport 1'!T19 -> Nom équipe 4 | W24: ='1-Phase de poule-Sport 1'!W19 -> 0 | X24: ='1-Phase de poule-Sport 1'!X19 -> 0
A25: =+'1-Phase de poule-Sport 1'!A20 -> 0 | C25: =+'1-Phase de poule-Sport 1'!C20 -> 0.5 | N25: =+'1-Phase de poule-Sport 1'!N20 -> 0.5

Sheet 1-Phase de poule-Sport 1
E2: POULE A | P2: POULE B
E4: Nom équipe | F4: W/L | G4: Dif. | I4: Nom équipe | J4: W/L | K4: Dif. | P4: Nom équipe | Q4: W/L | R4: Dif. | T4: Nom équipe | U4: W/L | V4: Dif.
B5: T1 | C5: =Paramétrage!D17 -> 0.41666667 | E5: =+Paramétrage!E13 -> Nom équipe 11 | F5: W | H5: VS | I5: =+Paramétrage!E7 -> Nom équipe 5 | J5: =IF(F5="W","L",IF(F5="L","W","N")) -> L | K5: =-G5 -> 0 | M5: T2 | N5: =C5 -> 0.41666667 | P5: =+Paramétrage!E14 -> Nom équipe 12 | Q5: l | S5: VS | T5: =+Paramétrage!E8 -> Nom équipe 6 | U5: =IF(Q5="W","L",IF(Q5="L","W","N")) -> W | V5: =-R5 -> 0
B6: T3 | C6: =C5 -> 0.41666667 | E6: =+Paramétrage!E11 -> Nom équipe 9 | H6: VS | I6: =+Paramétrage!E5 -> Nom équipe 3 | J6: =IF(F6="W","L",IF(F6="L","W","N")) -> N | K6: =-G6 -> 0 | M6: T2 | N6: =C7 -> 0.425 | P6: =+Paramétrage!E12 -> Nom équipe 10 | S6: VS | T6: =+Paramétrage!E6 -> Nom équipe 4 | U6: =IF(Q6="W","L",IF(Q6="L","W","N")) -> N | V6: =-R6 -> 0
B7: T1 | C7: =C6+Paramétrage!$D$18+Paramétrage!$D$19 -> 0.425 | E7: =+Paramétrage!E9 -> Nom équipe 7 | H7: VS | I7: =+Paramétrage!E3 -> Nom équipe 1 | J7: =IF(F7="W","L",IF(F7="L","W","N")) -> N | K7: =-G7 -> 0 | M7: T3 | N7: =C7 -> 0.425 | P7: =+Paramétrage!E10 -> Nom équipe 8 | S7: VS | T7: =+Paramétrage!E4 -> Nom équipe 2 | U7: =IF(Q7="W","L",IF(Q7="L","W","N")) -> N | V7: =-R7 -> 0
B8: T1 | C8: =C7+Paramétrage!$D$18+Paramétrage!$D$19 -> 0.43333333 | E8: =E5 -> Nom équipe 11 | H8: VS | I8: =I6 -> Nom équipe 3 | J8: =IF(F8="W","L",IF(F8="L","W","N")) -> N | K8: =-G8 -> 0 | M8: T2 | N8: =C8 -> 0.43333333 | P8: =P5 -> Nom équipe 12 | S8: VS | T8: =T6 -> Nom équipe 4 | U8: =IF(Q8="W","L",IF(Q8="L","W","N")) -> N | V8: =-R8 -> 0
B9: T3 | C9: =C8 -> 0.43333333 | E9: =I7 -> Nom équipe 1 | H9: VS | I9: =I5 -> Nom équipe 5 | J9: =IF(F9="W","L",IF(F9="L","W","N")) -> N | K9: =-G9 -> 0 | M9: T2 | N9: =C10 -> 0.44166667 | P9: =T7 -> Nom équipe 2 | S9: VS | T9: =T5 -> Nom équipe 6 | U9: =IF(Q9="W","L",IF(Q9="L","W","N")) -> N | V9: =-R9 -> 0
B10: T1 | C10: =C9+Paramétrage!$D$18+Paramétrage!$D$19 -> 0.44166667 | E10: =E6 -> Nom équipe 9 | H10: VS | I10: =E7 -> Nom équipe 7 | J10: =IF(F10="W","L",IF(F10="L","W","N")) -> N | K10: =-G10 -> 0 | M10: T3 | N10: =C10 -> 0.44166667 | P10: =P6 -> Nom équipe 10 | S10: VS | T10: =P7 -> Nom équipe 8 | U10: =IF(Q10="W","L",IF(Q10="L","W","N")) -> N | V10: =-R10 -> 0
B11: T3 | C11: =C10+Paramétrage!$D$18+Paramétrage!$D$19 -> 0.45 | E11: =E5 -> Nom équipe 11 | H11: VS | I11: =I7 -> Nom équipe 1 | J11: =IF(F11="W","L",IF(F11="L","W","N")) -> N | K11: =-G11 -> 0 | M11: T2 | N11: =C11 -> 0.45 | P11: =P5 -> Nom équipe 12 | S11: VS | T11: =T7 -> Nom équipe 2 | U11: =IF(Q11="W","L",IF(Q11="L","W","N")) -> N | V11: =-R11 -> 0
B12: T1 | C12: =C11 -> 0.45 | E12: =E7 -> Nom équipe 7 | H12: VS | I12: =I6 -> Nom équipe 3 | J12: =IF(F12="W","L",IF(F12="L","W","N")) -> N | K12: =-G12 -> 0 | M12: T2 | N12: =C13 -> 0.45833333 | P12: =P7 -> Nom équipe 8 | S12: VS | T12: =T6 -> Nom équipe 4 | U12: =IF(Q12="W","L",IF(Q12="L","W","N")) -> N | V12: =-R12 -> 0
B13: T3 | C13: =C12+Paramétrage!$D$18+Paramétrage!$D$19 -> 0.45833333 | E13: =E6 -> Nom équipe 9 | H13: VS | I13: =I5 -> Nom équipe 5 | J13: =IF(F13="W","L",IF(F13="L","W","N")) -> N | K13: =-G13 -> 0 | M13: T3 | N13: =C13 -> 0.45833333 | P13: =P6 -> Nom équipe 10 | S13: VS | T13: =T5 -> Nom équipe 6 | U13: =IF(Q13="W","L",IF(Q13="L","W","N")) -> N | V13: =-R13 -> 0
B14: T1 | C14: =C13+Paramétrage!$D$18+Paramétrage!$D$19 -> 0.46666667 | E14: =E5 -> Nom équipe 11 | H14: VS | I14: =E7 -> Nom équipe 7 | J14: =IF(F14="W","L",IF(F14="L","W","N")) -> N | K14: =-G14 -> 0 | M14: T2 | N14: =C14 -> 0.46666667 | P14: =P5 -> Nom équipe 12 | S14: VS | T14: =P7 -> Nom équipe 8 | U14: =IF(Q14="W","L",IF(Q14="L","W","N")) -> N | V14: =-R14 -> 0
B15: T1 | C15: =C14 -> 0.46666667 | E15: =E6 -> Nom équipe 9 | H15: VS | I15: =I7 -> Nom équipe 1 | J15: =IF(F15="W","L",IF(F15="L","W","N")) -> N | K15: =-G15 -> 0 | M15: T2 | N15: =C16 -> 0.475 | P15: =P6 -> Nom équipe 10 | S15: VS | T15: =T7 -> Nom équipe 2 | U15: =IF(Q15="W","L",IF(Q15="L","W","N")) -> N | V15: =-R15 -> 0
B16: T3 | C16: =C15+Paramétrage!$D$18+Paramétrage!$D$19 -> 0.475 | E16: =I6 -> Nom équipe 3 | H16: VS | I16: =I5 -> Nom équipe 5 | J16: =IF(F16="W","L",IF(F16="L","W","N")) -> N | K16: =-G16 -> 0 | M16: T3 | N16: =C16 -> 0.475 | P16: =T6 -> Nom équipe 4 | S16: VS | T16: =T5 -> Nom équipe 6 | U16: =IF(Q16="W","L",IF(Q16="L","W","N")) -> N | V16: =-R16 -> 0
B17: T1 | C17: =C16+Paramétrage!$D$18+Paramétrage!$D$19 -> 0.48333333 | E17: =E5 -> Nom équipe 11 | H17: VS | I17: =E6 -> Nom équipe 9 | J17: =IF(F17="W","L",IF(F17="L","W","N")) -> N | K17: =-G17 -> 0 | M17: T2 | N17: =C17 -> 0.48333333 | P17: =P5 -> Nom équipe 12 | S17: VS | T17: =P6 -> Nom équipe 10 | U17: =IF(Q17="W","L",IF(Q17="L","W","N")) -> N | V17: =-R17 -> 0
B18: T3 | C18: =C17 -> 0.48333333 | E18: =E7 -> Nom équipe 7 | H18: VS | I18: =I5 -> Nom équipe 5 | J18: =IF(F18="W","L",IF(F18="L","W","N")) -> N | K18: =-G18 -> 0 | M18: T2 | N18: =C19 -> 0.49166667 | P18: =P7 -> Nom équipe 8 | S18: VS | T18: =T5 -> Nom équipe 6 | U18: =IF(Q18="W","L",IF(Q18="L","W","N")) -> N | V18: =-R18 -> 0
B19: T1 | C19: =C18+Paramétrage!$D$18+Paramétrage!$D$19 -> 0.49166667 | E19: =I7 -> Nom équipe 1 | H19: VS | I19: =I6 -> Nom équipe 3 | J19: =IF(F19="W","L",IF(F19="L","W","N")) -> N | K19: =-G19 -> 0 | M19: T3 | N19: =C19 -> 0.49166667 | P19: =T7 -> Nom équipe 2 | S19: VS | T19: =T6 -> Nom équipe 4 | U19: =IF(Q19="W","L",IF(Q19="L","W","N")) -> N | V19: =-R19 -> 0
C20: =C19+Paramétrage!$D$18+Paramétrage!$D$19 -> 0.5 | N20: =C20 -> 0.5
E21: Nom équipe | F21: Pts | G21: Dif. | H21: Clas. | I21: Ne pas toucher | P21: Nom équipe | Q21: Pts | R21: Dif. | S21: Clas. | T21: Ne pas toucher
D22: =F22+G22/1000 -> 3 | E22: =E5 -> Nom équipe 11 | F22: =(COUNTIFS(J$5:J$19,"w",I$5:I$19,E22)+COUNTIFS(F$5:F$19,"w",E$5:E$19,E22))*Paramétrage!$C$33+(COUNTIFS(J$5:J$19,"N",I$5:I$19,E22)+COUNTIFS(F$5:F$19,"N",E$5:E$19,E22))*Paramétrage!$C$34+(COUNTIFS(J$5:J$19,"L",I$5:I$19,E22)+COUNTIFS(F$5:F$19,"L",E$5:E$19,E22))*Paramétrage!$C$35 -> 3 | G22: =SUMIF(E$5:G$19,E22,G$5:G$19)+SUMIF(I$5:K$19,E22,K$5:K$19) -> 0 | H22: =RANK(D22,D$22:D$27,0) -> 5 | I22: =E22 -> Nom équipe 11 | O22: =Q22+R22/1000 -> 1 | P22: =P5 -> Nom équipe 12 | Q22: =(COUNTIFS(U$5:U$19,"w",T$5:T$19,P22)+COUNTIFS(Q$5:Q$19,"w",P$5:P$19,P22))*Paramétrage!$C$33+(COUNTIFS(U$5:U$19,"N",T$5:T$19,P22)+COUNTIFS(Q$5:Q$19,"N",P$5:P$19,P22))*Paramétrage!$C$34+(COUNTIFS(U$5:U$19,"L",T$5:T$19,P22)+COUNTIFS(Q$5:Q$19,"L",P$5:P$19,P22))*Paramétrage!$C$35 -> 1 | R22: =SUMIF(P$5:R$19,P22,R$5:R$19)+SUMIF(T$5:V$19,P22,V$5:V$19) -> 0 | S22: =RANK(O22,O$22:O$27,0) -> 6 | T22: =P22 -> Nom équipe 12
D23: =F23+G23/1000 -> 2 | E23: =E6 -> Nom équipe 9 | F23: =(COUNTIFS(J$5:J$19,"w",I$5:I$19,E23)+COUNTIFS(F$5:F$19,"w",E$5:E$19,E23))*Paramétrage!$C$33+(COUNTIFS(J$5:J$19,"N",I$5:I$19,E23)+COUNTIFS(F$5:F$19,"N",E$5:E$19,E23))*Paramétrage!$C$34+(COUNTIFS(J$5:J$19,"L",I$5:I$19,E23)+COUNTIFS(F$5:F$19,"L",E$5:E$19,E23))*Paramétrage!$C$35 -> 2 | G23: =SUMIF(E$5:G$19,E23,G$5:G$19)+SUMIF(I$5:K$19,E23,K$5:K$19) -> 0 | H23: =RANK(D23,D$22:D$27,0) -> 6 | I23: =E23 -> Nom équipe 9 | O23: =Q23+R23/1000 -> 2 | P23: =P6 -> Nom équipe 10 | Q23: =(COUNTIFS(U$5:U$19,"w",T$5:T$19,P23)+COUNTIFS(Q$5:Q$19,"w",P$5:P$19,P23))*Paramétrage!$C$33+(COUNTIFS(U$5:U$19,"N",T$5:T$19,P23)+COUNTIFS(Q$5:Q$19,"N",P$5:P$19,P23))*Paramétrage!$C$34+(COUNTIFS(U$5:U$19,"L",T$5:T$19,P23)+COUNTIFS(Q$5:Q$19,"L",P$5:P$19,P23))*Paramétrage!$C$35 -> 2 | R23: =SUMIF(P$5:R$19,P23,R$5:R$19)+SUMIF(T$5:V$19,P23,V$5:V$19) -> 0 | S23: =RANK(O23,O$22:O$27,0) -> 5 | T23: =P23 -> Nom équipe 10
D24: =F24+G24/1000 -> 4 | E24: =E7 -> Nom équipe 7 | F24: =(COUNTIFS(J$5:J$19,"w",I$5:I$19,E24)+COUNTIFS(F$5:F$19,"w",E$5:E$19,E24))*Paramétrage!$C$33+(COUNTIFS(J$5:J$19,"N",I$5:I$19,E24)+COUNTIFS(F$5:F$19,"N",E$5:E$19,E24))*Paramétrage!$C$34+(COUNTIFS(J$5:J$19,"L",I$5:I$19,E24)+COUNTIFS(F$5:F$19,"L",E$5:E$19,E24))*Paramétrage!$C$35 -> 4 | G24: =SUMIF(E$5:G$19,E24,G$5:G$19)+SUMIF(I$5:K$19,E24,K$5:K$19) -> 0 | H24: =RANK(D24,D$22:D$27,0) -> 4 | I24: =E24 -> Nom équipe 7 | O24: =Q24+R24/1000 -> 4 | P24: =P7 -> Nom équipe 8 | Q24: =(COUNTIFS(U$5:U$19,"w",T$5:T$19,P24)+COUNTIFS(Q$5:Q$19,"w",P$5:P$19,P24))*Paramétrage!$C$33+(COUNTIFS(U$5:U$19,"N",T$5:T$19,P24)+COUNTIFS(Q$5:Q$19,"N",P$5:P$19,P24))*Paramétrage!$C$34+(COUNTIFS(U$5:U$19,"L",T$5:T$19,P24)+COUNTIFS(Q$5:Q$19,"L",P$5:P$19,P24))*Paramétrage!$C$35 -> 4 | R24: =SUMIF(P$5:R$19,P24,R$5:R$19)+SUMIF(T$5:V$19,P24,V$5:V$19) -> 0 | S24: =RANK(O24,O$22:O$27,0) -> 4 | T24: =P24 -> Nom équipe 8
D25: =F25+G25/1000 -> 9 | E25: =I5 -> Nom équipe 5 | F25: =(COUNTIFS(J$5:J$19,"w",I$5:I$19,E25)+COUNTIFS(F$5:F$19,"w",E$5:E$19,E25))*Paramétrage!$C$33+(COUNTIFS(J$5:J$19,"N",I$5:I$19,E25)+COUNTIFS(F$5:F$19,"N",E$5:E$19,E25))*Paramétrage!$C$34+(COUNTIFS(J$5:J$19,"L",I$5:I$19,E25)+COUNTIFS(F$5:F$19,"L",E$5:E$19,E25))*Paramétrage!$C$35 -> 9 | G25: =SUMIF(E$5:G$19,E25,G$5:G$19)+SUMIF(I$5:K$19,E25,K$5:K$19) -> 0 | H25: =RANK(D25,D$22:D$27,0) -> 1 | I25: =E25 -> Nom équipe 5 | O25: =Q25+R25/1000 -> 11 | P25: =T5 -> Nom équipe 6 | Q25: =(COUNTIFS(U$5:U$19,"w",T$5:T$19,P25)+COUNTIFS(Q$5:Q$19,"w",P$5:P$19,P25))*Paramétrage!$C$33+(COUNTIFS(U$5:U$19,"N",T$5:T$19,P25)+COUNTIFS(Q$5:Q$19,"N",P$5:P$19,P25))*Paramétrage!$C$34+(COUNTIFS(U$5:U$19,"L",T$5:T$19,P25)+COUNTIFS(Q$5:Q$19,"L",P$5:P$19,P25))*Paramétrage!$C$35 -> 11 | R25: =SUMIF(P$5:R$19,P25,R$5:R$19)+SUMIF(T$5:V$19,P25,V$5:V$19) -> 0 | S25: =RANK(O25,O$22:O$27,0) -> 1 | T25: =P25 -> Nom équipe 6
D26: =F26+G26/1000 -> 8 | E26: =I6 -> Nom équipe 3 | F26: =(COUNTIFS(J$5:J$19,"w",I$5:I$19,E26)+COUNTIFS(F$5:F$19,"w",E$5:E$19,E26))*Paramétrage!$C$33+(COUNTIFS(J$5:J$19,"N",I$5:I$19,E26)+COUNTIFS(F$5:F$19,"N",E$5:E$19,E26))*Paramétrage!$C$34+(COUNTIFS(J$5:J$19,"L",I$5:I$19,E26)+COUNTIFS(F$5:F$19,"L",E$5:E$19,E26))*Paramétrage!$C$35 -> 8 | G26: =SUMIF(E$5:G$19,E26,G$5:G$19)+SUMIF(I$5:K$19,E26,K$5:K$19) -> 0 | H26: =RANK(D26,D$22:D$27,0) -> 2 | I26: =E26 -> Nom équipe 3 | O26: =Q26+R26/1000 -> 8 | P26: =T6 -> Nom équipe 4 | Q26: =(COUNTIFS(U$5:U$19,"w",T$5:T$19,P26)+COUNTIFS(Q$5:Q$19,"w",P$5:P$19,P26))*Paramétrage!$C$33+(COUNTIFS(U$5:U$19,"N",T$5:T$19,P26)+COUNTIFS(Q$5:Q$19,"N",P$5:P$19,P26))*Paramétrage!$C$34+(COUNTIFS(U$5:U$19,"L",T$5:T$19,P26)+COUNTIFS(Q$5:Q$19,"L",P$5:P$19,P26))*Paramétrage!$C$35 -> 8 | R26: =SUMIF(P$5:R$19,P26,R$5:R$19)+SUMIF(T$5:V$19,P26,V$5:V$19) -> 0 | S26: =RANK(O26,O$22:O$27,0) -> 2 | T26: =P26 -> Nom équipe 4
D27: =F27+G27/1000 -> 6 | E27: =I7 -> Nom équipe 1 | F27: =(COUNTIFS(J$5:J$19,"w",I$5:I$19,E27)+COUNTIFS(F$5:F$19,"w",E$5:E$19,E27))*Paramétrage!$C$33+(COUNTIFS(J$5:J$19,"N",I$5:I$19,E27)+COUNTIFS(F$5:F$19,"N",E$5:E$19,E27))*Paramétrage!$C$34+(COUNTIFS(J$5:J$19,"L",I$5:I$19,E27)+COUNTIFS(F$5:F$19,"L",E$5:E$19,E27))*Paramétrage!$C$35 -> 6 | G27: =SUMIF(E$5:G$19,E27,G$5:G$19)+SUMIF(I$5:K$19,E27,K$5:K$19) -> 0 | H27: =RANK(D27,D$22:D$27,0) -> 3 | I27: =E27 -> Nom équipe 1 | O27: =Q27+R27/1000 -> 6 | P27: =T7 -> Nom équipe 2 | Q27: =(COUNTIFS(U$5:U$19,"w",T$5:T$19,P27)+COUNTIFS(Q$5:Q$19,"w",P$5:P$19,P27))*Paramétrage!$C$33+(COUNTIFS(U$5:U$19,"N",T$5:T$19,P27)+COUNTIFS(Q$5:Q$19,"N",P$5:P$19,P27))*Paramétrage!$C$34+(COUNTIFS(U$5:U$19,"L",T$5:T$19,P27)+COUNTIFS(Q$5:Q$19,"L",P$5:P$19,P27))*Paramétrage!$C$35 -> 6 | R27: =SUMIF(P$5:R$19,P27,R$5:R$19)+SUMIF(T$5:V$19,P27,V$5:V$19) -> 0 | S27: =RANK(O27,O$22:O$27,0) -> 3 | T27: =P27 -> Nom équipe 2

Sheet 2-Phase de classement-Sport 1
M2: Classement
M5: 1er | N5: =IF(I46="","",VLOOKUP("w",I45:J46,2,FALSE)) -> Nom équipe 6
M6: 2ème | N6: =IF(I46="","",VLOOKUP("l",I45:J46,2,FALSE)) -> Nom équipe 4
M7: 3ème | N7: =IF(I52="","",VLOOKUP("w",I51:J52,2,FALSE)) -> Nom équipe 3
E8: ='1-Phase de poule-Sport 1'!C20+Paramétrage!$F$18+Paramétrage!$F$19 -> 0.50833333 | F8: T1 | M8: 4ème | N8: =IF(I52="","",VLOOKUP("l",I51:J52,2,FALSE)) -> Nom équipe 5
E9: ='Param. - Transition'!F8 -> Nom équipe 10 | F9: W | G9: =E9 -> Nom équipe 10 | M9: 5ème | N9: =IF(I30="","",VLOOKUP("w",I29:J30,2,FALSE)) -> Nom équipe 2
E10: ='Param. - Transition'!G7 -> Nom équipe 9 | F10: L | G10: =E10 -> Nom équipe 9 | M10: 6ème | N10: =IF(I30="","",VLOOKUP("l",I29:J30,2,FALSE)) -> Nom équipe 1
M11: 7ème | N11: =IF(I36="","",VLOOKUP("w",I35:J36,2,FALSE)) -> Nom équipe 7
H12: =E40+Paramétrage!$F$18+Paramétrage!$F$19 -> 0.525 | I12: T1 | M12: 8ème | N12: =IF(I35="","",VLOOKUP("l",I35:J36,2,FALSE)) -> Nom équipe 8
H13: =IF(F10="","",VLOOKUP("w",F9:G10,2,FALSE)) -> Nom équipe 10 | I13: W | J13: =H13 -> Nom équipe 10 | L13: 1 | M13: 9ème | N13: =IF(I14="","",VLOOKUP("w",I13:J14,2,FALSE)) -> Nom équipe 10
H14: =IF(F18="","",VLOOKUP("w",F17:G18,2,FALSE)) -> Nom équipe 11 | I14: L | J14: =H14 -> Nom équipe 11 | L14: 2 | M14: 10ème | N14: =IF(I14="","",VLOOKUP("l",I13:J14,2,FALSE)) -> Nom équipe 11
M15: 11ème | N15: =IF(I19="","",VLOOKUP("w",I19:J20,2,FALSE)) -> Nom équipe 9
E16: =+E8 -> 0.50833333 | F16: T2 | M16: 12ème | N16: =IF(I20="","",VLOOKUP("l",I19:J20,2,FALSE)) -> Nom équipe 12
E17: ='Param. - Transition'!F7 -> Nom équipe 11 | F17: W | G17: =E17 -> Nom équipe 11
E18: ='Param. - Transition'!G8 -> Nom équipe 12 | F18: L | G18: =E18 -> Nom équipe 12 | H18: =+H12 -> 0.525 | I18: T2
H19: =IF(F10="","",VLOOKUP("L",F9:G10,2,FALSE)) -> Nom équipe 9 | I19: W | J19: =H19 -> Nom équipe 9
H20: =IF(F18="","",VLOOKUP("L",F17:G18,2,FALSE)) -> Nom équipe 12 | I20: L | J20: =H20 -> Nom équipe 12
E24: =+E16 -> 0.50833333 | F24: T3
E25: ='Param. - Transition'!D8 -> Nom équipe 2 | F25: W | G25: =E25 -> Nom équipe 2
E26: ='Param. - Transition'!E7 -> Nom équipe 7 | F26: L | G26: =E26 -> Nom équipe 7
H28: =+H18 -> 0.525 | I28: T3
H29: =IF(F26="","",VLOOKUP("w",F25:G26,2,FALSE)) -> Nom équipe 2 | I29: W | J29: =H29 -> Nom équipe 2
H30: =IF(F34="","",VLOOKUP("w",F33:G34,2,FALSE)) -> Nom équipe 1 | I30: L | J30: =H30 -> Nom équipe 1
E32: =E24+Paramétrage!$F$18+Paramétrage!$F$19 -> 0.51666667 | F32: T1
E33: ='Param. - Transition'!D7 -> Nom équipe 1 | F33: W | G33: =E33 -> Nom équipe 1
E34: ='Param. - Transition'!E8 -> Nom équipe 8 | F34: L | G34: =E34 -> Nom équipe 8 | H34: =H28+Paramétrage!$F$18+Paramétrage!$F$19 -> 0.53333333 | I34: T1
H35: =IF(F26="","",VLOOKUP("L",F25:G26,2,FALSE)) -> Nom équipe 7 | I35: W | J35: =H35 -> Nom équipe 7
H36: =IF(F34="","",VLOOKUP("L",F33:G34,2,FALSE)) -> Nom équipe 8 | I36: L | J36: =H36 -> Nom équipe 8
E40: =+E32 -> 0.51666667 | F40: T2
E41: ='Param. - Transition'!B8 -> Nom équipe 6 | F41: W | G41: =E41 -> Nom équipe 6
E42: ='Param. - Transition'!C7 -> Nom équipe 3 | F42: L | G42: =E42 -> Nom équipe 3
H44: =+H34 -> 0.53333333 | I44: T2
H45: =IF(F42="","",VLOOKUP("w",F41:G42,2,FALSE)) -> Nom équipe 6 | I45: W | J45: =H45 -> Nom équipe 6
H46: =IF(F50="","",VLOOKUP("w",F49:G50,2,FALSE)) -> Nom équipe 4 | I46: L | J46: =H46 -> Nom équipe 4
E48: =+E32 -> 0.51666667 | F48: T3
E49: ='Param. - Transition'!C8 -> Nom équipe 4 | F49: W | G49: =E49 -> Nom équipe 4
E50: ='Param. - Transition'!B7 -> Nom équipe 5 | F50: L | G50: =E50 -> Nom équipe 5 | H50: =H44 -> 0.53333333 | I50: T3
H51: =IF(F42="","",VLOOKUP("L",F41:G42,2,FALSE)) -> Nom équipe 3 | I51: W | J51: =H51 -> Nom équipe 3
H52: =IF(F50="","",VLOOKUP("L",F49:G50,2,FALSE)) -> Nom équipe 5 | I52: L | J52: =H52 -> Nom équipe 5
H54: Fin
H55: =H44+Paramétrage!$F$18+Paramétrage!$F$19 -> 0.54166667

Sheet FdM (2)
B2: Feuille de match | M2: Feuille de match | X2: Feuille de match | AI2: Feuille de match
E7: ="POULE A - "&Paramétrage!$J$3 -> POULE A - Padel | P7: ="POULE B - "&Paramétrage!$J$3 -> POULE B - Padel | AA7: ="POULE C - "&Paramétrage!$J$3 -> POULE C - Padel | AL7: ="POULE D - "&Paramétrage!$J$3 -> POULE D - Padel
E9: Nom équipe | F9: W/L | G9: Dif. | I9: Nom équipe | J9: W/L | K9: Dif. | P9: Nom équipe | Q9: W/L | R9: Dif. | T9: Nom équipe | U9: W/L | V9: Dif. | AA9: Nom équipe | AB9: W/L | AC9: Dif. | AE9: Nom équipe | AF9: W/L | AG9: Dif. | AL9: Nom équipe | AM9: W/L | AN9: Dif. | AP9: Nom équipe | AQ9: W/L | AR9: Dif.
A10: #REF! | B10: ='1-Phase de poule-Sport 2'!B5 -> T1 | C10: ='1-Phase de poule-Sport 2'!C5 -> 0.58333333 | E10: ='1-Phase de poule-Sport 2'!E5 -> Nom équipe 1 A | H10: ='1-Phase de poule-Sport 2'!H5 -> VS | I10: ='1-Phase de poule-Sport 2'!I5 -> Nom équipe 4 A | M10: ='1-Phase de poule-Sport 2'!M5 -> T2 | N10: ='1-Phase de poule-Sport 2'!N5 -> 0.58333333 | P10: ='1-Phase de poule-Sport 2'!P5 -> Nom équipe 7 A | S10: ='1-Phase de poule-Sport 2'!S5 -> VS | T10: ='1-Phase de poule-Sport 2'!T5 -> Nom équipe 10 A | X10: ='1-Phase de poule-Sport 2'!X5 -> T3 | Y10: ='1-Phase de poule-Sport 2'!Y5 -> 0.58333333 | AA10: ='1-Phase de poule-Sport 2'!AA5 -> Nom équipe 6 B | AD10: ='1-Phase de poule-Sport 2'!AD5 -> VS | AE10: ='1-Phase de poule-Sport 2'!AE5 -> Nom équipe 3 B | AI10: ='1-Phase de poule-Sport 2'!AI5 -> T4 | AJ10: ='1-Phase de poule-Sport 2'!AJ5 -> 0.58333333 | AL10: ='1-Phase de poule-Sport 2'!AL5 -> Nom équipe 12 B | AO10: ='1-Phase de poule-Sport 2'!AO5 -> VS | AP10: ='1-Phase de poule-Sport 2'!AP5 -> Nom équipe 9 B
A11: #REF! | B11: =+'1-Phase de poule-Sport 2'!B6 -> T1 | C11: =+'1-Phase de poule-Sport 2'!C6 -> 0.59166667 | E11: ='1-Phase de poule-Sport 2'!E6 -> Nom équipe 2 A | H11: ='1-Phase de poule-Sport 2'!H6 -> VS | I11: ='1-Phase de poule-Sport 2'!I6 -> Nom équipe 5 A | M11: =+'1-Phase de poule-Sport 2'!M6 -> T2 | N11: =+'1-Phase de poule-Sport 2'!N6 -> 0.59166667 | P11: ='1-Phase de poule-Sport 2'!P6 -> Nom équipe 8 A | S11: ='1-Phase de poule-Sport 2'!S6 -> VS | T11: ='1-Phase de poule-Sport 2'!T6 -> Nom équipe 11 A | X11: =+'1-Phase de poule-Sport 2'!X6 -> T3 | Y11: =+'1-Phase de poule-Sport 2'!Y6 -> 0.59166667 | AA11: ='1-Phase de poule-Sport 2'!AA6 -> Nom équipe 5 B | AD11: ='1-Phase de poule-Sport 2'!AD6 -> VS | AE11: ='1-Phase de poule-Sport 2'!AE6 -> Nom équipe 2 B | AI11: =+'1-Phase de poule-Sport 2'!AI6 -> T4 | AJ11: =+'1-Phase de poule-Sport 2'!AJ6 -> 0.59166667 | AL11: ='1-Phase de poule-Sport 2'!AL6 -> Nom équipe 11 B | AO11: ='1-Phase de poule-Sport 2'!AO6 -> VS | AP11: ='1-Phase de poule-Sport 2'!AP6 -> Nom équipe 8 B
A12: ='1-Phase de poule-Sport 2'!A7 -> 0 | B12: ='1-Phase de poule-Sport 2'!B7 -> T1 | C12: ='1-Phase de poule-Sport 2'!C7 -> 0.6 | E12: ='1-Phase de poule-Sport 2'!E7 -> Nom équipe 3 A | H12: ='1-Phase de poule-Sport 2'!H7 -> VS | I12: ='1-Phase de poule-Sport 2'!I7 -> Nom équipe 6 A | M12: ='1-Phase de poule-Sport 2'!M7 -> T2 | N12: ='1-Phase de poule-Sport 2'!N7 -> 0.6 | P12: ='1-Phase de poule-Sport 2'!P7 -> Nom équipe 9 A | S12: ='1-Phase de poule-Sport 2'!S7 -> VS | T12: ='1-Phase de poule-Sport 2'!T7 -> Nom équipe 12 A | X12: ='1-Phase de poule-Sport 2'!X7 -> T3 | Y12: ='1-Phase de poule-Sport 2'!Y7 -> 0.6 | AA12: ='1-Phase de poule-Sport 2'!AA7 -> Nom équipe 4 B | AD12: ='1-Phase de poule-Sport 2'!AD7 -> VS | AE12: ='1-Phase de poule-Sport 2'!AE7 -> Nom équipe 1 B | AI12: ='1-Phase de poule-Sport 2'!AI7 -> T4 | AJ12: ='1-Phase de poule-Sport 2'!AJ7 -> 0.6 | AL12: ='1-Phase de poule-Sport 2'!AL7 -> Nom équipe 10 B | AO12: ='1-Phase de poule-Sport 2'!AO7 -> VS | AP12: ='1-Phase de poule-Sport 2'!AP7 -> Nom équipe 7 B
A13: ='1-Phase de poule-Sport 2'!A8 -> 0 | B13: ='1-Phase de poule-Sport 2'!B8 -> T1 | C13: ='1-Phase de poule-Sport 2'!C8 -> 0.60833333 | E13: ='1-Phase de poule-Sport 2'!E8 -> Nom équipe 1 A | H13: ='1-Phase de poule-Sport 2'!H8 -> VS | I13: ='1-Phase de poule-Sport 2'!I8 -> Nom équipe 5 A | M13: ='1-Phase de poule-Sport 2'!M8 -> T2 | N13: ='1-Phase de poule-Sport 2'!N8 -> 0.60833333 | P13: ='1-Phase de poule-Sport 2'!P8 -> Nom équipe 7 A | S13: ='1-Phase de poule-Sport 2'!S8 -> VS | T13: ='1-Phase de poule-Sport 2'!T8 -> Nom équipe 11 A | X13: ='1-Phase de poule-Sport 2'!X8 -> T3 | Y13: ='1-Phase de poule-Sport 2'!Y8 -> 0.60833333 | AA13: ='1-Phase de poule-Sport 2'!AA8 -> Nom équipe 6 B | AD13: ='1-Phase de poule-Sport 2'!AD8 -> VS | AE13: ='1-Phase de poule-Sport 2'!AE8 -> Nom équipe 2 B | AI13: ='1-Phase de poule-Sport 2'!AI8 -> T4 | AJ13: ='1-Phase de poule-Sport 2'!AJ8 -> 0.60833333 | AL13: ='1-Phase de poule-Sport 2'!AL8 -> Nom équipe 12 B | AO13: ='1-Phase de poule-Sport 2'!AO8 -> VS | AP13: ='1-Phase de poule-Sport 2'!AP8 -> Nom équipe 8 B
A14: ='1-Phase de poule-Sport 2'!A9 -> 0 | B14: ='1-Phase de poule-Sport 2'!B9 -> T1 | C14: ='1-Phase de poule-Sport 2'!C9 -> 0.61666667 | E14: ='1-Phase de poule-Sport 2'!E9 -> Nom équipe 6 A | H14: ='1-Phase de poule-Sport 2'!H9 -> VS | I14: ='1-Phase de poule-Sport 2'!I9 -> Nom équipe 4 A | M14: ='1-Phase de poule-Sport 2'!M9 -> T2 | N14: ='1-Phase de poule-Sport 2'!N9 -> 0.61666667 | P14: ='1-Phase de poule-Sport 2'!P9 -> Nom équipe 12 A | S14: ='1-Phase de poule-Sport 2'!S9 -> VS | T14: ='1-Phase de poule-Sport 2'!T9 -> Nom équipe 10 A | X14: ='1-Phase de poule-Sport 2'!X9 -> T3 | Y14: ='1-Phase de poule-Sport 2'!Y9 -> 0.61666667 | AA14: ='1-Phase de poule-Sport 2'!AA9 -> Nom équipe 1 B | AD14: ='1-Phase de poule-Sport 2'!AD9 -> VS | AE14: ='1-Phase de poule-Sport 2'!AE9 -> Nom équipe 3 B | AI14: ='1-Phase de poule-Sport 2'!AI9 -> T4 | AJ14: ='1-Phase de poule-Sport 2'!AJ9 -> 0.61666667 | AL14: ='1-Phase de poule-Sport 2'!AL9 -> Nom équipe 7 B | AO14: ='1-Phase de poule-Sport 2'!AO9 -> VS | AP14: ='1-Phase de poule-Sport 2'!AP9 -> Nom équipe 9 B
A15: ='1-Phase de poule-Sport 2'!A10 -> 0 | B15: ='1-Phase de poule-Sport 2'!B10 -> T1 | C15: ='1-Phase de poule-Sport 2'!C10 -> 0.625 | E15: ='1-Phase de poule-Sport 2'!E10 -> Nom équipe 2 A | H15: ='1-Phase de poule-Sport 2'!H10 -> VS | I15: ='1-Phase de poule-Sport 2'!I10 -> Nom équipe 3 A | M15: ='1-Phase de poule-Sport 2'!M10 -> T2 | N15: ='1-Phase de poule-Sport 2'!N10 -> 0.625 | P15: ='1-Phase de poule-Sport 2'!P10 -> Nom équipe 8 A | S15: ='1-Phase de poule-Sport 2'!S10 -> VS | T15: ='1-Phase de poule-Sport 2'!T10 -> Nom équipe 9 A | X15: ='1-Phase de poule-Sport 2'!X10 -> T3 | Y15: ='1-Phase de poule-Sport 2'!Y10 -> 0.625 | AA15: ='1-Phase de poule-Sport 2'!AA10 -> Nom équipe 5 B | AD15: ='1-Phase de poule-Sport 2'!AD10 -> VS | AE15: ='1-Phase de poule-Sport 2'!AE10 -> Nom équipe 4 B | AI15: ='1-Phase de poule-Sport 2'!AI10 -> T4 | AJ15: ='1-Phase de poule-Sport 2'!AJ10 -> 0.625 | AL15: ='1-Phase de poule-Sport 2'!AL10 -> Nom équipe 11 B | AO15: ='1-Phase de poule-Sport 2'!AO10 -> VS | AP15: ='1-Phase de poule-Sport 2'!AP10 -> Nom équipe 10 B
A16: ='1-Phase de poule-Sport 2'!A11 -> 0 | B16: ='1-Phase de poule-Sport 2'!B11 -> T1 | C16: ='1-Phase de poule-Sport 2'!C11 -> 0.63333333 | E16: ='1-Phase de poule-Sport 2'!E11 -> Nom équipe 1 A | H16: ='1-Phase de poule-Sport 2'!H11 -> VS | I16: ='1-Phase de poule-Sport 2'!I11 -> Nom équipe 6 A | M16: ='1-Phase de poule-Sport 2'!M11 -> T2 | N16: ='1-Phase de poule-Sport 2'!N11 -> 0.63333333 | P16: ='1-Phase de poule-Sport 2'!P11 -> Nom équipe 7 A | S16: ='1-Phase de poule-Sport 2'!S11 -> VS | T16: ='1-Phase de poule-Sport 2'!T11 -> Nom équipe 12 A | X16: ='1-Phase de poule-Sport 2'!X11 -> T3 | Y16: ='1-Phase de poule-Sport 2'!Y11 -> 0.63333333 | AA16: ='1-Phase de poule-Sport 2'!AA11 -> Nom équipe 6 B | AD16: ='1-Phase de poule-Sport 2'!AD11 -> VS | AE16: ='1-Phase de poule-Sport 2'!AE11 -> Nom équipe 1 B | AI16: ='1-Phase de poule-Sport 2'!AI11 -> T4 | AJ16: ='1-Phase de poule-Sport 2'!AJ11 -> 0.63333333 | AL16: ='1-Phase de poule-Sport 2'!AL11 -> Nom équipe 12 B | AO16: ='1-Phase de poule-Sport 2'!AO11 -> VS | AP16: ='1-Phase de poule-Sport 2'!AP11 -> Nom équipe 7 B
A17: ='1-Phase de poule-Sport 2'!A12 -> 0 | B17: ='1-Phase de poule-Sport 2'!B12 -> T1 | C17: ='1-Phase de poule-Sport 2'!C12 -> 0.64166667 | E17: ='1-Phase de poule-Sport 2'!E12 -> Nom équipe 3 A | H17: ='1-Phase de poule-Sport 2'!H12 -> VS | I17: ='1-Phase de poule-Sport 2'!I12 -> Nom équipe 5 A | M17: ='1-Phase de poule-Sport 2'!M12 -> T2 | N17: ='1-Phase de poule-Sport 2'!N12 -> 0.64166667 | P17: ='1-Phase de poule-Sport 2'!P12 -> Nom équipe 9 A | S17: ='1-Phase de poule-Sport 2'!S12 -> VS | T17: ='1-Phase de poule-Sport 2'!T12 -> Nom équipe 11 A | X17: ='1-Phase de poule-Sport 2'!X12 -> T3 | Y17: ='1-Phase de poule-Sport 2'!Y12 -> 0.64166667 | AA17: ='1-Phase de poule-Sport 2'!AA12 -> Nom équipe 4 B | AD17: ='1-Phase de poule-Sport 2'!AD12 -> VS | AE17: ='1-Phase de poule-Sport 2'!AE12 -> Nom équipe 2 B | AI17: ='1-Phase de poule-Sport 2'!AI12 -> T4 | AJ17: ='1-Phase de poule-Sport 2'!AJ12 -> 0.64166667 | AL17: ='1-Phase de poule-Sport 2'!AL12 -> Nom équipe 10 B | AO17: ='1-Phase de poule-Sport 2'!AO12 -> VS | AP17: ='1-Phase de poule-Sport 2'!AP12 -> Nom équipe 8 B
A18: ='1-Phase de poule-Sport 2'!A13 -> 0 | B18: ='1-Phase de poule-Sport 2'!B13 -> T1 | C18: ='1-Phase de poule-Sport 2'!C13 -> 0.65 | E18: ='1-Phase de poule-Sport 2'!E13 -> Nom équipe 2 A | H18: ='1-Phase de poule-Sport 2'!H13 -> VS | I18: ='1-Phase de poule-Sport 2'!I13 -> Nom équipe 4 A | M18: ='1-Phase de poule-Sport 2'!M13 -> T2 | N18: ='1-Phase de poule-Sport 2'!N13 -> 0.65 | P18: ='1-Phase de poule-Sport 2'!P13 -> Nom équipe 8 A | S18: ='1-Phase de poule-Sport 2'!S13 -> VS | T18: ='1-Phase de poule-Sport 2'!T13 -> Nom équipe 10 A | X18: ='1-Phase de poule-Sport 2'!X13 -> T3 | Y18: ='1-Phase de poule-Sport 2'!Y13 -> 0.65 | AA18: ='1-Phase de poule-Sport 2'!AA13 -> Nom équipe 5 B | AD18: ='1-Phase de poule-Sport 2'!AD13 -> VS | AE18: ='1-Phase de poule-Sport 2'!AE13 -> Nom équipe 3 B | AI18: ='1-Phase de poule-Sport 2'!AI13 -> T4 | AJ18: ='1-Phase de poule-Sport 2'!AJ13 -> 0.65 | AL18: ='1-Phase de poule-Sport 2'!AL13 -> Nom équipe 11 B | AO18: ='1-Phase de poule-Sport 2'!AO13 -> VS | AP18: ='1-Phase de poule-Sport 2'!AP13 -> Nom équipe 9 B
A19: ='1-Phase de poule-Sport 2'!A14 -> 0 | B19: ='1-Phase de poule-Sport 2'!B14 -> T1 | C19: ='1-Phase de poule-Sport 2'!C14 -> 0.65833333 | E19: ='1-Phase de poule-Sport 2'!E14 -> Nom équipe 1 A | H19: ='1-Phase de poule-Sport 2'!H14 -> VS | I19: ='1-Phase de poule-Sport 2'!I14 -> Nom équipe 3 A | M19: ='1-Phase de poule-Sport 2'!M14 -> T2 | N19: ='1-Phase de poule-Sport 2'!N14 -> 0.65833333 | P19: ='1-Phase de poule-Sport 2'!P14 -> Nom équipe 7 A | S19: ='1-Phase de poule-Sport 2'!S14 -> VS | T19: ='1-Phase de poule-Sport 2'!T14 -> Nom équipe 9 A | X19: ='1-Phase de poule-Sport 2'!X14 -> T3 | Y19: ='1-Phase de poule-Sport 2'!Y14 -> 0.65833333 | AA19: ='1-Phase de poule-Sport 2'!AA14 -> Nom équipe 6 B | AD19: ='1-Phase de poule-Sport 2'!AD14 -> VS | AE19: ='1-Phase de poule-Sport 2'!AE14 -> Nom équipe 4 B | AI19: ='1-Phase de poule-Sport 2'!AI14 -> T4 | AJ19: ='1-Phase de poule-Sport 2'!AJ14 -> 0.65833333 | AL19: ='1-Phase de poule-Sport 2'!AL14 -> Nom équipe 12 B | AO19: ='1-Phase de poule-Sport 2'!AO14 -> VS | AP19: ='1-Phase de poule-Sport 2'!AP14 -> Nom équipe 10 B
A20: ='1-Phase de poule-Sport 2'!A15 -> 0 | B20: ='1-Phase de poule-Sport 2'!B15 -> T1 | C20: ='1-Phase de poule-Sport 2'!C15 -> 0.66666667 | E20: ='1-Phase de poule-Sport 2'!E15 -> Nom équipe 2 A | H20: ='1-Phase de poule-Sport 2'!H15 -> VS | I20: ='1-Phase de poule-Sport 2'!I15 -> Nom équipe 6 A | M20: ='1-Phase de poule-Sport 2'!M15 -> T2 | N20: ='1-Phase de poule-Sport 2'!N15 -> 0.66666667 | P20: ='1-Phase de poule-Sport 2'!P15 -> Nom équipe 8 A | S20: ='1-Phase de poule-Sport 2'!S15 -> VS | T20: ='1-Phase de poule-Sport 2'!T15 -> Nom équipe 12 A | X20: ='1-Phase de poule-Sport 2'!X15 -> T3 | Y20: ='1-Phase de poule-Sport 2'!Y15 -> 0.66666667 | AA20: ='1-Phase de poule-Sport 2'!AA15 -> Nom équipe 5 B | AD20: ='1-Phase de poule-Sport 2'!AD15 -> VS | AE20: ='1-Phase de poule-Sport 2'!AE15 -> Nom équipe 1 B | AI20: ='1-Phase de poule-Sport 2'!AI15 -> T4 | AJ20: ='1-Phase de poule-Sport 2'!AJ15 -> 0.66666667 | AL20: ='1-Phase de poule-Sport 2'!AL15 -> Nom équipe 11 B | AO20: ='1-Phase de poule-Sport 2'!AO15 -> VS | AP20: ='1-Phase de poule-Sport 2'!AP15 -> Nom équipe 7 B
A21: ='1-Phase de poule-Sport 2'!A16 -> 0 | B21: ='1-Phase de poule-Sport 2'!B16 -> T1 | C21: ='1-Phase de poule-Sport 2'!C16 -> 0.675 | E21: ='1-Phase de poule-Sport 2'!E16 -> Nom équipe 5 A | H21: ='1-Phase de poule-Sport 2'!H16 -> VS | I21: ='1-Phase de poule-Sport 2'!I16 -> Nom équipe 4 A | M21: ='1-Phase de poule-Sport 2'!M16 -> T2 | N21: ='1-Phase de poule-Sport 2'!N16 -> 0.675 | P21: ='1-Phase de poule-Sport 2'!P16 -> Nom équipe 11 A | S21: ='1-Phase de poule-Sport 2'!S16 -> VS | T21: ='1-Phase de poule-Sport 2'!T16 -> Nom équipe 10 A | X21: ='1-Phase de poule-Sport 2'!X16 -> T3 | Y21: ='1-Phase de poule-Sport 2'!Y16 -> 0.675 | AA21: ='1-Phase de poule-Sport 2'!AA16 -> Nom équipe 2 B | AD21: ='1-Phase de poule-Sport 2'!AD16 -> VS | AE21: ='1-Phase de poule-Sport 2'!AE16 -> Nom équipe 3 B | AI21: ='1-Phase de poule-Sport 2'!AI16 -> T4 | AJ21: ='1-Phase de poule-Sport 2'!AJ16 -> 0.675 | AL21: ='1-Phase de poule-Sport 2'!AL16 -> Nom équipe 8 B | AO21: ='1-Phase de poule-Sport 2'!AO16 -> VS | AP21: ='1-Phase de poule-Sport 2'!AP16 -> Nom équipe 9 B
A22: ='1-Phase de poule-Sport 2'!A17 -> 0 | B22: ='1-Phase de poule-Sport 2'!B17 -> T1 | C22: ='1-Phase de poule-Sport 2'!C17 -> 0.68333333 | E22: ='1-Phase de poule-Sport 2'!E17 -> Nom équipe 1 A | H22: ='1-Phase de poule-Sport 2'!H17 -> VS | I22: ='1-Phase de poule-Sport 2'!I17 -> Nom équipe 2 A | M22: ='1-Phase de poule-Sport 2'!M17 -> T2 | N22: ='1-Phase de poule-Sport 2'!N17 -> 0.68333333 | P22: ='1-Phase de poule-Sport 2'!P17 -> Nom équipe 7 A | S22: ='1-Phase de poule-Sport 2'!S17 -> VS | T22: ='1-Phase de poule-Sport 2'!T17 -> Nom équipe 8 A | X22: ='1-Phase de poule-Sport 2'!X17 -> T3 | Y22: ='1-Phase de poule-Sport 2'!Y17 -> 0.68333333 | AA22: ='1-Phase de poule-Sport 2'!AA17 -> Nom équipe 6 B | AD22: ='1-Phase de poule-Sport 2'!AD17 -> VS | AE22: ='1-Phase de poule-Sport 2'!AE17 -> Nom équipe 5 B | AI22: ='1-Phase de poule-Sport 2'!AI17 -> T4 | AJ22: ='1-Phase de poule-Sport 2'!AJ17 -> 0.68333333 | AL22: ='1-Phase de poule-Sport 2'!AL17 -> Nom équipe 12 B | AO22: ='1-Phase de poule-Sport 2'!AO17 -> VS | AP22: ='1-Phase de poule-Sport 2'!AP17 -> Nom équipe 11 B
A23: ='1-Phase de poule-Sport 2'!A18 -> 0 | B23: ='1-Phase de poule-Sport 2'!B18 -> T1 | C23: ='1-Phase de poule-Sport 2'!C18 -> 0.69166667 | E23: ='1-Phase de poule-Sport 2'!E18 -> Nom équipe 3 A | H23: ='1-Phase de poule-Sport 2'!H18 -> VS | I23: ='1-Phase de poule-Sport 2'!I18 -> Nom équipe 4 A | M23: ='1-Phase de poule-Sport 2'!M18 -> T2 | N23: ='1-Phase de poule-Sport 2'!N18 -> 0.69166667 | P23: ='1-Phase de poule-Sport 2'!P18 -> Nom équipe 9 A | S23: ='1-Phase de poule-Sport 2'!S18 -> VS | T23: ='1-Phase de poule-Sport 2'!T18 -> Nom équipe 10 A | X23: ='1-Phase de poule-Sport 2'!X18 -> T3 | Y23: ='1-Phase de poule-Sport 2'!Y18 -> 0.69166667 | AA23: ='1-Phase de poule-Sport 2'!AA18 -> Nom équipe 4 B | AD23: ='1-Phase de poule-Sport 2'!AD18 -> VS | AE23: ='1-Phase de poule-Sport 2'!AE18 -> Nom équipe 3 B | AI23: ='1-Phase de poule-Sport 2'!AI18 -> T4 | AJ23: ='1-Phase de poule-Sport 2'!AJ18 -> 0.69166667 | AL23: ='1-Phase de poule-Sport 2'!AL18 -> Nom équipe 10 B | AO23: ='1-Phase de poule-Sport 2'!AO18 -> VS | AP23: ='1-Phase de poule-Sport 2'!AP18 -> Nom équipe 9 B
A24: ='1-Phase de poule-Sport 2'!A19 -> 0 | B24: ='1-Phase de poule-Sport 2'!B19 -> T1 | C24: ='1-Phase de poule-Sport 2'!C19 -> 0.7 | E24: ='1-Phase de poule-Sport 2'!E19 -> Nom équipe 6 A | H24: ='1-Phase de poule-Sport 2'!H19 -> VS | I24: ='1-Phase de poule-Sport 2'!I19 -> Nom équipe 5 A | M24: ='1-Phase de poule-Sport 2'!M19 -> T2 | N24: ='1-Phase de poule-Sport 2'!N19 -> 0.7 | P24: ='1-Phase de poule-Sport 2'!P19 -> Nom équipe 12 A | S24: ='1-Phase de poule-Sport 2'!S19 -> VS | T24: ='1-Phase de poule-Sport 2'!T19 -> Nom équipe 11 A | X24: ='1-Phase de poule-Sport 2'!X19 -> T3 | Y24: ='1-Phase de poule-Sport 2'!Y19 -> 0.7 | AA24: ='1-Phase de poule-Sport 2'!AA19 -> Nom équipe 1 B | AD24: ='1-Phase de poule-Sport 2'!AD19 -> VS | AE24: ='1-Phase de poule-Sport 2'!AE19 -> Nom équipe 2 B | AI24: ='1-Phase de poule-Sport 2'!AI19 -> T4 | AJ24: ='1-Phase de poule-Sport 2'!AJ19 -> 0.7 | AL24: ='1-Phase de poule-Sport 2'!AL19 -> Nom équipe 7 B | AO24: ='1-Phase de poule-Sport 2'!AO19 -> VS | AP24: ='1-Phase de poule-Sport 2'!AP19 -> Nom équipe 8 B
A25: =+'1-Phase de poule-Sport 2'!A20 -> 0 | C25: =+'1-Phase de poule-Sport 2'!C20 -> 0.70833333 | N25: =+'1-Phase de poule-Sport 2'!N20 -> 0.70833333 | Y25: =+'1-Phase de poule-Sport 2'!Y20 -> 0.70833333 | AJ25: =+'1-Phase de poule-Sport 2'!AJ20 -> 0.70833333

Sheet 1-Phase de poule-Sport 2
E2: POULE A | P2: POULE B | AA2: POULE C | AL2: POULE D
E4: Nom équipe | F4: W/L | G4: Dif. | I4: Nom équipe | J4: W/L | K4: Dif. | P4: Nom équipe | Q4: W/L | R4: Dif. | T4: Nom équipe | U4: W/L | V4: Dif. | AA4: Nom équipe | AB4: W/L | AC4: Dif. | AE4: Nom équipe | AF4: W/L | AG4: Dif. | AL4: Nom équipe | AM4: W/L | AN4: Dif. | AP4: Nom équipe | AQ4: W/L | AR4: Dif.
B5: T1 | C5: =Paramétrage!E17 -> 0.58333333 | E5: =+Paramétrage!F3 -> Nom équipe 1 A | H5: VS | I5: =+Paramétrage!F6 -> Nom équipe 4 A | J5: =IF(F5="W","L",IF(F5="L","W","N")) -> N | K5: =-G5 -> 0 | M5: T2 | N5: =C5 -> 0.58333333 | P5: =+Paramétrage!F9 -> Nom équipe 7 A | S5: VS | T5: =+Paramétrage!F12 -> Nom équipe 10 A | U5: =IF(Q5="W","L",IF(Q5="L","W","N")) -> N | V5: =-R5 -> 0 | X5: T3 | Y5: =+N5 -> 0.58333333 | AA5: =+Paramétrage!G8 -> Nom équipe 6 B | AD5: VS | AE5: =Paramétrage!G5 -> Nom équipe 3 B | AF5: =IF(AB5="W","L",IF(AB5="L","W","N")) -> N | AG5: =-AC5 -> 0 | AI5: T4 | AJ5: =Y5 -> 0.58333333 | AL5: =+Paramétrage!G14 -> Nom équipe 12 B | AO5: VS | AP5: =+Paramétrage!G11 -> Nom équipe 9 B | AQ5: =IF(AM5="W","L",IF(AM5="L","W","N")) -> N | AR5: =-AN5 -> 0
B6: T1 | C6: =C5+Paramétrage!$E$18+Paramétrage!$E$19 -> 0.59166667 | D6: =D5+Paramétrage!$E$18+Paramétrage!$E$19 -> 0.0083333333 | E6: =+Paramétrage!F4 -> Nom équipe 2 A | H6: VS | I6: =+Paramétrage!F7 -> Nom équipe 5 A | J6: =IF(F6="W","L",IF(F6="L","W","N")) -> N | K6: =-G6 -> 0 | M6: T2 | N6: =C6 -> 0.59166667 | P6: =+Paramétrage!F10 -> Nom équipe 8 A | S6: VS | T6: =+Paramétrage!F13 -> Nom équipe 11 A | U6: =IF(Q6="W","L",IF(Q6="L","W","N")) -> N | V6: =-R6 -> 0 | X6: T3 | Y6: =+N6 -> 0.59166667 | AA6: =Paramétrage!G7 -> Nom équipe 5 B | AD6: VS | AE6: =Paramétrage!G4 -> Nom équipe 2 B | AF6: =IF(AB6="W","L",IF(AB6="L","W","N")) -> N | AG6: =-AC6 -> 0 | AI6: T4 | AJ6: =Y6 -> 0.59166667 | AL6: =+Paramétrage!G13 -> Nom équipe 11 B | AO6: VS | AP6: =+Paramétrage!G10 -> Nom équipe 8 B | AQ6: =IF(AM6="W","L",IF(AM6="L","W","N")) -> N | AR6: =-AN6 -> 0
B7: T1 | C7: =C6+Paramétrage!$E$18+Paramétrage!$E$19 -> 0.6 | D7: =D6+Paramétrage!$E$18+Paramétrage!$E$19 -> 0.016666667 | E7: =+Paramétrage!F5 -> Nom équipe 3 A | H7: VS | I7: =+Paramétrage!F8 -> Nom équipe 6 A | J7: =IF(F7="W","L",IF(F7="L","W","N")) -> N | K7: =-G7 -> 0 | M7: T2 | N7: =C7 -> 0.6 | P7: =+Paramétrage!F11 -> Nom équipe 9 A | S7: VS | T7: =+Paramétrage!F14 -> Nom équipe 12 A | U7: =IF(Q7="W","L",IF(Q7="L","W","N")) -> N | V7: =-R7 -> 0 | X7: T3 | Y7: =+N7 -> 0.6 | AA7: =Paramétrage!G6 -> Nom équipe 4 B | AD7: VS | AE7: =Paramétrage!G3 -> Nom équipe 1 B | AF7: =IF(AB7="W","L",IF(AB7="L","W","N")) -> N | AG7: =-AC7 -> 0 | AI7: T4 | AJ7: =Y7 -> 0.6 | AL7: =+Paramétrage!G12 -> Nom équipe 10 B | AO7: VS | AP7: =+Paramétrage!G9 -> Nom équipe 7 B | AQ7: =IF(AM7="W","L",IF(AM7="L","W","N")) -> N | AR7: =-AN7 -> 0
B8: T1 | C8: =C7+Paramétrage!$E$18+Paramétrage!$E$19 -> 0.60833333 | D8: =D7+Paramétrage!$E$18+Paramétrage!$E$19 -> 0.025 | E8: =E5 -> Nom équipe 1 A | H8: VS | I8: =I6 -> Nom équipe 5 A | J8: =IF(F8="W","L",IF(F8="L","W","N")) -> N | K8: =-G8 -> 0 | M8: T2 | N8: =C8 -> 0.60833333 | P8: =P5 -> Nom équipe 7 A | S8: VS | T8: =T6 -> Nom équipe 11 A | U8: =IF(Q8="W","L",IF(Q8="L","W","N")) -> N | V8: =-R8 -> 0 | X8: T3 | Y8: =+N8 -> 0.60833333 | AA8: =AA5 -> Nom équipe 6 B | AD8: VS | AE8: =AE6 -> Nom équipe 2 B | AF8: =IF(AB8="W","L",IF(AB8="L","W","N")) -> N | AG8: =-AC8 -> 0 | AI8: T4 | AJ8: =Y8 -> 0.60833333 | AL8: =AL5 -> Nom équipe 12 B | AO8: VS | AP8: =AP6 -> Nom équipe 8 B | AQ8: =IF(AM8="W","L",IF(AM8="L","W","N")) -> N | AR8: =-AN8 -> 0
B9: T1 | C9: =C8+Paramétrage!$E$18+Paramétrage!$E$19 -> 0.61666667 | D9: =D8+Paramétrage!$E$18+Paramétrage!$E$19 -> 0.033333333 | E9: =I7 -> Nom équipe 6 A | H9: VS | I9: =I5 -> Nom équipe 4 A | J9: =IF(F9="W","L",IF(F9="L","W","N")) -> N | K9: =-G9 -> 0 | M9: T2 | N9: =C9 -> 0.61666667 | P9: =T7 -> Nom équipe 12 A | S9: VS | T9: =T5 -> Nom équipe 10 A | U9: =IF(Q9="W","L",IF(Q9="L","W","N")) -> N | V9: =-R9 -> 0 | X9: T3 | Y9: =+N9 -> 0.61666667 | AA9: =AE7 -> Nom équipe 1 B | AD9: VS | AE9: =AE5 -> Nom équipe 3 B | AF9: =IF(AB9="W","L",IF(AB9="L","W","N")) -> N | AG9: =-AC9 -> 0 | AI9: T4 | AJ9: =Y9 -> 0.61666667 | AL9: =AP7 -> Nom équipe 7 B | AO9: VS | AP9: =AP5 -> Nom équipe 9 B | AQ9: =IF(AM9="W","L",IF(AM9="L","W","N")) -> N | AR9: =-AN9 -> 0
B10: T1 | C10: =C9+Paramétrage!$E$18+Paramétrage!$E$19 -> 0.625 | D10: =D9+Paramétrage!$E$18+Paramétrage!$E$19 -> 0.041666667 | E10: =E6 -> Nom équipe 2 A | H10: VS | I10: =E7 -> Nom équipe 3 A | J10: =IF(F10="W","L",IF(F10="L","W","N")) -> N | K10: =-G10 -> 0 | M10: T2 | N10: =C10 -> 0.625 | P10: =P6 -> Nom équipe 8 A | S10: VS | T10: =P7 -> Nom équipe 9 A | U10: =IF(Q10="W","L",IF(Q10="L","W","N")) -> N | V10: =-R10 -> 0 | X10: T3 | Y10: =+N10 -> 0.625 | AA10: =AA6 -> Nom équipe 5 B | AD10: VS | AE10: =AA7 -> Nom équipe 4 B | AF10: =IF(AB10="W","L",IF(AB10="L","W","N")) -> N | AG10: =-AC10 -> 0 | AI10: T4 | AJ10: =Y10 -> 0.625 | AL10: =AL6 -> Nom équipe 11 B | AO10: VS | AP10: =AL7 -> Nom équipe 10 B | AQ10: =IF(AM10="W","L",IF(AM10="L","W","N")) -> N | AR10: =-AN10 -> 0
B11: T1 | C11: =C10+Paramétrage!$E$18+Paramétrage!$E$19 -> 0.63333333 | D11: =D10+Paramétrage!$E$18+Paramétrage!$E$19 -> 0.05 | E11: =E5 -> Nom équipe 1 A | H11: VS | I11: =I7 -> Nom équipe 6 A | J11: =IF(F11="W","L",IF(F11="L","W","N")) -> N | K11: =-G11 -> 0 | M11: T2 | N11: =C11 -> 0.63333333 | P11: =P5 -> Nom équipe 7 A | S11: VS | T11: =T7 -> Nom équipe 12 A | U11: =IF(Q11="W","L",IF(Q11="L","W","N")) -> N | V11: =-R11 -> 0 | X11: T3 | Y11: =+N11 -> 0.63333333 | AA11: =AA5 -> Nom équipe 6 B | AD11: VS | AE11: =AE7 -> Nom équipe 1 B | AF11: =IF(AB11="W","L",IF(AB11="L","W","N")) -> N | AG11: =-AC11 -> 0 | AI11: T4 | AJ11: =Y11 -> 0.63333333 | AL11: =AL5 -> Nom équipe 12 B | AO11: VS | AP11: =AP7 -> Nom équipe 7 B | AQ11: =IF(AM11="W","L",IF(AM11="L","W","N")) -> N | AR11: =-AN11 -> 0
B12: T1 | C12: =C11+Paramétrage!$E$18+Paramétrage!$E$19 -> 0.64166667 | D12: =D11+Paramétrage!$E$18+Paramétrage!$E$19 -> 0.058333333 | E12: =E7 -> Nom équipe 3 A | H12: VS | I12: =I6 -> Nom équipe 5 A | J12: =IF(F12="W","L",IF(F12="L","W","N")) -> N | K12: =-G12 -> 0 | M12: T2 | N12: =C12 -> 0.64166667 | P12: =P7 -> Nom équipe 9 A | S12: VS | T12: =T6 -> Nom équipe 11 A | U12: =IF(Q12="W","L",IF(Q12="L","W","N")) -> N | V12: =-R12 -> 0 | X12: T3 | Y12: =+N12 -> 0.64166667 | AA12: =AA7 -> Nom équipe 4 B | AD12: VS | AE12: =AE6 -> Nom équipe 2 B | AF12: =IF(AB12="W","L",IF(AB12="L","W","N")) -> N | AG12: =-AC12 -> 0 | AI12: T4 | AJ12: =Y12 -> 0.64166667 | AL12: =AL7 -> Nom équipe 10 B | AO12: VS | AP12: =AP6 -> Nom équipe 8 B | AQ12: =IF(AM12="W","L",IF(AM12="L","W","N")) -> N | AR12: =-AN12 -> 0
B13: T1 | C13: =C12+Paramétrage!$E$18+Paramétrage!$E$19 -> 0.65 | D13: =D12+Paramétrage!$E$18+Paramétrage!$E$19 -> 0.066666667 | E13: =E6 -> Nom équipe 2 A | H13: VS | I13: =I5 -> Nom équipe 4 A | J13: =IF(F13="W","L",IF(F13="L","W","N")) -> N | K13: =-G13 -> 0 | M13: T2 | N13: =C13 -> 0.65 | P13: =P6 -> Nom équipe 8 A | S13: VS | T13: =T5 -> Nom équipe 10 A | U13: =IF(Q13="W","L",IF(Q13="L","W","N")) -> N | V13: =-R13 -> 0 | X13: T3 | Y13: =+N13 -> 0.65 | AA13: =AA6 -> Nom équipe 5 B | AD13: VS | AE13: =AE5 -> Nom équipe 3 B | AF13: =IF(AB13="W","L",IF(AB13="L","W","N")) -> N | AG13: =-AC13 -> 0 | AI13: T4 | AJ13: =Y13 -> 0.65 | AL13: =AL6 -> Nom équipe 11 B | AO13: VS | AP13: =AP5 -> Nom équipe 9 B | AQ13: =IF(AM13="W","L",IF(AM13="L","W","N")) -> N | AR13: =-AN13 -> 0
B14: T1 | C14: =C13+Paramétrage!$E$18+Paramétrage!$E$19 -> 0.65833333 | D14: =D13+Paramétrage!$E$18+Paramétrage!$E$19 -> 0.075 | E14: =E5 -> Nom équipe 1 A | H14: VS | I14: =E7 -> Nom équipe 3 A | J14: =IF(F14="W","L",IF(F14="L","W","N")) -> N | K14: =-G14 -> 0 | M14: T2 | N14: =C14 -> 0.65833333 | P14: =P5 -> Nom équipe 7 A | S14: VS | T14: =P7 -> Nom équipe 9 A | U14: =IF(Q14="W","L",IF(Q14="L","W","N")) -> N | V14: =-R14 -> 0 | X14: T3 | Y14: =+N14 -> 0.65833333 | AA14: =AA5 -> Nom équipe 6 B | AD14: VS | AE14: =AA7 -> Nom équipe 4 B | AF14: =IF(AB14="W","L",IF(AB14="L","W","N")) -> N | AG14: =-AC14 -> 0 | AI14: T4 | AJ14: =Y14 -> 0.65833333 | AL14: =AL5 -> Nom équipe 12 B | AO14: VS | AP14: =AL7 -> Nom équipe 10 B | AQ14: =IF(AM14="W","L",IF(AM14="L","W","N")) -> N | AR14: =-AN14 -> 0
B15: T1 | C15: =C14+Paramétrage!$E$18+Paramétrage!$E$19 -> 0.66666667 | D15: =D14+Paramétrage!$E$18+Paramétrage!$E$19 -> 0.083333333 | E15: =E6 -> Nom équipe 2 A | H15: VS | I15: =I7 -> Nom équipe 6 A | J15: =IF(F15="W","L",IF(F15="L","W","N")) -> N | K15: =-G15 -> 0 | M15: T2 | N15: =C15 -> 0.66666667 | P15: =P6 -> Nom équipe 8 A | S15: VS | T15: =T7 -> Nom équipe 12 A | U15: =IF(Q15="W","L",IF(Q15="L","W","N")) -> N | V15: =-R15 -> 0 | X15: T3 | Y15: =+N15 -> 0.66666667 | AA15: =AA6 -> Nom équipe 5 B | AD15: VS | AE15: =AE7 -> Nom équipe 1 B | AF15: =IF(AB15="W","L",IF(AB15="L","W","N")) -> N | AG15: =-AC15 -> 0 | AI15: T4 | AJ15: =Y15 -> 0.66666667 | AL15: =AL6 -> Nom équipe 11 B | AO15: VS | AP15: =AP7 -> Nom équipe 7 B | AQ15: =IF(AM15="W","L",IF(AM15="L","W","N")) -> N | AR15: =-AN15 -> 0
B16: T1 | C16: =C15+Paramétrage!$E$18+Paramétrage!$E$19 -> 0.675 | D16: =D15+Paramétrage!$E$18+Paramétrage!$E$19 -> 0.091666667 | E16: =I6 -> Nom équipe 5 A | H16: VS | I16: =I5 -> Nom équipe 4 A | J16: =IF(F16="W","L",IF(F16="L","W","N")) -> N | K16: =-G16 -> 0 | M16: T2 | N16: =C16 -> 0.675 | P16: =T6 -> Nom équipe 11 A | S16: VS | T16: =T5 -> Nom équipe 10 A | U16: =IF(Q16="W","L",IF(Q16="L","W","N")) -> N | V16: =-R16 -> 0 | X16: T3 | Y16: =+N16 -> 0.675 | AA16: =AE6 -> Nom équipe 2 B | AD16: VS | AE16: =AE5 -> Nom équipe 3 B | AF16: =IF(AB16="W","L",IF(AB16="L","W","N")) -> N | AG16: =-AC16 -> 0 | AI16: T4 | AJ16: =Y16 -> 0.675 | AL16: =AP6 -> Nom équipe 8 B | AO16: VS | AP16: =AP5 -> Nom équipe 9 B | AQ16: =IF(AM16="W","L",IF(AM16="L","W","N")) -> N | AR16: =-AN16 -> 0
B17: T1 | C17: =C16+Paramétrage!$E$18+Paramétrage!$E$19 -> 0.68333333 | D17: =D16+Paramétrage!$E$18+Paramétrage!$E$19 -> 0.1 | E17: =E5 -> Nom équipe 1 A | H17: VS | I17: =E6 -> Nom équipe 2 A | J17: =IF(F17="W","L",IF(F17="L","W","N")) -> N | K17: =-G17 -> 0 | M17: T2 | N17: =C17 -> 0.68333333 | P17: =P5 -> Nom équipe 7 A | S17: VS | T17: =P6 -> Nom équipe 8 A | U17: =IF(Q17="W","L",IF(Q17="L","W","N")) -> N | V17: =-R17 -> 0 | X17: T3 | Y17: =+N17 -> 0.68333333 | AA17: =AA5 -> Nom équipe 6 B | AD17: VS | AE17: =AA6 -> Nom équipe 5 B | AF17: =IF(AB17="W","L",IF(AB17="L","W","N")) -> N | AG17: =-AC17 -> 0 | AI17: T4 | AJ17: =Y17 -> 0.68333333 | AL17: =AL5 -> Nom équipe 12 B | AO17: VS | AP17: =AL6 -> Nom équipe 11 B | AQ17: =IF(AM17="W","L",IF(AM17="L","W","N")) -> N | AR17: =-AN17 -> 0
B18: T1 | C18: =C17+Paramétrage!$E$18+Paramétrage!$E$19 -> 0.69166667 | D18: =D17+Paramétrage!$E$18+Paramétrage!$E$19 -> 0.10833333 | E18: =E7 -> Nom équipe 3 A | H18: VS | I18: =I5 -> Nom équipe 4 A | J18: =IF(F18="W","L",IF(F18="L","W","N")) -> N | K18: =-G18 -> 0 | M18: T2 | N18: =C18 -> 0.69166667 | P18: =P7 -> Nom équipe 9 A | S18: VS | T18: =T5 -> Nom équipe 10 A | U18: =IF(Q18="W","L",IF(Q18="L","W","N")) -> N | V18: =-R18 -> 0 | X18: T3 | Y18: =+N18 -> 0.69166667 | AA18: =AA7 -> Nom équipe 4 B | AD18: VS | AE18: =AE5 -> Nom équipe 3 B | AF18: =IF(AB18="W","L",IF(AB18="L","W","N")) -> N | AG18: =-AC18 -> 0 | AI18: T4 | AJ18: =Y18 -> 0.69166667 | AL18: =AL7 -> Nom équipe 10 B | AO18: VS | AP18: =AP5 -> Nom équipe 9 B | AQ18: =IF(AM18="W","L",IF(AM18="L","W","N")) -> N | AR18: =-AN18 -> 0
B19: T1 | C19: =C18+Paramétrage!$E$18+Paramétrage!$E$19 -> 0.7 | D19: =D18+Paramétrage!$E$18+Paramétrage!$E$19 -> 0.11666667 | E19: =I7 -> Nom équipe 6 A | H19: VS | I19: =I6 -> Nom équipe 5 A | J19: =IF(F19="W","L",IF(F19="L","W","N")) -> N | K19: =-G19 -> 0 | M19: T2 | N19: =C19 -> 0.7 | P19: =T7 -> Nom équipe 12 A | S19: VS | T19: =T6 -> Nom équipe 11 A | U19: =IF(Q19="W","L",IF(Q19="L","W","N")) -> N | V19: =-R19 -> 0 | X19: T3 | Y19: =+N19 -> 0.7 | AA19: =AE7 -> Nom équipe 1 B | AD19: VS | AE19: =AE6 -> Nom équipe 2 B | AF19: =IF(AB19="W","L",IF(AB19="L","W","N")) -> N | AG19: =-AC19 -> 0 | AI19: T4 | AJ19: =Y19 -> 0.7 | AL19: =AP7 -> Nom équipe 7 B | AO19: VS | AP19: =AP6 -> Nom équipe 8 B | AQ19: =IF(AM19="W","L",IF(AM19="L","W","N")) -> N | AR19: =-AN19 -> 0
C20: =C19+Paramétrage!$E$18+Paramétrage!$E$19 -> 0.70833333 | N20: =C20 -> 0.70833333 | Y20: =Y19+Paramétrage!$E$18+Paramétrage!$E$19 -> 0.70833333 | AJ20: =Y20 -> 0.70833333
E21: Nom équipe | F21: Pts | G21: Dif. | H21: Clas. | I21: Ne pas toucher | P21: Nom équipe | Q21: Pts | R21: Dif. | S21: Clas. | T21: Ne pas toucher | AA21: Nom équipe | AB21: Pts | AC21: Dif. | AD21: Clas. | AE21: Ne pas toucher | AL21: Nom équipe | AM21: Pts | AN21: Dif. | AO21: Clas. | AP21: Ne pas toucher
D22: =F22+G22/1000 -> 0 | E22: =E5 -> Nom équipe 1 A | F22: =(COUNTIFS(J$5:J$19,"w",I$5:I$19,E22)+COUNTIFS(F$5:F$19,"w",E$5:E$19,E22))*Paramétrage!$C$33+(COUNTIFS(J$5:J$19,"N",I$5:I$19,E22)+COUNTIFS(F$5:F$19,"N",E$5:E$19,E22))*Paramétrage!$C$34+(COUNTIFS(J$5:J$19,"L",I$5:I$19,E22)+COUNTIFS(F$5:F$19,"L",E$5:E$19,E22))*Paramétrage!$C$35 -> 0 | G22: =SUMIF(E$5:G$19,E22,G$5:G$19)+SUMIF(I$5:K$19,E22,K$5:K$19) -> 0 | H22: =RANK(D22,D$22:D$27,0) -> 6 | I22: =E22 -> Nom équipe 1 A | O22: =Q22+R22/1000 -> 0 | P22: =P5 -> Nom équipe 7 A | Q22: =(COUNTIFS(U$5:U$19,"w",T$5:T$19,P22)+COUNTIFS(Q$5:Q$19,"w",P$5:P$19,P22))*Paramétrage!$C$33+(COUNTIFS(U$5:U$19,"N",T$5:T$19,P22)+COUNTIFS(Q$5:Q$19,"N",P$5:P$19,P22))*Paramétrage!$C$34+(COUNTIFS(U$5:U$19,"L",T$5:T$19,P22)+COUNTIFS(Q$5:Q$19,"L",P$5:P$19,P22))*Paramétrage!$C$35 -> 0 | R22: =SUMIF(P$5:R$19,P22,R$5:R$19)+SUMIF(T$5:V$19,P22,V$5:V$19) -> 0 | S22: =RANK(O22,O$22:O$27,0) -> 6 | T22: =P22 -> Nom équipe 7 A | Z22: =AB22+AC22/1000 -> 0 | AA22: =AA5 -> Nom équipe 6 B | AB22: =(COUNTIFS(AF$5:AF$19,"w",AE$5:AE$19,AA22)+COUNTIFS(AB$5:AB$19,"w",AA$5:AA$19,AA22))*Paramétrage!$C$33+(COUNTIFS(AF$5:AF$19,"N",AE$5:AE$19,AA22)+COUNTIFS(AB$5:AB$19,"N",AA$5:AA$19,AA22))*Paramétrage!$C$34+(COUNTIFS(AF$5:AF$19,"L",AE$5:AE$19,AA22)+COUNTIFS(AB$5:AB$19,"L",AA$5:AA$19,AA22))*Paramétrage!$C$35 -> 0 | AC22: =SUMIF(AA$5:AC$19,AA22,AC$5:AC$19)+SUMIF(AE$5:AG$19,AA22,AG$5:AG$19) -> 0 | AD22: =RANK(Z22,Z$22:Z$27,0) -> 6 | AE22: =AA22 -> Nom équipe 6 B | AK22: =AM22+AN22/1000 -> 0 | AL22: =AL5 -> Nom équipe 12 B | AM22: =(COUNTIFS(AQ$5:AQ$19,"w",AP$5:AP$19,AL22)+COUNTIFS(AM$5:AM$19,"w",AL$5:AL$19,AL22))*Paramétrage!$C$33+(COUNTIFS(AQ$5:AQ$19,"N",AP$5:AP$19,AL22)+COUNTIFS(AM$5:AM$19,"N",AL$5:AL$19,AL22))*Paramétrage!$C$34+(COUNTIFS(AQ$5:AQ$19,"L",AP$5:AP$19,AL22)+COUNTIFS(AM$5:AM$19,"L",AL$5:AL$19,AL22))*Paramétrage!$C$35 -> 0 | AN22: =SUMIF(AL$5:AN$19,AL22,AN$5:AN$19)+SUMIF(AP$5:AR$19,AL22,AR$5:AR$19) -> 0 | AO22: =RANK(AK22,AK$22:AK$27,0) -> 6 | AP22: =AL22 -> Nom équipe 12 B
D23: =F23+G23/1000 -> 2 | E23: =E6 -> Nom équipe 2 A | F23: =(COUNTIFS(J$5:J$19,"w",I$5:I$19,E23)+COUNTIFS(F$5:F$19,"w",E$5:E$19,E23))*Paramétrage!$C$33+(COUNTIFS(J$5:J$19,"N",I$5:I$19,E23)+COUNTIFS(F$5:F$19,"N",E$5:E$19,E23))*Paramétrage!$C$34+(COUNTIFS(J$5:J$19,"L",I$5:I$19,E23)+COUNTIFS(F$5:F$19,"L",E$5:E$19,E23))*Paramétrage!$C$35 -> 2 | G23: =SUMIF(E$5:G$19,E23,G$5:G$19)+SUMIF(I$5:K$19,E23,K$5:K$19) -> 0 | H23: =RANK(D23,D$22:D$27,0) -> 5 | I23: =E23 -> Nom équipe 2 A | O23: =Q23+R23/1000 -> 2 | P23: =P6 -> Nom équipe 8 A | Q23: =(COUNTIFS(U$5:U$19,"w",T$5:T$19,P23)+COUNTIFS(Q$5:Q$19,"w",P$5:P$19,P23))*Paramétrage!$C$33+(COUNTIFS(U$5:U$19,"N",T$5:T$19,P23)+COUNTIFS(Q$5:Q$19,"N",P$5:P$19,P23))*Paramétrage!$C$34+(COUNTIFS(U$5:U$19,"L",T$5:T$19,P23)+COUNTIFS(Q$5:Q$19,"L",P$5:P$19,P23))*Paramétrage!$C$35 -> 2 | R23: =SUMIF(P$5:R$19,P23,R$5:R$19)+SUMIF(T$5:V$19,P23,V$5:V$19) -> 0 | S23: =RANK(O23,O$22:O$27,0) -> 5 | T23: =P23 -> Nom équipe 8 A | Z23: =AB23+AC23/1000 -> 2 | AA23: =AA6 -> Nom équipe 5 B | AB23: =(COUNTIFS(AF$5:AF$19,"w",AE$5:AE$19,AA23)+COUNTIFS(AB$5:AB$19,"w",AA$5:AA$19,AA23))*Paramétrage!$C$33+(COUNTIFS(AF$5:AF$19,"N",AE$5:AE$19,AA23)+COUNTIFS(AB$5:AB$19,"N",AA$5:AA$19,AA23))*Paramétrage!$C$34+(COUNTIFS(AF$5:AF$19,"L",AE$5:AE$19,AA23)+COUNTIFS(AB$5:AB$19,"L",AA$5:AA$19,AA23))*Paramétrage!$C$35 -> 2 | AC23: =SUMIF(AA$5:AC$19,AA23,AC$5:AC$19)+SUMIF(AE$5:AG$19,AA23,AG$5:AG$19) -> 0 | AD23: =RANK(Z23,Z$22:Z$27,0) -> 5 | AE23: =AA23 -> Nom équipe 5 B | AK23: =AM23+AN23/1000 -> 2 | AL23: =AL6 -> Nom équipe 11 B | AM23: =(COUNTIFS(AQ$5:AQ$19,"w",AP$5:AP$19,AL23)+COUNTIFS(AM$5:AM$19,"w",AL$5:AL$19,AL23))*Paramétrage!$C$33+(COUNTIFS(AQ$5:AQ$19,"N",AP$5:AP$19,AL23)+COUNTIFS(AM$5:AM$19,"N",AL$5:AL$19,AL23))*Paramétrage!$C$34+(COUNTIFS(AQ$5:AQ$19,"L",AP$5:AP$19,AL23)+COUNTIFS(AM$5:AM$19,"L",AL$5:AL$19,AL23))*Paramétrage!$C$35 -> 2 | AN23: =SUMIF(AL$5:AN$19,AL23,AN$5:AN$19)+SUMIF(AP$5:AR$19,AL23,AR$5:AR$19) -> 0 | AO23: =RANK(AK23,AK$22:AK$27,0) -> 5 | AP23: =AL23 -> Nom équipe 11 B
D24: =F24+G24/1000 -> 4 | E24: =E7 -> Nom équipe 3 A | F24: =(COUNTIFS(J$5:J$19,"w",I$5:I$19,E24)+COUNTIFS(F$5:F$19,"w",E$5:E$19,E24))*Paramétrage!$C$33+(COUNTIFS(J$5:J$19,"N",I$5:I$19,E24)+COUNTIFS(F$5:F$19,"N",E$5:E$19,E24))*Paramétrage!$C$34+(COUNTIFS(J$5:J$19,"L",I$5:I$19,E24)+COUNTIFS(F$5:F$19,"L",E$5:E$19,E24))*Paramétrage!$C$35 -> 4 | G24: =SUMIF(E$5:G$19,E24,G$5:G$19)+SUMIF(I$5:K$19,E24,K$5:K$19) -> 0 | H24: =RANK(D24,D$22:D$27,0) -> 4 | I24: =E24 -> Nom équipe 3 A | O24: =Q24+R24/1000 -> 4 | P24: =P7 -> Nom équipe 9 A | Q24: =(COUNTIFS(U$5:U$19,"w",T$5:T$19,P24)+COUNTIFS(Q$5:Q$19,"w",P$5:P$19,P24))*Paramétrage!$C$33+(COUNTIFS(U$5:U$19,"N",T$5:T$19,P24)+COUNTIFS(Q$5:Q$19,"N",P$5:P$19,P24))*Paramétrage!$C$34+(COUNTIFS(U$5:U$19,"L",T$5:T$19,P24)+COUNTIFS(Q$5:Q$19,"L",P$5:P$19,P24))*Paramétrage!$C$35 -> 4 | R24: =SUMIF(P$5:R$19,P24,R$5:R$19)+SUMIF(T$5:V$19,P24,V$5:V$19) -> 0 | S24: =RANK(O24,O$22:O$27,0) -> 4 | T24: =P24 -> Nom équipe 9 A | Z24: =AB24+AC24/1000 -> 4 | AA24: =AA7 -> Nom équipe 4 B | AB24: =(COUNTIFS(AF$5:AF$19,"w",AE$5:AE$19,AA24)+COUNTIFS(AB$5:AB$19,"w",AA$5:AA$19,AA24))*Paramétrage!$C$33+(COUNTIFS(AF$5:AF$19,"N",AE$5:AE$19,AA24)+COUNTIFS(AB$5:AB$19,"N",AA$5:AA$19,AA24))*Paramétrage!$C$34+(COUNTIFS(AF$5:AF$19,"L",AE$5:AE$19,AA24)+COUNTIFS(AB$5:AB$19,"L",AA$5:AA$19,AA24))*Paramétrage!$C$35 -> 4 | AC24: =SUMIF(AA$5:AC$19,AA24,AC$5:AC$19)+SUMIF(AE$5:AG$19,AA24,AG$5:AG$19) -> 0 | AD24: =RANK(Z24,Z$22:Z$27,0) -> 4 | AE24: =AA24 -> Nom équipe 4 B | AK24: =AM24+AN24/1000 -> 4 | AL24: =AL7 -> Nom équipe 10 B | AM24: =(COUNTIFS(AQ$5:AQ$19,"w",AP$5:AP$19,AL24)+COUNTIFS(AM$5:AM$19,"w",AL$5:AL$19,AL24))*Paramétrage!$C$33+(COUNTIFS(AQ$5:AQ$19,"N",AP$5:AP$19,AL24)+COUNTIFS(AM$5:AM$19,"N",AL$5:AL$19,AL24))*Paramétrage!$C$34+(COUNTIFS(AQ$5:AQ$19,"L",AP$5:AP$19,AL24)+COUNTIFS(AM$5:AM$19,"L",AL$5:AL$19,AL24))*Paramétrage!$C$35 -> 4 | AN24: =SUMIF(AL$5:AN$19,AL24,AN$5:AN$19)+SUMIF(AP$5:AR$19,AL24,AR$5:AR$19) -> 0 | AO24: =RANK(AK24,AK$22:AK$27,0) -> 4 | AP24: =AL24 -> Nom équipe 10 B
D25: =F25+G25/1000 -> 10 | E25: =I5 -> Nom équipe 4 A | F25: =(COUNTIFS(J$5:J$19,"w",I$5:I$19,E25)+COUNTIFS(F$5:F$19,"w",E$5:E$19,E25))*Paramétrage!$C$33+(COUNTIFS(J$5:J$19,"N",I$5:I$19,E25)+COUNTIFS(F$5:F$19,"N",E$5:E$19,E25))*Paramétrage!$C$34+(COUNTIFS(J$5:J$19,"L",I$5:I$19,E25)+COUNTIFS(F$5:F$19,"L",E$5:E$19,E25))*Paramétrage!$C$35 -> 10 | G25: =SUMIF(E$5:G$19,E25,G$5:G$19)+SUMIF(I$5:K$19,E25,K$5:K$19) -> 0 | H25: =RANK(D25,D$22:D$27,0) -> 1 | I25: =E25 -> Nom équipe 4 A | O25: =Q25+R25/1000 -> 10 | P25: =T5 -> Nom équipe 10 A | Q25: =(COUNTIFS(U$5:U$19,"w",T$5:T$19,P25)+COUNTIFS(Q$5:Q$19,"w",P$5:P$19,P25))*Paramétrage!$C$33+(COUNTIFS(U$5:U$19,"N",T$5:T$19,P25)+COUNTIFS(Q$5:Q$19,"N",P$5:P$19,P25))*Paramétrage!$C$34+(COUNTIFS(U$5:U$19,"L",T$5:T$19,P25)+COUNTIFS(Q$5:Q$19,"L",P$5:P$19,P25))*Paramétrage!$C$35 -> 10 | R25: =SUMIF(P$5:R$19,P25,R$5:R$19)+SUMIF(T$5:V$19,P25,V$5:V$19) -> 0 | S25: =RANK(O25,O$22:O$27,0) -> 1 | T25: =P25 -> Nom équipe 10 A | Z25: =AB25+AC25/1000 -> 10 | AA25: =AE5 -> Nom équipe 3 B | AB25: =(COUNTIFS(AF$5:AF$19,"w",AE$5:AE$19,AA25)+COUNTIFS(AB$5:AB$19,"w",AA$5:AA$19,AA25))*Paramétrage!$C$33+(COUNTIFS(AF$5:AF$19,"N",AE$5:AE$19,AA25)+COUNTIFS(AB$5:AB$19,"N",AA$5:AA$19,AA25))*Paramétrage!$C$34+(COUNTIFS(AF$5:AF$19,"L",AE$5:AE$19,AA25)+COUNTIFS(AB$5:AB$19,"L",AA$5:AA$19,AA25))*Paramétrage!$C$35 -> 10 | AC25: =SUMIF(AA$5:AC$19,AA25,AC$5:AC$19)+SUMIF(AE$5:AG$19,AA25,AG$5:AG$19) -> 0 | AD25: =RANK(Z25,Z$22:Z$27,0) -> 1 | AE25: =AA25 -> Nom équipe 3 B | AK25: =AM25+AN25/1000 -> 10 | AL25: =AP5 -> Nom équipe 9 B | AM25: =(COUNTIFS(AQ$5:AQ$19,"w",AP$5:AP$19,AL25)+COUNTIFS(AM$5:AM$19,"w",AL$5:AL$19,AL25))*Paramétrage!$C$33+(COUNTIFS(AQ$5:AQ$19,"N",AP$5:AP$19,AL25)+COUNTIFS(AM$5:AM$19,"N",AL$5:AL$19,AL25))*Paramétrage!$C$34+(COUNTIFS(AQ$5:AQ$19,"L",AP$5:AP$19,AL25)+COUNTIFS(AM$5:AM$19,"L",AL$5:AL$19,AL25))*Paramétrage!$C$35 -> 10 | AN25: =SUMIF(AL$5:AN$19,AL25,AN$5:AN$19)+SUMIF(AP$5:AR$19,AL25,AR$5:AR$19) -> 0 | AO25: =RANK(AK25,AK$22:AK$27,0) -> 1 | AP25: =AL25 -> Nom équipe 9 B
D26: =F26+G26/1000 -> 8 | E26: =I6 -> Nom équipe 5 A | F26: =(COUNTIFS(J$5:J$19,"w",I$5:I$19,E26)+COUNTIFS(F$5:F$19,"w",E$5:E$19,E26))*Paramétrage!$C$33+(COUNTIFS(J$5:J$19,"N",I$5:I$19,E26)+COUNTIFS(F$5:F$19,"N",E$5:E$19,E26))*Paramétrage!$C$34+(COUNTIFS(J$5:J$19,"L",I$5:I$19,E26)+COUNTIFS(F$5:F$19,"L",E$5:E$19,E26))*Paramétrage!$C$35 -> 8 | G26: =SUMIF(E$5:G$19,E26,G$5:G$19)+SUMIF(I$5:K$19,E26,K$5:K$19) -> 0 | H26: =RANK(D26,D$22:D$27,0) -> 2 | I26: =E26 -> Nom équipe 5 A | O26: =Q26+R26/1000 -> 8 | P26: =T6 -> Nom équipe 11 A | Q26: =(COUNTIFS(U$5:U$19,"w",T$5:T$19,P26)+COUNTIFS(Q$5:Q$19,"w",P$5:P$19,P26))*Paramétrage!$C$33+(COUNTIFS(U$5:U$19,"N",T$5:T$19,P26)+COUNTIFS(Q$5:Q$19,"N",P$5:P$19,P26))*Paramétrage!$C$34+(COUNTIFS(U$5:U$19,"L",T$5:T$19,P26)+COUNTIFS(Q$5:Q$19,"L",P$5:P$19,P26))*Paramétrage!$C$35 -> 8 | R26: =SUMIF(P$5:R$19,P26,R$5:R$19)+SUMIF(T$5:V$19,P26,V$5:V$19) -> 0 | S26: =RANK(O26,O$22:O$27,0) -> 2 | T26: =P26 -> Nom équipe 11 A | Z26: =AB26+AC26/1000 -> 8 | AA26: =AE6 -> Nom équipe 2 B | AB26: =(COUNTIFS(AF$5:AF$19,"w",AE$5:AE$19,AA26)+COUNTIFS(AB$5:AB$19,"w",AA$5:AA$19,AA26))*Paramétrage!$C$33+(COUNTIFS(AF$5:AF$19,"N",AE$5:AE$19,AA26)+COUNTIFS(AB$5:AB$19,"N",AA$5:AA$19,AA26))*Paramétrage!$C$34+(COUNTIFS(AF$5:AF$19,"L",AE$5:AE$19,AA26)+COUNTIFS(AB$5:AB$19,"L",AA$5:AA$19,AA26))*Paramétrage!$C$35 -> 8 | AC26: =SUMIF(AA$5:AC$19,AA26,AC$5:AC$19)+SUMIF(AE$5:AG$19,AA26,AG$5:AG$19) -> 0 | AD26: =RANK(Z26,Z$22:Z$27,0) -> 2 | AE26: =AA26 -> Nom équipe 2 B | AK26: =AM26+AN26/1000 -> 8 | AL26: =AP6 -> Nom équipe 8 B | AM26: =(COUNTIFS(AQ$5:AQ$19,"w",AP$5:AP$19,AL26)+COUNTIFS(AM$5:AM$19,"w",AL$5:AL$19,AL26))*Paramétrage!$C$33+(COUNTIFS(AQ$5:AQ$19,"N",AP$5:AP$19,AL26)+COUNTIFS(AM$5:AM$19,"N",AL$5:AL$19,AL26))*Paramétrage!$C$34+(COUNTIFS(AQ$5:AQ$19,"L",AP$5:AP$19,AL26)+COUNTIFS(AM$5:AM$19,"L",AL$5:AL$19,AL26))*Paramétrage!$C$35 -> 8 | AN26: =SUMIF(AL$5:AN$19,AL26,AN$5:AN$19)+SUMIF(AP$5:AR$19,AL26,AR$5:AR$19) -> 0 | AO26: =RANK(AK26,AK$22:AK$27,0) -> 2 | AP26: =AL26 -> Nom équipe 8 B
D27: =F27+G27/1000 -> 6 | E27: =I7 -> Nom équipe 6 A | F27: =(COUNTIFS(J$5:J$19,"w",I$5:I$19,E27)+COUNTIFS(F$5:F$19,"w",E$5:E$19,E27))*Paramétrage!$C$33+(COUNTIFS(J$5:J$19,"N",I$5:I$19,E27)+COUNTIFS(F$5:F$19,"N",E$5:E$19,E27))*Paramétrage!$C$34+(COUNTIFS(J$5:J$19,"L",I$5:I$19,E27)+COUNTIFS(F$5:F$19,"L",E$5:E$19,E27))*Paramétrage!$C$35 -> 6 | G27: =SUMIF(E$5:G$19,E27,G$5:G$19)+SUMIF(I$5:K$19,E27,K$5:K$19) -> 0 | H27: =RANK(D27,D$22:D$27,0) -> 3 | I27: =E27 -> Nom équipe 6 A | O27: =Q27+R27/1000 -> 6 | P27: =T7 -> Nom équipe 12 A | Q27: =(COUNTIFS(U$5:U$19,"w",T$5:T$19,P27)+COUNTIFS(Q$5:Q$19,"w",P$5:P$19,P27))*Paramétrage!$C$33+(COUNTIFS(U$5:U$19,"N",T$5:T$19,P27)+COUNTIFS(Q$5:Q$19,"N",P$5:P$19,P27))*Paramétrage!$C$34+(COUNTIFS(U$5:U$19,"L",T$5:T$19,P27)+COUNTIFS(Q$5:Q$19,"L",P$5:P$19,P27))*Paramétrage!$C$35 -> 6 | R27: =SUMIF(P$5:R$19,P27,R$5:R$19)+SUMIF(T$5:V$19,P27,V$5:V$19) -> 0 | S27: =RANK(O27,O$22:O$27,0) -> 3 | T27: =P27 -> Nom équipe 12 A | Z27: =AB27+AC27/1000 -> 6 | AA27: =AE7 -> Nom équipe 1 B | AB27: =(COUNTIFS(AF$5:AF$19,"w",AE$5:AE$19,AA27)+COUNTIFS(AB$5:AB$19,"w",AA$5:AA$19,AA27))*Paramétrage!$C$33+(COUNTIFS(AF$5:AF$19,"N",AE$5:AE$19,AA27)+COUNTIFS(AB$5:AB$19,"N",AA$5:AA$19,AA27))*Paramétrage!$C$34+(COUNTIFS(AF$5:AF$19,"L",AE$5:AE$19,AA27)+COUNTIFS(AB$5:AB$19,"L",AA$5:AA$19,AA27))*Paramétrage!$C$35 -> 6 | AC27: =SUMIF(AA$5:AC$19,AA27,AC$5:AC$19)+SUMIF(AE$5:AG$19,AA27,AG$5:AG$19) -> 0 | AD27: =RANK(Z27,Z$22:Z$27,0) -> 3 | AE27: =AA27 -> Nom équipe 1 B | AK27: =AM27+AN27/1000 -> 6 | AL27: =AP7 -> Nom équipe 7 B | AM27: =(COUNTIFS(AQ$5:AQ$19,"w",AP$5:AP$19,AL27)+COUNTIFS(AM$5:AM$19,"w",AL$5:AL$19,AL27))*Paramétrage!$C$33+(COUNTIFS(AQ$5:AQ$19,"N",AP$5:AP$19,AL27)+COUNTIFS(AM$5:AM$19,"N",AL$5:AL$19,AL27))*Paramétrage!$C$34+(COUNTIFS(AQ$5:AQ$19,"L",AP$5:AP$19,AL27)+COUNTIFS(AM$5:AM$19,"L",AL$5:AL$19,AL27))*Paramétrage!$C$35 -> 6 | AN27: =SUMIF(AL$5:AN$19,AL27,AN$5:AN$19)+SUMIF(AP$5:AR$19,AL27,AR$5:AR$19) -> 0 | AO27: =RANK(AK27,AK$22:AK$27,0) -> 3 | AP27: =AL27 -> Nom équipe 7 B

Sheet 2-Phase de classement-Sport 2
D2: WINNER BRACKET | O2: LOOSER BRACKET | W2: Classement
W5: 1er | X5: =IF(K46="","",VLOOKUP("w",K45:L46,2,FALSE))
D6: ='1-Phase de poule-Sport 2'!C20+Paramétrage!$G$18+Paramétrage!G19 -> 0.71666667 | E6: T1 | W6: 2ème | X6: =IF(K46="","",VLOOKUP("l",K45:L46,2,FALSE))
D7: ='Param. - Transition'!F20 -> Nom équipe 11 B | F7: =D7 -> Nom équipe 11 B | W7: 3ème | X7: =IF(K52="","",VLOOKUP("w",K51:L52,2,FALSE))
D8: ='Param. - Transition'!G17 -> Nom équipe 1 A | F8: =D8 -> Nom équipe 1 A | G8: =D38+Paramétrage!$G$18+Paramétrage!J21 -> 0.7375 | H8: T1 | O8: =+G8 -> 0.7375 | P8: T3 | W8: 4ème | X8: =IF(K52="","",VLOOKUP("l",K51:L52,2,FALSE))
G9: =IF(E8="","",VLOOKUP("w",E7:F8,2,FALSE)) | I9: =G9 | O9: =IF(E8="","",VLOOKUP("l",E7:F8,2,FALSE)) | Q9: =+O9 | W9: 5ème | X9: =IF(S46="","",VLOOKUP("w",S45:T46,2,FALSE))
D10: =+D6 -> 0.71666667 | E10: T2 | G10: =IF(E12="","",VLOOKUP("w",E11:F12,2,FALSE)) | I10: =G10 | O10: =IF(E12="","",VLOOKUP("l",E11:F12,2,FALSE)) | Q10: =+O10 | W10: 6ème | X10: =IF(S46="","",VLOOKUP("l",S45:T46,2,FALSE))
D11: ='Param. - Transition'!F19 -> Nom équipe 5 B | F11: =D11 -> Nom équipe 5 B | W11: 7ème | X11: =IF(S52="","",VLOOKUP("w",S51:T52,2,FALSE))
D12: ='Param. - Transition'!G18 -> Nom équipe 7 A | F12: =D12 -> Nom équipe 7 A | J12: =G40+Paramétrage!$G$18+Paramétrage!M25 -> 0.75625 | K12: T1 | R12: =+J12 -> 0.75625 | S12: T3 | W12: 8ème | X12: =IF(S52="","",VLOOKUP("l",S51:T52,2,FALSE))
J13: =IF(H10="","",VLOOKUP("w",H9:I10,2,FALSE)) | L13: =J13 | R13: =IF(P10="","",VLOOKUP("w",P9:Q10,2,FALSE)) | T13: =R13 | W13: 9ème | X13: =IF(K30="","",VLOOKUP("w",K29:L30,2,FALSE))
D14: =+D10 -> 0.71666667 | E14: T3 | J14: =IF(H18="","",VLOOKUP("w",H17:I18,2,FALSE)) | L14: =J14 | R14: =IF(P18="","",VLOOKUP("w",P17:Q18,2,FALSE)) | T14: =R14 | W14: 10ème | X14: =IF(K30="","",VLOOKUP("l",K29:L30,2,FALSE))
D15: ='Param. - Transition'!F18 -> Nom équipe 8 A | F15: =D15 -> Nom équipe 8 A | W15: 11ème | X15: =IF(K36="","",VLOOKUP("w",K35:L36,2,FALSE))
D16: ='Param. - Transition'!G19 -> Nom équipe 6 B | F16: =D16 -> Nom équipe 6 B | G16: =+G8 -> 0.7375 | H16: T2 | O16: =+G8 -> 0.7375 | P16: T4 | W16: 12ème | X16: =IF(K36="","",VLOOKUP("l",K35:L36,2,FALSE))
G17: =IF(E16="","",VLOOKUP("w",E15:F16,2,FALSE)) | I17: =G17 | O17: =IF(E16="","",VLOOKUP("l",E15:F16,2,FALSE)) | Q17: =O17 | W17: 13ème | X17: =IF(S30="","",VLOOKUP("w",S29:T30,2,FALSE))
D18: =+D14 -> 0.71666667 | E18: T4 | G18: =IF(E20="","",VLOOKUP("w",E19:F20,2,FALSE)) | I18: =G18 | J18: =+J12 -> 0.75625 | K18: T2 | O18: =IF(E20="","",VLOOKUP("l",E19:F20,2,FALSE)) | Q18: =O18 | R18: =+J12 -> 0.75625 | S18: T4 | W18: 14ème | X18: =IF(S30="","",VLOOKUP("l",S29:T30,2,FALSE))
D19: ='Param. - Transition'!F17 -> Nom équipe 2 A | F19: =D19 -> Nom équipe 2 A | J19: =IF(H10="","",VLOOKUP("L",H9:I10,2,FALSE)) | L19: =J19 | R19: =IF(P10="","",VLOOKUP("L",P9:Q10,2,FALSE)) | T19: =R19 | W19: 15ème | X19: =IF(S35="","",VLOOKUP("w",S35:T36,2,FALSE))
D20: ='Param. - Transition'!G20 -> Nom équipe 12 B | F20: =D20 -> Nom équipe 12 B | J20: =IF(H18="","",VLOOKUP("L",H17:I18,2,FALSE)) | L20: =J20 | R20: =IF(P18="","",VLOOKUP("L",P17:Q18,2,FALSE)) | T20: =R20 | W20: 16ème | X20: =IF(S36="","",VLOOKUP("l",S35:T36,2,FALSE))
V21: 1 | W21: 17ème | X21: =IF(K14="","",VLOOKUP("w",K13:L14,2,FALSE))
D22: =D6+Paramétrage!$G$18+Paramétrage!G19 -> 0.725 | E22: T1 | V22: 2 | W22: 18ème | X22: =IF(K14="","",VLOOKUP("l",K13:L14,2,FALSE))
D23: ='Param. - Transition'!D20 -> Nom équipe 7 B | F23: =D23 -> Nom équipe 7 B | V23: 3 | W23: 19ème | X23: =IF(K20="","",VLOOKUP("w",K19:L20,2,FALSE))
D24: ='Param. - Transition'!E17 -> Nom équipe 3 A | F24: =D24 -> Nom équipe 3 A | G24: =G8+Paramétrage!$G$18+Paramétrage!J37 -> 0.74375 | H24: T1 | O24: =G24 -> 0.74375 | P24: T3 | V24: 4 | W24: 20ème | X24: =IF(K20="","",VLOOKUP("l",K19:L20,2,FALSE))
G25: =IF(E24="","",VLOOKUP("w",E23:F24,2,FALSE)) | I25: =G25 | O25: =IF(E24="","",VLOOKUP("l",E23:F24,2,FALSE)) | Q25: =O25 | W25: 21ème | X25: =IF(S14="","",VLOOKUP("w",S13:T14,2,FALSE))
D26: =+D22 -> 0.725 | E26: T2 | G26: =IF(E28="","",VLOOKUP("w",E27:F28,2,FALSE)) | I26: =G26 | O26: =IF(E28="","",VLOOKUP("l",E27:F28,2,FALSE)) | Q26: =O26 | W26: 22ème | X26: =IF(S14="","",VLOOKUP("l",S13:T14,2,FALSE))
D27: ='Param. - Transition'!D19 -> Nom équipe 1 B | F27: =D27 -> Nom équipe 1 B | W27: 23ème | X27: =IF(S20="","",VLOOKUP("w",S19:T20,2,FALSE))
D28: ='Param. - Transition'!E18 -> Nom équipe 9 A | F28: =D28 -> Nom équipe 9 A | J28: =J12+Paramétrage!$G$18+Paramétrage!M41 -> 0.7625 | K28: T1 | R28: =+J28 -> 0.7625 | S28: T3 | W28: 24ème | X28: =IF(S20="","",VLOOKUP("l",S19:T20,2,FALSE))
J29: =IF(H26="","",VLOOKUP("w",H25:I26,2,FALSE)) | L29: =J29 | R29: =IF(P26="","",VLOOKUP("w",P25:Q26,2,FALSE)) | T29: =R29
D30: =+D26 -> 0.725 | E30: T3 | J30: =IF(H34="","",VLOOKUP("w",H33:I34,2,FALSE)) | L30: =J30 | R30: =IF(P34="","",VLOOKUP("w",P33:Q34,2,FALSE)) | T30: =R30
D31: ='Param. - Transition'!D18 -> Nom équipe 12 A | F31: =D31 -> Nom équipe 12 A
D32: ='Param. - Transition'!E19 -> Nom équipe 4 B | F32: =D32 -> Nom équipe 4 B | G32: =G24 -> 0.74375 | H32: T2 | O32: =G24 -> 0.74375 | P32: T4
G33: =IF(E32="","",VLOOKUP("w",E31:F32,2,FALSE)) | I33: =G33 | O33: =IF(E32="","",VLOOKUP("l",E31:F32,2,FALSE)) | Q33: =O33
D34: =+D30 -> 0.725 | E34: T4 | G34: =IF(E36="","",VLOOKUP("w",E35:F36,2,FALSE)) | I34: =G34 | J34: =+J28 -> 0.7625 | K34: T2 | O34: =IF(E36="","",VLOOKUP("l",E35:F36,2,FALSE)) | Q34: =O34 | R34: =+J28 -> 0.7625 | S34: T4
D35: ='Param. - Transition'!D17 -> Nom équipe 6 A | F35: =D35 -> Nom équipe 6 A | J35: =IF(H26="","",VLOOKUP("L",H25:I26,2,FALSE)) | L35: =J35 | R35: =IF(P26="","",VLOOKUP("L",P25:Q26,2,FALSE)) | T35: =R35
D36: ='Param. - Transition'!E20 -> Nom équipe 10 B | F36: =D36 -> Nom équipe 10 B | J36: =IF(H34="","",VLOOKUP("L",H33:I34,2,FALSE)) | L36: =J36 | R36: =IF(P34="","",VLOOKUP("L",P33:Q34,2,FALSE)) | T36: =R36
V37: 1
D38: =D22+Paramétrage!$G$18+Paramétrage!G35 -> 0.73125 | E38: T1 | V38: 2
D39: ='Param. - Transition'!B20 -> Nom équipe 9 B | F39: =D39 -> Nom équipe 9 B | V39: 3
D40: ='Param. - Transition'!C17 -> Nom équipe 5 A | F40: =D40 -> Nom équipe 5 A | G40: =G24+Paramétrage!$G$18+Paramétrage!J53 -> 0.75 | H40: T1 | O40: =G40 -> 0.75 | P40: T3 | V40: 4
G41: =IF(E40="","",VLOOKUP("w",E39:F40,2,FALSE)) | I41: =G41 | O41: =IF(E40="","",VLOOKUP("l",E39:F40,2,FALSE)) | Q41: =O41
D42: =+D38 -> 0.73125 | E42: T2 | G42: =IF(E44="","",VLOOKUP("w",E43:F44,2,FALSE)) | I42: =G42 | O42: =IF(E44="","",VLOOKUP("l",E43:F44,2,FALSE)) | Q42: =O42
D43: ='Param. - Transition'!B19 -> Nom équipe 3 B | F43: =D43 -> Nom équipe 3 B
D44: ='Param. - Transition'!C18 -> Nom équipe 11 A | F44: =D44 -> Nom équipe 11 A | J44: =J28+Paramétrage!$G$18+Paramétrage!M57 -> 0.76875 | K44: T1 | R44: =+J44 -> 0.76875 | S44: T3
J45: =IF(H42="","",VLOOKUP("w",H41:I42,2,FALSE)) | L45: =J45 | R45: =IF(P42="","",VLOOKUP("w",P41:Q42,2,FALSE)) | T45: =R45
D46: =+D42 -> 0.73125 | E46: T3 | J46: =IF(H50="","",VLOOKUP("w",H49:I50,2,FALSE)) | L46: =J46 | R46: =IF(P50="","",VLOOKUP("w",P49:Q50,2,FALSE)) | T46: =R46
D47: ='Param. - Transition'!B18 -> Nom équipe 10 A | F47: =D47 -> Nom équipe 10 A
D48: ='Param. - Transition'!C19 -> Nom équipe 2 B | F48: =D48 -> Nom équipe 2 B | G48: =G40 -> 0.75 | H48: T2 | O48: =G40 -> 0.75 | P48: T4
G49: =IF(E48="","",VLOOKUP("w",E47:F48,2,FALSE)) | I49: =G49 | O49: =IF(E48="","",VLOOKUP("l",E47:F48,2,FALSE)) | Q49: =O49
D50: =+D46 -> 0.73125 | E50: T4 | G50: =IF(E52="","",VLOOKUP("w",E51:F52,2,FALSE)) | I50: =G50 | J50: =+J44 -> 0.76875 | K50: T2 | O50: =IF(E52="","",VLOOKUP("l",E51:F52,2,FALSE)) | Q50: =O50 | R50: =+J44 -> 0.76875 | S50: T4
D51: ='Param. - Transition'!B17 -> Nom équipe 4 A | F51: =D51 -> Nom équipe 4 A | J51: =IF(H42="","",VLOOKUP("L",H41:I42,2,FALSE)) | L51: =J51 | R51: =IF(P42="","",VLOOKUP("L",P41:Q42,2,FALSE)) | T51: =R51
D52: ='Param. - Transition'!C20 -> Nom équipe 8 B | F52: =D52 -> Nom équipe 8 B | J52: =IF(H50="","",VLOOKUP("L",H49:I50,2,FALSE)) | L52: =J52 | R52: =IF(P50="","",VLOOKUP("L",P49:Q50,2,FALSE)) | T52: =R52
R54: Fin
R55: =R50+Paramétrage!$G$18+Paramétrage!U68 -> 0.775

Sheet 3-Classement final
B3: ="Classement équipe - "&Paramétrage!J2 -> Classement équipe - Foot | E3: ="Classement Duo - "&Paramétrage!J3 -> Classement Duo - Padel | H3: ="Classement équipe - "&Paramétrage!J3 -> Classement équipe - Padel | P3: Classement final
B4: Nom équipe | C4: Classement | E4: Nom équipe | F4: Classement | H4: Nom équipe | I4: Points | J4: Classement | P4: =Paramétrage!J2 -> Foot | Q4: =Paramétrage!J3 -> Padel | R4: Point | S4: Classement
B5: =+'2-Phase de classement-Sport 1'!N5 -> Nom équipe 6 | C5: 1 | E5: ='2-Phase de classement-Sport 2'!X5 | F5: 1 | H5: =Paramétrage!E3 -> Nom équipe 1 | I5: =SUMIF($E$5:$F$44,"*"&H5&"*",$F$5:$F$44) -> 0 | J5: =RANK(I5,$I$5:$I$24,0) -> 1 | O5: =Paramétrage!E3 -> Nom équipe 1 | P5: =VLOOKUP(O5,$B$5:$C$16,2,FALSE) -> 6 | Q5: =VLOOKUP(O5,$H$5:$J$16,3,FALSE) -> 1 | R5: =P5+Q5 -> 7 | S5: =RANK(R5,$R$5:$R$16,1) -> 6
B6: =+'2-Phase de classement-Sport 1'!N6 -> Nom équipe 4 | C6: 2 | E6: ='2-Phase de classement-Sport 2'!X6 | F6: 2 | H6: =Paramétrage!E4 -> Nom équipe 2 | I6: =SUMIF($E$5:$F$44,"*"&H6&"*",$F$5:$F$44) -> 0 | J6: =RANK(I6,$I$5:$I$24,0) -> 1 | O6: =Paramétrage!E4 -> Nom équipe 2 | P6: =VLOOKUP(O6,$B$5:$C$16,2,FALSE) -> 5 | Q6: =VLOOKUP(O6,$H$5:$J$16,3,FALSE) -> 1 | R6: =P6+Q6 -> 6 | S6: =RANK(R6,$R$5:$R$16,1) -> 5
B7: =+'2-Phase de classement-Sport 1'!N7 -> Nom équipe 3 | C7: 3 | E7: ='2-Phase de classement-Sport 2'!X7 | F7: 3 | H7: =Paramétrage!E5 -> Nom équipe 3 | I7: =SUMIF($E$5:$F$44,"*"&H7&"*",$F$5:$F$44) -> 0 | J7: =RANK(I7,$I$5:$I$24,0) -> 1 | O7: =Paramétrage!E5 -> Nom équipe 3 | P7: =VLOOKUP(O7,$B$5:$C$16,2,FALSE) -> 3 | Q7: =VLOOKUP(O7,$H$5:$J$16,3,FALSE) -> 1 | R7: =P7+Q7 -> 4 | S7: =RANK(R7,$R$5:$R$16,1) -> 3
B8: =+'2-Phase de classement-Sport 1'!N8 -> Nom équipe 5 | C8: 4 | E8: ='2-Phase de classement-Sport 2'!X8 | F8: 4 | H8: =Paramétrage!E6 -> Nom équipe 4 | I8: =SUMIF($E$5:$F$44,"*"&H8&"*",$F$5:$F$44) -> 0 | J8: =RANK(I8,$I$5:$I$24,0) -> 1 | O8: =Paramétrage!E6 -> Nom équipe 4 | P8: =VLOOKUP(O8,$B$5:$C$16,2,FALSE) -> 2 | Q8: =VLOOKUP(O8,$H$5:$J$16,3,FALSE) -> 1 | R8: =P8+Q8 -> 3 | S8: =RANK(R8,$R$5:$R$16,1) -> 2
B9: =+'2-Phase de classement-Sport 1'!N9 -> Nom équipe 2 | C9: 5 | E9: ='2-Phase de classement-Sport 2'!X9 | F9: 5 | H9: =Paramétrage!E7 -> Nom équipe 5 | I9: =SUMIF($E$5:$F$44,"*"&H9&"*",$F$5:$F$44) -> 0 | J9: =RANK(I9,$I$5:$I$24,0) -> 1 | O9: =Paramétrage!E7 -> Nom équipe 5 | P9: =VLOOKUP(O9,$B$5:$C$16,2,FALSE) -> 4 | Q9: =VLOOKUP(O9,$H$5:$J$16,3,FALSE) -> 1 | R9: =P9+Q9 -> 5 | S9: =RANK(R9,$R$5:$R$16,1) -> 4
B10: =+'2-Phase de classement-Sport 1'!N10 -> Nom équipe 1 | C10: 6 | E10: ='2-Phase de classement-Sport 2'!X10 | F10: 6 | H10: =Paramétrage!E8 -> Nom équipe 6 | I10: =SUMIF($E$5:$F$44,"*"&H10&"*",$F$5:$F$44) -> 0 | J10: =RANK(I10,$I$5:$I$24,0) -> 1 | O10: =Paramétrage!E8 -> Nom équipe 6 | P10: =VLOOKUP(O10,$B$5:$C$16,2,FALSE) -> 1 | Q10: =VLOOKUP(O10,$H$5:$J$16,3,FALSE) -> 1 | R10: =P10+Q10 -> 2 | S10: =RANK(R10,$R$5:$R$16,1) -> 1
B11: =+'2-Phase de classement-Sport 1'!N11 -> Nom équipe 7 | C11: 7 | E11: ='2-Phase de classement-Sport 2'!X11 | F11: 7 | H11: =Paramétrage!E9 -> Nom équipe 7 | I11: =SUMIF($E$5:$F$44,"*"&H11&"*",$F$5:$F$44) -> 0 | J11: =RANK(I11,$I$5:$I$24,0) -> 1 | O11: =Paramétrage!E9 -> Nom équipe 7 | P11: =VLOOKUP(O11,$B$5:$C$16,2,FALSE) -> 7 | Q11: =VLOOKUP(O11,$H$5:$J$16,3,FALSE) -> 1 | R11: =P11+Q11 -> 8 | S11: =RANK(R11,$R$5:$R$16,1) -> 7
B12: =+'2-Phase de classement-Sport 1'!N12 -> Nom équipe 8 | C12: 8 | E12: ='2-Phase de classement-Sport 2'!X12 | F12: 8 | H12: =Paramétrage!E10 -> Nom équipe 8 | I12: =SUMIF($E$5:$F$44,"*"&H12&"*",$F$5:$F$44) -> 0 | J12: =RANK(I12,$I$5:$I$24,0) -> 1 | O12: =Paramétrage!E10 -> Nom équipe 8 | P12: =VLOOKUP(O12,$B$5:$C$16,2,FALSE) -> 8 | Q12: =VLOOKUP(O12,$H$5:$J$16,3,FALSE) -> 1 | R12: =P12+Q12 -> 9 | S12: =RANK(R12,$R$5:$R$16,1) -> 8
B13: =+'2-Phase de classement-Sport 1'!N13 -> Nom équipe 10 | C13: 9 | E13: ='2-Phase de classement-Sport 2'!X13 | F13: 9 | H13: =Paramétrage!E11 -> Nom équipe 9 | I13: =SUMIF($E$5:$F$44,"*"&H13&"*",$F$5:$F$44) -> 0 | J13: =RANK(I13,$I$5:$I$24,0) -> 1 | O13: =Paramétrage!E11 -> Nom équipe 9 | P13: =VLOOKUP(O13,$B$5:$C$16,2,FALSE) -> 11 | Q13: =VLOOKUP(O13,$H$5:$J$16,3,FALSE) -> 1 | R13: =P13+Q13 -> 12 | S13: =RANK(R13,$R$5:$R$16,1) -> 11
B14: =+'2-Phase de classement-Sport 1'!N14 -> Nom équipe 11 | C14: 10 | E14: ='2-Phase de classement-Sport 2'!X14 | F14: 10 | H14: =Paramétrage!E12 -> Nom équipe 10 | I14: =SUMIF($E$5:$F$44,"*"&H14&"*",$F$5:$F$44) -> 0 | J14: =RANK(I14,$I$5:$I$24,0) -> 1 | O14: =Paramétrage!E12 -> Nom équipe 10 | P14: =VLOOKUP(O14,$B$5:$C$16,2,FALSE) -> 9 | Q14: =VLOOKUP(O14,$H$5:$J$16,3,FALSE) -> 1 | R14: =P14+Q14 -> 10 | S14: =RANK(R14,$R$5:$R$16,1) -> 9
B15: =+'2-Phase de classement-Sport 1'!N15 -> Nom équipe 9 | C15: 11 | E15: ='2-Phase de classement-Sport 2'!X15 | F15: 11 | H15: =Paramétrage!E13 -> Nom équipe 11 | I15: =SUMIF($E$5:$F$44,"*"&H15&"*",$F$5:$F$44) -> 0 | J15: =RANK(I15,$I$5:$I$24,0) -> 1 | O15: =Paramétrage!E13 -> Nom équipe 11 | P15: =VLOOKUP(O15,$B$5:$C$16,2,FALSE) -> 10 | Q15: =VLOOKUP(O15,$H$5:$J$16,3,FALSE) -> 1 | R15: =P15+Q15 -> 11 | S15: =RANK(R15,$R$5:$R$16,1) -> 10
B16: =+'2-Phase de classement-Sport 1'!N16 -> Nom équipe 12 | C16: 12 | E16: ='2-Phase de classement-Sport 2'!X16 | F16: 12 | H16: =Paramétrage!E14 -> Nom équipe 12 | I16: =SUMIF($E$5:$F$44,"*"&H16&"*",$F$5:$F$44) -> 0 | J16: =RANK(I16,$I$5:$I$24,0) -> 1 | O16: =Paramétrage!E14 -> Nom équipe 12 | P16: =VLOOKUP(O16,$B$5:$C$16,2,FALSE) -> 12 | Q16: =VLOOKUP(O16,$H$5:$J$16,3,FALSE) -> 1 | R16: =P16+Q16 -> 13 | S16: =RANK(R16,$R$5:$R$16,1) -> 12
E17: ='2-Phase de classement-Sport 2'!X17 | F17: 13
E18: ='2-Phase de classement-Sport 2'!X18 | F18: 14
E19: ='2-Phase de classement-Sport 2'!X19 | F19: 15
E20: ='2-Phase de classement-Sport 2'!X20 | F20: 16
E21: ='2-Phase de classement-Sport 2'!X21 | F21: 17
E22: ='2-Phase de classement-Sport 2'!X22 | F22: 18
E23: ='2-Phase de classement-Sport 2'!X23 | F23: 19
E24: ='2-Phase de classement-Sport 2'!X24 | F24: 20
E25: ='2-Phase de classement-Sport 2'!X25 | F25: 21
E26: ='2-Phase de classement-Sport 2'!X26 | F26: 22
E27: ='2-Phase de classement-Sport 2'!X27 | F27: 23
E28: ='2-Phase de classement-Sport 2'!X28 | F28: 24
