Workbook

Sheet Point équipe
A3: Equipes participants | B3: Montant payé | C3: Montant à payer | D3: Montant restant à payer | F3: Joueur 1 | G3: Joueur 2 | H3: Joueur 3 | I3: Joueur 4 | J3: Joueur 5 | K3: Joueur 6
A4: Nom équipe 1 | D4: =C4-B4 -> 0
A5: Nom équipe 2 | D5: =C5-B5 -> 0
A6: Nom équipe 3 | D6: =C6-B6 -> 0
A7: Nom équipe 4 | D7: =C7-B7 -> 0
A8: Nom équipe 5 | D8: =C8-B8 -> 0
A9: Nom équipe 6 | D9: =C9-B9 -> 0
A10: Nom équipe 7 | D10: =C10-B10 -> 0
A11: Nom équipe 8 | D11: =C11-B11 -> 0
A12: Nom équipe 9 | D12: =C12-B12 -> 0
A13: Nom équipe 10 | D13: =C13-B13 -> 0
B14: =SUM(B4:B13) -> 0 | C14: =SUM(C4:C13) -> 0 | D14: =SUM(D4:D13) -> 0

Sheet Paramétrage
A1: W
A2: N | E2: Equipes participants | F2: Binome A | G2: Binome A | I2: Sport 1 | J2: Ping | K2: Sport en binôme
A3: L | E3: ='Point équipe'!A4 -> Nom équipe 1 | F3: =E3&" A" -> Nom équipe 1 A | G3: =E3&" B" -> Nom équipe 1 B | I3: Sport 2 | J3: Volley | K3: Sport en équipe
E4: ='Point équipe'!A5 -> Nom équipe 2 | F4: =E4&" A" -> Nom équipe 2 A | G4: =E4&" B" -> Nom équipe 2 B
B5: OZAIPEOIAE | E5: ='Point équipe'!A6 -> Nom équipe 3 | F5: =E5&" A" -> Nom équipe 3 A | G5: =E5&" B" -> Nom équipe 3 B
B6: OZAIPEOIAE | E6: ='Point équipe'!A7 -> Nom équipe 4 | F6: =E6&" A" -> Nom équipe 4 A | G6: =E6&" B" -> Nom équipe 4 B
B7: OZAIPEOIAE | E7: ='Point équipe'!A8 -> Nom équipe 5 | F7: =E7&" A" -> Nom équipe 5 A | G7: =E7&" B" -> Nom équipe 5 B
B8: OZAIPEOIAE | E8: ='Point équipe'!A9 -> Nom équipe 6 | F8: =E8&" A" -> Nom équipe 6 A | G8: =E8&" B" -> Nom équipe 6 B
B9: OZAIPEOIAE | E9: ='Point équipe'!A10 -> Nom équipe 7 | F9: =E9&" A" -> Nom équipe 7 A | G9: =E9&" B" -> Nom équipe 7 B
B10: OZAIPEOIAE | E10: ='Point équipe'!A11 -> Nom équipe 8 | F10: =E10&" A" -> Nom équipe 8 A | G10: =E10&" B" -> Nom équipe 8 B
B11: OZAIPEOIAE | E11: ='Point équipe'!A12 -> Nom équipe 9 | F11: =E11&" A" -> Nom équipe 9 A | G11: =E11&" B" -> Nom équipe 9 B
B12: OZAIPEOIAE | E12: ='Point équipe'!A13 -> Nom équipe 10 | F12: =E12&" A" -> Nom équipe 10 A | G12: =E12&" B" -> Nom équipe 10 B
D14: ="Paramétrage Poule - "&Paramétrage!$J$2 -> Paramétrage Poule - Ping | E14: ="Paramétrage Poule - "&Paramétrage!$J$3 -> Paramétrage Poule - Volley | F14: ="Paramétrage Classement - "&Paramétrage!$J$2 -> Paramétrage Classement - Ping | G14: ="Paramétrage Classement - "&Paramétrage!$J$3 -> Paramétrage Classement - Volley
B15: Horaire de début | D15: 0.42361111 | E15: 0.60416667 | F15: =D19+D16+D17 -> 0.51145833 | G15: =E19+E16+E17 -> 0.69201389
B16: Temps match | D16: 0.00625 | E16: 0.00625 | F16: 0.00625 | G16: 0.00625
B17: Entre match | D17: 0.0017361111 | E17: 0.0017361111 | F17: 0.0017361111 | G17: 0.0017361111
B18: Passage à phase de classement
B19: Fin poule 1 | D19: ='1-Phase de poule-Sport 1'!C15 -> 0.50347222 | E19: ='1-Phase de poule-Sport 2'!C15 -> 0.68402778
B20: Fin poule 2
B21: Fin tournoi | F21: ='2-Phase de classement-Sport 1'!R40 -> 0.57534722 | G21: ='2-Phase de classement-Sport 2'!H40 -> 0.73993056
B23: Nombre point de victoire | C23: 3
B24: Nombre point le nul | C24: 2
B25: Nombre point la défaite | C25: 1

Sheet Param. - Transition
B2: Phase de Poule vers phase de classement - Sport 1
B4: 1 | C4: 2 | D4: 3 | E4: 4 | F4: 5
A5: A | B5: =+VLOOKUP('Param. - Transition'!B$4,'1-Phase de poule-Sport 1'!$H$17:$I$21,2,FALSE) -> Nom équipe 5 A | C5: =+VLOOKUP('Param. - Transition'!C$4,'1-Phase de poule-Sport 1'!$H$17:$I$21,2,FALSE) -> #N/A | D5: =+VLOOKUP('Param. - Transition'!D$4,'1-Phase de poule-Sport 1'!$H$17:$I$21,2,FALSE) -> Nom équipe 3 A | E5: =+VLOOKUP('Param. - Transition'!E$4,'1-Phase de poule-Sport 1'!$H$17:$I$21,2,FALSE) -> Nom équipe 1 A | F5: =+VLOOKUP('Param. - Transition'!F$4,'1-Phase de poule-Sport 1'!$H$17:$I$21,2,FALSE) -> #N/A
A6: B | B6: =+VLOOKUP('Param. - Transition'!B$4,'1-Phase de poule-Sport 1'!$S$17:$T$21,2,FALSE) -> Nom équipe 6 A | C6: =+VLOOKUP('Param. - Transition'!C$4,'1-Phase de poule-Sport 1'!$S$17:$T$21,2,FALSE) -> #N/A | D6: =+VLOOKUP('Param. - Transition'!D$4,'1-Phase de poule-Sport 1'!$S$17:$T$21,2,FALSE) -> Nom équipe 4 A | E6: =+VLOOKUP('Param. - Transition'!E$4,'1-Phase de poule-Sport 1'!$S$17:$T$21,2,FALSE) -> Nom équipe 2 A | F6: =+VLOOKUP('Param. - Transition'!F$4,'1-Phase de poule-Sport 1'!$S$17:$T$21,2,FALSE) -> #N/A
A7: C | B7: =+VLOOKUP('Param. - Transition'!B$4,'1-Phase de poule-Sport 1'!$AD$17:$AE$21,2,FALSE) -> Nom équipe 9 B | C7: =+VLOOKUP('Param. - Transition'!C$4,'1-Phase de poule-Sport 1'!$AD$17:$AE$21,2,FALSE) -> #N/A | D7: =+VLOOKUP('Param. - Transition'!D$4,'1-Phase de poule-Sport 1'!$AD$17:$AE$21,2,FALSE) -> Nom équipe 7 B | E7: =+VLOOKUP('Param. - Transition'!E$4,'1-Phase de poule-Sport 1'!$AD$17:$AE$21,2,FALSE) -> Nom équipe 5 B | F7: =+VLOOKUP('Param. - Transition'!F$4,'1-Phase de poule-Sport 1'!$AD$17:$AE$21,2,FALSE) -> #N/A
A8: D | B8: =+VLOOKUP('Param. - Transition'!B$4,'1-Phase de poule-Sport 1'!$AO$17:$AP$21,2,FALSE) -> Nom équipe 10 B | C8: =+VLOOKUP('Param. - Transition'!C$4,'1-Phase de poule-Sport 1'!$AO$17:$AP$21,2,FALSE) -> #N/A | D8: =+VLOOKUP('Param. - Transition'!D$4,'1-Phase de poule-Sport 1'!$AO$17:$AP$21,2,FALSE) -> Nom équipe 8 B | E8: =+VLOOKUP('Param. - Transition'!E$4,'1-Phase de poule-Sport 1'!$AO$17:$AP$21,2,FALSE) -> Nom équipe 6 B | F8: =+VLOOKUP('Param. - Transition'!F$4,'1-Phase de poule-Sport 1'!$AO$17:$AP$21,2,FALSE) -> #N/A
B14: Phase de Poule vers phase de classement - Sport 2
B16: 1 | C16: 2 | D16: 3 | E16: 4 | F16: 5
A17: A | B17: =+VLOOKUP('Param. - Transition'!B$4,'1-Phase de poule-Sport 2'!$H$17:$I$21,2,FALSE) -> Nom équipe 3 | C17: =+VLOOKUP('Param. - Transition'!C$4,'1-Phase de poule-Sport 2'!$H$17:$I$21,2,FALSE) -> #N/A | D17: =+VLOOKUP('Param. - Transition'!D$4,'1-Phase de poule-Sport 2'!$H$17:$I$21,2,FALSE) -> Nom équipe 2 | E17: =+VLOOKUP('Param. - Transition'!E$4,'1-Phase de poule-Sport 2'!$H$17:$I$21,2,FALSE) -> Nom équipe 1 | F17: =+VLOOKUP('Param. - Transition'!F$4,'1-Phase de poule-Sport 2'!$H$17:$I$21,2,FALSE) -> #N/A
A18: B | B18: =+VLOOKUP('Param. - Transition'!B$4,'1-Phase de poule-Sport 2'!$S$17:$T$21,2,FALSE) -> Nom équipe 8 | C18: =+VLOOKUP('Param. - Transition'!C$4,'1-Phase de poule-Sport 2'!$S$17:$T$21,2,FALSE) -> #N/A | D18: =+VLOOKUP('Param. - Transition'!D$4,'1-Phase de poule-Sport 2'!$S$17:$T$21,2,FALSE) -> Nom équipe 7 | E18: =+VLOOKUP('Param. - Transition'!E$4,'1-Phase de poule-Sport 2'!$S$17:$T$21,2,FALSE) -> Nom équipe 6 | F18: =+VLOOKUP('Param. - Transition'!F$4,'1-Phase de poule-Sport 2'!$S$17:$T$21,2,FALSE) -> #N/A

Sheet FdM
B2: Feuille de match | M2: Feuille de match | X2: Feuille de match | AI2: Feuille de match
E7: ="POULE A - "&Paramétrage!$J$2 -> POULE A - Ping | P7: ="POULE B - "&Paramétrage!$J$2 -> POULE B - Ping | AA7: ="POULE C - "&Paramétrage!$J$2 -> POULE C - Ping | AL7: ="POULE D - "&Paramétrage!$J$2 -> POULE D - Ping
E9: Nom équipe | F9: W/L | G9: Dif. | I9: Nom équipe | J9: W/L | K9: Dif. | P9: Nom équipe | Q9: W/L | R9: Dif. | T9: Nom équipe | U9: W/L | V9: Dif. | AA9: Nom équipe | AB9: W/L | AC9: Dif. | AE9: Nom équipe | AF9: W/L | AG9: Dif. | AL9: Nom équipe | AM9: W/L | AN9: Dif. | AP9: Nom équipe | AQ9: W/L | AR9: Dif.
A10: =+'1-Phase de poule-Sport 1'!A5 -> 0 | B10: =+'1-Phase de poule-Sport 1'!B5 -> T1 | C10: =+'1-Phase de poule-Sport 1'!C5 -> 0.42361111 | E10: =+'1-Phase de poule-Sport 1'!E5 -> Nom équipe 1 A | H10: =+'1-Phase de poule-Sport 1'!H5 -> VS | I10: =+'1-Phase de poule-Sport 1'!I5 -> Nom équipe 7 A | L10: =+'1-Phase de poule-Sport 1'!L5 -> 0 | M10: =+'1-Phase de poule-Sport 1'!M5 -> T2 | N10: =+'1-Phase de poule-Sport 1'!N5 -> 0.42361111 | P10: =+'1-Phase de poule-Sport 1'!P5 -> Nom équipe 2 A | S10: =+'1-Phase de poule-Sport 1'!S5 -> VS | T10: =+'1-Phase de poule-Sport 1'!T5 -> Nom équipe 8 A | X10: =+'1-Phase de poule-Sport 1'!X5 -> T3 | Y10: =+'1-Phase de poule-Sport 1'!Y5 -> 0.42361111 | AA10: =+'1-Phase de poule-Sport 1'!AA5 -> Nom équipe 5 B | AD10: =+'1-Phase de poule-Sport 1'!AD5 -> VS | AE10: =+'1-Phase de poule-Sport 1'!AE5 -> Nom équipe 3 B | AI10: =+'1-Phase de poule-Sport 1'!AI5 -> T4 | AJ10: =+'1-Phase de poule-Sport 1'!AJ5 -> 0.42361111 | AL10: =+'1-Phase de poule-Sport 1'!AL5 -> Nom équipe 6 B | AO10: =+'1-Phase de poule-Sport 1'!AO5 -> VS | AP10: =+'1-Phase de poule-Sport 1'!AP5 -> Nom équipe 4 B
A11: =+'1-Phase de poule-Sport 1'!A6 -> 0 | B11: =+'1-Phase de poule-Sport 1'!B6 -> T1 | C11: =+'1-Phase de poule-Sport 1'!C6 -> 0.43159722 | E11: =+'1-Phase de poule-Sport 1'!E6 -> Nom équipe 3 A | H11: =+'1-Phase de poule-Sport 1'!H6 -> VS | I11: =+'1-Phase de poule-Sport 1'!I6 -> Nom équipe 9 A | L11: =+'1-Phase de poule-Sport 1'!L6 -> 0 | M11: =+'1-Phase de poule-Sport 1'!M6 -> T2 | N11: =+'1-Phase de poule-Sport 1'!N6 -> 0.43159722 | P11: =+'1-Phase de poule-Sport 1'!P6 -> Nom équipe 4 A | S11: =+'1-Phase de poule-Sport 1'!S6 -> VS | T11: =+'1-Phase de poule-Sport 1'!T6 -> Nom équipe 10 A | X11: =+'1-Phase de poule-Sport 1'!X6 -> T3 | Y11: =+'1-Phase de poule-Sport 1'!Y6 -> 0.43159722 | AA11: =+'1-Phase de poule-Sport 1'!AA6 -> Nom équipe 7 B | AD11: =+'1-Phase de poule-Sport 1'!AD6 -> VS | AE11: =+'1-Phase de poule-Sport 1'!AE6 -> Nom équipe 1 B | AI11: =+'1-Phase de poule-Sport 1'!AI6 -> T4 | AJ11: =+'1-Phase de poule-Sport 1'!AJ6 -> 0.43159722 | AL11: =+'1-Phase de poule-Sport 1'!AL6 -> Nom équipe 8 B | AO11: =+'1-Phase de poule-Sport 1'!AO6 -> VS | AP11: =+'1-Phase de poule-Sport 1'!AP6 -> Nom équipe 2 B
A12: =+'1-Phase de poule-Sport 1'!A7 -> 0 | B12: =+'1-Phase de poule-Sport 1'!B7 -> T1 | C12: =+'1-Phase de poule-Sport 1'!C7 -> 0.43958333 | E12: =+'1-Phase de poule-Sport 1'!E7 -> Nom équipe 5 A | H12: =+'1-Phase de poule-Sport 1'!H7 -> VS | I12: =+'1-Phase de poule-Sport 1'!I7 -> Nom équipe 1 A | L12: =+'1-Phase de poule-Sport 1'!L7 -> 0 | M12: =+'1-Phase de poule-Sport 1'!M7 -> T2 | N12: =+'1-Phase de poule-Sport 1'!N7 -> 0.43958333 | P12: =+'1-Phase de poule-Sport 1'!P7 -> Nom équipe 6 A | S12: =+'1-Phase de poule-Sport 1'!S7 -> VS | T12: =+'1-Phase de poule-Sport 1'!T7 -> Nom équipe 2 A | X12: =+'1-Phase de poule-Sport 1'!X7 -> T3 | Y12: =+'1-Phase de poule-Sport 1'!Y7 -> 0.43958333 | AA12: =+'1-Phase de poule-Sport 1'!AA7 -> Nom équipe 9 B | AD12: =+'1-Phase de poule-Sport 1'!AD7 -> VS | AE12: =+'1-Phase de poule-Sport 1'!AE7 -> Nom équipe 5 B | AI12: =+'1-Phase de poule-Sport 1'!AI7 -> T4 | AJ12: =+'1-Phase de poule-Sport 1'!AJ7 -> 0.43958333 | AL12: =+'1-Phase de poule-Sport 1'!AL7 -> Nom équipe 10 B | AO12: =+'1-Phase de poule-Sport 1'!AO7 -> VS | AP12: =+'1-Phase de poule-Sport 1'!AP7 -> Nom équipe 6 B
A13: =+'1-Phase de poule-Sport 1'!A8 -> 0 | B13: =+'1-Phase de poule-Sport 1'!B8 -> T1 | C13: =+'1-Phase de poule-Sport 1'!C8 -> 0.44756944 | E13: =+'1-Phase de poule-Sport 1'!E8 -> Nom équipe 7 A | H13: =+'1-Phase de poule-Sport 1'!H8 -> VS | I13: =+'1-Phase de poule-Sport 1'!I8 -> Nom équipe 3 A | L13: =+'1-Phase de poule-Sport 1'!L8 -> 0 | M13: =+'1-Phase de poule-Sport 1'!M8 -> T2 | N13: =+'1-Phase de poule-Sport 1'!N8 -> 0.44756944 | P13: =+'1-Phase de poule-Sport 1'!P8 -> Nom équipe 8 A | S13: =+'1-Phase de poule-Sport 1'!S8 -> VS | T13: =+'1-Phase de poule-Sport 1'!T8 -> Nom équipe 4 A | X13: =+'1-Phase de poule-Sport 1'!X8 -> T3 | Y13: =+'1-Phase de poule-Sport 1'!Y8 -> 0.44756944 | AA13: =+'1-Phase de poule-Sport 1'!AA8 -> Nom équipe 3 B | AD13: =+'1-Phase de poule-Sport 1'!AD8 -> VS | AE13: =+'1-Phase de poule-Sport 1'!AE8 -> Nom équipe 7 B | AI13: =+'1-Phase de poule-Sport 1'!AI8 -> T4 | AJ13: =+'1-Phase de poule-Sport 1'!AJ8 -> 0.44756944 | AL13: =+'1-Phase de poule-Sport 1'!AL8 -> Nom équipe 4 B | AO13: =+'1-Phase de poule-Sport 1'!AO8 -> VS | AP13: =+'1-Phase de poule-Sport 1'!AP8 -> Nom équipe 8 B
A14: =+'1-Phase de poule-Sport 1'!A9 -> 0 | B14: =+'1-Phase de poule-Sport 1'!B9 -> T1 | C14: =+'1-Phase de poule-Sport 1'!C9 -> 0.45555556 | E14: =+'1-Phase de poule-Sport 1'!E9 -> Nom équipe 9 A | H14: =+'1-Phase de poule-Sport 1'!H9 -> VS | I14: =+'1-Phase de poule-Sport 1'!I9 -> Nom équipe 5 A | L14: =+'1-Phase de poule-Sport 1'!L9 -> 0 | M14: =+'1-Phase de poule-Sport 1'!M9 -> T2 | N14: =+'1-Phase de poule-Sport 1'!N9 -> 0.45555556 | P14: =+'1-Phase de poule-Sport 1'!P9 -> Nom équipe 10 A | S14: =+'1-Phase de poule-Sport 1'!S9 -> VS | T14: =+'1-Phase de poule-Sport 1'!T9 -> Nom équipe 6 A | X14: =+'1-Phase de poule-Sport 1'!X9 -> T3 | Y14: =+'1-Phase de poule-Sport 1'!Y9 -> 0.45555556 | AA14: =+'1-Phase de poule-Sport 1'!AA9 -> Nom équipe 1 B | AD14: =+'1-Phase de poule-Sport 1'!AD9 -> VS | AE14: =+'1-Phase de poule-Sport 1'!AE9 -> Nom équipe 9 B | AI14: =+'1-Phase de poule-Sport 1'!AI9 -> T4 | AJ14: =+'1-Phase de poule-Sport 1'!AJ9 -> 0.45555556 | AL14: =+'1-Phase de poule-Sport 1'!AL9 -> Nom équipe 2 B | AO14: =+'1-Phase de poule-Sport 1'!AO9 -> VS | AP14: =+'1-Phase de poule-Sport 1'!AP9 -> Nom équipe 10 B
A15: =+'1-Phase de poule-Sport 1'!A10 -> 0 | B15: =+'1-Phase de poule-Sport 1'!B10 -> T1 | C15: =+'1-Phase de poule-Sport 1'!C10 -> 0.46354167 | E15: =+'1-Phase de poule-Sport 1'!E10 -> Nom équipe 1 A | H15: =+'1-Phase de poule-Sport 1'!H10 -> VS | I15: =+'1-Phase de poule-Sport 1'!I10 -> Nom équipe 3 A | L15: =+'1-Phase de poule-Sport 1'!L10 -> 0 | M15: =+'1-Phase de poule-Sport 1'!M10 -> T2 | N15: =+'1-Phase de poule-Sport 1'!N10 -> 0.46354167 | P15: =+'1-Phase de poule-Sport 1'!P10 -> Nom équipe 2 A | S15: =+'1-Phase de poule-Sport 1'!S10 -> VS | T15: =+'1-Phase de poule-Sport 1'!T10 -> Nom équipe 4 A | X15: =+'1-Phase de poule-Sport 1'!X10 -> T3 | Y15: =+'1-Phase de poule-Sport 1'!Y10 -> 0.46354167 | AA15: =+'1-Phase de poule-Sport 1'!AA10 -> Nom équipe 5 B | AD15: =+'1-Phase de poule-Sport 1'!AD10 -> VS | AE15: =+'1-Phase de poule-Sport 1'!AE10 -> Nom équipe 7 B | AI15: =+'1-Phase de poule-Sport 1'!AI10 -> T4 | AJ15: =+'1-Phase de poule-Sport 1'!AJ10 -> 0.46354167 | AL15: =+'1-Phase de poule-Sport 1'!AL10 -> Nom équipe 6 B | AO15: =+'1-Phase de poule-Sport 1'!AO10 -> VS | AP15: =+'1-Phase de poule-Sport 1'!AP10 -> Nom équipe 8 B
A16: =+'1-Phase de poule-Sport 1'!A11 -> 0 | B16: =+'1-Phase de poule-Sport 1'!B11 -> T1 | C16: =+'1-Phase de poule-Sport 1'!C11 -> 0.47152778 | E16: =+'1-Phase de poule-Sport 1'!E11 -> Nom équipe 7 A | H16: =+'1-Phase de poule-Sport 1'!H11 -> VS | I16: =+'1-Phase de poule-Sport 1'!I11 -> Nom équipe 9 A | L16: =+'1-Phase de poule-Sport 1'!L11 -> 0 | M16: =+'1-Phase de poule-Sport 1'!M11 -> T2 | N16: =+'1-Phase de poule-Sport 1'!N11 -> 0.47152778 | P16: =+'1-Phase de poule-Sport 1'!P11 -> Nom équipe 8 A | S16: =+'1-Phase de poule-Sport 1'!S11 -> VS | T16: =+'1-Phase de poule-Sport 1'!T11 -> Nom équipe 10 A | X16: =+'1-Phase de poule-Sport 1'!X11 -> T3 | Y16: =+'1-Phase de poule-Sport 1'!Y11 -> 0.47152778 | AA16: =+'1-Phase de poule-Sport 1'!AA11 -> Nom équipe 3 B | AD16: =+'1-Phase de poule-Sport 1'!AD11 -> VS | AE16: =+'1-Phase de poule-Sport 1'!AE11 -> Nom équipe 1 B | AI16: =+'1-Phase de poule-Sport 1'!AI11 -> T4 | AJ16: =+'1-Phase de poule-Sport 1'!AJ11 -> 0.47152778 | AL16: =+'1-Phase de poule-Sport 1'!AL11 -> Nom équipe 4 B | AO16: =+'1-Phase de poule-Sport 1'!AO11 -> VS | AP16: =+'1-Phase de poule-Sport 1'!AP11 -> Nom équipe 2 B
A17: =+'1-Phase de poule-Sport 1'!A12 -> 0 | B17: =+'1-Phase de poule-Sport 1'!B12 -> T1 | C17: =+'1-Phase de poule-Sport 1'!C12 -> 0.47951389 | E17: =+'1-Phase de poule-Sport 1'!E12 -> Nom équipe 3 A | H17: =+'1-Phase de poule-Sport 1'!H12 -> VS | I17: =+'1-Phase de poule-Sport 1'!I12 -> Nom équipe 5 A | L17: =+'1-Phase de poule-Sport 1'!L12 -> 0 | M17: =+'1-Phase de poule-Sport 1'!M12 -> T2 | N17: =+'1-Phase de poule-Sport 1'!N12 -> 0.47951389 | P17: =+'1-Phase de poule-Sport 1'!P12 -> Nom équipe 4 A | S17: =+'1-Phase de poule-Sport 1'!S12 -> VS | T17: =+'1-Phase de poule-Sport 1'!T12 -> Nom équipe 6 A | X17: =+'1-Phase de poule-Sport 1'!X12 -> T3 | Y17: =+'1-Phase de poule-Sport 1'!Y12 -> 0.47951389 | AA17: =+'1-Phase de poule-Sport 1'!AA12 -> Nom équipe 7 B | AD17: =+'1-Phase de poule-Sport 1'!AD12 -> VS | AE17: =+'1-Phase de poule-Sport 1'!AE12 -> Nom équipe 9 B | AI17: =+'1-Phase de poule-Sport 1'!AI12 -> T4 | AJ17: =+'1-Phase de poule-Sport 1'!AJ12 -> 0.47951389 | AL17: =+'1-Phase de poule-Sport 1'!AL12 -> Nom équipe 8 B | AO17: =+'1-Phase de poule-Sport 1'!AO12 -> VS | AP17: =+'1-Phase de poule-Sport 1'!AP12 -> Nom équipe 10 B
A18: =+'1-Phase de poule-Sport 1'!A13 -> 0 | B18: =+'1-Phase de poule-Sport 1'!B13 -> T1 | C18: =+'1-Phase de poule-Sport 1'!C13 -> 0.4875 | E18: =+'1-Phase de poule-Sport 1'!E13 -> Nom équipe 1 A | H18: =+'1-Phase de poule-Sport 1'!H13 -> VS | I18: =+'1-Phase de poule-Sport 1'!I13 -> Nom équipe 9 A | L18: =+'1-Phase de poule-Sport 1'!L13 -> 0 | M18: =+'1-Phase de poule-Sport 1'!M13 -> T2 | N18: =+'1-Phase de poule-Sport 1'!N13 -> 0.4875 | P18: =+'1-Phase de poule-Sport 1'!P13 -> Nom équipe 2 A | S18: =+'1-Phase de poule-Sport 1'!S13 -> VS | T18: =+'1-Phase de poule-Sport 1'!T13 -> Nom équipe 10 A | X18: =+'1-Phase de poule-Sport 1'!X13 -> T3 | Y18: =+'1-Phase de poule-Sport 1'!Y13 -> 0.4875 | AA18: =+'1-Phase de poule-Sport 1'!AA13 -> Nom équipe 5 B | AD18: =+'1-Phase de poule-Sport 1'!AD13 -> VS | AE18: =+'1-Phase de poule-Sport 1'!AE13 -> Nom équipe 1 B | AI18: =+'1-Phase de poule-Sport 1'!AI13 -> T4 | AJ18: =+'1-Phase de poule-Sport 1'!AJ13 -> 0.4875 | AL18: =+'1-Phase de poule-Sport 1'!AL13 -> Nom équipe 6 B | AO18: =+'1-Phase de poule-Sport 1'!AO13 -> VS | AP18: =+'1-Phase de poule-Sport 1'!AP13 -> Nom équipe 2 B
A19: =+'1-Phase de poule-Sport 1'!A14 -> 0 | B19: =+'1-Phase de poule-Sport 1'!B14 -> T1 | C19: =+'1-Phase de poule-Sport 1'!C14 -> 0.49548611 | E19: =+'1-Phase de poule-Sport 1'!E14 -> Nom équipe 7 A | H19: =+'1-Phase de poule-Sport 1'!H14 -> VS | I19: =+'1-Phase de poule-Sport 1'!I14 -> Nom équipe 5 A | L19: =+'1-Phase de poule-Sport 1'!L14 -> 0 | M19: =+'1-Phase de poule-Sport 1'!M14 -> T2 | N19: =+'1-Phase de poule-Sport 1'!N14 -> 0.49548611 | P19: =+'1-Phase de poule-Sport 1'!P14 -> Nom équipe 8 A | S19: =+'1-Phase de poule-Sport 1'!S14 -> VS | T19: =+'1-Phase de poule-Sport 1'!T14 -> Nom équipe 6 A | X19: =+'1-Phase de poule-Sport 1'!X14 -> T3 | Y19: =+'1-Phase de poule-Sport 1'!Y14 -> 0.49548611 | AA19: =+'1-Phase de poule-Sport 1'!AA14 -> Nom équipe 3 B | AD19: =+'1-Phase de poule-Sport 1'!AD14 -> VS | AE19: =+'1-Phase de poule-Sport 1'!AE14 -> Nom équipe 9 B | AI19: =+'1-Phase de poule-Sport 1'!AI14 -> T4 | AJ19: =+'1-Phase de poule-Sport 1'!AJ14 -> 0.49548611 | AL19: =+'1-Phase de poule-Sport 1'!AL14 -> Nom équipe 4 B | AO19: =+'1-Phase de poule-Sport 1'!AO14 -> VS | AP19: =+'1-Phase de poule-Sport 1'!AP14 -> Nom équipe 10 B
A20: =+'1-Phase de poule-Sport 1'!A15 -> 0 | C20: =+'1-Phase de poule-Sport 1'!C15 -> 0.50347222 | L20: =+'1-Phase de poule-Sport 1'!L15 -> 0 | N20: =+'1-Phase de poule-Sport 1'!N15 -> 0.50347222 | Y20: =+'1-Phase de poule-Sport 1'!Y15 -> 0.50347222 | AJ20: =+'1-Phase de poule-Sport 1'!AJ15 -> 0.50347222

Sheet 1-Phase de poule-Sport 1
E2: POULE A | P2: POULE B | AA2: POULE C | AL2: POULE D
E4: Nom équipe | F4: W/L | G4: Dif. | I4: Nom équipe | J4: W/L | K4: Dif. | P4: Nom équipe | Q4: W/L | R4: Dif. | T4: Nom équipe | U4: W/L | V4: Dif. | AA4: Nom équipe | AB4: W/L | AC4: Dif. | AE4: Nom équipe | AF4: W/L | AG4: Dif. | AL4: Nom équipe | AM4: W/L | AN4: Dif. | AP4: Nom équipe | AQ4: W/L | AR4: Dif.
B5: T1 | C5: =Paramétrage!D15 -> 0.42361111 | E5: =Paramétrage!$F$3 -> Nom équipe 1 A | H5: VS | I5: =Paramétrage!$F$9 -> Nom équipe 7 A | J5: =IF(F5="W","L",IF(F5="L","W","N")) -> N | K5: =-G5 -> 0 | M5: T2 | N5: =C5 -> 0.42361111 | P5: =Paramétrage!$F$4 -> Nom équipe 2 A | S5: VS | T5: =Paramétrage!$F$10 -> Nom équipe 8 A | U5: =IF(Q5="W","L",IF(Q5="L","W","N")) -> N | V5: =-R5 -> 0 | X5: T3 | Y5: =C5 -> 0.42361111 | AA5: =Paramétrage!$G$7 -> Nom équipe 5 B | AD5: VS | AE5: =Paramétrage!$G$5 -> Nom équipe 3 B | AF5: =IF(AB5="W","L",IF(AB5="L","W","N")) -> N | AG5: =-AC5 -> 0 | AI5: T4 | AJ5: =C5 -> 0.42361111 | AL5: =Paramétrage!$G$8 -> Nom équipe 6 B | AO5: VS | AP5: =Paramétrage!$G$6 -> Nom équipe 4 B | AQ5: =IF(AM5="W","L",IF(AM5="L","W","N")) -> N | AR5: =-AN5 -> 0
B6: T1 | C6: =C5+Paramétrage!$D$16+Paramétrage!$D$17 -> 0.43159722 | E6: =Paramétrage!$F$5 -> Nom équipe 3 A | H6: VS | I6: =Paramétrage!$F$11 -> Nom équipe 9 A | J6: =IF(F6="W","L",IF(F6="L","W","N")) -> N | K6: =-G6 -> 0 | M6: T2 | N6: =C6 -> 0.43159722 | P6: =Paramétrage!$F$6 -> Nom équipe 4 A | S6: VS | T6: =Paramétrage!$F$12 -> Nom équipe 10 A | U6: =IF(Q6="W","L",IF(Q6="L","W","N")) -> N | V6: =-R6 -> 0 | X6: T3 | Y6: =C6 -> 0.43159722 | AA6: =Paramétrage!$G$9 -> Nom équipe 7 B | AD6: VS | AE6: =Paramétrage!$G$3 -> Nom équipe 1 B | AF6: =IF(AB6="W","L",IF(AB6="L","W","N")) -> N | AG6: =-AC6 -> 0 | AI6: T4 | AJ6: =C6 -> 0.43159722 | AL6: =Paramétrage!$G$10 -> Nom équipe 8 B | AO6: VS | AP6: =Paramétrage!$G$4 -> Nom équipe 2 B | AQ6: =IF(AM6="W","L",IF(AM6="L","W","N")) -> N | AR6: =-AN6 -> 0
B7: T1 | C7: =C6+Paramétrage!$D$16+Paramétrage!$D$17 -> 0.43958333 | E7: =Paramétrage!$F$7 -> Nom équipe 5 A | H7: VS | I7: =+E5 -> Nom équipe 1 A | J7: =IF(F7="W","L",IF(F7="L","W","N")) -> N | K7: =-G7 -> 0 | M7: T2 | N7: =C7 -> 0.43958333 | P7: =Paramétrage!$F$8 -> Nom équipe 6 A | S7: VS | T7: =+P5 -> Nom équipe 2 A | U7: =IF(Q7="W","L",IF(Q7="L","W","N")) -> N | V7: =-R7 -> 0 | X7: T3 | Y7: =C7 -> 0.43958333 | AA7: =Paramétrage!$G$11 -> Nom équipe 9 B | AD7: VS | AE7: =+AA5 -> Nom équipe 5 B | AF7: =IF(AB7="W","L",IF(AB7="L","W","N")) -> N | AG7: =-AC7 -> 0 | AI7: T4 | AJ7: =C7 -> 0.43958333 | AL7: =Paramétrage!$G$12 -> Nom équipe 10 B | AO7: VS | AP7: =+AL5 -> Nom équipe 6 B | AQ7: =IF(AM7="W","L",IF(AM7="L","W","N")) -> N | AR7: =-AN7 -> 0
B8: T1 | C8: =C7+Paramétrage!$D$16+Paramétrage!$D$17 -> 0.44756944 | E8: =+I5 -> Nom équipe 7 A | H8: VS | I8: =E6 -> Nom équipe 3 A | J8: =IF(F8="W","L",IF(F8="L","W","N")) -> N | K8: =-G8 -> 0 | M8: T2 | N8: =C8 -> 0.44756944 | P8: =+T5 -> Nom équipe 8 A | S8: VS | T8: =P6 -> Nom équipe 4 A | U8: =IF(Q8="W","L",IF(Q8="L","W","N")) -> N | V8: =-R8 -> 0 | X8: T3 | Y8: =C8 -> 0.44756944 | AA8: =+AE5 -> Nom équipe 3 B | AD8: VS | AE8: =AA6 -> Nom équipe 7 B | AF8: =IF(AB8="W","L",IF(AB8="L","W","N")) -> N | AG8: =-AC8 -> 0 | AI8: T4 | AJ8: =C8 -> 0.44756944 | AL8: =+AP5 -> Nom équipe 4 B | AO8: VS | AP8: =AL6 -> Nom équipe 8 B | AQ8: =IF(AM8="W","L",IF(AM8="L","W","N")) -> N | AR8: =-AN8 -> 0
B9: T1 | C9: =C8+Paramétrage!$D$16+Paramétrage!$D$17 -> 0.45555556 | E9: =I6 -> Nom équipe 9 A | H9: VS | I9: =E7 -> Nom équipe 5 A | J9: =IF(F9="W","L",IF(F9="L","W","N")) -> N | K9: =-G9 -> 0 | M9: T2 | N9: =C9 -> 0.45555556 | P9: =T6 -> Nom équipe 10 A | S9: VS | T9: =P7 -> Nom équipe 6 A | U9: =IF(Q9="W","L",IF(Q9="L","W","N")) -> N | V9: =-R9 -> 0 | X9: T3 | Y9: =C9 -> 0.45555556 | AA9: =AE6 -> Nom équipe 1 B | AD9: VS | AE9: =AA7 -> Nom équipe 9 B | AF9: =IF(AB9="W","L",IF(AB9="L","W","N")) -> N | AG9: =-AC9 -> 0 | AI9: T4 | AJ9: =C9 -> 0.45555556 | AL9: =AP6 -> Nom équipe 2 B | AO9: VS | AP9: =AL7 -> Nom équipe 10 B | AQ9: =IF(AM9="W","L",IF(AM9="L","W","N")) -> N | AR9: =-AN9 -> 0
B10: T1 | C10: =C9+Paramétrage!$D$16+Paramétrage!$D$17 -> 0.46354167 | E10: =E5 -> Nom équipe 1 A | H10: VS | I10: =E6 -> Nom équipe 3 A | J10: =IF(F10="W","L",IF(F10="L","W","N")) -> N | K10: =-G10 -> 0 | M10: T2 | N10: =C10 -> 0.46354167 | P10: =P5 -> Nom équipe 2 A | S10: VS | T10: =P6 -> Nom équipe 4 A | U10: =IF(Q10="W","L",IF(Q10="L","W","N")) -> N | V10: =-R10 -> 0 | X10: T3 | Y10: =C10 -> 0.46354167 | AA10: =AA5 -> Nom équipe 5 B | AD10: VS | AE10: =AA6 -> Nom équipe 7 B | AF10: =IF(AB10="W","L",IF(AB10="L","W","N")) -> N | AG10: =-AC10 -> 0 | AI10: T4 | AJ10: =C10 -> 0.46354167 | AL10: =AL5 -> Nom équipe 6 B | AO10: VS | AP10: =AL6 -> Nom équipe 8 B | AQ10: =IF(AM10="W","L",IF(AM10="L","W","N")) -> N | AR10: =-AN10 -> 0
B11: T1 | C11: =C10+Paramétrage!$D$16+Paramétrage!$D$17 -> 0.47152778 | E11: =I5 -> Nom équipe 7 A | H11: VS | I11: =I6 -> Nom équipe 9 A | J11: =IF(F11="W","L",IF(F11="L","W","N")) -> N | K11: =-G11 -> 0 | M11: T2 | N11: =C11 -> 0.47152778 | P11: =T5 -> Nom équipe 8 A | S11: VS | T11: =T6 -> Nom équipe 10 A | U11: =IF(Q11="W","L",IF(Q11="L","W","N")) -> N | V11: =-R11 -> 0 | X11: T3 | Y11: =C11 -> 0.47152778 | AA11: =AE5 -> Nom équipe 3 B | AD11: VS | AE11: =AE6 -> Nom équipe 1 B | AF11: =IF(AB11="W","L",IF(AB11="L","W","N")) -> N | AG11: =-AC11 -> 0 | AI11: T4 | AJ11: =C11 -> 0.47152778 | AL11: =AP5 -> Nom équipe 4 B | AO11: VS | AP11: =AP6 -> Nom équipe 2 B | AQ11: =IF(AM11="W","L",IF(AM11="L","W","N")) -> N | AR11: =-AN11 -> 0
B12: T1 | C12: =C11+Paramétrage!$D$16+Paramétrage!$D$17 -> 0.47951389 | E12: =E6 -> Nom équipe 3 A | H12: VS | I12: =E7 -> Nom équipe 5 A | J12: =IF(F12="W","L",IF(F12="L","W","N")) -> N | K12: =-G12 -> 0 | M12: T2 | N12: =C12 -> 0.47951389 | P12: =P6 -> Nom équipe 4 A | S12: VS | T12: =P7 -> Nom équipe 6 A | U12: =IF(Q12="W","L",IF(Q12="L","W","N")) -> N | V12: =-R12 -> 0 | X12: T3 | Y12: =C12 -> 0.47951389 | AA12: =AA6 -> Nom équipe 7 B | AD12: VS | AE12: =AA7 -> Nom équipe 9 B | AF12: =IF(AB12="W","L",IF(AB12="L","W","N")) -> N | AG12: =-AC12 -> 0 | AI12: T4 | AJ12: =C12 -> 0.47951389 | AL12: =AL6 -> Nom équipe 8 B | AO12: VS | AP12: =AL7 -> Nom équipe 10 B | AQ12: =IF(AM12="W","L",IF(AM12="L","W","N")) -> N | AR12: =-AN12 -> 0
B13: T1 | C13: =C12+Paramétrage!$D$16+Paramétrage!$D$17 -> 0.4875 | E13: =E5 -> Nom équipe 1 A | H13: VS | I13: =I6 -> Nom équipe 9 A | J13: =IF(F13="W","L",IF(F13="L","W","N")) -> N | K13: =-G13 -> 0 | M13: T2 | N13: =C13 -> 0.4875 | P13: =P5 -> Nom équipe 2 A | S13: VS | T13: =T6 -> Nom équipe 10 A | U13: =IF(Q13="W","L",IF(Q13="L","W","N")) -> N | V13: =-R13 -> 0 | X13: T3 | Y13: =C13 -> 0.4875 | AA13: =AA5 -> Nom équipe 5 B | AD13: VS | AE13: =AE6 -> Nom équipe 1 B | AF13: =IF(AB13="W","L",IF(AB13="L","W","N")) -> N | AG13: =-AC13 -> 0 | AI13: T4 | AJ13: =C13 -> 0.4875 | AL13: =AL5 -> Nom équipe 6 B | AO13: VS | AP13: =AP6 -> Nom équipe 2 B | AQ13: =IF(AM13="W","L",IF(AM13="L","W","N")) -> N | AR13: =-AN13 -> 0
B14: T1 | C14: =C13+Paramétrage!$D$16+Paramétrage!$D$17 -> 0.49548611 | E14: =E8 -> Nom équipe 7 A | H14: VS | I14: =E7 -> Nom équipe 5 A | J14: =IF(F14="W","L",IF(F14="L","W","N")) -> N | K14: =-G14 -> 0 | M14: T2 | N14: =C14 -> 0.49548611 | P14: =P8 -> Nom équipe 8 A | S14: VS | T14: =P7 -> Nom équipe 6 A | U14: =IF(Q14="W","L",IF(Q14="L","W","N")) -> N | V14: =-R14 -> 0 | X14: T3 | Y14: =C14 -> 0.49548611 | AA14: =AA8 -> Nom équipe 3 B | AD14: VS | AE14: =AA7 -> Nom équipe 9 B | AF14: =IF(AB14="W","L",IF(AB14="L","W","N")) -> N | AG14: =-AC14 -> 0 | AI14: T4 | AJ14: =C14 -> 0.49548611 | AL14: =AL8 -> Nom équipe 4 B | AO14: VS | AP14: =AL7 -> Nom équipe 10 B | AQ14: =IF(AM14="W","L",IF(AM14="L","W","N")) -> N | AR14: =-AN14 -> 0
C15: =C14+Paramétrage!$D$16+Paramétrage!$D$17 -> 0.50347222 | N15: =C15 -> 0.50347222 | Y15: =C15 -> 0.50347222 | AJ15: =C15 -> 0.50347222
E16: Nom équipe | F16: Pts | G16: Dif. | H16: Clas. | I16: Ne pas toucher | P16: Nom équipe | Q16: Pts | R16: Dif. | S16: Clas. | T16: Ne pas toucher | AA16: Nom équipe | AB16: Pts | AC16: Dif. | AD16: Clas. | AE16: Ne pas toucher | AL16: Nom équipe | AM16: Pts | AN16: Dif. | AO16: Clas. | AP16: Ne pas toucher
D17: =F17+G17/1000 -> 2 | E17: =E5 -> Nom équipe 1 A | F17: =(COUNTIFS(J$5:J$14,"w",I$5:I$14,E17)+COUNTIFS(F$5:F$14,"w",E$5:E$14,E17))*Paramétrage!$C$23+(COUNTIFS(J$5:J$14,"N",I$5:I$14,E17)+COUNTIFS(F$5:F$14,"N",E$5:E$14,E17))*Paramétrage!$C$24+(COUNTIFS(J$5:J$14,"L",I$5:I$14,E17)+COUNTIFS(F$5:F$14,"L",E$5:E$14,E17))*Paramétrage!$C$25 -> 2 | G17: =SUMIF(E$5:G$14,E17,G$5:G$14)+SUMIF(I$5:K$14,E17,K$5:K$14) -> 0 | H17: =RANK(D17,D$17:D$21,0) -> 4 | I17: =E17 -> Nom équipe 1 A | O17: =Q17+R17/1000 -> 2 | P17: =P5 -> Nom équipe 2 A | Q17: =(COUNTIFS(U$5:U$14,"w",T$5:T$14,P17)+COUNTIFS(Q$5:Q$14,"w",P$5:P$14,P17))*Paramétrage!$C$23+(COUNTIFS(U$5:U$14,"N",T$5:T$14,P17)+COUNTIFS(Q$5:Q$14,"N",P$5:P$14,P17))*Paramétrage!$C$24+(COUNTIFS(U$5:U$14,"L",T$5:T$14,P17)+COUNTIFS(Q$5:Q$14,"L",P$5:P$14,P17))*Paramétrage!$C$25 -> 2 | R17: =SUMIF(P$5:R$14,P17,R$5:R$14)+SUMIF(T$5:V$14,P17,V$5:V$14) -> 0 | S17: =RANK(O17,O$17:O$21,0) -> 4 | T17: =P17 -> Nom équipe 2 A | Z17: =AB17+AC17/1000 -> 2 | AA17: =AA5 -> Nom équipe 5 B | AB17: =(COUNTIFS(AF$5:AF$14,"w",AE$5:AE$14,AA17)+COUNTIFS(AB$5:AB$14,"w",AA$5:AA$14,AA17))*Paramétrage!$C$23+(COUNTIFS(AF$5:AF$14,"N",AE$5:AE$14,AA17)+COUNTIFS(AB$5:AB$14,"N",AA$5:AA$14,AA17))*Paramétrage!$C$24+(COUNTIFS(AF$5:AF$14,"L",AE$5:AE$14,AA17)+COUNTIFS(AB$5:AB$14,"L",AA$5:AA$14,AA17))*Paramétrage!$C$25 -> 2 | AC17: =SUMIF(AA$5:AC$14,AA17,AC$5:AC$14)+SUMIF(AE$5:AG$14,AA17,AG$5:AG$14) -> 0 | AD17: =RANK(Z17,Z$17:Z$21,0) -> 4 | AE17: =AA17 -> Nom équipe 5 B | AK17: =AM17+AN17/1000 -> 2 | AL17: =AL5 -> Nom équipe 6 B | AM17: =(COUNTIFS(AQ$5:AQ$14,"w",AP$5:AP$14,AL17)+COUNTIFS(AM$5:AM$14,"w",AL$5:AL$14,AL17))*Paramétrage!$C$23+(COUNTIFS(AQ$5:AQ$14,"N",AP$5:AP$14,AL17)+COUNTIFS(AM$5:AM$14,"N",AL$5:AL$14,AL17))*Paramétrage!$C$24+(COUNTIFS(AQ$5:AQ$14,"L",AP$5:AP$14,AL17)+COUNTIFS(AM$5:AM$14,"L",AL$5:AL$14,AL17))*Paramétrage!$C$25 -> 2 | AN17: =SUMIF(AL$5:AN$14,AL17,AN$5:AN$14)+SUMIF(AP$5:AR$14,AL17,AR$5:AR$14) -> 0 | AO17: =RANK(AK17,AK$17:AK$21,0) -> 4 | AP17: =AL17 -> Nom équipe 6 B
D18: =F18+G18/1000 -> 4 | E18: =E6 -> Nom équipe 3 A | F18: =(COUNTIFS(J$5:J$14,"w",I$5:I$14,E18)+COUNTIFS(F$5:F$14,"w",E$5:E$14,E18))*Paramétrage!$C$23+(COUNTIFS(J$5:J$14,"N",I$5:I$14,E18)+COUNTIFS(F$5:F$14,"N",E$5:E$14,E18))*Paramétrage!$C$24+(COUNTIFS(J$5:J$14,"L",I$5:I$14,E18)+COUNTIFS(F$5:F$14,"L",E$5:E$14,E18))*Paramétrage!$C$25 -> 4 | G18: =SUMIF(E$5:G$14,E18,G$5:G$14)+SUMIF(I$5:K$14,E18,K$5:K$14) -> 0 | H18: =RANK(D18,D$17:D$21,0) -> 3 | I18: =E18 -> Nom équipe 3 A | O18: =Q18+R18/1000 -> 4 | P18: =P6 -> Nom équipe 4 A | Q18: =(COUNTIFS(U$5:U$14,"w",T$5:T$14,P18)+COUNTIFS(Q$5:Q$14,"w",P$5:P$14,P18))*Paramétrage!$C$23+(COUNTIFS(U$5:U$14,"N",T$5:T$14,P18)+COUNTIFS(Q$5:Q$14,"N",P$5:P$14,P18))*Paramétrage!$C$24+(COUNTIFS(U$5:U$14,"L",T$5:T$14,P18)+COUNTIFS(Q$5:Q$14,"L",P$5:P$14,P18))*Paramétrage!$C$25 -> 4 | R18: =SUMIF(P$5:R$14,P18,R$5:R$14)+SUMIF(T$5:V$14,P18,V$5:V$14) -> 0 | S18: =RANK(O18,O$17:O$21,0) -> 3 | T18: =P18 -> Nom équipe 4 A | Z18: =AB18+AC18/1000 -> 4 | AA18: =AA6 -> Nom équipe 7 B | AB18: =(COUNTIFS(AF$5:AF$14,"w",AE$5:AE$14,AA18)+COUNTIFS(AB$5:AB$14,"w",AA$5:AA$14,AA18))*Paramétrage!$C$23+(COUNTIFS(AF$5:AF$14,"N",AE$5:AE$14,AA18)+COUNTIFS(AB$5:AB$14,"N",AA$5:AA$14,AA18))*Paramétrage!$C$24+(COUNTIFS(AF$5:AF$14,"L",AE$5:AE$14,AA18)+COUNTIFS(AB$5:AB$14,"L",AA$5:AA$14,AA18))*Paramétrage!$C$25 -> 4 | AC18: =SUMIF(AA$5:AC$14,AA18,AC$5:AC$14)+SUMIF(AE$5:AG$14,AA18,AG$5:AG$14) -> 0 | AD18: =RANK(Z18,Z$17:Z$21,0) -> 3 | AE18: =AA18 -> Nom équipe 7 B | AK18: =AM18+AN18/1000 -> 4 | AL18: =AL6 -> Nom équipe 8 B | AM18: =(COUNTIFS(AQ$5:AQ$14,"w",AP$5:AP$14,AL18)+COUNTIFS(AM$5:AM$14,"w",AL$5:AL$14,AL18))*Paramétrage!$C$23+(COUNTIFS(AQ$5:AQ$14,"N",AP$5:AP$14,AL18)+COUNTIFS(AM$5:AM$14,"N",AL$5:AL$14,AL18))*Paramétrage!$C$24+(COUNTIFS(AQ$5:AQ$14,"L",AP$5:AP$14,AL18)+COUNTIFS(AM$5:AM$14,"L",AL$5:AL$14,AL18))*Paramétrage!$C$25 -> 4 | AN18: =SUMIF(AL$5:AN$14,AL18,AN$5:AN$14)+SUMIF(AP$5:AR$14,AL18,AR$5:AR$14) -> 0 | AO18: =RANK(AK18,AK$17:AK$21,0) -> 3 | AP18: =AL18 -> Nom équipe 8 B
D19: =F19+G19/1000 -> 6 | E19: =E7 -> Nom équipe 5 A | F19: =(COUNTIFS(J$5:J$14,"w",I$5:I$14,E19)+COUNTIFS(F$5:F$14,"w",E$5:E$14,E19))*Paramétrage!$C$23+(COUNTIFS(J$5:J$14,"N",I$5:I$14,E19)+COUNTIFS(F$5:F$14,"N",E$5:E$14,E19))*Paramétrage!$C$24+(COUNTIFS(J$5:J$14,"L",I$5:I$14,E19)+COUNTIFS(F$5:F$14,"L",E$5:E$14,E19))*Paramétrage!$C$25 -> 6 | G19: =SUMIF(E$5:G$14,E19,G$5:G$14)+SUMIF(I$5:K$14,E19,K$5:K$14) -> 0 | H19: =RANK(D19,D$17:D$21,0) -> 1 | I19: =E19 -> Nom équipe 5 A | O19: =Q19+R19/1000 -> 6 | P19: =P7 -> Nom équipe 6 A | Q19: =(COUNTIFS(U$5:U$14,"w",T$5:T$14,P19)+COUNTIFS(Q$5:Q$14,"w",P$5:P$14,P19))*Paramétrage!$C$23+(COUNTIFS(U$5:U$14,"N",T$5:T$14,P19)+COUNTIFS(Q$5:Q$14,"N",P$5:P$14,P19))*Paramétrage!$C$24+(COUNTIFS(U$5:U$14,"L",T$5:T$14,P19)+COUNTIFS(Q$5:Q$14,"L",P$5:P$14,P19))*Paramétrage!$C$25 -> 6 | R19: =SUMIF(P$5:R$14,P19,R$5:R$14)+SUMIF(T$5:V$14,P19,V$5:V$14) -> 0 | S19: =RANK(O19,O$17:O$21,0) -> 1 | T19: =P19 -> Nom équipe 6 A | Z19: =AB19+AC19/1000 -> 6 | AA19: =AA7 -> Nom équipe 9 B | AB19: =(COUNTIFS(AF$5:AF$14,"w",AE$5:AE$14,AA19)+COUNTIFS(AB$5:AB$14,"w",AA$5:AA$14,AA19))*Paramétrage!$C$23+(COUNTIFS(AF$5:AF$14,"N",AE$5:AE$14,AA19)+COUNTIFS(AB$5:AB$14,"N",AA$5:AA$14,AA19))*Paramétrage!$C$24+(COUNTIFS(AF$5:AF$14,"L",AE$5:AE$14,AA19)+COUNTIFS(AB$5:AB$14,"L",AA$5:AA$14,AA19))*Paramétrage!$C$25 -> 6 | AC19: =SUMIF(AA$5:AC$14,AA19,AC$5:AC$14)+SUMIF(AE$5:AG$14,AA19,AG$5:AG$14) -> 0 | AD19: =RANK(Z19,Z$17:Z$21,0) -> 1 | AE19: =AA19 -> Nom équipe 9 B | AK19: =AM19+AN19/1000 -> 6 | AL19: =AL7 -> Nom équipe 10 B | AM19: =(COUNTIFS(AQ$5:AQ$14,"w",AP$5:AP$14,AL19)+COUNTIFS(AM$5:AM$14,"w",AL$5:AL$14,AL19))*Paramétrage!$C$23+(COUNTIFS(AQ$5:AQ$14,"N",AP$5:AP$14,AL19)+COUNTIFS(AM$5:AM$14,"N",AL$5:AL$14,AL19))*Paramétrage!$C$24+(COUNTIFS(AQ$5:AQ$14,"L",AP$5:AP$14,AL19)+COUNTIFS(AM$5:AM$14,"L",AL$5:AL$14,AL19))*Paramétrage!$C$25 -> 6 | AN19: =SUMIF(AL$5:AN$14,AL19,AN$5:AN$14)+SUMIF(AP$5:AR$14,AL19,AR$5:AR$14) -> 0 | AO19: =RANK(AK19,AK$17:AK$21,0) -> 1 | AP19: =AL19 -> Nom équipe 10 B
D20: =F20+G20/1000 -> 2 | E20: =I5 -> Nom équipe 7 A | F20: =(COUNTIFS(J$5:J$14,"w",I$5:I$14,E20)+COUNTIFS(F$5:F$14,"w",E$5:E$14,E20))*Paramétrage!$C$23+(COUNTIFS(J$5:J$14,"N",I$5:I$14,E20)+COUNTIFS(F$5:F$14,"N",E$5:E$14,E20))*Paramétrage!$C$24+(COUNTIFS(J$5:J$14,"L",I$5:I$14,E20)+COUNTIFS(F$5:F$14,"L",E$5:E$14,E20))*Paramétrage!$C$25 -> 2 | G20: =SUMIF(E$5:G$14,E20,G$5:G$14)+SUMIF(I$5:K$14,E20,K$5:K$14) -> 0 | H20: =RANK(D20,D$17:D$21,0) -> 4 | I20: =E20 -> Nom équipe 7 A | O20: =Q20+R20/1000 -> 2 | P20: =T5 -> Nom équipe 8 A | Q20: =(COUNTIFS(U$5:U$14,"w",T$5:T$14,P20)+COUNTIFS(Q$5:Q$14,"w",P$5:P$14,P20))*Paramétrage!$C$23+(COUNTIFS(U$5:U$14,"N",T$5:T$14,P20)+COUNTIFS(Q$5:Q$14,"N",P$5:P$14,P20))*Paramétrage!$C$24+(COUNTIFS(U$5:U$14,"L",T$5:T$14,P20)+COUNTIFS(Q$5:Q$14,"L",P$5:P$14,P20))*Paramétrage!$C$25 -> 2 | R20: =SUMIF(P$5:R$14,P20,R$5:R$14)+SUMIF(T$5:V$14,P20,V$5:V$14) -> 0 | S20: =RANK(O20,O$17:O$21,0) -> 4 | T20: =P20 -> Nom équipe 8 A | Z20: =AB20+AC20/1000 -> 2 | AA20: =AE5 -> Nom équipe 3 B | AB20: =(COUNTIFS(AF$5:AF$14,"w",AE$5:AE$14,AA20)+COUNTIFS(AB$5:AB$14,"w",AA$5:AA$14,AA20))*Paramétrage!$C$23+(COUNTIFS(AF$5:AF$14,"N",AE$5:AE$14,AA20)+COUNTIFS(AB$5:AB$14,"N",AA$5:AA$14,AA20))*Paramétrage!$C$24+(COUNTIFS(AF$5:AF$14,"L",AE$5:AE$14,AA20)+COUNTIFS(AB$5:AB$14,"L",AA$5:AA$14,AA20))*Paramétrage!$C$25 -> 2 | AC20: =SUMIF(AA$5:AC$14,AA20,AC$5:AC$14)+SUMIF(AE$5:AG$14,AA20,AG$5:AG$14) -> 0 | AD20: =RANK(Z20,Z$17:Z$21,0) -> 4 | AE20: =AA20 -> Nom équipe 3 B | AK20: =AM20+AN20/1000 -> 2 | AL20: =AP5 -> Nom équipe 4 B | AM20: =(COUNTIFS(AQ$5:AQ$14,"w",AP$5:AP$14,AL20)+COUNTIFS(AM$5:AM$14,"w",AL$5:AL$14,AL20))*Paramétrage!$C$23+(COUNTIFS(AQ$5:AQ$14,"N",AP$5:AP$14,AL20)+COUNTIFS(AM$5:AM$14,"N",AL$5:AL$14,AL20))*Paramétrage!$C$24+(COUNTIFS(AQ$5:AQ$14,"L",AP$5:AP$14,AL20)+COUNTIFS(AM$5:AM$14,"L",AL$5:AL$14,AL20))*Paramétrage!$C$25 -> 2 | AN20: =SUMIF(AL$5:AN$14,AL20,AN$5:AN$14)+SUMIF(AP$5:AR$14,AL20,AR$5:AR$14) -> 0 | AO20: =RANK(AK20,AK$17:AK$21,0) -> 4 | AP20: =AL20 -> Nom équipe 4 B
D21: =F21+G21/1000 -> 6 | E21: =I6 -> Nom équipe 9 A | F21: =(COUNTIFS(J$5:J$14,"w",I$5:I$14,E21)+COUNTIFS(F$5:F$14,"w",E$5:E$14,E21))*Paramétrage!$C$23+(COUNTIFS(J$5:J$14,"N",I$5:I$14,E21)+COUNTIFS(F$5:F$14,"N",E$5:E$14,E21))*Paramétrage!$C$24+(COUNTIFS(J$5:J$14,"L",I$5:I$14,E21)+COUNTIFS(F$5:F$14,"L",E$5:E$14,E21))*Paramétrage!$C$25 -> 6 | G21: =SUMIF(E$5:G$14,E21,G$5:G$14)+SUMIF(I$5:K$14,E21,K$5:K$14) -> 0 | H21: =RANK(D21,D$17:D$21,0) -> 1 | I21: =E21 -> Nom équipe 9 A | O21: =Q21+R21/1000 -> 6 | P21: =T6 -> Nom équipe 10 A | Q21: =(COUNTIFS(U$5:U$14,"w",T$5:T$14,P21)+COUNTIFS(Q$5:Q$14,"w",P$5:P$14,P21))*Paramétrage!$C$23+(COUNTIFS(U$5:U$14,"N",T$5:T$14,P21)+COUNTIFS(Q$5:Q$14,"N",P$5:P$14,P21))*Paramétrage!$C$24+(COUNTIFS(U$5:U$14,"L",T$5:T$14,P21)+COUNTIFS(Q$5:Q$14,"L",P$5:P$14,P21))*Paramétrage!$C$25 -> 6 | R21: =SUMIF(P$5:R$14,P21,R$5:R$14)+SUMIF(T$5:V$14,P21,V$5:V$14) -> 0 | S21: =RANK(O21,O$17:O$21,0) -> 1 | T21: =P21 -> Nom équipe 10 A | Z21: =AB21+AC21/1000 -> 6 | AA21: =AE6 -> Nom équipe 1 B | AB21: =(COUNTIFS(AF$5:AF$14,"w",AE$5:AE$14,AA21)+COUNTIFS(AB$5:AB$14,"w",AA$5:AA$14,AA21))*Paramétrage!$C$23+(COUNTIFS(AF$5:AF$14,"N",AE$5:AE$14,AA21)+COUNTIFS(AB$5:AB$14,"N",AA$5:AA$14,AA21))*Paramétrage!$C$24+(COUNTIFS(AF$5:AF$14,"L",AE$5:AE$14,AA21)+COUNTIFS(AB$5:AB$14,"L",AA$5:AA$14,AA21))*Paramétrage!$C$25 -> 6 | AC21: =SUMIF(AA$5:AC$14,AA21,AC$5:AC$14)+SUMIF(AE$5:AG$14,AA21,AG$5:AG$14) -> 0 | AD21: =RANK(Z21,Z$17:Z$21,0) -> 1 | AE21: =AA21 -> Nom équipe 1 B | AK21: =AM21+AN21/1000 -> 6 | AL21: =AP6 -> Nom équipe 2 B | AM21: =(COUNTIFS(AQ$5:AQ$14,"w",AP$5:AP$14,AL21)+COUNTIFS(AM$5:AM$14,"w",AL$5:AL$14,AL21))*Paramétrage!$C$23+(COUNTIFS(AQ$5:AQ$14,"N",AP$5:AP$14,AL21)+COUNTIFS(AM$5:AM$14,"N",AL$5:AL$14,AL21))*Paramétrage!$C$24+(COUNTIFS(AQ$5:AQ$14,"L",AP$5:AP$14,AL21)+COUNTIFS(AM$5:AM$14,"L",AL$5:AL$14,AL21))*Paramétrage!$C$25 -> 6 | AN21: =SUMIF(AL$5:AN$14,AL21,AN$5:AN$14)+SUMIF(AP$5:AR$14,AL21,AR$5:AR$14) -> 0 | AO21: =RANK(AK21,AK$17:AK$21,0) -> 1 | AP21: =AL21 -> Nom équipe 2 B

Sheet 2-Phase de classement-Sport 1
D2: WINNER BRACKET | O2: LOOSER BRACKET | W2: Classement | AD2: Poule consolante
W5: 1er | X5: =IF(K30="","",VLOOKUP("w",K29:L30,2,FALSE)) | AD5: Nom équipe | AE5: W/L | AF5: Dif. | AH5: Nom équipe | AI5: W/L | AJ5: Dif.
D6: =Paramétrage!F15 -> 0.51145833 | E6: T1 | W6: 2ème | X6: =IF(K30="","",VLOOKUP("l",K29:L30,2,FALSE)) | AA6: T4 | AB6: =+D14 -> 0.51145833 | AD6: =+'Param. - Transition'!F5 -> #N/A | AG6: VS | AH6: =+'Param. - Transition'!F7 -> #N/A | AI6: =IF(AE6="W","L",IF(AE6="L","W","N")) -> N | AJ6: =-AF6 -> 0
D7: ='Param. - Transition'!D5 -> Nom équipe 3 A | F7: =D7 -> Nom équipe 3 A | W7: 3ème | X7: =IF(K36="","",VLOOKUP("w",K35:L36,2,FALSE)) | AA7: T4 | AB7: =+D18 -> 0.51944444 | AD7: =+'Param. - Transition'!F6 -> #N/A | AG7: VS | AH7: =+'Param. - Transition'!F8 -> #N/A | AI7: =IF(AE7="W","L",IF(AE7="L","W","N")) -> N | AJ7: =-AF7 -> 0
D8: ='Param. - Transition'!E6 -> Nom équipe 2 A | F8: =D8 -> Nom équipe 2 A | G8: =D34 -> 0.52743056 | H8: T3 | O8: =G8 -> 0.52743056 | P8: T4 | W8: 4ème | X8: =IF(K36="","",VLOOKUP("l",K35:L36,2,FALSE)) | AA8: T4 | AB8: =G16 -> 0.53541667 | AD8: =AD6 -> #N/A | AG8: VS | AH8: =AH6 -> #N/A | AI8: =IF(AE8="W","L",IF(AE8="L","W","N")) -> N | AJ8: =-AF8 -> 0
G9: =IF(E8="","",VLOOKUP("w",E7:F8,2,FALSE)) | I9: =G9 | O9: =IF(E8="","",VLOOKUP("l",E7:F8,2,FALSE)) | Q9: =+O9 | W9: 5ème | X9: =IF(S30="","",VLOOKUP("w",S29:T30,2,FALSE)) | AA9: T4 | AB9: =G32 -> 0.54340278 | AD9: =AH7 -> #N/A | AG9: VS | AH9: =AD7 -> #N/A | AI9: =IF(AE9="W","L",IF(AE9="L","W","N")) -> N | AJ9: =-AF9 -> 0
D10: =D6 -> 0.51145833 | E10: T2 | G10: =IF(E12="","",VLOOKUP("w",E11:F12,2,FALSE)) | I10: =G10 | O10: =IF(E12="","",VLOOKUP("l",E11:F12,2,FALSE)) | Q10: =+O10 | W10: 6ème | X10: =IF(S30="","",VLOOKUP("l",S29:T30,2,FALSE)) | AA10: T3 | AB10: =+R28 -> 0.559375 | AD10: =AD6 -> #N/A | AG10: VS | AH10: =AH7 -> #N/A | AI10: =IF(AE10="W","L",IF(AE10="L","W","N")) -> N | AJ10: =-AF10 -> 0
D11: ='Param. - Transition'!E5 -> Nom équipe 1 A | F11: =D11 -> Nom équipe 1 A | W11: 7ème | X11: =IF(S35="","",VLOOKUP("w",S35:T36,2,FALSE)) | AA11: T4 | AB11: =+R28 -> 0.559375 | AD11: =AH6 -> #N/A | AG11: VS | AH11: =AD7 -> #N/A | AI11: =IF(AE11="W","L",IF(AE11="L","W","N")) -> N | AJ11: =-AF11 -> 0
D12: ='Param. - Transition'!D6 -> Nom équipe 4 A | F12: =D12 -> Nom équipe 4 A | J12: =G32+Paramétrage!$F$16+Paramétrage!$F$17 -> 0.55138889 | K12: T1 | R12: =J12 -> 0.55138889 | S12: T3 | W12: 8ème | X12: =IF(S36="","",VLOOKUP("l",S35:T36,2,FALSE))
J13: =IF(H10="","",VLOOKUP("w",H9:I10,2,FALSE)) | L13: =J13 | R13: =IF(P10="","",VLOOKUP("w",P9:Q10,2,FALSE)) | T13: =R13 | W13: 9ème | X13: =IF(K14="","",VLOOKUP("w",K13:L14,2,FALSE)) | AD13: Nom équipe | AE13: Pts | AF13: Dif. | AG13: Clas. | AH13: Ne pas toucher
D14: =D10 -> 0.51145833 | E14: T3 | J14: =IF(H18="","",VLOOKUP("w",H17:I18,2,FALSE)) | L14: =J14 | R14: =IF(P18="","",VLOOKUP("w",P17:Q18,2,FALSE)) | T14: =R14 | W14: 10ème | X14: =IF(K14="","",VLOOKUP("l",K13:L14,2,FALSE)) | AC14: =AE14+AF14/1000 -> 12 | AD14: =AD6 -> #N/A | AE14: =(COUNTIFS(AI$5:AI$11,"w",AH$5:AH$11,AD14)+COUNTIFS(AE$5:AE$11,"w",AD$5:AD$11,AD14))*Paramétrage!$C$23+(COUNTIFS(AI$5:AI$11,"N",AH$5:AH$11,AD14)+COUNTIFS(AE$5:AE$11,"N",AD$5:AD$11,AD14))*Paramétrage!$C$24+(COUNTIFS(AI$5:AI$11,"L",AH$5:AH$11,AD14)+COUNTIFS(AE$5:AE$11,"L",AD$5:AD$11,AD14))*Paramétrage!$C$25 -> 12 | AF14: =SUMIF(AD$5:AF$11,AD14,AF$5:AF$11)+SUMIF(AH$5:AJ$11,AD14,AJ$5:AJ$11) -> 0 | AG14: =RANK(AC14,AC$14:AC$17,0) -> 1 | AH14: =AD14 -> #N/A
D15: ='Param. - Transition'!D7 -> Nom équipe 7 B | F15: =D15 -> Nom équipe 7 B | W15: 11ème | X15: =IF(K20="","",VLOOKUP("w",K19:L20,2,FALSE)) | AC15: =AE15+AF15/1000 -> 12 | AD15: =AD7 -> #N/A | AE15: =(COUNTIFS(AI$5:AI$11,"w",AH$5:AH$11,AD15)+COUNTIFS(AE$5:AE$11,"w",AD$5:AD$11,AD15))*Paramétrage!$C$23+(COUNTIFS(AI$5:AI$11,"N",AH$5:AH$11,AD15)+COUNTIFS(AE$5:AE$11,"N",AD$5:AD$11,AD15))*Paramétrage!$C$24+(COUNTIFS(AI$5:AI$11,"L",AH$5:AH$11,AD15)+COUNTIFS(AE$5:AE$11,"L",AD$5:AD$11,AD15))*Paramétrage!$C$25 -> 12 | AF15: =SUMIF(AD$5:AF$11,AD15,AF$5:AF$11)+SUMIF(AH$5:AJ$11,AD15,AJ$5:AJ$11) -> 0 | AG15: =RANK(AC15,AC$14:AC$17,0) -> 1 | AH15: =AD15 -> #N/A
D16: ='Param. - Transition'!E8 -> Nom équipe 6 B | F16: =D16 -> Nom équipe 6 B | G16: =G8+Paramétrage!$F$16+Paramétrage!$F$17 -> 0.53541667 | H16: T1 | O16: =G16 -> 0.53541667 | P16: T2 | W16: 12ème | X16: =IF(K20="","",VLOOKUP("l",K19:L20,2,FALSE)) | AC16: =AE16+AF16/1000 -> 12 | AD16: =AH6 -> #N/A | AE16: =(COUNTIFS(AI$5:AI$11,"w",AH$5:AH$11,AD16)+COUNTIFS(AE$5:AE$11,"w",AD$5:AD$11,AD16))*Paramétrage!$C$23+(COUNTIFS(AI$5:AI$11,"N",AH$5:AH$11,AD16)+COUNTIFS(AE$5:AE$11,"N",AD$5:AD$11,AD16))*Paramétrage!$C$24+(COUNTIFS(AI$5:AI$11,"L",AH$5:AH$11,AD16)+COUNTIFS(AE$5:AE$11,"L",AD$5:AD$11,AD16))*Paramétrage!$C$25 -> 12 | AF16: =SUMIF(AD$5:AF$11,AD16,AF$5:AF$11)+SUMIF(AH$5:AJ$11,AD16,AJ$5:AJ$11) -> 0 | AG16: =RANK(AC16,AC$14:AC$17,0) -> 1 | AH16: =AD16 -> #N/A
G17: =IF(E16="","",VLOOKUP("w",E15:F16,2,FALSE)) | I17: =G17 | O17: =IF(E16="","",VLOOKUP("l",E15:F16,2,FALSE)) | Q17: =O17 | W17: 13ème | X17: =IF(S14="","",VLOOKUP("w",S13:T14,2,FALSE)) | AC17: =AE17+AF17/1000 -> 12 | AD17: =AH7 -> #N/A | AE17: =(COUNTIFS(AI$5:AI$11,"w",AH$5:AH$11,AD17)+COUNTIFS(AE$5:AE$11,"w",AD$5:AD$11,AD17))*Paramétrage!$C$23+(COUNTIFS(AI$5:AI$11,"N",AH$5:AH$11,AD17)+COUNTIFS(AE$5:AE$11,"N",AD$5:AD$11,AD17))*Paramétrage!$C$24+(COUNTIFS(AI$5:AI$11,"L",AH$5:AH$11,AD17)+COUNTIFS(AE$5:AE$11,"L",AD$5:AD$11,AD17))*Paramétrage!$C$25 -> 12 | AF17: =SUMIF(AD$5:AF$11,AD17,AF$5:AF$11)+SUMIF(AH$5:AJ$11,AD17,AJ$5:AJ$11) -> 0 | AG17: =RANK(AC17,AC$14:AC$17,0) -> 1 | AH17: =AD17 -> #N/A
D18: =D14+Paramétrage!$F$16+Paramétrage!$F$17 -> 0.51944444 | E18: T1 | G18: =IF(E20="","",VLOOKUP("w",E19:F20,2,FALSE)) | I18: =G18 | J18: =J12 -> 0.55138889 | K18: T2 | O18: =IF(E20="","",VLOOKUP("l",E19:F20,2,FALSE)) | Q18: =O18 | R18: =R12 -> 0.55138889 | S18: T4 | W18: 14ème | X18: =IF(S14="","",VLOOKUP("l",S13:T14,2,FALSE))
D19: ='Param. - Transition'!E7 -> Nom équipe 5 B | F19: =D19 -> Nom équipe 5 B | J19: =IF(H10="","",VLOOKUP("L",H9:I10,2,FALSE)) | L19: =J19 | R19: =IF(P10="","",VLOOKUP("L",P9:Q10,2,FALSE)) | T19: =R19 | W19: 15ème | X19: =IF(S20="","",VLOOKUP("w",S19:T20,2,FALSE))
D20: ='Param. - Transition'!D8 -> Nom équipe 8 B | F20: =D20 -> Nom équipe 8 B | J20: =IF(H18="","",VLOOKUP("L",H17:I18,2,FALSE)) | L20: =J20 | R20: =IF(P18="","",VLOOKUP("L",P17:Q18,2,FALSE)) | T20: =R20 | W20: 16ème | X20: =IF(S20="","",VLOOKUP("l",S19:T20,2,FALSE))
V21: 1 | W21: 17ème | X21: =VLOOKUP(V21,$AG$14:$AH$17,2,FALSE) -> #N/A
D22: =+D18 -> 0.51944444 | E22: T2 | V22: 2 | W22: 18ème | X22: =VLOOKUP(V22,$AG$14:$AH$17,2,FALSE) -> #N/A
D23: ='Param. - Transition'!B5 -> Nom équipe 5 A | F23: =D23 -> Nom équipe 5 A | V23: 3 | W23: 19ème | X23: =VLOOKUP(V23,$AG$14:$AH$17,2,FALSE) -> #N/A
D24: ='Param. - Transition'!C6 -> #N/A | F24: =D24 -> #N/A | G24: =G16 -> 0.53541667 | H24: T3 | O24: =G32 -> 0.54340278 | P24: T2 | V24: 4 | W24: 20ème | X24: =VLOOKUP(V24,$AG$14:$AH$17,2,FALSE) -> #N/A
G25: =IF(E24="","",VLOOKUP("w",E23:F24,2,FALSE)) | I25: =G25 | O25: =IF(E24="","",VLOOKUP("l",E23:F24,2,FALSE)) | Q25: =O25
D26: =+D22 -> 0.51944444 | E26: T3 | G26: =IF(E28="","",VLOOKUP("w",E27:F28,2,FALSE)) | I26: =G26 | O26: =IF(E28="","",VLOOKUP("l",E27:F28,2,FALSE)) | Q26: =O26
D27: ='Param. - Transition'!C5 -> #N/A | F27: =D27 -> #N/A
D28: ='Param. - Transition'!B6 -> Nom équipe 6 A | F28: =D28 -> Nom équipe 6 A | J28: =R28+Paramétrage!$F$16+Paramétrage!$F$17 -> 0.56736111 | K28: T1 | R28: =R18+Paramétrage!$F$16+Paramétrage!$F$17 -> 0.559375 | S28: T1
J29: =IF(H26="","",VLOOKUP("w",H25:I26,2,FALSE)) | L29: =J29 | R29: =IF(P26="","",VLOOKUP("w",P25:Q26,2,FALSE)) | T29: =R29
D30: =D26+Paramétrage!$F$16+Paramétrage!$F$17 -> 0.52743056 | E30: T1 | J30: =IF(H34="","",VLOOKUP("w",H33:I34,2,FALSE)) | L30: =J30 | R30: =IF(P34="","",VLOOKUP("w",P33:Q34,2,FALSE)) | T30: =R30
D31: ='Param. - Transition'!B7 -> Nom équipe 9 B | F31: =D31 -> Nom équipe 9 B
D32: ='Param. - Transition'!C8 -> #N/A | F32: =D32 -> #N/A | G32: =G24+Paramétrage!$F$16+Paramétrage!$F$17 -> 0.54340278 | H32: T1 | O32: =G32 -> 0.54340278 | P32: T3
G33: =IF(E32="","",VLOOKUP("w",E31:F32,2,FALSE)) | I33: =G33 | O33: =IF(E32="","",VLOOKUP("l",E31:F32,2,FALSE)) | Q33: =O33
D34: =D30 -> 0.52743056 | E34: T2 | G34: =IF(E36="","",VLOOKUP("w",E35:F36,2,FALSE)) | I34: =G34 | J34: =+J28 -> 0.56736111 | K34: T2 | O34: =IF(E36="","",VLOOKUP("l",E35:F36,2,FALSE)) | Q34: =O34 | R34: =R28 -> 0.559375 | S34: T2
D35: ='Param. - Transition'!C7 -> #N/A | F35: =D35 -> #N/A | J35: =IF(H26="","",VLOOKUP("L",H25:I26,2,FALSE)) | L35: =J35 | R35: =IF(P26="","",VLOOKUP("L",P25:Q26,2,FALSE)) | T35: =R35
D36: ='Param. - Transition'!B8 -> Nom équipe 10 B | F36: =D36 -> Nom équipe 10 B | J36: =IF(H34="","",VLOOKUP("L",H33:I34,2,FALSE)) | L36: =J36 | R36: =IF(P34="","",VLOOKUP("L",P33:Q34,2,FALSE)) | T36: =R36
R39: Fin
R40: =J28+Paramétrage!$F$16+Paramétrage!$F$17 -> 0.57534722

Sheet FdM (2)
B2: Feuille de match | M2: Feuille de match
E7: ="POULE A - "&Paramétrage!$J$3 -> POULE A - Volley | P7: ="POULE B - "&Paramétrage!$J$3 -> POULE B - Volley
E9: Nom équipe | F9: W/L | G9: Dif. | I9: Nom équipe | J9: W/L | K9: Dif. | P9: Nom équipe | Q9: W/L | R9: Dif. | T9: Nom équipe | U9: W/L | V9: Dif.
A10: #REF! | B10: =+'1-Phase de poule-Sport 2'!B5 -> T1 | C10: =+'1-Phase de poule-Sport 2'!C5 -> 0.60416667 | E10: =+'1-Phase de poule-Sport 2'!E5 -> Nom équipe 1 | H10: =+'1-Phase de poule-Sport 2'!H5 -> VS | I10: =+'1-Phase de poule-Sport 2'!I5 -> Nom équipe 4 | L10: =+'1-Phase de poule-Sport 2'!L5 -> 0 | M10: =+'1-Phase de poule-Sport 2'!M5 -> T2 | N10: =+'1-Phase de poule-Sport 2'!N5 -> 0.60416667 | P10: =+'1-Phase de poule-Sport 2'!P5 -> Nom équipe 6 | S10: =+'1-Phase de poule-Sport 2'!S5 -> VS | T10: =+'1-Phase de poule-Sport 2'!T5 -> Nom équipe 9
A11: =+'1-Phase de poule-Sport 2'!A6 -> 0 | B11: =+'1-Phase de poule-Sport 2'!B6 -> T1 | C11: =+'1-Phase de poule-Sport 2'!C6 -> 0.61215278 | E11: =+'1-Phase de poule-Sport 2'!E6 -> Nom équipe 2 | H11: =+'1-Phase de poule-Sport 2'!H6 -> VS | I11: =+'1-Phase de poule-Sport 2'!I6 -> Nom équipe 5 | L11: =+'1-Phase de poule-Sport 2'!L6 -> 0 | M11: =+'1-Phase de poule-Sport 2'!M6 -> T2 | N11: =+'1-Phase de poule-Sport 2'!N6 -> 0.61215278 | P11: =+'1-Phase de poule-Sport 2'!P6 -> Nom équipe 7 | S11: =+'1-Phase de poule-Sport 2'!S6 -> VS | T11: =+'1-Phase de poule-Sport 2'!T6 -> Nom équipe 10
A12: =+'1-Phase de poule-Sport 2'!A7 -> 0 | B12: =+'1-Phase de poule-Sport 2'!B7 -> T1 | C12: =+'1-Phase de poule-Sport 2'!C7 -> 0.62013889 | E12: =+'1-Phase de poule-Sport 2'!E7 -> Nom équipe 3 | H12: =+'1-Phase de poule-Sport 2'!H7 -> VS | I12: =+'1-Phase de poule-Sport 2'!I7 -> Nom équipe 1 | L12: =+'1-Phase de poule-Sport 2'!L7 -> 0 | M12: =+'1-Phase de poule-Sport 2'!M7 -> T2 | N12: =+'1-Phase de poule-Sport 2'!N7 -> 0.62013889 | P12: =+'1-Phase de poule-Sport 2'!P7 -> Nom équipe 8 | S12: =+'1-Phase de poule-Sport 2'!S7 -> VS | T12: =+'1-Phase de poule-Sport 2'!T7 -> Nom équipe 6
A13: =+'1-Phase de poule-Sport 2'!A8 -> 0 | B13: =+'1-Phase de poule-Sport 2'!B8 -> T1 | C13: =+'1-Phase de poule-Sport 2'!C8 -> 0.628125 | E13: =+'1-Phase de poule-Sport 2'!E8 -> Nom équipe 4 | H13: =+'1-Phase de poule-Sport 2'!H8 -> VS | I13: =+'1-Phase de poule-Sport 2'!I8 -> Nom équipe 2 | L13: =+'1-Phase de poule-Sport 2'!L8 -> 0 | M13: =+'1-Phase de poule-Sport 2'!M8 -> T2 | N13: =+'1-Phase de poule-Sport 2'!N8 -> 0.628125 | P13: =+'1-Phase de poule-Sport 2'!P8 -> Nom équipe 9 | S13: =+'1-Phase de poule-Sport 2'!S8 -> VS | T13: =+'1-Phase de poule-Sport 2'!T8 -> Nom équipe 7
A14: =+'1-Phase de poule-Sport 2'!A9 -> 0 | B14: =+'1-Phase de poule-Sport 2'!B9 -> T1 | C14: =+'1-Phase de poule-Sport 2'!C9 -> 0.63611111 | E14: =+'1-Phase de poule-Sport 2'!E9 -> Nom équipe 5 | H14: =+'1-Phase de poule-Sport 2'!H9 -> VS | I14: =+'1-Phase de poule-Sport 2'!I9 -> Nom équipe 3 | L14: =+'1-Phase de poule-Sport 2'!L9 -> 0 | M14: =+'1-Phase de poule-Sport 2'!M9 -> T2 | N14: =+'1-Phase de poule-Sport 2'!N9 -> 0.63611111 | P14: =+'1-Phase de poule-Sport 2'!P9 -> Nom équipe 10 | S14: =+'1-Phase de poule-Sport 2'!S9 -> VS | T14: =+'1-Phase de poule-Sport 2'!T9 -> Nom équipe 8
A15: =+'1-Phase de poule-Sport 2'!A10 -> 0 | B15: =+'1-Phase de poule-Sport 2'!B10 -> T1 | C15: =+'1-Phase de poule-Sport 2'!C10 -> 0.64409722 | E15: =+'1-Phase de poule-Sport 2'!E10 -> Nom équipe 1 | H15: =+'1-Phase de poule-Sport 2'!H10 -> VS | I15: =+'1-Phase de poule-Sport 2'!I10 -> Nom équipe 2 | L15: =+'1-Phase de poule-Sport 2'!L10 -> 0 | M15: =+'1-Phase de poule-Sport 2'!M10 -> T2 | N15: =+'1-Phase de poule-Sport 2'!N10 -> 0.64409722 | P15: =+'1-Phase de poule-Sport 2'!P10 -> Nom équipe 6 | S15: =+'1-Phase de poule-Sport 2'!S10 -> VS | T15: =+'1-Phase de poule-Sport 2'!T10 -> Nom équipe 7
A16: =+'1-Phase de poule-Sport 2'!A11 -> 0 | B16: =+'1-Phase de poule-Sport 2'!B11 -> T1 | C16: =+'1-Phase de poule-Sport 2'!C11 -> 0.65208333 | E16: =+'1-Phase de poule-Sport 2'!E11 -> Nom équipe 4 | H16: =+'1-Phase de poule-Sport 2'!H11 -> VS | I16: =+'1-Phase de poule-Sport 2'!I11 -> Nom équipe 5 | L16: =+'1-Phase de poule-Sport 2'!L11 -> 0 | M16: =+'1-Phase de poule-Sport 2'!M11 -> T2 | N16: =+'1-Phase de poule-Sport 2'!N11 -> 0.65208333 | P16: =+'1-Phase de poule-Sport 2'!P11 -> Nom équipe 9 | S16: =+'1-Phase de poule-Sport 2'!S11 -> VS | T16: =+'1-Phase de poule-Sport 2'!T11 -> Nom équipe 10
A17: =+'1-Phase de poule-Sport 2'!A12 -> 0 | B17: =+'1-Phase de poule-Sport 2'!B12 -> T1 | C17: =+'1-Phase de poule-Sport 2'!C12 -> 0.66006944 | E17: =+'1-Phase de poule-Sport 2'!E12 -> Nom équipe 2 | H17: =+'1-Phase de poule-Sport 2'!H12 -> VS | I17: =+'1-Phase de poule-Sport 2'!I12 -> Nom équipe 3 | L17: =+'1-Phase de poule-Sport 2'!L12 -> 0 | M17: =+'1-Phase de poule-Sport 2'!M12 -> T2 | N17: =+'1-Phase de poule-Sport 2'!N12 -> 0.66006944 | P17: =+'1-Phase de poule-Sport 2'!P12 -> Nom équipe 7 | S17: =+'1-Phase de poule-Sport 2'!S12 -> VS | T17: =+'1-Phase de poule-Sport 2'!T12 -> Nom équipe 8
A18: =+'1-Phase de poule-Sport 2'!A13 -> 0 | B18: =+'1-Phase de poule-Sport 2'!B13 -> T1 | C18: =+'1-Phase de poule-Sport 2'!C13 -> 0.66805556 | E18: =+'1-Phase de poule-Sport 2'!E13 -> Nom équipe 1 | H18: =+'1-Phase de poule-Sport 2'!H13 -> VS | I18: =+'1-Phase de poule-Sport 2'!I13 -> Nom équipe 5 | L18: =+'1-Phase de poule-Sport 2'!L13 -> 0 | M18: =+'1-Phase de poule-Sport 2'!M13 -> T2 | N18: =+'1-Phase de poule-Sport 2'!N13 -> 0.66805556 | P18: =+'1-Phase de poule-Sport 2'!P13 -> Nom équipe 6 | S18: =+'1-Phase de poule-Sport 2'!S13 -> VS | T18: =+'1-Phase de poule-Sport 2'!T13 -> Nom équipe 10
A19: =+'1-Phase de poule-Sport 2'!A14 -> 0 | B19: =+'1-Phase de poule-Sport 2'!B14 -> T1 | C19: =+'1-Phase de poule-Sport 2'!C14 -> 0.67604167 | E19: =+'1-Phase de poule-Sport 2'!E14 -> Nom équipe 4 | H19: =+'1-Phase de poule-Sport 2'!H14 -> VS | I19: =+'1-Phase de poule-Sport 2'!I14 -> Nom équipe 3 | L19: =+'1-Phase de poule-Sport 2'!L14 -> 0 | M19: =+'1-Phase de poule-Sport 2'!M14 -> T2 | N19: =+'1-Phase de poule-Sport 2'!N14 -> 0.67604167 | P19: =+'1-Phase de poule-Sport 2'!P14 -> Nom équipe 9 | S19: =+'1-Phase de poule-Sport 2'!S14 -> VS | T19: =+'1-Phase de poule-Sport 2'!T14 -> Nom équipe 8
A20: =+'1-Phase de poule-Sport 2'!A15 -> 0 | C20: =+'1-Phase de poule-Sport 2'!C15 -> 0.68402778 | L20: =+'1-Phase de poule-Sport 2'!L15 -> 0 | N20: =+'1-Phase de poule-Sport 2'!N15 -> 0.68402778

Sheet 1-Phase de poule-Sport 2
E2: POULE A | P2: POULE B
E4: Nom équipe | F4: W/L | G4: Dif. | I4: Nom équipe | J4: W/L | K4: Dif. | P4: Nom équipe | Q4: W/L | R4: Dif. | T4: Nom équipe | U4: W/L | V4: Dif.
B5: T1 | C5: =Paramétrage!E15 -> 0.60416667 | E5: =Paramétrage!E3 -> Nom équipe 1 | H5: VS | I5: =Paramétrage!E6 -> Nom équipe 4 | J5: =IF(F5="W","L",IF(F5="L","W","N")) -> N | K5: =-G5 -> 0 | M5: T2 | N5: =C5 -> 0.60416667 | P5: =Paramétrage!E8 -> Nom équipe 6 | S5: VS | T5: =Paramétrage!E11 -> Nom équipe 9 | U5: =IF(Q5="W","L",IF(Q5="L","W","N")) -> N | V5: =-R5 -> 0
B6: T1 | C6: =C5+Paramétrage!$E$16+Paramétrage!$E$17 -> 0.61215278 | E6: =Paramétrage!E4 -> Nom équipe 2 | H6: VS | I6: =Paramétrage!E7 -> Nom équipe 5 | J6: =IF(F6="W","L",IF(F6="L","W","N")) -> N | K6: =-G6 -> 0 | M6: T2 | N6: =C6 -> 0.61215278 | P6: =Paramétrage!E9 -> Nom équipe 7 | S6: VS | T6: =Paramétrage!E12 -> Nom équipe 10 | U6: =IF(Q6="W","L",IF(Q6="L","W","N")) -> N | V6: =-R6 -> 0
B7: T1 | C7: =C6+Paramétrage!$E$16+Paramétrage!$E$17 -> 0.62013889 | E7: =Paramétrage!E5 -> Nom équipe 3 | H7: VS | I7: =+E5 -> Nom équipe 1 | J7: =IF(F7="W","L",IF(F7="L","W","N")) -> N | K7: =-G7 -> 0 | M7: T2 | N7: =C7 -> 0.62013889 | P7: =Paramétrage!E10 -> Nom équipe 8 | S7: VS | T7: =+P5 -> Nom équipe 6 | U7: =IF(Q7="W","L",IF(Q7="L","W","N")) -> N | V7: =-R7 -> 0
B8: T1 | C8: =C7+Paramétrage!$E$16+Paramétrage!$E$17 -> 0.628125 | E8: =+I5 -> Nom équipe 4 | H8: VS | I8: =E6 -> Nom équipe 2 | J8: =IF(F8="W","L",IF(F8="L","W","N")) -> N | K8: =-G8 -> 0 | M8: T2 | N8: =C8 -> 0.628125 | P8: =+T5 -> Nom équipe 9 | S8: VS | T8: =P6 -> Nom équipe 7 | U8: =IF(Q8="W","L",IF(Q8="L","W","N")) -> N | V8: =-R8 -> 0
B9: T1 | C9: =C8+Paramétrage!$E$16+Paramétrage!$E$17 -> 0.63611111 | E9: =I6 -> Nom équipe 5 | H9: VS | I9: =E7 -> Nom équipe 3 | J9: =IF(F9="W","L",IF(F9="L","W","N")) -> N | K9: =-G9 -> 0 | M9: T2 | N9: =C9 -> 0.63611111 | P9: =T6 -> Nom équipe 10 | S9: VS | T9: =P7 -> Nom équipe 8 | U9: =IF(Q9="W","L",IF(Q9="L","W","N")) -> N | V9: =-R9 -> 0
B10: T1 | C10: =C9+Paramétrage!$E$16+Paramétrage!$E$17 -> 0.64409722 | E10: =E5 -> Nom équipe 1 | H10: VS | I10: =E6 -> Nom équipe 2 | J10: =IF(F10="W","L",IF(F10="L","W","N")) -> N | K10: =-G10 -> 0 | M10: T2 | N10: =C10 -> 0.64409722 | P10: =P5 -> Nom équipe 6 | S10: VS | T10: =P6 -> Nom équipe 7 | U10: =IF(Q10="W","L",IF(Q10="L","W","N")) -> N | V10: =-R10 -> 0
B11: T1 | C11: =C10+Paramétrage!$E$16+Paramétrage!$E$17 -> 0.65208333 | E11: =I5 -> Nom équipe 4 | H11: VS | I11: =I6 -> Nom équipe 5 | J11: =IF(F11="W","L",IF(F11="L","W","N")) -> N | K11: =-G11 -> 0 | M11: T2 | N11: =C11 -> 0.65208333 | P11: =T5 -> Nom équipe 9 | S11: VS | T11: =T6 -> Nom équipe 10 | U11: =IF(Q11="W","L",IF(Q11="L","W","N")) -> N | V11: =-R11 -> 0
B12: T1 | C12: =C11+Paramétrage!$E$16+Paramétrage!$E$17 -> 0.66006944 | E12: =E6 -> Nom équipe 2 | H12: VS | I12: =E7 -> Nom équipe 3 | J12: =IF(F12="W","L",IF(F12="L","W","N")) -> N | K12: =-G12 -> 0 | M12: T2 | N12: =C12 -> 0.66006944 | P12: =P6 -> Nom équipe 7 | S12: VS | T12: =P7 -> Nom équipe 8 | U12: =IF(Q12="W","L",IF(Q12="L","W","N")) -> N | V12: =-R12 -> 0
B13: T1 | C13: =C12+Paramétrage!$E$16+Paramétrage!$E$17 -> 0.66805556 | E13: =E5 -> Nom équipe 1 | H13: VS | I13: =I6 -> Nom équipe 5 | J13: =IF(F13="W","L",IF(F13="L","W","N")) -> N | K13: =-G13 -> 0 | M13: T2 | N13: =C13 -> 0.66805556 | P13: =P5 -> Nom équipe 6 | S13: VS | T13: =T6 -> Nom équipe 10 | U13: =IF(Q13="W","L",IF(Q13="L","W","N")) -> N | V13: =-R13 -> 0
B14: T1 | C14: =C13+Paramétrage!$E$16+Paramétrage!$E$17 -> 0.67604167 | E14: =E8 -> Nom équipe 4 | H14: VS | I14: =E7 -> Nom équipe 3 | J14: =IF(F14="W","L",IF(F14="L","W","N")) -> N | K14: =-G14 -> 0 | M14: T2 | N14: =C14 -> 0.67604167 | P14: =P8 -> Nom équipe 9 | S14: VS | T14: =P7 -> Nom équipe 8 | U14: =IF(Q14="W","L",IF(Q14="L","W","N")) -> N | V14: =-R14 -> 0
C15: =C14+Paramétrage!$E$16+Paramétrage!$E$17 -> 0.68402778 | N15: =C15 -> 0.68402778
E16: Nom équipe | F16: Pts | G16: Dif. | H16: Clas. | I16: Ne pas toucher | P16: Nom équipe | Q16: Pts | R16: Dif. | S16: Clas. | T16: Ne pas toucher
D17: =F17+G17/1000 -> 2 | E17: =E5 -> Nom équipe 1 | F17: =(COUNTIFS(J$5:J$14,"w",I$5:I$14,E17)+COUNTIFS(F$5:F$14,"w",E$5:E$14,E17))*Paramétrage!$C$23+(COUNTIFS(J$5:J$14,"N",I$5:I$14,E17)+COUNTIFS(F$5:F$14,"N",E$5:E$14,E17))*Paramétrage!$C$24+(COUNTIFS(J$5:J$14,"L",I$5:I$14,E17)+COUNTIFS(F$5:F$14,"L",E$5:E$14,E17))*Paramétrage!$C$25 -> 2 | G17: =SUMIF(E$5:G$14,E17,G$5:G$14)+SUMIF(I$5:K$14,E17,K$5:K$14) -> 0 | H17: =RANK(D17,D$17:D$21,0) -> 4 | I17: =E17 -> Nom équipe 1 | O17: =Q17+R17/1000 -> 2 | P17: =P5 -> Nom équipe 6 | Q17: =(COUNTIFS(U$5:U$14,"w",T$5:T$14,P17)+COUNTIFS(Q$5:Q$14,"w",P$5:P$14,P17))*Paramétrage!$C$23+(COUNTIFS(U$5:U$14,"N",T$5:T$14,P17)+COUNTIFS(Q$5:Q$14,"N",P$5:P$14,P17))*Paramétrage!$C$24+(COUNTIFS(U$5:U$14,"L",T$5:T$14,P17)+COUNTIFS(Q$5:Q$14,"L",P$5:P$14,P17))*Paramétrage!$C$25 -> 2 | R17: =SUMIF(P$5:R$14,P17,R$5:R$14)+SUMIF(T$5:V$14,P17,V$5:V$14) -> 0 | S17: =RANK(O17,O$17:O$21,0) -> 4 | T17: =P17 -> Nom équipe 6
D18: =F18+G18/1000 -> 4 | E18: =E6 -> Nom équipe 2 | F18: =(COUNTIFS(J$5:J$14,"w",I$5:I$14,E18)+COUNTIFS(F$5:F$14,"w",E$5:E$14,E18))*Paramétrage!$C$23+(COUNTIFS(J$5:J$14,"N",I$5:I$14,E18)+COUNTIFS(F$5:F$14,"N",E$5:E$14,E18))*Paramétrage!$C$24+(COUNTIFS(J$5:J$14,"L",I$5:I$14,E18)+COUNTIFS(F$5:F$14,"L",E$5:E$14,E18))*Paramétrage!$C$25 -> 4 | G18: =SUMIF(E$5:G$14,E18,G$5:G$14)+SUMIF(I$5:K$14,E18,K$5:K$14) -> 0 | H18: =RANK(D18,D$17:D$21,0) -> 3 | I18: =E18 -> Nom équipe 2 | O18: =Q18+R18/1000 -> 4 | P18: =P6 -> Nom équipe 7 | Q18: =(COUNTIFS(U$5:U$14,"w",T$5:T$14,P18)+COUNTIFS(Q$5:Q$14,"w",P$5:P$14,P18))*Paramétrage!$C$23+(COUNTIFS(U$5:U$14,"N",T$5:T$14,P18)+COUNTIFS(Q$5:Q$14,"N",P$5:P$14,P18))*Paramétrage!$C$24+(COUNTIFS(U$5:U$14,"L",T$5:T$14,P18)+COUNTIFS(Q$5:Q$14,"L",P$5:P$14,P18))*Paramétrage!$C$25 -> 4 | R18: =SUMIF(P$5:R$14,P18,R$5:R$14)+SUMIF(T$5:V$14,P18,V$5:V$14) -> 0 | S18: =RANK(O18,O$17:O$21,0) -> 3 | T18: =P18 -> Nom équipe 7
D19: =F19+G19/1000 -> 6 | E19: =E7 -> Nom équipe 3 | F19: =(COUNTIFS(J$5:J$14,"w",I$5:I$14,E19)+COUNTIFS(F$5:F$14,"w",E$5:E$14,E19))*Paramétrage!$C$23+(COUNTIFS(J$5:J$14,"N",I$5:I$14,E19)+COUNTIFS(F$5:F$14,"N",E$5:E$14,E19))*Paramétrage!$C$24+(COUNTIFS(J$5:J$14,"L",I$5:I$14,E19)+COUNTIFS(F$5:F$14,"L",E$5:E$14,E19))*Paramétrage!$C$25 -> 6 | G19: =SUMIF(E$5:G$14,E19,G$5:G$14)+SUMIF(I$5:K$14,E19,K$5:K$14) -> 0 | H19: =RANK(D19,D$17:D$21,0) -> 1 | I19: =E19 -> Nom équipe 3 | O19: =Q19+R19/1000 -> 6 | P19: =P7 -> Nom équipe 8 | Q19: =(COUNTIFS(U$5:U$14,"w",T$5:T$14,P19)+COUNTIFS(Q$5:Q$14,"w",P$5:P$14,P19))*Paramétrage!$C$23+(COUNTIFS(U$5:U$14,"N",T$5:T$14,P19)+COUNTIFS(Q$5:Q$14,"N",P$5:P$14,P19))*Paramétrage!$C$24+(COUNTIFS(U$5:U$14,"L",T$5:T$14,P19)+COUNTIFS(Q$5:Q$14,"L",P$5:P$14,P19))*Paramétrage!$C$25 -> 6 | R19: =SUMIF(P$5:R$14,P19,R$5:R$14)+SUMIF(T$5:V$14,P19,V$5:V$14) -> 0 | S19: =RANK(O19,O$17:O$21,0) -> 1 | T19: =P19 -> Nom équipe 8
