Workbook

Sheet Point équipe
A3: Equipes participants | B3: Montant payé | C3: Montant à payer | D3: Montant restant à payer | F3: Joueur 1 | G3: Joueur 2 | H3: Joueur 3 | I3: Joueur 4 | J3: Joueur 5 | K3: Joueur 6
A4: Nom équipe 1 | D4: =C4-B4 -> 0
A5: Nom équipe 2 | D5: =C5-B5 -> 0
A6: Nom équipe 3 | D6: =C6-B6 -> 0
A7: Nom équipe 4 | D7: =C7-B7 -> 0
A8: Nom équipe 5 | D8: =C8-B8 -> 0
A9: Nom équipe 6 | D9: =C9-B9 -> 0
A10: Nom équipe 7 | D10: =C10-B10 -> 0
A11: Nom équipe 8 | D11: =C11-B11 -> 0
B12: =SUM(B4:B11) -> 0 | C12: =SUM(C4:C11) -> 0 | D12: =SUM(D4:D11) -> 0

Sheet Param. - Transition
B2: Phase de Poule vers phase de classement - Sport 1
B4: 1 | C4: 2 | D4: 3 | E4: 4
A5: A | B5: =+VLOOKUP('Param. - Transition'!B$4,'1-Phase de poule-Sport 1'!$H$17:$I$21,2,FALSE) -> Nom équipe 2 A | C5: =+VLOOKUP('Param. - Transition'!C$4,'1-Phase de poule-Sport 1'!$H$17:$I$21,2,FALSE) -> #N/A | D5: =+VLOOKUP('Param. - Transition'!D$4,'1-Phase de poule-Sport 1'!$H$17:$I$21,2,FALSE) -> #N/A | E5: =+VLOOKUP('Param. - Transition'!E$4,'1-Phase de poule-Sport 1'!$H$17:$I$21,2,FALSE) -> Nom équipe 1 A
A6: B | B6: =+VLOOKUP('Param. - Transition'!B$4,'1-Phase de poule-Sport 1'!$S$17:$T$21,2,FALSE) -> Nom équipe 6 A | C6: =+VLOOKUP('Param. - Transition'!C$4,'1-Phase de poule-Sport 1'!$S$17:$T$21,2,FALSE) -> #N/A | D6: =+VLOOKUP('Param. - Transition'!D$4,'1-Phase de poule-Sport 1'!$S$17:$T$21,2,FALSE) -> #N/A | E6: =+VLOOKUP('Param. - Transition'!E$4,'1-Phase de poule-Sport 1'!$S$17:$T$21,2,FALSE) -> Nom équipe 5 A
A7: C | B7: =+VLOOKUP('Param. - Transition'!B$4,'1-Phase de poule-Sport 1'!$AD$17:$AE$21,2,FALSE) -> Nom équipe 3 B | C7: =+VLOOKUP('Param. - Transition'!C$4,'1-Phase de poule-Sport 1'!$AD$17:$AE$21,2,FALSE) -> #N/A | D7: =+VLOOKUP('Param. - Transition'!D$4,'1-Phase de poule-Sport 1'!$AD$17:$AE$21,2,FALSE) -> #N/A | E7: =+VLOOKUP('Param. - Transition'!E$4,'1-Phase de poule-Sport 1'!$AD$17:$AE$21,2,FALSE) -> Nom équipe 4 B
A8: D | B8: =+VLOOKUP('Param. - Transition'!B$4,'1-Phase de poule-Sport 1'!$AO$17:$AP$21,2,FALSE) -> Nom équipe 7 B | C8: =+VLOOKUP('Param. - Transition'!C$4,'1-Phase de poule-Sport 1'!$AO$17:$AP$21,2,FALSE) -> #N/A | D8: =+VLOOKUP('Param. - Transition'!D$4,'1-Phase de poule-Sport 1'!$AO$17:$AP$21,2,FALSE) -> #N/A | E8: =+VLOOKUP('Param. - Transition'!E$4,'1-Phase de poule-Sport 1'!$AO$17:$AP$21,2,FALSE) -> Nom équipe 8 B
B14: Phase de Poule vers phase de classement - Sport 2
B16: 1 | C16: 2 | D16: 3 | E16: 4
A17: A | B17: =+VLOOKUP('Param. - Transition'!B$4,'1-Phase de poule-Sport 2'!$H$17:$I$21,2,FALSE) -> Nom équipe 3 B | C17: =+VLOOKUP('Param. - Transition'!C$4,'1-Phase de poule-Sport 2'!$H$17:$I$21,2,FALSE) -> #N/A | D17: =+VLOOKUP('Param. - Transition'!D$4,'1-Phase de poule-Sport 2'!$H$17:$I$21,2,FALSE) -> #N/A | E17: =+VLOOKUP('Param. - Transition'!E$4,'1-Phase de poule-Sport 2'!$H$17:$I$21,2,FALSE) -> Nom équipe 1 A
A18: B | B18: =+VLOOKUP('Param. - Transition'!B$4,'1-Phase de poule-Sport 2'!$S$17:$T$21,2,FALSE) -> Nom équipe 4 B | C18: =+VLOOKUP('Param. - Transition'!C$4,'1-Phase de poule-Sport 2'!$S$17:$T$21,2,FALSE) -> #N/A | D18: =+VLOOKUP('Param. - Transition'!D$4,'1-Phase de poule-Sport 2'!$S$17:$T$21,2,FALSE) -> #N/A | E18: =+VLOOKUP('Param. - Transition'!E$4,'1-Phase de poule-Sport 2'!$S$17:$T$21,2,FALSE) -> Nom équipe 2 A
A19: C | B19: =+VLOOKUP('Param. - Transition'!B$4,'1-Phase de poule-Sport 2'!$AD$17:$AE$21,2,FALSE) -> Nom équipe 7 A | C19: =+VLOOKUP('Param. - Transition'!C$4,'1-Phase de poule-Sport 2'!$AD$17:$AE$21,2,FALSE) -> #N/A | D19: =+VLOOKUP('Param. - Transition'!D$4,'1-Phase de poule-Sport 2'!$AD$17:$AE$21,2,FALSE) -> #N/A | E19: =+VLOOKUP('Param. - Transition'!E$4,'1-Phase de poule-Sport 2'!$AD$17:$AE$21,2,FALSE) -> Nom équipe 5 B
A20: D | B20: =+VLOOKUP('Param. - Transition'!B$4,'1-Phase de poule-Sport 2'!$AO$17:$AP$21,2,FALSE) -> Nom équipe 8 A | C20: =+VLOOKUP('Param. - Transition'!C$4,'1-Phase de poule-Sport 2'!$AO$17:$AP$21,2,FALSE) -> #N/A | D20: =+VLOOKUP('Param. - Transition'!D$4,'1-Phase de poule-Sport 2'!$AO$17:$AP$21,2,FALSE) -> #N/A | E20: =+VLOOKUP('Param. - Transition'!E$4,'1-Phase de poule-Sport 2'!$AO$17:$AP$21,2,FALSE) -> Nom équipe 6 B

Sheet Paramétrage
A1: W
A2: N | E2: Equipes participants | F2: Binome A | G2: Binome A | I2: Sport 1 | J2: Ping | K2: Sport en binôme
A3: L | E3: ='Point équipe'!A4 -> Nom équipe 1 | F3: =E3&" A" -> Nom équipe 1 A | G3: =E3&" B" -> Nom équipe 1 B | I3: Sport 2 | J3: Padel | K3: Sport en binôme
E4: ='Point équipe'!A5 -> Nom équipe 2 | F4: =E4&" A" -> Nom équipe 2 A | G4: =E4&" B" -> Nom équipe 2 B
B5: OZAIPEOIAE | E5: ='Point équipe'!A6 -> Nom équipe 3 | F5: =E5&" A" -> Nom équipe 3 A | G5: =E5&" B" -> Nom équipe 3 B
B6: OZAIPEOIAE | E6: ='Point équipe'!A7 -> Nom équipe 4 | F6: =E6&" A" -> Nom équipe 4 A | G6: =E6&" B" -> Nom équipe 4 B
B7: OZAIPEOIAE | E7: ='Point équipe'!A8 -> Nom équipe 5 | F7: =E7&" A" -> Nom équipe 5 A | G7: =E7&" B" -> Nom équipe 5 B
B8: OZAIPEOIAE | E8: ='Point équipe'!A9 -> Nom équipe 6 | F8: =E8&" A" -> Nom équipe 6 A | G8: =E8&" B" -> Nom équipe 6 B
B9: OZAIPEOIAE | E9: ='Point équipe'!A10 -> Nom équipe 7 | F9: =E9&" A" -> Nom équipe 7 A | G9: =E9&" B" -> Nom équipe 7 B
B10: OZAIPEOIAE | E10: ='Point équipe'!A11 -> Nom équipe 8 | F10: =E10&" A" -> Nom équipe 8 A | G10: =E10&" B" -> Nom équipe 8 B
D12: ="Paramétrage Poule - "&Paramétrage!$J$2 -> Paramétrage Poule - Ping | E12: ="Paramétrage Poule - "&Paramétrage!$J$3 -> Paramétrage Poule - Padel | F12: ="Paramétrage Classement - "&Paramétrage!$J$2 -> Paramétrage Classement - Ping | G12: ="Paramétrage Classement - "&Paramétrage!$J$3 -> Paramétrage Classement - Padel
B13: Horaire de début | D13: 0.42361111 | E13: =D13 -> 0.42361111 | F13: ='2-Phase de classement-Sport 1'!D6 -> 0.47986111 | G13: =F13 -> 0.47986111
B14: Temps match | D14: 0.00625 | E14: =D14 -> 0.00625 | F14: 0.00625 | G14: =F14 -> 0.00625
B15: Entre match | D15: 0.0017361111 | E15: =D15 -> 0.0017361111 | F15: 0.0020833333 | G15: =F15 -> 0.0020833333
B16: Passage à phase de classement
B17: Fin poule 1 | D17: ='1-Phase de poule-Sport 1'!C11 -> 0.47152778 | E17: ='1-Phase de poule-Sport 2'!C11 -> 0.47152778
B18: Fin poule 2
B19: Fin tournoi | F19: ='2-Phase de classement-Sport 1'!R40 -> 0.52986111 | G19: ='2-Phase de classement-Sport 1'!R40 -> 0.52986111
B21: Nombre point de victoire | C21: 3
B22: Nombre point le nul | C22: 2
B23: Nombre point la défaite | C23: 1

Sheet FdM
B2: Feuille de match | M2: Feuille de match | X2: Feuille de match | AI2: Feuille de match
E7: ="POULE A - "&Paramétrage!$J$2 -> POULE A - Ping | P7: ="POULE B - "&Paramétrage!$J$2 -> POULE B - Ping | AA7: ="POULE C - "&Paramétrage!$J$2 -> POULE C - Ping | AL7: ="POULE D - "&Paramétrage!$J$2 -> POULE D - Ping
E9: Nom équipe | F9: W/L | G9: Dif. | I9: Nom équipe | J9: W/L | K9: Dif. | P9: Nom équipe | Q9: W/L | R9: Dif. | T9: Nom équipe | U9: W/L | V9: Dif. | AA9: Nom équipe | AB9: W/L | AC9: Dif. | AE9: Nom équipe | AF9: W/L | AG9: Dif. | AL9: Nom équipe | AM9: W/L | AN9: Dif. | AP9: Nom équipe | AQ9: W/L | AR9: Dif.
A10: =+'1-Phase de poule-Sport 1'!A5 -> 0 | B10: =+'1-Phase de poule-Sport 1'!B5 -> T1 | C10: =+'1-Phase de poule-Sport 1'!C5 -> 0.42361111 | E10: =+'1-Phase de poule-Sport 1'!E5 -> Nom équipe 1 A | H10: =+'1-Phase de poule-Sport 1'!H5 -> VS | I10: =+'1-Phase de poule-Sport 1'!I5 -> Nom équipe 3 A | L10: =+'1-Phase de poule-Sport 1'!L5 -> 0 | M10: =+'1-Phase de poule-Sport 1'!M5 -> T2 | N10: =+'1-Phase de poule-Sport 1'!C5 -> 0.42361111 | P10: =+'1-Phase de poule-Sport 1'!P5 -> Nom équipe 5 A | S10: =+'1-Phase de poule-Sport 1'!S5 -> VS | T10: =+'1-Phase de poule-Sport 1'!T5 -> Nom équipe 7 A | X10: =+'1-Phase de poule-Sport 1'!X5 -> T3 | Y10: =+'1-Phase de poule-Sport 1'!Y5 -> 0.42361111 | AA10: =+'1-Phase de poule-Sport 1'!AA5 -> Nom équipe 4 B | AD10: =+'1-Phase de poule-Sport 1'!AD5 -> VS | AE10: =+'1-Phase de poule-Sport 1'!AE5 -> Nom équipe 1 B | AI10: =+'1-Phase de poule-Sport 1'!AI5 -> T4 | AJ10: =+'1-Phase de poule-Sport 1'!AJ5 -> 0.42361111 | AL10: =+'1-Phase de poule-Sport 1'!AL5 -> Nom équipe 8 B | AO10: =+'1-Phase de poule-Sport 1'!AO5 -> VS | AP10: =+'1-Phase de poule-Sport 1'!AP5 -> Nom équipe 6 B
A11: =+'1-Phase de poule-Sport 1'!A6 -> 0 | B11: =+'1-Phase de poule-Sport 1'!B6 -> T1 | C11: =+'1-Phase de poule-Sport 1'!C6 -> 0.43159722 | E11: =+'1-Phase de poule-Sport 1'!E6 -> Nom équipe 2 A | H11: =+'1-Phase de poule-Sport 1'!H6 -> VS | I11: =+'1-Phase de poule-Sport 1'!I6 -> Nom équipe 4 A | L11: =+'1-Phase de poule-Sport 1'!L6 -> 0 | M11: =+'1-Phase de poule-Sport 1'!M6 -> T2 | N11: =+'1-Phase de poule-Sport 1'!C6 -> 0.43159722 | P11: =+'1-Phase de poule-Sport 1'!P6 -> Nom équipe 6 A | S11: =+'1-Phase de poule-Sport 1'!S6 -> VS | T11: =+'1-Phase de poule-Sport 1'!T6 -> Nom équipe 8 A | X11: =+'1-Phase de poule-Sport 1'!X6 -> T3 | Y11: =+'1-Phase de poule-Sport 1'!Y6 -> 0.43159722 | AA11: =+'1-Phase de poule-Sport 1'!AA6 -> Nom équipe 3 B | AD11: =+'1-Phase de poule-Sport 1'!AD6 -> VS | AE11: =+'1-Phase de poule-Sport 1'!AE6 -> Nom équipe 2 B | AI11: =+'1-Phase de poule-Sport 1'!AI6 -> T4 | AJ11: =+'1-Phase de poule-Sport 1'!AJ6 -> 0.43159722 | AL11: =+'1-Phase de poule-Sport 1'!AL6 -> Nom équipe 7 B | AO11: =+'1-Phase de poule-Sport 1'!AO6 -> VS | AP11: =+'1-Phase de poule-Sport 1'!AP6 -> Nom équipe 5 B
A12: =+'1-Phase de poule-Sport 1'!A7 -> 0 | B12: =+'1-Phase de poule-Sport 1'!B7 -> T1 | C12: =+'1-Phase de poule-Sport 1'!C7 -> 0.43958333 | E12: =+'1-Phase de poule-Sport 1'!E7 -> Nom équipe 1 A | H12: =+'1-Phase de poule-Sport 1'!H7 -> VS | I12: =+'1-Phase de poule-Sport 1'!I7 -> Nom équipe 3 A | L12: =+'1-Phase de poule-Sport 1'!L7 -> 0 | M12: =+'1-Phase de poule-Sport 1'!M7 -> T2 | N12: =+'1-Phase de poule-Sport 1'!C7 -> 0.43958333 | P12: =+'1-Phase de poule-Sport 1'!P7 -> Nom équipe 5 A | S12: =+'1-Phase de poule-Sport 1'!S7 -> VS | T12: =+'1-Phase de poule-Sport 1'!T7 -> Nom équipe 7 A | X12: =+'1-Phase de poule-Sport 1'!X7 -> T3 | Y12: =+'1-Phase de poule-Sport 1'!Y7 -> 0.43958333 | AA12: =+'1-Phase de poule-Sport 1'!AA7 -> Nom équipe 4 B | AD12: =+'1-Phase de poule-Sport 1'!AD7 -> VS | AE12: =+'1-Phase de poule-Sport 1'!AE7 -> Nom équipe 1 B | AI12: =+'1-Phase de poule-Sport 1'!AI7 -> T4 | AJ12: =+'1-Phase de poule-Sport 1'!AJ7 -> 0.43958333 | AL12: =+'1-Phase de poule-Sport 1'!AL7 -> Nom équipe 8 B | AO12: =+'1-Phase de poule-Sport 1'!AO7 -> VS | AP12: =+'1-Phase de poule-Sport 1'!AP7 -> Nom équipe 6 B
A13: =+'1-Phase de poule-Sport 1'!A8 -> 0 | B13: =+'1-Phase de poule-Sport 1'!B8 -> T1 | C13: =+'1-Phase de poule-Sport 1'!C8 -> 0.44756944 | E13: =+'1-Phase de poule-Sport 1'!E8 -> Nom équipe 4 A | H13: =+'1-Phase de poule-Sport 1'!H8 -> VS | I13: =+'1-Phase de poule-Sport 1'!I8 -> Nom équipe 2 A | L13: =+'1-Phase de poule-Sport 1'!L8 -> 0 | M13: =+'1-Phase de poule-Sport 1'!M8 -> T2 | N13: =+'1-Phase de poule-Sport 1'!C8 -> 0.44756944 | P13: =+'1-Phase de poule-Sport 1'!P8 -> Nom équipe 8 A | S13: =+'1-Phase de poule-Sport 1'!S8 -> VS | T13: =+'1-Phase de poule-Sport 1'!T8 -> Nom équipe 6 A | X13: =+'1-Phase de poule-Sport 1'!X8 -> T3 | Y13: =+'1-Phase de poule-Sport 1'!Y8 -> 0.44756944 | AA13: =+'1-Phase de poule-Sport 1'!AA8 -> Nom équipe 2 B | AD13: =+'1-Phase de poule-Sport 1'!AD8 -> VS | AE13: =+'1-Phase de poule-Sport 1'!AE8 -> Nom équipe 3 B | AI13: =+'1-Phase de poule-Sport 1'!AI8 -> T4 | AJ13: =+'1-Phase de poule-Sport 1'!AJ8 -> 0.44756944 | AL13: =+'1-Phase de poule-Sport 1'!AL8 -> Nom équipe 5 B | AO13: =+'1-Phase de poule-Sport 1'!AO8 -> VS | AP13: =+'1-Phase de poule-Sport 1'!AP8 -> Nom équipe 7 B
A14: =+'1-Phase de poule-Sport 1'!A9 -> 0 | B14: =+'1-Phase de poule-Sport 1'!B9 -> T1 | C14: =+'1-Phase de poule-Sport 1'!C9 -> 0.45555556 | E14: =+'1-Phase de poule-Sport 1'!E9 -> Nom équipe 1 A | H14: =+'1-Phase de poule-Sport 1'!H9 -> VS | I14: =+'1-Phase de poule-Sport 1'!I9 -> Nom équipe 4 A | L14: =+'1-Phase de poule-Sport 1'!L9 -> 0 | M14: =+'1-Phase de poule-Sport 1'!M9 -> T2 | N14: =+'1-Phase de poule-Sport 1'!C9 -> 0.45555556 | P14: =+'1-Phase de poule-Sport 1'!P9 -> Nom équipe 5 A | S14: =+'1-Phase de poule-Sport 1'!S9 -> VS | T14: =+'1-Phase de poule-Sport 1'!T9 -> Nom équipe 8 A | X14: =+'1-Phase de poule-Sport 1'!X9 -> T3 | Y14: =+'1-Phase de poule-Sport 1'!Y9 -> 0.45555556 | AA14: =+'1-Phase de poule-Sport 1'!AA9 -> Nom équipe 4 B | AD14: =+'1-Phase de poule-Sport 1'!AD9 -> VS | AE14: =+'1-Phase de poule-Sport 1'!AE9 -> Nom équipe 2 B | AI14: =+'1-Phase de poule-Sport 1'!AI9 -> T4 | AJ14: =+'1-Phase de poule-Sport 1'!AJ9 -> 0.45555556 | AL14: =+'1-Phase de poule-Sport 1'!AL9 -> Nom équipe 8 B | AO14: =+'1-Phase de poule-Sport 1'!AO9 -> VS | AP14: =+'1-Phase de poule-Sport 1'!AP9 -> Nom équipe 5 B
A15: =+'1-Phase de poule-Sport 1'!A10 -> 0 | B15: =+'1-Phase de poule-Sport 1'!B10 -> T1 | C15: =+'1-Phase de poule-Sport 1'!C10 -> 0.46354167 | E15: =+'1-Phase de poule-Sport 1'!E10 -> Nom équipe 3 A | H15: =+'1-Phase de poule-Sport 1'!H10 -> VS | I15: =+'1-Phase de poule-Sport 1'!I10 -> Nom équipe 2 A | L15: =+'1-Phase de poule-Sport 1'!L10 -> 0 | M15: =+'1-Phase de poule-Sport 1'!M10 -> T2 | N15: =+'1-Phase de poule-Sport 1'!C10 -> 0.46354167 | P15: =+'1-Phase de poule-Sport 1'!P10 -> Nom équipe 7 A | S15: =+'1-Phase de poule-Sport 1'!S10 -> VS | T15: =+'1-Phase de poule-Sport 1'!T10 -> Nom équipe 6 A | X15: =+'1-Phase de poule-Sport 1'!X10 -> T3 | Y15: =+'1-Phase de poule-Sport 1'!Y10 -> 0.46354167 | AA15: =+'1-Phase de poule-Sport 1'!AA10 -> Nom équipe 1 B | AD15: =+'1-Phase de poule-Sport 1'!AD10 -> VS | AE15: =+'1-Phase de poule-Sport 1'!AE10 -> Nom équipe 3 B | AI15: =+'1-Phase de poule-Sport 1'!AI10 -> T4 | AJ15: =+'1-Phase de poule-Sport 1'!AJ10 -> 0.46354167 | AL15: =+'1-Phase de poule-Sport 1'!AL10 -> Nom équipe 6 B | AO15: =+'1-Phase de poule-Sport 1'!AO10 -> VS | AP15: =+'1-Phase de poule-Sport 1'!AP10 -> Nom équipe 7 B

Sheet 1-Phase de poule-Sport 1
E2: POULE A | P2: POULE B | AA2: POULE C | AL2: POULE D
E4: Nom équipe | F4: W/L | G4: Dif. | I4: Nom équipe | J4: W/L | K4: Dif. | P4: Nom équipe | Q4: W/L | R4: Dif. | T4: Nom équipe | U4: W/L | V4: Dif. | AA4: Nom équipe | AB4: W/L | AC4: Dif. | AE4: Nom équipe | AF4: W/L | AG4: Dif. | AL4: Nom équipe | AM4: W/L | AN4: Dif. | AP4: Nom équipe | AQ4: W/L | AR4: Dif.
B5: T1 | C5: =Paramétrage!D13 -> 0.42361111 | E5: =Paramétrage!$F$3 -> Nom équipe 1 A | H5: VS | I5: =Paramétrage!$F$5 -> Nom équipe 3 A | J5: =IF(F5="W","L",IF(F5="L","W","N")) -> N | K5: =-G5 -> 0 | M5: T2 | N5: =+C5 -> 0.42361111 | P5: =Paramétrage!$F$7 -> Nom équipe 5 A | S5: VS | T5: =Paramétrage!$F$9 -> Nom équipe 7 A | U5: =IF(Q5="W","L",IF(Q5="L","W","N")) -> N | V5: =-R5 -> 0 | X5: T3 | Y5: =+N5 -> 0.42361111 | AA5: =Paramétrage!$G$6 -> Nom équipe 4 B | AD5: VS | AE5: =Paramétrage!$G$3 -> Nom équipe 1 B | AF5: =IF(AB5="W","L",IF(AB5="L","W","N")) -> N | AG5: =-AC5 -> 0 | AI5: T4 | AJ5: =+Y5 -> 0.42361111 | AL5: =Paramétrage!$G$10 -> Nom équipe 8 B | AO5: VS | AP5: =Paramétrage!$G$8 -> Nom équipe 6 B | AQ5: =IF(AM5="W","L",IF(AM5="L","W","N")) -> N | AR5: =-AN5 -> 0
B6: T1 | C6: =C5+Paramétrage!$D$14+Paramétrage!$D$15 -> 0.43159722 | E6: =Paramétrage!$F$4 -> Nom équipe 2 A | H6: VS | I6: =Paramétrage!$F$6 -> Nom équipe 4 A | J6: =IF(F6="W","L",IF(F6="L","W","N")) -> N | K6: =-G6 -> 0 | M6: T2 | N6: =+C6 -> 0.43159722 | P6: =Paramétrage!$F$8 -> Nom équipe 6 A | S6: VS | T6: =Paramétrage!$F$10 -> Nom équipe 8 A | U6: =IF(Q6="W","L",IF(Q6="L","W","N")) -> N | V6: =-R6 -> 0 | X6: T3 | Y6: =+N6 -> 0.43159722 | AA6: =Paramétrage!$G$5 -> Nom équipe 3 B | AD6: VS | AE6: =Paramétrage!$G$4 -> Nom équipe 2 B | AF6: =IF(AB6="W","L",IF(AB6="L","W","N")) -> N | AG6: =-AC6 -> 0 | AI6: T4 | AJ6: =+Y6 -> 0.43159722 | AL6: =Paramétrage!$G$9 -> Nom équipe 7 B | AO6: VS | AP6: =Paramétrage!$G$7 -> Nom équipe 5 B | AQ6: =IF(AM6="W","L",IF(AM6="L","W","N")) -> N | AR6: =-AN6 -> 0
B7: T1 | C7: =C6+Paramétrage!$D$14+Paramétrage!$D$15 -> 0.43958333 | E7: =E5 -> Nom équipe 1 A | H7: VS | I7: =I5 -> Nom équipe 3 A | J7: =IF(F7="W","L",IF(F7="L","W","N")) -> N | K7: =-G7 -> 0 | M7: T2 | N7: =+C7 -> 0.43958333 | P7: =P5 -> Nom équipe 5 A | S7: VS | T7: =T5 -> Nom équipe 7 A | U7: =IF(Q7="W","L",IF(Q7="L","W","N")) -> N | V7: =-R7 -> 0 | X7: T3 | Y7: =+N7 -> 0.43958333 | AA7: =AA5 -> Nom équipe 4 B | AD7: VS | AE7: =AE5 -> Nom équipe 1 B | AF7: =IF(AB7="W","L",IF(AB7="L","W","N")) -> N | AG7: =-AC7 -> 0 | AI7: T4 | AJ7: =+Y7 -> 0.43958333 | AL7: =AL5 -> Nom équipe 8 B | AO7: VS | AP7: =AP5 -> Nom équipe 6 B | AQ7: =IF(AM7="W","L",IF(AM7="L","W","N")) -> N | AR7: =-AN7 -> 0
B8: T1 | C8: =C7+Paramétrage!$D$14+Paramétrage!$D$15 -> 0.44756944 | E8: =I6 -> Nom équipe 4 A | H8: VS | I8: =E6 -> Nom équipe 2 A | J8: =IF(F8="W","L",IF(F8="L","W","N")) -> N | K8: =-G8 -> 0 | M8: T2 | N8: =+C8 -> 0.44756944 | P8: =T6 -> Nom équipe 8 A | S8: VS | T8: =P6 -> Nom équipe 6 A | U8: =IF(Q8="W","L",IF(Q8="L","W","N")) -> N | V8: =-R8 -> 0 | X8: T3 | Y8: =+N8 -> 0.44756944 | AA8: =AE6 -> Nom équipe 2 B | AD8: VS | AE8: =AA6 -> Nom équipe 3 B | AF8: =IF(AB8="W","L",IF(AB8="L","W","N")) -> N | AG8: =-AC8 -> 0 | AI8: T4 | AJ8: =+Y8 -> 0.44756944 | AL8: =AP6 -> Nom équipe 5 B | AO8: VS | AP8: =AL6 -> Nom équipe 7 B | AQ8: =IF(AM8="W","L",IF(AM8="L","W","N")) -> N | AR8: =-AN8 -> 0
B9: T1 | C9: =C8+Paramétrage!$D$14+Paramétrage!$D$15 -> 0.45555556 | E9: =E5 -> Nom équipe 1 A | H9: VS | I9: =I6 -> Nom équipe 4 A | J9: =IF(F9="W","L",IF(F9="L","W","N")) -> N | K9: =-G9 -> 0 | M9: T2 | N9: =+C9 -> 0.45555556 | P9: =P5 -> Nom équipe 5 A | S9: VS | T9: =T6 -> Nom équipe 8 A | U9: =IF(Q9="W","L",IF(Q9="L","W","N")) -> N | V9: =-R9 -> 0 | X9: T3 | Y9: =+N9 -> 0.45555556 | AA9: =AA5 -> Nom équipe 4 B | AD9: VS | AE9: =AE6 -> Nom équipe 2 B | AF9: =IF(AB9="W","L",IF(AB9="L","W","N")) -> N | AG9: =-AC9 -> 0 | AI9: T4 | AJ9: =+Y9 -> 0.45555556 | AL9: =AL5 -> Nom équipe 8 B | AO9: VS | AP9: =AP6 -> Nom équipe 5 B | AQ9: =IF(AM9="W","L",IF(AM9="L","W","N")) -> N | AR9: =-AN9 -> 0
B10: T1 | C10: =C9+Paramétrage!$D$14+Paramétrage!$D$15 -> 0.46354167 | E10: =I5 -> Nom équipe 3 A | H10: VS | I10: =E6 -> Nom équipe 2 A | J10: =IF(F10="W","L",IF(F10="L","W","N")) -> N | K10: =-G10 -> 0 | M10: T2 | N10: =+C10 -> 0.46354167 | P10: =T5 -> Nom équipe 7 A | S10: VS | T10: =P6 -> Nom équipe 6 A | U10: =IF(Q10="W","L",IF(Q10="L","W","N")) -> N | V10: =-R10 -> 0 | X10: T3 | Y10: =+N10 -> 0.46354167 | AA10: =AE5 -> Nom équipe 1 B | AD10: VS | AE10: =AA6 -> Nom équipe 3 B | AF10: =IF(AB10="W","L",IF(AB10="L","W","N")) -> N | AG10: =-AC10 -> 0 | AI10: T4 | AJ10: =+Y10 -> 0.46354167 | AL10: =AP5 -> Nom équipe 6 B | AO10: VS | AP10: =AL6 -> Nom équipe 7 B | AQ10: =IF(AM10="W","L",IF(AM10="L","W","N")) -> N | AR10: =-AN10 -> 0
C11: =C10+Paramétrage!$D$14+Paramétrage!$D$15 -> 0.47152778 | N11: =+C11 -> 0.47152778 | Y11: =+N11 -> 0.47152778 | AJ11: =+Y11 -> 0.47152778
E16: Nom équipe | F16: Pts | G16: Dif. | H16: Clas. | I16: Ne pas toucher | P16: Nom équipe | Q16: Pts | R16: Dif. | S16: Clas. | T16: Ne pas toucher | AA16: Nom équipe | AB16: Pts | AC16: Dif. | AD16: Clas. | AE16: Ne pas toucher | AL16: Nom équipe | AM16: Pts | AN16: Dif. | AO16: Clas. | AP16: Ne pas toucher
D17: =F17+G17/1000 -> 0 | E17: =E5 -> Nom équipe 1 A | F17: =(COUNTIFS(J$5:J$14,"w",I$5:I$14,E17)+COUNTIFS(F$5:F$14,"w",E$5:E$14,E17))*Paramétrage!$C$21+(COUNTIFS(J$5:J$14,"N",I$5:I$14,E17)+COUNTIFS(F$5:F$14,"N",E$5:E$14,E17))*Paramétrage!$C$22+(COUNTIFS(J$5:J$14,"L",I$5:I$14,E17)+COUNTIFS(F$5:F$14,"L",E$5:E$14,E17))*Paramétrage!$C$23 -> 0 | G17: =SUMIF(E$5:G$14,E17,G$5:G$14)+SUMIF(I$5:K$14,E17,K$5:K$14) -> 0 | H17: =RANK(D17,D$17:D$21,0) -> 4 | I17: =E17 -> Nom équipe 1 A | O17: =Q17+R17/1000 -> 0 | P17: =P5 -> Nom équipe 5 A | Q17: =(COUNTIFS(U$5:U$14,"w",T$5:T$14,P17)+COUNTIFS(Q$5:Q$14,"w",P$5:P$14,P17))*Paramétrage!$C$21+(COUNTIFS(U$5:U$14,"N",T$5:T$14,P17)+COUNTIFS(Q$5:Q$14,"N",P$5:P$14,P17))*Paramétrage!$C$22+(COUNTIFS(U$5:U$14,"L",T$5:T$14,P17)+COUNTIFS(Q$5:Q$14,"L",P$5:P$14,P17))*Paramétrage!$C$23 -> 0 | R17: =SUMIF(P$5:R$14,P17,R$5:R$14)+SUMIF(T$5:V$14,P17,V$5:V$14) -> 0 | S17: =RANK(O17,O$17:O$21,0) -> 4 | T17: =P17 -> Nom équipe 5 A | Z17: =AB17+AC17/1000 -> 0 | AA17: =AA5 -> Nom équipe 4 B | AB17: =(COUNTIFS(AF$5:AF$14,"w",AE$5:AE$14,AA17)+COUNTIFS(AB$5:AB$14,"w",AA$5:AA$14,AA17))*Paramétrage!$C$21+(COUNTIFS(AF$5:AF$14,"N",AE$5:AE$14,AA17)+COUNTIFS(AB$5:AB$14,"N",AA$5:AA$14,AA17))*Paramétrage!$C$22+(COUNTIFS(AF$5:AF$14,"L",AE$5:AE$14,AA17)+COUNTIFS(AB$5:AB$14,"L",AA$5:AA$14,AA17))*Paramétrage!$C$23 -> 0 | AC17: =SUMIF(AA$5:AC$14,AA17,AC$5:AC$14)+SUMIF(AE$5:AG$14,AA17,AG$5:AG$14) -> 0 | AD17: =RANK(Z17,Z$17:Z$21,0) -> 4 | AE17: =AA17 -> Nom équipe 4 B | AK17: =AM17+AN17/1000 -> 0 | AL17: =AL5 -> Nom équipe 8 B | AM17: =(COUNTIFS(AQ$5:AQ$14,"w",AP$5:AP$14,AL17)+COUNTIFS(AM$5:AM$14,"w",AL$5:AL$14,AL17))*Paramétrage!$C$21+(COUNTIFS(AQ$5:AQ$14,"N",AP$5:AP$14,AL17)+COUNTIFS(AM$5:AM$14,"N",AL$5:AL$14,AL17))*Paramétrage!$C$22+(COUNTIFS(AQ$5:AQ$14,"L",AP$5:AP$14,AL17)+COUNTIFS(AM$5:AM$14,"L",AL$5:AL$14,AL17))*Paramétrage!$C$23 -> 0 | AN17: =SUMIF(AL$5:AN$14,AL17,AN$5:AN$14)+SUMIF(AP$5:AR$14,AL17,AR$5:AR$14) -> 0 | AO17: =RANK(AK17,AK$17:AK$21,0) -> 4 | AP17: =AL17 -> Nom équipe 8 B
D18: =F18+G18/1000 -> 4 | E18: =E6 -> Nom équipe 2 A | F18: =(COUNTIFS(J$5:J$14,"w",I$5:I$14,E18)+COUNTIFS(F$5:F$14,"w",E$5:E$14,E18))*Paramétrage!$C$21+(COUNTIFS(J$5:J$14,"N",I$5:I$14,E18)+COUNTIFS(F$5:F$14,"N",E$5:E$14,E18))*Paramétrage!$C$22+(COUNTIFS(J$5:J$14,"L",I$5:I$14,E18)+COUNTIFS(F$5:F$14,"L",E$5:E$14,E18))*Paramétrage!$C$23 -> 4 | G18: =SUMIF(E$5:G$14,E18,G$5:G$14)+SUMIF(I$5:K$14,E18,K$5:K$14) -> 0 | H18: =RANK(D18,D$17:D$21,0) -> 1 | I18: =E18 -> Nom équipe 2 A | O18: =Q18+R18/1000 -> 4 | P18: =P6 -> Nom équipe 6 A | Q18: =(COUNTIFS(U$5:U$14,"w",T$5:T$14,P18)+COUNTIFS(Q$5:Q$14,"w",P$5:P$14,P18))*Paramétrage!$C$21+(COUNTIFS(U$5:U$14,"N",T$5:T$14,P18)+COUNTIFS(Q$5:Q$14,"N",P$5:P$14,P18))*Paramétrage!$C$22+(COUNTIFS(U$5:U$14,"L",T$5:T$14,P18)+COUNTIFS(Q$5:Q$14,"L",P$5:P$14,P18))*Paramétrage!$C$23 -> 4 | R18: =SUMIF(P$5:R$14,P18,R$5:R$14)+SUMIF(T$5:V$14,P18,V$5:V$14) -> 0 | S18: =RANK(O18,O$17:O$21,0) -> 1 | T18: =P18 -> Nom équipe 6 A | Z18: =AB18+AC18/1000 -> 4 | AA18: =AA6 -> Nom équipe 3 B | AB18: =(COUNTIFS(AF$5:AF$14,"w",AE$5:AE$14,AA18)+COUNTIFS(AB$5:AB$14,"w",AA$5:AA$14,AA18))*Paramétrage!$C$21+(COUNTIFS(AF$5:AF$14,"N",AE$5:AE$14,AA18)+COUNTIFS(AB$5:AB$14,"N",AA$5:AA$14,AA18))*Paramétrage!$C$22+(COUNTIFS(AF$5:AF$14,"L",AE$5:AE$14,AA18)+COUNTIFS(AB$5:AB$14,"L",AA$5:AA$14,AA18))*Paramétrage!$C$23 -> 4 | AC18: =SUMIF(AA$5:AC$14,AA18,AC$5:AC$14)+SUMIF(AE$5:AG$14,AA18,AG$5:AG$14) -> 0 | AD18: =RANK(Z18,Z$17:Z$21,0) -> 1 | AE18: =AA18 -> Nom équipe 3 B | AK18: =AM18+AN18/1000 -> 4 | AL18: =AL6 -> Nom équipe 7 B | AM18: =(COUNTIFS(AQ$5:AQ$14,"w",AP$5:AP$14,AL18)+COUNTIFS(AM$5:AM$14,"w",AL$5:AL$14,AL18))*Paramétrage!$C$21+(COUNTIFS(AQ$5:AQ$14,"N",AP$5:AP$14,AL18)+COUNTIFS(AM$5:AM$14,"N",AL$5:AL$14,AL18))*Paramétrage!$C$22+(COUNTIFS(AQ$5:AQ$14,"L",AP$5:AP$14,AL18)+COUNTIFS(AM$5:AM$14,"L",AL$5:AL$14,AL18))*Paramétrage!$C$23 -> 4 | AN18: =SUMIF(AL$5:AN$14,AL18,AN$5:AN$14)+SUMIF(AP$5:AR$14,AL18,AR$5:AR$14) -> 0 | AO18: =RANK(AK18,AK$17:AK$21,0) -> 1 | AP18: =AL18 -> Nom équipe 7 B
D19: =F19+G19/1000 -> 4 | E19: =I5 -> Nom équipe 3 A | F19: =(COUNTIFS(J$5:J$14,"w",I$5:I$14,E19)+COUNTIFS(F$5:F$14,"w",E$5:E$14,E19))*Paramétrage!$C$21+(COUNTIFS(J$5:J$14,"N",I$5:I$14,E19)+COUNTIFS(F$5:F$14,"N",E$5:E$14,E19))*Paramétrage!$C$22+(COUNTIFS(J$5:J$14,"L",I$5:I$14,E19)+COUNTIFS(F$5:F$14,"L",E$5:E$14,E19))*Paramétrage!$C$23 -> 4 | G19: =SUMIF(E$5:G$14,E19,G$5:G$14)+SUMIF(I$5:K$14,E19,K$5:K$14) -> 0 | H19: =RANK(D19,D$17:D$21,0) -> 1 | I19: =E19 -> Nom équipe 3 A | O19: =Q19+R19/1000 -> 4 | P19: =T5 -> Nom équipe 7 A | Q19: =(COUNTIFS(U$5:U$14,"w",T$5:T$14,P19)+COUNTIFS(Q$5:Q$14,"w",P$5:P$14,P19))*Paramétrage!$C$21+(COUNTIFS(U$5:U$14,"N",T$5:T$14,P19)+COUNTIFS(Q$5:Q$14,"N",P$5:P$14,P19))*Paramétrage!$C$22+(COUNTIFS(U$5:U$14,"L",T$5:T$14,P19)+COUNTIFS(Q$5:Q$14,"L",P$5:P$14,P19))*Paramétrage!$C$23 -> 4 | R19: =SUMIF(P$5:R$14,P19,R$5:R$14)+SUMIF(T$5:V$14,P19,V$5:V$14) -> 0 | S19: =RANK(O19,O$17:O$21,0) -> 1 | T19: =P19 -> Nom équipe 7 A | Z19: =AB19+AC19/1000 -> 4 | AA19: =AE5 -> Nom équipe 1 B | AB19: =(COUNTIFS(AF$5:AF$14,"w",AE$5:AE$14,AA19)+COUNTIFS(AB$5:AB$14,"w",AA$5:AA$14,AA19))*Paramétrage!$C$21+(COUNTIFS(AF$5:AF$14,"N",AE$5:AE$14,AA19)+COUNTIFS(AB$5:AB$14,"N",AA$5:AA$14,AA19))*Paramétrage!$C$22+(COUNTIFS(AF$5:AF$14,"L",AE$5:AE$14,AA19)+COUNTIFS(AB$5:AB$14,"L",AA$5:AA$14,AA19))*Paramétrage!$C$23 -> 4 | AC19: =SUMIF(AA$5:AC$14,AA19,AC$5:AC$14)+SUMIF(AE$5:AG$14,AA19,AG$5:AG$14) -> 0 | AD19: =RANK(Z19,Z$17:Z$21,0) -> 1 | AE19: =AA19 -> Nom équipe 1 B | AK19: =AM19+AN19/1000 -> 4 | AL19: =AP5 -> Nom équipe 6 B | AM19: =(COUNTIFS(AQ$5:AQ$14,"w",AP$5:AP$14,AL19)+COUNTIFS(AM$5:AM$14,"w",AL$5:AL$14,AL19))*Paramétrage!$C$21+(COUNTIFS(AQ$5:AQ$14,"N",AP$5:AP$14,AL19)+COUNTIFS(AM$5:AM$14,"N",AL$5:AL$14,AL19))*Paramétrage!$C$22+(COUNTIFS(AQ$5:AQ$14,"L",AP$5:AP$14,AL19)+COUNTIFS(AM$5:AM$14,"L",AL$5:AL$14,AL19))*Paramétrage!$C$23 -> 4 | AN19: =SUMIF(AL$5:AN$14,AL19,AN$5:AN$14)+SUMIF(AP$5:AR$14,AL19,AR$5:AR$14) -> 0 | AO19: =RANK(AK19,AK$17:AK$21,0) -> 1 | AP19: =AL19 -> Nom équipe 6 B
D20: =F20+G20/1000 -> 4 | E20: =I6 -> Nom équipe 4 A | F20: =(COUNTIFS(J$5:J$14,"w",I$5:I$14,E20)+COUNTIFS(F$5:F$14,"w",E$5:E$14,E20))*Paramétrage!$C$21+(COUNTIFS(J$5:J$14,"N",I$5:I$14,E20)+COUNTIFS(F$5:F$14,"N",E$5:E$14,E20))*Paramétrage!$C$22+(COUNTIFS(J$5:J$14,"L",I$5:I$14,E20)+COUNTIFS(F$5:F$14,"L",E$5:E$14,E20))*Paramétrage!$C$23 -> 4 | G20: =SUMIF(E$5:G$14,E20,G$5:G$14)+SUMIF(I$5:K$14,E20,K$5:K$14) -> 0 | H20: =RANK(D20,D$17:D$21,0) -> 1 | I20: =E20 -> Nom équipe 4 A | O20: =Q20+R20/1000 -> 4 | P20: =T6 -> Nom équipe 8 A | Q20: =(COUNTIFS(U$5:U$14,"w",T$5:T$14,P20)+COUNTIFS(Q$5:Q$14,"w",P$5:P$14,P20))*Paramétrage!$C$21+(COUNTIFS(U$5:U$14,"N",T$5:T$14,P20)+COUNTIFS(Q$5:Q$14,"N",P$5:P$14,P20))*Paramétrage!$C$22+(COUNTIFS(U$5:U$14,"L",T$5:T$14,P20)+COUNTIFS(Q$5:Q$14,"L",P$5:P$14,P20))*Paramétrage!$C$23 -> 4 | R20: =SUMIF(P$5:R$14,P20,R$5:R$14)+SUMIF(T$5:V$14,P20,V$5:V$14) -> 0 | S20: =RANK(O20,O$17:O$21,0) -> 1 | T20: =P20 -> Nom équipe 8 A | Z20: =AB20+AC20/1000 -> 4 | AA20: =AE6 -> Nom équipe 2 B | AB20: =(COUNTIFS(AF$5:AF$14,"w",AE$5:AE$14,AA20)+COUNTIFS(AB$5:AB$14,"w",AA$5:AA$14,AA20))*Paramétrage!$C$21+(COUNTIFS(AF$5:AF$14,"N",AE$5:AE$14,AA20)+COUNTIFS(AB$5:AB$14,"N",AA$5:AA$14,AA20))*Paramétrage!$C$22+(COUNTIFS(AF$5:AF$14,"L",AE$5:AE$14,AA20)+COUNTIFS(AB$5:AB$14,"L",AA$5:AA$14,AA20))*Paramétrage!$C$23 -> 4 | AC20: =SUMIF(AA$5:AC$14,AA20,AC$5:AC$14)+SUMIF(AE$5:AG$14,AA20,AG$5:AG$14) -> 0 | AD20: =RANK(Z20,Z$17:Z$21,0) -> 1 | AE20: =AA20 -> Nom équipe 2 B | AK20: =AM20+AN20/1000 -> 4 | AL20: =AP6 -> Nom équipe 5 B | AM20: =(COUNTIFS(AQ$5:AQ$14,"w",AP$5:AP$14,AL20)+COUNTIFS(AM$5:AM$14,"w",AL$5:AL$14,AL20))*Paramétrage!$C$21+(COUNTIFS(AQ$5:AQ$14,"N",AP$5:AP$14,AL20)+COUNTIFS(AM$5:AM$14,"N",AL$5:AL$14,AL20))*Paramétrage!$C$22+(COUNTIFS(AQ$5:AQ$14,"L",AP$5:AP$14,AL20)+COUNTIFS(AM$5:AM$14,"L",AL$5:AL$14,AL20))*Paramétrage!$C$23 -> 4 | AN20: =SUMIF(AL$5:AN$14,AL20,AN$5:AN$14)+SUMIF(AP$5:AR$14,AL20,AR$5:AR$14) -> 0 | AO20: =RANK(AK20,AK$17:AK$21,0) -> 1 | AP20: =AL20 -> Nom équipe 5 B

Sheet 2-Phase de classement-Sport 1
D2: WINNER BRACKET | O2: LOOSER BRACKET | W2: Classement
W5: 1er | X5: =IF(K30="","",VLOOKUP("w",K29:L30,2,FALSE))
D6: ='1-Phase de poule-Sport 1'!AJ11+Paramétrage!$F$14+Paramétrage!$F$15 -> 0.47986111 | E6: T1 | W6: 2ème | X6: =IF(K30="","",VLOOKUP("l",K29:L30,2,FALSE))
D7: ='Param. - Transition'!D5 -> #N/A | F7: =D7 -> #N/A | W7: 3ème | X7: =IF(K36="","",VLOOKUP("w",K35:L36,2,FALSE))
D8: ='Param. - Transition'!E6 -> Nom équipe 5 A | F8: =D8 -> Nom équipe 5 A | G8: =D34+Paramétrage!$F$14+Paramétrage!$F$15 -> 0.49652778 | H8: T1 | O8: =G8 -> 0.49652778 | P8: T3 | W8: 4ème | X8: =IF(K36="","",VLOOKUP("l",K35:L36,2,FALSE))
G9: =IF(E8="","",VLOOKUP("w",E7:F8,2,FALSE)) | I9: =G9 | O9: =IF(E8="","",VLOOKUP("l",E7:F8,2,FALSE)) | Q9: =+O9 | W9: 5ème | X9: =IF(S30="","",VLOOKUP("w",S29:T30,2,FALSE))
D10: =D6 -> 0.47986111 | E10: T2 | G10: =IF(E12="","",VLOOKUP("w",E11:F12,2,FALSE)) | I10: =G10 | O10: =IF(E12="","",VLOOKUP("l",E11:F12,2,FALSE)) | Q10: =+O10 | W10: 6ème | X10: =IF(S30="","",VLOOKUP("l",S29:T30,2,FALSE))
D11: ='Param. - Transition'!E5 -> Nom équipe 1 A | F11: =D11 -> Nom équipe 1 A | W11: 7ème | X11: =IF(S35="","",VLOOKUP("w",S35:T36,2,FALSE))
D12: ='Param. - Transition'!D6 -> #N/A | F12: =D12 -> #N/A | J12: =O24+Paramétrage!$F$14+Paramétrage!$F$15 -> 0.51319444 | K12: T1 | R12: =J12 -> 0.51319444 | S12: T3 | W12: 8ème | X12: =IF(S36="","",VLOOKUP("l",S35:T36,2,FALSE))
J13: =IF(H10="","",VLOOKUP("w",H9:I10,2,FALSE)) | L13: =J13 | R13: =IF(P10="","",VLOOKUP("w",P9:Q10,2,FALSE)) | T13: =R13 | W13: 9ème | X13: =IF(K14="","",VLOOKUP("w",K13:L14,2,FALSE))
D14: =D10 -> 0.47986111 | E14: T3 | J14: =IF(H18="","",VLOOKUP("w",H17:I18,2,FALSE)) | L14: =J14 | R14: =IF(P18="","",VLOOKUP("w",P17:Q18,2,FALSE)) | T14: =R14 | W14: 10ème | X14: =IF(K14="","",VLOOKUP("l",K13:L14,2,FALSE))
D15: ='Param. - Transition'!D7 -> #N/A | F15: =D15 -> #N/A | W15: 11ème | X15: =IF(K20="","",VLOOKUP("w",K19:L20,2,FALSE))
D16: ='Param. - Transition'!E8 -> Nom équipe 8 B | F16: =D16 -> Nom équipe 8 B | G16: =G8 -> 0.49652778 | H16: T2 | O16: =O8 -> 0.49652778 | P16: T4 | W16: 12ème | X16: =IF(K20="","",VLOOKUP("l",K19:L20,2,FALSE))
G17: =IF(E16="","",VLOOKUP("w",E15:F16,2,FALSE)) | I17: =G17 | O17: =IF(E16="","",VLOOKUP("l",E15:F16,2,FALSE)) | Q17: =O17 | W17: 13ème | X17: =IF(S14="","",VLOOKUP("w",S13:T14,2,FALSE))
D18: =D14 -> 0.47986111 | E18: T4 | G18: =IF(E20="","",VLOOKUP("w",E19:F20,2,FALSE)) | I18: =G18 | J18: =J12 -> 0.51319444 | K18: T2 | O18: =IF(E20="","",VLOOKUP("l",E19:F20,2,FALSE)) | Q18: =O18 | R18: =R12 -> 0.51319444 | S18: T4 | W18: 14ème | X18: =IF(S14="","",VLOOKUP("l",S13:T14,2,FALSE))
D19: ='Param. - Transition'!E7 -> Nom équipe 4 B | F19: =D19 -> Nom équipe 4 B | J19: =IF(H10="","",VLOOKUP("L",H9:I10,2,FALSE)) | L19: =J19 | R19: =IF(P10="","",VLOOKUP("L",P9:Q10,2,FALSE)) | T19: =R19 | W19: 15ème | X19: =IF(S20="","",VLOOKUP("w",S19:T20,2,FALSE))
D20: ='Param. - Transition'!D8 -> #N/A | F20: =D20 -> #N/A | J20: =IF(H18="","",VLOOKUP("L",H17:I18,2,FALSE)) | L20: =J20 | R20: =IF(P18="","",VLOOKUP("L",P17:Q18,2,FALSE)) | T20: =R20 | W20: 16ème | X20: =IF(S20="","",VLOOKUP("l",S19:T20,2,FALSE))
V21: 1
D22: =D18+Paramétrage!$F$14+Paramétrage!$F$15 -> 0.48819444 | E22: T1 | V22: 2
D23: ='Param. - Transition'!B5 -> Nom équipe 2 A | F23: =D23 -> Nom équipe 2 A | V23: 3
D24: ='Param. - Transition'!C6 -> #N/A | F24: =D24 -> #N/A | G24: =G16+Paramétrage!$F$14+Paramétrage!$F$15 -> 0.50486111 | H24: T1 | O24: =G24 -> 0.50486111 | P24: T3 | V24: 4
G25: =IF(E24="","",VLOOKUP("w",E23:F24,2,FALSE)) | I25: =G25 | O25: =IF(E24="","",VLOOKUP("l",E23:F24,2,FALSE)) | Q25: =O25
D26: =D22 -> 0.48819444 | E26: T2 | G26: =IF(E28="","",VLOOKUP("w",E27:F28,2,FALSE)) | I26: =G26 | O26: =IF(E28="","",VLOOKUP("l",E27:F28,2,FALSE)) | Q26: =O26
D27: ='Param. - Transition'!C5 -> #N/A | F27: =D27 -> #N/A
D28: ='Param. - Transition'!B6 -> Nom équipe 6 A | F28: =D28 -> Nom équipe 6 A | J28: =J18+Paramétrage!$F$14+Paramétrage!$F$15 -> 0.52152778 | K28: T1 | R28: =J28 -> 0.52152778 | S28: T3
J29: =IF(H26="","",VLOOKUP("w",H25:I26,2,FALSE)) | L29: =J29 | R29: =IF(P26="","",VLOOKUP("w",P25:Q26,2,FALSE)) | T29: =R29
D30: =D26 -> 0.48819444 | E30: T3 | J30: =IF(H34="","",VLOOKUP("w",H33:I34,2,FALSE)) | L30: =J30 | R30: =IF(P34="","",VLOOKUP("w",P33:Q34,2,FALSE)) | T30: =R30
D31: ='Param. - Transition'!B7 -> Nom équipe 3 B | F31: =D31 -> Nom équipe 3 B
D32: ='Param. - Transition'!C8 -> #N/A | F32: =D32 -> #N/A | G32: =G24 -> 0.50486111 | H32: T2 | O32: =G24 -> 0.50486111 | P32: T4
G33: =IF(E32="","",VLOOKUP("w",E31:F32,2,FALSE)) | I33: =G33 | O33: =IF(E32="","",VLOOKUP("l",E31:F32,2,FALSE)) | Q33: =O33
D34: =D30 -> 0.48819444 | E34: T4 | G34: =IF(E36="","",VLOOKUP("w",E35:F36,2,FALSE)) | I34: =G34 | J34: =J28 -> 0.52152778 | K34: T2 | O34: =IF(E36="","",VLOOKUP("l",E35:F36,2,FALSE)) | Q34: =O34 | R34: =R28 -> 0.52152778 | S34: T4
D35: ='Param. - Transition'!C7 -> #N/A | F35: =D35 -> #N/A | J35: =IF(H26="","",VLOOKUP("L",H25:I26,2,FALSE)) | L35: =J35 | R35: =IF(P26="","",VLOOKUP("L",P25:Q26,2,FALSE)) | T35: =R35
D36: ='Param. - Transition'!B8 -> Nom équipe 7 B | F36: =D36 -> Nom équipe 7 B | J36: =IF(H34="","",VLOOKUP("L",H33:I34,2,FALSE)) | L36: =J36 | R36: =IF(P34="","",VLOOKUP("L",P33:Q34,2,FALSE)) | T36: =R36
R39: Fin
R40: =R34+Paramétrage!$F$14+Paramétrage!$F$15 -> 0.52986111

Sheet FdM (2)
B2: Feuille de match | M2: Feuille de match | X2: Feuille de match | AI2: Feuille de match
E7: ="POULE A - "&Paramétrage!$J$3 -> POULE A - Padel | P7: ="POULE B - "&Paramétrage!$J$3 -> POULE B - Padel | AA7: ="POULE C - "&Paramétrage!$J$3 -> POULE C - Padel | AL7: ="POULE D - "&Paramétrage!$J$3 -> POULE D - Padel
E9: Nom équipe | F9: W/L | G9: Dif. | I9: Nom équipe | J9: W/L | K9: Dif. | P9: Nom équipe | Q9: W/L | R9: Dif. | T9: Nom équipe | U9: W/L | V9: Dif. | AA9: Nom équipe | AB9: W/L | AC9: Dif. | AE9: Nom équipe | AF9: W/L | AG9: Dif. | AL9: Nom équipe | AM9: W/L | AN9: Dif. | AP9: Nom équipe | AQ9: W/L | AR9: Dif.
A10: =+'1-Phase de poule-Sport 1'!A5 -> 0 | B10: =+'1-Phase de poule-Sport 1'!B5 -> T1 | C10: =+'1-Phase de poule-Sport 1'!C5 -> 0.42361111 | E10: =+'1-Phase de poule-Sport 1'!E5 -> Nom équipe 1 A | H10: =+'1-Phase de poule-Sport 1'!H5 -> VS | I10: =+'1-Phase de poule-Sport 1'!I5 -> Nom équipe 3 A | L10: =+'1-Phase de poule-Sport 1'!L5 -> 0 | M10: =+'1-Phase de poule-Sport 1'!M5 -> T2 | N10: =+'1-Phase de poule-Sport 1'!C5 -> 0.42361111 | P10: =+'1-Phase de poule-Sport 1'!P5 -> Nom équipe 5 A | S10: =+'1-Phase de poule-Sport 1'!S5 -> VS | T10: =+'1-Phase de poule-Sport 1'!T5 -> Nom équipe 7 A | X10: =+'1-Phase de poule-Sport 1'!X5 -> T3 | Y10: =+'1-Phase de poule-Sport 1'!Y5 -> 0.42361111 | AA10: =+'1-Phase de poule-Sport 1'!AA5 -> Nom équipe 4 B | AD10: =+'1-Phase de poule-Sport 1'!AD5 -> VS | AE10: =+'1-Phase de poule-Sport 1'!AE5 -> Nom équipe 1 B | AI10: =+'1-Phase de poule-Sport 1'!AI5 -> T4 | AJ10: =+'1-Phase de poule-Sport 1'!AJ5 -> 0.42361111 | AL10: =+'1-Phase de poule-Sport 1'!AL5 -> Nom équipe 8 B | AO10: =+'1-Phase de poule-Sport 1'!AO5 -> VS | AP10: =+'1-Phase de poule-Sport 1'!AP5 -> Nom équipe 6 B
A11: =+'1-Phase de poule-Sport 1'!A6 -> 0 | B11: =+'1-Phase de poule-Sport 1'!B6 -> T1 | C11: =+'1-Phase de poule-Sport 1'!C6 -> 0.43159722 | E11: =+'1-Phase de poule-Sport 1'!E6 -> Nom équipe 2 A | H11: =+'1-Phase de poule-Sport 1'!H6 -> VS | I11: =+'1-Phase de poule-Sport 1'!I6 -> Nom équipe 4 A | L11: =+'1-Phase de poule-Sport 1'!L6 -> 0 | M11: =+'1-Phase de poule-Sport 1'!M6 -> T2 | N11: =+'1-Phase de poule-Sport 1'!C6 -> 0.43159722 | P11: =+'1-Phase de poule-Sport 1'!P6 -> Nom équipe 6 A | S11: =+'1-Phase de poule-Sport 1'!S6 -> VS | T11: =+'1-Phase de poule-Sport 1'!T6 -> Nom équipe 8 A | X11: =+'1-Phase de poule-Sport 1'!X6 -> T3 | Y11: =+'1-Phase de poule-Sport 1'!Y6 -> 0.43159722 | AA11: =+'1-Phase de poule-Sport 1'!AA6 -> Nom équipe 3 B | AD11: =+'1-Phase de poule-Sport 1'!AD6 -> VS | AE11: =+'1-Phase de poule-Sport 1'!AE6 -> Nom équipe 2 B | AI11: =+'1-Phase de poule-Sport 1'!AI6 -> T4 | AJ11: =+'1-Phase de poule-Sport 1'!AJ6 -> 0.43159722 | AL11: =+'1-Phase de poule-Sport 1'!AL6 -> Nom équipe 7 B | AO11: =+'1-Phase de poule-Sport 1'!AO6 -> VS | AP11: =+'1-Phase de poule-Sport 1'!AP6 -> Nom équipe 5 B
A12: =+'1-Phase de poule-Sport 1'!A7 -> 0 | B12: =+'1-Phase de poule-Sport 1'!B7 -> T1 | C12: =+'1-Phase de poule-Sport 1'!C7 -> 0.43958333 | E12: =+'1-Phase de poule-Sport 1'!E7 -> Nom équipe 1 A | H12: =+'1-Phase de poule-Sport 1'!H7 -> VS | I12: =+'1-Phase de poule-Sport 1'!I7 -> Nom équipe 3 A | L12: =+'1-Phase de poule-Sport 1'!L7 -> 0 | M12: =+'1-Phase de poule-Sport 1'!M7 -> T2 | N12: =+'1-Phase de poule-Sport 1'!C7 -> 0.43958333 | P12: =+'1-Phase de poule-Sport 1'!P7 -> Nom équipe 5 A | S12: =+'1-Phase de poule-Sport 1'!S7 -> VS | T12: =+'1-Phase de poule-Sport 1'!T7 -> Nom équipe 7 A | X12: =+'1-Phase de poule-Sport 1'!X7 -> T3 | Y12: =+'1-Phase de poule-Sport 1'!Y7 -> 0.43958333 | AA12: =+'1-Phase de poule-Sport 1'!AA7 -> Nom équipe 4 B | AD12: =+'1-Phase de poule-Sport 1'!AD7 -> VS | AE12: =+'1-Phase de poule-Sport 1'!AE7 -> Nom équipe 1 B | AI12: =+'1-Phase de poule-Sport 1'!AI7 -> T4 | AJ12: =+'1-Phase de poule-Sport 1'!AJ7 -> 0.43958333 | AL12: =+'1-Phase de poule-Sport 1'!AL7 -> Nom équipe 8 B | AO12: =+'1-Phase de poule-Sport 1'!AO7 -> VS | AP12: =+'1-Phase de poule-Sport 1'!AP7 -> Nom équipe 6 B
A13: =+'1-Phase de poule-Sport 1'!A8 -> 0 | B13: =+'1-Phase de poule-Sport 1'!B8 -> T1 | C13: =+'1-Phase de poule-Sport 1'!C8 -> 0.44756944 | E13: =+'1-Phase de poule-Sport 1'!E8 -> Nom équipe 4 A | H13: =+'1-Phase de poule-Sport 1'!H8 -> VS | I13: =+'1-Phase de poule-Sport 1'!I8 -> Nom équipe 2 A | L13: =+'1-Phase de poule-Sport 1'!L8 -> 0 | M13: =+'1-Phase de poule-Sport 1'!M8 -> T2 | N13: =+'1-Phase de poule-Sport 1'!C8 -> 0.44756944 | P13: =+'1-Phase de poule-Sport 1'!P8 -> Nom équipe 8 A | S13: =+'1-Phase de poule-Sport 1'!S8 -> VS | T13: =+'1-Phase de poule-Sport 1'!T8 -> Nom équipe 6 A | X13: =+'1-Phase de poule-Sport 1'!X8 -> T3 | Y13: =+'1-Phase de poule-Sport 1'!Y8 -> 0.44756944 | AA13: =+'1-Phase de poule-Sport 1'!AA8 -> Nom équipe 2 B | AD13: =+'1-Phase de poule-Sport 1'!AD8 -> VS | AE13: =+'1-Phase de poule-Sport 1'!AE8 -> Nom équipe 3 B | AI13: =+'1-Phase de poule-Sport 1'!AI8 -> T4 | AJ13: =+'1-Phase de poule-Sport 1'!AJ8 -> 0.44756944 | AL13: =+'1-Phase de poule-Sport 1'!AL8 -> Nom équipe 5 B | AO13: =+'1-Phase de poule-Sport 1'!AO8 -> VS | AP13: =+'1-Phase de poule-Sport 1'!AP8 -> Nom équipe 7 B
A14: =+'1-Phase de poule-Sport 1'!A9 -> 0 | B14: =+'1-Phase de poule-Sport 1'!B9 -> T1 | C14: =+'1-Phase de poule-Sport 1'!C9 -> 0.45555556 | E14: =+'1-Phase de poule-Sport 1'!E9 -> Nom équipe 1 A | H14: =+'1-Phase de poule-Sport 1'!H9 -> VS | I14: =+'1-Phase de poule-Sport 1'!I9 -> Nom équipe 4 A | L14: =+'1-Phase de poule-Sport 1'!L9 -> 0 | M14: =+'1-Phase de poule-Sport 1'!M9 -> T2 | N14: =+'1-Phase de poule-Sport 1'!C9 -> 0.45555556 | P14: =+'1-Phase de poule-Sport 1'!P9 -> Nom équipe 5 A | S14: =+'1-Phase de poule-Sport 1'!S9 -> VS | T14: =+'1-Phase de poule-Sport 1'!T9 -> Nom équipe 8 A | X14: =+'1-Phase de poule-Sport 1'!X9 -> T3 | Y14: =+'1-Phase de poule-Sport 1'!Y9 -> 0.45555556 | AA14: =+'1-Phase de poule-Sport 1'!AA9 -> Nom équipe 4 B | AD14: =+'1-Phase de poule-Sport 1'!AD9 -> VS | AE14: =+'1-Phase de poule-Sport 1'!AE9 -> Nom équipe 2 B | AI14: =+'1-Phase de poule-Sport 1'!AI9 -> T4 | AJ14: =+'1-Phase de poule-Sport 1'!AJ9 -> 0.45555556 | AL14: =+'1-Phase de poule-Sport 1'!AL9 -> Nom équipe 8 B | AO14: =+'1-Phase de poule-Sport 1'!AO9 -> VS | AP14: =+'1-Phase de poule-Sport 1'!AP9 -> Nom équipe 5 B
A15: =+'1-Phase de poule-Sport 1'!A10 -> 0 | B15: =+'1-Phase de poule-Sport 1'!B10 -> T1 | C15: =+'1-Phase de poule-Sport 1'!C10 -> 0.46354167 | E15: =+'1-Phase de poule-Sport 1'!E10 -> Nom équipe 3 A | H15: =+'1-Phase de poule-Sport 1'!H10 -> VS | I15: =+'1-Phase de poule-Sport 1'!I10 -> Nom équipe 2 A | L15: =+'1-Phase de poule-Sport 1'!L10 -> 0 | M15: =+'1-Phase de poule-Sport 1'!M10 -> T2 | N15: =+'1-Phase de poule-Sport 1'!C10 -> 0.46354167 | P15: =+'1-Phase de poule-Sport 1'!P10 -> Nom équipe 7 A | S15: =+'1-Phase de poule-Sport 1'!S10 -> VS | T15: =+'1-Phase de poule-Sport 1'!T10 -> Nom équipe 6 A | X15: =+'1-Phase de poule-Sport 1'!X10 -> T3 | Y15: =+'1-Phase de poule-Sport 1'!Y10 -> 0.46354167 | AA15: =+'1-Phase de poule-Sport 1'!AA10 -> Nom équipe 1 B | AD15: =+'1-Phase de poule-Sport 1'!AD10 -> VS | AE15: =+'1-Phase de poule-Sport 1'!AE10 -> Nom équipe 3 B | AI15: =+'1-Phase de poule-Sport 1'!AI10 -> T4 | AJ15: =+'1-Phase de poule-Sport 1'!AJ10 -> 0.46354167 | AL15: =+'1-Phase de poule-Sport 1'!AL10 -> Nom équipe 6 B | AO15: =+'1-Phase de poule-Sport 1'!AO10 -> VS | AP15: =+'1-Phase de poule-Sport 1'!AP10 -> Nom équipe 7 B

Sheet 1-Phase de poule-Sport 2
E2: POULE A | P2: POULE B | AA2: POULE C | AL2: POULE D
E4: Nom équipe | F4: W/L | G4: Dif. | I4: Nom équipe | J4: W/L | K4: Dif. | P4: Nom équipe | Q4: W/L | R4: Dif. | T4: Nom équipe | U4: W/L | V4: Dif. | AA4: Nom équipe | AB4: W/L | AC4: Dif. | AE4: Nom équipe | AF4: W/L | AG4: Dif. | AL4: Nom équipe | AM4: W/L | AN4: Dif. | AP4: Nom équipe | AQ4: W/L | AR4: Dif.
B5: T1 | C5: =Paramétrage!E13 -> 0.42361111 | E5: =Paramétrage!$F$3 -> Nom équipe 1 A | H5: VS | I5: =Paramétrage!$F$7 -> Nom équipe 5 A | J5: =IF(F5="W","L",IF(F5="L","W","N")) -> N | K5: =-G5 -> 0 | M5: T2 | N5: =+C5 -> 0.42361111 | P5: =Paramétrage!$F$4 -> Nom équipe 2 A | S5: VS | T5: =Paramétrage!$F$8 -> Nom équipe 6 A | U5: =IF(Q5="W","L",IF(Q5="L","W","N")) -> N | V5: =-R5 -> 0 | X5: T3 | Y5: =+N5 -> 0.42361111 | AA5: =Paramétrage!$G$7 -> Nom équipe 5 B | AD5: VS | AE5: =Paramétrage!$F$5 -> Nom équipe 3 A | AF5: =IF(AB5="W","L",IF(AB5="L","W","N")) -> N | AG5: =-AC5 -> 0 | AI5: T4 | AJ5: =+Y5 -> 0.42361111 | AL5: =Paramétrage!$G$8 -> Nom équipe 6 B | AO5: VS | AP5: =Paramétrage!$F$6 -> Nom équipe 4 A | AQ5: =IF(AM5="W","L",IF(AM5="L","W","N")) -> N | AR5: =-AN5 -> 0
B6: T1 | C6: =C5+Paramétrage!$E$14+Paramétrage!$E$15 -> 0.43159722 | E6: =Paramétrage!$G$5 -> Nom équipe 3 B | H6: VS | I6: =Paramétrage!$G$9 -> Nom équipe 7 B | J6: =IF(F6="W","L",IF(F6="L","W","N")) -> N | K6: =-G6 -> 0 | M6: T2 | N6: =+C6 -> 0.43159722 | P6: =Paramétrage!$G$6 -> Nom équipe 4 B | S6: VS | T6: =Paramétrage!$G$10 -> Nom équipe 8 B | U6: =IF(Q6="W","L",IF(Q6="L","W","N")) -> N | V6: =-R6 -> 0 | X6: T3 | Y6: =+N6 -> 0.43159722 | AA6: =Paramétrage!$F$9 -> Nom équipe 7 A | AD6: VS | AE6: =Paramétrage!$G$3 -> Nom équipe 1 B | AF6: =IF(AB6="W","L",IF(AB6="L","W","N")) -> N | AG6: =-AC6 -> 0 | AI6: T4 | AJ6: =+Y6 -> 0.43159722 | AL6: =Paramétrage!$F$10 -> Nom équipe 8 A | AO6: VS | AP6: =Paramétrage!$G$4 -> Nom équipe 2 B | AQ6: =IF(AM6="W","L",IF(AM6="L","W","N")) -> N | AR6: =-AN6 -> 0
B7: T1 | C7: =C6+Paramétrage!$E$14+Paramétrage!$E$15 -> 0.43958333 | E7: =E5 -> Nom équipe 1 A | H7: VS | I7: =I5 -> Nom équipe 5 A | J7: =IF(F7="W","L",IF(F7="L","W","N")) -> N | K7: =-G7 -> 0 | M7: T2 | N7: =+C7 -> 0.43958333 | P7: =P5 -> Nom équipe 2 A | S7: VS | T7: =T5 -> Nom équipe 6 A | U7: =IF(Q7="W","L",IF(Q7="L","W","N")) -> N | V7: =-R7 -> 0 | X7: T3 | Y7: =+N7 -> 0.43958333 | AA7: =AA5 -> Nom équipe 5 B | AD7: VS | AE7: =AE5 -> Nom équipe 3 A | AF7: =IF(AB7="W","L",IF(AB7="L","W","N")) -> N | AG7: =-AC7 -> 0 | AI7: T4 | AJ7: =+Y7 -> 0.43958333 | AL7: =AL5 -> Nom équipe 6 B | AO7: VS | AP7: =AP5 -> Nom équipe 4 A | AQ7: =IF(AM7="W","L",IF(AM7="L","W","N")) -> N | AR7: =-AN7 -> 0
B8: T1 | C8: =C7+Paramétrage!$E$14+Paramétrage!$E$15 -> 0.44756944 | E8: =I6 -> Nom équipe 7 B | H8: VS | I8: =E6 -> Nom équipe 3 B | J8: =IF(F8="W","L",IF(F8="L","W","N")) -> N | K8: =-G8 -> 0 | M8: T2 | N8: =+C8 -> 0.44756944 | P8: =T6 -> Nom équipe 8 B | S8: VS | T8: =P6 -> Nom équipe 4 B | U8: =IF(Q8="W","L",IF(Q8="L","W","N")) -> N | V8: =-R8 -> 0 | X8: T3 | Y8: =+N8 -> 0.44756944 | AA8: =AE6 -> Nom équipe 1 B | AD8: VS | AE8: =AA6 -> Nom équipe 7 A | AF8: =IF(AB8="W","L",IF(AB8="L","W","N")) -> N | AG8: =-AC8 -> 0 | AI8: T4 | AJ8: =+Y8 -> 0.44756944 | AL8: =AP6 -> Nom équipe 2 B | AO8: VS | AP8: =AL6 -> Nom équipe 8 A | AQ8: =IF(AM8="W","L",IF(AM8="L","W","N")) -> N | AR8: =-AN8 -> 0
B9: T1 | C9: =C8+Paramétrage!$E$14+Paramétrage!$E$15 -> 0.45555556 | E9: =E5 -> Nom équipe 1 A | H9: VS | I9: =I6 -> Nom équipe 7 B | J9: =IF(F9="W","L",IF(F9="L","W","N")) -> N | K9: =-G9 -> 0 | M9: T2 | N9: =+C9 -> 0.45555556 | P9: =P5 -> Nom équipe 2 A | S9: VS | T9: =T6 -> Nom équipe 8 B | U9: =IF(Q9="W","L",IF(Q9="L","W","N")) -> N | V9: =-R9 -> 0 | X9: T3 | Y9: =+N9 -> 0.45555556 | AA9: =AA5 -> Nom équipe 5 B | AD9: VS | AE9: =AE6 -> Nom équipe 1 B | AF9: =IF(AB9="W","L",IF(AB9="L","W","N")) -> N | AG9: =-AC9 -> 0 | AI9: T4 | AJ9: =+Y9 -> 0.45555556 | AL9: =AL5 -> Nom équipe 6 B | AO9: VS | AP9: =AP6 -> Nom équipe 2 B | AQ9: =IF(AM9="W","L",IF(AM9="L","W","N")) -> N | AR9: =-AN9 -> 0
B10: T1 | C10: =C9+Paramétrage!$E$14+Paramétrage!$E$15 -> 0.46354167 | E10: =I5 -> Nom équipe 5 A | H10: VS | I10: =E6 -> Nom équipe 3 B | J10: =IF(F10="W","L",IF(F10="L","W","N")) -> N | K10: =-G10 -> 0 | M10: T2 | N10: =+C10 -> 0.46354167 | P10: =T5 -> Nom équipe 6 A | S10: VS | T10: =P6 -> Nom équipe 4 B | U10: =IF(Q10="W","L",IF(Q10="L","W","N")) -> N | V10: =-R10 -> 0 | X10: T3 | Y10: =+N10 -> 0.46354167 | AA10: =AE5 -> Nom équipe 3 A | AD10: VS | AE10: =AA6 -> Nom équipe 7 A | AF10: =IF(AB10="W","L",IF(AB10="L","W","N")) -> N | AG10: =-AC10 -> 0 | AI10: T4 | AJ10: =+Y10 -> 0.46354167 | AL10: =AP5 -> Nom équipe 4 A | AO10: VS | AP10: =AL6 -> Nom équipe 8 A | AQ10: =IF(AM10="W","L",IF(AM10="L","W","N")) -> N | AR10: =-AN10 -> 0
C11: =C10+Paramétrage!$E$14+Paramétrage!$E$15 -> 0.47152778 | N11: =+C11 -> 0.47152778 | Y11: =+N11 -> 0.47152778 | AJ11: =+Y11 -> 0.47152778
E16: Nom équipe | F16: Pts | G16: Dif. | H16: Clas. | I16: Ne pas toucher | P16: Nom équipe | Q16: Pts | R16: Dif. | S16: Clas. | T16: Ne pas toucher | AA16: Nom équipe | AB16: Pts | AC16: Dif. | AD16: Clas. | AE16: Ne pas toucher | AL16: Nom équipe | AM16: Pts | AN16: Dif. | AO16: Clas. | AP16: Ne pas toucher
D17: =F17+G17/1000 -> 0 | E17: =E5 -> Nom équipe 1 A | F17: =(COUNTIFS(J$5:J$14,"w",I$5:I$14,E17)+COUNTIFS(F$5:F$14,"w",E$5:E$14,E17))*Paramétrage!$C$21+(COUNTIFS(J$5:J$14,"N",I$5:I$14,E17)+COUNTIFS(F$5:F$14,"N",E$5:E$14,E17))*Paramétrage!$C$22+(COUNTIFS(J$5:J$14,"L",I$5:I$14,E17)+COUNTIFS(F$5:F$14,"L",E$5:E$14,E17))*Paramétrage!$C$23 -> 0 | G17: =SUMIF(E$5:G$14,E17,G$5:G$14)+SUMIF(I$5:K$14,E17,K$5:K$14) -> 0 | H17: =RANK(D17,D$17:D$21,0) -> 4 | I17: =E17 -> Nom équipe 1 A | O17: =Q17+R17/1000 -> 0 | P17: =P5 -> Nom équipe 2 A | Q17: =(COUNTIFS(U$5:U$14,"w",T$5:T$14,P17)+COUNTIFS(Q$5:Q$14,"w",P$5:P$14,P17))*Paramétrage!$C$21+(COUNTIFS(U$5:U$14,"N",T$5:T$14,P17)+COUNTIFS(Q$5:Q$14,"N",P$5:P$14,P17))*Paramétrage!$C$22+(COUNTIFS(U$5:U$14,"L",T$5:T$14,P17)+COUNTIFS(Q$5:Q$14,"L",P$5:P$14,P17))*Paramétrage!$C$23 -> 0 | R17: =SUMIF(P$5:R$14,P17,R$5:R$14)+SUMIF(T$5:V$14,P17,V$5:V$14) -> 0 | S17: =RANK(O17,O$17:O$21,0) -> 4 | T17: =P17 -> Nom équipe 2 A | Z17: =AB17+AC17/1000 -> 0 | AA17: =AA5 -> Nom équipe 5 B | AB17: =(COUNTIFS(AF$5:AF$14,"w",AE$5:AE$14,AA17)+COUNTIFS(AB$5:AB$14,"w",AA$5:AA$14,AA17))*Paramétrage!$C$21+(COUNTIFS(AF$5:AF$14,"N",AE$5:AE$14,AA17)+COUNTIFS(AB$5:AB$14,"N",AA$5:AA$14,AA17))*Paramétrage!$C$22+(COUNTIFS(AF$5:AF$14,"L",AE$5:AE$14,AA17)+COUNTIFS(AB$5:AB$14,"L",AA$5:AA$14,AA17))*Paramétrage!$C$23 -> 0 | AC17: =SUMIF(AA$5:AC$14,AA17,AC$5:AC$14)+SUMIF(AE$5:AG$14,AA17,AG$5:AG$14) -> 0 | AD17: =RANK(Z17,Z$17:Z$21,0) -> 4 | AE17: =AA17 -> Nom équipe 5 B | AK17: =AM17+AN17/1000 -> 0 | AL17: =AL5 -> Nom équipe 6 B | AM17: =(COUNTIFS(AQ$5:AQ$14,"w",AP$5:AP$14,AL17)+COUNTIFS(AM$5:AM$14,"w",AL$5:AL$14,AL17))*Paramétrage!$C$21+(COUNTIFS(AQ$5:AQ$14,"N",AP$5:AP$14,AL17)+COUNTIFS(AM$5:AM$14,"N",AL$5:AL$14,AL17))*Paramétrage!$C$22+(COUNTIFS(AQ$5:AQ$14,"L",AP$5:AP$14,AL17)+COUNTIFS(AM$5:AM$14,"L",AL$5:AL$14,AL17))*Paramétrage!$C$23 -> 0 | AN17: =SUMIF(AL$5:AN$14,AL17,AN$5:AN$14)+SUMIF(AP$5:AR$14,AL17,AR$5:AR$14) -> 0 | AO17: =RANK(AK17,AK$17:AK$21,0) -> 4 | AP17: =AL17 -> Nom équipe 6 B
D18: =F18+G18/1000 -> 4 | E18: =E6 -> Nom équipe 3 B | F18: =(COUNTIFS(J$5:J$14,"w",I$5:I$14,E18)+COUNTIFS(F$5:F$14,"w",E$5:E$14,E18))*Paramétrage!$C$21+(COUNTIFS(J$5:J$14,"N",I$5:I$14,E18)+COUNTIFS(F$5:F$14,"N",E$5:E$14,E18))*Paramétrage!$C$22+(COUNTIFS(J$5:J$14,"L",I$5:I$14,E18)+COUNTIFS(F$5:F$14,"L",E$5:E$14,E18))*Paramétrage!$C$23 -> 4 | G18: =SUMIF(E$5:G$14,E18,G$5:G$14)+SUMIF(I$5:K$14,E18,K$5:K$14) -> 0 | H18: =RANK(D18,D$17:D$21,0) -> 1 | I18: =E18 -> Nom équipe 3 B | O18: =Q18+R18/1000 -> 4 | P18: =P6 -> Nom équipe 4 B | Q18: =(COUNTIFS(U$5:U$14,"w",T$5:T$14,P18)+COUNTIFS(Q$5:Q$14,"w",P$5:P$14,P18))*Paramétrage!$C$21+(COUNTIFS(U$5:U$14,"N",T$5:T$14,P18)+COUNTIFS(Q$5:Q$14,"N",P$5:P$14,P18))*Paramétrage!$C$22+(COUNTIFS(U$5:U$14,"L",T$5:T$14,P18)+COUNTIFS(Q$5:Q$14,"L",P$5:P$14,P18))*Paramétrage!$C$23 -> 4 | R18: =SUMIF(P$5:R$14,P18,R$5:R$14)+SUMIF(T$5:V$14,P18,V$5:V$14) -> 0 | S18: =RANK(O18,O$17:O$21,0) -> 1 | T18: =P18 -> Nom équipe 4 B | Z18: =AB18+AC18/1000 -> 4 | AA18: =AA6 -> Nom équipe 7 A | AB18: =(COUNTIFS(AF$5:AF$14,"w",AE$5:AE$14,AA18)+COUNTIFS(AB$5:AB$14,"w",AA$5:AA$14,AA18))*Paramétrage!$C$21+(COUNTIFS(AF$5:AF$14,"N",AE$5:AE$14,AA18)+COUNTIFS(AB$5:AB$14,"N",AA$5:AA$14,AA18))*Paramétrage!$C$22+(COUNTIFS(AF$5:AF$14,"L",AE$5:AE$14,AA18)+COUNTIFS(AB$5:AB$14,"L",AA$5:AA$14,AA18))*Paramétrage!$C$23 -> 4 | AC18: =SUMIF(AA$5:AC$14,AA18,AC$5:AC$14)+SUMIF(AE$5:AG$14,AA18,AG$5:AG$14) -> 0 | AD18: =RANK(Z18,Z$17:Z$21,0) -> 1 | AE18: =AA18 -> Nom équipe 7 A | AK18: =AM18+AN18/1000 -> 4 | AL18: =AL6 -> Nom équipe 8 A | AM18: =(COUNTIFS(AQ$5:AQ$14,"w",AP$5:AP$14,AL18)+COUNTIFS(AM$5:AM$14,"w",AL$5:AL$14,AL18))*Paramétrage!$C$21+(COUNTIFS(AQ$5:AQ$14,"N",AP$5:AP$14,AL18)+COUNTIFS(AM$5:AM$14,"N",AL$5:AL$14,AL18))*Paramétrage!$C$22+(COUNTIFS(AQ$5:AQ$14,"L",AP$5:AP$14,AL18)+COUNTIFS(AM$5:AM$14,"L",AL$5:AL$14,AL18))*Paramétrage!$C$23 -> 4 | AN18: =SUMIF(AL$5:AN$14,AL18,AN$5:AN$14)+SUMIF(AP$5:AR$14,AL18,AR$5:AR$14) -> 0 | AO18: =RANK(AK18,AK$17:AK$21,0) -> 1 | AP18: =AL18 -> Nom équipe 8 A
D19: =F19+G19/1000 -> 4 | E19: =I5 -> Nom équipe 5 A | F19: =(COUNTIFS(J$5:J$14,"w",I$5:I$14,E19)+COUNTIFS(F$5:F$14,"w",E$5:E$14,E19))*Paramétrage!$C$21+(COUNTIFS(J$5:J$14,"N",I$5:I$14,E19)+COUNTIFS(F$5:F$14,"N",E$5:E$14,E19))*Paramétrage!$C$22+(COUNTIFS(J$5:J$14,"L",I$5:I$14,E19)+COUNTIFS(F$5:F$14,"L",E$5:E$14,E19))*Paramétrage!$C$23 -> 4 | G19: =SUMIF(E$5:G$14,E19,G$5:G$14)+SUMIF(I$5:K$14,E19,K$5:K$14) -> 0 | H19: =RANK(D19,D$17:D$21,0) -> 1 | I19: =E19 -> Nom équipe 5 A | O19: =Q19+R19/1000 -> 4 | P19: =T5 -> Nom équipe 6 A | Q19: =(COUNTIFS(U$5:U$14,"w",T$5:T$14,P19)+COUNTIFS(Q$5:Q$14,"w",P$5:P$14,P19))*Paramétrage!$C$21+(COUNTIFS(U$5:U$14,"N",T$5:T$14,P19)+COUNTIFS(Q$5:Q$14,"N",P$5:P$14,P19))*Paramétrage!$C$22+(COUNTIFS(U$5:U$14,"L",T$5:T$14,P19)+COUNTIFS(Q$5:Q$14,"L",P$5:P$14,P19))*Paramétrage!$C$23 -> 4 | R19: =SUMIF(P$5:R$14,P19,R$5:R$14)+SUMIF(T$5:V$14,P19,V$5:V$14) -> 0 | S19: =RANK(O19,O$17:O$21,0) -> 1 | T19: =P19 -> Nom équipe 6 A | Z19: =AB19+AC19/1000 -> 4 | AA19: =AE5 -> Nom équipe 3 A | AB19: =(COUNTIFS(AF$5:AF$14,"w",AE$5:AE$14,AA19)+COUNTIFS(AB$5:AB$14,"w",AA$5:AA$14,AA19))*Paramétrage!$C$21+(COUNTIFS(AF$5:AF$14,"N",AE$5:AE$14,AA19)+COUNTIFS(AB$5:AB$14,"N",AA$5:AA$14,AA19))*Paramétrage!$C$22+(COUNTIFS(AF$5:AF$14,"L",AE$5:AE$14,AA19)+COUNTIFS(AB$5:AB$14,"L",AA$5:AA$14,AA19))*Paramétrage!$C$23 -> 4 | AC19: =SUMIF(AA$5:AC$14,AA19,AC$5:AC$14)+SUMIF(AE$5:AG$14,AA19,AG$5:AG$14) -> 0 | AD19: =RANK(Z19,Z$17:Z$21,0) -> 1 | AE19: =AA19 -> Nom équipe 3 A | AK19: =AM19+AN19/1000 -> 4 | AL19: =AP5 -> Nom équipe 4 A | AM19: =(COUNTIFS(AQ$5:AQ$14,"w",AP$5:AP$14,AL19)+COUNTIFS(AM$5:AM$14,"w",AL$5:AL$14,AL19))*Paramétrage!$C$21+(COUNTIFS(AQ$5:AQ$14,"N",AP$5:AP$14,AL19)+COUNTIFS(AM$5:AM$14,"N",AL$5:AL$14,AL19))*Paramétrage!$C$22+(COUNTIFS(AQ$5:AQ$14,"L",AP$5:AP$14,AL19)+COUNTIFS(AM$5:AM$14,"L",AL$5:AL$14,AL19))*Paramétrage!$C$23 -> 4 | AN19: =SUMIF(AL$5:AN$14,AL19,AN$5:AN$14)+SUMIF(AP$5:AR$14,AL19,AR$5:AR$14) -> 0 | AO19: =RANK(AK19,AK$17:AK$21,0) -> 1 | AP19: =AL19 -> Nom équipe 4 A
D20: =F20+G20/1000 -> 4 | E20: =I6 -> Nom équipe 7 B | F20: =(COUNTIFS(J$5:J$14,"w",I$5:I$14,E20)+COUNTIFS(F$5:F$14,"w",E$5:E$14,E20))*Paramétrage!$C$21+(COUNTIFS(J$5:J$14,"N",I$5:I$14,E20)+COUNTIFS(F$5:F$14,"N",E$5:E$14,E20))*Paramétrage!$C$22+(COUNTIFS(J$5:J$14,"L",I$5:I$14,E20)+COUNTIFS(F$5:F$14,"L",E$5:E$14,E20))*Paramétrage!$C$23 -> 4 | G20: =SUMIF(E$5:G$14,E20,G$5:G$14)+SUMIF(I$5:K$14,E20,K$5:K$14) -> 0 | H20: =RANK(D20,D$17:D$21,0) -> 1 | I20: =E20 -> Nom équipe 7 B | O20: =Q20+R20/1000 -> 4 | P20: =T6 -> Nom équipe 8 B | Q20: =(COUNTIFS(U$5:U$14,"w",T$5:T$14,P20)+COUNTIFS(Q$5:Q$14,"w",P$5:P$14,P20))*Paramétrage!$C$21+(COUNTIFS(U$5:U$14,"N",T$5:T$14,P20)+COUNTIFS(Q$5:Q$14,"N",P$5:P$14,P20))*Paramétrage!$C$22+(COUNTIFS(U$5:U$14,"L",T$5:T$14,P20)+COUNTIFS(Q$5:Q$14,"L",P$5:P$14,P20))*Paramétrage!$C$23 -> 4 | R20: =SUMIF(P$5:R$14,P20,R$5:R$14)+SUMIF(T$5:V$14,P20,V$5:V$14) -> 0 | S20: =RANK(O20,O$17:O$21,0) -> 1 | T20: =P20 -> Nom équipe 8 B | Z20: =AB20+AC20/1000 -> 4 | AA20: =AE6 -> Nom équipe 1 B | AB20: =(COUNTIFS(AF$5:AF$14,"w",AE$5:AE$14,AA20)+COUNTIFS(AB$5:AB$14,"w",AA$5:AA$14,AA20))*Paramétrage!$C$21+(COUNTIFS(AF$5:AF$14,"N",AE$5:AE$14,AA20)+COUNTIFS(AB$5:AB$14,"N",AA$5:AA$14,AA20))*Paramétrage!$C$22+(COUNTIFS(AF$5:AF$14,"L",AE$5:AE$14,AA20)+COUNTIFS(AB$5:AB$14,"L",AA$5:AA$14,AA20))*Paramétrage!$C$23 -> 4 | AC20: =SUMIF(AA$5:AC$14,AA20,AC$5:AC$14)+SUMIF(AE$5:AG$14,AA20,AG$5:AG$14) -> 0 | AD20: =RANK(Z20,Z$17:Z$21,0) -> 1 | AE20: =AA20 -> Nom équipe 1 B | AK20: =AM20+AN20/1000 -> 4 | AL20: =AP6 -> Nom équipe 2 B | AM20: =(COUNTIFS(AQ$5:AQ$14,"w",AP$5:AP$14,AL20)+COUNTIFS(AM$5:AM$14,"w",AL$5:AL$14,AL20))*Paramétrage!$C$21+(COUNTIFS(AQ$5:AQ$14,"N",AP$5:AP$14,AL20)+COUNTIFS(AM$5:AM$14,"N",AL$5:AL$14,AL20))*Paramétrage!$C$22+(COUNTIFS(AQ$5:AQ$14,"L",AP$5:AP$14,AL20)+COUNTIFS(AM$5:AM$14,"L",AL$5:AL$14,AL20))*Paramétrage!$C$23 -> 4 | AN20: =SUMIF(AL$5:AN$14,AL20,AN$5:AN$14)+SUMIF(AP$5:AR$14,AL20,AR$5:AR$14) -> 0 | AO20: =RANK(AK20,AK$17:AK$21,0) -> 1 | AP20: =AL20 -> Nom équipe 2 B

Sheet 2-Phase de classement-Sport 2
D2: WINNER BRACKET | O2: LOOSER BRACKET | W2: Classement
W5: 1er | X5: =IF(K30="","",VLOOKUP("w",K29:L30,2,FALSE))
D6: ='1-Phase de poule-Sport 2'!AJ11+Paramétrage!$G$14+Paramétrage!$G$15 -> 0.47986111 | E6: T1 | W6: 2ème | X6: =IF(K30="","",VLOOKUP("l",K29:L30,2,FALSE))
D7: ='Param. - Transition'!D17 -> #N/A | F7: =D7 -> #N/A | W7: 3ème | X7: =IF(K36="","",VLOOKUP("w",K35:L36,2,FALSE))
D8: ='Param. - Transition'!E18 -> Nom équipe 2 A | F8: =D8 -> Nom équipe 2 A | G8: =D34+Paramétrage!$G$14+Paramétrage!$G$15 -> 0.49652778 | H8: T1 | O8: =G8 -> 0.49652778 | P8: T3 | W8: 4ème | X8: =IF(K36="","",VLOOKUP("l",K35:L36,2,FALSE))
G9: =IF(E8="","",VLOOKUP("w",E7:F8,2,FALSE)) | I9: =G9 | O9: =IF(E8="","",VLOOKUP("l",E7:F8,2,FALSE)) | Q9: =+O9 | W9: 5ème | X9: =IF(S30="","",VLOOKUP("w",S29:T30,2,FALSE))
D10: =D6 -> 0.47986111 | E10: T2 | G10: =IF(E12="","",VLOOKUP("w",E11:F12,2,FALSE)) | I10: =G10 | O10: =IF(E12="","",VLOOKUP("l",E11:F12,2,FALSE)) | Q10: =+O10 | W10: 6ème | X10: =IF(S30="","",VLOOKUP("l",S29:T30,2,FALSE))
D11: ='Param. - Transition'!E17 -> Nom équipe 1 A | F11: =D11 -> Nom équipe 1 A | W11: 7ème | X11: =IF(S35="","",VLOOKUP("w",S35:T36,2,FALSE))
D12: ='Param. - Transition'!D18 -> #N/A | F12: =D12 -> #N/A | J12: =O24+Paramétrage!$G$14+Paramétrage!$G$15 -> 0.51319444 | K12: T1 | R12: =J12 -> 0.51319444 | S12: T3 | W12: 8ème | X12: =IF(S36="","",VLOOKUP("l",S35:T36,2,FALSE))
J13: =IF(H10="","",VLOOKUP("w",H9:I10,2,FALSE)) | L13: =J13 | R13: =IF(P10="","",VLOOKUP("w",P9:Q10,2,FALSE)) | T13: =R13 | W13: 9ème | X13: =IF(K14="","",VLOOKUP("w",K13:L14,2,FALSE))
D14: =D10 -> 0.47986111 | E14: T3 | J14: =IF(H18="","",VLOOKUP("w",H17:I18,2,FALSE)) | L14: =J14 | R14: =IF(P18="","",VLOOKUP("w",P17:Q18,2,FALSE)) | T14: =R14 | W14: 10ème | X14: =IF(K14="","",VLOOKUP("l",K13:L14,2,FALSE))
D15: ='Param. - Transition'!D19 -> #N/A | F15: =D15 -> #N/A | W15: 11ème | X15: =IF(K20="","",VLOOKUP("w",K19:L20,2,FALSE))
D16: ='Param. - Transition'!E20 -> Nom équipe 6 B | F16: =D16 -> Nom équipe 6 B | G16: =G8 -> 0.49652778 | H16: T2 | O16: =O8 -> 0.49652778 | P16: T4 | W16: 12ème | X16: =IF(K20="","",VLOOKUP("l",K19:L20,2,FALSE))
G17: =IF(E16="","",VLOOKUP("w",E15:F16,2,FALSE)) | I17: =G17 | O17: =IF(E16="","",VLOOKUP("l",E15:F16,2,FALSE)) | Q17: =O17 | W17: 13ème | X17: =IF(S14="","",VLOOKUP("w",S13:T14,2,FALSE))
D18: =D14 -> 0.47986111 | E18: T4 | G18: =IF(E20="","",VLOOKUP("w",E19:F20,2,FALSE)) | I18: =G18 | J18: =J12 -> 0.51319444 | K18: T2 | O18: =IF(E20="","",VLOOKUP("l",E19:F20,2,FALSE)) | Q18: =O18 | R18: =R12 -> 0.51319444 | S18: T4 | W18: 14ème | X18: =IF(S14="","",VLOOKUP("l",S13:T14,2,FALSE))
D19: ='Param. - Transition'!E19 -> Nom équipe 5 B | F19: =D19 -> Nom équipe 5 B | J19: =IF(H10="","",VLOOKUP("L",H9:I10,2,FALSE)) | L19: =J19 | R19: =IF(P10="","",VLOOKUP("L",P9:Q10,2,FALSE)) | T19: =R19 | W19: 15ème | X19: =IF(S20="","",VLOOKUP("w",S19:T20,2,FALSE))
D20: ='Param. - Transition'!D20 -> #N/A | F20: =D20 -> #N/A | J20: =IF(H18="","",VLOOKUP("L",H17:I18,2,FALSE)) | L20: =J20 | R20: =IF(P18="","",VLOOKUP("L",P17:Q18,2,FALSE)) | T20: =R20 | W20: 16ème | X20: =IF(S20="","",VLOOKUP("l",S19:T20,2,FALSE))
V21: 1
D22: =D18+Paramétrage!$G$14+Paramétrage!$G$15 -> 0.48819444 | E22: T1 | V22: 2
D23: ='Param. - Transition'!B17 -> Nom équipe 3 B | F23: =D23 -> Nom équipe 3 B | V23: 3
D24: ='Param. - Transition'!C18 -> #N/A | F24: =D24 -> #N/A | G24: =G16+Paramétrage!$G$14+Paramétrage!$G$15 -> 0.50486111 | H24: T1 | O24: =G24 -> 0.50486111 | P24: T3 | V24: 4
G25: =IF(E24="","",VLOOKUP("w",E23:F24,2,FALSE)) | I25: =G25 | O25: =IF(E24="","",VLOOKUP("l",E23:F24,2,FALSE)) | Q25: =O25
D26: =D22 -> 0.48819444 | E26: T2 | G26: =IF(E28="","",VLOOKUP("w",E27:F28,2,FALSE)) | I26: =G26 | O26: =IF(E28="","",VLOOKUP("l",E27:F28,2,FALSE)) | Q26: =O26
D27: ='Param. - Transition'!C17 -> #N/A | F27: =D27 -> #N/A
D28: ='Param. - Transition'!B18 -> Nom équipe 4 B | F28: =D28 -> Nom équipe 4 B | J28: =J18+Paramétrage!$G$14+Paramétrage!$G$15 -> 0.52152778 | K28: T1 | R28: =J28 -> 0.52152778 | S28: T3
J29: =IF(H26="","",VLOOKUP("w",H25:I26,2,FALSE)) | L29: =J29 | R29: =IF(P26="","",VLOOKUP("w",P25:Q26,2,FALSE)) | T29: =R29
D30: =D26 -> 0.48819444 | E30: T3 | J30: =IF(H34="","",VLOOKUP("w",H33:I34,2,FALSE)) | L30: =J30 | R30: =IF(P34="","",VLOOKUP("w",P33:Q34,2,FALSE)) | T30: =R30
D31: ='Param. - Transition'!B19 -> Nom équipe 7 A | F31: =D31 -> Nom équipe 7 A
D32: ='Param. - Transition'!C20 -> #N/A | F32: =D32 -> #N/A | G32: =G24 -> 0.50486111 | H32: T2 | O32: =G24 -> 0.50486111 | P32: T4
G33: =IF(E32="","",VLOOKUP("w",E31:F32,2,FALSE)) | I33: =G33 | O33: =IF(E32="","",VLOOKUP("l",E31:F32,2,FALSE)) | Q33: =O33
D34: =D30 -> 0.48819444 | E34: T4 | G34: =IF(E36="","",VLOOKUP("w",E35:F36,2,FALSE)) | I34: =G34 | J34: =J28 -> 0.52152778 | K34: T2 | O34: =IF(E36="","",VLOOKUP("l",E35:F36,2,FALSE)) | Q34: =O34 | R34: =R28 -> 0.52152778 | S34: T4
D35: ='Param. - Transition'!C19 -> #N/A | F35: =D35 -> #N/A | J35: =IF(H26="","",VLOOKUP("L",H25:I26,2,FALSE)) | L35: =J35 | R35: =IF(P26="","",VLOOKUP("L",P25:Q26,2,FALSE)) | T35: =R35
D36: ='Param. - Transition'!B20 -> Nom équipe 8 A | F36: =D36 -> Nom équipe 8 A | J36: =IF(H34="","",VLOOKUP("L",H33:I34,2,FALSE)) | L36: =J36 | R36: =IF(P34="","",VLOOKUP("L",P33:Q34,2,FALSE)) | T36: =R36
R39: Fin
R40: =R34+Paramétrage!$G$14+Paramétrage!$G$15 -> 0.52986111

Sheet 3-Classement final
B3: ="Classement duo - "&Paramétrage!J2 -> Classement duo - Ping | E3: ="Classement équipe - "&Paramétrage!J2 -> Classement équipe - Ping | I3: ="Classement duo - "&Paramétrage!J3 -> Classement duo - Padel | L3: ="Classement équipe - "&Paramétrage!J3 -> Classement équipe - Padel | Q3: Classement final journée
B4: Nom équipe | C4: Classement | E4: Nom équipe | F4: Points | G4: Classement | I4: Nom équipe | J4: Classement | L4: Nom équipe | M4: Points | N4: Classement | Q4: =Paramétrage!J3 -> Padel | R4: =Paramétrage!J2 -> Ping | S4: Point | T4: Classement
B5: ='2-Phase de classement-Sport 1'!X5 | C5: 1 | E5: =Paramétrage!E3 -> Nom équipe 1 | F5: =SUMIF($B$5:$C$24,"*"&E5&"*",$C$5:$C$24) -> 0 | G5: =RANK(F5,$F$5:$F$24,0) -> 1 | I5: ='2-Phase de classement-Sport 2'!X5 | J5: 1 | L5: =Paramétrage!E3 -> Nom équipe 1 | M5: =SUMIF($I$5:$J$24,"*"&L5&"*",$J$5:$J$24) -> 0 | N5: =RANK(M5,$M$5:$M$14,0) -> 1 | P5: =Paramétrage!E3 -> Nom équipe 1 | Q5: =VLOOKUP(P5,$L$5:$N$12,3,FALSE) -> 1 | R5: =VLOOKUP(P5,$E$5:$G$12,3,FALSE) -> 1 | S5: =Q5+R5 -> 2 | T5: =RANK(S5,$S$5:$S$24,0) -> 1
