Workbook

Sheet Point équipe
A3: Equipes participants | B3: Montant payé | C3: Montant à payer | D3: Montant restant à payer | F3: Joueur 1 | G3: Joueur 2 | H3: Joueur 3 | I3: Joueur 4 | J3: Joueur 5 | K3: Joueur 6
A4: Nom équipe 1 | D4: =C4-B4 -> 0
A5: Nom équipe 2 | D5: =C5-B5 -> 0
A6: Nom équipe 3 | D6: =C6-B6 -> 0
A7: Nom équipe 4 | D7: =C7-B7 -> 0
A8: Nom équipe 5 | D8: =C8-B8 -> 0
A9: Nom équipe 6 | D9: =C9-B9 -> 0
A10: Nom équipe 7 | D10: =C10-B10 -> 0
A11: Nom équipe 8 | D11: =C11-B11 -> 0
B12: =SUM(B4:B11) -> 0 | C12: =SUM(C4:C11) -> 0 | D12: =SUM(D4:D11) -> 0

Sheet Param. - Transition
B2: Phase de Poule vers phase de classement - Sport 1
B4: 1 | C4: 2 | D4: 3 | E4: 4
A5: A | B5: =+VLOOKUP('Param. - Transition'!B$4,'1-Phase de poule-Sport 1'!$H$17:$I$21,2,FALSE) -> Nom équipe 7 | C5: =+VLOOKUP('Param. - Transition'!C$4,'1-Phase de poule-Sport 1'!$H$17:$I$21,2,FALSE) -> Nom équipe 3 | D5: =+VLOOKUP('Param. - Transition'!D$4,'1-Phase de poule-Sport 1'!$H$17:$I$21,2,FALSE) -> Nom équipe 1 | E5: =+VLOOKUP('Param. - Transition'!E$4,'1-Phase de poule-Sport 1'!$H$17:$I$21,2,FALSE) -> Nom équipe 5
A6: B | B6: =+VLOOKUP('Param. - Transition'!B$4,'1-Phase de poule-Sport 1'!$S$17:$T$21,2,FALSE) -> Nom équipe 8 | C6: =+VLOOKUP('Param. - Transition'!C$4,'1-Phase de poule-Sport 1'!$S$17:$T$21,2,FALSE) -> Nom équipe 4 | D6: =+VLOOKUP('Param. - Transition'!D$4,'1-Phase de poule-Sport 1'!$S$17:$T$21,2,FALSE) -> Nom équipe 2 | E6: =+VLOOKUP('Param. - Transition'!E$4,'1-Phase de poule-Sport 1'!$S$17:$T$21,2,FALSE) -> Nom équipe 6
B14: Phase de Poule vers phase de classement - Sport 2
B16: 1 | C16: 2 | D16: 3 | E16: 4
A17: A | B17: =+VLOOKUP('Param. - Transition'!B$4,'1-Phase de poule-Sport 2'!$H$17:$I$21,2,FALSE) -> Nom équipe 3 | C17: =+VLOOKUP('Param. - Transition'!C$4,'1-Phase de poule-Sport 2'!$H$17:$I$21,2,FALSE) -> #N/A | D17: =+VLOOKUP('Param. - Transition'!D$4,'1-Phase de poule-Sport 2'!$H$17:$I$21,2,FALSE) -> #N/A | E17: =+VLOOKUP('Param. - Transition'!E$4,'1-Phase de poule-Sport 2'!$H$17:$I$21,2,FALSE) -> Nom équipe 1
A18: B | B18: =+VLOOKUP('Param. - Transition'!B$4,'1-Phase de poule-Sport 2'!$S$17:$T$21,2,FALSE) -> Nom équipe 4 | C18: =+VLOOKUP('Param. - Transition'!C$4,'1-Phase de poule-Sport 2'!$S$17:$T$21,2,FALSE) -> #N/A | D18: =+VLOOKUP('Param. - Transition'!D$4,'1-Phase de poule-Sport 2'!$S$17:$T$21,2,FALSE) -> #N/A | E18: =+VLOOKUP('Param. - Transition'!E$4,'1-Phase de poule-Sport 2'!$S$17:$T$21,2,FALSE) -> Nom équipe 2

Sheet Paramétrage
A1: W
A2: N | E2: Equipes participants | F2: Binome A | G2: Binome A | I2: Sport 1 | J2: Football | K2: Sport en binôme
A3: L | E3: ='Point équipe'!A4 -> Nom équipe 1 | F3: =E3&" A" -> Nom équipe 1 A | G3: =E3&" B" -> Nom équipe 1 B | I3: Sport 2 | J3: Volley | K3: Sport en équipe
E4: ='Point équipe'!A5 -> Nom équipe 2 | F4: =E4&" A" -> Nom équipe 2 A | G4: =E4&" B" -> Nom équipe 2 B
B5: OZAIPEOIAE | E5: ='Point équipe'!A6 -> Nom équipe 3 | F5: =E5&" A" -> Nom équipe 3 A | G5: =E5&" B" -> Nom équipe 3 B
B6: OZAIPEOIAE | E6: ='Point équipe'!A7 -> Nom équipe 4 | F6: =E6&" A" -> Nom équipe 4 A | G6: =E6&" B" -> Nom équipe 4 B
B7: OZAIPEOIAE | E7: ='Point équipe'!A8 -> Nom équipe 5 | F7: =E7&" A" -> Nom équipe 5 A | G7: =E7&" B" -> Nom équipe 5 B
B8: OZAIPEOIAE | E8: ='Point équipe'!A9 -> Nom équipe 6 | F8: =E8&" A" -> Nom équipe 6 A | G8: =E8&" B" -> Nom équipe 6 B
B9: OZAIPEOIAE | E9: ='Point équipe'!A10 -> Nom équipe 7 | F9: =E9&" A" -> Nom équipe 7 A | G9: =E9&" B" -> Nom équipe 7 B
B10: OZAIPEOIAE | E10: ='Point équipe'!A11 -> Nom équipe 8 | F10: =E10&" A" -> Nom équipe 8 A | G10: =E10&" B" -> Nom équipe 8 B
D12: ="Paramétrage Poule - "&Paramétrage!$J$2 -> Paramétrage Poule - Football | E12: ="Paramétrage Poule - "&Paramétrage!$J$3 -> Paramétrage Poule - Volley | F12: ="Paramétrage Classement - "&Paramétrage!$J$2 -> Paramétrage Classement - Football | G12: ="Paramétrage Classement - "&Paramétrage!$J$3 -> Paramétrage Classement - Volley
B13: Horaire de début | D13: 0.42361111 | E13: 0.5625 | F13: =D17+D14+D15 -> #REF! | G13: =E17+E14+E15 -> 0.62083333
B14: Temps match | D14: 0.00625 | E14: 0.00625 | F14: 0.00625 | G14: 0.00625
B15: Entre match | D15: 0.0020833333 | E15: 0.0020833333 | F15: 0.0020833333 | G15: 0.0020833333
B16: Passage à phase de classement
B17: Fin poule 1 | D17: =#REF! -> #REF! | E17: ='1-Phase de poule-Sport 2'!N11 -> 0.6125
B18: Fin poule 2
B19: Fin tournoi | F19: =#REF! -> #REF! | G19: ='2-Phase de classement-Sport 2'!R23 -> 0.6625
B21: Nombre point de victoire | C21: 3
B22: Nombre point le nul | C22: 2
B23: Nombre point la défaite | C23: 1

Sheet FdM
B2: Feuille de match | M2: Feuille de match
E7: ="POULE A - "&Paramétrage!$J$2 -> POULE A - Football | P7: ="POULE B - "&Paramétrage!$J$2 -> POULE B - Football
E9: Nom équipe | F9: W/L | G9: Dif. | I9: Nom équipe | J9: W/L | K9: Dif. | P9: Nom équipe | Q9: W/L | R9: Dif. | T9: Nom équipe | U9: W/L | V9: Dif.
A10: =+'1-Phase de poule-Sport 2'!A5 -> 0 | B10: =+'1-Phase de poule-Sport 2'!B5 -> T1 | C10: =+'1-Phase de poule-Sport 2'!C5 -> 0.5625 | E10: =+'1-Phase de poule-Sport 2'!E5 -> Nom équipe 1 | H10: =+'1-Phase de poule-Sport 2'!H5 -> VS | I10: =+'1-Phase de poule-Sport 2'!I5 -> Nom équipe 5 | L10: =+'1-Phase de poule-Sport 2'!L5 -> 0 | M10: =+'1-Phase de poule-Sport 2'!M5 -> T2 | N10: =+'1-Phase de poule-Sport 2'!C5 -> 0.5625 | P10: =+'1-Phase de poule-Sport 2'!P5 -> Nom équipe 2 | S10: =+'1-Phase de poule-Sport 2'!S5 -> VS | T10: =+'1-Phase de poule-Sport 2'!T5 -> Nom équipe 6
A11: =+'1-Phase de poule-Sport 2'!A6 -> 0 | B11: =+'1-Phase de poule-Sport 2'!B6 -> T1 | C11: =+'1-Phase de poule-Sport 2'!C6 -> 0.57083333 | E11: =+'1-Phase de poule-Sport 2'!E6 -> Nom équipe 3 | H11: =+'1-Phase de poule-Sport 2'!H6 -> VS | I11: =+'1-Phase de poule-Sport 2'!I6 -> Nom équipe 7 | L11: =+'1-Phase de poule-Sport 2'!L6 -> 0 | M11: =+'1-Phase de poule-Sport 2'!M6 -> T2 | N11: =+'1-Phase de poule-Sport 2'!C6 -> 0.57083333 | P11: =+'1-Phase de poule-Sport 2'!P6 -> Nom équipe 4 | S11: =+'1-Phase de poule-Sport 2'!S6 -> VS | T11: =+'1-Phase de poule-Sport 2'!T6 -> Nom équipe 8
A12: =+'1-Phase de poule-Sport 2'!A7 -> 0 | B12: =+'1-Phase de poule-Sport 2'!B7 -> T1 | C12: =+'1-Phase de poule-Sport 2'!C7 -> 0.57916667 | E12: =+'1-Phase de poule-Sport 2'!E7 -> Nom équipe 1 | H12: =+'1-Phase de poule-Sport 2'!H7 -> VS | I12: =+'1-Phase de poule-Sport 2'!I7 -> Nom équipe 5 | L12: =+'1-Phase de poule-Sport 2'!L7 -> 0 | M12: =+'1-Phase de poule-Sport 2'!M7 -> T2 | N12: =+'1-Phase de poule-Sport 2'!C7 -> 0.57916667 | P12: =+'1-Phase de poule-Sport 2'!P7 -> Nom équipe 2 | S12: =+'1-Phase de poule-Sport 2'!S7 -> VS | T12: =+'1-Phase de poule-Sport 2'!T7 -> Nom équipe 6
A13: =+'1-Phase de poule-Sport 2'!A8 -> 0 | B13: =+'1-Phase de poule-Sport 2'!B8 -> T1 | C13: =+'1-Phase de poule-Sport 2'!C8 -> 0.5875 | E13: =+'1-Phase de poule-Sport 2'!E8 -> Nom équipe 7 | H13: =+'1-Phase de poule-Sport 2'!H8 -> VS | I13: =+'1-Phase de poule-Sport 2'!I8 -> Nom équipe 3 | L13: =+'1-Phase de poule-Sport 2'!L8 -> 0 | M13: =+'1-Phase de poule-Sport 2'!M8 -> T2 | N13: =+'1-Phase de poule-Sport 2'!C8 -> 0.5875 | P13: =+'1-Phase de poule-Sport 2'!P8 -> Nom équipe 8 | S13: =+'1-Phase de poule-Sport 2'!S8 -> VS | T13: =+'1-Phase de poule-Sport 2'!T8 -> Nom équipe 4
A14: =+'1-Phase de poule-Sport 2'!A9 -> 0 | B14: =+'1-Phase de poule-Sport 2'!B9 -> T1 | C14: =+'1-Phase de poule-Sport 2'!C9 -> 0.59583333 | E14: =+'1-Phase de poule-Sport 2'!E9 -> Nom équipe 1 | H14: =+'1-Phase de poule-Sport 2'!H9 -> VS | I14: =+'1-Phase de poule-Sport 2'!I9 -> Nom équipe 7 | L14: =+'1-Phase de poule-Sport 2'!L9 -> 0 | M14: =+'1-Phase de poule-Sport 2'!M9 -> T2 | N14: =+'1-Phase de poule-Sport 2'!C9 -> 0.59583333 | P14: =+'1-Phase de poule-Sport 2'!P9 -> Nom équipe 2 | S14: =+'1-Phase de poule-Sport 2'!S9 -> VS | T14: =+'1-Phase de poule-Sport 2'!T9 -> Nom équipe 8
A15: =+'1-Phase de poule-Sport 2'!A10 -> 0 | B15: =+'1-Phase de poule-Sport 2'!B10 -> T1 | C15: =+'1-Phase de poule-Sport 2'!C10 -> 0.60416667 | E15: =+'1-Phase de poule-Sport 2'!E10 -> Nom équipe 5 | H15: =+'1-Phase de poule-Sport 2'!H10 -> VS | I15: =+'1-Phase de poule-Sport 2'!I10 -> Nom équipe 3 | L15: =+'1-Phase de poule-Sport 2'!L10 -> 0 | M15: =+'1-Phase de poule-Sport 2'!M10 -> T2 | N15: =+'1-Phase de poule-Sport 2'!C10 -> 0.60416667 | P15: =+'1-Phase de poule-Sport 2'!P10 -> Nom équipe 6 | S15: =+'1-Phase de poule-Sport 2'!S10 -> VS | T15: =+'1-Phase de poule-Sport 2'!T10 -> Nom équipe 4

Sheet 1-Phase de poule-Sport 1
E2: POULE A | P2: POULE B
E4: Nom équipe | F4: W/L | G4: Dif. | I4: Nom équipe | J4: W/L | K4: Dif. | P4: Nom équipe | Q4: W/L | R4: Dif. | T4: Nom équipe | U4: W/L | V4: Dif.
B5: T1 | C5: =+Paramétrage!D13 -> 0.42361111 | E5: =Paramétrage!$E$3 -> Nom équipe 1 | F5: W | G5: 1 | H5: VS | I5: =Paramétrage!$E$7 -> Nom équipe 5 | J5: =IF(F5="W","L",IF(F5="L","W","N")) -> L | K5: =-G5 -> -1 | M5: T2 | N5: =+C5 -> 0.42361111 | P5: =Paramétrage!$E$4 -> Nom équipe 2 | Q5: W | R5: 1 | S5: VS | T5: =Paramétrage!$E$8 -> Nom équipe 6 | U5: =IF(Q5="W","L",IF(Q5="L","W","N")) -> L | V5: =-R5 -> -1
B6: T1 | C6: =C5+Paramétrage!$D$14+Paramétrage!$D$15 -> 0.43194444 | E6: =Paramétrage!$E$5 -> Nom équipe 3 | G6: 2 | H6: VS | I6: =Paramétrage!$E$9 -> Nom équipe 7 | J6: =IF(F6="W","L",IF(F6="L","W","N")) -> N | K6: =-G6 -> -2 | M6: T2 | N6: =+C6 -> 0.43194444 | P6: =Paramétrage!$E$6 -> Nom équipe 4 | R6: 2 | S6: VS | T6: =Paramétrage!$E$10 -> Nom équipe 8 | U6: =IF(Q6="W","L",IF(Q6="L","W","N")) -> N | V6: =-R6 -> -2
B7: T1 | C7: =C6+Paramétrage!$D$14+Paramétrage!$D$15 -> 0.44027778 | E7: =E5 -> Nom équipe 1 | G7: 3 | H7: VS | I7: =I5 -> Nom équipe 5 | J7: =IF(F7="W","L",IF(F7="L","W","N")) -> N | K7: =-G7 -> -3 | M7: T2 | N7: =+C7 -> 0.44027778 | P7: =P5 -> Nom équipe 2 | R7: 3 | S7: VS | T7: =T5 -> Nom équipe 6 | U7: =IF(Q7="W","L",IF(Q7="L","W","N")) -> N | V7: =-R7 -> -3
B8: T1 | C8: =C7+Paramétrage!$D$14+Paramétrage!$D$15 -> 0.44861111 | E8: =I6 -> Nom équipe 7 | G8: 4 | H8: VS | I8: =E6 -> Nom équipe 3 | J8: =IF(F8="W","L",IF(F8="L","W","N")) -> N | K8: =-G8 -> -4 | M8: T2 | N8: =+C8 -> 0.44861111 | P8: =T6 -> Nom équipe 8 | R8: 4 | S8: VS | T8: =P6 -> Nom équipe 4 | U8: =IF(Q8="W","L",IF(Q8="L","W","N")) -> N | V8: =-R8 -> -4
B9: T1 | C9: =C8+Paramétrage!$D$14+Paramétrage!$D$15 -> 0.45694444 | E9: =E5 -> Nom équipe 1 | H9: VS | I9: =I6 -> Nom équipe 7 | J9: =IF(F9="W","L",IF(F9="L","W","N")) -> N | K9: =-G9 -> 0 | M9: T2 | N9: =+C9 -> 0.45694444 | P9: =P5 -> Nom équipe 2 | S9: VS | T9: =T6 -> Nom équipe 8 | U9: =IF(Q9="W","L",IF(Q9="L","W","N")) -> N | V9: =-R9 -> 0
B10: T1 | C10: =C9+Paramétrage!$D$14+Paramétrage!$D$15 -> 0.46527778 | E10: =I5 -> Nom équipe 5 | H10: VS | I10: =E6 -> Nom équipe 3 | J10: =IF(F10="W","L",IF(F10="L","W","N")) -> N | K10: =-G10 -> 0 | M10: T2 | N10: =+C10 -> 0.46527778 | P10: =T5 -> Nom équipe 6 | S10: VS | T10: =P6 -> Nom équipe 4 | U10: =IF(Q10="W","L",IF(Q10="L","W","N")) -> N | V10: =-R10 -> 0
C11: =C10+Paramétrage!$D$14+Paramétrage!$D$15 -> 0.47361111 | N11: =+C11 -> 0.47361111
E16: Nom équipe | F16: Pts | G16: Dif. | H16: Clas. | I16: Ne pas toucher | P16: Nom équipe | Q16: Pts | R16: Dif. | S16: Clas. | T16: Ne pas toucher
D17: =F17+G17/1000 -> 3.004 | E17: =E5 -> Nom équipe 1 | F17: =(COUNTIFS(J$5:J$14,"w",I$5:I$14,E17)+COUNTIFS(F$5:F$14,"w",E$5:E$14,E17))*Paramétrage!$C$21+(COUNTIFS(J$5:J$14,"N",I$5:I$14,E17)+COUNTIFS(F$5:F$14,"N",E$5:E$14,E17))*Paramétrage!$C$22+(COUNTIFS(J$5:J$14,"L",I$5:I$14,E17)+COUNTIFS(F$5:F$14,"L",E$5:E$14,E17))*Paramétrage!$C$23 -> 3 | G17: =SUMIF(E$5:G$14,E17,G$5:G$14)+SUMIF(I$5:K$14,E17,K$5:K$14) -> 4 | H17: =RANK(D17,D$17:D$21,0) -> 3 | I17: =E17 -> Nom équipe 1 | O17: =Q17+R17/1000 -> 3.004 | P17: =P5 -> Nom équipe 2 | Q17: =(COUNTIFS(U$5:U$14,"w",T$5:T$14,P17)+COUNTIFS(Q$5:Q$14,"w",P$5:P$14,P17))*Paramétrage!$C$21+(COUNTIFS(U$5:U$14,"N",T$5:T$14,P17)+COUNTIFS(Q$5:Q$14,"N",P$5:P$14,P17))*Paramétrage!$C$22+(COUNTIFS(U$5:U$14,"L",T$5:T$14,P17)+COUNTIFS(Q$5:Q$14,"L",P$5:P$14,P17))*Paramétrage!$C$23 -> 3 | R17: =SUMIF(P$5:R$14,P17,R$5:R$14)+SUMIF(T$5:V$14,P17,V$5:V$14) -> 4 | S17: =RANK(O17,O$17:O$21,0) -> 3 | T17: =P17 -> Nom équipe 2
D18: =F18+G18/1000 -> 3.998 | E18: =E6 -> Nom équipe 3 | F18: =(COUNTIFS(J$5:J$14,"w",I$5:I$14,E18)+COUNTIFS(F$5:F$14,"w",E$5:E$14,E18))*Paramétrage!$C$21+(COUNTIFS(J$5:J$14,"N",I$5:I$14,E18)+COUNTIFS(F$5:F$14,"N",E$5:E$14,E18))*Paramétrage!$C$22+(COUNTIFS(J$5:J$14,"L",I$5:I$14,E18)+COUNTIFS(F$5:F$14,"L",E$5:E$14,E18))*Paramétrage!$C$23 -> 4 | G18: =SUMIF(E$5:G$14,E18,G$5:G$14)+SUMIF(I$5:K$14,E18,K$5:K$14) -> -2 | H18: =RANK(D18,D$17:D$21,0) -> 2 | I18: =E18 -> Nom équipe 3 | O18: =Q18+R18/1000 -> 3.998 | P18: =P6 -> Nom équipe 4 | Q18: =(COUNTIFS(U$5:U$14,"w",T$5:T$14,P18)+COUNTIFS(Q$5:Q$14,"w",P$5:P$14,P18))*Paramétrage!$C$21+(COUNTIFS(U$5:U$14,"N",T$5:T$14,P18)+COUNTIFS(Q$5:Q$14,"N",P$5:P$14,P18))*Paramétrage!$C$22+(COUNTIFS(U$5:U$14,"L",T$5:T$14,P18)+COUNTIFS(Q$5:Q$14,"L",P$5:P$14,P18))*Paramétrage!$C$23 -> 4 | R18: =SUMIF(P$5:R$14,P18,R$5:R$14)+SUMIF(T$5:V$14,P18,V$5:V$14) -> -2 | S18: =RANK(O18,O$17:O$21,0) -> 2 | T18: =P18 -> Nom équipe 4
D19: =F19+G19/1000 -> 2.996 | E19: =I5 -> Nom équipe 5 | F19: =(COUNTIFS(J$5:J$14,"w",I$5:I$14,E19)+COUNTIFS(F$5:F$14,"w",E$5:E$14,E19))*Paramétrage!$C$21+(COUNTIFS(J$5:J$14,"N",I$5:I$14,E19)+COUNTIFS(F$5:F$14,"N",E$5:E$14,E19))*Paramétrage!$C$22+(COUNTIFS(J$5:J$14,"L",I$5:I$14,E19)+COUNTIFS(F$5:F$14,"L",E$5:E$14,E19))*Paramétrage!$C$23 -> 3 | G19: =SUMIF(E$5:G$14,E19,G$5:G$14)+SUMIF(I$5:K$14,E19,K$5:K$14) -> -4 | H19: =RANK(D19,D$17:D$21,0) -> 4 | I19: =E19 -> Nom équipe 5 | O19: =Q19+R19/1000 -> 2.996 | P19: =T5 -> Nom équipe 6 | Q19: =(COUNTIFS(U$5:U$14,"w",T$5:T$14,P19)+COUNTIFS(Q$5:Q$14,"w",P$5:P$14,P19))*Paramétrage!$C$21+(COUNTIFS(U$5:U$14,"N",T$5:T$14,P19)+COUNTIFS(Q$5:Q$14,"N",P$5:P$14,P19))*Paramétrage!$C$22+(COUNTIFS(U$5:U$14,"L",T$5:T$14,P19)+COUNTIFS(Q$5:Q$14,"L",P$5:P$14,P19))*Paramétrage!$C$23 -> 3 | R19: =SUMIF(P$5:R$14,P19,R$5:R$14)+SUMIF(T$5:V$14,P19,V$5:V$14) -> -4 | S19: =RANK(O19,O$17:O$21,0) -> 4 | T19: =P19 -> Nom équipe 6
D20: =F20+G20/1000 -> 4.002 | E20: =I6 -> Nom équipe 7 | F20: =(COUNTIFS(J$5:J$14,"w",I$5:I$14,E20)+COUNTIFS(F$5:F$14,"w",E$5:E$14,E20))*Paramétrage!$C$21+(COUNTIFS(J$5:J$14,"N",I$5:I$14,E20)+COUNTIFS(F$5:F$14,"N",E$5:E$14,E20))*Paramétrage!$C$22+(COUNTIFS(J$5:J$14,"L",I$5:I$14,E20)+COUNTIFS(F$5:F$14,"L",E$5:E$14,E20))*Paramétrage!$C$23 -> 4 | G20: =SUMIF(E$5:G$14,E20,G$5:G$14)+SUMIF(I$5:K$14,E20,K$5:K$14) -> 2 | H20: =RANK(D20,D$17:D$21,0) -> 1 | I20: =E20 -> Nom équipe 7 | O20: =Q20+R20/1000 -> 4.002 | P20: =T6 -> Nom équipe 8 | Q20: =(COUNTIFS(U$5:U$14,"w",T$5:T$14,P20)+COUNTIFS(Q$5:Q$14,"w",P$5:P$14,P20))*Paramétrage!$C$21+(COUNTIFS(U$5:U$14,"N",T$5:T$14,P20)+COUNTIFS(Q$5:Q$14,"N",P$5:P$14,P20))*Paramétrage!$C$22+(COUNTIFS(U$5:U$14,"L",T$5:T$14,P20)+COUNTIFS(Q$5:Q$14,"L",P$5:P$14,P20))*Paramétrage!$C$23 -> 4 | R20: =SUMIF(P$5:R$14,P20,R$5:R$14)+SUMIF(T$5:V$14,P20,V$5:V$14) -> 2 | S20: =RANK(O20,O$17:O$21,0) -> 1 | T20: =P20 -> Nom équipe 8

Sheet 2-Phase de classement-Sport 1
D2: WINNER BRACKET | O2: LOOSER BRACKET | W2: Classement
V4: 1
D5: ='1-Phase de poule-Sport 1'!C11+Paramétrage!$G$14+Paramétrage!$G$15 -> 0.48194444 | E5: T1 | V5: 2
D6: ='Param. - Transition'!B5 -> Nom équipe 7 | F6: =D6 -> Nom équipe 7 | V6: 3
D7: ='Param. - Transition'!E6 -> Nom équipe 6 | F7: =D7 -> Nom équipe 6 | G7: =O7+Paramétrage!$G$14+Paramétrage!$G$15 -> 0.50694444 | H7: T1 | O7: =D13+Paramétrage!$G$14+Paramétrage!$G$15 -> 0.49861111 | P7: T1 | V7: 4 | W7: 1er | X7: =IF(K13="","",VLOOKUP("w",K12:L13,2,FALSE))
G8: =IF(E7="","",VLOOKUP("w",E6:F7,2,FALSE)) | I8: =G8 | O8: =IF(E7="","",VLOOKUP("l",E6:F7,2,FALSE)) | Q8: =O8 | W8: 2ème | X8: =IF(K13="","",VLOOKUP("l",K12:L13,2,FALSE))
D9: =D5 -> 0.48194444 | E9: T2 | G9: =IF(E11="","",VLOOKUP("w",E10:F11,2,FALSE)) | I9: =G9 | O9: =IF(E11="","",VLOOKUP("l",E10:F11,2,FALSE)) | Q9: =O9 | W9: 3ème | X9: =IF(K19="","",VLOOKUP("w",K18:L19,2,FALSE))
D10: ='Param. - Transition'!D5 -> Nom équipe 1 | F10: =D10 -> Nom équipe 1 | W10: 4ème | X10: =IF(K19="","",VLOOKUP("l",K18:L19,2,FALSE))
D11: ='Param. - Transition'!C6 -> Nom équipe 4 | F11: =D11 -> Nom équipe 4 | J11: =R11+Paramétrage!$G$14+Paramétrage!$G$15 -> 0.52361111 | K11: T1 | R11: =G7+Paramétrage!$G$14+Paramétrage!$G$15 -> 0.51527778 | S11: T1 | W11: 5ème | X11: =IF(S13="","",VLOOKUP("w",S12:T13,2,FALSE))
J12: =IF(H9="","",VLOOKUP("w",H8:I9,2,FALSE)) | L12: =J12 | R12: =IF(P9="","",VLOOKUP("w",P8:Q9,2,FALSE)) | T12: =R12 | W12: 6ème | X12: =IF(S13="","",VLOOKUP("l",S12:T13,2,FALSE))
D13: =D9+Paramétrage!$G$14+Paramétrage!$G$15 -> 0.49027778 | E13: T1 | J13: =IF(H17="","",VLOOKUP("w",H16:I17,2,FALSE)) | L13: =J13 | R13: =IF(P17="","",VLOOKUP("w",P16:Q17,2,FALSE)) | T13: =R13 | W13: 7ème | X13: =IF(S18="","",VLOOKUP("w",S18:T19,2,FALSE))
D14: ='Param. - Transition'!B6 -> Nom équipe 8 | F14: =D14 -> Nom équipe 8 | W14: 8ème | X14: =IF(S19="","",VLOOKUP("l",S18:T19,2,FALSE))
D15: ='Param. - Transition'!E5 -> Nom équipe 5 | F15: =D15 -> Nom équipe 5 | G15: =G7 -> 0.50694444 | H15: T2 | O15: =O7 -> 0.49861111 | P15: T2
G16: =IF(E15="","",VLOOKUP("w",E14:F15,2,FALSE)) | I16: =G16 | O16: =IF(E15="","",VLOOKUP("l",E14:F15,2,FALSE)) | Q16: =O16
D17: =D13 -> 0.49027778 | E17: T2 | G17: =IF(E19="","",VLOOKUP("w",E18:F19,2,FALSE)) | I17: =G17 | J17: =J11 -> 0.52361111 | K17: T2 | O17: =IF(E19="","",VLOOKUP("l",E18:F19,2,FALSE)) | Q17: =O17 | R17: =R11 -> 0.51527778 | S17: T2
D18: ='Param. - Transition'!D6 -> Nom équipe 2 | F18: =D18 -> Nom équipe 2 | J18: =IF(H9="","",VLOOKUP("L",H8:I9,2,FALSE)) | L18: =J18 | R18: =IF(P9="","",VLOOKUP("L",P8:Q9,2,FALSE)) | T18: =R18
D19: ='Param. - Transition'!C5 -> Nom équipe 3 | F19: =D19 -> Nom équipe 3 | J19: =IF(H17="","",VLOOKUP("L",H16:I17,2,FALSE)) | L19: =J19 | R19: =IF(P17="","",VLOOKUP("L",P16:Q17,2,FALSE)) | T19: =R19
R22: Fin
R23: =R17+Paramétrage!$G$14+Paramétrage!$G$15 -> 0.52361111

Sheet FdM (2)
B2: Feuille de match | M2: Feuille de match
E7: ="POULE A - "&Paramétrage!$J$3 -> POULE A - Volley | P7: ="POULE B - "&Paramétrage!$J$3 -> POULE B - Volley
E9: Nom équipe | F9: W/L | G9: Dif. | I9: Nom équipe | J9: W/L | K9: Dif. | P9: Nom équipe | Q9: W/L | R9: Dif. | T9: Nom équipe | U9: W/L | V9: Dif.
A10: =+'1-Phase de poule-Sport 2'!A5 -> 0 | B10: =+'1-Phase de poule-Sport 2'!B5 -> T1 | C10: =+'1-Phase de poule-Sport 2'!C5 -> 0.5625 | E10: =+'1-Phase de poule-Sport 2'!E5 -> Nom équipe 1 | H10: =+'1-Phase de poule-Sport 2'!H5 -> VS | I10: =+'1-Phase de poule-Sport 2'!I5 -> Nom équipe 5 | L10: =+'1-Phase de poule-Sport 2'!L5 -> 0 | M10: =+'1-Phase de poule-Sport 2'!M5 -> T2 | N10: =+'1-Phase de poule-Sport 2'!C5 -> 0.5625 | P10: =+'1-Phase de poule-Sport 2'!P5 -> Nom équipe 2 | S10: =+'1-Phase de poule-Sport 2'!S5 -> VS | T10: =+'1-Phase de poule-Sport 2'!T5 -> Nom équipe 6
A11: =+'1-Phase de poule-Sport 2'!A6 -> 0 | B11: =+'1-Phase de poule-Sport 2'!B6 -> T1 | C11: =+'1-Phase de poule-Sport 2'!C6 -> 0.57083333 | E11: =+'1-Phase de poule-Sport 2'!E6 -> Nom équipe 3 | H11: =+'1-Phase de poule-Sport 2'!H6 -> VS | I11: =+'1-Phase de poule-Sport 2'!I6 -> Nom équipe 7 | L11: =+'1-Phase de poule-Sport 2'!L6 -> 0 | M11: =+'1-Phase de poule-Sport 2'!M6 -> T2 | N11: =+'1-Phase de poule-Sport 2'!C6 -> 0.57083333 | P11: =+'1-Phase de poule-Sport 2'!P6 -> Nom équipe 4 | S11: =+'1-Phase de poule-Sport 2'!S6 -> VS | T11: =+'1-Phase de poule-Sport 2'!T6 -> Nom équipe 8
A12: =+'1-Phase de poule-Sport 2'!A7 -> 0 | B12: =+'1-Phase de poule-Sport 2'!B7 -> T1 | C12: =+'1-Phase de poule-Sport 2'!C7 -> 0.57916667 | E12: =+'1-Phase de poule-Sport 2'!E7 -> Nom équipe 1 | H12: =+'1-Phase de poule-Sport 2'!H7 -> VS | I12: =+'1-Phase de poule-Sport 2'!I7 -> Nom équipe 5 | L12: =+'1-Phase de poule-Sport 2'!L7 -> 0 | M12: =+'1-Phase de poule-Sport 2'!M7 -> T2 | N12: =+'1-Phase de poule-Sport 2'!C7 -> 0.57916667 | P12: =+'1-Phase de poule-Sport 2'!P7 -> Nom équipe 2 | S12: =+'1-Phase de poule-Sport 2'!S7 -> VS | T12: =+'1-Phase de poule-Sport 2'!T7 -> Nom équipe 6
A13: =+'1-Phase de poule-Sport 2'!A8 -> 0 | B13: =+'1-Phase de poule-Sport 2'!B8 -> T1 | C13: =+'1-Phase de poule-Sport 2'!C8 -> 0.5875 | E13: =+'1-Phase de poule-Sport 2'!E8 -> Nom équipe 7 | H13: =+'1-Phase de poule-Sport 2'!H8 -> VS | I13: =+'1-Phase de poule-Sport 2'!I8 -> Nom équipe 3 | L13: =+'1-Phase de poule-Sport 2'!L8 -> 0 | M13: =+'1-Phase de poule-Sport 2'!M8 -> T2 | N13: =+'1-Phase de poule-Sport 2'!C8 -> 0.5875 | P13: =+'1-Phase de poule-Sport 2'!P8 -> Nom équipe 8 | S13: =+'1-Phase de poule-Sport 2'!S8 -> VS | T13: =+'1-Phase de poule-Sport 2'!T8 -> Nom équipe 4
A14: =+'1-Phase de poule-Sport 2'!A9 -> 0 | B14: =+'1-Phase de poule-Sport 2'!B9 -> T1 | C14: =+'1-Phase de poule-Sport 2'!C9 -> 0.59583333 | E14: =+'1-Phase de poule-Sport 2'!E9 -> Nom équipe 1 | H14: =+'1-Phase de poule-Sport 2'!H9 -> VS | I14: =+'1-Phase de poule-Sport 2'!I9 -> Nom équipe 7 | L14: =+'1-Phase de poule-Sport 2'!L9 -> 0 | M14: =+'1-Phase de poule-Sport 2'!M9 -> T2 | N14: =+'1-Phase de poule-Sport 2'!C9 -> 0.59583333 | P14: =+'1-Phase de poule-Sport 2'!P9 -> Nom équipe 2 | S14: =+'1-Phase de poule-Sport 2'!S9 -> VS | T14: =+'1-Phase de poule-Sport 2'!T9 -> Nom équipe 8
A15: =+'1-Phase de poule-Sport 2'!A10 -> 0 | B15: =+'1-Phase de poule-Sport 2'!B10 -> T1 | C15: =+'1-Phase de poule-Sport 2'!C10 -> 0.60416667 | E15: =+'1-Phase de poule-Sport 2'!E10 -> Nom équipe 5 | H15: =+'1-Phase de poule-Sport 2'!H10 -> VS | I15: =+'1-Phase de poule-Sport 2'!I10 -> Nom équipe 3 | L15: =+'1-Phase de poule-Sport 2'!L10 -> 0 | M15: =+'1-Phase de poule-Sport 2'!M10 -> T2 | N15: =+'1-Phase de poule-Sport 2'!C10 -> 0.60416667 | P15: =+'1-Phase de poule-Sport 2'!P10 -> Nom équipe 6 | S15: =+'1-Phase de poule-Sport 2'!S10 -> VS | T15: =+'1-Phase de poule-Sport 2'!T10 -> Nom équipe 4

Sheet 1-Phase de poule-Sport 2
E2: POULE A | P2: POULE B
E4: Nom équipe | F4: W/L | G4: Dif. | I4: Nom équipe | J4: W/L | K4: Dif. | P4: Nom équipe | Q4: W/L | R4: Dif. | T4: Nom équipe | U4: W/L | V4: Dif.
B5: T1 | C5: =Paramétrage!E13 -> 0.5625 | E5: =Paramétrage!$E$3 -> Nom équipe 1 | H5: VS | I5: =Paramétrage!$E$7 -> Nom équipe 5 | J5: =IF(F5="W","L",IF(F5="L","W","N")) -> N | K5: =-G5 -> 0 | M5: T2 | N5: =+C5 -> 0.5625 | P5: =Paramétrage!$E$4 -> Nom équipe 2 | S5: VS | T5: =Paramétrage!$E$8 -> Nom équipe 6 | U5: =IF(Q5="W","L",IF(Q5="L","W","N")) -> N | V5: =-R5 -> 0
B6: T1 | C6: =C5+Paramétrage!$E$14+Paramétrage!$E$15 -> 0.57083333 | E6: =Paramétrage!$E$5 -> Nom équipe 3 | H6: VS | I6: =Paramétrage!$E$9 -> Nom équipe 7 | J6: =IF(F6="W","L",IF(F6="L","W","N")) -> N | K6: =-G6 -> 0 | M6: T2 | N6: =+C6 -> 0.57083333 | P6: =Paramétrage!$E$6 -> Nom équipe 4 | S6: VS | T6: =Paramétrage!$E$10 -> Nom équipe 8 | U6: =IF(Q6="W","L",IF(Q6="L","W","N")) -> N | V6: =-R6 -> 0
B7: T1 | C7: =C6+Paramétrage!$E$14+Paramétrage!$E$15 -> 0.57916667 | E7: =E5 -> Nom équipe 1 | H7: VS | I7: =I5 -> Nom équipe 5 | J7: =IF(F7="W","L",IF(F7="L","W","N")) -> N | K7: =-G7 -> 0 | M7: T2 | N7: =+C7 -> 0.57916667 | P7: =P5 -> Nom équipe 2 | S7: VS | T7: =T5 -> Nom équipe 6 | U7: =IF(Q7="W","L",IF(Q7="L","W","N")) -> N | V7: =-R7 -> 0
B8: T1 | C8: =C7+Paramétrage!$E$14+Paramétrage!$E$15 -> 0.5875 | E8: =I6 -> Nom équipe 7 | H8: VS | I8: =E6 -> Nom équipe 3 | J8: =IF(F8="W","L",IF(F8="L","W","N")) -> N | K8: =-G8 -> 0 | M8: T2 | N8: =+C8 -> 0.5875 | P8: =T6 -> Nom équipe 8 | S8: VS | T8: =P6 -> Nom équipe 4 | U8: =IF(Q8="W","L",IF(Q8="L","W","N")) -> N | V8: =-R8 -> 0
B9: T1 | C9: =C8+Paramétrage!$E$14+Paramétrage!$E$15 -> 0.59583333 | E9: =E5 -> Nom équipe 1 | H9: VS | I9: =I6 -> Nom équipe 7 | J9: =IF(F9="W","L",IF(F9="L","W","N")) -> N | K9: =-G9 -> 0 | M9: T2 | N9: =+C9 -> 0.59583333 | P9: =P5 -> Nom équipe 2 | S9: VS | T9: =T6 -> Nom équipe 8 | U9: =IF(Q9="W","L",IF(Q9="L","W","N")) -> N | V9: =-R9 -> 0
B10: T1 | C10: =C9+Paramétrage!$E$14+Paramétrage!$E$15 -> 0.60416667 | E10: =I5 -> Nom équipe 5 | H10: VS | I10: =E6 -> Nom équipe 3 | J10: =IF(F10="W","L",IF(F10="L","W","N")) -> N | K10: =-G10 -> 0 | M10: T2 | N10: =+C10 -> 0.60416667 | P10: =T5 -> Nom équipe 6 | S10: VS | T10: =P6 -> Nom équipe 4 | U10: =IF(Q10="W","L",IF(Q10="L","W","N")) -> N | V10: =-R10 -> 0
C11: =C10+Paramétrage!$E$14+Paramétrage!$E$15 -> 0.6125 | N11: =+C11 -> 0.6125
E16: Nom équipe | F16: Pts | G16: Dif. | H16: Clas. | I16: Ne pas toucher | P16: Nom équipe | Q16: Pts | R16: Dif. | S16: Clas. | T16: Ne pas toucher
D17: =F17+G17/1000 -> 0 | E17: =E5 -> Nom équipe 1 | F17: =(COUNTIFS(J$5:J$14,"w",I$5:I$14,E17)+COUNTIFS(F$5:F$14,"w",E$5:E$14,E17))*Paramétrage!$C$21+(COUNTIFS(J$5:J$14,"N",I$5:I$14,E17)+COUNTIFS(F$5:F$14,"N",E$5:E$14,E17))*Paramétrage!$C$22+(COUNTIFS(J$5:J$14,"L",I$5:I$14,E17)+COUNTIFS(F$5:F$14,"L",E$5:E$14,E17))*Paramétrage!$C$23 -> 0 | G17: =SUMIF(E$5:G$14,E17,G$5:G$14)+SUMIF(I$5:K$14,E17,K$5:K$14) -> 0 | H17: =RANK(D17,D$17:D$21,0) -> 4 | I17: =E17 -> Nom équipe 1 | O17: =Q17+R17/1000 -> 0 | P17: =P5 -> Nom équipe 2 | Q17: =(COUNTIFS(U$5:U$14,"w",T$5:T$14,P17)+COUNTIFS(Q$5:Q$14,"w",P$5:P$14,P17))*Paramétrage!$C$21+(COUNTIFS(U$5:U$14,"N",T$5:T$14,P17)+COUNTIFS(Q$5:Q$14,"N",P$5:P$14,P17))*Paramétrage!$C$22+(COUNTIFS(U$5:U$14,"L",T$5:T$14,P17)+COUNTIFS(Q$5:Q$14,"L",P$5:P$14,P17))*Paramétrage!$C$23 -> 0 | R17: =SUMIF(P$5:R$14,P17,R$5:R$14)+SUMIF(T$5:V$14,P17,V$5:V$14) -> 0 | S17: =RANK(O17,O$17:O$21,0) -> 4 | T17: =P17 -> Nom équipe 2
D18: =F18+G18/1000 -> 4 | E18: =E6 -> Nom équipe 3 | F18: =(COUNTIFS(J$5:J$14,"w",I$5:I$14,E18)+COUNTIFS(F$5:F$14,"w",E$5:E$14,E18))*Paramétrage!$C$21+(COUNTIFS(J$5:J$14,"N",I$5:I$14,E18)+COUNTIFS(F$5:F$14,"N",E$5:E$14,E18))*Paramétrage!$C$22+(COUNTIFS(J$5:J$14,"L",I$5:I$14,E18)+COUNTIFS(F$5:F$14,"L",E$5:E$14,E18))*Paramétrage!$C$23 -> 4 | G18: =SUMIF(E$5:G$14,E18,G$5:G$14)+SUMIF(I$5:K$14,E18,K$5:K$14) -> 0 | H18: =RANK(D18,D$17:D$21,0) -> 1 | I18: =E18 -> Nom équipe 3 | O18: =Q18+R18/1000 -> 4 | P18: =P6 -> Nom équipe 4 | Q18: =(COUNTIFS(U$5:U$14,"w",T$5:T$14,P18)+COUNTIFS(Q$5:Q$14,"w",P$5:P$14,P18))*Paramétrage!$C$21+(COUNTIFS(U$5:U$14,"N",T$5:T$14,P18)+COUNTIFS(Q$5:Q$14,"N",P$5:P$14,P18))*Paramétrage!$C$22+(COUNTIFS(U$5:U$14,"L",T$5:T$14,P18)+COUNTIFS(Q$5:Q$14,"L",P$5:P$14,P18))*Paramétrage!$C$23 -> 4 | R18: =SUMIF(P$5:R$14,P18,R$5:R$14)+SUMIF(T$5:V$14,P18,V$5:V$14) -> 0 | S18: =RANK(O18,O$17:O$21,0) -> 1 | T18: =P18 -> Nom équipe 4
D19: =F19+G19/1000 -> 4 | E19: =I5 -> Nom équipe 5 | F19: =(COUNTIFS(J$5:J$14,"w",I$5:I$14,E19)+COUNTIFS(F$5:F$14,"w",E$5:E$14,E19))*Paramétrage!$C$21+(COUNTIFS(J$5:J$14,"N",I$5:I$14,E19)+COUNTIFS(F$5:F$14,"N",E$5:E$14,E19))*Paramétrage!$C$22+(COUNTIFS(J$5:J$14,"L",I$5:I$14,E19)+COUNTIFS(F$5:F$14,"L",E$5:E$14,E19))*Paramétrage!$C$23 -> 4 | G19: =SUMIF(E$5:G$14,E19,G$5:G$14)+SUMIF(I$5:K$14,E19,K$5:K$14) -> 0 | H19: =RANK(D19,D$17:D$21,0) -> 1 | I19: =E19 -> Nom équipe 5 | O19: =Q19+R19/1000 -> 4 | P19: =T5 -> Nom équipe 6 | Q19: =(COUNTIFS(U$5:U$14,"w",T$5:T$14,P19)+COUNTIFS(Q$5:Q$14,"w",P$5:P$14,P19))*Paramétrage!$C$21+(COUNTIFS(U$5:U$14,"N",T$5:T$14,P19)+COUNTIFS(Q$5:Q$14,"N",P$5:P$14,P19))*Paramétrage!$C$22+(COUNTIFS(U$5:U$14,"L",T$5:T$14,P19)+COUNTIFS(Q$5:Q$14,"L",P$5:P$14,P19))*Paramétrage!$C$23 -> 4 | R19: =SUMIF(P$5:R$14,P19,R$5:R$14)+SUMIF(T$5:V$14,P19,V$5:V$14) -> 0 | S19: =RANK(O19,O$17:O$21,0) -> 1 | T19: =P19 -> Nom équipe 6
D20: =F20+G20/1000 -> 4 | E20: =I6 -> Nom équipe 7 | F20: =(COUNTIFS(J$5:J$14,"w",I$5:I$14,E20)+COUNTIFS(F$5:F$14,"w",E$5:E$14,E20))*Paramétrage!$C$21+(COUNTIFS(J$5:J$14,"N",I$5:I$14,E20)+COUNTIFS(F$5:F$14,"N",E$5:E$14,E20))*Paramétrage!$C$22+(COUNTIFS(J$5:J$14,"L",I$5:I$14,E20)+COUNTIFS(F$5:F$14,"L",E$5:E$14,E20))*Paramétrage!$C$23 -> 4 | G20: =SUMIF(E$5:G$14,E20,G$5:G$14)+SUMIF(I$5:K$14,E20,K$5:K$14) -> 0 | H20: =RANK(D20,D$17:D$21,0) -> 1 | I20: =E20 -> Nom équipe 7 | O20: =Q20+R20/1000 -> 4 | P20: =T6 -> Nom équipe 8 | Q20: =(COUNTIFS(U$5:U$14,"w",T$5:T$14,P20)+COUNTIFS(Q$5:Q$14,"w",P$5:P$14,P20))*Paramétrage!$C$21+(COUNTIFS(U$5:U$14,"N",T$5:T$14,P20)+COUNTIFS(Q$5:Q$14,"N",P$5:P$14,P20))*Paramétrage!$C$22+(COUNTIFS(U$5:U$14,"L",T$5:T$14,P20)+COUNTIFS(Q$5:Q$14,"L",P$5:P$14,P20))*Paramétrage!$C$23 -> 4 | R20: =SUMIF(P$5:R$14,P20,R$5:R$14)+SUMIF(T$5:V$14,P20,V$5:V$14) -> 0 | S20: =RANK(O20,O$17:O$21,0) -> 1 | T20: =P20 -> Nom équipe 8

Sheet 2-Phase de classement-Sport 2
D2: WINNER BRACKET | O2: LOOSER BRACKET | W2: Classement
V4: 1
D5: ='1-Phase de poule-Sport 2'!C11+Paramétrage!$G$14+Paramétrage!$G$15 -> 0.62083333 | E5: T1 | V5: 2
D6: ='Param. - Transition'!B17 -> Nom équipe 3 | F6: =D6 -> Nom équipe 3 | V6: 3
D7: ='Param. - Transition'!E18 -> Nom équipe 2 | F7: =D7 -> Nom équipe 2 | G7: =O7+Paramétrage!$G$14+Paramétrage!$G$15 -> 0.64583333 | H7: T1 | O7: =D13+Paramétrage!$G$14+Paramétrage!$G$15 -> 0.6375 | P7: T1 | V7: 4 | W7: 1er | X7: =IF(K13="","",VLOOKUP("w",K12:L13,2,FALSE))
G8: =IF(E7="","",VLOOKUP("w",E6:F7,2,FALSE)) | I8: =G8 | O8: =IF(E7="","",VLOOKUP("l",E6:F7,2,FALSE)) | Q8: =O8 | W8: 2ème | X8: =IF(K13="","",VLOOKUP("l",K12:L13,2,FALSE))
D9: =D5 -> 0.62083333 | E9: T2 | G9: =IF(E11="","",VLOOKUP("w",E10:F11,2,FALSE)) | I9: =G9 | O9: =IF(E11="","",VLOOKUP("l",E10:F11,2,FALSE)) | Q9: =O9 | W9: 3ème | X9: =IF(K19="","",VLOOKUP("w",K18:L19,2,FALSE))
D10: ='Param. - Transition'!D17 -> #N/A | F10: =D10 -> #N/A | W10: 4ème | X10: =IF(K19="","",VLOOKUP("l",K18:L19,2,FALSE))
D11: ='Param. - Transition'!C18 -> #N/A | F11: =D11 -> #N/A | J11: =R11+Paramétrage!$G$14+Paramétrage!$G$15 -> 0.6625 | K11: T1 | R11: =G7+Paramétrage!$G$14+Paramétrage!$G$15 -> 0.65416667 | S11: T1 | W11: 5ème | X11: =IF(S13="","",VLOOKUP("w",S12:T13,2,FALSE))
J12: =IF(H9="","",VLOOKUP("w",H8:I9,2,FALSE)) | L12: =J12 | R12: =IF(P9="","",VLOOKUP("w",P8:Q9,2,FALSE)) | T12: =R12 | W12: 6ème | X12: =IF(S13="","",VLOOKUP("l",S12:T13,2,FALSE))
D13: =D9+Paramétrage!$G$14+Paramétrage!$G$15 -> 0.62916667 | E13: T1 | J13: =IF(H17="","",VLOOKUP("w",H16:I17,2,FALSE)) | L13: =J13 | R13: =IF(P17="","",VLOOKUP("w",P16:Q17,2,FALSE)) | T13: =R13 | W13: 7ème | X13: =IF(S18="","",VLOOKUP("w",S18:T19,2,FALSE))
D14: ='Param. - Transition'!B18 -> Nom équipe 4 | F14: =D14 -> Nom équipe 4 | W14: 8ème | X14: =IF(S19="","",VLOOKUP("l",S18:T19,2,FALSE))
D15: ='Param. - Transition'!E17 -> Nom équipe 1 | F15: =D15 -> Nom équipe 1 | G15: =G7 -> 0.64583333 | H15: T2 | O15: =O7 -> 0.6375 | P15: T2
G16: =IF(E15="","",VLOOKUP("w",E14:F15,2,FALSE)) | I16: =G16 | O16: =IF(E15="","",VLOOKUP("l",E14:F15,2,FALSE)) | Q16: =O16
D17: =D13 -> 0.62916667 | E17: T2 | G17: =IF(E19="","",VLOOKUP("w",E18:F19,2,FALSE)) | I17: =G17 | J17: =J11 -> 0.6625 | K17: T2 | O17: =IF(E19="","",VLOOKUP("l",E18:F19,2,FALSE)) | Q17: =O17 | R17: =R11 -> 0.65416667 | S17: T2
D18: ='Param. - Transition'!D18 -> #N/A | F18: =D18 -> #N/A | J18: =IF(H9="","",VLOOKUP("L",H8:I9,2,FALSE)) | L18: =J18 | R18: =IF(P9="","",VLOOKUP("L",P8:Q9,2,FALSE)) | T18: =R18
D19: ='Param. - Transition'!C17 -> #N/A | F19: =D19 -> #N/A | J19: =IF(H17="","",VLOOKUP("L",H16:I17,2,FALSE)) | L19: =J19 | R19: =IF(P17="","",VLOOKUP("L",P16:Q17,2,FALSE)) | T19: =R19
R22: Fin
R23: =R17+Paramétrage!$G$14+Paramétrage!$G$15 -> 0.6625

Sheet 3-Classement final
B3: ="Classement équipe - "&Paramétrage!J2 -> Classement équipe - Football | E3: ="Classement duo - "&Paramétrage!J3 -> Classement duo - Volley | I3: Classement final journée
B4: Nom équipe | C4: Classement | E4: Nom équipe | F4: Classement | I4: =Paramétrage!J3 -> Volley | J4: =Paramétrage!J2 -> Football | K4: Point | L4: Classement
B5: =+'2-Phase de classement-Sport 1'!X7 | C5: 1 | E5: ='2-Phase de classement-Sport 2'!X7 | F5: 1 | H5: =Paramétrage!E3 -> Nom équipe 1 | I5: =VLOOKUP(H5,$E$5:$F$12,2,FALSE) -> #N/A | J5: =VLOOKUP(H5,$B$5:$C$12,2,FALSE) -> #N/A | K5: =I5+J5 -> #N/A | L5: =RANK(K5,$K$5:$K$24,0) -> #N/A
B6: =+'2-Phase de classement-Sport 1'!X8 | C6: 2 | E6: ='2-Phase de classement-Sport 2'!X8 | F6: 2 | H6: =Paramétrage!E4 -> Nom équipe 2 | I6: =VLOOKUP(H6,$E$5:$F$12,2,FALSE) -> #N/A | J6: =VLOOKUP(H6,$B$5:$C$12,2,FALSE) -> #N/A | K6: =I6+J6 -> #N/A | L6: =RANK(K6,$K$5:$K$24,0) -> #N/A
B7: =+'2-Phase de classement-Sport 1'!X9 | C7: 3 | E7: ='2-Phase de classement-Sport 2'!X9 | F7: 3 | H7: =Paramétrage!E5 -> Nom équipe 3 | I7: =VLOOKUP(H7,$E$5:$F$12,2,FALSE) -> #N/A | J7: =VLOOKUP(H7,$B$5:$C$12,2,FALSE) -> #N/A | K7: =I7+J7 -> #N/A | L7: =RANK(K7,$K$5:$K$24,0) -> #N/A
B8: =+'2-Phase de classement-Sport 1'!X10 | C8: 4 | E8: ='2-Phase de classement-Sport 2'!X10 | F8: 4 | H8: =Paramétrage!E6 -> Nom équipe 4 | I8: =VLOOKUP(H8,$E$5:$F$12,2,FALSE) -> #N/A | J8: =VLOOKUP(H8,$B$5:$C$12,2,FALSE) -> #N/A | K8: =I8+J8 -> #N/A | L8: =RANK(K8,$K$5:$K$24,0) -> #N/A
B9: =+'2-Phase de classement-Sport 1'!X11 | C9: 5 | E9: ='2-Phase de classement-Sport 2'!X11 | F9: 5 | H9: =Paramétrage!E7 -> Nom équipe 5 | I9: =VLOOKUP(H9,$E$5:$F$12,2,FALSE) -> #N/A | J9: =VLOOKUP(H9,$B$5:$C$12,2,FALSE) -> #N/A | K9: =I9+J9 -> #N/A | L9: =RANK(K9,$K$5:$K$24,0) -> #N/A
B10: =+'2-Phase de classement-Sport 1'!X12 | C10: 6 | E10: ='2-Phase de classement-Sport 2'!X12 | F10: 6 | H10: =Paramétrage!E8 -> Nom équipe 6 | I10: =VLOOKUP(H10,$E$5:$F$12,2,FALSE) -> #N/A | J10: =VLOOKUP(H10,$B$5:$C$12,2,FALSE) -> #N/A | K10: =I10+J10 -> #N/A | L10: =RANK(K10,$K$5:$K$24,0) -> #N/A
B11: =+'2-Phase de classement-Sport 1'!X13 | C11: 7 | E11: ='2-Phase de classement-Sport 2'!X13 | F11: 7 | H11: =Paramétrage!E9 -> Nom équipe 7 | I11: =VLOOKUP(H11,$E$5:$F$12,2,FALSE) -> #N/A | J11: =VLOOKUP(H11,$B$5:$C$12,2,FALSE) -> #N/A | K11: =I11+J11 -> #N/A | L11: =RANK(K11,$K$5:$K$24,0) -> #N/A
B12: =+'2-Phase de classement-Sport 1'!X14 | C12: 8 | E12: ='2-Phase de classement-Sport 2'!X14 | F12: 8 | H12: =Paramétrage!E10 -> Nom équipe 8 | I12: =VLOOKUP(H12,$E$5:$F$12,2,FALSE) -> #N/A | J12: =VLOOKUP(H12,$B$5:$C$12,2,FALSE) -> #N/A | K12: =I12+J12 -> #N/A | L12: =RANK(K12,$K$5:$K$24,0) -> #N/A
