Workbook

Sheet Point équipe
A3: Equipes participants | F3: Joueur 1 | G3: Joueur 2 | H3: Joueur 3 | I3: Joueur 4 | J3: Joueur 5 | K3: Joueur 6
A4: Roue Libre
A5: Akatsuki
A6: Les Tengos
A7: VitaMines
A8: Spyk'up
A9: Flotouyat
A10: Bandanateam
A11: Les Fisbrmzv
A12: Les inconnus
A13: Facilement
A14: Waral
A15: Bayer les verres culs sec
... A23: L'aile ou la cuite
B24: =SUM(B4:B23) -> 0 | C24: =SUM(C4:C23) -> 0 | D24: =SUM(D4:D23) -> 0

Sheet Paramétrage
A1: W
A2: N | E2: Equipes participants | F2: Binome A | G2: Binome A
A3: L | E3: Roue Libre | F3: =E3&" A" -> Roue Libre A | G3: =E3&" B" -> Roue Libre B
E4: Akatsuki | F4: =E4&" A" -> Akatsuki A | G4: =E4&" B" -> Akatsuki B
B5: OZAIPEOIAE | E5: Les Tengos | F5: =E5&" A" -> Les Tengos A | G5: =E5&" B" -> Les Tengos B
B6: OZAIPEOIAE | E6: VitaMines | F6: =E6&" A" -> VitaMines A | G6: =E6&" B" -> VitaMines B
B7: OZAIPEOIAE | E7: Spyk'up | F7: =E7&" A" -> Spyk'up A | G7: =E7&" B" -> Spyk'up B
B8: OZAIPEOIAE | E8: Floyouyat | F8: =E8&" A" -> Floyouyat A | G8: =E8&" B" -> Floyouyat B
B9: OZAIPEOIAE | E9: Bandanateam | F9: =E9&" A" -> Bandanateam A | G9: =E9&" B" -> Bandanateam B
B10: OZAIPEOIAE | E10: Les Fisbrmzv | F10: =E10&" A" -> Les Fisbrmzv A | G10: =E10&" B" -> Les Fisbrmzv B
B11: OZAIPEOIAE | E11: Les inconnus | F11: =E11&" A" -> Les inconnus A | G11: =E11&" B" -> Les inconnus B
B12: OZAIPEOIAE | E12: Facilement | F12: =E12&" A" -> Facilement A | G12: =E12&" B" -> Facilement B
B13: OZAIPEOIAE | E13: Waral | F13: =E13&" A" -> Waral A | G13: =E13&" B" -> Waral B
B14: OZAIPEOIAE | E14: Bayer les verres culs sec | F14: =E14&" A" -> Bayer les verres culs sec A | G14: =E14&" B" -> Bayer les verres culs sec B
B15: OZAIPEOIAE | E15: Gett'up | F15: =E15&" A" -> Gett'up A | G15: =E15&" B" -> Gett'up B
B16: OZAIPEOIAE | E16: Téléteubiloutes | F16: =E16&" A" -> Téléteubiloutes A | G16: =E16&" B" -> Téléteubiloutes B
... B21: OZAIPEOIAE | E21: Les torcheurs | F21: =E21&" A" -> Les torcheurs A | G21: =E21&" B" -> Les torcheurs B
E22: L'aile ou la cuite | F22: =E22&" A" -> L'aile ou la cuite A | G22: =E22&" B" -> L'aile ou la cuite B
D24: Paramétrage Padel -poule | E24: Paramétrage Bad -poule | F24: Paramétrage Padel -Classement | G24: Paramétrage Bad -Classement
B25: Horaire de début | D25: 0.38194444 | E25: 0.38194444 | F25: 0.625 | G25: 0.625
B26: Temps match | D26: 0.00625 | E26: =D26 -> 0.00625 | F26: 0.0048611111 | G26: =F26 -> 0.0048611111
B27: Entre match | D27: 0.0017361111 | E27: =D27 -> 0.0017361111 | F27: 0.0020833333 | G27: =F27 -> 0.0020833333
B28: Passage à phase de classement | D28: 0.0069444444 | E28: 0.0069444444 | F28: 0.0069444444 | G28: 0.0069444444
B29: Fin poule 1 | D29: ='1-Phase de poule-Padel'!C15 -> 0.46423611 | E29: ='1-Phase de poule-Bad'!N20 -> 0
B30: Fin poule 2 | D30: ='1-Phase de poule-Padel'!AJ46 -> 0.6 | E30: ='1-Phase de poule-Bad'!AJ20 -> 0
B31: Fin tournoi | F31: =+'2-Phase de classement-Padel'!V86 -> 0.70902778 | G31: ='Tour généré'!N2 -> 0.68125
B33: Nombre point de victoire | C33: 3 | D33: =D26*5+F26*3 -> 0.045833333 | E33: =E26*5+G26*3 -> 0.045833333
B34: Nombre point le nul | C34: 2
B35: Nombre point la défaite | C35: 1

Sheet Param. - Transition
B2: Phase de Poule vers phase de classement
B4: 1 | C4: 2 | D4: 3 | E4: 4 | F4: 5
A5: A | B5: =+VLOOKUP('Param. - Transition'!B$4,'1-Phase de poule-Padel'!$H$17:$I$21,2,FALSE) -> Roue Libre A | C5: =+VLOOKUP('Param. - Transition'!C$4,'1-Phase de poule-Padel'!$H$17:$I$21,2,FALSE) -> Les Tengos A | D5: =+VLOOKUP('Param. - Transition'!D$4,'1-Phase de poule-Padel'!$H$17:$I$21,2,FALSE) -> Spyk'up A | E5: =+VLOOKUP('Param. - Transition'!E$4,'1-Phase de poule-Padel'!$H$17:$I$21,2,FALSE) -> VitaMines A | F5: =+VLOOKUP('Param. - Transition'!F$4,'1-Phase de poule-Padel'!$H$17:$I$21,2,FALSE) -> Akatsuki A
A6: B | B6: =+VLOOKUP('Param. - Transition'!B$4,'1-Phase de poule-Padel'!$S$17:$T$21,2,FALSE) -> Bandanateam A | C6: =+VLOOKUP('Param. - Transition'!C$4,'1-Phase de poule-Padel'!$S$17:$T$21,2,FALSE) -> Les Fisbrmzv A | D6: =+VLOOKUP('Param. - Transition'!D$4,'1-Phase de poule-Padel'!$S$17:$T$21,2,FALSE) -> Floyouyat A | E6: =+VLOOKUP('Param. - Transition'!E$4,'1-Phase de poule-Padel'!$S$17:$T$21,2,FALSE) -> Facilement A | F6: =+VLOOKUP('Param. - Transition'!F$4,'1-Phase de poule-Padel'!$S$17:$T$21,2,FALSE) -> Les inconnus A
A7: C | B7: =+VLOOKUP('Param. - Transition'!B$4,'1-Phase de poule-Padel'!$AD$17:$AE$21,2,FALSE) -> Les Tengos B | C7: =+VLOOKUP('Param. - Transition'!C$4,'1-Phase de poule-Padel'!$AD$17:$AE$21,2,FALSE) -> VitaMines B | D7: =+VLOOKUP('Param. - Transition'!D$4,'1-Phase de poule-Padel'!$AD$17:$AE$21,2,FALSE) -> Spyk'up B | E7: =+VLOOKUP('Param. - Transition'!E$4,'1-Phase de poule-Padel'!$AD$17:$AE$21,2,FALSE) -> Akatsuki B | F7: =+VLOOKUP('Param. - Transition'!F$4,'1-Phase de poule-Padel'!$AD$17:$AE$21,2,FALSE) -> Roue Libre B
A8: D | B8: =+VLOOKUP('Param. - Transition'!B$4,'1-Phase de poule-Padel'!$AO$17:$AP$21,2,FALSE) -> Les Fisbrmzv B | C8: =+VLOOKUP('Param. - Transition'!C$4,'1-Phase de poule-Padel'!$AO$17:$AP$21,2,FALSE) -> Bandanateam B | D8: =+VLOOKUP('Param. - Transition'!D$4,'1-Phase de poule-Padel'!$AO$17:$AP$21,2,FALSE) -> Les inconnus B | E8: =+VLOOKUP('Param. - Transition'!E$4,'1-Phase de poule-Padel'!$AO$17:$AP$21,2,FALSE) -> Floyouyat B | F8: =+VLOOKUP('Param. - Transition'!F$4,'1-Phase de poule-Padel'!$AO$17:$AP$21,2,FALSE) -> Facilement B
B10: 1 | C10: 2 | D10: 3 | E10: 4 | F10: 5
A11: E | B11: =+VLOOKUP('Param. - Transition'!B$4,'1-Phase de poule-Padel'!$H$48:$I$52,2,FALSE) -> Celtics Grave Gros A | C11: =+VLOOKUP('Param. - Transition'!C$4,'1-Phase de poule-Padel'!$H$48:$I$52,2,FALSE) -> Waral A | D11: =+VLOOKUP('Param. - Transition'!D$4,'1-Phase de poule-Padel'!$H$48:$I$52,2,FALSE) -> Téléteubiloutes A | E11: =+VLOOKUP('Param. - Transition'!E$4,'1-Phase de poule-Padel'!$H$48:$I$52,2,FALSE) -> Bayer les verres culs sec A | F11: =+VLOOKUP('Param. - Transition'!F$4,'1-Phase de poule-Padel'!$H$48:$I$52,2,FALSE) -> Gett'up A
A12: F | B12: =+VLOOKUP('Param. - Transition'!B$4,'1-Phase de poule-Padel'!$S$48:$T$52,2,FALSE) -> L'aile ou la cuite A | C12: =+VLOOKUP('Param. - Transition'!C$4,'1-Phase de poule-Padel'!$S$48:$T$52,2,FALSE) -> Les torcheurs A | D12: =+VLOOKUP('Param. - Transition'!D$4,'1-Phase de poule-Padel'!$S$48:$T$52,2,FALSE) -> Pooldeads A | E12: =+VLOOKUP('Param. - Transition'!E$4,'1-Phase de poule-Padel'!$S$48:$T$52,2,FALSE) -> Blockudoku A | F12: =+VLOOKUP('Param. - Transition'!F$4,'1-Phase de poule-Padel'!$S$48:$T$52,2,FALSE) -> Lazio de Rhum A
A13: G | B13: =+VLOOKUP('Param. - Transition'!B$4,'1-Phase de poule-Padel'!$AD$48:$AE$52,2,FALSE) -> Waral B | C13: =+VLOOKUP('Param. - Transition'!C$4,'1-Phase de poule-Padel'!$AD$48:$AE$52,2,FALSE) -> Bayer les verres culs sec B | D13: =+VLOOKUP('Param. - Transition'!D$4,'1-Phase de poule-Padel'!$AD$48:$AE$52,2,FALSE) -> Celtics Grave Gros B | E13: =+VLOOKUP('Param. - Transition'!E$4,'1-Phase de poule-Padel'!$AD$48:$AE$52,2,FALSE) -> Téléteubiloutes B | F13: =+VLOOKUP('Param. - Transition'!F$4,'1-Phase de poule-Padel'!$AD$48:$AE$52,2,FALSE) -> Gett'up B
A14: H | B14: =+VLOOKUP('Param. - Transition'!B$4,'1-Phase de poule-Padel'!$AO$48:$AP$52,2,FALSE) -> Blockudoku B | C14: =+VLOOKUP('Param. - Transition'!C$4,'1-Phase de poule-Padel'!$AO$48:$AP$52,2,FALSE) -> L'aile ou la cuite B | D14: =+VLOOKUP('Param. - Transition'!D$4,'1-Phase de poule-Padel'!$AO$48:$AP$52,2,FALSE) -> Les torcheurs B | E14: =+VLOOKUP('Param. - Transition'!E$4,'1-Phase de poule-Padel'!$AO$48:$AP$52,2,FALSE) -> Lazio de Rhum B | F14: =+VLOOKUP('Param. - Transition'!F$4,'1-Phase de poule-Padel'!$AO$48:$AP$52,2,FALSE) -> Pooldeads B
B16: A/D | C16: E/H
B17: B/C | C17: F/G
B22: Phase de Poule vers phase de classement
B24: 1 | C24: 2 | D24: 3 | E24: 4 | F24: 5
A25: A | B25: =+VLOOKUP('Param. - Transition'!B$4,'1-Phase de poule-Bad'!$H$17:$I$21,2,FALSE) -> Téléteubiloutes A | C25: =+VLOOKUP('Param. - Transition'!C$4,'1-Phase de poule-Bad'!$H$17:$I$21,2,FALSE) -> Celtics Grave Gros A | D25: =+VLOOKUP('Param. - Transition'!D$4,'1-Phase de poule-Bad'!$H$17:$I$21,2,FALSE) -> Waral B | E25: =+VLOOKUP('Param. - Transition'!E$4,'1-Phase de poule-Bad'!$H$17:$I$21,2,FALSE) -> Bayer les verres culs sec B | F25: =+VLOOKUP('Param. - Transition'!F$4,'1-Phase de poule-Bad'!$H$17:$I$21,2,FALSE) -> Gett'up B
A26: B | B26: =+VLOOKUP('Param. - Transition'!B$4,'1-Phase de poule-Bad'!$S$17:$T$21,2,FALSE) -> Pooldeads A | C26: =+VLOOKUP('Param. - Transition'!C$4,'1-Phase de poule-Bad'!$S$17:$T$21,2,FALSE) -> Les torcheurs B | D26: =+VLOOKUP('Param. - Transition'!D$4,'1-Phase de poule-Bad'!$S$17:$T$21,2,FALSE) -> Blockudoku A | E26: =+VLOOKUP('Param. - Transition'!E$4,'1-Phase de poule-Bad'!$S$17:$T$21,2,FALSE) -> Lazio de Rhum A | F26: =+VLOOKUP('Param. - Transition'!F$4,'1-Phase de poule-Bad'!$S$17:$T$21,2,FALSE) -> L'aile ou la cuite B
A27: C | B27: =+VLOOKUP('Param. - Transition'!B$4,'1-Phase de poule-Bad'!$AD$17:$AE$21,2,FALSE) -> Waral A | C27: =+VLOOKUP('Param. - Transition'!C$4,'1-Phase de poule-Bad'!$AD$17:$AE$21,2,FALSE) -> Gett'up A | D27: =+VLOOKUP('Param. - Transition'!D$4,'1-Phase de poule-Bad'!$AD$17:$AE$21,2,FALSE) -> Téléteubiloutes B | E27: =+VLOOKUP('Param. - Transition'!E$4,'1-Phase de poule-Bad'!$AD$17:$AE$21,2,FALSE) -> Celtics Grave Gros B | F27: =+VLOOKUP('Param. - Transition'!F$4,'1-Phase de poule-Bad'!$AD$17:$AE$21,2,FALSE) -> Bayer les verres culs sec A
A28: D | B28: =+VLOOKUP('Param. - Transition'!B$4,'1-Phase de poule-Bad'!$AO$17:$AP$21,2,FALSE) -> L'aile ou la cuite A | C28: =+VLOOKUP('Param. - Transition'!C$4,'1-Phase de poule-Bad'!$AO$17:$AP$21,2,FALSE) -> Les torcheurs A | D28: =+VLOOKUP('Param. - Transition'!D$4,'1-Phase de poule-Bad'!$AO$17:$AP$21,2,FALSE) -> Blockudoku B | E28: =+VLOOKUP('Param. - Transition'!E$4,'1-Phase de poule-Bad'!$AO$17:$AP$21,2,FALSE) -> Pooldeads B | F28: =+VLOOKUP('Param. - Transition'!F$4,'1-Phase de poule-Bad'!$AO$17:$AP$21,2,FALSE) -> Lazio de Rhum B
B30: 1 | C30: 2 | D30: 3 | E30: 4 | F30: 5
A31: E | B31: =+VLOOKUP('Param. - Transition'!B$4,'1-Phase de poule-Bad'!$H$48:$I$52,2,FALSE) -> Les Tengos B | C31: =+VLOOKUP('Param. - Transition'!C$4,'1-Phase de poule-Bad'!$H$48:$I$52,2,FALSE) -> Roue Libre B | D31: =+VLOOKUP('Param. - Transition'!D$4,'1-Phase de poule-Bad'!$H$48:$I$52,2,FALSE) -> Spyk'up A | E31: =+VLOOKUP('Param. - Transition'!E$4,'1-Phase de poule-Bad'!$H$48:$I$52,2,FALSE) -> VitaMines A | F31: =+VLOOKUP('Param. - Transition'!F$4,'1-Phase de poule-Bad'!$H$48:$I$52,2,FALSE) -> Akatsuki B
A32: F | B32: =+VLOOKUP('Param. - Transition'!B$4,'1-Phase de poule-Bad'!$S$48:$T$52,2,FALSE) -> Les Fisbrmzv A | C32: =+VLOOKUP('Param. - Transition'!C$4,'1-Phase de poule-Bad'!$S$48:$T$52,2,FALSE) -> Bandanateam A | D32: =+VLOOKUP('Param. - Transition'!D$4,'1-Phase de poule-Bad'!$S$48:$T$52,2,FALSE) -> Floyouyat A | E32: =+VLOOKUP('Param. - Transition'!E$4,'1-Phase de poule-Bad'!$S$48:$T$52,2,FALSE) -> Les inconnus B | F32: =+VLOOKUP('Param. - Transition'!F$4,'1-Phase de poule-Bad'!$S$48:$T$52,2,FALSE) -> Facilement B
A33: G | B33: =+VLOOKUP('Param. - Transition'!B$4,'1-Phase de poule-Bad'!$AD$48:$AE$52,2,FALSE) -> Roue Libre A | C33: =+VLOOKUP('Param. - Transition'!C$4,'1-Phase de poule-Bad'!$AD$48:$AE$52,2,FALSE) -> VitaMines B | D33: =+VLOOKUP('Param. - Transition'!D$4,'1-Phase de poule-Bad'!$AD$48:$AE$52,2,FALSE) -> Les Tengos A | E33: =+VLOOKUP('Param. - Transition'!E$4,'1-Phase de poule-Bad'!$AD$48:$AE$52,2,FALSE) -> Spyk'up B | F33: =+VLOOKUP('Param. - Transition'!F$4,'1-Phase de poule-Bad'!$AD$48:$AE$52,2,FALSE) -> Akatsuki A
A34: H | B34: =+VLOOKUP('Param. - Transition'!B$4,'1-Phase de poule-Bad'!$AO$48:$AP$52,2,FALSE) -> Bandanateam B | C34: =+VLOOKUP('Param. - Transition'!C$4,'1-Phase de poule-Bad'!$AO$48:$AP$52,2,FALSE) -> Les Fisbrmzv B | D34: =+VLOOKUP('Param. - Transition'!D$4,'1-Phase de poule-Bad'!$AO$48:$AP$52,2,FALSE) -> Floyouyat B | E34: =+VLOOKUP('Param. - Transition'!E$4,'1-Phase de poule-Bad'!$AO$48:$AP$52,2,FALSE) -> Les inconnus A | F34: =+VLOOKUP('Param. - Transition'!F$4,'1-Phase de poule-Bad'!$AO$48:$AP$52,2,FALSE) -> Facilement A

Sheet FdM
B2: Feuille de match | M2: Feuille de match | X2: Feuille de match | AI2: Feuille de match | AT2: Feuille de match | BE2: Feuille de match | BP2: Feuille de match | CA2: Feuille de match
E7: POULE A - Padel Matin | P7: POULE B - Padel Matin | AA7: POULE C - Padel Matin | AL7: POULE D - Padel Matin | AW7: POULE E - Padel Après Midi | BH7: POULE F - Padel Après Midi | BS7: POULE G - Padel Après Midi | CD7: POULE H - Padel Après Midi
E9: Nom équipe | F9: W/L | G9: Dif. | I9: Nom équipe | J9: W/L | K9: Dif. | P9: Nom équipe | Q9: W/L | R9: Dif. | T9: Nom équipe | U9: W/L | V9: Dif. | AA9: Nom équipe | AB9: W/L | AC9: Dif. | AE9: Nom équipe | AF9: W/L | AG9: Dif. | AL9: Nom équipe | AM9: W/L | AN9: Dif. | AP9: Nom équipe | AQ9: W/L | AR9: Dif. | AW9: Nom équipe | AX9: W/L | AY9: Dif. | BA9: Nom équipe | BB9: W/L | BC9: Dif. | BH9: Nom équipe | BI9: W/L | BJ9: Dif. | BL9: Nom équipe | BM9: W/L | BN9: Dif. | BS9: Nom équipe | BT9: W/L | BU9: Dif. | BW9: Nom équipe | BX9: W/L | BY9: Dif. | CD9: Nom équipe | CE9: W/L | CF9: Dif. | CH9: Nom équipe | CI9: W/L | CJ9: Dif.
A10: =+'1-Phase de poule-Padel'!A5 -> 0 | B10: =+'1-Phase de poule-Padel'!B5 -> T1 | C10: =+'1-Phase de poule-Padel'!C5 -> 0.38194444 | E10: =+'1-Phase de poule-Padel'!E5 -> Roue Libre A | H10: =+'1-Phase de poule-Padel'!H5 -> VS | I10: =+'1-Phase de poule-Padel'!I5 -> VitaMines A | L10: =+'1-Phase de poule-Padel'!L5 -> 0 | M10: =+'1-Phase de poule-Padel'!M5 -> T2 | N10: =+'1-Phase de poule-Padel'!N5 -> 0.38194444 | P10: =+'1-Phase de poule-Padel'!P5 -> Floyouyat A | S10: =+'1-Phase de poule-Padel'!S5 -> VS | T10: =+'1-Phase de poule-Padel'!T5 -> Les inconnus A | X10: =+'1-Phase de poule-Padel'!X5 -> T3 | Y10: =+'1-Phase de poule-Padel'!Y5 -> 0.38194444 | AA10: =+'1-Phase de poule-Padel'!AA5 -> Les Tengos B | AD10: =+'1-Phase de poule-Padel'!AD5 -> VS | AE10: =+'1-Phase de poule-Padel'!AE5 -> Akatsuki B | AI10: =+'1-Phase de poule-Padel'!AI5 -> T4 | AJ10: =+'1-Phase de poule-Padel'!AJ5 -> 0.38194444 | AL10: =+'1-Phase de poule-Padel'!AL5 -> Les Fisbrmzv B | AO10: =+'1-Phase de poule-Padel'!AO5 -> VS | AP10: =+'1-Phase de poule-Padel'!AP5 -> Bandanateam B | AT10: ='1-Phase de poule-Padel'!B36 -> T1 | AU10: ='1-Phase de poule-Padel'!C36 -> 0.47222222 | AW10: ='1-Phase de poule-Padel'!E36 -> Waral A | AZ10: ='1-Phase de poule-Padel'!H36 -> VS | BA10: ='1-Phase de poule-Padel'!I36 -> Téléteubiloutes A | BE10: ='1-Phase de poule-Padel'!M36 -> T2 | BF10: ='1-Phase de poule-Padel'!N36 -> 0.47222222 | BH10: ='1-Phase de poule-Padel'!P36 -> Pooldeads A | BK10: ='1-Phase de poule-Padel'!S36 -> VS | BL10: ='1-Phase de poule-Padel'!T36 -> Les torcheurs A | BP10: ='1-Phase de poule-Padel'!X36 -> T3 | BQ10: ='1-Phase de poule-Padel'!Y36 -> 0.47222222 | BS10: ='1-Phase de poule-Padel'!AA36 -> Gett'up B | BV10: ='1-Phase de poule-Padel'!AD36 -> VS | BW10: ='1-Phase de poule-Padel'!AE36 -> Bayer les verres culs sec B | CA10: ='1-Phase de poule-Padel'!AI36 -> T4 | CB10: ='1-Phase de poule-Padel'!AJ36 -> 0.47222222 | CD10: ='1-Phase de poule-Padel'!AL36 -> Blockudoku B | CG10: ='1-Phase de poule-Padel'!AO36 -> VS | CH10: ='1-Phase de poule-Padel'!AP36 -> Lazio de Rhum B
A11: =+'1-Phase de poule-Padel'!A6 -> 0 | B11: =+'1-Phase de poule-Padel'!B6 -> T1 | C11: =+'1-Phase de poule-Padel'!C6 -> 0.39236111 | E11: =+'1-Phase de poule-Padel'!E6 -> Akatsuki A | H11: =+'1-Phase de poule-Padel'!H6 -> VS | I11: =+'1-Phase de poule-Padel'!I6 -> Spyk'up A | L11: =+'1-Phase de poule-Padel'!L6 -> 0 | M11: =+'1-Phase de poule-Padel'!M6 -> T2 | N11: =+'1-Phase de poule-Padel'!N6 -> 0.39236111 | P11: =+'1-Phase de poule-Padel'!P6 -> Bandanateam A | S11: =+'1-Phase de poule-Padel'!S6 -> VS | T11: =+'1-Phase de poule-Padel'!T6 -> Facilement A | X11: =+'1-Phase de poule-Padel'!X6 -> T3 | Y11: =+'1-Phase de poule-Padel'!Y6 -> 0.39236111 | AA11: =+'1-Phase de poule-Padel'!AA6 -> VitaMines B | AD11: =+'1-Phase de poule-Padel'!AD6 -> VS | AE11: =+'1-Phase de poule-Padel'!AE6 -> Roue Libre B | AI11: =+'1-Phase de poule-Padel'!AI6 -> T4 | AJ11: =+'1-Phase de poule-Padel'!AJ6 -> 0.39236111 | AL11: =+'1-Phase de poule-Padel'!AL6 -> Les inconnus B | AO11: =+'1-Phase de poule-Padel'!AO6 -> VS | AP11: =+'1-Phase de poule-Padel'!AP6 -> Floyouyat B | AT11: ='1-Phase de poule-Padel'!B37 -> T1 | AU11: ='1-Phase de poule-Padel'!C37 -> 0.48020833 | AW11: ='1-Phase de poule-Padel'!E37 -> Bayer les verres culs sec A | AZ11: ='1-Phase de poule-Padel'!H37 -> VS | BA11: ='1-Phase de poule-Padel'!I37 -> Celtics Grave Gros A | BE11: ='1-Phase de poule-Padel'!M37 -> T2 | BF11: ='1-Phase de poule-Padel'!N37 -> 0.48020833 | BH11: ='1-Phase de poule-Padel'!P37 -> Lazio de Rhum A | BK11: ='1-Phase de poule-Padel'!S37 -> VS | BL11: ='1-Phase de poule-Padel'!T37 -> L'aile ou la cuite A | BP11: ='1-Phase de poule-Padel'!X37 -> T3 | BQ11: ='1-Phase de poule-Padel'!Y37 -> 0.48020833 | BS11: ='1-Phase de poule-Padel'!AA37 -> Téléteubiloutes B | BV11: ='1-Phase de poule-Padel'!AD37 -> VS | BW11: ='1-Phase de poule-Padel'!AE37 -> Waral B | CA11: ='1-Phase de poule-Padel'!AI37 -> T4 | CB11: ='1-Phase de poule-Padel'!AJ37 -> 0.48020833 | CD11: ='1-Phase de poule-Padel'!AL37 -> Les torcheurs B | CG11: ='1-Phase de poule-Padel'!AO37 -> VS | CH11: ='1-Phase de poule-Padel'!AP37 -> Pooldeads B
A12: =+'1-Phase de poule-Padel'!A7 -> 0 | B12: =+'1-Phase de poule-Padel'!B7 -> T1 | C12: =+'1-Phase de poule-Padel'!C7 -> 0.40034722 | E12: =+'1-Phase de poule-Padel'!E7 -> Les Tengos A | H12: =+'1-Phase de poule-Padel'!H7 -> VS | I12: =+'1-Phase de poule-Padel'!I7 -> Roue Libre A | L12: =+'1-Phase de poule-Padel'!L7 -> 0 | M12: =+'1-Phase de poule-Padel'!M7 -> T2 | N12: =+'1-Phase de poule-Padel'!N7 -> 0.40034722 | P12: =+'1-Phase de poule-Padel'!P7 -> Les Fisbrmzv A | S12: =+'1-Phase de poule-Padel'!S7 -> VS | T12: =+'1-Phase de poule-Padel'!T7 -> Floyouyat A | X12: =+'1-Phase de poule-Padel'!X7 -> T3 | Y12: =+'1-Phase de poule-Padel'!Y7 -> 0.40034722 | AA12: =+'1-Phase de poule-Padel'!AA7 -> Spyk'up B | AD12: =+'1-Phase de poule-Padel'!AD7 -> VS | AE12: =+'1-Phase de poule-Padel'!AE7 -> Les Tengos B | AI12: =+'1-Phase de poule-Padel'!AI7 -> T4 | AJ12: =+'1-Phase de poule-Padel'!AJ7 -> 0.40034722 | AL12: =+'1-Phase de poule-Padel'!AL7 -> Facilement B | AO12: =+'1-Phase de poule-Padel'!AO7 -> VS | AP12: =+'1-Phase de poule-Padel'!AP7 -> Les Fisbrmzv B | AT12: ='1-Phase de poule-Padel'!B38 -> T1 | AU12: ='1-Phase de poule-Padel'!C38 -> 0.48819444 | AW12: ='1-Phase de poule-Padel'!E38 -> Gett'up A | AZ12: ='1-Phase de poule-Padel'!H38 -> VS | BA12: ='1-Phase de poule-Padel'!I38 -> Waral A | BE12: ='1-Phase de poule-Padel'!M38 -> T2 | BF12: ='1-Phase de poule-Padel'!N38 -> 0.48819444 | BH12: ='1-Phase de poule-Padel'!P38 -> Blockudoku A | BK12: ='1-Phase de poule-Padel'!S38 -> VS | BL12: ='1-Phase de poule-Padel'!T38 -> Pooldeads A | BP12: ='1-Phase de poule-Padel'!X38 -> T3 | BQ12: ='1-Phase de poule-Padel'!Y38 -> 0.48819444 | BS12: ='1-Phase de poule-Padel'!AA38 -> Celtics Grave Gros B | BV12: ='1-Phase de poule-Padel'!AD38 -> VS | BW12: ='1-Phase de poule-Padel'!AE38 -> Gett'up B | CA12: ='1-Phase de poule-Padel'!AI38 -> T4 | CB12: ='1-Phase de poule-Padel'!AJ38 -> 0.48819444 | CD12: ='1-Phase de poule-Padel'!AL38 -> L'aile ou la cuite B | CG12: ='1-Phase de poule-Padel'!AO38 -> VS | CH12: ='1-Phase de poule-Padel'!AP38 -> Blockudoku B
A13: =+'1-Phase de poule-Padel'!A8 -> 0 | B13: =+'1-Phase de poule-Padel'!B8 -> T1 | C13: =+'1-Phase de poule-Padel'!C8 -> 0.40833333 | E13: =+'1-Phase de poule-Padel'!E8 -> VitaMines A | H13: =+'1-Phase de poule-Padel'!H8 -> VS | I13: =+'1-Phase de poule-Padel'!I8 -> Akatsuki A | L13: =+'1-Phase de poule-Padel'!L8 -> 0 | M13: =+'1-Phase de poule-Padel'!M8 -> T2 | N13: =+'1-Phase de poule-Padel'!N8 -> 0.40833333 | P13: =+'1-Phase de poule-Padel'!P8 -> Les inconnus A | S13: =+'1-Phase de poule-Padel'!S8 -> VS | T13: =+'1-Phase de poule-Padel'!T8 -> Bandanateam A | X13: =+'1-Phase de poule-Padel'!X8 -> T3 | Y13: =+'1-Phase de poule-Padel'!Y8 -> 0.40833333 | AA13: =+'1-Phase de poule-Padel'!AA8 -> Akatsuki B | AD13: =+'1-Phase de poule-Padel'!AD8 -> VS | AE13: =+'1-Phase de poule-Padel'!AE8 -> VitaMines B | AI13: =+'1-Phase de poule-Padel'!AI8 -> T4 | AJ13: =+'1-Phase de poule-Padel'!AJ8 -> 0.40833333 | AL13: =+'1-Phase de poule-Padel'!AL8 -> Bandanateam B | AO13: =+'1-Phase de poule-Padel'!AO8 -> VS | AP13: =+'1-Phase de poule-Padel'!AP8 -> Les inconnus B | AT13: ='1-Phase de poule-Padel'!B39 -> T1 | AU13: ='1-Phase de poule-Padel'!C39 -> 0.49618056 | AW13: ='1-Phase de poule-Padel'!E39 -> Téléteubiloutes A | AZ13: ='1-Phase de poule-Padel'!H39 -> VS | BA13: ='1-Phase de poule-Padel'!I39 -> Bayer les verres culs sec A | BE13: ='1-Phase de poule-Padel'!M39 -> T2 | BF13: ='1-Phase de poule-Padel'!N39 -> 0.49618056 | BH13: ='1-Phase de poule-Padel'!P39 -> Les torcheurs A | BK13: ='1-Phase de poule-Padel'!S39 -> VS | BL13: ='1-Phase de poule-Padel'!T39 -> Lazio de Rhum A | BP13: ='1-Phase de poule-Padel'!X39 -> T3 | BQ13: ='1-Phase de poule-Padel'!Y39 -> 0.49618056 | BS13: ='1-Phase de poule-Padel'!AA39 -> Bayer les verres culs sec B | BV13: ='1-Phase de poule-Padel'!AD39 -> VS | BW13: ='1-Phase de poule-Padel'!AE39 -> Téléteubiloutes B | CA13: ='1-Phase de poule-Padel'!AI39 -> T4 | CB13: ='1-Phase de poule-Padel'!AJ39 -> 0.49618056 | CD13: ='1-Phase de poule-Padel'!AL39 -> Lazio de Rhum B | CG13: ='1-Phase de poule-Padel'!AO39 -> VS | CH13: ='1-Phase de poule-Padel'!AP39 -> Les torcheurs B
A14: =+'1-Phase de poule-Padel'!A9 -> 0 | B14: =+'1-Phase de poule-Padel'!B9 -> T1 | C14: =+'1-Phase de poule-Padel'!C9 -> 0.41631944 | E14: =+'1-Phase de poule-Padel'!E9 -> Spyk'up A | H14: =+'1-Phase de poule-Padel'!H9 -> VS | I14: =+'1-Phase de poule-Padel'!I9 -> Les Tengos A | L14: =+'1-Phase de poule-Padel'!L9 -> 0 | M14: =+'1-Phase de poule-Padel'!M9 -> T2 | N14: =+'1-Phase de poule-Padel'!N9 -> 0.41631944 | P14: =+'1-Phase de poule-Padel'!P9 -> Facilement A | S14: =+'1-Phase de poule-Padel'!S9 -> VS | T14: =+'1-Phase de poule-Padel'!T9 -> Les Fisbrmzv A | X14: =+'1-Phase de poule-Padel'!X9 -> T3 | Y14: =+'1-Phase de poule-Padel'!Y9 -> 0.41631944 | AA14: =+'1-Phase de poule-Padel'!AA9 -> Roue Libre B | AD14: =+'1-Phase de poule-Padel'!AD9 -> VS | AE14: =+'1-Phase de poule-Padel'!AE9 -> Spyk'up B | AI14: =+'1-Phase de poule-Padel'!AI9 -> T4 | AJ14: =+'1-Phase de poule-Padel'!AJ9 -> 0.41631944 | AL14: =+'1-Phase de poule-Padel'!AL9 -> Floyouyat B | AO14: =+'1-Phase de poule-Padel'!AO9 -> VS | AP14: =+'1-Phase de poule-Padel'!AP9 -> Facilement B | AT14: ='1-Phase de poule-Padel'!B40 -> T1 | AU14: ='1-Phase de poule-Padel'!C40 -> 0.50416667 | AW14: ='1-Phase de poule-Padel'!E40 -> Celtics Grave Gros A | AZ14: ='1-Phase de poule-Padel'!H40 -> VS | BA14: ='1-Phase de poule-Padel'!I40 -> Gett'up A | BE14: ='1-Phase de poule-Padel'!M40 -> T2 | BF14: ='1-Phase de poule-Padel'!N40 -> 0.50416667 | BH14: ='1-Phase de poule-Padel'!P40 -> L'aile ou la cuite A | BK14: ='1-Phase de poule-Padel'!S40 -> VS | BL14: ='1-Phase de poule-Padel'!T40 -> Blockudoku A | BP14: ='1-Phase de poule-Padel'!X40 -> T1 | BQ14: ='1-Phase de poule-Padel'!Y40 -> 0.55208333 | BS14: ='1-Phase de poule-Padel'!AA40 -> Waral B | BV14: ='1-Phase de poule-Padel'!AD40 -> VS | BW14: ='1-Phase de poule-Padel'!AE40 -> Celtics Grave Gros B | CA14: ='1-Phase de poule-Padel'!AI40 -> T2 | CB14: ='1-Phase de poule-Padel'!AJ40 -> 0.55208333 | CD14: ='1-Phase de poule-Padel'!AL40 -> Pooldeads B | CG14: ='1-Phase de poule-Padel'!AO40 -> VS | CH14: ='1-Phase de poule-Padel'!AP40 -> L'aile ou la cuite B
A15: =+'1-Phase de poule-Padel'!A10 -> 0 | B15: =+'1-Phase de poule-Padel'!B10 -> T1 | C15: =+'1-Phase de poule-Padel'!C10 -> 0.42430556 | E15: =+'1-Phase de poule-Padel'!E10 -> Roue Libre A | H15: =+'1-Phase de poule-Padel'!H10 -> VS | I15: =+'1-Phase de poule-Padel'!I10 -> Akatsuki A | L15: =+'1-Phase de poule-Padel'!L10 -> 0 | M15: =+'1-Phase de poule-Padel'!M10 -> T2 | N15: =+'1-Phase de poule-Padel'!N10 -> 0.42430556 | P15: =+'1-Phase de poule-Padel'!P10 -> Floyouyat A | S15: =+'1-Phase de poule-Padel'!S10 -> VS | T15: =+'1-Phase de poule-Padel'!T10 -> Bandanateam A | X15: =+'1-Phase de poule-Padel'!X10 -> T3 | Y15: =+'1-Phase de poule-Padel'!Y10 -> 0.42430556 | AA15: =+'1-Phase de poule-Padel'!AA10 -> Les Tengos B | AD15: =+'1-Phase de poule-Padel'!AD10 -> VS | AE15: =+'1-Phase de poule-Padel'!AE10 -> VitaMines B | AI15: =+'1-Phase de poule-Padel'!AI10 -> T4 | AJ15: =+'1-Phase de poule-Padel'!AJ10 -> 0.42430556 | AL15: =+'1-Phase de poule-Padel'!AL10 -> Les Fisbrmzv B | AO15: =+'1-Phase de poule-Padel'!AO10 -> VS | AP15: =+'1-Phase de poule-Padel'!AP10 -> Les inconnus B | AT15: ='1-Phase de poule-Padel'!B41 -> T1 | AU15: ='1-Phase de poule-Padel'!C41 -> 0.51215278 | AW15: ='1-Phase de poule-Padel'!E41 -> Waral A | AZ15: ='1-Phase de poule-Padel'!H41 -> VS | BA15: ='1-Phase de poule-Padel'!I41 -> Bayer les verres culs sec A | BE15: ='1-Phase de poule-Padel'!M41 -> T2 | BF15: ='1-Phase de poule-Padel'!N41 -> 0.51215278 | BH15: ='1-Phase de poule-Padel'!P41 -> Pooldeads A | BK15: ='1-Phase de poule-Padel'!S41 -> VS | BL15: ='1-Phase de poule-Padel'!T41 -> Lazio de Rhum A | BP15: ='1-Phase de poule-Padel'!X41 -> T1 | BQ15: ='1-Phase de poule-Padel'!Y41 -> 0.56006944 | BS15: ='1-Phase de poule-Padel'!AA41 -> Gett'up B | BV15: ='1-Phase de poule-Padel'!AD41 -> VS | BW15: ='1-Phase de poule-Padel'!AE41 -> Téléteubiloutes B | CA15: ='1-Phase de poule-Padel'!AI41 -> T2 | CB15: ='1-Phase de poule-Padel'!AJ41 -> 0.56006944 | CD15: ='1-Phase de poule-Padel'!AL41 -> Blockudoku B | CG15: ='1-Phase de poule-Padel'!AO41 -> VS | CH15: ='1-Phase de poule-Padel'!AP41 -> Les torcheurs B
A16: =+'1-Phase de poule-Padel'!A11 -> 0 | B16: =+'1-Phase de poule-Padel'!B11 -> T1 | C16: =+'1-Phase de poule-Padel'!C11 -> 0.43229167 | E16: =+'1-Phase de poule-Padel'!E11 -> VitaMines A | H16: =+'1-Phase de poule-Padel'!H11 -> VS | I16: =+'1-Phase de poule-Padel'!I11 -> Spyk'up A | L16: =+'1-Phase de poule-Padel'!L11 -> 0 | M16: =+'1-Phase de poule-Padel'!M11 -> T2 | N16: =+'1-Phase de poule-Padel'!N11 -> 0.43229167 | P16: =+'1-Phase de poule-Padel'!P11 -> Les inconnus A | S16: =+'1-Phase de poule-Padel'!S11 -> VS | T16: =+'1-Phase de poule-Padel'!T11 -> Facilement A | X16: =+'1-Phase de poule-Padel'!X11 -> T3 | Y16: =+'1-Phase de poule-Padel'!Y11 -> 0.43229167 | AA16: =+'1-Phase de poule-Padel'!AA11 -> Akatsuki B | AD16: =+'1-Phase de poule-Padel'!AD11 -> VS | AE16: =+'1-Phase de poule-Padel'!AE11 -> Roue Libre B | AI16: =+'1-Phase de poule-Padel'!AI11 -> T4 | AJ16: =+'1-Phase de poule-Padel'!AJ11 -> 0.43229167 | AL16: =+'1-Phase de poule-Padel'!AL11 -> Bandanateam B | AO16: =+'1-Phase de poule-Padel'!AO11 -> VS | AP16: =+'1-Phase de poule-Padel'!AP11 -> Floyouyat B | AT16: ='1-Phase de poule-Padel'!B42 -> T1 | AU16: ='1-Phase de poule-Padel'!C42 -> 0.52013889 | AW16: ='1-Phase de poule-Padel'!E42 -> Téléteubiloutes A | AZ16: ='1-Phase de poule-Padel'!H42 -> VS | BA16: ='1-Phase de poule-Padel'!I42 -> Celtics Grave Gros A | BE16: ='1-Phase de poule-Padel'!M42 -> T2 | BF16: ='1-Phase de poule-Padel'!N42 -> 0.52013889 | BH16: ='1-Phase de poule-Padel'!P42 -> Les torcheurs A | BK16: ='1-Phase de poule-Padel'!S42 -> VS | BL16: ='1-Phase de poule-Padel'!T42 -> L'aile ou la cuite A | BP16: ='1-Phase de poule-Padel'!X42 -> T1 | BQ16: ='1-Phase de poule-Padel'!Y42 -> 0.56805556 | BS16: ='1-Phase de poule-Padel'!AA42 -> Bayer les verres culs sec B | BV16: ='1-Phase de poule-Padel'!AD42 -> VS | BW16: ='1-Phase de poule-Padel'!AE42 -> Waral B | CA16: ='1-Phase de poule-Padel'!AI42 -> T2 | CB16: ='1-Phase de poule-Padel'!AJ42 -> 0.56805556 | CD16: ='1-Phase de poule-Padel'!AL42 -> Lazio de Rhum B | CG16: ='1-Phase de poule-Padel'!AO42 -> VS | CH16: ='1-Phase de poule-Padel'!AP42 -> Pooldeads B
A17: =+'1-Phase de poule-Padel'!A12 -> 0 | B17: =+'1-Phase de poule-Padel'!B12 -> T1 | C17: =+'1-Phase de poule-Padel'!C12 -> 0.44027778 | E17: =+'1-Phase de poule-Padel'!E12 -> Akatsuki A | H17: =+'1-Phase de poule-Padel'!H12 -> VS | I17: =+'1-Phase de poule-Padel'!I12 -> Les Tengos A | L17: =+'1-Phase de poule-Padel'!L12 -> 0 | M17: =+'1-Phase de poule-Padel'!M12 -> T2 | N17: =+'1-Phase de poule-Padel'!N12 -> 0.44027778 | P17: =+'1-Phase de poule-Padel'!P12 -> Bandanateam A | S17: =+'1-Phase de poule-Padel'!S12 -> VS | T17: =+'1-Phase de poule-Padel'!T12 -> Les Fisbrmzv A | X17: =+'1-Phase de poule-Padel'!X12 -> T3 | Y17: =+'1-Phase de poule-Padel'!Y12 -> 0.44027778 | AA17: =+'1-Phase de poule-Padel'!AA12 -> VitaMines B | AD17: =+'1-Phase de poule-Padel'!AD12 -> VS | AE17: =+'1-Phase de poule-Padel'!AE12 -> Spyk'up B | AI17: =+'1-Phase de poule-Padel'!AI12 -> T4 | AJ17: =+'1-Phase de poule-Padel'!AJ12 -> 0.44027778 | AL17: =+'1-Phase de poule-Padel'!AL12 -> Les inconnus B | AO17: =+'1-Phase de poule-Padel'!AO12 -> VS | AP17: =+'1-Phase de poule-Padel'!AP12 -> Facilement B | AT17: ='1-Phase de poule-Padel'!B43 -> T1 | AU17: ='1-Phase de poule-Padel'!C43 -> 0.528125 | AW17: ='1-Phase de poule-Padel'!E43 -> Bayer les verres culs sec A | AZ17: ='1-Phase de poule-Padel'!H43 -> VS | BA17: ='1-Phase de poule-Padel'!I43 -> Gett'up A | BE17: ='1-Phase de poule-Padel'!M43 -> T2 | BF17: ='1-Phase de poule-Padel'!N43 -> 0.528125 | BH17: ='1-Phase de poule-Padel'!P43 -> Lazio de Rhum A | BK17: ='1-Phase de poule-Padel'!S43 -> VS | BL17: ='1-Phase de poule-Padel'!T43 -> Blockudoku A | BP17: ='1-Phase de poule-Padel'!X43 -> T1 | BQ17: ='1-Phase de poule-Padel'!Y43 -> 0.57604167 | BS17: ='1-Phase de poule-Padel'!AA43 -> Téléteubiloutes B | BV17: ='1-Phase de poule-Padel'!AD43 -> VS | BW17: ='1-Phase de poule-Padel'!AE43 -> Celtics Grave Gros B | CA17: ='1-Phase de poule-Padel'!AI43 -> T2 | CB17: ='1-Phase de poule-Padel'!AJ43 -> 0.57604167 | CD17: ='1-Phase de poule-Padel'!AL43 -> Les torcheurs B | CG17: ='1-Phase de poule-Padel'!AO43 -> VS | CH17: ='1-Phase de poule-Padel'!AP43 -> L'aile ou la cuite B
A18: =+'1-Phase de poule-Padel'!A13 -> 0 | B18: =+'1-Phase de poule-Padel'!B13 -> T1 | C18: =+'1-Phase de poule-Padel'!C13 -> 0.44826389 | E18: =+'1-Phase de poule-Padel'!E13 -> Roue Libre A | H18: =+'1-Phase de poule-Padel'!H13 -> VS | I18: =+'1-Phase de poule-Padel'!I13 -> Spyk'up A | L18: =+'1-Phase de poule-Padel'!L13 -> 0 | M18: =+'1-Phase de poule-Padel'!M13 -> T2 | N18: =+'1-Phase de poule-Padel'!N13 -> 0.44826389 | P18: =+'1-Phase de poule-Padel'!P13 -> Floyouyat A | S18: =+'1-Phase de poule-Padel'!S13 -> VS | T18: =+'1-Phase de poule-Padel'!T13 -> Facilement A | X18: =+'1-Phase de poule-Padel'!X13 -> T3 | Y18: =+'1-Phase de poule-Padel'!Y13 -> 0.44826389 | AA18: =+'1-Phase de poule-Padel'!AA13 -> Les Tengos B | AD18: =+'1-Phase de poule-Padel'!AD13 -> VS | AE18: =+'1-Phase de poule-Padel'!AE13 -> Roue Libre B | AI18: =+'1-Phase de poule-Padel'!AI13 -> T4 | AJ18: =+'1-Phase de poule-Padel'!AJ13 -> 0.44826389 | AL18: =+'1-Phase de poule-Padel'!AL13 -> Les Fisbrmzv B | AO18: =+'1-Phase de poule-Padel'!AO13 -> VS | AP18: =+'1-Phase de poule-Padel'!AP13 -> Floyouyat B | AT18: ='1-Phase de poule-Padel'!B44 -> T1 | AU18: ='1-Phase de poule-Padel'!C44 -> 0.53611111 | AW18: ='1-Phase de poule-Padel'!E44 -> Waral A | AZ18: ='1-Phase de poule-Padel'!H44 -> VS | BA18: ='1-Phase de poule-Padel'!I44 -> Celtics Grave Gros A | BE18: ='1-Phase de poule-Padel'!M44 -> T2 | BF18: ='1-Phase de poule-Padel'!N44 -> 0.53611111 | BH18: ='1-Phase de poule-Padel'!P44 -> Pooldeads A | BK18: ='1-Phase de poule-Padel'!S44 -> VS | BL18: ='1-Phase de poule-Padel'!T44 -> L'aile ou la cuite A | BP18: ='1-Phase de poule-Padel'!X44 -> T1 | BQ18: ='1-Phase de poule-Padel'!Y44 -> 0.58402778 | BS18: ='1-Phase de poule-Padel'!AA44 -> Gett'up B | BV18: ='1-Phase de poule-Padel'!AD44 -> VS | BW18: ='1-Phase de poule-Padel'!AE44 -> Waral B | CA18: ='1-Phase de poule-Padel'!AI44 -> T2 | CB18: ='1-Phase de poule-Padel'!AJ44 -> 0.58402778 | CD18: ='1-Phase de poule-Padel'!AL44 -> Blockudoku B | CG18: ='1-Phase de poule-Padel'!AO44 -> VS | CH18: ='1-Phase de poule-Padel'!AP44 -> Pooldeads B
A19: =+'1-Phase de poule-Padel'!A14 -> 0 | B19: =+'1-Phase de poule-Padel'!B14 -> T1 | C19: =+'1-Phase de poule-Padel'!C14 -> 0.45625 | E19: =+'1-Phase de poule-Padel'!E14 -> VitaMines A | H19: =+'1-Phase de poule-Padel'!H14 -> VS | I19: =+'1-Phase de poule-Padel'!I14 -> Les Tengos A | L19: =+'1-Phase de poule-Padel'!L14 -> 0 | M19: =+'1-Phase de poule-Padel'!M14 -> T2 | N19: =+'1-Phase de poule-Padel'!N14 -> 0.45625 | P19: =+'1-Phase de poule-Padel'!P14 -> Les inconnus A | S19: =+'1-Phase de poule-Padel'!S14 -> VS | T19: =+'1-Phase de poule-Padel'!T14 -> Les Fisbrmzv A | X19: =+'1-Phase de poule-Padel'!X14 -> T3 | Y19: =+'1-Phase de poule-Padel'!Y14 -> 0.45625 | AA19: =+'1-Phase de poule-Padel'!AA14 -> Akatsuki B | AD19: =+'1-Phase de poule-Padel'!AD14 -> VS | AE19: =+'1-Phase de poule-Padel'!AE14 -> Spyk'up B | AI19: =+'1-Phase de poule-Padel'!AI14 -> T4 | AJ19: =+'1-Phase de poule-Padel'!AJ14 -> 0.45625 | AL19: =+'1-Phase de poule-Padel'!AL14 -> Bandanateam B | AO19: =+'1-Phase de poule-Padel'!AO14 -> VS | AP19: =+'1-Phase de poule-Padel'!AP14 -> Facilement B | AT19: ='1-Phase de poule-Padel'!B45 -> T1 | AU19: ='1-Phase de poule-Padel'!C45 -> 0.54409722 | AW19: ='1-Phase de poule-Padel'!E45 -> Téléteubiloutes A | AZ19: ='1-Phase de poule-Padel'!H45 -> VS | BA19: ='1-Phase de poule-Padel'!I45 -> Gett'up A | BE19: ='1-Phase de poule-Padel'!M45 -> T2 | BF19: ='1-Phase de poule-Padel'!N45 -> 0.54409722 | BH19: ='1-Phase de poule-Padel'!P45 -> Les torcheurs A | BK19: ='1-Phase de poule-Padel'!S45 -> VS | BL19: ='1-Phase de poule-Padel'!T45 -> Blockudoku A | BP19: ='1-Phase de poule-Padel'!X45 -> T1 | BQ19: ='1-Phase de poule-Padel'!Y45 -> 0.59201389 | BS19: ='1-Phase de poule-Padel'!AA45 -> Bayer les verres culs sec B | BV19: ='1-Phase de poule-Padel'!AD45 -> VS | BW19: ='1-Phase de poule-Padel'!AE45 -> Celtics Grave Gros B | CA19: ='1-Phase de poule-Padel'!AI45 -> T2 | CB19: ='1-Phase de poule-Padel'!AJ45 -> 0.59201389 | CD19: ='1-Phase de poule-Padel'!AL45 -> Lazio de Rhum B | CG19: ='1-Phase de poule-Padel'!AO45 -> VS | CH19: ='1-Phase de poule-Padel'!AP45 -> L'aile ou la cuite B
A20: =+'1-Phase de poule-Padel'!A15 -> 0 | C20: =+'1-Phase de poule-Padel'!C15 -> 0.46423611 | L20: =+'1-Phase de poule-Padel'!L15 -> 0 | N20: =+'1-Phase de poule-Padel'!N15 -> 0.46423611 | Y20: =+'1-Phase de poule-Padel'!Y15 -> 0.46423611 | AJ20: =+'1-Phase de poule-Padel'!AJ15 -> 0.46423611 | AU20: ='1-Phase de poule-Padel'!C46 -> 0.55208333 | BF20: ='1-Phase de poule-Padel'!N46 -> 0.55208333 | BQ20: ='1-Phase de poule-Padel'!Y46 -> 0.6 | CB20: ='1-Phase de poule-Padel'!AJ46 -> 0.6

Sheet 1-Phase de poule-Padel
E2: POULE A | P2: POULE B | AA2: POULE C | AL2: POULE D
E4: Nom équipe | F4: W/L | G4: Dif. | I4: Nom équipe | J4: W/L | K4: Dif. | P4: Nom équipe | Q4: W/L | R4: Dif. | T4: Nom équipe | U4: W/L | V4: Dif. | AA4: Nom équipe | AB4: W/L | AC4: Dif. | AE4: Nom équipe | AF4: W/L | AG4: Dif. | AL4: Nom équipe | AM4: W/L | AN4: Dif. | AP4: Nom équipe | AQ4: W/L | AR4: Dif.
B5: T1 | C5: =Paramétrage!D25 -> 0.38194444 | E5: =Paramétrage!$F$3 -> Roue Libre A | F5: W | G5: 23 | H5: VS | I5: =Paramétrage!$F$6 -> VitaMines A | J5: =IF(F5="W","L",IF(F5="L","W","N")) -> L | K5: =-G5 -> -23 | M5: T2 | N5: =C5 -> 0.38194444 | P5: =Paramétrage!$F$8 -> Floyouyat A | Q5: W | R5: 6 | S5: VS | T5: =Paramétrage!$F$11 -> Les inconnus A | U5: =IF(Q5="W","L",IF(Q5="L","W","N")) -> L | V5: =-R5 -> -6 | X5: T3 | Y5: =C5 -> 0.38194444 | AA5: =Paramétrage!$G$5 -> Les Tengos B | AB5: W | AC5: 24 | AD5: VS | AE5: =Paramétrage!$G$4 -> Akatsuki B | AF5: =IF(AB5="W","L",IF(AB5="L","W","N")) -> L | AG5: =-AC5 -> -24 | AI5: T4 | AJ5: =C5 -> 0.38194444 | AL5: =Paramétrage!$G$10 -> Les Fisbrmzv B | AM5: W | AN5: 4 | AO5: VS | AP5: =Paramétrage!$G$9 -> Bandanateam B | AQ5: =IF(AM5="W","L",IF(AM5="L","W","N")) -> L | AR5: =-AN5 -> -4
B6: T1 | C6: 0.39236111 | E6: =Paramétrage!$F$4 -> Akatsuki A | F6: L | G6: -6 | H6: VS | I6: =Paramétrage!$F$7 -> Spyk'up A | J6: W | K6: 6 | M6: T2 | N6: =C6 -> 0.39236111 | P6: =Paramétrage!$F$9 -> Bandanateam A | Q6: W | R6: 20 | S6: VS | T6: =Paramétrage!$F$12 -> Facilement A | U6: =IF(Q6="W","L",IF(Q6="L","W","N")) -> L | V6: =-R6 -> -20 | X6: T3 | Y6: =C6 -> 0.39236111 | AA6: =Paramétrage!$G$6 -> VitaMines B | AB6: W | AC6: 17 | AD6: VS | AE6: =Paramétrage!$G$3 -> Roue Libre B | AF6: =IF(AB6="W","L",IF(AB6="L","W","N")) -> L | AG6: =-AC6 -> -17 | AI6: T4 | AJ6: =C6 -> 0.39236111 | AL6: =Paramétrage!$G$11 -> Les inconnus B | AM6: W | AN6: 2 | AO6: VS | AP6: =Paramétrage!$G$8 -> Floyouyat B | AQ6: =IF(AM6="W","L",IF(AM6="L","W","N")) -> L | AR6: =-AN6 -> -2
B7: T1 | C7: =C6+Paramétrage!$D$26+Paramétrage!$D$27 -> 0.40034722 | E7: =Paramétrage!$F$5 -> Les Tengos A | F7: L | G7: -6 | H7: VS | I7: =+E5 -> Roue Libre A | J7: =IF(F7="W","L",IF(F7="L","W","N")) -> W | K7: =-G7 -> 6 | M7: T2 | N7: =C7 -> 0.40034722 | P7: =Paramétrage!$F$10 -> Les Fisbrmzv A | Q7: W | R7: 15 | S7: VS | T7: =+P5 -> Floyouyat A | U7: =IF(Q7="W","L",IF(Q7="L","W","N")) -> L | V7: =-R7 -> -15 | X7: T3 | Y7: =C7 -> 0.40034722 | AA7: =Paramétrage!$G$7 -> Spyk'up B | AB7: L | AC7: -22 | AD7: VS | AE7: =+AA5 -> Les Tengos B | AF7: =IF(AB7="W","L",IF(AB7="L","W","N")) -> W | AG7: =-AC7 -> 22 | AI7: T4 | AJ7: =C7 -> 0.40034722 | AL7: =Paramétrage!$G$12 -> Facilement B | AM7: L | AN7: -12 | AO7: VS | AP7: =+AL5 -> Les Fisbrmzv B | AQ7: =IF(AM7="W","L",IF(AM7="L","W","N")) -> W | AR7: =-AN7 -> 12
B8: T1 | C8: =C7+Paramétrage!$D$26+Paramétrage!$D$27 -> 0.40833333 | E8: =+I5 -> VitaMines A | F8: w | G8: 17 | H8: VS | I8: =E6 -> Akatsuki A | J8: =IF(F8="W","L",IF(F8="L","W","N")) -> L | K8: =-G8 -> -17 | M8: T2 | N8: =C8 -> 0.40833333 | P8: =+T5 -> Les inconnus A | Q8: L | R8: -14 | S8: VS | T8: =P6 -> Bandanateam A | U8: =IF(Q8="W","L",IF(Q8="L","W","N")) -> W | V8: =-R8 -> 14 | X8: T3 | Y8: =C8 -> 0.40833333 | AA8: =+AE5 -> Akatsuki B | AB8: L | AC8: -10 | AD8: VS | AE8: =AA6 -> VitaMines B | AF8: =IF(AB8="W","L",IF(AB8="L","W","N")) -> W | AG8: =-AC8 -> 10 | AI8: T4 | AJ8: =C8 -> 0.40833333 | AL8: =+AP5 -> Bandanateam B | AM8: W | AN8: 2 | AO8: VS | AP8: =AL6 -> Les inconnus B | AQ8: =IF(AM8="W","L",IF(AM8="L","W","N")) -> L | AR8: =-AN8 -> -2
B9: T1 | C9: =C8+Paramétrage!$D$26+Paramétrage!$D$27 -> 0.41631944 | E9: =I6 -> Spyk'up A | F9: w | G9: 4 | H9: VS | I9: =E7 -> Les Tengos A | J9: =IF(F9="W","L",IF(F9="L","W","N")) -> L | K9: =-G9 -> -4 | M9: T2 | N9: =C9 -> 0.41631944 | P9: =T6 -> Facilement A | Q9: L | R9: -9 | S9: VS | T9: =P7 -> Les Fisbrmzv A | U9: =IF(Q9="W","L",IF(Q9="L","W","N")) -> W | V9: =-R9 -> 9 | X9: T3 | Y9: =C9 -> 0.41631944 | AA9: =AE6 -> Roue Libre B | AB9: L | AC9: -13 | AD9: VS | AE9: =AA7 -> Spyk'up B | AF9: =IF(AB9="W","L",IF(AB9="L","W","N")) -> W | AG9: =-AC9 -> 13 | AI9: T4 | AJ9: =C9 -> 0.41631944 | AL9: =AP6 -> Floyouyat B | AM9: W | AN9: 16 | AO9: VS | AP9: =AL7 -> Facilement B | AQ9: =IF(AM9="W","L",IF(AM9="L","W","N")) -> L | AR9: =-AN9 -> -16
B10: T1 | C10: =C9+Paramétrage!$D$26+Paramétrage!$D$27 -> 0.42430556 | E10: =E5 -> Roue Libre A | F10: w | G10: 11 | H10: VS | I10: =E6 -> Akatsuki A | J10: =IF(F10="W","L",IF(F10="L","W","N")) -> L | K10: =-G10 -> -11 | M10: T2 | N10: =C10 -> 0.42430556 | P10: =P5 -> Floyouyat A | Q10: L | R10: -13 | S10: VS | T10: =P6 -> Bandanateam A | U10: =IF(Q10="W","L",IF(Q10="L","W","N")) -> W | V10: =-R10 -> 13 | X10: T3 | Y10: =C10 -> 0.42430556 | AA10: =AA5 -> Les Tengos B | AB10: W | AC10: 8 | AD10: VS | AE10: =AA6 -> VitaMines B | AF10: =IF(AB10="W","L",IF(AB10="L","W","N")) -> L | AG10: =-AC10 -> -8 | AI10: T4 | AJ10: =C10 -> 0.42430556 | AL10: =AL5 -> Les Fisbrmzv B | AM10: W | AN10: 21 | AO10: VS | AP10: =AL6 -> Les inconnus B | AQ10: =IF(AM10="W","L",IF(AM10="L","W","N")) -> L | AR10: =-AN10 -> -21
B11: T1 | C11: =C10+Paramétrage!$D$26+Paramétrage!$D$27 -> 0.43229167 | E11: =I5 -> VitaMines A | F11: W | G11: 3 | H11: VS | I11: =I6 -> Spyk'up A | J11: =IF(F11="W","L",IF(F11="L","W","N")) -> L | K11: =-G11 -> -3 | M11: T2 | N11: =C11 -> 0.43229167 | P11: =T5 -> Les inconnus A | Q11: L | R11: -13 | S11: VS | T11: =T6 -> Facilement A | U11: =IF(Q11="W","L",IF(Q11="L","W","N")) -> W | V11: =-R11 -> 13 | X11: T3 | Y11: =C11 -> 0.43229167 | AA11: =AE5 -> Akatsuki B | AB11: W | AC11: 5 | AD11: VS | AE11: =AE6 -> Roue Libre B | AF11: =IF(AB11="W","L",IF(AB11="L","W","N")) -> L | AG11: =-AC11 -> -5 | AI11: T4 | AJ11: =C11 -> 0.43229167 | AL11: =AP5 -> Bandanateam B | AM11: W | AN11: 19 | AO11: VS | AP11: =AP6 -> Floyouyat B | AQ11: =IF(AM11="W","L",IF(AM11="L","W","N")) -> L | AR11: =-AN11 -> -19
B12: T1 | C12: =C11+Paramétrage!$D$26+Paramétrage!$D$27 -> 0.44027778 | E12: =E6 -> Akatsuki A | F12: L | G12: -9 | H12: VS | I12: =E7 -> Les Tengos A | J12: =IF(F12="W","L",IF(F12="L","W","N")) -> W | K12: =-G12 -> 9 | M12: T2 | N12: =C12 -> 0.44027778 | P12: =P6 -> Bandanateam A | Q12: W | R12: 5 | S12: VS | T12: =P7 -> Les Fisbrmzv A | U12: =IF(Q12="W","L",IF(Q12="L","W","N")) -> L | V12: =-R12 -> -5 | X12: T3 | Y12: =C12 -> 0.44027778 | AA12: =AA6 -> VitaMines B | AB12: W | AC12: 9 | AD12: VS | AE12: =AA7 -> Spyk'up B | AF12: =IF(AB12="W","L",IF(AB12="L","W","N")) -> L | AG12: =-AC12 -> -9 | AI12: T4 | AJ12: =C12 -> 0.44027778 | AL12: =AL6 -> Les inconnus B | AM12: W | AN12: 9 | AO12: VS | AP12: =AL7 -> Facilement B | AQ12: =IF(AM12="W","L",IF(AM12="L","W","N")) -> L | AR12: =-AN12 -> -9
B13: T1 | C13: =C12+Paramétrage!$D$26+Paramétrage!$D$27 -> 0.44826389 | E13: =E5 -> Roue Libre A | F13: W | G13: 11 | H13: VS | I13: =I6 -> Spyk'up A | J13: =IF(F13="W","L",IF(F13="L","W","N")) -> L | K13: =-G13 -> -11 | M13: T2 | N13: =C13 -> 0.44826389 | P13: =P5 -> Floyouyat A | Q13: W | R13: 4 | S13: VS | T13: =T6 -> Facilement A | U13: =IF(Q13="W","L",IF(Q13="L","W","N")) -> L | V13: =-R13 -> -4 | X13: T3 | Y13: =C13 -> 0.44826389 | AA13: =AA5 -> Les Tengos B | AB13: W | AC13: 19 | AD13: VS | AE13: =AE6 -> Roue Libre B | AF13: =IF(AB13="W","L",IF(AB13="L","W","N")) -> L | AG13: =-AC13 -> -19 | AI13: T4 | AJ13: =C13 -> 0.44826389 | AL13: =AL5 -> Les Fisbrmzv B | AM13: W | AN13: 3 | AO13: VS | AP13: =AP6 -> Floyouyat B | AQ13: =IF(AM13="W","L",IF(AM13="L","W","N")) -> L | AR13: =-AN13 -> -3
B14: T1 | C14: =C13+Paramétrage!$D$26+Paramétrage!$D$27 -> 0.45625 | E14: =E8 -> VitaMines A | F14: L | G14: -9 | H14: VS | I14: =E7 -> Les Tengos A | J14: =IF(F14="W","L",IF(F14="L","W","N")) -> W | K14: =-G14 -> 9 | M14: T2 | N14: =C14 -> 0.45625 | P14: =P8 -> Les inconnus A | Q14: L | R14: -11 | S14: VS | T14: =P7 -> Les Fisbrmzv A | U14: =IF(Q14="W","L",IF(Q14="L","W","N")) -> W | V14: =-R14 -> 11 | X14: T3 | Y14: =C14 -> 0.45625 | AA14: =AA8 -> Akatsuki B | AB14: N | AC14: 0 | AD14: VS | AE14: =AA7 -> Spyk'up B | AF14: =IF(AB14="W","L",IF(AB14="L","W","N")) -> N | AG14: =-AC14 -> 0 | AI14: T4 | AJ14: =C14 -> 0.45625 | AL14: =AL8 -> Bandanateam B | AM14: W | AN14: 16 | AO14: VS | AP14: =AL7 -> Facilement B | AQ14: =IF(AM14="W","L",IF(AM14="L","W","N")) -> L | AR14: =-AN14 -> -16
C15: =C14+Paramétrage!$D$26+Paramétrage!$D$27 -> 0.46423611 | N15: =C15 -> 0.46423611 | Y15: =C15 -> 0.46423611 | AJ15: =C15 -> 0.46423611
E16: Nom équipe | F16: Pts | G16: Dif. | H16: Clas. | I16: Ne pas toucher | P16: Nom équipe | Q16: Pts | R16: Dif. | S16: Clas. | T16: Ne pas toucher | AA16: Nom équipe | AB16: Pts | AC16: Dif. | AD16: Clas. | AE16: Ne pas toucher | AL16: Nom équipe | AM16: Pts | AN16: Dif. | AO16: Clas. | AP16: Ne pas toucher
E17: =E5 -> Roue Libre A | F17: =(COUNTIFS(J$5:J$14,"w",I$5:I$14,E17)+COUNTIFS(F$5:F$14,"w",E$5:E$14,E17))*Paramétrage!$C$33+(COUNTIFS(J$5:J$14,"N",I$5:I$14,E17)+COUNTIFS(F$5:F$14,"N",E$5:E$14,E17))*Paramétrage!$C$34+(COUNTIFS(J$5:J$14,"L",I$5:I$14,E17)+COUNTIFS(F$5:F$14,"L",E$5:E$14,E17))*Paramétrage!$C$35 -> 12 | G17: =SUMIF(E$5:G$14,E17,G$5:G$14)+SUMIF(I$5:K$14,E17,K$5:K$14) -> 51 | H17: 1 | I17: =E17 -> Roue Libre A | P17: =P5 -> Floyouyat A | Q17: =(COUNTIFS(U$5:U$14,"w",T$5:T$14,P17)+COUNTIFS(Q$5:Q$14,"w",P$5:P$14,P17))*Paramétrage!$C$33+(COUNTIFS(U$5:U$14,"N",T$5:T$14,P17)+COUNTIFS(Q$5:Q$14,"N",P$5:P$14,P17))*Paramétrage!$C$34+(COUNTIFS(U$5:U$14,"L",T$5:T$14,P17)+COUNTIFS(Q$5:Q$14,"L",P$5:P$14,P17))*Paramétrage!$C$35 -> 8 | R17: =SUMIF(P$5:R$14,P17,R$5:R$14)+SUMIF(T$5:V$14,P17,V$5:V$14) -> -18 | S17: 3 | T17: =P17 -> Floyouyat A | Y17: =76+51 -> 127 | AA17: =AA5 -> Les Tengos B | AB17: =(COUNTIFS(AF$5:AF$14,"w",AE$5:AE$14,AA17)+COUNTIFS(AB$5:AB$14,"w",AA$5:AA$14,AA17))*Paramétrage!$C$33+(COUNTIFS(AF$5:AF$14,"N",AE$5:AE$14,AA17)+COUNTIFS(AB$5:AB$14,"N",AA$5:AA$14,AA17))*Paramétrage!$C$34+(COUNTIFS(AF$5:AF$14,"L",AE$5:AE$14,AA17)+COUNTIFS(AB$5:AB$14,"L",AA$5:AA$14,AA17))*Paramétrage!$C$35 -> 12 | AC17: =SUMIF(AA$5:AC$14,AA17,AC$5:AC$14)+SUMIF(AE$5:AG$14,AA17,AG$5:AG$14) -> 73 | AD17: 1 | AE17: =AA17 -> Les Tengos B | AL17: =AL5 -> Les Fisbrmzv B | AM17: =(COUNTIFS(AQ$5:AQ$14,"w",AP$5:AP$14,AL17)+COUNTIFS(AM$5:AM$14,"w",AL$5:AL$14,AL17))*Paramétrage!$C$33+(COUNTIFS(AQ$5:AQ$14,"N",AP$5:AP$14,AL17)+COUNTIFS(AM$5:AM$14,"N",AL$5:AL$14,AL17))*Paramétrage!$C$34+(COUNTIFS(AQ$5:AQ$14,"L",AP$5:AP$14,AL17)+COUNTIFS(AM$5:AM$14,"L",AL$5:AL$14,AL17))*Paramétrage!$C$35 -> 12 | AN17: =SUMIF(AL$5:AN$14,AL17,AN$5:AN$14)+SUMIF(AP$5:AR$14,AL17,AR$5:AR$14) -> 40 | AO17: 1 | AP17: =AL17 -> Les Fisbrmzv B
E18: =E6 -> Akatsuki A | F18: =(COUNTIFS(J$5:J$14,"w",I$5:I$14,E18)+COUNTIFS(F$5:F$14,"w",E$5:E$14,E18))*Paramétrage!$C$33+(COUNTIFS(J$5:J$14,"N",I$5:I$14,E18)+COUNTIFS(F$5:F$14,"N",E$5:E$14,E18))*Paramétrage!$C$34+(COUNTIFS(J$5:J$14,"L",I$5:I$14,E18)+COUNTIFS(F$5:F$14,"L",E$5:E$14,E18))*Paramétrage!$C$35 -> 4 | G18: =SUMIF(E$5:G$14,E18,G$5:G$14)+SUMIF(I$5:K$14,E18,K$5:K$14) -> -43 | H18: 5 | I18: =E18 -> Akatsuki A | P18: =P6 -> Bandanateam A | Q18: =(COUNTIFS(U$5:U$14,"w",T$5:T$14,P18)+COUNTIFS(Q$5:Q$14,"w",P$5:P$14,P18))*Paramétrage!$C$33+(COUNTIFS(U$5:U$14,"N",T$5:T$14,P18)+COUNTIFS(Q$5:Q$14,"N",P$5:P$14,P18))*Paramétrage!$C$34+(COUNTIFS(U$5:U$14,"L",T$5:T$14,P18)+COUNTIFS(Q$5:Q$14,"L",P$5:P$14,P18))*Paramétrage!$C$35 -> 12 | R18: =SUMIF(P$5:R$14,P18,R$5:R$14)+SUMIF(T$5:V$14,P18,V$5:V$14) -> 52 | S18: 1 | T18: =P18 -> Bandanateam A | AA18: =AA6 -> VitaMines B | AB18: =(COUNTIFS(AF$5:AF$14,"w",AE$5:AE$14,AA18)+COUNTIFS(AB$5:AB$14,"w",AA$5:AA$14,AA18))*Paramétrage!$C$33+(COUNTIFS(AF$5:AF$14,"N",AE$5:AE$14,AA18)+COUNTIFS(AB$5:AB$14,"N",AA$5:AA$14,AA18))*Paramétrage!$C$34+(COUNTIFS(AF$5:AF$14,"L",AE$5:AE$14,AA18)+COUNTIFS(AB$5:AB$14,"L",AA$5:AA$14,AA18))*Paramétrage!$C$35 -> 10 | AC18: =SUMIF(AA$5:AC$14,AA18,AC$5:AC$14)+SUMIF(AE$5:AG$14,AA18,AG$5:AG$14) -> 28 | AD18: 2 | AE18: =AA18 -> VitaMines B | AL18: =AL6 -> Les inconnus B | AM18: =(COUNTIFS(AQ$5:AQ$14,"w",AP$5:AP$14,AL18)+COUNTIFS(AM$5:AM$14,"w",AL$5:AL$14,AL18))*Paramétrage!$C$33+(COUNTIFS(AQ$5:AQ$14,"N",AP$5:AP$14,AL18)+COUNTIFS(AM$5:AM$14,"N",AL$5:AL$14,AL18))*Paramétrage!$C$34+(COUNTIFS(AQ$5:AQ$14,"L",AP$5:AP$14,AL18)+COUNTIFS(AM$5:AM$14,"L",AL$5:AL$14,AL18))*Paramétrage!$C$35 -> 8 | AN18: =SUMIF(AL$5:AN$14,AL18,AN$5:AN$14)+SUMIF(AP$5:AR$14,AL18,AR$5:AR$14) -> -12 | AO18: 3 | AP18: =AL18 -> Les inconnus B
E19: =E7 -> Les Tengos A | F19: =(COUNTIFS(J$5:J$14,"w",I$5:I$14,E19)+COUNTIFS(F$5:F$14,"w",E$5:E$14,E19))*Paramétrage!$C$33+(COUNTIFS(J$5:J$14,"N",I$5:I$14,E19)+COUNTIFS(F$5:F$14,"N",E$5:E$14,E19))*Paramétrage!$C$34+(COUNTIFS(J$5:J$14,"L",I$5:I$14,E19)+COUNTIFS(F$5:F$14,"L",E$5:E$14,E19))*Paramétrage!$C$35 -> 8 | G19: =SUMIF(E$5:G$14,E19,G$5:G$14)+SUMIF(I$5:K$14,E19,K$5:K$14) -> 8 | H19: 2 | I19: =E19 -> Les Tengos A | P19: =P7 -> Les Fisbrmzv A | Q19: =(COUNTIFS(U$5:U$14,"w",T$5:T$14,P19)+COUNTIFS(Q$5:Q$14,"w",P$5:P$14,P19))*Paramétrage!$C$33+(COUNTIFS(U$5:U$14,"N",T$5:T$14,P19)+COUNTIFS(Q$5:Q$14,"N",P$5:P$14,P19))*Paramétrage!$C$34+(COUNTIFS(U$5:U$14,"L",T$5:T$14,P19)+COUNTIFS(Q$5:Q$14,"L",P$5:P$14,P19))*Paramétrage!$C$35 -> 10 | R19: =SUMIF(P$5:R$14,P19,R$5:R$14)+SUMIF(T$5:V$14,P19,V$5:V$14) -> 30 | S19: 2 | T19: =P19 -> Les Fisbrmzv A | AA19: =AA7 -> Spyk'up B | AB19: =(COUNTIFS(AF$5:AF$14,"w",AE$5:AE$14,AA19)+COUNTIFS(AB$5:AB$14,"w",AA$5:AA$14,AA19))*Paramétrage!$C$33+(COUNTIFS(AF$5:AF$14,"N",AE$5:AE$14,AA19)+COUNTIFS(AB$5:AB$14,"N",AA$5:AA$14,AA19))*Paramétrage!$C$34+(COUNTIFS(AF$5:AF$14,"L",AE$5:AE$14,AA19)+COUNTIFS(AB$5:AB$14,"L",AA$5:AA$14,AA19))*Paramétrage!$C$35 -> 7 | AC19: =SUMIF(AA$5:AC$14,AA19,AC$5:AC$14)+SUMIF(AE$5:AG$14,AA19,AG$5:AG$14) -> -18 | AD19: 3 | AE19: =AA19 -> Spyk'up B | AL19: =AL7 -> Facilement B | AM19: =(COUNTIFS(AQ$5:AQ$14,"w",AP$5:AP$14,AL19)+COUNTIFS(AM$5:AM$14,"w",AL$5:AL$14,AL19))*Paramétrage!$C$33+(COUNTIFS(AQ$5:AQ$14,"N",AP$5:AP$14,AL19)+COUNTIFS(AM$5:AM$14,"N",AL$5:AL$14,AL19))*Paramétrage!$C$34+(COUNTIFS(AQ$5:AQ$14,"L",AP$5:AP$14,AL19)+COUNTIFS(AM$5:AM$14,"L",AL$5:AL$14,AL19))*Paramétrage!$C$35 -> 4 | AN19: =SUMIF(AL$5:AN$14,AL19,AN$5:AN$14)+SUMIF(AP$5:AR$14,AL19,AR$5:AR$14) -> -53 | AO19: 5 | AP19: =AL19 -> Facilement B
E20: =I5 -> VitaMines A | F20: =(COUNTIFS(J$5:J$14,"w",I$5:I$14,E20)+COUNTIFS(F$5:F$14,"w",E$5:E$14,E20))*Paramétrage!$C$33+(COUNTIFS(J$5:J$14,"N",I$5:I$14,E20)+COUNTIFS(F$5:F$14,"N",E$5:E$14,E20))*Paramétrage!$C$34+(COUNTIFS(J$5:J$14,"L",I$5:I$14,E20)+COUNTIFS(F$5:F$14,"L",E$5:E$14,E20))*Paramétrage!$C$35 -> 8 | G20: =SUMIF(E$5:G$14,E20,G$5:G$14)+SUMIF(I$5:K$14,E20,K$5:K$14) -> -12 | H20: 4 | I20: =E20 -> VitaMines A | P20: =T5 -> Les inconnus A | Q20: =(COUNTIFS(U$5:U$14,"w",T$5:T$14,P20)+COUNTIFS(Q$5:Q$14,"w",P$5:P$14,P20))*Paramétrage!$C$33+(COUNTIFS(U$5:U$14,"N",T$5:T$14,P20)+COUNTIFS(Q$5:Q$14,"N",P$5:P$14,P20))*Paramétrage!$C$34+(COUNTIFS(U$5:U$14,"L",T$5:T$14,P20)+COUNTIFS(Q$5:Q$14,"L",P$5:P$14,P20))*Paramétrage!$C$35 -> 4 | R20: =SUMIF(P$5:R$14,P20,R$5:R$14)+SUMIF(T$5:V$14,P20,V$5:V$14) -> -44 | S20: 5 | T20: =P20 -> Les inconnus A | AA20: =AE5 -> Akatsuki B | AB20: =(COUNTIFS(AF$5:AF$14,"w",AE$5:AE$14,AA20)+COUNTIFS(AB$5:AB$14,"w",AA$5:AA$14,AA20))*Paramétrage!$C$33+(COUNTIFS(AF$5:AF$14,"N",AE$5:AE$14,AA20)+COUNTIFS(AB$5:AB$14,"N",AA$5:AA$14,AA20))*Paramétrage!$C$34+(COUNTIFS(AF$5:AF$14,"L",AE$5:AE$14,AA20)+COUNTIFS(AB$5:AB$14,"L",AA$5:AA$14,AA20))*Paramétrage!$C$35 -> 7 | AC20: =SUMIF(AA$5:AC$14,AA20,AC$5:AC$14)+SUMIF(AE$5:AG$14,AA20,AG$5:AG$14) -> -29 | AD20: 4 | AE20: =AA20 -> Akatsuki B | AL20: =AP5 -> Bandanateam B | AM20: =(COUNTIFS(AQ$5:AQ$14,"w",AP$5:AP$14,AL20)+COUNTIFS(AM$5:AM$14,"w",AL$5:AL$14,AL20))*Paramétrage!$C$33+(COUNTIFS(AQ$5:AQ$14,"N",AP$5:AP$14,AL20)+COUNTIFS(AM$5:AM$14,"N",AL$5:AL$14,AL20))*Paramétrage!$C$34+(COUNTIFS(AQ$5:AQ$14,"L",AP$5:AP$14,AL20)+COUNTIFS(AM$5:AM$14,"L",AL$5:AL$14,AL20))*Paramétrage!$C$35 -> 10 | AN20: =SUMIF(AL$5:AN$14,AL20,AN$5:AN$14)+SUMIF(AP$5:AR$14,AL20,AR$5:AR$14) -> 33 | AO20: 2 | AP20: =AL20 -> Bandanateam B
E21: =I6 -> Spyk'up A | F21: =(COUNTIFS(J$5:J$14,"w",I$5:I$14,E21)+COUNTIFS(F$5:F$14,"w",E$5:E$14,E21))*Paramétrage!$C$33+(COUNTIFS(J$5:J$14,"N",I$5:I$14,E21)+COUNTIFS(F$5:F$14,"N",E$5:E$14,E21))*Paramétrage!$C$34+(COUNTIFS(J$5:J$14,"L",I$5:I$14,E21)+COUNTIFS(F$5:F$14,"L",E$5:E$14,E21))*Paramétrage!$C$35 -> 8 | G21: =SUMIF(E$5:G$14,E21,G$5:G$14)+SUMIF(I$5:K$14,E21,K$5:K$14) -> -4 | H21: 3 | I21: =E21 -> Spyk'up A | P21: =T6 -> Facilement A | Q21: =(COUNTIFS(U$5:U$14,"w",T$5:T$14,P21)+COUNTIFS(Q$5:Q$14,"w",P$5:P$14,P21))*Paramétrage!$C$33+(COUNTIFS(U$5:U$14,"N",T$5:T$14,P21)+COUNTIFS(Q$5:Q$14,"N",P$5:P$14,P21))*Paramétrage!$C$34+(COUNTIFS(U$5:U$14,"L",T$5:T$14,P21)+COUNTIFS(Q$5:Q$14,"L",P$5:P$14,P21))*Paramétrage!$C$35 -> 6 | R21: =SUMIF(P$5:R$14,P21,R$5:R$14)+SUMIF(T$5:V$14,P21,V$5:V$14) -> -20 | S21: 4 | T21: =P21 -> Facilement A | AA21: =AE6 -> Roue Libre B | AB21: =(COUNTIFS(AF$5:AF$14,"w",AE$5:AE$14,AA21)+COUNTIFS(AB$5:AB$14,"w",AA$5:AA$14,AA21))*Paramétrage!$C$33+(COUNTIFS(AF$5:AF$14,"N",AE$5:AE$14,AA21)+COUNTIFS(AB$5:AB$14,"N",AA$5:AA$14,AA21))*Paramétrage!$C$34+(COUNTIFS(AF$5:AF$14,"L",AE$5:AE$14,AA21)+COUNTIFS(AB$5:AB$14,"L",AA$5:AA$14,AA21))*Paramétrage!$C$35 -> 4 | AC21: =SUMIF(AA$5:AC$14,AA21,AC$5:AC$14)+SUMIF(AE$5:AG$14,AA21,AG$5:AG$14) -> -54 | AD21: 5 | AE21: =AA21 -> Roue Libre B | AL21: =AP6 -> Floyouyat B | AM21: =(COUNTIFS(AQ$5:AQ$14,"w",AP$5:AP$14,AL21)+COUNTIFS(AM$5:AM$14,"w",AL$5:AL$14,AL21))*Paramétrage!$C$33+(COUNTIFS(AQ$5:AQ$14,"N",AP$5:AP$14,AL21)+COUNTIFS(AM$5:AM$14,"N",AL$5:AL$14,AL21))*Paramétrage!$C$34+(COUNTIFS(AQ$5:AQ$14,"L",AP$5:AP$14,AL21)+COUNTIFS(AM$5:AM$14,"L",AL$5:AL$14,AL21))*Paramétrage!$C$35 -> 6 | AN21: =SUMIF(AL$5:AN$14,AL21,AN$5:AN$14)+SUMIF(AP$5:AR$14,AL21,AR$5:AR$14) -> -8 | AO21: 4 | AP21: =AL21 -> Floyouyat B
E33: POULE E | P33: POULE F | AA33: POULE G | AL33: POULE H
E34: =Paramétrage!$F$9 -> Bandanateam A | I34: =Paramétrage!$G$12 -> Facilement B
E35: Nom équipe | F35: W/L | G35: Dif. | I35: Nom équipe | J35: W/L | K35: Dif. | P35: Nom équipe | Q35: W/L | R35: Dif. | T35: Nom équipe | U35: W/L | V35: Dif. | AA35: Nom équipe | AB35: W/L | AC35: Dif. | AE35: Nom équipe | AF35: W/L | AG35: Dif. | AL35: Nom équipe | AM35: W/L | AN35: Dif. | AP35: Nom équipe | AQ35: W/L | AR35: Dif.
B36: T1 | C36: =C15+Paramétrage!$D$26+Paramétrage!$D$27 -> 0.47222222 | E36: =Paramétrage!$F$13 -> Waral A | F36: W | G36: 6 | H36: VS | I36: =Paramétrage!$F$16 -> Téléteubiloutes A | J36: =IF(F36="W","L",IF(F36="L","W","N")) -> L | K36: =-G36 -> -6 | M36: T2 | N36: =C36 -> 0.47222222 | P36: =Paramétrage!$F$18 -> Pooldeads A | Q36: L | R36: -1 | S36: VS | T36: =Paramétrage!$F$21 -> Les torcheurs A | U36: =IF(Q36="W","L",IF(Q36="L","W","N")) -> W | V36: =-R36 -> 1 | X36: T3 | Y36: =C36 -> 0.47222222 | AA36: =Paramétrage!$G$15 -> Gett'up B | AB36: L | AC36: -15 | AD36: VS | AE36: =Paramétrage!$G$14 -> Bayer les verres culs sec B | AF36: =IF(AB36="W","L",IF(AB36="L","W","N")) -> W | AG36: =-AC36 -> 15 | AI36: T4 | AJ36: =C36 -> 0.47222222 | AL36: =Paramétrage!$G$20 -> Blockudoku B | AM36: W | AN36: 13 | AO36: VS | AP36: =Paramétrage!$G$19 -> Lazio de Rhum B | AQ36: =IF(AM36="W","L",IF(AM36="L","W","N")) -> L | AR36: =-AN36 -> -13
B37: T1 | C37: =C36+Paramétrage!$D$26+Paramétrage!$D$27 -> 0.48020833 | E37: =Paramétrage!$F$14 -> Bayer les verres culs sec A | F37: L | G37: -17 | H37: VS | I37: =Paramétrage!$F$17 -> Celtics Grave Gros A | J37: =IF(F37="W","L",IF(F37="L","W","N")) -> W | K37: =-G37 -> 17 | M37: T2 | N37: =C37 -> 0.48020833 | P37: =Paramétrage!$F$19 -> Lazio de Rhum A | Q37: L | R37: -19 | S37: VS | T37: =Paramétrage!$F$22 -> L'aile ou la cuite A | U37: =IF(Q37="W","L",IF(Q37="L","W","N")) -> W | V37: =-R37 -> 19 | X37: T3 | Y37: =C37 -> 0.48020833 | AA37: =Paramétrage!$G$16 -> Téléteubiloutes B | AB37: L | AC37: -15 | AD37: VS | AE37: =Paramétrage!$G$13 -> Waral B | AF37: =IF(AB37="W","L",IF(AB37="L","W","N")) -> W | AG37: =-AC37 -> 15 | AI37: T4 | AJ37: =C37 -> 0.48020833 | AL37: =Paramétrage!$G$21 -> Les torcheurs B | AM37: L | AN37: -1 | AO37: VS | AP37: =Paramétrage!$G$18 -> Pooldeads B | AQ37: =IF(AM37="W","L",IF(AM37="L","W","N")) -> W | AR37: =-AN37 -> 1
B38: T1 | C38: =C37+Paramétrage!$D$26+Paramétrage!$D$27 -> 0.48819444 | E38: =Paramétrage!$F$15 -> Gett'up A | F38: L | G38: -14 | H38: VS | I38: =+E36 -> Waral A | J38: =IF(F38="W","L",IF(F38="L","W","N")) -> W | K38: =-G38 -> 14 | M38: T2 | N38: =C38 -> 0.48819444 | P38: =Paramétrage!$F$20 -> Blockudoku A | Q38: L | R38: -18 | S38: VS | T38: =+P36 -> Pooldeads A | U38: =IF(Q38="W","L",IF(Q38="L","W","N")) -> W | V38: =-R38 -> 18 | X38: T3 | Y38: =C38 -> 0.48819444 | AA38: =Paramétrage!$G$17 -> Celtics Grave Gros B | AB38: W | AC38: 18 | AD38: VS | AE38: =+AA36 -> Gett'up B | AF38: =IF(AB38="W","L",IF(AB38="L","W","N")) -> L | AG38: =-AC38 -> -18 | AI38: T4 | AJ38: =C38 -> 0.48819444 | AL38: =Paramétrage!$G$22 -> L'aile ou la cuite B | AM38: L | AN38: -6 | AO38: VS | AP38: =+AL36 -> Blockudoku B | AQ38: =IF(AM38="W","L",IF(AM38="L","W","N")) -> W | AR38: =-AN38 -> 6
B39: T1 | C39: =C38+Paramétrage!$D$26+Paramétrage!$D$27 -> 0.49618056 | E39: =+I36 -> Téléteubiloutes A | F39: W | G39: 9 | H39: VS | I39: =E37 -> Bayer les verres culs sec A | J39: =IF(F39="W","L",IF(F39="L","W","N")) -> L | K39: =-G39 -> -9 | M39: T2 | N39: =C39 -> 0.49618056 | P39: =+T36 -> Les torcheurs A | Q39: W | R39: 13 | S39: VS | T39: =P37 -> Lazio de Rhum A | U39: =IF(Q39="W","L",IF(Q39="L","W","N")) -> L | V39: =-R39 -> -13 | X39: T3 | Y39: =C39 -> 0.49618056 | AA39: =+AE36 -> Bayer les verres culs sec B | AB39: W | AC39: 7 | AD39: VS | AE39: =AA37 -> Téléteubiloutes B | AF39: =IF(AB39="W","L",IF(AB39="L","W","N")) -> L | AG39: =-AC39 -> -7 | AI39: T4 | AJ39: =C39 -> 0.49618056 | AL39: =+AP36 -> Lazio de Rhum B | AM39: L | AN39: -8 | AO39: VS | AP39: =AL37 -> Les torcheurs B | AQ39: =IF(AM39="W","L",IF(AM39="L","W","N")) -> W | AR39: =-AN39 -> 8
B40: T1 | C40: =C39+Paramétrage!$D$26+Paramétrage!$D$27 -> 0.50416667 | E40: =I37 -> Celtics Grave Gros A | F40: W | G40: 16 | H40: VS | I40: =E38 -> Gett'up A | J40: =IF(F40="W","L",IF(F40="L","W","N")) -> L | K40: =-G40 -> -16 | M40: T2 | N40: =C40 -> 0.50416667 | P40: =T37 -> L'aile ou la cuite A | Q40: W | R40: 18 | S40: VS | T40: =P38 -> Blockudoku A | U40: =IF(Q40="W","L",IF(Q40="L","W","N")) -> L | V40: =-R40 -> -18 | X40: T1 | Y40: =C46 -> 0.55208333 | AA40: =AE37 -> Waral B | AB40: W | AC40: 5 | AD40: VS | AE40: =AA38 -> Celtics Grave Gros B | AF40: =IF(AB40="W","L",IF(AB40="L","W","N")) -> L | AG40: =-AC40 -> -5 | AI40: T2 | AJ40: =Y40 -> 0.55208333 | AL40: =AP37 -> Pooldeads B | AM40: L | AN40: -7 | AO40: VS | AP40: =AL38 -> L'aile ou la cuite B | AQ40: =IF(AM40="W","L",IF(AM40="L","W","N")) -> W | AR40: =-AN40 -> 7
B41: T1 | C41: =C40+Paramétrage!$D$26+Paramétrage!$D$27 -> 0.51215278 | E41: =E36 -> Waral A | F41: W | G41: 10 | H41: VS | I41: =E37 -> Bayer les verres culs sec A | J41: =IF(F41="W","L",IF(F41="L","W","N")) -> L | K41: =-G41 -> -10 | M41: T2 | N41: =C41 -> 0.51215278 | P41: =P36 -> Pooldeads A | Q41: W | R41: 15 | S41: VS | T41: =P37 -> Lazio de Rhum A | U41: =IF(Q41="W","L",IF(Q41="L","W","N")) -> L | V41: =-R41 -> -15 | X41: T1 | Y41: =Y40+Paramétrage!$D$26+Paramétrage!$D$27 -> 0.56006944 | AA41: =AA36 -> Gett'up B | AB41: L | AC41: -7 | AD41: VS | AE41: =AA37 -> Téléteubiloutes B | AF41: =IF(AB41="W","L",IF(AB41="L","W","N")) -> W | AG41: =-AC41 -> 7 | AI41: T2 | AJ41: =AJ40+Paramétrage!$D$26+Paramétrage!$D$27 -> 0.56006944 | AL41: =AL36 -> Blockudoku B | AM41: W | AN41: 10 | AO41: VS | AP41: =AL37 -> Les torcheurs B | AQ41: =IF(AM41="W","L",IF(AM41="L","W","N")) -> L | AR41: =-AN41 -> -10
B42: T1 | C42: =C41+Paramétrage!$D$26+Paramétrage!$D$27 -> 0.52013889 | E42: =I36 -> Téléteubiloutes A | F42: L | G42: -1 | H42: VS | I42: =I37 -> Celtics Grave Gros A | J42: =IF(F42="W","L",IF(F42="L","W","N")) -> W | K42: =-G42 -> 1 | M42: T2 | N42: =C42 -> 0.52013889 | P42: =T36 -> Les torcheurs A | Q42: L | R42: -8 | S42: VS | T42: =T37 -> L'aile ou la cuite A | U42: =IF(Q42="W","L",IF(Q42="L","W","N")) -> W | V42: =-R42 -> 8 | X42: T1 | Y42: =Y41+Paramétrage!$D$26+Paramétrage!$D$27 -> 0.56805556 | AA42: =AE36 -> Bayer les verres culs sec B | AB42: n | AC42: 0 | AD42: VS | AE42: =AE37 -> Waral B | AF42: =IF(AB42="W","L",IF(AB42="L","W","N")) -> N | AG42: =-AC42 -> 0 | AI42: T2 | AJ42: =AJ41+Paramétrage!$D$26+Paramétrage!$D$27 -> 0.56805556 | AL42: =AP36 -> Lazio de Rhum B | AM42: W | AN42: 10 | AO42: VS | AP42: =AP37 -> Pooldeads B | AQ42: =IF(AM42="W","L",IF(AM42="L","W","N")) -> L | AR42: =-AN42 -> -10
B43: T1 | C43: =C42+Paramétrage!$D$26+Paramétrage!$D$27 -> 0.528125 | E43: =E37 -> Bayer les verres culs sec A | F43: W | G43: 8 | H43: VS | I43: =E38 -> Gett'up A | J43: =IF(F43="W","L",IF(F43="L","W","N")) -> L | K43: =-G43 -> -8 | M43: T2 | N43: =C43 -> 0.528125 | P43: =P37 -> Lazio de Rhum A | Q43: L | R43: -16 | S43: VS | T43: =P38 -> Blockudoku A | U43: =IF(Q43="W","L",IF(Q43="L","W","N")) -> W | V43: =-R43 -> 16 | X43: T1 | Y43: =Y42+Paramétrage!$D$26+Paramétrage!$D$27 -> 0.57604167 | AA43: =AA37 -> Téléteubiloutes B | AB43: L | AC43: -5 | AD43: VS | AE43: =AA38 -> Celtics Grave Gros B | AF43: =IF(AB43="W","L",IF(AB43="L","W","N")) -> W | AG43: =-AC43 -> 5 | AI43: T2 | AJ43: =AJ42+Paramétrage!$D$26+Paramétrage!$D$27 -> 0.57604167 | AL43: =AL37 -> Les torcheurs B | AM43: L | AN43: -9 | AO43: VS | AP43: =AL38 -> L'aile ou la cuite B | AQ43: =IF(AM43="W","L",IF(AM43="L","W","N")) -> W | AR43: =-AN43 -> 9
B44: T1 | C44: =C43+Paramétrage!$D$26+Paramétrage!$D$27 -> 0.53611111 | E44: =E36 -> Waral A | F44: L | G44: -5 | H44: VS | I44: =I37 -> Celtics Grave Gros A | J44: =IF(F44="W","L",IF(F44="L","W","N")) -> W | K44: =-G44 -> 5 | M44: T2 | N44: =C44 -> 0.53611111 | P44: =P36 -> Pooldeads A | Q44: L | R44: -15 | S44: VS | T44: =T37 -> L'aile ou la cuite A | U44: =IF(Q44="W","L",IF(Q44="L","W","N")) -> W | V44: =-R44 -> 15 | X44: T1 | Y44: =Y43+Paramétrage!$D$26+Paramétrage!$D$27 -> 0.58402778 | AA44: =AA36 -> Gett'up B | AB44: L | AC44: -22 | AD44: VS | AE44: =AE37 -> Waral B | AF44: =IF(AB44="W","L",IF(AB44="L","W","N")) -> W | AG44: 22 | AI44: T2 | AJ44: =AJ43+Paramétrage!$D$26+Paramétrage!$D$27 -> 0.58402778 | AL44: =AL36 -> Blockudoku B | AM44: w | AN44: 17 | AO44: VS | AP44: =AP37 -> Pooldeads B | AQ44: =IF(AM44="W","L",IF(AM44="L","W","N")) -> L | AR44: =-AN44 -> -17
B45: T1 | C45: =C44+Paramétrage!$D$26+Paramétrage!$D$27 -> 0.54409722 | E45: =E39 -> Téléteubiloutes A | F45: W | G45: 16 | H45: VS | I45: =E38 -> Gett'up A | J45: =IF(F45="W","L",IF(F45="L","W","N")) -> L | K45: =-G45 -> -16 | M45: T2 | N45: =C45 -> 0.54409722 | P45: =P39 -> Les torcheurs A | Q45: W | R45: 16 | S45: VS | T45: =P38 -> Blockudoku A | U45: =IF(Q45="W","L",IF(Q45="L","W","N")) -> L | V45: =-R45 -> -16 | X45: T1 | Y45: =Y44+Paramétrage!$D$26+Paramétrage!$D$27 -> 0.59201389 | AA45: =AA39 -> Bayer les verres culs sec B | AB45: w | AC45: 1 | AD45: VS | AE45: =AA38 -> Celtics Grave Gros B | AF45: =IF(AB45="W","L",IF(AB45="L","W","N")) -> L | AG45: =-AC45 -> -1 | AI45: T2 | AJ45: =AJ44+Paramétrage!$D$26+Paramétrage!$D$27 -> 0.59201389 | AL45: =AL39 -> Lazio de Rhum B | AM45: L | AN45: -20 | AO45: VS | AP45: =AL38 -> L'aile ou la cuite B | AQ45: =IF(AM45="W","L",IF(AM45="L","W","N")) -> W | AR45: =-AN45 -> 20
C46: =C45+Paramétrage!$D$26+Paramétrage!$D$27 -> 0.55208333 | N46: =C46 -> 0.55208333 | Y46: =Y45+Paramétrage!$D$26+Paramétrage!$D$27 -> 0.6 | AJ46: =AJ45+Paramétrage!$D$26+Paramétrage!$D$27 -> 0.6
E47: Nom équipe | F47: Pts | G47: Dif. | H47: Clas. | I47: Ne pas toucher | P47: Nom équipe | Q47: Pts | R47: Dif. | S47: Clas. | T47: Ne pas toucher | AA47: Nom équipe | AB47: Pts | AC47: Dif. | AD47: Clas. | AE47: Ne pas toucher | AL47: Nom équipe | AM47: Pts | AN47: Dif. | AO47: Clas. | AP47: Ne pas toucher
E48: =E36 -> Waral A | F48: =(COUNTIFS(J$36:J$45,"w",I$36:I$45,E48)+COUNTIFS(F$36:F$45,"w",E$36:E$45,E48))*Paramétrage!$C$33+(COUNTIFS(J$36:J$45,"N",I$36:I$45,E48)+COUNTIFS(F$36:F$45,"N",E$36:E$45,E48))*Paramétrage!$C$34+(COUNTIFS(J$36:J$45,"L",I$36:I$45,E48)+COUNTIFS(F$36:F$45,"L",E$36:E$45,E48))*Paramétrage!$C$35 -> 10 | G48: =SUMIF(E$36:G$45,E48,G$36:G$45)+SUMIF(I$36:K$45,E48,K$36:K$45) -> 25 | H48: 2 | I48: =E48 -> Waral A | P48: =P36 -> Pooldeads A | Q48: =(COUNTIFS(U$36:U$45,"w",T$36:T$45,P48)+COUNTIFS(Q$36:Q$45,"w",P$36:P$45,P48))*Paramétrage!$C$33+(COUNTIFS(U$36:U$45,"N",T$36:T$45,P48)+COUNTIFS(Q$36:Q$45,"N",P$36:P$45,P48))*Paramétrage!$C$34+(COUNTIFS(U$36:U$45,"L",T$36:T$45,P48)+COUNTIFS(Q$36:Q$45,"L",P$36:P$45,P48))*Paramétrage!$C$35 -> 8 | R48: =SUMIF(P$36:R$45,P48,R$36:R$45)+SUMIF(T$36:V$45,P48,V$36:V$45) -> 17 | S48: 3 | T48: =P48 -> Pooldeads A | AA48: =AA36 -> Gett'up B | AB48: =(COUNTIFS(AF$36:AF$45,"w",AE$36:AE$45,AA48)+COUNTIFS(AB$36:AB$45,"w",AA$36:AA$45,AA48))*Paramétrage!$C$33+(COUNTIFS(AF$36:AF$45,"N",AE$36:AE$45,AA48)+COUNTIFS(AB$36:AB$45,"N",AA$36:AA$45,AA48))*Paramétrage!$C$34+(COUNTIFS(AF$36:AF$45,"L",AE$36:AE$45,AA48)+COUNTIFS(AB$36:AB$45,"L",AA$36:AA$45,AA48))*Paramétrage!$C$35 -> 4 | AC48: =SUMIF(AA$36:AC$45,AA48,AC$36:AC$45)+SUMIF(AE$36:AG$45,AA48,AG$36:AG$45) -> -62 | AD48: 5 | AE48: =AA48 -> Gett'up B | AL48: =AL36 -> Blockudoku B | AM48: =(COUNTIFS(AQ$36:AQ$45,"w",AP$36:AP$45,AL48)+COUNTIFS(AM$36:AM$45,"w",AL$36:AL$45,AL48))*Paramétrage!$C$33+(COUNTIFS(AQ$36:AQ$45,"N",AP$36:AP$45,AL48)+COUNTIFS(AM$36:AM$45,"N",AL$36:AL$45,AL48))*Paramétrage!$C$34+(COUNTIFS(AQ$36:AQ$45,"L",AP$36:AP$45,AL48)+COUNTIFS(AM$36:AM$45,"L",AL$36:AL$45,AL48))*Paramétrage!$C$35 -> 12 | AN48: =SUMIF(AL$36:AN$45,AL48,AN$36:AN$45)+SUMIF(AP$36:AR$45,AL48,AR$36:AR$45) -> 46 | AO48: 1 | AP48: =AL48 -> Blockudoku B
E49: =E37 -> Bayer les verres culs sec A | F49: =(COUNTIFS(J$36:J$45,"w",I$36:I$45,E49)+COUNTIFS(F$36:F$45,"w",E$36:E$45,E49))*Paramétrage!$C$33+(COUNTIFS(J$36:J$45,"N",I$36:I$45,E49)+COUNTIFS(F$36:F$45,"N",E$36:E$45,E49))*Paramétrage!$C$34+(COUNTIFS(J$36:J$45,"L",I$36:I$45,E49)+COUNTIFS(F$36:F$45,"L",E$36:E$45,E49))*Paramétrage!$C$35 -> 6 | G49: =SUMIF(E$36:G$45,E49,G$36:G$45)+SUMIF(I$36:K$45,E49,K$36:K$45) -> -28 | H49: 4 | I49: =E49 -> Bayer les verres culs sec A | P49: =P37 -> Lazio de Rhum A | Q49: =(COUNTIFS(U$36:U$45,"w",T$36:T$45,P49)+COUNTIFS(Q$36:Q$45,"w",P$36:P$45,P49))*Paramétrage!$C$33+(COUNTIFS(U$36:U$45,"N",T$36:T$45,P49)+COUNTIFS(Q$36:Q$45,"N",P$36:P$45,P49))*Paramétrage!$C$34+(COUNTIFS(U$36:U$45,"L",T$36:T$45,P49)+COUNTIFS(Q$36:Q$45,"L",P$36:P$45,P49))*Paramétrage!$C$35 -> 4 | R49: =SUMIF(P$36:R$45,P49,R$36:R$45)+SUMIF(T$36:V$45,P49,V$36:V$45) -> -63 | S49: 5 | T49: =P49 -> Lazio de Rhum A | AA49: =AA37 -> Téléteubiloutes B | AB49: =(COUNTIFS(AF$36:AF$45,"w",AE$36:AE$45,AA49)+COUNTIFS(AB$36:AB$45,"w",AA$36:AA$45,AA49))*Paramétrage!$C$33+(COUNTIFS(AF$36:AF$45,"N",AE$36:AE$45,AA49)+COUNTIFS(AB$36:AB$45,"N",AA$36:AA$45,AA49))*Paramétrage!$C$34+(COUNTIFS(AF$36:AF$45,"L",AE$36:AE$45,AA49)+COUNTIFS(AB$36:AB$45,"L",AA$36:AA$45,AA49))*Paramétrage!$C$35 -> 6 | AC49: =SUMIF(AA$36:AC$45,AA49,AC$36:AC$45)+SUMIF(AE$36:AG$45,AA49,AG$36:AG$45) -> -20 | AD49: 4 | AE49: =AA49 -> Téléteubiloutes B | AL49: =AL37 -> Les torcheurs B | AM49: =(COUNTIFS(AQ$36:AQ$45,"w",AP$36:AP$45,AL49)+COUNTIFS(AM$36:AM$45,"w",AL$36:AL$45,AL49))*Paramétrage!$C$33+(COUNTIFS(AQ$36:AQ$45,"N",AP$36:AP$45,AL49)+COUNTIFS(AM$36:AM$45,"N",AL$36:AL$45,AL49))*Paramétrage!$C$34+(COUNTIFS(AQ$36:AQ$45,"L",AP$36:AP$45,AL49)+COUNTIFS(AM$36:AM$45,"L",AL$36:AL$45,AL49))*Paramétrage!$C$35 -> 6 | AN49: =SUMIF(AL$36:AN$45,AL49,AN$36:AN$45)+SUMIF(AP$36:AR$45,AL49,AR$36:AR$45) -> -12 | AO49: 3 | AP49: =AL49 -> Les torcheurs B
E50: =E38 -> Gett'up A | F50: =(COUNTIFS(J$36:J$45,"w",I$36:I$45,E50)+COUNTIFS(F$36:F$45,"w",E$36:E$45,E50))*Paramétrage!$C$33+(COUNTIFS(J$36:J$45,"N",I$36:I$45,E50)+COUNTIFS(F$36:F$45,"N",E$36:E$45,E50))*Paramétrage!$C$34+(COUNTIFS(J$36:J$45,"L",I$36:I$45,E50)+COUNTIFS(F$36:F$45,"L",E$36:E$45,E50))*Paramétrage!$C$35 -> 4 | G50: =SUMIF(E$36:G$45,E50,G$36:G$45)+SUMIF(I$36:K$45,E50,K$36:K$45) -> -54 | H50: 5 | I50: =E50 -> Gett'up A | P50: =P38 -> Blockudoku A | Q50: =(COUNTIFS(U$36:U$45,"w",T$36:T$45,P50)+COUNTIFS(Q$36:Q$45,"w",P$36:P$45,P50))*Paramétrage!$C$33+(COUNTIFS(U$36:U$45,"N",T$36:T$45,P50)+COUNTIFS(Q$36:Q$45,"N",P$36:P$45,P50))*Paramétrage!$C$34+(COUNTIFS(U$36:U$45,"L",T$36:T$45,P50)+COUNTIFS(Q$36:Q$45,"L",P$36:P$45,P50))*Paramétrage!$C$35 -> 6 | R50: =SUMIF(P$36:R$45,P50,R$36:R$45)+SUMIF(T$36:V$45,P50,V$36:V$45) -> -36 | S50: 4 | T50: =P50 -> Blockudoku A | AA50: =AA38 -> Celtics Grave Gros B | AB50: =(COUNTIFS(AF$36:AF$45,"w",AE$36:AE$45,AA50)+COUNTIFS(AB$36:AB$45,"w",AA$36:AA$45,AA50))*Paramétrage!$C$33+(COUNTIFS(AF$36:AF$45,"N",AE$36:AE$45,AA50)+COUNTIFS(AB$36:AB$45,"N",AA$36:AA$45,AA50))*Paramétrage!$C$34+(COUNTIFS(AF$36:AF$45,"L",AE$36:AE$45,AA50)+COUNTIFS(AB$36:AB$45,"L",AA$36:AA$45,AA50))*Paramétrage!$C$35 -> 8 | AC50: =SUMIF(AA$36:AC$45,AA50,AC$36:AC$45)+SUMIF(AE$36:AG$45,AA50,AG$36:AG$45) -> 17 | AD50: 3 | AE50: =AA50 -> Celtics Grave Gros B | AL50: =AL38 -> L'aile ou la cuite B | AM50: =(COUNTIFS(AQ$36:AQ$45,"w",AP$36:AP$45,AL50)+COUNTIFS(AM$36:AM$45,"w",AL$36:AL$45,AL50))*Paramétrage!$C$33+(COUNTIFS(AQ$36:AQ$45,"N",AP$36:AP$45,AL50)+COUNTIFS(AM$36:AM$45,"N",AL$36:AL$45,AL50))*Paramétrage!$C$34+(COUNTIFS(AQ$36:AQ$45,"L",AP$36:AP$45,AL50)+COUNTIFS(AM$36:AM$45,"L",AL$36:AL$45,AL50))*Paramétrage!$C$35 -> 10 | AN50: =SUMIF(AL$36:AN$45,AL50,AN$36:AN$45)+SUMIF(AP$36:AR$45,AL50,AR$36:AR$45) -> 30 | AO50: 2 | AP50: =AL50 -> L'aile ou la cuite B
E51: =I36 -> Téléteubiloutes A | F51: =(COUNTIFS(J$36:J$45,"w",I$36:I$45,E51)+COUNTIFS(F$36:F$45,"w",E$36:E$45,E51))*Paramétrage!$C$33+(COUNTIFS(J$36:J$45,"N",I$36:I$45,E51)+COUNTIFS(F$36:F$45,"N",E$36:E$45,E51))*Paramétrage!$C$34+(COUNTIFS(J$36:J$45,"L",I$36:I$45,E51)+COUNTIFS(F$36:F$45,"L",E$36:E$45,E51))*Paramétrage!$C$35 -> 8 | G51: =SUMIF(E$36:G$45,E51,G$36:G$45)+SUMIF(I$36:K$45,E51,K$36:K$45) -> 18 | H51: 3 | I51: =E51 -> Téléteubiloutes A | P51: =T36 -> Les torcheurs A | Q51: =(COUNTIFS(U$36:U$45,"w",T$36:T$45,P51)+COUNTIFS(Q$36:Q$45,"w",P$36:P$45,P51))*Paramétrage!$C$33+(COUNTIFS(U$36:U$45,"N",T$36:T$45,P51)+COUNTIFS(Q$36:Q$45,"N",P$36:P$45,P51))*Paramétrage!$C$34+(COUNTIFS(U$36:U$45,"L",T$36:T$45,P51)+COUNTIFS(Q$36:Q$45,"L",P$36:P$45,P51))*Paramétrage!$C$35 -> 10 | R51: =SUMIF(P$36:R$45,P51,R$36:R$45)+SUMIF(T$36:V$45,P51,V$36:V$45) -> 22 | S51: 2 | T51: =P51 -> Les torcheurs A | AA51: =AE36 -> Bayer les verres culs sec B | AB51: =(COUNTIFS(AF$36:AF$45,"w",AE$36:AE$45,AA51)+COUNTIFS(AB$36:AB$45,"w",AA$36:AA$45,AA51))*Paramétrage!$C$33+(COUNTIFS(AF$36:AF$45,"N",AE$36:AE$45,AA51)+COUNTIFS(AB$36:AB$45,"N",AA$36:AA$45,AA51))*Paramétrage!$C$34+(COUNTIFS(AF$36:AF$45,"L",AE$36:AE$45,AA51)+COUNTIFS(AB$36:AB$45,"L",AA$36:AA$45,AA51))*Paramétrage!$C$35 -> 11 | AC51: =SUMIF(AA$36:AC$45,AA51,AC$36:AC$45)+SUMIF(AE$36:AG$45,AA51,AG$36:AG$45) -> 23 | AD51: 2 | AE51: =AA51 -> Bayer les verres culs sec B | AL51: =AP36 -> Lazio de Rhum B | AM51: =(COUNTIFS(AQ$36:AQ$45,"w",AP$36:AP$45,AL51)+COUNTIFS(AM$36:AM$45,"w",AL$36:AL$45,AL51))*Paramétrage!$C$33+(COUNTIFS(AQ$36:AQ$45,"N",AP$36:AP$45,AL51)+COUNTIFS(AM$36:AM$45,"N",AL$36:AL$45,AL51))*Paramétrage!$C$34+(COUNTIFS(AQ$36:AQ$45,"L",AP$36:AP$45,AL51)+COUNTIFS(AM$36:AM$45,"L",AL$36:AL$45,AL51))*Paramétrage!$C$35 -> 6 | AN51: =SUMIF(AL$36:AN$45,AL51,AN$36:AN$45)+SUMIF(AP$36:AR$45,AL51,AR$36:AR$45) -> -31 | AO51: 4 | AP51: =AL51 -> Lazio de Rhum B
E52: =I37 -> Celtics Grave Gros A | F52: =(COUNTIFS(J$36:J$45,"w",I$36:I$45,E52)+COUNTIFS(F$36:F$45,"w",E$36:E$45,E52))*Paramétrage!$C$33+(COUNTIFS(J$36:J$45,"N",I$36:I$45,E52)+COUNTIFS(F$36:F$45,"N",E$36:E$45,E52))*Paramétrage!$C$34+(COUNTIFS(J$36:J$45,"L",I$36:I$45,E52)+COUNTIFS(F$36:F$45,"L",E$36:E$45,E52))*Paramétrage!$C$35 -> 12 | G52: =SUMIF(E$36:G$45,E52,G$36:G$45)+SUMIF(I$36:K$45,E52,K$36:K$45) -> 39 | H52: 1 | I52: =E52 -> Celtics Grave Gros A | P52: =T37 -> L'aile ou la cuite A | Q52: =(COUNTIFS(U$36:U$45,"w",T$36:T$45,P52)+COUNTIFS(Q$36:Q$45,"w",P$36:P$45,P52))*Paramétrage!$C$33+(COUNTIFS(U$36:U$45,"N",T$36:T$45,P52)+COUNTIFS(Q$36:Q$45,"N",P$36:P$45,P52))*Paramétrage!$C$34+(COUNTIFS(U$36:U$45,"L",T$36:T$45,P52)+COUNTIFS(Q$36:Q$45,"L",P$36:P$45,P52))*Paramétrage!$C$35 -> 12 | R52: =SUMIF(P$36:R$45,P52,R$36:R$45)+SUMIF(T$36:V$45,P52,V$36:V$45) -> 60 | S52: 1 | T52: =P52 -> L'aile ou la cuite A | AA52: =AE37 -> Waral B | AB52: =(COUNTIFS(AF$36:AF$45,"w",AE$36:AE$45,AA52)+COUNTIFS(AB$36:AB$45,"w",AA$36:AA$45,AA52))*Paramétrage!$C$33+(COUNTIFS(AF$36:AF$45,"N",AE$36:AE$45,AA52)+COUNTIFS(AB$36:AB$45,"N",AA$36:AA$45,AA52))*Paramétrage!$C$34+(COUNTIFS(AF$36:AF$45,"L",AE$36:AE$45,AA52)+COUNTIFS(AB$36:AB$45,"L",AA$36:AA$45,AA52))*Paramétrage!$C$35 -> 11 | AC52: =SUMIF(AA$36:AC$45,AA52,AC$36:AC$45)+SUMIF(AE$36:AG$45,AA52,AG$36:AG$45) -> 42 | AD52: 1 | AE52: =AA52 -> Waral B | AL52: =AP37 -> Pooldeads B | AM52: =(COUNTIFS(AQ$36:AQ$45,"w",AP$36:AP$45,AL52)+COUNTIFS(AM$36:AM$45,"w",AL$36:AL$45,AL52))*Paramétrage!$C$33+(COUNTIFS(AQ$36:AQ$45,"N",AP$36:AP$45,AL52)+COUNTIFS(AM$36:AM$45,"N",AL$36:AL$45,AL52))*Paramétrage!$C$34+(COUNTIFS(AQ$36:AQ$45,"L",AP$36:AP$45,AL52)+COUNTIFS(AM$36:AM$45,"L",AL$36:AL$45,AL52))*Paramétrage!$C$35 -> 6 | AN52: =SUMIF(AL$36:AN$45,AL52,AN$36:AN$45)+SUMIF(AP$36:AR$45,AL52,AR$36:AR$45) -> -33 | AO52: 5 | AP52: =AL52 -> Pooldeads B

Sheet 2-Phase de classement-Padel
A1: Padel
R2: LOOSER BRACKET | AA2: Classement
E4: ='1-Phase de poule-Padel'!Y46+Paramétrage!$F$26 -> 0.60486111 | AA4: 1er | AB4: =IF(N76="","",VLOOKUP("w",N75:O76,2,FALSE)) -> #N/A
D5: =$A$1&" - "&E5&" vs "&E6&" - "&E5 -> Padel - Akatsuki A vs Facilement B - Akatsuki A | E5: ='Param. - Transition'!F5 -> Akatsuki A | F5: =IFERROR(VLOOKUP('2-Phase de classement-Padel'!D5,'Tour en Dur'!$E$4:$G$399,3,FALSE),0) -> W | G5: =E5 -> Akatsuki A | AA5: 2ème | AB5: =IF(N76="","",VLOOKUP("l",N75:O76,2,FALSE)) -> #N/A
D6: =$A$1&" - "&E5&" vs "&E6&" - "&E6 -> Padel - Akatsuki A vs Facilement B - Facilement B | E6: ='Param. - Transition'!F8 -> Facilement B | F6: =IFERROR(VLOOKUP('2-Phase de classement-Padel'!D6,'Tour en Dur'!$E$4:$G$399,3,FALSE),0) -> L | G6: =E6 -> Facilement B | I6: =E80+Paramétrage!$F$26+Paramétrage!$F$27 -> 0.63958333 | R6: =I6 -> 0.63958333 | AA6: 3ème | AB6: =IF(N82="","",VLOOKUP("w",N81:O82,2,FALSE)) -> #N/A
H7: =$A$1&" - "&I7&" vs "&I8&" - "&I7 -> Padel - Akatsuki A vs Pooldeads B - Akatsuki A | I7: =IF(F6="","",VLOOKUP("w",F5:G6,2,FALSE)) -> Akatsuki A | J7: =IFERROR(VLOOKUP('2-Phase de classement-Padel'!H7,'Tour en Dur'!$E$4:$G$399,3,FALSE),0) -> W | K7: =I7 -> Akatsuki A | Q7: =$A$1&" - "&R7&" vs "&R8&" - "&R7 -> Padel - Facilement B vs Gett'up A - Facilement B | R7: =IF(F6="","",VLOOKUP("l",F5:G6,2,FALSE)) -> Facilement B | S7: =IFERROR(VLOOKUP('2-Phase de classement-Padel'!Q7,'Tour en Dur'!$E$4:$G$399,3,FALSE),0) -> L | T7: =R7 -> Facilement B | AA7: 4ème | AB7: =IF(N82="","",VLOOKUP("l",N81:O82,2,FALSE)) -> #N/A
E8: =E4 -> 0.60486111 | H8: =$A$1&" - "&I7&" vs "&I8&" - "&I8 -> Padel - Akatsuki A vs Pooldeads B - Pooldeads B | I8: =IF(F10="","",VLOOKUP("w",F9:G10,2,FALSE)) -> Pooldeads B | J8: =IFERROR(VLOOKUP('2-Phase de classement-Padel'!H8,'Tour en Dur'!$E$4:$G$399,3,FALSE),0) -> L | K8: =I8 -> Pooldeads B | Q8: =$A$1&" - "&R7&" vs "&R8&" - "&R8 -> Padel - Facilement B vs Gett'up A - Gett'up A | R8: =IF(F10="","",VLOOKUP("l",F9:G10,2,FALSE)) -> Gett'up A | S8: =IFERROR(VLOOKUP('2-Phase de classement-Padel'!Q8,'Tour en Dur'!$E$4:$G$399,3,FALSE),0) -> W | T8: =R8 -> Gett'up A | AA8: 5ème | AB8: =IF(W76="","",VLOOKUP("w",W75:X76,2,FALSE)) -> #N/A
D9: =$A$1&" - "&E9&" vs "&E10&" - "&E9 -> Padel - Gett'up A vs Pooldeads B - Gett'up A | E9: ='Param. - Transition'!F11 -> Gett'up A | F9: =IFERROR(VLOOKUP('2-Phase de classement-Padel'!D9,'Tour en Dur'!$E$4:$G$399,3,FALSE),0) -> L | G9: =E9 -> Gett'up A | AA9: 6ème | AB9: =IF(W76="","",VLOOKUP("l",W75:X76,2,FALSE)) -> #N/A
D10: =$A$1&" - "&E9&" vs "&E10&" - "&E10 -> Padel - Gett'up A vs Pooldeads B - Pooldeads B | E10: ='Param. - Transition'!F14 -> Pooldeads B | F10: =IFERROR(VLOOKUP('2-Phase de classement-Padel'!D10,'Tour en Dur'!$E$4:$G$399,3,FALSE),0) -> W | G10: =E10 -> Pooldeads B | M10: =I70+Paramétrage!$F$26+Paramétrage!$F$27 -> 0.67430556 | V10: =M10 -> 0.67430556 | AA10: 7ème | AB10: =IF(W81="","",VLOOKUP("w",W81:X81,2,FALSE)) -> #N/A
L11: =$A$1&" - "&M11&" vs "&M12&" - "&M11 -> Padel - Akatsuki A vs Gett'up B - Akatsuki A | M11: =IF(J8="","",VLOOKUP("w",J7:K8,2,FALSE)) -> Akatsuki A | N11: =IFERROR(VLOOKUP('2-Phase de classement-Padel'!L11,'Tour en Dur'!$E$4:$G$399,3,FALSE),0) -> EC | O11: =M11 -> Akatsuki A | U11: =$A$1&" - "&V11&" vs "&V12&" - "&V11 -> Padel - Gett'up A vs Lazio de Rhum A - Gett'up A | V11: =IF(S8="","",VLOOKUP("w",S7:T8,2,FALSE)) -> Gett'up A | W11: =IFERROR(VLOOKUP('2-Phase de classement-Padel'!U11,'Tour en Dur'!$E$4:$G$399,3,FALSE),0) -> EC | X11: =V11 -> Gett'up A | AA11: 8ème | AB11: =IF(W82="","",VLOOKUP("l",W81:X82,2,FALSE)) -> #N/A
E12: =E8 -> 0.60486111 | L12: =$A$1&" - "&M11&" vs "&M12&" - "&M12 -> Padel - Akatsuki A vs Gett'up B - Gett'up B | M12: =IF(J16="","",VLOOKUP("w",J15:K16,2,FALSE)) -> Gett'up B | N12: =IFERROR(VLOOKUP('2-Phase de classement-Padel'!L12,'Tour en Dur'!$E$4:$G$399,3,FALSE),0) -> EC | O12: =M12 -> Gett'up B | U12: =$A$1&" - "&V11&" vs "&V12&" - "&V12 -> Padel - Gett'up A vs Lazio de Rhum A - Lazio de Rhum A | V12: =IF(S16="","",VLOOKUP("w",S15:T16,2,FALSE)) -> Lazio de Rhum A | W12: =IFERROR(VLOOKUP('2-Phase de classement-Padel'!U12,'Tour en Dur'!$E$4:$G$399,3,FALSE),0) -> EC | X12: =V12 -> Lazio de Rhum A | AA12: 9ème | AB12: =IF(N60="","",VLOOKUP("w",N59:O60,2,FALSE)) -> #N/A
D13: =$A$1&" - "&E13&" vs "&E14&" - "&E13 -> Padel - Les inconnus A vs Roue Libre B - Les inconnus A | E13: ='Param. - Transition'!F6 -> Les inconnus A | F13: =IFERROR(VLOOKUP('2-Phase de classement-Padel'!D13,'Tour en Dur'!$E$4:$G$399,3,FALSE),0) -> W | G13: =E13 -> Les inconnus A | AA13: 10ème | AB13: =IF(N60="","",VLOOKUP("l",N59:O60,2,FALSE)) -> #N/A
D14: =$A$1&" - "&E13&" vs "&E14&" - "&E14 -> Padel - Les inconnus A vs Roue Libre B - Roue Libre B | E14: ='Param. - Transition'!F7 -> Roue Libre B | F14: =IFERROR(VLOOKUP('2-Phase de classement-Padel'!D14,'Tour en Dur'!$E$4:$G$399,3,FALSE),0) -> L | G14: =E14 -> Roue Libre B | I14: =I6 -> 0.63958333 | R14: =I14 -> 0.63958333 | AA14: 11ème | AB14: =IF(N66="","",VLOOKUP("w",N65:O66,2,FALSE)) -> #N/A
H15: =$A$1&" - "&I15&" vs "&I16&" - "&I15 -> Padel - Les inconnus A vs Gett'up B - Les inconnus A | I15: =IF(F14="","",VLOOKUP("w",F13:G14,2,FALSE)) -> Les inconnus A | J15: =IFERROR(VLOOKUP('2-Phase de classement-Padel'!H15,'Tour en Dur'!$E$4:$G$399,3,FALSE),0) -> L | K15: =I15 -> Les inconnus A | Q15: =$A$1&" - "&R15&" vs "&R16&" - "&R15 -> Padel - Roue Libre B vs Lazio de Rhum A - Roue Libre B | R15: =IF(F14="","",VLOOKUP("l",F13:G14,2,FALSE)) -> Roue Libre B | S15: =IFERROR(VLOOKUP('2-Phase de classement-Padel'!Q15,'Tour en Dur'!$E$4:$G$399,3,FALSE),0) -> L | T15: =R15 -> Roue Libre B | AA15: 12ème | AB15: =IF(N66="","",VLOOKUP("l",N65:O66,2,FALSE)) -> #N/A
E16: =E12 -> 0.60486111 | H16: =$A$1&" - "&I15&" vs "&I16&" - "&I16 -> Padel - Les inconnus A vs Gett'up B - Gett'up B | I16: =IF(F18="","",VLOOKUP("w",F17:G18,2,FALSE)) -> Gett'up B | J16: =IFERROR(VLOOKUP('2-Phase de classement-Padel'!H16,'Tour en Dur'!$E$4:$G$399,3,FALSE),0) -> W | K16: =I16 -> Gett'up B | M16: =M10 -> 0.67430556 | Q16: =$A$1&" - "&R15&" vs "&R16&" - "&R16 -> Padel - Roue Libre B vs Lazio de Rhum A - Lazio de Rhum A | R16: =IF(F18="","",VLOOKUP("l",F17:G18,2,FALSE)) -> Lazio de Rhum A | S16: =IFERROR(VLOOKUP('2-Phase de classement-Padel'!Q16,'Tour en Dur'!$E$4:$G$399,3,FALSE),0) -> W | T16: =R16 -> Lazio de Rhum A | V16: =M10 -> 0.67430556 | AA16: 13ème | AB16: =IF(W60="","",VLOOKUP("w",W59:X60,2,FALSE)) -> #N/A
D17: =$A$1&" - "&E17&" vs "&E18&" - "&E17 -> Padel - Lazio de Rhum A vs Gett'up B - Lazio de Rhum A | E17: ='Param. - Transition'!F12 -> Lazio de Rhum A | F17: =IFERROR(VLOOKUP('2-Phase de classement-Padel'!D17,'Tour en Dur'!$E$4:$G$399,3,FALSE),0) -> L | G17: =E17 -> Lazio de Rhum A | L17: =$A$1&" - "&M17&" vs "&M18&" - "&M17 -> Padel - Pooldeads B vs Les inconnus A - Pooldeads B | M17: =IF(J8="","",VLOOKUP("L",J7:K8,2,FALSE)) -> Pooldeads B | N17: =IFERROR(VLOOKUP('2-Phase de classement-Padel'!L17,'Tour en Dur'!$E$4:$G$399,3,FALSE),0) -> EC | O17: =M17 -> Pooldeads B | U17: =$A$1&" - "&V17&" vs "&V18&" - "&V17 -> Padel - Facilement B vs Roue Libre B - Facilement B | V17: =IF(S8="","",VLOOKUP("L",S7:T8,2,FALSE)) -> Facilement B | W17: =IFERROR(VLOOKUP('2-Phase de classement-Padel'!U17,'Tour en Dur'!$E$4:$G$399,3,FALSE),0) -> EC | X17: =V17 -> Facilement B | AA17: 14ème | AB17: =IF(W60="","",VLOOKUP("l",W59:X60,2,FALSE)) -> #N/A
D18: =$A$1&" - "&E17&" vs "&E18&" - "&E18 -> Padel - Lazio de Rhum A vs Gett'up B - Gett'up B | E18: ='Param. - Transition'!F13 -> Gett'up B | F18: =IFERROR(VLOOKUP('2-Phase de classement-Padel'!D18,'Tour en Dur'!$E$4:$G$399,3,FALSE),0) -> W | G18: =E18 -> Gett'up B | L18: =$A$1&" - "&M17&" vs "&M18&" - "&M18 -> Padel - Pooldeads B vs Les inconnus A - Les inconnus A | M18: =IF(J16="","",VLOOKUP("L",J15:K16,2,FALSE)) -> Les inconnus A | N18: =IFERROR(VLOOKUP('2-Phase de classement-Padel'!L18,'Tour en Dur'!$E$4:$G$399,3,FALSE),0) -> EC | O18: =M18 -> Les inconnus A | U18: =$A$1&" - "&V17&" vs "&V18&" - "&V18 -> Padel - Facilement B vs Roue Libre B - Roue Libre B | V18: =IF(S16="","",VLOOKUP("L",S15:T16,2,FALSE)) -> Roue Libre B | W18: =IFERROR(VLOOKUP('2-Phase de classement-Padel'!U18,'Tour en Dur'!$E$4:$G$399,3,FALSE),0) -> EC | X18: =V18 -> Roue Libre B | AA18: 15ème | AB18: =IF(W66="","",VLOOKUP("w",W65:X66,2,FALSE)) -> #N/A
E19: =E17&" vs "&E18 -> Lazio de Rhum A vs Gett'up B | AA19: 16ème | AB19: =IF(W66="","",VLOOKUP("l",W65:X66,2,FALSE)) -> #N/A
E20: =E16+Paramétrage!$F$26+Paramétrage!$F$27 -> 0.61180556 | AA20: 17ème | AB20: =IF(N44="","",VLOOKUP("w",N43:O44,2,FALSE)) -> #N/A
D21: =$A$1&" - "&E21&" vs "&E22&" - "&E21 -> Padel - VitaMines A vs Floyouyat B - VitaMines A | E21: ='Param. - Transition'!E5 -> VitaMines A | F21: =IFERROR(VLOOKUP('2-Phase de classement-Padel'!D21,'Tour en Dur'!$E$4:$G$399,3,FALSE),0) -> W | G21: =E21 -> VitaMines A | AA21: 18ème | AB21: =IF(N44="","",VLOOKUP("l",N43:O44,2,FALSE)) -> #N/A
D22: =$A$1&" - "&E21&" vs "&E22&" - "&E22 -> Padel - VitaMines A vs Floyouyat B - Floyouyat B | E22: ='Param. - Transition'!E8 -> Floyouyat B | F22: =IFERROR(VLOOKUP('2-Phase de classement-Padel'!D22,'Tour en Dur'!$E$4:$G$399,3,FALSE),0) -> L | G22: =E22 -> Floyouyat B | I22: =I6+Paramétrage!$F$26+Paramétrage!$F$27 -> 0.64652778 | R22: =I22 -> 0.64652778 | AA22: 19ème | AB22: =IF(N50="","",VLOOKUP("w",N49:O50,2,FALSE)) -> #N/A
H23: =$A$1&" - "&I23&" vs "&I24&" - "&I23 -> Padel - VitaMines A vs Lazio de Rhum B - VitaMines A | I23: =IF(F22="","",VLOOKUP("w",F21:G22,2,FALSE)) -> VitaMines A | J23: =IFERROR(VLOOKUP('2-Phase de classement-Padel'!H23,'Tour en Dur'!$E$4:$G$399,3,FALSE),0) -> W | K23: =I23 -> VitaMines A | Q23: =$A$1&" - "&R23&" vs "&R24&" - "&R23 -> Padel - Floyouyat B vs Bayer les verres culs sec A - Floyouyat B | R23: =IF(F22="","",VLOOKUP("l",F21:G22,2,FALSE)) -> Floyouyat B | S23: =IFERROR(VLOOKUP('2-Phase de classement-Padel'!Q23,'Tour en Dur'!$E$4:$G$399,3,FALSE),0) -> W | T23: =R23 -> Floyouyat B | AA23: 20ème | AB23: =IF(N50="","",VLOOKUP("l",N49:O50,2,FALSE)) -> #N/A
E24: =E20 -> 0.61180556 | H24: =$A$1&" - "&I23&" vs "&I24&" - "&I24 -> Padel - VitaMines A vs Lazio de Rhum B - Lazio de Rhum B | I24: =IF(F26="","",VLOOKUP("w",F25:G26,2,FALSE)) -> Lazio de Rhum B | J24: =IFERROR(VLOOKUP('2-Phase de classement-Padel'!H24,'Tour en Dur'!$E$4:$G$399,3,FALSE),0) -> L | K24: =I24 -> Lazio de Rhum B | Q24: =$A$1&" - "&R23&" vs "&R24&" - "&R24 -> Padel - Floyouyat B vs Bayer les verres culs sec A - Bayer les verres culs sec A | R24: =IF(F26="","",VLOOKUP("l",F25:G26,2,FALSE)) -> Bayer les verres culs sec A | S24: =IFERROR(VLOOKUP('2-Phase de classement-Padel'!Q24,'Tour en Dur'!$E$4:$G$399,3,FALSE),0) -> L | T24: =R24 -> Bayer les verres culs sec A | AA24: 21er | AB24: =IF(W44="","",VLOOKUP("w",W43:X44,2,FALSE)) -> #N/A
D25: =$A$1&" - "&E25&" vs "&E26&" - "&E25 -> Padel - Bayer les verres culs sec A vs Lazio de Rhum B - Bayer les verres culs sec A | E25: ='Param. - Transition'!E11 -> Bayer les verres culs sec A | F25: =IFERROR(VLOOKUP('2-Phase de classement-Padel'!D25,'Tour en Dur'!$E$4:$G$399,3,FALSE),0) -> L | G25: =E25 -> Bayer les verres culs sec A | AA25: 22ème | AB25: =IF(W44="","",VLOOKUP("l",W43:X44,2,FALSE)) -> #N/A
D26: =$A$1&" - "&E25&" vs "&E26&" - "&E26 -> Padel - Bayer les verres culs sec A vs Lazio de Rhum B - Lazio de Rhum B | E26: ='Param. - Transition'!E14 -> Lazio de Rhum B | F26: =IFERROR(VLOOKUP('2-Phase de classement-Padel'!D26,'Tour en Dur'!$E$4:$G$399,3,FALSE),0) -> W | G26: =E26 -> Lazio de Rhum B | M26: =M10+Paramétrage!$F$26+Paramétrage!$F$27 -> 0.68125 | V26: =M26 -> 0.68125 | AA26: 23ème | AB26: =IF(W50="","",VLOOKUP("w",W49:X50,2,FALSE)) -> #N/A
L27: =$A$1&" - "&M27&" vs "&M28&" - "&M27 -> Padel - VitaMines A vs Facilement A - VitaMines A | M27: =IF(J24="","",VLOOKUP("w",J23:K24,2,FALSE)) -> VitaMines A | N27: =IFERROR(VLOOKUP('2-Phase de classement-Padel'!L27,'Tour en Dur'!$E$4:$G$399,3,FALSE),0) -> EC | O27: =M27 -> VitaMines A | U27: =$A$1&" - "&V27&" vs "&V28&" - "&V27 -> Padel - Floyouyat B vs Akatsuki B - Floyouyat B | V27: =IF(S24="","",VLOOKUP("w",S23:T24,2,FALSE)) -> Floyouyat B | W27: =IFERROR(VLOOKUP('2-Phase de classement-Padel'!U27,'Tour en Dur'!$E$4:$G$399,3,FALSE),0) -> EC | X27: =V27 -> Floyouyat B | AA27: 24ème | AB27: =IF(W50="","",VLOOKUP("l",W49:X50,2,FALSE)) -> #N/A
E28: =E24 -> 0.61180556 | L28: =$A$1&" - "&M27&" vs "&M28&" - "&M28 -> Padel - VitaMines A vs Facilement A - Facilement A | M28: =IF(J32="","",VLOOKUP("w",J31:K32,2,FALSE)) -> Facilement A | N28: =IFERROR(VLOOKUP('2-Phase de classement-Padel'!L28,'Tour en Dur'!$E$4:$G$399,3,FALSE),0) -> EC | O28: =M28 -> Facilement A | U28: =$A$1&" - "&V27&" vs "&V28&" - "&V28 -> Padel - Floyouyat B vs Akatsuki B - Akatsuki B | V28: =IF(S32="","",VLOOKUP("w",S31:T32,2,FALSE)) -> Akatsuki B | W28: =IFERROR(VLOOKUP('2-Phase de classement-Padel'!U28,'Tour en Dur'!$E$4:$G$399,3,FALSE),0) -> EC | X28: =V28 -> Akatsuki B | AA28: 25ème | AB28: =IF(N28="","",VLOOKUP("w",N27:O28,2,FALSE)) -> #N/A
D29: =$A$1&" - "&E29&" vs "&E30&" - "&E29 -> Padel - Facilement A vs Akatsuki B - Facilement A | E29: ='Param. - Transition'!E6 -> Facilement A | F29: =IFERROR(VLOOKUP('2-Phase de classement-Padel'!D29,'Tour en Dur'!$E$4:$G$399,3,FALSE),0) -> W | G29: =E29 -> Facilement A | AA29: 26ème | AB29: =IF(N28="","",VLOOKUP("l",N27:O28,2,FALSE)) -> #N/A
D30: =$A$1&" - "&E29&" vs "&E30&" - "&E30 -> Padel - Facilement A vs Akatsuki B - Akatsuki B | E30: ='Param. - Transition'!E7 -> Akatsuki B | F30: =IFERROR(VLOOKUP('2-Phase de classement-Padel'!D30,'Tour en Dur'!$E$4:$G$399,3,FALSE),0) -> L | G30: =E30 -> Akatsuki B | I30: =I22 -> 0.64652778 | R30: =I22 -> 0.64652778 | AA30: 27ème | AB30: =IF(N34="","",VLOOKUP("w",N33:O34,2,FALSE)) -> #N/A
H31: =$A$1&" - "&I31&" vs "&I32&" - "&I31 -> Padel - Facilement A vs Téléteubiloutes B - Facilement A | I31: =IF(F30="","",VLOOKUP("w",F29:G30,2,FALSE)) -> Facilement A | J31: =IFERROR(VLOOKUP('2-Phase de classement-Padel'!H31,'Tour en Dur'!$E$4:$G$399,3,FALSE),0) -> W | K31: =I31 -> Facilement A | Q31: =$A$1&" - "&R31&" vs "&R32&" - "&R31 -> Padel - Akatsuki B vs Blockudoku A - Akatsuki B | R31: =IF(F30="","",VLOOKUP("l",F29:G30,2,FALSE)) -> Akatsuki B | S31: =IFERROR(VLOOKUP('2-Phase de classement-Padel'!Q31,'Tour en Dur'!$E$4:$G$399,3,FALSE),0) -> W | T31: =R31 -> Akatsuki B | AA31: 28ème | AB31: =IF(N34="","",VLOOKUP("l",N33:O34,2,FALSE)) -> #N/A
E32: =E28 -> 0.61180556 | H32: =$A$1&" - "&I31&" vs "&I32&" - "&I32 -> Padel - Facilement A vs Téléteubiloutes B - Téléteubiloutes B | I32: =IF(F34="","",VLOOKUP("w",F33:G34,2,FALSE)) -> Téléteubiloutes B | J32: =IFERROR(VLOOKUP('2-Phase de classement-Padel'!H32,'Tour en Dur'!$E$4:$G$399,3,FALSE),0) -> L | K32: =I32 -> Téléteubiloutes B | M32: =M26 -> 0.68125 | Q32: =$A$1&" - "&R31&" vs "&R32&" - "&R32 -> Padel - Akatsuki B vs Blockudoku A - Blockudoku A | R32: =IF(F34="","",VLOOKUP("l",F33:G34,2,FALSE)) -> Blockudoku A | S32: =IFERROR(VLOOKUP('2-Phase de classement-Padel'!Q32,'Tour en Dur'!$E$4:$G$399,3,FALSE),0) -> L | T32: =R32 -> Blockudoku A | V32: =M26 -> 0.68125 | AA32: 29ème | AB32: =IF(W28="","",VLOOKUP("w",W27:X28,2,FALSE)) -> #N/A
D33: =$A$1&" - "&E33&" vs "&E34&" - "&E33 -> Padel - Blockudoku A vs Téléteubiloutes B - Blockudoku A | E33: ='Param. - Transition'!E12 -> Blockudoku A | F33: =IFERROR(VLOOKUP('2-Phase de classement-Padel'!D33,'Tour en Dur'!$E$4:$G$399,3,FALSE),0) -> L | G33: =E33 -> Blockudoku A | L33: =$A$1&" - "&M33&" vs "&M34&" - "&M33 -> Padel - Lazio de Rhum B vs Téléteubiloutes B - Lazio de Rhum B | M33: =IF(J24="","",VLOOKUP("L",J23:K24,2,FALSE)) -> Lazio de Rhum B | N33: =IFERROR(VLOOKUP('2-Phase de classement-Padel'!L33,'Tour en Dur'!$E$4:$G$399,3,FALSE),0) -> EC | O33: =M33 -> Lazio de Rhum B | U33: =$A$1&" - "&V33&" vs "&V34&" - "&V33 -> Padel - Bayer les verres culs sec A vs Blockudoku A - Bayer les verres culs sec A | V33: =IF(S24="","",VLOOKUP("L",S23:T24,2,FALSE)) -> Bayer les verres culs sec A | W33: =IFERROR(VLOOKUP('2-Phase de classement-Padel'!U33,'Tour en Dur'!$E$4:$G$399,3,FALSE),0) -> EC | X33: =V33 -> Bayer les verres culs sec A | AA33: 30ème | AB33: =IF(W28="","",VLOOKUP("l",W27:X28,2,FALSE)) -> #N/A
D34: =$A$1&" - "&E33&" vs "&E34&" - "&E34 -> Padel - Blockudoku A vs Téléteubiloutes B - Téléteubiloutes B | E34: ='Param. - Transition'!E13 -> Téléteubiloutes B | F34: =IFERROR(VLOOKUP('2-Phase de classement-Padel'!D34,'Tour en Dur'!$E$4:$G$399,3,FALSE),0) -> W | G34: =E34 -> Téléteubiloutes B | L34: =$A$1&" - "&M33&" vs "&M34&" - "&M34 -> Padel - Lazio de Rhum B vs Téléteubiloutes B - Téléteubiloutes B | M34: =IF(J32="","",VLOOKUP("L",J31:K32,2,FALSE)) -> Téléteubiloutes B | N34: =IFERROR(VLOOKUP('2-Phase de classement-Padel'!L34,'Tour en Dur'!$E$4:$G$399,3,FALSE),0) -> EC | O34: =M34 -> Téléteubiloutes B | U34: =$A$1&" - "&V33&" vs "&V34&" - "&V34 -> Padel - Bayer les verres culs sec A vs Blockudoku A - Blockudoku A | V34: =IF(S32="","",VLOOKUP("L",S31:T32,2,FALSE)) -> Blockudoku A | W34: =IFERROR(VLOOKUP('2-Phase de classement-Padel'!U34,'Tour en Dur'!$E$4:$G$399,3,FALSE),0) -> EC | X34: =V34 -> Blockudoku A | AA34: 31er | AB34: =IF(W34="","",VLOOKUP("w",W33:X34,2,FALSE)) -> #N/A
AA35: 32ème | AB35: =IF(W34="","",VLOOKUP("l",W33:X34,2,FALSE)) -> #N/A
E36: =E32+Paramétrage!$F$26+Paramétrage!$F$27 -> 0.61875 | AA36: 33ème | AB36: =IF(N12="","",VLOOKUP("w",N11:O12,2,FALSE)) -> #N/A
D37: =$A$1&" - "&E37&" vs "&E38&" - "&E37 -> Padel - Spyk'up A vs Les inconnus B - Spyk'up A | E37: ='Param. - Transition'!D5 -> Spyk'up A | F37: =IFERROR(VLOOKUP('2-Phase de classement-Padel'!D37,'Tour en Dur'!$E$4:$G$399,3,FALSE),0) -> W | G37: =E37 -> Spyk'up A | AA37: 34ème | AB37: =IF(N12="","",VLOOKUP("l",N11:O12,2,FALSE)) -> #N/A
D38: =$A$1&" - "&E37&" vs "&E38&" - "&E38 -> Padel - Spyk'up A vs Les inconnus B - Les inconnus B | E38: ='Param. - Transition'!D8 -> Les inconnus B | F38: =IFERROR(VLOOKUP('2-Phase de classement-Padel'!D38,'Tour en Dur'!$E$4:$G$399,3,FALSE),0) -> L | G38: =E38 -> Les inconnus B | I38: =I22+Paramétrage!$F$26+Paramétrage!$F$27 -> 0.65347222 | R38: =I38 -> 0.65347222 | AA38: 35ème | AB38: =IF(N18="","",VLOOKUP("w",N17:O18,2,FALSE)) -> #N/A
H39: =$A$1&" - "&I39&" vs "&I40&" - "&I39 -> Padel - Spyk'up A vs Téléteubiloutes A - Spyk'up A | I39: =IF(F38="","",VLOOKUP("w",F37:G38,2,FALSE)) -> Spyk'up A | J39: =IFERROR(VLOOKUP('2-Phase de classement-Padel'!H39,'Tour en Dur'!$E$4:$G$399,3,FALSE),0) -> W | K39: =I39 -> Spyk'up A | Q39: =$A$1&" - "&R39&" vs "&R40&" - "&R39 -> Padel - Les inconnus B vs Les torcheurs B - Les inconnus B | R39: =IF(F38="","",VLOOKUP("l",F37:G38,2,FALSE)) -> Les inconnus B | S39: =IFERROR(VLOOKUP('2-Phase de classement-Padel'!Q39,'Tour en Dur'!$E$4:$G$399,3,FALSE),0) -> L | T39: =R39 -> Les inconnus B | AA39: 36ème | AB39: =IF(N18="","",VLOOKUP("l",N17:O18,2,FALSE)) -> #N/A
E40: =E36 -> 0.61875 | H40: =$A$1&" - "&I39&" vs "&I40&" - "&I40 -> Padel - Spyk'up A vs Téléteubiloutes A - Téléteubiloutes A | I40: =IF(F42="","",VLOOKUP("w",F41:G42,2,FALSE)) -> Téléteubiloutes A | J40: =IFERROR(VLOOKUP('2-Phase de classement-Padel'!H40,'Tour en Dur'!$E$4:$G$399,3,FALSE),0) -> L | K40: =I40 -> Téléteubiloutes A | Q40: =$A$1&" - "&R39&" vs "&R40&" - "&R40 -> Padel - Les inconnus B vs Les torcheurs B - Les torcheurs B | R40: =IF(F42="","",VLOOKUP("l",F41:G42,2,FALSE)) -> Les torcheurs B | S40: =IFERROR(VLOOKUP('2-Phase de classement-Padel'!Q40,'Tour en Dur'!$E$4:$G$399,3,FALSE),0) -> W | T40: =R40 -> Les torcheurs B | AA40: 37ème | AB40: =IF(W12="","",VLOOKUP("w",W11:X12,2,FALSE)) -> #N/A
D41: =$A$1&" - "&E41&" vs "&E42&" - "&E41 -> Padel - Téléteubiloutes A vs Les torcheurs B - Téléteubiloutes A | E41: ='Param. - Transition'!D11 -> Téléteubiloutes A | F41: =IFERROR(VLOOKUP('2-Phase de classement-Padel'!D41,'Tour en Dur'!$E$4:$G$399,3,FALSE),0) -> W | G41: =E41 -> Téléteubiloutes A | AA41: 38ème | AB41: =IF(W12="","",VLOOKUP("l",W11:X12,2,FALSE)) -> #N/A
D42: =$A$1&" - "&E41&" vs "&E42&" - "&E42 -> Padel - Téléteubiloutes A vs Les torcheurs B - Les torcheurs B | E42: ='Param. - Transition'!D14 -> Les torcheurs B | F42: =IFERROR(VLOOKUP('2-Phase de classement-Padel'!D42,'Tour en Dur'!$E$4:$G$399,3,FALSE),0) -> L | G42: =E42 -> Les torcheurs B | M42: =M26+Paramétrage!$F$26+Paramétrage!$F$27 -> 0.68819444 | V42: =M42 -> 0.68819444 | AA42: 39ème | AB42: =IF(W18="","",VLOOKUP("w",W17:X18,2,FALSE)) -> #N/A
L43: =$A$1&" - "&M43&" vs "&M44&" - "&M43 -> Padel - Spyk'up A vs Spyk'up B - Spyk'up A | M43: =IF(J40="","",VLOOKUP("w",J39:K40,2,FALSE)) -> Spyk'up A | N43: =IFERROR(VLOOKUP('2-Phase de classement-Padel'!L43,'Tour en Dur'!$E$4:$G$399,3,FALSE),0) -> EC | O43: =M43 -> Spyk'up A | U43: =$A$1&" - "&V43&" vs "&V44&" - "&V43 -> Padel - Les torcheurs B vs Floyouyat A - Les torcheurs B | V43: =IF(S40="","",VLOOKUP("w",S39:T40,2,FALSE)) -> Les torcheurs B | W43: =IFERROR(VLOOKUP('2-Phase de classement-Padel'!U43,'Tour en Dur'!$E$4:$G$399,3,FALSE),0) -> 0 | X43: =V43 -> Les torcheurs B | AA43: 40ème | AB43: =IF(W18="","",VLOOKUP("l",W17:X18,2,FALSE)) -> #N/A
E44: =E40 -> 0.61875 | L44: =$A$1&" - "&M43&" vs "&M44&" - "&M44 -> Padel - Spyk'up A vs Spyk'up B - Spyk'up B | M44: =IF(J48="","",VLOOKUP("w",J47:K48,2,FALSE)) -> Spyk'up B | N44: =IFERROR(VLOOKUP('2-Phase de classement-Padel'!L44,'Tour en Dur'!$E$4:$G$399,3,FALSE),0) -> EC | O44: =M44 -> Spyk'up B | U44: =$A$1&" - "&V43&" vs "&V44&" - "&V44 -> Padel - Les torcheurs B vs Floyouyat A - Floyouyat A | V44: =IF(S48="","",VLOOKUP("w",S47:T48,2,FALSE)) -> Floyouyat A | W44: =IFERROR(VLOOKUP('2-Phase de classement-Padel'!U44,'Tour en Dur'!$E$4:$G$399,3,FALSE),0) -> 0 | X44: =V44 -> Floyouyat A
D45: =$A$1&" - "&E45&" vs "&E46&" - "&E45 -> Padel - Floyouyat A vs Spyk'up B - Floyouyat A | E45: ='Param. - Transition'!D6 -> Floyouyat A | F45: =IFERROR(VLOOKUP('2-Phase de classement-Padel'!D45,'Tour en Dur'!$E$4:$G$399,3,FALSE),0) -> L | G45: =E45 -> Floyouyat A
D46: =$A$1&" - "&E45&" vs "&E46&" - "&E46 -> Padel - Floyouyat A vs Spyk'up B - Spyk'up B | E46: ='Param. - Transition'!D7 -> Spyk'up B | F46: =IFERROR(VLOOKUP('2-Phase de classement-Padel'!D46,'Tour en Dur'!$E$4:$G$399,3,FALSE),0) -> W | G46: =E46 -> Spyk'up B | I46: =I38 -> 0.65347222 | R46: =R38 -> 0.65347222
H47: =$A$1&" - "&I47&" vs "&I48&" - "&I47 -> Padel - Spyk'up B vs Celtics Grave Gros B - Spyk'up B | I47: =IF(F46="","",VLOOKUP("w",F45:G46,2,FALSE)) -> Spyk'up B | J47: =IFERROR(VLOOKUP('2-Phase de classement-Padel'!H47,'Tour en Dur'!$E$4:$G$399,3,FALSE),0) -> W | K47: =I47 -> Spyk'up B | Q47: =$A$1&" - "&R47&" vs "&R48&" - "&R47 -> Padel - Floyouyat A vs Pooldeads A - Floyouyat A | R47: =IF(F46="","",VLOOKUP("l",F45:G46,2,FALSE)) -> Floyouyat A | S47: =IFERROR(VLOOKUP('2-Phase de classement-Padel'!Q47,'Tour en Dur'!$E$4:$G$399,3,FALSE),0) -> W | T47: =R47 -> Floyouyat A
E48: =E44 -> 0.61875 | H48: =$A$1&" - "&I47&" vs "&I48&" - "&I48 -> Padel - Spyk'up B vs Celtics Grave Gros B - Celtics Grave Gros B | I48: =IF(F50="","",VLOOKUP("w",F49:G50,2,FALSE)) -> Celtics Grave Gros B | J48: =IFERROR(VLOOKUP('2-Phase de classement-Padel'!H48,'Tour en Dur'!$E$4:$G$399,3,FALSE),0) -> L | K48: =I48 -> Celtics Grave Gros B | M48: =M42 -> 0.68819444 | Q48: =$A$1&" - "&R47&" vs "&R48&" - "&R48 -> Padel - Floyouyat A vs Pooldeads A - Pooldeads A | R48: =IF(F50="","",VLOOKUP("l",F49:G50,2,FALSE)) -> Pooldeads A | S48: =IFERROR(VLOOKUP('2-Phase de classement-Padel'!Q48,'Tour en Dur'!$E$4:$G$399,3,FALSE),0) -> L | T48: =R48 -> Pooldeads A | V48: =M42 -> 0.68819444
D49: =$A$1&" - "&E49&" vs "&E50&" - "&E49 -> Padel - Pooldeads A vs Celtics Grave Gros B - Pooldeads A | E49: ='Param. - Transition'!D12 -> Pooldeads A | F49: =IFERROR(VLOOKUP('2-Phase de classement-Padel'!D49,'Tour en Dur'!$E$4:$G$399,3,FALSE),0) -> L | G49: =E49 -> Pooldeads A | L49: =$A$1&" - "&M49&" vs "&M50&" - "&M49 -> Padel - Téléteubiloutes A vs Celtics Grave Gros B - Téléteubiloutes A | M49: =IF(J40="","",VLOOKUP("L",J39:K40,2,FALSE)) -> Téléteubiloutes A | N49: =IFERROR(VLOOKUP('2-Phase de classement-Padel'!L49,'Tour en Dur'!$E$4:$G$399,3,FALSE),0) -> 0 | O49: =M49 -> Téléteubiloutes A | U49: =$A$1&" - "&V49&" vs "&V50&" - "&V49 -> Padel - Les inconnus B vs Pooldeads A - Les inconnus B | V49: =IF(S40="","",VLOOKUP("L",S39:T40,2,FALSE)) -> Les inconnus B | W49: =IFERROR(VLOOKUP('2-Phase de classement-Padel'!U49,'Tour en Dur'!$E$4:$G$399,3,FALSE),0) -> EC | X49: =V49 -> Les inconnus B
D50: =$A$1&" - "&E49&" vs "&E50&" - "&E50 -> Padel - Pooldeads A vs Celtics Grave Gros B - Celtics Grave Gros B | E50: ='Param. - Transition'!D13 -> Celtics Grave Gros B | F50: =IFERROR(VLOOKUP('2-Phase de classement-Padel'!D50,'Tour en Dur'!$E$4:$G$399,3,FALSE),0) -> W | G50: =E50 -> Celtics Grave Gros B | L50: =$A$1&" - "&M49&" vs "&M50&" - "&M50 -> Padel - Téléteubiloutes A vs Celtics Grave Gros B - Celtics Grave Gros B | M50: =IF(J48="","",VLOOKUP("L",J47:K48,2,FALSE)) -> Celtics Grave Gros B | N50: =IFERROR(VLOOKUP('2-Phase de classement-Padel'!L50,'Tour en Dur'!$E$4:$G$399,3,FALSE),0) -> 0 | O50: =M50 -> Celtics Grave Gros B | U50: =$A$1&" - "&V49&" vs "&V50&" - "&V50 -> Padel - Les inconnus B vs Pooldeads A - Pooldeads A | V50: =IF(S48="","",VLOOKUP("L",S47:T48,2,FALSE)) -> Pooldeads A | W50: =IFERROR(VLOOKUP('2-Phase de classement-Padel'!U50,'Tour en Dur'!$E$4:$G$399,3,FALSE),0) -> EC | X50: =V50 -> Pooldeads A
E52: =E48+Paramétrage!$F$26+Paramétrage!$F$27 -> 0.62569444
D53: =$A$1&" - "&E53&" vs "&E54&" - "&E53 -> Padel - Les Tengos A vs Bandanateam B - Les Tengos A | E53: ='Param. - Transition'!C5 -> Les Tengos A | F53: =IFERROR(VLOOKUP('2-Phase de classement-Padel'!D53,'Tour en Dur'!$E$4:$G$399,3,FALSE),0) -> W | G53: =E53 -> Les Tengos A
D54: =$A$1&" - "&E53&" vs "&E54&" - "&E54 -> Padel - Les Tengos A vs Bandanateam B - Bandanateam B | E54: ='Param. - Transition'!C8 -> Bandanateam B | F54: =IFERROR(VLOOKUP('2-Phase de classement-Padel'!D54,'Tour en Dur'!$E$4:$G$399,3,FALSE),0) -> L | G54: =E54 -> Bandanateam B | I54: =I38+Paramétrage!$F$26+Paramétrage!$F$27 -> 0.66041667 | R54: =I54 -> 0.66041667
H55: =$A$1&" - "&I55&" vs "&I56&" - "&I55 -> Padel - Les Tengos A vs Waral A - Les Tengos A | I55: =IF(F54="","",VLOOKUP("w",F53:G54,2,FALSE)) -> Les Tengos A | J55: =IFERROR(VLOOKUP('2-Phase de classement-Padel'!H55,'Tour en Dur'!$E$4:$G$399,3,FALSE),0) -> L | K55: =I55 -> Les Tengos A | Q55: =$A$1&" - "&R55&" vs "&R56&" - "&R55 -> Padel - Bandanateam B vs L'aile ou la cuite B - Bandanateam B | R55: =IF(F54="","",VLOOKUP("l",F53:G54,2,FALSE)) -> Bandanateam B | S55: =IFERROR(VLOOKUP('2-Phase de classement-Padel'!Q55,'Tour en Dur'!$E$4:$G$399,3,FALSE),0) -> W | T55: =R55 -> Bandanateam B
E56: =E52 -> 0.62569444 | H56: =$A$1&" - "&I55&" vs "&I56&" - "&I56 -> Padel - Les Tengos A vs Waral A - Waral A | I56: =IF(F58="","",VLOOKUP("w",F57:G58,2,FALSE)) -> Waral A | J56: =IFERROR(VLOOKUP('2-Phase de classement-Padel'!H56,'Tour en Dur'!$E$4:$G$399,3,FALSE),0) -> W | K56: =I56 -> Waral A | Q56: =$A$1&" - "&R55&" vs "&R56&" - "&R56 -> Padel - Bandanateam B vs L'aile ou la cuite B - L'aile ou la cuite B | R56: =IF(F58="","",VLOOKUP("l",F57:G58,2,FALSE)) -> L'aile ou la cuite B | S56: =IFERROR(VLOOKUP('2-Phase de classement-Padel'!Q56,'Tour en Dur'!$E$4:$G$399,3,FALSE),0) -> L | T56: =R56 -> L'aile ou la cuite B
D57: =$A$1&" - "&E57&" vs "&E58&" - "&E57 -> Padel - Waral A vs L'aile ou la cuite B - Waral A | E57: ='Param. - Transition'!C11 -> Waral A | F57: =IFERROR(VLOOKUP('2-Phase de classement-Padel'!D57,'Tour en Dur'!$E$4:$G$399,3,FALSE),0) -> W | G57: =E57 -> Waral A
D58: =$A$1&" - "&E57&" vs "&E58&" - "&E58 -> Padel - Waral A vs L'aile ou la cuite B - L'aile ou la cuite B | E58: ='Param. - Transition'!C14 -> L'aile ou la cuite B | F58: =IFERROR(VLOOKUP('2-Phase de classement-Padel'!D58,'Tour en Dur'!$E$4:$G$399,3,FALSE),0) -> L | G58: =E58 -> L'aile ou la cuite B | M58: =M42+Paramétrage!$F$26+Paramétrage!$F$27 -> 0.69513889 | V58: =M58 -> 0.69513889
L59: =$A$1&" - "&M59&" vs "&M60&" - "&M59 -> Padel - Waral A vs Les Fisbrmzv A - Waral A | M59: =IF(J56="","",VLOOKUP("w",J55:K56,2,FALSE)) -> Waral A | N59: =IFERROR(VLOOKUP('2-Phase de classement-Padel'!L59,'Tour en Dur'!$E$4:$G$399,3,FALSE),0) -> EC | O59: =M59 -> Waral A | U59: =$A$1&" - "&V59&" vs "&V60&" - "&V59 -> Padel - Bandanateam B vs Les torcheurs A - Bandanateam B | V59: =IF(S56="","",VLOOKUP("w",S55:T56,2,FALSE)) -> Bandanateam B | W59: =IFERROR(VLOOKUP('2-Phase de classement-Padel'!U59,'Tour en Dur'!$E$4:$G$399,3,FALSE),0) -> EC | X59: =V59 -> Bandanateam B
E60: =E56 -> 0.62569444 | L60: =$A$1&" - "&M59&" vs "&M60&" - "&M60 -> Padel - Waral A vs Les Fisbrmzv A - Les Fisbrmzv A | M60: =IF(J64="","",VLOOKUP("w",J63:K64,2,FALSE)) -> Les Fisbrmzv A | N60: =IFERROR(VLOOKUP('2-Phase de classement-Padel'!L60,'Tour en Dur'!$E$4:$G$399,3,FALSE),0) -> EC | O60: =M60 -> Les Fisbrmzv A | U60: =$A$1&" - "&V59&" vs "&V60&" - "&V60 -> Padel - Bandanateam B vs Les torcheurs A - Les torcheurs A | V60: =IF(S64="","",VLOOKUP("w",S63:T64,2,FALSE)) -> Les torcheurs A | W60: =IFERROR(VLOOKUP('2-Phase de classement-Padel'!U60,'Tour en Dur'!$E$4:$G$399,3,FALSE),0) -> EC | X60: =V60 -> Les torcheurs A
D61: =$A$1&" - "&E61&" vs "&E62&" - "&E61 -> Padel - Les Fisbrmzv A vs VitaMines B - Les Fisbrmzv A | E61: ='Param. - Transition'!C6 -> Les Fisbrmzv A | F61: =IFERROR(VLOOKUP('2-Phase de classement-Padel'!D61,'Tour en Dur'!$E$4:$G$399,3,FALSE),0) -> W | G61: =E61 -> Les Fisbrmzv A
D62: =$A$1&" - "&E61&" vs "&E62&" - "&E62 -> Padel - Les Fisbrmzv A vs VitaMines B - VitaMines B | E62: ='Param. - Transition'!C7 -> VitaMines B | F62: =IFERROR(VLOOKUP('2-Phase de classement-Padel'!D62,'Tour en Dur'!$E$4:$G$399,3,FALSE),0) -> L | G62: =E62 -> VitaMines B | I62: =I54 -> 0.66041667 | R62: =I54 -> 0.66041667
H63: =$A$1&" - "&I63&" vs "&I64&" - "&I63 -> Padel - Les Fisbrmzv A vs Bayer les verres culs sec B - Les Fisbrmzv A | I63: =IF(F62="","",VLOOKUP("w",F61:G62,2,FALSE)) -> Les Fisbrmzv A | J63: =IFERROR(VLOOKUP('2-Phase de classement-Padel'!H63,'Tour en Dur'!$E$4:$G$399,3,FALSE),0) -> W | K63: =I63 -> Les Fisbrmzv A | Q63: =$A$1&" - "&R63&" vs "&R64&" - "&R63 -> Padel - VitaMines B vs Les torcheurs A - VitaMines B | R63: =IF(F62="","",VLOOKUP("l",F61:G62,2,FALSE)) -> VitaMines B | S63: =IFERROR(VLOOKUP('2-Phase de classement-Padel'!Q63,'Tour en Dur'!$E$4:$G$399,3,FALSE),0) -> L | T63: =R63 -> VitaMines B
E64: =E60 -> 0.62569444 | H64: =$A$1&" - "&I63&" vs "&I64&" - "&I64 -> Padel - Les Fisbrmzv A vs Bayer les verres culs sec B - Bayer les verres culs sec B | I64: =IF(F66="","",VLOOKUP("w",F65:G66,2,FALSE)) -> Bayer les verres culs sec B | J64: =IFERROR(VLOOKUP('2-Phase de classement-Padel'!H64,'Tour en Dur'!$E$4:$G$399,3,FALSE),0) -> L | K64: =I64 -> Bayer les verres culs sec B | M64: =M58 -> 0.69513889 | Q64: =$A$1&" - "&R63&" vs "&R64&" - "&R64 -> Padel - VitaMines B vs Les torcheurs A - Les torcheurs A | R64: =IF(F66="","",VLOOKUP("l",F65:G66,2,FALSE)) -> Les torcheurs A | S64: =IFERROR(VLOOKUP('2-Phase de classement-Padel'!Q64,'Tour en Dur'!$E$4:$G$399,3,FALSE),0) -> W | T64: =R64 -> Les torcheurs A | V64: =M58 -> 0.69513889
D65: =$A$1&" - "&E65&" vs "&E66&" - "&E65 -> Padel - Les torcheurs A vs Bayer les verres culs sec B - Les torcheurs A | E65: ='Param. - Transition'!C12 -> Les torcheurs A | F65: =IFERROR(VLOOKUP('2-Phase de classement-Padel'!D65,'Tour en Dur'!$E$4:$G$399,3,FALSE),0) -> L | G65: =E65 -> Les torcheurs A | L65: =$A$1&" - "&M65&" vs "&M66&" - "&M65 -> Padel - Les Tengos A vs Bayer les verres culs sec B - Les Tengos A | M65: =IF(J56="","",VLOOKUP("L",J55:K56,2,FALSE)) -> Les Tengos A | N65: =IFERROR(VLOOKUP('2-Phase de classement-Padel'!L65,'Tour en Dur'!$E$4:$G$399,3,FALSE),0) -> EC | O65: =M65 -> Les Tengos A | U65: =$A$1&" - "&V65&" vs "&V66&" - "&V65 -> Padel - L'aile ou la cuite B vs VitaMines B - L'aile ou la cuite B | V65: =IF(S56="","",VLOOKUP("L",S55:T56,2,FALSE)) -> L'aile ou la cuite B | W65: =IFERROR(VLOOKUP('2-Phase de classement-Padel'!U65,'Tour en Dur'!$E$4:$G$399,3,FALSE),0) -> EC | X65: =V65 -> L'aile ou la cuite B
D66: =$A$1&" - "&E65&" vs "&E66&" - "&E66 -> Padel - Les torcheurs A vs Bayer les verres culs sec B - Bayer les verres culs sec B | E66: ='Param. - Transition'!C13 -> Bayer les verres culs sec B | F66: =IFERROR(VLOOKUP('2-Phase de classement-Padel'!D66,'Tour en Dur'!$E$4:$G$399,3,FALSE),0) -> W | G66: =E66 -> Bayer les verres culs sec B | L66: =$A$1&" - "&M65&" vs "&M66&" - "&M66 -> Padel - Les Tengos A vs Bayer les verres culs sec B - Bayer les verres culs sec B | M66: =IF(J64="","",VLOOKUP("L",J63:K64,2,FALSE)) -> Bayer les verres culs sec B | N66: =IFERROR(VLOOKUP('2-Phase de classement-Padel'!L66,'Tour en Dur'!$E$4:$G$399,3,FALSE),0) -> EC | O66: =M66 -> Bayer les verres culs sec B | U66: =$A$1&" - "&V65&" vs "&V66&" - "&V66 -> Padel - L'aile ou la cuite B vs VitaMines B - VitaMines B | V66: =IF(S64="","",VLOOKUP("L",S63:T64,2,FALSE)) -> VitaMines B | W66: =IFERROR(VLOOKUP('2-Phase de classement-Padel'!U66,'Tour en Dur'!$E$4:$G$399,3,FALSE),0) -> EC | X66: =V66 -> VitaMines B
E68: =E64+Paramétrage!$F$26+Paramétrage!$F$27 -> 0.63263889
D69: =$A$1&" - "&E69&" vs "&E70&" - "&E69 -> Padel - Roue Libre A vs Les Fisbrmzv B - Roue Libre A | E69: ='Param. - Transition'!B5 -> Roue Libre A | F69: =IFERROR(VLOOKUP('2-Phase de classement-Padel'!D69,'Tour en Dur'!$E$4:$G$399,3,FALSE),0) -> L | G69: =E69 -> Roue Libre A
D70: =$A$1&" - "&E69&" vs "&E70&" - "&E70 -> Padel - Roue Libre A vs Les Fisbrmzv B - Les Fisbrmzv B | E70: ='Param. - Transition'!B8 -> Les Fisbrmzv B | F70: =IFERROR(VLOOKUP('2-Phase de classement-Padel'!D70,'Tour en Dur'!$E$4:$G$399,3,FALSE),0) -> W | G70: =E70 -> Les Fisbrmzv B | I70: =I54+Paramétrage!$F$26+Paramétrage!$F$27 -> 0.66736111 | R70: =I70 -> 0.66736111
H71: =$A$1&" - "&I71&" vs "&I72&" - "&I71 -> Padel - Les Fisbrmzv B vs Blockudoku B - Les Fisbrmzv B | I71: =IF(F70="","",VLOOKUP("w",F69:G70,2,FALSE)) -> Les Fisbrmzv B | J71: =IFERROR(VLOOKUP('2-Phase de classement-Padel'!H71,'Tour en Dur'!$E$4:$G$399,3,FALSE),0) -> W | K71: =I71 -> Les Fisbrmzv B | Q71: =$A$1&" - "&R71&" vs "&R72&" - "&R71 -> Padel - Roue Libre A vs Celtics Grave Gros A - Roue Libre A | R71: =IF(F70="","",VLOOKUP("l",F69:G70,2,FALSE)) -> Roue Libre A | S71: =IFERROR(VLOOKUP('2-Phase de classement-Padel'!Q71,'Tour en Dur'!$E$4:$G$399,3,FALSE),0) -> L | T71: =R71 -> Roue Libre A
E72: =E68 -> 0.63263889 | H72: =$A$1&" - "&I71&" vs "&I72&" - "&I72 -> Padel - Les Fisbrmzv B vs Blockudoku B - Blockudoku B | I72: =IF(F74="","",VLOOKUP("w",F73:G74,2,FALSE)) -> Blockudoku B | J72: =IFERROR(VLOOKUP('2-Phase de classement-Padel'!H72,'Tour en Dur'!$E$4:$G$399,3,FALSE),0) -> L | K72: =I72 -> Blockudoku B | Q72: =$A$1&" - "&R71&" vs "&R72&" - "&R72 -> Padel - Roue Libre A vs Celtics Grave Gros A - Celtics Grave Gros A | R72: =IF(F74="","",VLOOKUP("l",F73:G74,2,FALSE)) -> Celtics Grave Gros A | S72: =IFERROR(VLOOKUP('2-Phase de classement-Padel'!Q72,'Tour en Dur'!$E$4:$G$399,3,FALSE),0) -> W | T72: =R72 -> Celtics Grave Gros A
D73: =$A$1&" - "&E73&" vs "&E74&" - "&E73 -> Padel - Celtics Grave Gros A vs Blockudoku B - Celtics Grave Gros A | E73: ='Param. - Transition'!B11 -> Celtics Grave Gros A | F73: =IFERROR(VLOOKUP('2-Phase de classement-Padel'!D73,'Tour en Dur'!$E$4:$G$399,3,FALSE),0) -> L | G73: =E73 -> Celtics Grave Gros A
D74: =$A$1&" - "&E73&" vs "&E74&" - "&E74 -> Padel - Celtics Grave Gros A vs Blockudoku B - Blockudoku B | E74: ='Param. - Transition'!B14 -> Blockudoku B | F74: =IFERROR(VLOOKUP('2-Phase de classement-Padel'!D74,'Tour en Dur'!$E$4:$G$399,3,FALSE),0) -> W | G74: =E74 -> Blockudoku B | M74: =M58+Paramétrage!$F$26+Paramétrage!$F$27 -> 0.70208333 | V74: =M74 -> 0.70208333
L75: =$A$1&" - "&M75&" vs "&M76&" - "&M75 -> Padel - Les Fisbrmzv B vs Waral B - Les Fisbrmzv B | M75: =IF(J72="","",VLOOKUP("w",J71:K72,2,FALSE)) -> Les Fisbrmzv B | N75: =IFERROR(VLOOKUP('2-Phase de classement-Padel'!L75,'Tour en Dur'!$E$4:$G$399,3,FALSE),0) -> EC | O75: =M75 -> Les Fisbrmzv B | U75: =$A$1&" - "&V75&" vs "&V76&" - "&V75 -> Padel - Celtics Grave Gros A vs L'aile ou la cuite A - Celtics Grave Gros A | V75: =IF(S72="","",VLOOKUP("w",S71:T72,2,FALSE)) -> Celtics Grave Gros A | W75: =IFERROR(VLOOKUP('2-Phase de classement-Padel'!U75,'Tour en Dur'!$E$4:$G$399,3,FALSE),0) -> 0 | X75: =V75 -> Celtics Grave Gros A
E76: =E72 -> 0.63263889 | L76: =$A$1&" - "&M75&" vs "&M76&" - "&M76 -> Padel - Les Fisbrmzv B vs Waral B - Waral B | M76: =IF(J80="","",VLOOKUP("w",J79:K80,2,FALSE)) -> Waral B | N76: =IFERROR(VLOOKUP('2-Phase de classement-Padel'!L76,'Tour en Dur'!$E$4:$G$399,3,FALSE),0) -> EC | O76: =M76 -> Waral B | U76: =$A$1&" - "&V75&" vs "&V76&" - "&V76 -> Padel - Celtics Grave Gros A vs L'aile ou la cuite A - L'aile ou la cuite A | V76: =IF(S80="","",VLOOKUP("w",S79:T80,2,FALSE)) -> L'aile ou la cuite A | W76: =IFERROR(VLOOKUP('2-Phase de classement-Padel'!U76,'Tour en Dur'!$E$4:$G$399,3,FALSE),0) -> 0 | X76: =V76 -> L'aile ou la cuite A
D77: =$A$1&" - "&E77&" vs "&E78&" - "&E77 -> Padel - Bandanateam A vs Les Tengos B - Bandanateam A | E77: ='Param. - Transition'!B6 -> Bandanateam A | F77: =IFERROR(VLOOKUP('2-Phase de classement-Padel'!D77,'Tour en Dur'!$E$4:$G$399,3,FALSE),0) -> W | G77: =E77 -> Bandanateam A
D78: =$A$1&" - "&E77&" vs "&E78&" - "&E78 -> Padel - Bandanateam A vs Les Tengos B - Les Tengos B | E78: ='Param. - Transition'!B7 -> Les Tengos B | F78: =IFERROR(VLOOKUP('2-Phase de classement-Padel'!D78,'Tour en Dur'!$E$4:$G$399,3,FALSE),0) -> L | G78: =E78 -> Les Tengos B | I78: =I70 -> 0.66736111 | R78: =I70 -> 0.66736111
H79: =$A$1&" - "&I79&" vs "&I80&" - "&I79 -> Padel - Bandanateam A vs Waral B - Bandanateam A | I79: =IF(F78="","",VLOOKUP("w",F77:G78,2,FALSE)) -> Bandanateam A | J79: =IFERROR(VLOOKUP('2-Phase de classement-Padel'!H79,'Tour en Dur'!$E$4:$G$399,3,FALSE),0) -> L | K79: =I79 -> Bandanateam A | Q79: =$A$1&" - "&R79&" vs "&R80&" - "&R79 -> Padel - Les Tengos B vs L'aile ou la cuite A - Les Tengos B | R79: =IF(F78="","",VLOOKUP("l",F77:G78,2,FALSE)) -> Les Tengos B | S79: =IFERROR(VLOOKUP('2-Phase de classement-Padel'!Q79,'Tour en Dur'!$E$4:$G$399,3,FALSE),0) -> L | T79: =R79 -> Les Tengos B
E80: =E76 -> 0.63263889 | H80: =$A$1&" - "&I79&" vs "&I80&" - "&I80 -> Padel - Bandanateam A vs Waral B - Waral B | I80: =IF(F82="","",VLOOKUP("w",F81:G82,2,FALSE)) -> Waral B | J80: =IFERROR(VLOOKUP('2-Phase de classement-Padel'!H80,'Tour en Dur'!$E$4:$G$399,3,FALSE),0) -> W | K80: =I80 -> Waral B | M80: =M74 -> 0.70208333 | Q80: =$A$1&" - "&R79&" vs "&R80&" - "&R80 -> Padel - Les Tengos B vs L'aile ou la cuite A - L'aile ou la cuite A | R80: =IF(F82="","",VLOOKUP("l",F81:G82,2,FALSE)) -> L'aile ou la cuite A | S80: =IFERROR(VLOOKUP('2-Phase de classement-Padel'!Q80,'Tour en Dur'!$E$4:$G$399,3,FALSE),0) -> W | T80: =R80 -> L'aile ou la cuite A | V80: =M74 -> 0.70208333
D81: =$A$1&" - "&E81&" vs "&E82&" - "&E81 -> Padel - L'aile ou la cuite A vs Waral B - L'aile ou la cuite A | E81: ='Param. - Transition'!B12 -> L'aile ou la cuite A | F81: =IFERROR(VLOOKUP('2-Phase de classement-Padel'!D81,'Tour en Dur'!$E$4:$G$399,3,FALSE),0) -> L | G81: =E81 -> L'aile ou la cuite A | L81: =$A$1&" - "&M81&" vs "&M82&" - "&M81 -> Padel - Blockudoku B vs Bandanateam A - Blockudoku B | M81: =IF(J72="","",VLOOKUP("L",J71:K72,2,FALSE)) -> Blockudoku B | N81: =IFERROR(VLOOKUP('2-Phase de classement-Padel'!L81,'Tour en Dur'!$E$4:$G$399,3,FALSE),0) -> EC | O81: =M81 -> Blockudoku B | U81: =$A$1&" - "&V81&" vs "&V82&" - "&V81 -> Padel - Roue Libre A vs Les Tengos B - Roue Libre A | V81: =IF(S72="","",VLOOKUP("L",S71:T72,2,FALSE)) -> Roue Libre A | W81: =IFERROR(VLOOKUP('2-Phase de classement-Padel'!U81,'Tour en Dur'!$E$4:$G$399,3,FALSE),0) -> 0 | X81: =V81 -> Roue Libre A
D82: =$A$1&" - "&E81&" vs "&E82&" - "&E82 -> Padel - L'aile ou la cuite A vs Waral B - Waral B | E82: ='Param. - Transition'!B13 -> Waral B | F82: =IFERROR(VLOOKUP('2-Phase de classement-Padel'!D82,'Tour en Dur'!$E$4:$G$399,3,FALSE),0) -> W | G82: =E82 -> Waral B | L82: =$A$1&" - "&M81&" vs "&M82&" - "&M82 -> Padel - Blockudoku B vs Bandanateam A - Bandanateam A | M82: =IF(J80="","",VLOOKUP("L",J79:K80,2,FALSE)) -> Bandanateam A | N82: =IFERROR(VLOOKUP('2-Phase de classement-Padel'!L82,'Tour en Dur'!$E$4:$G$399,3,FALSE),0) -> EC | O82: =M82 -> Bandanateam A | U82: =$A$1&" - "&V81&" vs "&V82&" - "&V82 -> Padel - Roue Libre A vs Les Tengos B - Les Tengos B | V82: =IF(S80="","",VLOOKUP("L",S79:T80,2,FALSE)) -> Les Tengos B | W82: =IFERROR(VLOOKUP('2-Phase de classement-Padel'!U82,'Tour en Dur'!$E$4:$G$399,3,FALSE),0) -> 0 | X82: =V82 -> Les Tengos B
V85: Fin
V86: =M74+Paramétrage!$F$26+Paramétrage!$F$27 -> 0.70902778

Sheet BDD Tour
A1: PADEL tour 1 | I1: Nb caractère equipe 1 | J1: Nb caractère equipe 2 | K1: Est c que les 2 équipes sont présentes | X1: Badminton | AC1: Match joué ou non | AD1: Est-ce qu'il joue en ce moment ou sur le tour d'avant | AE1: Nb caractère equipe 1 | AF1: Nb caractère equipe 2 | AG1: Est c que les 2 équipes sont présentes | AX1: Padel tour 2 | BC1: Match joué ou non | BD1: Est-ce qu'il joue en ce moment ou sur le tour d'avant | BE1: Est-ce qu'il joue en ce moment ou sur le tour d'avant | BF1: Nb caractère equipe 1 | BG1: Nb caractère equipe 2 | BH1: Est c que les 2 équipes sont présentes | BY1: PADEL tour 1 | CE1: Est-ce qu'il joue en ce moment ou sur le tour d'avant | CG1: Nb caractère equipe 1 | CH1: Nb caractère equipe 2 | CI1: Est c que les 2 équipes sont présentes
A2: Num de match | B2: ID Match | C2: Sport | D2: Equipe 1 | E2: Equipe 2 | F2: Q1 | G2: Colonne1 | H2: Colonne2 | I2: Q3 | J2: Q4 | K2: Q5 | M2: Num de match | N2: ID Match | O2: Sport | P2: Equipe 1 | Q2: Equipe 2 | R2: Q1 | S2: Q2 | T2: Q3 | U2: Q4 | V2: Q5 | X2: Num de match | Y2: ID Match | Z2: Sport | AA2: Equipe 1 | AB2: Equipe 2 | AC2: Q1 | AD2: Q2 | AE2: Q3 | AF2: Q4 | AG2: Q5 | AI2: Num de match | AJ2: ID Match | AK2: Sport | AL2: Equipe 1 | AM2: Equipe 2 | AN2: Q1 | AO2: Q2 | AP2: Q3 | AQ2: Q4 | AR2: Q5 | AS2: Q6 | AT2: Q7 | AU2: Q8 | AV2: Q9 | AX2: Num de match | AY2: ID Match | AZ2: Sport | BA2: Equipe 1 | BB2: Equipe 2 | BC2: Q1 | BD2: Q2 | BE2: Q2(bis) | BF2: Q3 | BG2: Q4 | BH2: Q5 | BJ2: Num de match | BK2: ID Match | BL2: Sport | BM2: Equipe 1 | BN2: Equipe 2 | BO2: Q1 | BP2: Q2 | BQ2: Q3 | BR2: Q4 | BS2: Q5 | BT2: Q6 | BU2: Q7 | BV2: Q8 | BW2: Q9 | BY2: Num de match | BZ2: ID Match | CA2: Sport | CB2: Equipe 1 | CC2: Equipe 2 | CD2: Q1 | CE2: Q2 | CF2: Q2(bis) | CG2: Q3 | CH2: Q4 | CI2: Q5
A3: 1 | B3: =Tableau1[[#This Row],[Sport]]&" - "&Tableau1[[#This Row],[Equipe 1]]&" vs "&Tableau1[[#This Row],[Equipe 2]] -> Padel - Akatsuki A vs Facilement B | C3: Padel | D3: ='2-Phase de classement-Padel'!$E$5 -> Akatsuki A | E3: ='2-Phase de classement-Padel'!$E$6 -> Facilement B | F3: ='2-Phase de classement-Padel'!$F$6 -> L | I3: =LEN(Tableau1[[#This Row],[Equipe 1]]) -> 10 | J3: =LEN(Tableau1[[#This Row],[Equipe 2]]) -> 12 | K3: =IFERROR(IF(Tableau1[[#This Row],[Q3]]>0,1,0)+IF(Tableau1[[#This Row],[Q4]]>0,1,0),0) -> 2 | M3: {=_xlfn._xlws.SORT(_xlfn._xlws.FILTER(Tableau1[],(Tableau1[Q1]=0)*(Tableau1[Q5]=2),""),1,1,FALSE)} -> 35 | N3: Padel - Les torcheurs B vs Floyouyat A | O3: Padel | P3: Les torcheurs B | Q3: Floyouyat A | R3: 0 | S3: 0 | T3: 0 | U3: 15 | V3: 11 | W3: 2 | X3: 1 | Y3: =Tableau2[[#This Row],[Sport]]&" - "&Tableau2[[#This Row],[Equipe 1]]&" vs "&Tableau2[[#This Row],[Equipe 2]] -> Badminton - Gett'up B vs Lazio de Rhum B | Z3: Badminton | AA3: ='2-Phase de classement-Bad'!$E$5 -> Gett'up B | AB3: ='2-Phase de classement-Bad'!$E$6 -> Lazio de Rhum B | AC3: ='2-Phase de classement-Bad'!$F$6 -> L | AD3: =IFERROR(IF(_xlfn.XLOOKUP(Tableau2[[#This Row],[Equipe 2]],$P$3:$P$6,$P$3:$P$6,0)=Tableau2[[#This Row],[Equipe 2]],Tableau2[[#This Row],[Equipe 2]],IF(_xlfn.XLOOKUP(Tableau2[[#This Row],[Equipe 2]],$Q$3:$Q$6,$Q$3:$Q$6,0)=Tableau2[[#This Row],[Equipe 2]],Tableau2[[#This Row],[Equipe 2]],IF(_xlfn.XLOOKUP(Tableau2[[#This Row],[Equipe 1]],$P$3:$P$6,$P$3:$P$6,0)=Tableau2[[#This Row],[Equipe 1]],Tableau2[[#This Row],[Equipe 1]],_xlfn.XLOOKUP(Tableau2[[#This Row],[Equipe 1]],$Q$3:$Q$6,$Q$3:$Q$6,0)))),0) -> 0 | AE3: =LEN(Tableau2[[#This Row],[Equipe 1]]) -> 9 | AF3: =LEN(Tableau2[[#This Row],[Equipe 2]]) -> 15 | AG3: =IFERROR(IF(Tableau2[[#This Row],[Q3]]>0,1,0)+IF(Tableau2[[#This Row],[Q4]]>0,1,0),0) -> 2 | AI3: {=_xlfn._xlws.SORT(_xlfn._xlws.FILTER(Tableau2[],(Tableau2[Q1]=0)*(Tableau2[Q2]=0)*(Tableau2[Q5]=2),""),1,1,FALSE)} -> 32 | AJ3: Badminton - Akatsuki B vs Facilement B | AK3: Badminton | AL3: Akatsuki B | AM3: Facilement B | AN3: 0 | AO3: 0 | AP3: 10 | AQ3: 12 | AR3: 2 | AX3: 1 | AY3: =Tableau1[[#This Row],[Sport]]&" - "&Tableau1[[#This Row],[Equipe 1]]&" vs "&Tableau1[[#This Row],[Equipe 2]] -> Padel - Akatsuki A vs Facilement B | AZ3: Padel | BA3: ='2-Phase de classement-Padel'!$E$5 -> Akatsuki A | BB3: ='2-Phase de classement-Padel'!$E$6 -> Facilement B | BC3: ='2-Phase de classement-Padel'!$F$6 -> L | BD3: =IFERROR(IF(_xlfn.XLOOKUP(Tableau3[[#This Row],[Equipe 2]],$P$3:$P$6,$P$3:$P$6,0)=Tableau3[[#This Row],[Equipe 2]],Tableau3[[#This Row],[Equipe 2]],IF(_xlfn.XLOOKUP(Tableau3[[#This Row],[Equipe 2]],$Q$3:$Q$6,$Q$3:$Q$6,0)=Tableau3[[#This Row],[Equipe 2]],Tableau3[[#This Row],[Equipe 2]],IF(_xlfn.XLOOKUP(Tableau3[[#This Row],[Equipe 1]],$P$3:$P$6,$P$3:$P$6,0)=Tableau3[[#This Row],[Equipe 1]],Tableau3[[#This Row],[Equipe 1]],_xlfn.XLOOKUP(Tableau3[[#This Row],[Equipe 1]],$Q$3:$Q$6,$Q$3:$Q$6,0)))),0) -> 0 | BE3: =IFERROR(IF(_xlfn.XLOOKUP(Tableau3[[#This Row],[Equipe 2]],$AL$3:$AL$10,$AL$3:$AL$10,0)=Tableau3[[#This Row],[Equipe 2]],Tableau3[[#This Row],[Equipe 2]],IF(_xlfn.XLOOKUP(Tableau3[[#This Row],[Equipe 2]],$AM$3:$AM$10,$AM$3:$AM$10,0)=Tableau3[[#This Row],[Equipe 2]],Tableau3[[#This Row],[Equipe 2]],IF(_xlfn.XLOOKUP(Tableau3[[#This Row],[Equipe 1]],$AL$3:$AL$10,$AL$3:$AL$10,0)=Tableau3[[#This Row],[Equipe 1]],Tableau3[[#This Row],[Equipe 1]],_xlfn.XLOOKUP(Tableau3[[#This Row],[Equipe 1]],$AM$3:$AM$10,$AM$3:$AM$10,0)))),0) -> Facilement B | BF3: =LEN(Tableau3[[#This Row],[Equipe 1]]) -> 10 | BG3: =LEN(Tableau3[[#This Row],[Equipe 2]]) -> 12 | BH3: =IFERROR(IF(Tableau3[[#This Row],[Q3]]>0,1,0)+IF(Tableau3[[#This Row],[Q4]]>0,1,0),0) -> 2 | BJ3: {=_xlfn._xlws.SORT(_xlfn._xlws.FILTER(Tableau3[],(Tableau3[Q1]=0)*(Tableau3[Q2(bis)]=0)*(Tableau3[Q2]=0)*(Tableau3[Q5]=2),""),1,1,FALSE)} | BY3: 1 | BZ3: =Tableau15[[#This Row],[Sport]]&" - "&Tableau15[[#This Row],[Equipe 1]]&" vs "&Tableau15[[#This Row],[Equipe 2]] -> Padel - Akatsuki A vs Facilement B | CA3: Padel | CB3: ='2-Phase de classement-Padel'!$E$5 -> Akatsuki A | CC3: ='2-Phase de classement-Padel'!$E$6 -> Facilement B | CD3: ='2-Phase de classement-Padel'!$F$6 -> L | CE3: =IFERROR(IF(_xlfn.XLOOKUP(Tableau15[[#This Row],[Equipe 2]],$BM$3:$BM$6,$BM$3:$BM$6,0)=Tableau15[[#This Row],[Equipe 2]],Tableau15[[#This Row],[Equipe 2]],IF(_xlfn.XLOOKUP(Tableau15[[#This Row],[Equipe 2]],$BN$3:$BN$6,$BN$3:$BN$6,0)=Tableau15[[#This Row],[Equipe 2]],Tableau15[[#This Row],[Equipe 2]],IF(_xlfn.XLOOKUP(Tableau15[[#This Row],[Equipe 1]],$BM$3:$BM$6,$BM$3:$BM$6,0)=Tableau15[[#This Row],[Equipe 1]],Tableau15[[#This Row],[Equipe 1]],_xlfn.XLOOKUP(Tableau15[[#This Row],[Equipe 1]],$BN$3:$BN$6,$BN$3:$BN$6,0)))),0) -> 0 | CF3: =IFERROR(IF(_xlfn.XLOOKUP(Tableau15[[#This Row],[Equipe 2]],$AL$7:$AL$10,$AL$7:$AL$10,0)=Tableau15[[#This Row],[Equipe 2]],Tableau15[[#This Row],[Equipe 2]],IF(_xlfn.XLOOKUP(Tableau15[[#This Row],[Equipe 2]],$AM$7:$AM$10,$AM$7:$AM$10,0)=Tableau15[[#This Row],[Equipe 2]],Tableau15[[#This Row],[Equipe 2]],IF(_xlfn.XLOOKUP(Tableau15[[#This Row],[Equipe 1]],$AL$7:$AL$10,$AL$7:$AL$10,0)=Tableau15[[#This Row],[Equipe 1]],Tableau15[[#This Row],[Equipe 1]],_xlfn.XLOOKUP(Tableau15[[#This Row],[Equipe 1]],$AM$7:$AM$10,$AM$7:$AM$10,0)))),0) -> 0 | CG3: =LEN(Tableau15[[#This Row],[Equipe 1]]) -> 10 | CH3: =LEN(Tableau15[[#This Row],[Equipe 2]]) -> 12 | CI3: =IFERROR(IF(Tableau15[[#This Row],[Q3]]>0,1,0)+IF(Tableau15[[#This Row],[Q4]]>0,1,0),0) -> 2
A4: 2 | B4: =Tableau1[[#This Row],[Sport]]&" - "&Tableau1[[#This Row],[Equipe 1]]&" vs "&Tableau1[[#This Row],[Equipe 2]] -> Padel - Gett'up A vs Pooldeads B | C4: Padel | D4: ='2-Phase de classement-Padel'!$E$9 -> Gett'up A | E4: ='2-Phase de classement-Padel'!$E$10 -> Pooldeads B | F4: ='2-Phase de classement-Padel'!$F$10 -> W | I4: =LEN(Tableau1[[#This Row],[Equipe 1]]) -> 9 | J4: =LEN(Tableau1[[#This Row],[Equipe 2]]) -> 11 | K4: =IFERROR(IF(Tableau1[[#This Row],[Q3]]>0,1,0)+IF(Tableau1[[#This Row],[Q4]]>0,1,0),0) -> 2 | M4: 36 | N4: Padel - Téléteubiloutes A vs Celtics Grave Gros B | O4: Padel | P4: Téléteubiloutes A | Q4: Celtics Grave Gros B | R4: 0 | S4: 0 | T4: 0 | U4: 17 | V4: 20 | W4: 2 | X4: 2 | Y4: =Tableau2[[#This Row],[Sport]]&" - "&Tableau2[[#This Row],[Equipe 1]]&" vs "&Tableau2[[#This Row],[Equipe 2]] -> Badminton - Akatsuki B vs Facilement A | Z4: Badminton | AA4: ='2-Phase de classement-Bad'!$E$9 -> Akatsuki B | AB4: ='2-Phase de classement-Bad'!$E$10 -> Facilement A | AC4: ='2-Phase de classement-Bad'!$F$10 -> L | AD4: =IFERROR(IF(_xlfn.XLOOKUP(Tableau2[[#This Row],[Equipe 2]],$P$3:$P$6,$P$3:$P$6,0)=Tableau2[[#This Row],[Equipe 2]],Tableau2[[#This Row],[Equipe 2]],IF(_xlfn.XLOOKUP(Tableau2[[#This Row],[Equipe 2]],$Q$3:$Q$6,$Q$3:$Q$6,0)=Tableau2[[#This Row],[Equipe 2]],Tableau2[[#This Row],[Equipe 2]],IF(_xlfn.XLOOKUP(Tableau2[[#This Row],[Equipe 1]],$P$3:$P$6,$P$3:$P$6,0)=Tableau2[[#This Row],[Equipe 1]],Tableau2[[#This Row],[Equipe 1]],_xlfn.XLOOKUP(Tableau2[[#This Row],[Equipe 1]],$Q$3:$Q$6,$Q$3:$Q$6,0)))),0) -> 0 | AE4: =LEN(Tableau2[[#This Row],[Equipe 1]]) -> 10 | AF4: =LEN(Tableau2[[#This Row],[Equipe 2]]) -> 12 | AG4: =IFERROR(IF(Tableau2[[#This Row],[Q3]]>0,1,0)+IF(Tableau2[[#This Row],[Q4]]>0,1,0),0) -> 2 | AI4: 32 | AJ4: Badminton - Facilement A vs Akatsuki A | AK4: Badminton | AL4: Facilement A | AM4: Akatsuki A | AN4: 0 | AO4: 0 | AP4: 12 | AQ4: 10 | AR4: 2 | AX4: 2 | AY4: =Tableau1[[#This Row],[Sport]]&" - "&Tableau1[[#This Row],[Equipe 1]]&" vs "&Tableau1[[#This Row],[Equipe 2]] -> Padel - Gett'up A vs Pooldeads B | AZ4: Padel | BA4: ='2-Phase de classement-Padel'!$E$9 -> Gett'up A | BB4: ='2-Phase de classement-Padel'!$E$10 -> Pooldeads B | BC4: ='2-Phase de classement-Padel'!$F$10 -> W | BD4: =IFERROR(IF(_xlfn.XLOOKUP(Tableau3[[#This Row],[Equipe 2]],$P$3:$P$6,$P$3:$P$6,0)=Tableau3[[#This Row],[Equipe 2]],Tableau3[[#This Row],[Equipe 2]],IF(_xlfn.XLOOKUP(Tableau3[[#This Row],[Equipe 2]],$Q$3:$Q$6,$Q$3:$Q$6,0)=Tableau3[[#This Row],[Equipe 2]],Tableau3[[#This Row],[Equipe 2]],IF(_xlfn.XLOOKUP(Tableau3[[#This Row],[Equipe 1]],$P$3:$P$6,$P$3:$P$6,0)=Tableau3[[#This Row],[Equipe 1]],Tableau3[[#This Row],[Equipe 1]],_xlfn.XLOOKUP(Tableau3[[#This Row],[Equipe 1]],$Q$3:$Q$6,$Q$3:$Q$6,0)))),0) -> 0 | BE4: =IFERROR(IF(_xlfn.XLOOKUP(Tableau3[[#This Row],[Equipe 2]],$AL$3:$AL$10,$AL$3:$AL$10,0)=Tableau3[[#This Row],[Equipe 2]],Tableau3[[#This Row],[Equipe 2]],IF(_xlfn.XLOOKUP(Tableau3[[#This Row],[Equipe 2]],$AM$3:$AM$10,$AM$3:$AM$10,0)=Tableau3[[#This Row],[Equipe 2]],Tableau3[[#This Row],[Equipe 2]],IF(_xlfn.XLOOKUP(Tableau3[[#This Row],[Equipe 1]],$AL$3:$AL$10,$AL$3:$AL$10,0)=Tableau3[[#This Row],[Equipe 1]],Tableau3[[#This Row],[Equipe 1]],_xlfn.XLOOKUP(Tableau3[[#This Row],[Equipe 1]],$AM$3:$AM$10,$AM$3:$AM$10,0)))),0) -> 0 | BF4: =LEN(Tableau3[[#This Row],[Equipe 1]]) -> 9 | BG4: =LEN(Tableau3[[#This Row],[Equipe 2]]) -> 11 | BH4: =IFERROR(IF(Tableau3[[#This Row],[Q3]]>0,1,0)+IF(Tableau3[[#This Row],[Q4]]>0,1,0),0) -> 2 | BY4: 2 | BZ4: =Tableau15[[#This Row],[Sport]]&" - "&Tableau15[[#This Row],[Equipe 1]]&" vs "&Tableau15[[#This Row],[Equipe 2]] -> Padel - Gett'up A vs Pooldeads B | CA4: Padel | CB4: ='2-Phase de classement-Padel'!$E$9 -> Gett'up A | CC4: ='2-Phase de classement-Padel'!$E$10 -> Pooldeads B | CD4: ='2-Phase de classement-Padel'!$F$10 -> W | CE4: =IFERROR(IF(_xlfn.XLOOKUP(Tableau15[[#This Row],[Equipe 2]],$BM$3:$BM$6,$BM$3:$BM$6,0)=Tableau15[[#This Row],[Equipe 2]],Tableau15[[#This Row],[Equipe 2]],IF(_xlfn.XLOOKUP(Tableau15[[#This Row],[Equipe 2]],$BN$3:$BN$6,$BN$3:$BN$6,0)=Tableau15[[#This Row],[Equipe 2]],Tableau15[[#This Row],[Equipe 2]],IF(_xlfn.XLOOKUP(Tableau15[[#This Row],[Equipe 1]],$BM$3:$BM$6,$BM$3:$BM$6,0)=Tableau15[[#This Row],[Equipe 1]],Tableau15[[#This Row],[Equipe 1]],_xlfn.XLOOKUP(Tableau15[[#This Row],[Equipe 1]],$BN$3:$BN$6,$BN$3:$BN$6,0)))),0) -> 0 | CF4: =IFERROR(IF(_xlfn.XLOOKUP(Tableau15[[#This Row],[Equipe 2]],$AL$7:$AL$10,$AL$7:$AL$10,0)=Tableau15[[#This Row],[Equipe 2]],Tableau15[[#This Row],[Equipe 2]],IF(_xlfn.XLOOKUP(Tableau15[[#This Row],[Equipe 2]],$AM$7:$AM$10,$AM$7:$AM$10,0)=Tableau15[[#This Row],[Equipe 2]],Tableau15[[#This Row],[Equipe 2]],IF(_xlfn.XLOOKUP(Tableau15[[#This Row],[Equipe 1]],$AL$7:$AL$10,$AL$7:$AL$10,0)=Tableau15[[#This Row],[Equipe 1]],Tableau15[[#This Row],[Equipe 1]],_xlfn.XLOOKUP(Tableau15[[#This Row],[Equipe 1]],$AM$7:$AM$10,$AM$7:$AM$10,0)))),0) -> 0 | CG4: =LEN(Tableau15[[#This Row],[Equipe 1]]) -> 9 | CH4: =LEN(Tableau15[[#This Row],[Equipe 2]]) -> 11 | CI4: =IFERROR(IF(Tableau15[[#This Row],[Q3]]>0,1,0)+IF(Tableau15[[#This Row],[Q4]]>0,1,0),0) -> 2
A5: 3 | B5: =Tableau1[[#This Row],[Sport]]&" - "&Tableau1[[#This Row],[Equipe 1]]&" vs "&Tableau1[[#This Row],[Equipe 2]] -> Padel - Les inconnus A vs Roue Libre B | C5: Padel | D5: ='2-Phase de classement-Padel'!$E$13 -> Les inconnus A | E5: ='2-Phase de classement-Padel'!$E$14 -> Roue Libre B | F5: ='2-Phase de classement-Padel'!$F$14 -> L | I5: =LEN(Tableau1[[#This Row],[Equipe 1]]) -> 14 | J5: =LEN(Tableau1[[#This Row],[Equipe 2]]) -> 12 | K5: =IFERROR(IF(Tableau1[[#This Row],[Q3]]>0,1,0)+IF(Tableau1[[#This Row],[Q4]]>0,1,0),0) -> 2 | M5: 39 | N5: Padel - Celtics Grave Gros A vs L'aile ou la cuite A | O5: Padel | P5: Celtics Grave Gros A | Q5: L'aile ou la cuite A | R5: 0 | S5: 0 | T5: 0 | U5: 20 | V5: 20 | W5: 2 | X5: 3 | Y5: =Tableau2[[#This Row],[Sport]]&" - "&Tableau2[[#This Row],[Equipe 1]]&" vs "&Tableau2[[#This Row],[Equipe 2]] -> Badminton - L'aile ou la cuite B vs Bayer les verres culs sec A | Z5: Badminton | AA5: ='2-Phase de classement-Bad'!$E$13 -> L'aile ou la cuite B | AB5: ='2-Phase de classement-Bad'!$E$14 -> Bayer les verres culs sec A | AC5: ='2-Phase de classement-Bad'!$F$14 -> L | AD5: =IFERROR(IF(_xlfn.XLOOKUP(Tableau2[[#This Row],[Equipe 2]],$P$3:$P$6,$P$3:$P$6,0)=Tableau2[[#This Row],[Equipe 2]],Tableau2[[#This Row],[Equipe 2]],IF(_xlfn.XLOOKUP(Tableau2[[#This Row],[Equipe 2]],$Q$3:$Q$6,$Q$3:$Q$6,0)=Tableau2[[#This Row],[Equipe 2]],Tableau2[[#This Row],[Equipe 2]],IF(_xlfn.XLOOKUP(Tableau2[[#This Row],[Equipe 1]],$P$3:$P$6,$P$3:$P$6,0)=Tableau2[[#This Row],[Equipe 1]],Tableau2[[#This Row],[Equipe 1]],_xlfn.XLOOKUP(Tableau2[[#This Row],[Equipe 1]],$Q$3:$Q$6,$Q$3:$Q$6,0)))),0) -> 0 | AE5: =LEN(Tableau2[[#This Row],[Equipe 1]]) -> 20 | AF5: =LEN(Tableau2[[#This Row],[Equipe 2]]) -> 27 | AG5: =IFERROR(IF(Tableau2[[#This Row],[Q3]]>0,1,0)+IF(Tableau2[[#This Row],[Q4]]>0,1,0),0) -> 2 | AX5: 3 | AY5: =Tableau1[[#This Row],[Sport]]&" - "&Tableau1[[#This Row],[Equipe 1]]&" vs "&Tableau1[[#This Row],[Equipe 2]] -> Padel - Les inconnus A vs Roue Libre B | AZ5: Padel | BA5: ='2-Phase de classement-Padel'!$E$13 -> Les inconnus A | BB5: ='2-Phase de classement-Padel'!$E$14 -> Roue Libre B | BC5: ='2-Phase de classement-Padel'!$F$14 -> L | BD5: =IFERROR(IF(_xlfn.XLOOKUP(Tableau3[[#This Row],[Equipe 2]],$P$3:$P$6,$P$3:$P$6,0)=Tableau3[[#This Row],[Equipe 2]],Tableau3[[#This Row],[Equipe 2]],IF(_xlfn.XLOOKUP(Tableau3[[#This Row],[Equipe 2]],$Q$3:$Q$6,$Q$3:$Q$6,0)=Tableau3[[#This Row],[Equipe 2]],Tableau3[[#This Row],[Equipe 2]],IF(_xlfn.XLOOKUP(Tableau3[[#This Row],[Equipe 1]],$P$3:$P$6,$P$3:$P$6,0)=Tableau3[[#This Row],[Equipe 1]],Tableau3[[#This Row],[Equipe 1]],_xlfn.XLOOKUP(Tableau3[[#This Row],[Equipe 1]],$Q$3:$Q$6,$Q$3:$Q$6,0)))),0) -> 0 | BE5: =IFERROR(IF(_xlfn.XLOOKUP(Tableau3[[#This Row],[Equipe 2]],$AL$3:$AL$10,$AL$3:$AL$10,0)=Tableau3[[#This Row],[Equipe 2]],Tableau3[[#This Row],[Equipe 2]],IF(_xlfn.XLOOKUP(Tableau3[[#This Row],[Equipe 2]],$AM$3:$AM$10,$AM$3:$AM$10,0)=Tableau3[[#This Row],[Equipe 2]],Tableau3[[#This Row],[Equipe 2]],IF(_xlfn.XLOOKUP(Tableau3[[#This Row],[Equipe 1]],$AL$3:$AL$10,$AL$3:$AL$10,0)=Tableau3[[#This Row],[Equipe 1]],Tableau3[[#This Row],[Equipe 1]],_xlfn.XLOOKUP(Tableau3[[#This Row],[Equipe 1]],$AM$3:$AM$10,$AM$3:$AM$10,0)))),0) -> 0 | BF5: =LEN(Tableau3[[#This Row],[Equipe 1]]) -> 14 | BG5: =LEN(Tableau3[[#This Row],[Equipe 2]]) -> 12 | BH5: =IFERROR(IF(Tableau3[[#This Row],[Q3]]>0,1,0)+IF(Tableau3[[#This Row],[Q4]]>0,1,0),0) -> 2 | BY5: 3 | BZ5: =Tableau15[[#This Row],[Sport]]&" - "&Tableau15[[#This Row],[Equipe 1]]&" vs "&Tableau15[[#This Row],[Equipe 2]] -> Padel - Les inconnus A vs Roue Libre B | CA5: Padel | CB5: ='2-Phase de classement-Padel'!$E$13 -> Les inconnus A | CC5: ='2-Phase de classement-Padel'!$E$14 -> Roue Libre B | CD5: ='2-Phase de classement-Padel'!$F$14 -> L | CE5: =IFERROR(IF(_xlfn.XLOOKUP(Tableau15[[#This Row],[Equipe 2]],$BM$3:$BM$6,$BM$3:$BM$6,0)=Tableau15[[#This Row],[Equipe 2]],Tableau15[[#This Row],[Equipe 2]],IF(_xlfn.XLOOKUP(Tableau15[[#This Row],[Equipe 2]],$BN$3:$BN$6,$BN$3:$BN$6,0)=Tableau15[[#This Row],[Equipe 2]],Tableau15[[#This Row],[Equipe 2]],IF(_xlfn.XLOOKUP(Tableau15[[#This Row],[Equipe 1]],$BM$3:$BM$6,$BM$3:$BM$6,0)=Tableau15[[#This Row],[Equipe 1]],Tableau15[[#This Row],[Equipe 1]],_xlfn.XLOOKUP(Tableau15[[#This Row],[Equipe 1]],$BN$3:$BN$6,$BN$3:$BN$6,0)))),0) -> 0 | CF5: =IFERROR(IF(_xlfn.XLOOKUP(Tableau15[[#This Row],[Equipe 2]],$AL$7:$AL$10,$AL$7:$AL$10,0)=Tableau15[[#This Row],[Equipe 2]],Tableau15[[#This Row],[Equipe 2]],IF(_xlfn.XLOOKUP(Tableau15[[#This Row],[Equipe 2]],$AM$7:$AM$10,$AM$7:$AM$10,0)=Tableau15[[#This Row],[Equipe 2]],Tableau15[[#This Row],[Equipe 2]],IF(_xlfn.XLOOKUP(Tableau15[[#This Row],[Equipe 1]],$AL$7:$AL$10,$AL$7:$AL$10,0)=Tableau15[[#This Row],[Equipe 1]],Tableau15[[#This Row],[Equipe 1]],_xlfn.XLOOKUP(Tableau15[[#This Row],[Equipe 1]],$AM$7:$AM$10,$AM$7:$AM$10,0)))),0) -> 0 | CG5: =LEN(Tableau15[[#This Row],[Equipe 1]]) -> 14 | CH5: =LEN(Tableau15[[#This Row],[Equipe 2]]) -> 12 | CI5: =IFERROR(IF(Tableau15[[#This Row],[Q3]]>0,1,0)+IF(Tableau15[[#This Row],[Q4]]>0,1,0),0) -> 2
A6: 4 | B6: =Tableau1[[#This Row],[Sport]]&" - "&Tableau1[[#This Row],[Equipe 1]]&" vs "&Tableau1[[#This Row],[Equipe 2]] -> Padel - Lazio de Rhum A vs Gett'up B | C6: Padel | D6: ='2-Phase de classement-Padel'!$E$17 -> Lazio de Rhum A | E6: ='2-Phase de classement-Padel'!$E$18 -> Gett'up B | F6: ='2-Phase de classement-Padel'!$F$18 -> W | I6: =LEN(Tableau1[[#This Row],[Equipe 1]]) -> 15 | J6: =LEN(Tableau1[[#This Row],[Equipe 2]]) -> 9 | K6: =IFERROR(IF(Tableau1[[#This Row],[Q3]]>0,1,0)+IF(Tableau1[[#This Row],[Q4]]>0,1,0),0) -> 2 | M6: 40 | N6: Padel - Roue Libre A vs Les Tengos B | O6: Padel | P6: Roue Libre A | Q6: Les Tengos B | R6: 0 | S6: 0 | T6: 0 | U6: 12 | V6: 12 | W6: 2 | X6: 4 | Y6: =Tableau2[[#This Row],[Sport]]&" - "&Tableau2[[#This Row],[Equipe 1]]&" vs "&Tableau2[[#This Row],[Equipe 2]] -> Badminton - Facilement B vs Akatsuki A | Z6: Badminton | AA6: ='2-Phase de classement-Bad'!$E$17 -> Facilement B | AB6: ='2-Phase de classement-Bad'!$E$18 -> Akatsuki A | AC6: ='2-Phase de classement-Bad'!$F$18 -> L | AD6: =IFERROR(IF(_xlfn.XLOOKUP(Tableau2[[#This Row],[Equipe 2]],$P$3:$P$6,$P$3:$P$6,0)=Tableau2[[#This Row],[Equipe 2]],Tableau2[[#This Row],[Equipe 2]],IF(_xlfn.XLOOKUP(Tableau2[[#This Row],[Equipe 2]],$Q$3:$Q$6,$Q$3:$Q$6,0)=Tableau2[[#This Row],[Equipe 2]],Tableau2[[#This Row],[Equipe 2]],IF(_xlfn.XLOOKUP(Tableau2[[#This Row],[Equipe 1]],$P$3:$P$6,$P$3:$P$6,0)=Tableau2[[#This Row],[Equipe 1]],Tableau2[[#This Row],[Equipe 1]],_xlfn.XLOOKUP(Tableau2[[#This Row],[Equipe 1]],$Q$3:$Q$6,$Q$3:$Q$6,0)))),0) -> 0 | AE6: =LEN(Tableau2[[#This Row],[Equipe 1]]) -> 12 | AF6: =LEN(Tableau2[[#This Row],[Equipe 2]]) -> 10 | AG6: =IFERROR(IF(Tableau2[[#This Row],[Q3]]>0,1,0)+IF(Tableau2[[#This Row],[Q4]]>0,1,0),0) -> 2 | AX6: 4 | AY6: =Tableau1[[#This Row],[Sport]]&" - "&Tableau1[[#This Row],[Equipe 1]]&" vs "&Tableau1[[#This Row],[Equipe 2]] -> Padel - Lazio de Rhum A vs Gett'up B | AZ6: Padel | BA6: ='2-Phase de classement-Padel'!$E$17 -> Lazio de Rhum A | BB6: ='2-Phase de classement-Padel'!$E$18 -> Gett'up B | BC6: ='2-Phase de classement-Padel'!$F$18 -> W | BD6: =IFERROR(IF(_xlfn.XLOOKUP(Tableau3[[#This Row],[Equipe 2]],$P$3:$P$6,$P$3:$P$6,0)=Tableau3[[#This Row],[Equipe 2]],Tableau3[[#This Row],[Equipe 2]],IF(_xlfn.XLOOKUP(Tableau3[[#This Row],[Equipe 2]],$Q$3:$Q$6,$Q$3:$Q$6,0)=Tableau3[[#This Row],[Equipe 2]],Tableau3[[#This Row],[Equipe 2]],IF(_xlfn.XLOOKUP(Tableau3[[#This Row],[Equipe 1]],$P$3:$P$6,$P$3:$P$6,0)=Tableau3[[#This Row],[Equipe 1]],Tableau3[[#This Row],[Equipe 1]],_xlfn.XLOOKUP(Tableau3[[#This Row],[Equipe 1]],$Q$3:$Q$6,$Q$3:$Q$6,0)))),0) -> 0 | BE6: =IFERROR(IF(_xlfn.XLOOKUP(Tableau3[[#This Row],[Equipe 2]],$AL$3:$AL$10,$AL$3:$AL$10,0)=Tableau3[[#This Row],[Equipe 2]],Tableau3[[#This Row],[Equipe 2]],IF(_xlfn.XLOOKUP(Tableau3[[#This Row],[Equipe 2]],$AM$3:$AM$10,$AM$3:$AM$10,0)=Tableau3[[#This Row],[Equipe 2]],Tableau3[[#This Row],[Equipe 2]],IF(_xlfn.XLOOKUP(Tableau3[[#This Row],[Equipe 1]],$AL$3:$AL$10,$AL$3:$AL$10,0)=Tableau3[[#This Row],[Equipe 1]],Tableau3[[#This Row],[Equipe 1]],_xlfn.XLOOKUP(Tableau3[[#This Row],[Equipe 1]],$AM$3:$AM$10,$AM$3:$AM$10,0)))),0) -> 0 | BF6: =LEN(Tableau3[[#This Row],[Equipe 1]]) -> 15 | BG6: =LEN(Tableau3[[#This Row],[Equipe 2]]) -> 9 | BH6: =IFERROR(IF(Tableau3[[#This Row],[Q3]]>0,1,0)+IF(Tableau3[[#This Row],[Q4]]>0,1,0),0) -> 2 | BY6: 4 | BZ6: =Tableau15[[#This Row],[Sport]]&" - "&Tableau15[[#This Row],[Equipe 1]]&" vs "&Tableau15[[#This Row],[Equipe 2]] -> Padel - Lazio de Rhum A vs Gett'up B | CA6: Padel | CB6: ='2-Phase de classement-Padel'!$E$17 -> Lazio de Rhum A | CC6: ='2-Phase de classement-Padel'!$E$18 -> Gett'up B | CD6: ='2-Phase de classement-Padel'!$F$18 -> W | CE6: =IFERROR(IF(_xlfn.XLOOKUP(Tableau15[[#This Row],[Equipe 2]],$BM$3:$BM$6,$BM$3:$BM$6,0)=Tableau15[[#This Row],[Equipe 2]],Tableau15[[#This Row],[Equipe 2]],IF(_xlfn.XLOOKUP(Tableau15[[#This Row],[Equipe 2]],$BN$3:$BN$6,$BN$3:$BN$6,0)=Tableau15[[#This Row],[Equipe 2]],Tableau15[[#This Row],[Equipe 2]],IF(_xlfn.XLOOKUP(Tableau15[[#This Row],[Equipe 1]],$BM$3:$BM$6,$BM$3:$BM$6,0)=Tableau15[[#This Row],[Equipe 1]],Tableau15[[#This Row],[Equipe 1]],_xlfn.XLOOKUP(Tableau15[[#This Row],[Equipe 1]],$BN$3:$BN$6,$BN$3:$BN$6,0)))),0) -> 0 | CF6: =IFERROR(IF(_xlfn.XLOOKUP(Tableau15[[#This Row],[Equipe 2]],$AL$7:$AL$10,$AL$7:$AL$10,0)=Tableau15[[#This Row],[Equipe 2]],Tableau15[[#This Row],[Equipe 2]],IF(_xlfn.XLOOKUP(Tableau15[[#This Row],[Equipe 2]],$AM$7:$AM$10,$AM$7:$AM$10,0)=Tableau15[[#This Row],[Equipe 2]],Tableau15[[#This Row],[Equipe 2]],IF(_xlfn.XLOOKUP(Tableau15[[#This Row],[Equipe 1]],$AL$7:$AL$10,$AL$7:$AL$10,0)=Tableau15[[#This Row],[Equipe 1]],Tableau15[[#This Row],[Equipe 1]],_xlfn.XLOOKUP(Tableau15[[#This Row],[Equipe 1]],$AM$7:$AM$10,$AM$7:$AM$10,0)))),0) -> 0 | CG6: =LEN(Tableau15[[#This Row],[Equipe 1]]) -> 15 | CH6: =LEN(Tableau15[[#This Row],[Equipe 2]]) -> 9 | CI6: =IFERROR(IF(Tableau15[[#This Row],[Q3]]>0,1,0)+IF(Tableau15[[#This Row],[Q4]]>0,1,0),0) -> 2
A7: 5 | B7: =Tableau1[[#This Row],[Sport]]&" - "&Tableau1[[#This Row],[Equipe 1]]&" vs "&Tableau1[[#This Row],[Equipe 2]] -> Padel - VitaMines A vs Floyouyat B | C7: Padel | D7: ='2-Phase de classement-Padel'!$E$21 -> VitaMines A | E7: ='2-Phase de classement-Padel'!$E$22 -> Floyouyat B | F7: ='2-Phase de classement-Padel'!$F$22 -> L | I7: =LEN(Tableau1[[#This Row],[Equipe 1]]) -> 11 | J7: =LEN(Tableau1[[#This Row],[Equipe 2]]) -> 11 | K7: =IFERROR(IF(Tableau1[[#This Row],[Q3]]>0,1,0)+IF(Tableau1[[#This Row],[Q4]]>0,1,0),0) -> 2 | X7: 5 | Y7: =Tableau2[[#This Row],[Sport]]&" - "&Tableau2[[#This Row],[Equipe 1]]&" vs "&Tableau2[[#This Row],[Equipe 2]] -> Badminton - Bayer les verres culs sec B vs Pooldeads B | Z7: Badminton | AA7: ='2-Phase de classement-Bad'!$E$21 -> Bayer les verres culs sec B | AB7: ='2-Phase de classement-Bad'!$E$22 -> Pooldeads B | AC7: ='2-Phase de classement-Bad'!$F$22 -> L | AD7: =IFERROR(IF(_xlfn.XLOOKUP(Tableau2[[#This Row],[Equipe 2]],$P$3:$P$6,$P$3:$P$6,0)=Tableau2[[#This Row],[Equipe 2]],Tableau2[[#This Row],[Equipe 2]],IF(_xlfn.XLOOKUP(Tableau2[[#This Row],[Equipe 2]],$Q$3:$Q$6,$Q$3:$Q$6,0)=Tableau2[[#This Row],[Equipe 2]],Tableau2[[#This Row],[Equipe 2]],IF(_xlfn.XLOOKUP(Tableau2[[#This Row],[Equipe 1]],$P$3:$P$6,$P$3:$P$6,0)=Tableau2[[#This Row],[Equipe 1]],Tableau2[[#This Row],[Equipe 1]],_xlfn.XLOOKUP(Tableau2[[#This Row],[Equipe 1]],$Q$3:$Q$6,$Q$3:$Q$6,0)))),0) -> 0 | AE7: =LEN(Tableau2[[#This Row],[Equipe 1]]) -> 27 | AF7: =LEN(Tableau2[[#This Row],[Equipe 2]]) -> 11 | AG7: =IFERROR(IF(Tableau2[[#This Row],[Q3]]>0,1,0)+IF(Tableau2[[#This Row],[Q4]]>0,1,0),0) -> 2 | AX7: 5 | AY7: =Tableau1[[#This Row],[Sport]]&" - "&Tableau1[[#This Row],[Equipe 1]]&" vs "&Tableau1[[#This Row],[Equipe 2]] -> Padel - VitaMines A vs Floyouyat B | AZ7: Padel | BA7: ='2-Phase de classement-Padel'!$E$21 -> VitaMines A | BB7: ='2-Phase de classement-Padel'!$E$22 -> Floyouyat B | BC7: ='2-Phase de classement-Padel'!$F$22 -> L | BD7: =IFERROR(IF(_xlfn.XLOOKUP(Tableau3[[#This Row],[Equipe 2]],$P$3:$P$6,$P$3:$P$6,0)=Tableau3[[#This Row],[Equipe 2]],Tableau3[[#This Row],[Equipe 2]],IF(_xlfn.XLOOKUP(Tableau3[[#This Row],[Equipe 2]],$Q$3:$Q$6,$Q$3:$Q$6,0)=Tableau3[[#This Row],[Equipe 2]],Tableau3[[#This Row],[Equipe 2]],IF(_xlfn.XLOOKUP(Tableau3[[#This Row],[Equipe 1]],$P$3:$P$6,$P$3:$P$6,0)=Tableau3[[#This Row],[Equipe 1]],Tableau3[[#This Row],[Equipe 1]],_xlfn.XLOOKUP(Tableau3[[#This Row],[Equipe 1]],$Q$3:$Q$6,$Q$3:$Q$6,0)))),0) -> 0 | BE7: =IFERROR(IF(_xlfn.XLOOKUP(Tableau3[[#This Row],[Equipe 2]],$AL$3:$AL$10,$AL$3:$AL$10,0)=Tableau3[[#This Row],[Equipe 2]],Tableau3[[#This Row],[Equipe 2]],IF(_xlfn.XLOOKUP(Tableau3[[#This Row],[Equipe 2]],$AM$3:$AM$10,$AM$3:$AM$10,0)=Tableau3[[#This Row],[Equipe 2]],Tableau3[[#This Row],[Equipe 2]],IF(_xlfn.XLOOKUP(Tableau3[[#This Row],[Equipe 1]],$AL$3:$AL$10,$AL$3:$AL$10,0)=Tableau3[[#This Row],[Equipe 1]],Tableau3[[#This Row],[Equipe 1]],_xlfn.XLOOKUP(Tableau3[[#This Row],[Equipe 1]],$AM$3:$AM$10,$AM$3:$AM$10,0)))),0) -> 0 | BF7: =LEN(Tableau3[[#This Row],[Equipe 1]]) -> 11 | BG7: =LEN(Tableau3[[#This Row],[Equipe 2]]) -> 11 | BH7: =IFERROR(IF(Tableau3[[#This Row],[Q3]]>0,1,0)+IF(Tableau3[[#This Row],[Q4]]>0,1,0),0) -> 2 | BY7: 5 | BZ7: =Tableau15[[#This Row],[Sport]]&" - "&Tableau15[[#This Row],[Equipe 1]]&" vs "&Tableau15[[#This Row],[Equipe 2]] -> Padel - VitaMines A vs Floyouyat B | CA7: Padel | CB7: ='2-Phase de classement-Padel'!$E$21 -> VitaMines A | CC7: ='2-Phase de classement-Padel'!$E$22 -> Floyouyat B | CD7: ='2-Phase de classement-Padel'!$F$22 -> L | CE7: =IFERROR(IF(_xlfn.XLOOKUP(Tableau15[[#This Row],[Equipe 2]],$BM$3:$BM$6,$BM$3:$BM$6,0)=Tableau15[[#This Row],[Equipe 2]],Tableau15[[#This Row],[Equipe 2]],IF(_xlfn.XLOOKUP(Tableau15[[#This Row],[Equipe 2]],$BN$3:$BN$6,$BN$3:$BN$6,0)=Tableau15[[#This Row],[Equipe 2]],Tableau15[[#This Row],[Equipe 2]],IF(_xlfn.XLOOKUP(Tableau15[[#This Row],[Equipe 1]],$BM$3:$BM$6,$BM$3:$BM$6,0)=Tableau15[[#This Row],[Equipe 1]],Tableau15[[#This Row],[Equipe 1]],_xlfn.XLOOKUP(Tableau15[[#This Row],[Equipe 1]],$BN$3:$BN$6,$BN$3:$BN$6,0)))),0) -> 0 | CF7: =IFERROR(IF(_xlfn.XLOOKUP(Tableau15[[#This Row],[Equipe 2]],$AL$7:$AL$10,$AL$7:$AL$10,0)=Tableau15[[#This Row],[Equipe 2]],Tableau15[[#This Row],[Equipe 2]],IF(_xlfn.XLOOKUP(Tableau15[[#This Row],[Equipe 2]],$AM$7:$AM$10,$AM$7:$AM$10,0)=Tableau15[[#This Row],[Equipe 2]],Tableau15[[#This Row],[Equipe 2]],IF(_xlfn.XLOOKUP(Tableau15[[#This Row],[Equipe 1]],$AL$7:$AL$10,$AL$7:$AL$10,0)=Tableau15[[#This Row],[Equipe 1]],Tableau15[[#This Row],[Equipe 1]],_xlfn.XLOOKUP(Tableau15[[#This Row],[Equipe 1]],$AM$7:$AM$10,$AM$7:$AM$10,0)))),0) -> 0 | CG7: =LEN(Tableau15[[#This Row],[Equipe 1]]) -> 11 | CH7: =LEN(Tableau15[[#This Row],[Equipe 2]]) -> 11 | CI7: =IFERROR(IF(Tableau15[[#This Row],[Q3]]>0,1,0)+IF(Tableau15[[#This Row],[Q4]]>0,1,0),0) -> 2
A8: 6 | B8: =Tableau1[[#This Row],[Sport]]&" - "&Tableau1[[#This Row],[Equipe 1]]&" vs "&Tableau1[[#This Row],[Equipe 2]] -> Padel - Bayer les verres culs sec A vs Lazio de Rhum B | C8: Padel | D8: ='2-Phase de classement-Padel'!$E$25 -> Bayer les verres culs sec A | E8: ='2-Phase de classement-Padel'!$E$26 -> Lazio de Rhum B | F8: ='2-Phase de classement-Padel'!$F$26 -> W | I8: =LEN(Tableau1[[#This Row],[Equipe 1]]) -> 27 | J8: =LEN(Tableau1[[#This Row],[Equipe 2]]) -> 15 | K8: =IFERROR(IF(Tableau1[[#This Row],[Q3]]>0,1,0)+IF(Tableau1[[#This Row],[Q4]]>0,1,0),0) -> 2 | X8: 6 | Y8: =Tableau2[[#This Row],[Sport]]&" - "&Tableau2[[#This Row],[Equipe 1]]&" vs "&Tableau2[[#This Row],[Equipe 2]] -> Badminton - VitaMines A vs Les inconnus A | Z8: Badminton | AA8: ='2-Phase de classement-Bad'!$E$25 -> VitaMines A | AB8: ='2-Phase de classement-Bad'!$E$26 -> Les inconnus A | AC8: ='2-Phase de classement-Bad'!$F$26 -> L | AD8: =IFERROR(IF(_xlfn.XLOOKUP(Tableau2[[#This Row],[Equipe 2]],$P$3:$P$6,$P$3:$P$6,0)=Tableau2[[#This Row],[Equipe 2]],Tableau2[[#This Row],[Equipe 2]],IF(_xlfn.XLOOKUP(Tableau2[[#This Row],[Equipe 2]],$Q$3:$Q$6,$Q$3:$Q$6,0)=Tableau2[[#This Row],[Equipe 2]],Tableau2[[#This Row],[Equipe 2]],IF(_xlfn.XLOOKUP(Tableau2[[#This Row],[Equipe 1]],$P$3:$P$6,$P$3:$P$6,0)=Tableau2[[#This Row],[Equipe 1]],Tableau2[[#This Row],[Equipe 1]],_xlfn.XLOOKUP(Tableau2[[#This Row],[Equipe 1]],$Q$3:$Q$6,$Q$3:$Q$6,0)))),0) -> 0 | AE8: =LEN(Tableau2[[#This Row],[Equipe 1]]) -> 11 | AF8: =LEN(Tableau2[[#This Row],[Equipe 2]]) -> 14 | AG8: =IFERROR(IF(Tableau2[[#This Row],[Q3]]>0,1,0)+IF(Tableau2[[#This Row],[Q4]]>0,1,0),0) -> 2 | AX8: 6 | AY8: =Tableau1[[#This Row],[Sport]]&" - "&Tableau1[[#This Row],[Equipe 1]]&" vs "&Tableau1[[#This Row],[Equipe 2]] -> Padel - Bayer les verres culs sec A vs Lazio de Rhum B | AZ8: Padel | BA8: ='2-Phase de classement-Padel'!$E$25 -> Bayer les verres culs sec A | BB8: ='2-Phase de classement-Padel'!$E$26 -> Lazio de Rhum B | BC8: ='2-Phase de classement-Padel'!$F$26 -> W | BD8: =IFERROR(IF(_xlfn.XLOOKUP(Tableau3[[#This Row],[Equipe 2]],$P$3:$P$6,$P$3:$P$6,0)=Tableau3[[#This Row],[Equipe 2]],Tableau3[[#This Row],[Equipe 2]],IF(_xlfn.XLOOKUP(Tableau3[[#This Row],[Equipe 2]],$Q$3:$Q$6,$Q$3:$Q$6,0)=Tableau3[[#This Row],[Equipe 2]],Tableau3[[#This Row],[Equipe 2]],IF(_xlfn.XLOOKUP(Tableau3[[#This Row],[Equipe 1]],$P$3:$P$6,$P$3:$P$6,0)=Tableau3[[#This Row],[Equipe 1]],Tableau3[[#This Row],[Equipe 1]],_xlfn.XLOOKUP(Tableau3[[#This Row],[Equipe 1]],$Q$3:$Q$6,$Q$3:$Q$6,0)))),0) -> 0 | BE8: =IFERROR(IF(_xlfn.XLOOKUP(Tableau3[[#This Row],[Equipe 2]],$AL$3:$AL$10,$AL$3:$AL$10,0)=Tableau3[[#This Row],[Equipe 2]],Tableau3[[#This Row],[Equipe 2]],IF(_xlfn.XLOOKUP(Tableau3[[#This Row],[Equipe 2]],$AM$3:$AM$10,$AM$3:$AM$10,0)=Tableau3[[#This Row],[Equipe 2]],Tableau3[[#This Row],[Equipe 2]],IF(_xlfn.XLOOKUP(Tableau3[[#This Row],[Equipe 1]],$AL$3:$AL$10,$AL$3:$AL$10,0)=Tableau3[[#This Row],[Equipe 1]],Tableau3[[#This Row],[Equipe 1]],_xlfn.XLOOKUP(Tableau3[[#This Row],[Equipe 1]],$AM$3:$AM$10,$AM$3:$AM$10,0)))),0) -> 0 | BF8: =LEN(Tableau3[[#This Row],[Equipe 1]]) -> 27 | BG8: =LEN(Tableau3[[#This Row],[Equipe 2]]) -> 15 | BH8: =IFERROR(IF(Tableau3[[#This Row],[Q3]]>0,1,0)+IF(Tableau3[[#This Row],[Q4]]>0,1,0),0) -> 2 | BY8: 6 | BZ8: =Tableau15[[#This Row],[Sport]]&" - "&Tableau15[[#This Row],[Equipe 1]]&" vs "&Tableau15[[#This Row],[Equipe 2]] -> Padel - Bayer les verres culs sec A vs Lazio de Rhum B | CA8: Padel | CB8: ='2-Phase de classement-Padel'!$E$25 -> Bayer les verres culs sec A | CC8: ='2-Phase de classement-Padel'!$E$26 -> Lazio de Rhum B | CD8: ='2-Phase de classement-Padel'!$F$26 -> W | CE8: =IFERROR(IF(_xlfn.XLOOKUP(Tableau15[[#This Row],[Equipe 2]],$BM$3:$BM$6,$BM$3:$BM$6,0)=Tableau15[[#This Row],[Equipe 2]],Tableau15[[#This Row],[Equipe 2]],IF(_xlfn.XLOOKUP(Tableau15[[#This Row],[Equipe 2]],$BN$3:$BN$6,$BN$3:$BN$6,0)=Tableau15[[#This Row],[Equipe 2]],Tableau15[[#This Row],[Equipe 2]],IF(_xlfn.XLOOKUP(Tableau15[[#This Row],[Equipe 1]],$BM$3:$BM$6,$BM$3:$BM$6,0)=Tableau15[[#This Row],[Equipe 1]],Tableau15[[#This Row],[Equipe 1]],_xlfn.XLOOKUP(Tableau15[[#This Row],[Equipe 1]],$BN$3:$BN$6,$BN$3:$BN$6,0)))),0) -> 0 | CF8: =IFERROR(IF(_xlfn.XLOOKUP(Tableau15[[#This Row],[Equipe 2]],$AL$7:$AL$10,$AL$7:$AL$10,0)=Tableau15[[#This Row],[Equipe 2]],Tableau15[[#This Row],[Equipe 2]],IF(_xlfn.XLOOKUP(Tableau15[[#This Row],[Equipe 2]],$AM$7:$AM$10,$AM$7:$AM$10,0)=Tableau15[[#This Row],[Equipe 2]],Tableau15[[#This Row],[Equipe 2]],IF(_xlfn.XLOOKUP(Tableau15[[#This Row],[Equipe 1]],$AL$7:$AL$10,$AL$7:$AL$10,0)=Tableau15[[#This Row],[Equipe 1]],Tableau15[[#This Row],[Equipe 1]],_xlfn.XLOOKUP(Tableau15[[#This Row],[Equipe 1]],$AM$7:$AM$10,$AM$7:$AM$10,0)))),0) -> 0 | CG8: =LEN(Tableau15[[#This Row],[Equipe 1]]) -> 27 | CH8: =LEN(Tableau15[[#This Row],[Equipe 2]]) -> 15 | CI8: =IFERROR(IF(Tableau15[[#This Row],[Q3]]>0,1,0)+IF(Tableau15[[#This Row],[Q4]]>0,1,0),0) -> 2
A9: 7 | B9: =Tableau1[[#This Row],[Sport]]&" - "&Tableau1[[#This Row],[Equipe 1]]&" vs "&Tableau1[[#This Row],[Equipe 2]] -> Padel - Facilement A vs Akatsuki B | C9: Padel | D9: ='2-Phase de classement-Padel'!$E$29 -> Facilement A | E9: ='2-Phase de classement-Padel'!$E$30 -> Akatsuki B | F9: ='2-Phase de classement-Padel'!$F$30 -> L | I9: =LEN(Tableau1[[#This Row],[Equipe 1]]) -> 12 | J9: =LEN(Tableau1[[#This Row],[Equipe 2]]) -> 10 | K9: =IFERROR(IF(Tableau1[[#This Row],[Q3]]>0,1,0)+IF(Tableau1[[#This Row],[Q4]]>0,1,0),0) -> 2 | X9: 7 | Y9: =Tableau2[[#This Row],[Sport]]&" - "&Tableau2[[#This Row],[Equipe 1]]&" vs "&Tableau2[[#This Row],[Equipe 2]] -> Badminton - Lazio de Rhum A vs Celtics Grave Gros B | Z9: Badminton | AA9: ='2-Phase de classement-Bad'!$E$29 -> Lazio de Rhum A | AB9: ='2-Phase de classement-Bad'!$E$30 -> Celtics Grave Gros B | AC9: ='2-Phase de classement-Bad'!$F$30 -> W | AD9: =IFERROR(IF(_xlfn.XLOOKUP(Tableau2[[#This Row],[Equipe 2]],$P$3:$P$6,$P$3:$P$6,0)=Tableau2[[#This Row],[Equipe 2]],Tableau2[[#This Row],[Equipe 2]],IF(_xlfn.XLOOKUP(Tableau2[[#This Row],[Equipe 2]],$Q$3:$Q$6,$Q$3:$Q$6,0)=Tableau2[[#This Row],[Equipe 2]],Tableau2[[#This Row],[Equipe 2]],IF(_xlfn.XLOOKUP(Tableau2[[#This Row],[Equipe 1]],$P$3:$P$6,$P$3:$P$6,0)=Tableau2[[#This Row],[Equipe 1]],Tableau2[[#This Row],[Equipe 1]],_xlfn.XLOOKUP(Tableau2[[#This Row],[Equipe 1]],$Q$3:$Q$6,$Q$3:$Q$6,0)))),0) -> Celtics Grave Gros B | AE9: =LEN(Tableau2[[#This Row],[Equipe 1]]) -> 15 | AF9: =LEN(Tableau2[[#This Row],[Equipe 2]]) -> 20 | AG9: =IFERROR(IF(Tableau2[[#This Row],[Q3]]>0,1,0)+IF(Tableau2[[#This Row],[Q4]]>0,1,0),0) -> 2 | AX9: 7 | AY9: =Tableau1[[#This Row],[Sport]]&" - "&Tableau1[[#This Row],[Equipe 1]]&" vs "&Tableau1[[#This Row],[Equipe 2]] -> Padel - Facilement A vs Akatsuki B | AZ9: Padel | BA9: ='2-Phase de classement-Padel'!$E$29 -> Facilement A | BB9: ='2-Phase de classement-Padel'!$E$30 -> Akatsuki B | BC9: ='2-Phase de classement-Padel'!$F$30 -> L | BD9: =IFERROR(IF(_xlfn.XLOOKUP(Tableau3[[#This Row],[Equipe 2]],$P$3:$P$6,$P$3:$P$6,0)=Tableau3[[#This Row],[Equipe 2]],Tableau3[[#This Row],[Equipe 2]],IF(_xlfn.XLOOKUP(Tableau3[[#This Row],[Equipe 2]],$Q$3:$Q$6,$Q$3:$Q$6,0)=Tableau3[[#This Row],[Equipe 2]],Tableau3[[#This Row],[Equipe 2]],IF(_xlfn.XLOOKUP(Tableau3[[#This Row],[Equipe 1]],$P$3:$P$6,$P$3:$P$6,0)=Tableau3[[#This Row],[Equipe 1]],Tableau3[[#This Row],[Equipe 1]],_xlfn.XLOOKUP(Tableau3[[#This Row],[Equipe 1]],$Q$3:$Q$6,$Q$3:$Q$6,0)))),0) -> 0 | BE9: =IFERROR(IF(_xlfn.XLOOKUP(Tableau3[[#This Row],[Equipe 2]],$AL$3:$AL$10,$AL$3:$AL$10,0)=Tableau3[[#This Row],[Equipe 2]],Tableau3[[#This Row],[Equipe 2]],IF(_xlfn.XLOOKUP(Tableau3[[#This Row],[Equipe 2]],$AM$3:$AM$10,$AM$3:$AM$10,0)=Tableau3[[#This Row],[Equipe 2]],Tableau3[[#This Row],[Equipe 2]],IF(_xlfn.XLOOKUP(Tableau3[[#This Row],[Equipe 1]],$AL$3:$AL$10,$AL$3:$AL$10,0)=Tableau3[[#This Row],[Equipe 1]],Tableau3[[#This Row],[Equipe 1]],_xlfn.XLOOKUP(Tableau3[[#This Row],[Equipe 1]],$AM$3:$AM$10,$AM$3:$AM$10,0)))),0) -> Akatsuki B | BF9: =LEN(Tableau3[[#This Row],[Equipe 1]]) -> 12 | BG9: =LEN(Tableau3[[#This Row],[Equipe 2]]) -> 10 | BH9: =IFERROR(IF(Tableau3[[#This Row],[Q3]]>0,1,0)+IF(Tableau3[[#This Row],[Q4]]>0,1,0),0) -> 2 | BY9: 7 | BZ9: =Tableau15[[#This Row],[Sport]]&" - "&Tableau15[[#This Row],[Equipe 1]]&" vs "&Tableau15[[#This Row],[Equipe 2]] -> Padel - Facilement A vs Akatsuki B | CA9: Padel | CB9: ='2-Phase de classement-Padel'!$E$29 -> Facilement A | CC9: ='2-Phase de classement-Padel'!$E$30 -> Akatsuki B | CD9: ='2-Phase de classement-Padel'!$F$30 -> L | CE9: =IFERROR(IF(_xlfn.XLOOKUP(Tableau15[[#This Row],[Equipe 2]],$BM$3:$BM$6,$BM$3:$BM$6,0)=Tableau15[[#This Row],[Equipe 2]],Tableau15[[#This Row],[Equipe 2]],IF(_xlfn.XLOOKUP(Tableau15[[#This Row],[Equipe 2]],$BN$3:$BN$6,$BN$3:$BN$6,0)=Tableau15[[#This Row],[Equipe 2]],Tableau15[[#This Row],[Equipe 2]],IF(_xlfn.XLOOKUP(Tableau15[[#This Row],[Equipe 1]],$BM$3:$BM$6,$BM$3:$BM$6,0)=Tableau15[[#This Row],[Equipe 1]],Tableau15[[#This Row],[Equipe 1]],_xlfn.XLOOKUP(Tableau15[[#This Row],[Equipe 1]],$BN$3:$BN$6,$BN$3:$BN$6,0)))),0) -> 0 | CF9: =IFERROR(IF(_xlfn.XLOOKUP(Tableau15[[#This Row],[Equipe 2]],$AL$7:$AL$10,$AL$7:$AL$10,0)=Tableau15[[#This Row],[Equipe 2]],Tableau15[[#This Row],[Equipe 2]],IF(_xlfn.XLOOKUP(Tableau15[[#This Row],[Equipe 2]],$AM$7:$AM$10,$AM$7:$AM$10,0)=Tableau15[[#This Row],[Equipe 2]],Tableau15[[#This Row],[Equipe 2]],IF(_xlfn.XLOOKUP(Tableau15[[#This Row],[Equipe 1]],$AL$7:$AL$10,$AL$7:$AL$10,0)=Tableau15[[#This Row],[Equipe 1]],Tableau15[[#This Row],[Equipe 1]],_xlfn.XLOOKUP(Tableau15[[#This Row],[Equipe 1]],$AM$7:$AM$10,$AM$7:$AM$10,0)))),0) -> 0 | CG9: =LEN(Tableau15[[#This Row],[Equipe 1]]) -> 12 | CH9: =LEN(Tableau15[[#This Row],[Equipe 2]]) -> 10 | CI9: =IFERROR(IF(Tableau15[[#This Row],[Q3]]>0,1,0)+IF(Tableau15[[#This Row],[Q4]]>0,1,0),0) -> 2
A10: 8 | B10: =Tableau1[[#This Row],[Sport]]&" - "&Tableau1[[#This Row],[Equipe 1]]&" vs "&Tableau1[[#This Row],[Equipe 2]] -> Padel - Blockudoku A vs Téléteubiloutes B | C10: Padel | D10: ='2-Phase de classement-Padel'!$E$33 -> Blockudoku A | E10: ='2-Phase de classement-Padel'!$E$34 -> Téléteubiloutes B | F10: ='2-Phase de classement-Padel'!$F$34 -> W | I10: =LEN(Tableau1[[#This Row],[Equipe 1]]) -> 12 | J10: =LEN(Tableau1[[#This Row],[Equipe 2]]) -> 17 | K10: =IFERROR(IF(Tableau1[[#This Row],[Q3]]>0,1,0)+IF(Tableau1[[#This Row],[Q4]]>0,1,0),0) -> 2 | X10: 8 | Y10: =Tableau2[[#This Row],[Sport]]&" - "&Tableau2[[#This Row],[Equipe 1]]&" vs "&Tableau2[[#This Row],[Equipe 2]] -> Badminton - Les inconnus B vs Spyk'up B | Z10: Badminton | AA10: ='2-Phase de classement-Bad'!$E$33 -> Les inconnus B | AB10: ='2-Phase de classement-Bad'!$E$34 -> Spyk'up B | AC10: ='2-Phase de classement-Bad'!$F$34 -> W | AD10: =IFERROR(IF(_xlfn.XLOOKUP(Tableau2[[#This Row],[Equipe 2]],$P$3:$P$6,$P$3:$P$6,0)=Tableau2[[#This Row],[Equipe 2]],Tableau2[[#This Row],[Equipe 2]],IF(_xlfn.XLOOKUP(Tableau2[[#This Row],[Equipe 2]],$Q$3:$Q$6,$Q$3:$Q$6,0)=Tableau2[[#This Row],[Equipe 2]],Tableau2[[#This Row],[Equipe 2]],IF(_xlfn.XLOOKUP(Tableau2[[#This Row],[Equipe 1]],$P$3:$P$6,$P$3:$P$6,0)=Tableau2[[#This Row],[Equipe 1]],Tableau2[[#This Row],[Equipe 1]],_xlfn.XLOOKUP(Tableau2[[#This Row],[Equipe 1]],$Q$3:$Q$6,$Q$3:$Q$6,0)))),0) -> 0 | AE10: =LEN(Tableau2[[#This Row],[Equipe 1]]) -> 14 | AF10: =LEN(Tableau2[[#This Row],[Equipe 2]]) -> 9 | AG10: =IFERROR(IF(Tableau2[[#This Row],[Q3]]>0,1,0)+IF(Tableau2[[#This Row],[Q4]]>0,1,0),0) -> 2 | AX10: 8 | AY10: =Tableau1[[#This Row],[Sport]]&" - "&Tableau1[[#This Row],[Equipe 1]]&" vs "&Tableau1[[#This Row],[Equipe 2]] -> Padel - Blockudoku A vs Téléteubiloutes B | AZ10: Padel | BA10: ='2-Phase de classement-Padel'!$E$33 -> Blockudoku A | BB10: ='2-Phase de classement-Padel'!$E$34 -> Téléteubiloutes B | BC10: ='2-Phase de classement-Padel'!$F$34 -> W | BD10: =IFERROR(IF(_xlfn.XLOOKUP(Tableau3[[#This Row],[Equipe 2]],$P$3:$P$6,$P$3:$P$6,0)=Tableau3[[#This Row],[Equipe 2]],Tableau3[[#This Row],[Equipe 2]],IF(_xlfn.XLOOKUP(Tableau3[[#This Row],[Equipe 2]],$Q$3:$Q$6,$Q$3:$Q$6,0)=Tableau3[[#This Row],[Equipe 2]],Tableau3[[#This Row],[Equipe 2]],IF(_xlfn.XLOOKUP(Tableau3[[#This Row],[Equipe 1]],$P$3:$P$6,$P$3:$P$6,0)=Tableau3[[#This Row],[Equipe 1]],Tableau3[[#This Row],[Equipe 1]],_xlfn.XLOOKUP(Tableau3[[#This Row],[Equipe 1]],$Q$3:$Q$6,$Q$3:$Q$6,0)))),0) -> 0 | BE10: =IFERROR(IF(_xlfn.XLOOKUP(Tableau3[[#This Row],[Equipe 2]],$AL$3:$AL$10,$AL$3:$AL$10,0)=Tableau3[[#This Row],[Equipe 2]],Tableau3[[#This Row],[Equipe 2]],IF(_xlfn.XLOOKUP(Tableau3[[#This Row],[Equipe 2]],$AM$3:$AM$10,$AM$3:$AM$10,0)=Tableau3[[#This Row],[Equipe 2]],Tableau3[[#This Row],[Equipe 2]],IF(_xlfn.XLOOKUP(Tableau3[[#This Row],[Equipe 1]],$AL$3:$AL$10,$AL$3:$AL$10,0)=Tableau3[[#This Row],[Equipe 1]],Tableau3[[#This Row],[Equipe 1]],_xlfn.XLOOKUP(Tableau3[[#This Row],[Equipe 1]],$AM$3:$AM$10,$AM$3:$AM$10,0)))),0) -> 0 | BF10: =LEN(Tableau3[[#This Row],[Equipe 1]]) -> 12 | BG10: =LEN(Tableau3[[#This Row],[Equipe 2]]) -> 17 | BH10: =IFERROR(IF(Tableau3[[#This Row],[Q3]]>0,1,0)+IF(Tableau3[[#This Row],[Q4]]>0,1,0),0) -> 2 | BY10: 8 | BZ10: =Tableau15[[#This Row],[Sport]]&" - "&Tableau15[[#This Row],[Equipe 1]]&" vs "&Tableau15[[#This Row],[Equipe 2]] -> Padel - Blockudoku A vs Téléteubiloutes B | CA10: Padel | CB10: ='2-Phase de classement-Padel'!$E$33 -> Blockudoku A | CC10: ='2-Phase de classement-Padel'!$E$34 -> Téléteubiloutes B | CD10: ='2-Phase de classement-Padel'!$F$34 -> W | CE10: =IFERROR(IF(_xlfn.XLOOKUP(Tableau15[[#This Row],[Equipe 2]],$BM$3:$BM$6,$BM$3:$BM$6,0)=Tableau15[[#This Row],[Equipe 2]],Tableau15[[#This Row],[Equipe 2]],IF(_xlfn.XLOOKUP(Tableau15[[#This Row],[Equipe 2]],$BN$3:$BN$6,$BN$3:$BN$6,0)=Tableau15[[#This Row],[Equipe 2]],Tableau15[[#This Row],[Equipe 2]],IF(_xlfn.XLOOKUP(Tableau15[[#This Row],[Equipe 1]],$BM$3:$BM$6,$BM$3:$BM$6,0)=Tableau15[[#This Row],[Equipe 1]],Tableau15[[#This Row],[Equipe 1]],_xlfn.XLOOKUP(Tableau15[[#This Row],[Equipe 1]],$BN$3:$BN$6,$BN$3:$BN$6,0)))),0) -> 0 | CF10: =IFERROR(IF(_xlfn.XLOOKUP(Tableau15[[#This Row],[Equipe 2]],$AL$7:$AL$10,$AL$7:$AL$10,0)=Tableau15[[#This Row],[Equipe 2]],Tableau15[[#This Row],[Equipe 2]],IF(_xlfn.XLOOKUP(Tableau15[[#This Row],[Equipe 2]],$AM$7:$AM$10,$AM$7:$AM$10,0)=Tableau15[[#This Row],[Equipe 2]],Tableau15[[#This Row],[Equipe 2]],IF(_xlfn.XLOOKUP(Tableau15[[#This Row],[Equipe 1]],$AL$7:$AL$10,$AL$7:$AL$10,0)=Tableau15[[#This Row],[Equipe 1]],Tableau15[[#This Row],[Equipe 1]],_xlfn.XLOOKUP(Tableau15[[#This Row],[Equipe 1]],$AM$7:$AM$10,$AM$7:$AM$10,0)))),0) -> 0 | CG10: =LEN(Tableau15[[#This Row],[Equipe 1]]) -> 12 | CH10: =LEN(Tableau15[[#This Row],[Equipe 2]]) -> 17 | CI10: =IFERROR(IF(Tableau15[[#This Row],[Q3]]>0,1,0)+IF(Tableau15[[#This Row],[Q4]]>0,1,0),0) -> 2
A11: 9 | B11: =Tableau1[[#This Row],[Sport]]&" - "&Tableau1[[#This Row],[Equipe 1]]&" vs "&Tableau1[[#This Row],[Equipe 2]] -> Padel - Spyk'up A vs Les inconnus B | C11: Padel | D11: ='2-Phase de classement-Padel'!$E$37 -> Spyk'up A | E11: ='2-Phase de classement-Padel'!$E$38 -> Les inconnus B | F11: ='2-Phase de classement-Padel'!$F$38 -> L | I11: =LEN(Tableau1[[#This Row],[Equipe 1]]) -> 9 | J11: =LEN(Tableau1[[#This Row],[Equipe 2]]) -> 14 | K11: =IFERROR(IF(Tableau1[[#This Row],[Q3]]>0,1,0)+IF(Tableau1[[#This Row],[Q4]]>0,1,0),0) -> 2 | X11: 9 | Y11: =Tableau2[[#This Row],[Sport]]&" - "&Tableau2[[#This Row],[Equipe 1]]&" vs "&Tableau2[[#This Row],[Equipe 2]] -> Badminton - Waral B vs Blockudoku B | Z11: Badminton | AA11: ='2-Phase de classement-Bad'!$E$37 -> Waral B | AB11: ='2-Phase de classement-Bad'!$E$38 -> Blockudoku B | AC11: ='2-Phase de classement-Bad'!$F$38 -> W | AD11: =IFERROR(IF(_xlfn.XLOOKUP(Tableau2[[#This Row],[Equipe 2]],$P$3:$P$6,$P$3:$P$6,0)=Tableau2[[#This Row],[Equipe 2]],Tableau2[[#This Row],[Equipe 2]],IF(_xlfn.XLOOKUP(Tableau2[[#This Row],[Equipe 2]],$Q$3:$Q$6,$Q$3:$Q$6,0)=Tableau2[[#This Row],[Equipe 2]],Tableau2[[#This Row],[Equipe 2]],IF(_xlfn.XLOOKUP(Tableau2[[#This Row],[Equipe 1]],$P$3:$P$6,$P$3:$P$6,0)=Tableau2[[#This Row],[Equipe 1]],Tableau2[[#This Row],[Equipe 1]],_xlfn.XLOOKUP(Tableau2[[#This Row],[Equipe 1]],$Q$3:$Q$6,$Q$3:$Q$6,0)))),0) -> 0 | AE11: =LEN(Tableau2[[#This Row],[Equipe 1]]) -> 7 | AF11: =LEN(Tableau2[[#This Row],[Equipe 2]]) -> 12 | AG11: =IFERROR(IF(Tableau2[[#This Row],[Q3]]>0,1,0)+IF(Tableau2[[#This Row],[Q4]]>0,1,0),0) -> 2 | AX11: 9 | AY11: =Tableau1[[#This Row],[Sport]]&" - "&Tableau1[[#This Row],[Equipe 1]]&" vs "&Tableau1[[#This Row],[Equipe 2]] -> Padel - Spyk'up A vs Les inconnus B | AZ11: Padel | BA11: ='2-Phase de classement-Padel'!$E$37 -> Spyk'up A | BB11: ='2-Phase de classement-Padel'!$E$38 -> Les inconnus B | BC11: ='2-Phase de classement-Padel'!$F$38 -> L | BD11: =IFERROR(IF(_xlfn.XLOOKUP(Tableau3[[#This Row],[Equipe 2]],$P$3:$P$6,$P$3:$P$6,0)=Tableau3[[#This Row],[Equipe 2]],Tableau3[[#This Row],[Equipe 2]],IF(_xlfn.XLOOKUP(Tableau3[[#This Row],[Equipe 2]],$Q$3:$Q$6,$Q$3:$Q$6,0)=Tableau3[[#This Row],[Equipe 2]],Tableau3[[#This Row],[Equipe 2]],IF(_xlfn.XLOOKUP(Tableau3[[#This Row],[Equipe 1]],$P$3:$P$6,$P$3:$P$6,0)=Tableau3[[#This Row],[Equipe 1]],Tableau3[[#This Row],[Equipe 1]],_xlfn.XLOOKUP(Tableau3[[#This Row],[Equipe 1]],$Q$3:$Q$6,$Q$3:$Q$6,0)))),0) -> 0 | BE11: =IFERROR(IF(_xlfn.XLOOKUP(Tableau3[[#This Row],[Equipe 2]],$AL$3:$AL$10,$AL$3:$AL$10,0)=Tableau3[[#This Row],[Equipe 2]],Tableau3[[#This Row],[Equipe 2]],IF(_xlfn.XLOOKUP(Tableau3[[#This Row],[Equipe 2]],$AM$3:$AM$10,$AM$3:$AM$10,0)=Tableau3[[#This Row],[Equipe 2]],Tableau3[[#This Row],[Equipe 2]],IF(_xlfn.XLOOKUP(Tableau3[[#This Row],[Equipe 1]],$AL$3:$AL$10,$AL$3:$AL$10,0)=Tableau3[[#This Row],[Equipe 1]],Tableau3[[#This Row],[Equipe 1]],_xlfn.XLOOKUP(Tableau3[[#This Row],[Equipe 1]],$AM$3:$AM$10,$AM$3:$AM$10,0)))),0) -> 0 | BF11: =LEN(Tableau3[[#This Row],[Equipe 1]]) -> 9 | BG11: =LEN(Tableau3[[#This Row],[Equipe 2]]) -> 14 | BH11: =IFERROR(IF(Tableau3[[#This Row],[Q3]]>0,1,0)+IF(Tableau3[[#This Row],[Q4]]>0,1,0),0) -> 2 | BY11: 9 | BZ11: =Tableau15[[#This Row],[Sport]]&" - "&Tableau15[[#This Row],[Equipe 1]]&" vs "&Tableau15[[#This Row],[Equipe 2]] -> Padel - Spyk'up A vs Les inconnus B | CA11: Padel | CB11: ='2-Phase de classement-Padel'!$E$37 -> Spyk'up A | CC11: ='2-Phase de classement-Padel'!$E$38 -> Les inconnus B | CD11: ='2-Phase de classement-Padel'!$F$38 -> L | CE11: =IFERROR(IF(_xlfn.XLOOKUP(Tableau15[[#This Row],[Equipe 2]],$BM$3:$BM$6,$BM$3:$BM$6,0)=Tableau15[[#This Row],[Equipe 2]],Tableau15[[#This Row],[Equipe 2]],IF(_xlfn.XLOOKUP(Tableau15[[#This Row],[Equipe 2]],$BN$3:$BN$6,$BN$3:$BN$6,0)=Tableau15[[#This Row],[Equipe 2]],Tableau15[[#This Row],[Equipe 2]],IF(_xlfn.XLOOKUP(Tableau15[[#This Row],[Equipe 1]],$BM$3:$BM$6,$BM$3:$BM$6,0)=Tableau15[[#This Row],[Equipe 1]],Tableau15[[#This Row],[Equipe 1]],_xlfn.XLOOKUP(Tableau15[[#This Row],[Equipe 1]],$BN$3:$BN$6,$BN$3:$BN$6,0)))),0) -> 0 | CF11: =IFERROR(IF(_xlfn.XLOOKUP(Tableau15[[#This Row],[Equipe 2]],$AL$7:$AL$10,$AL$7:$AL$10,0)=Tableau15[[#This Row],[Equipe 2]],Tableau15[[#This Row],[Equipe 2]],IF(_xlfn.XLOOKUP(Tableau15[[#This Row],[Equipe 2]],$AM$7:$AM$10,$AM$7:$AM$10,0)=Tableau15[[#This Row],[Equipe 2]],Tableau15[[#This Row],[Equipe 2]],IF(_xlfn.XLOOKUP(Tableau15[[#This Row],[Equipe 1]],$AL$7:$AL$10,$AL$7:$AL$10,0)=Tableau15[[#This Row],[Equipe 1]],Tableau15[[#This Row],[Equipe 1]],_xlfn.XLOOKUP(Tableau15[[#This Row],[Equipe 1]],$AM$7:$AM$10,$AM$7:$AM$10,0)))),0) -> 0 | CG11: =LEN(Tableau15[[#This Row],[Equipe 1]]) -> 9 | CH11: =LEN(Tableau15[[#This Row],[Equipe 2]]) -> 14 | CI11: =IFERROR(IF(Tableau15[[#This Row],[Q3]]>0,1,0)+IF(Tableau15[[#This Row],[Q4]]>0,1,0),0) -> 2
A12: 10 | B12: =Tableau1[[#This Row],[Sport]]&" - "&Tableau1[[#This Row],[Equipe 1]]&" vs "&Tableau1[[#This Row],[Equipe 2]] -> Padel - Téléteubiloutes A vs Les torcheurs B | C12: Padel | D12: ='2-Phase de classement-Padel'!$E$41 -> Téléteubiloutes A | E12: ='2-Phase de classement-Padel'!$E$42 -> Les torcheurs B | F12: ='2-Phase de classement-Padel'!$F$42 -> L | I12: =LEN(Tableau1[[#This Row],[Equipe 1]]) -> 17 | J12: =LEN(Tableau1[[#This Row],[Equipe 2]]) -> 15 | K12: =IFERROR(IF(Tableau1[[#This Row],[Q3]]>0,1,0)+IF(Tableau1[[#This Row],[Q4]]>0,1,0),0) -> 2 | X12: 10 | Y12: =Tableau2[[#This Row],[Sport]]&" - "&Tableau2[[#This Row],[Equipe 1]]&" vs "&Tableau2[[#This Row],[Equipe 2]] -> Badminton - Spyk'up A vs Floyouyat B | Z12: Badminton | AA12: ='2-Phase de classement-Bad'!$E$41 -> Spyk'up A | AB12: ='2-Phase de classement-Bad'!$E$42 -> Floyouyat B | AC12: ='2-Phase de classement-Bad'!$F$42 -> L | AD12: =IFERROR(IF(_xlfn.XLOOKUP(Tableau2[[#This Row],[Equipe 2]],$P$3:$P$6,$P$3:$P$6,0)=Tableau2[[#This Row],[Equipe 2]],Tableau2[[#This Row],[Equipe 2]],IF(_xlfn.XLOOKUP(Tableau2[[#This Row],[Equipe 2]],$Q$3:$Q$6,$Q$3:$Q$6,0)=Tableau2[[#This Row],[Equipe 2]],Tableau2[[#This Row],[Equipe 2]],IF(_xlfn.XLOOKUP(Tableau2[[#This Row],[Equipe 1]],$P$3:$P$6,$P$3:$P$6,0)=Tableau2[[#This Row],[Equipe 1]],Tableau2[[#This Row],[Equipe 1]],_xlfn.XLOOKUP(Tableau2[[#This Row],[Equipe 1]],$Q$3:$Q$6,$Q$3:$Q$6,0)))),0) -> 0 | AE12: =LEN(Tableau2[[#This Row],[Equipe 1]]) -> 9 | AF12: =LEN(Tableau2[[#This Row],[Equipe 2]]) -> 11 | AG12: =IFERROR(IF(Tableau2[[#This Row],[Q3]]>0,1,0)+IF(Tableau2[[#This Row],[Q4]]>0,1,0),0) -> 2 | AX12: 10 | AY12: =Tableau1[[#This Row],[Sport]]&" - "&Tableau1[[#This Row],[Equipe 1]]&" vs "&Tableau1[[#This Row],[Equipe 2]] -> Padel - Téléteubiloutes A vs Les torcheurs B | AZ12: Padel | BA12: ='2-Phase de classement-Padel'!$E$41 -> Téléteubiloutes A | BB12: ='2-Phase de classement-Padel'!$E$42 -> Les torcheurs B | BC12: ='2-Phase de classement-Padel'!$F$42 -> L | BD12: =IFERROR(IF(_xlfn.XLOOKUP(Tableau3[[#This Row],[Equipe 2]],$P$3:$P$6,$P$3:$P$6,0)=Tableau3[[#This Row],[Equipe 2]],Tableau3[[#This Row],[Equipe 2]],IF(_xlfn.XLOOKUP(Tableau3[[#This Row],[Equipe 2]],$Q$3:$Q$6,$Q$3:$Q$6,0)=Tableau3[[#This Row],[Equipe 2]],Tableau3[[#This Row],[Equipe 2]],IF(_xlfn.XLOOKUP(Tableau3[[#This Row],[Equipe 1]],$P$3:$P$6,$P$3:$P$6,0)=Tableau3[[#This Row],[Equipe 1]],Tableau3[[#This Row],[Equipe 1]],_xlfn.XLOOKUP(Tableau3[[#This Row],[Equipe 1]],$Q$3:$Q$6,$Q$3:$Q$6,0)))),0) -> Les torcheurs B | BE12: =IFERROR(IF(_xlfn.XLOOKUP(Tableau3[[#This Row],[Equipe 2]],$AL$3:$AL$10,$AL$3:$AL$10,0)=Tableau3[[#This Row],[Equipe 2]],Tableau3[[#This Row],[Equipe 2]],IF(_xlfn.XLOOKUP(Tableau3[[#This Row],[Equipe 2]],$AM$3:$AM$10,$AM$3:$AM$10,0)=Tableau3[[#This Row],[Equipe 2]],Tableau3[[#This Row],[Equipe 2]],IF(_xlfn.XLOOKUP(Tableau3[[#This Row],[Equipe 1]],$AL$3:$AL$10,$AL$3:$AL$10,0)=Tableau3[[#This Row],[Equipe 1]],Tableau3[[#This Row],[Equipe 1]],_xlfn.XLOOKUP(Tableau3[[#This Row],[Equipe 1]],$AM$3:$AM$10,$AM$3:$AM$10,0)))),0) -> 0 | BF12: =LEN(Tableau3[[#This Row],[Equipe 1]]) -> 17 | BG12: =LEN(Tableau3[[#This Row],[Equipe 2]]) -> 15 | BH12: =IFERROR(IF(Tableau3[[#This Row],[Q3]]>0,1,0)+IF(Tableau3[[#This Row],[Q4]]>0,1,0),0) -> 2 | BY12: 10 | BZ12: =Tableau15[[#This Row],[Sport]]&" - "&Tableau15[[#This Row],[Equipe 1]]&" vs "&Tableau15[[#This Row],[Equipe 2]] -> Padel - Téléteubiloutes A vs Les torcheurs B | CA12: Padel | CB12: ='2-Phase de classement-Padel'!$E$41 -> Téléteubiloutes A | CC12: ='2-Phase de classement-Padel'!$E$42 -> Les torcheurs B | CD12: ='2-Phase de classement-Padel'!$F$42 -> L | CE12: =IFERROR(IF(_xlfn.XLOOKUP(Tableau15[[#This Row],[Equipe 2]],$BM$3:$BM$6,$BM$3:$BM$6,0)=Tableau15[[#This Row],[Equipe 2]],Tableau15[[#This Row],[Equipe 2]],IF(_xlfn.XLOOKUP(Tableau15[[#This Row],[Equipe 2]],$BN$3:$BN$6,$BN$3:$BN$6,0)=Tableau15[[#This Row],[Equipe 2]],Tableau15[[#This Row],[Equipe 2]],IF(_xlfn.XLOOKUP(Tableau15[[#This Row],[Equipe 1]],$BM$3:$BM$6,$BM$3:$BM$6,0)=Tableau15[[#This Row],[Equipe 1]],Tableau15[[#This Row],[Equipe 1]],_xlfn.XLOOKUP(Tableau15[[#This Row],[Equipe 1]],$BN$3:$BN$6,$BN$3:$BN$6,0)))),0) -> 0 | CF12: =IFERROR(IF(_xlfn.XLOOKUP(Tableau15[[#This Row],[Equipe 2]],$AL$7:$AL$10,$AL$7:$AL$10,0)=Tableau15[[#This Row],[Equipe 2]],Tableau15[[#This Row],[Equipe 2]],IF(_xlfn.XLOOKUP(Tableau15[[#This Row],[Equipe 2]],$AM$7:$AM$10,$AM$7:$AM$10,0)=Tableau15[[#This Row],[Equipe 2]],Tableau15[[#This Row],[Equipe 2]],IF(_xlfn.XLOOKUP(Tableau15[[#This Row],[Equipe 1]],$AL$7:$AL$10,$AL$7:$AL$10,0)=Tableau15[[#This Row],[Equipe 1]],Tableau15[[#This Row],[Equipe 1]],_xlfn.XLOOKUP(Tableau15[[#This Row],[Equipe 1]],$AM$7:$AM$10,$AM$7:$AM$10,0)))),0) -> 0 | CG12: =LEN(Tableau15[[#This Row],[Equipe 1]]) -> 17 | CH12: =LEN(Tableau15[[#This Row],[Equipe 2]]) -> 15 | CI12: =IFERROR(IF(Tableau15[[#This Row],[Q3]]>0,1,0)+IF(Tableau15[[#This Row],[Q4]]>0,1,0),0) -> 2
A13: 11 | B13: =Tableau1[[#This Row],[Sport]]&" - "&Tableau1[[#This Row],[Equipe 1]]&" vs "&Tableau1[[#This Row],[Equipe 2]] -> Padel - Floyouyat A vs Spyk'up B | C13: Padel | D13: ='2-Phase de classement-Padel'!$E$45 -> Floyouyat A | E13: ='2-Phase de classement-Padel'!$E$46 -> Spyk'up B | F13: ='2-Phase de classement-Padel'!$F$46 -> W | I13: =LEN(Tableau1[[#This Row],[Equipe 1]]) -> 11 | J13: =LEN(Tableau1[[#This Row],[Equipe 2]]) -> 9 | K13: =IFERROR(IF(Tableau1[[#This Row],[Q3]]>0,1,0)+IF(Tableau1[[#This Row],[Q4]]>0,1,0),0) -> 2 | X13: 11 | Y13: =Tableau2[[#This Row],[Sport]]&" - "&Tableau2[[#This Row],[Equipe 1]]&" vs "&Tableau2[[#This Row],[Equipe 2]] -> Badminton - Blockudoku A vs Téléteubiloutes B | Z13: Badminton | AA13: ='2-Phase de classement-Bad'!$E$45 -> Blockudoku A | AB13: ='2-Phase de classement-Bad'!$E$46 -> Téléteubiloutes B | AC13: ='2-Phase de classement-Bad'!$F$46 -> L | AD13: =IFERROR(IF(_xlfn.XLOOKUP(Tableau2[[#This Row],[Equipe 2]],$P$3:$P$6,$P$3:$P$6,0)=Tableau2[[#This Row],[Equipe 2]],Tableau2[[#This Row],[Equipe 2]],IF(_xlfn.XLOOKUP(Tableau2[[#This Row],[Equipe 2]],$Q$3:$Q$6,$Q$3:$Q$6,0)=Tableau2[[#This Row],[Equipe 2]],Tableau2[[#This Row],[Equipe 2]],IF(_xlfn.XLOOKUP(Tableau2[[#This Row],[Equipe 1]],$P$3:$P$6,$P$3:$P$6,0)=Tableau2[[#This Row],[Equipe 1]],Tableau2[[#This Row],[Equipe 1]],_xlfn.XLOOKUP(Tableau2[[#This Row],[Equipe 1]],$Q$3:$Q$6,$Q$3:$Q$6,0)))),0) -> 0 | AE13: =LEN(Tableau2[[#This Row],[Equipe 1]]) -> 12 | AF13: =LEN(Tableau2[[#This Row],[Equipe 2]]) -> 17 | AG13: =IFERROR(IF(Tableau2[[#This Row],[Q3]]>0,1,0)+IF(Tableau2[[#This Row],[Q4]]>0,1,0),0) -> 2 | AX13: 11 | AY13: =Tableau1[[#This Row],[Sport]]&" - "&Tableau1[[#This Row],[Equipe 1]]&" vs "&Tableau1[[#This Row],[Equipe 2]] -> Padel - Floyouyat A vs Spyk'up B | AZ13: Padel | BA13: ='2-Phase de classement-Padel'!$E$45 -> Floyouyat A | BB13: ='2-Phase de classement-Padel'!$E$46 -> Spyk'up B | BC13: ='2-Phase de classement-Padel'!$F$46 -> W | BD13: =IFERROR(IF(_xlfn.XLOOKUP(Tableau3[[#This Row],[Equipe 2]],$P$3:$P$6,$P$3:$P$6,0)=Tableau3[[#This Row],[Equipe 2]],Tableau3[[#This Row],[Equipe 2]],IF(_xlfn.XLOOKUP(Tableau3[[#This Row],[Equipe 2]],$Q$3:$Q$6,$Q$3:$Q$6,0)=Tableau3[[#This Row],[Equipe 2]],Tableau3[[#This Row],[Equipe 2]],IF(_xlfn.XLOOKUP(Tableau3[[#This Row],[Equipe 1]],$P$3:$P$6,$P$3:$P$6,0)=Tableau3[[#This Row],[Equipe 1]],Tableau3[[#This Row],[Equipe 1]],_xlfn.XLOOKUP(Tableau3[[#This Row],[Equipe 1]],$Q$3:$Q$6,$Q$3:$Q$6,0)))),0) -> Floyouyat A | BE13: =IFERROR(IF(_xlfn.XLOOKUP(Tableau3[[#This Row],[Equipe 2]],$AL$3:$AL$10,$AL$3:$AL$10,0)=Tableau3[[#This Row],[Equipe 2]],Tableau3[[#This Row],[Equipe 2]],IF(_xlfn.XLOOKUP(Tableau3[[#This Row],[Equipe 2]],$AM$3:$AM$10,$AM$3:$AM$10,0)=Tableau3[[#This Row],[Equipe 2]],Tableau3[[#This Row],[Equipe 2]],IF(_xlfn.XLOOKUP(Tableau3[[#This Row],[Equipe 1]],$AL$3:$AL$10,$AL$3:$AL$10,0)=Tableau3[[#This Row],[Equipe 1]],Tableau3[[#This Row],[Equipe 1]],_xlfn.XLOOKUP(Tableau3[[#This Row],[Equipe 1]],$AM$3:$AM$10,$AM$3:$AM$10,0)))),0) -> 0 | BF13: =LEN(Tableau3[[#This Row],[Equipe 1]]) -> 11 | BG13: =LEN(Tableau3[[#This Row],[Equipe 2]]) -> 9 | BH13: =IFERROR(IF(Tableau3[[#This Row],[Q3]]>0,1,0)+IF(Tableau3[[#This Row],[Q4]]>0,1,0),0) -> 2 | BY13: 11 | BZ13: =Tableau15[[#This Row],[Sport]]&" - "&Tableau15[[#This Row],[Equipe 1]]&" vs "&Tableau15[[#This Row],[Equipe 2]] -> Padel - Floyouyat A vs Spyk'up B | CA13: Padel | CB13: ='2-Phase de classement-Padel'!$E$45 -> Floyouyat A | CC13: ='2-Phase de classement-Padel'!$E$46 -> Spyk'up B | CD13: ='2-Phase de classement-Padel'!$F$46 -> W | CE13: =IFERROR(IF(_xlfn.XLOOKUP(Tableau15[[#This Row],[Equipe 2]],$BM$3:$BM$6,$BM$3:$BM$6,0)=Tableau15[[#This Row],[Equipe 2]],Tableau15[[#This Row],[Equipe 2]],IF(_xlfn.XLOOKUP(Tableau15[[#This Row],[Equipe 2]],$BN$3:$BN$6,$BN$3:$BN$6,0)=Tableau15[[#This Row],[Equipe 2]],Tableau15[[#This Row],[Equipe 2]],IF(_xlfn.XLOOKUP(Tableau15[[#This Row],[Equipe 1]],$BM$3:$BM$6,$BM$3:$BM$6,0)=Tableau15[[#This Row],[Equipe 1]],Tableau15[[#This Row],[Equipe 1]],_xlfn.XLOOKUP(Tableau15[[#This Row],[Equipe 1]],$BN$3:$BN$6,$BN$3:$BN$6,0)))),0) -> 0 | CF13: =IFERROR(IF(_xlfn.XLOOKUP(Tableau15[[#This Row],[Equipe 2]],$AL$7:$AL$10,$AL$7:$AL$10,0)=Tableau15[[#This Row],[Equipe 2]],Tableau15[[#This Row],[Equipe 2]],IF(_xlfn.XLOOKUP(Tableau15[[#This Row],[Equipe 2]],$AM$7:$AM$10,$AM$7:$AM$10,0)=Tableau15[[#This Row],[Equipe 2]],Tableau15[[#This Row],[Equipe 2]],IF(_xlfn.XLOOKUP(Tableau15[[#This Row],[Equipe 1]],$AL$7:$AL$10,$AL$7:$AL$10,0)=Tableau15[[#This Row],[Equipe 1]],Tableau15[[#This Row],[Equipe 1]],_xlfn.XLOOKUP(Tableau15[[#This Row],[Equipe 1]],$AM$7:$AM$10,$AM$7:$AM$10,0)))),0) -> 0 | CG13: =LEN(Tableau15[[#This Row],[Equipe 1]]) -> 11 | CH13: =LEN(Tableau15[[#This Row],[Equipe 2]]) -> 9 | CI13: =IFERROR(IF(Tableau15[[#This Row],[Q3]]>0,1,0)+IF(Tableau15[[#This Row],[Q4]]>0,1,0),0) -> 2
A14: 12 | B14: =Tableau1[[#This Row],[Sport]]&" - "&Tableau1[[#This Row],[Equipe 1]]&" vs "&Tableau1[[#This Row],[Equipe 2]] -> Padel - Pooldeads A vs Celtics Grave Gros B | C14: Padel | D14: ='2-Phase de classement-Padel'!$E$49 -> Pooldeads A | E14: ='2-Phase de classement-Padel'!$E$50 -> Celtics Grave Gros B | F14: ='2-Phase de classement-Padel'!$F$50 -> W | I14: =LEN(Tableau1[[#This Row],[Equipe 1]]) -> 11 | J14: =LEN(Tableau1[[#This Row],[Equipe 2]]) -> 20 | K14: =IFERROR(IF(Tableau1[[#This Row],[Q3]]>0,1,0)+IF(Tableau1[[#This Row],[Q4]]>0,1,0),0) -> 2 | X14: 12 | Y14: =Tableau2[[#This Row],[Sport]]&" - "&Tableau2[[#This Row],[Equipe 1]]&" vs "&Tableau2[[#This Row],[Equipe 2]] -> Badminton - Floyouyat A vs Les Tengos A | Z14: Badminton | AA14: ='2-Phase de classement-Bad'!$E$49 -> Floyouyat A | AB14: ='2-Phase de classement-Bad'!$E$50 -> Les Tengos A | AC14: ='2-Phase de classement-Bad'!$F$50 -> W | AD14: =IFERROR(IF(_xlfn.XLOOKUP(Tableau2[[#This Row],[Equipe 2]],$P$3:$P$6,$P$3:$P$6,0)=Tableau2[[#This Row],[Equipe 2]],Tableau2[[#This Row],[Equipe 2]],IF(_xlfn.XLOOKUP(Tableau2[[#This Row],[Equipe 2]],$Q$3:$Q$6,$Q$3:$Q$6,0)=Tableau2[[#This Row],[Equipe 2]],Tableau2[[#This Row],[Equipe 2]],IF(_xlfn.XLOOKUP(Tableau2[[#This Row],[Equipe 1]],$P$3:$P$6,$P$3:$P$6,0)=Tableau2[[#This Row],[Equipe 1]],Tableau2[[#This Row],[Equipe 1]],_xlfn.XLOOKUP(Tableau2[[#This Row],[Equipe 1]],$Q$3:$Q$6,$Q$3:$Q$6,0)))),0) -> Floyouyat A | AE14: =LEN(Tableau2[[#This Row],[Equipe 1]]) -> 11 | AF14: =LEN(Tableau2[[#This Row],[Equipe 2]]) -> 12 | AG14: =IFERROR(IF(Tableau2[[#This Row],[Q3]]>0,1,0)+IF(Tableau2[[#This Row],[Q4]]>0,1,0),0) -> 2 | AX14: 12 | AY14: =Tableau1[[#This Row],[Sport]]&" - "&Tableau1[[#This Row],[Equipe 1]]&" vs "&Tableau1[[#This Row],[Equipe 2]] -> Padel - Pooldeads A vs Celtics Grave Gros B | AZ14: Padel | BA14: ='2-Phase de classement-Padel'!$E$49 -> Pooldeads A | BB14: ='2-Phase de classement-Padel'!$E$50 -> Celtics Grave Gros B | BC14: ='2-Phase de classement-Padel'!$F$50 -> W | BD14: =IFERROR(IF(_xlfn.XLOOKUP(Tableau3[[#This Row],[Equipe 2]],$P$3:$P$6,$P$3:$P$6,0)=Tableau3[[#This Row],[Equipe 2]],Tableau3[[#This Row],[Equipe 2]],IF(_xlfn.XLOOKUP(Tableau3[[#This Row],[Equipe 2]],$Q$3:$Q$6,$Q$3:$Q$6,0)=Tableau3[[#This Row],[Equipe 2]],Tableau3[[#This Row],[Equipe 2]],IF(_xlfn.XLOOKUP(Tableau3[[#This Row],[Equipe 1]],$P$3:$P$6,$P$3:$P$6,0)=Tableau3[[#This Row],[Equipe 1]],Tableau3[[#This Row],[Equipe 1]],_xlfn.XLOOKUP(Tableau3[[#This Row],[Equipe 1]],$Q$3:$Q$6,$Q$3:$Q$6,0)))),0) -> Celtics Grave Gros B | BE14: =IFERROR(IF(_xlfn.XLOOKUP(Tableau3[[#This Row],[Equipe 2]],$AL$3:$AL$10,$AL$3:$AL$10,0)=Tableau3[[#This Row],[Equipe 2]],Tableau3[[#This Row],[Equipe 2]],IF(_xlfn.XLOOKUP(Tableau3[[#This Row],[Equipe 2]],$AM$3:$AM$10,$AM$3:$AM$10,0)=Tableau3[[#This Row],[Equipe 2]],Tableau3[[#This Row],[Equipe 2]],IF(_xlfn.XLOOKUP(Tableau3[[#This Row],[Equipe 1]],$AL$3:$AL$10,$AL$3:$AL$10,0)=Tableau3[[#This Row],[Equipe 1]],Tableau3[[#This Row],[Equipe 1]],_xlfn.XLOOKUP(Tableau3[[#This Row],[Equipe 1]],$AM$3:$AM$10,$AM$3:$AM$10,0)))),0) -> 0 | BF14: =LEN(Tableau3[[#This Row],[Equipe 1]]) -> 11 | BG14: =LEN(Tableau3[[#This Row],[Equipe 2]]) -> 20 | BH14: =IFERROR(IF(Tableau3[[#This Row],[Q3]]>0,1,0)+IF(Tableau3[[#This Row],[Q4]]>0,1,0),0) -> 2 | BY14: 12 | BZ14: =Tableau15[[#This Row],[Sport]]&" - "&Tableau15[[#This Row],[Equipe 1]]&" vs "&Tableau15[[#This Row],[Equipe 2]] -> Padel - Pooldeads A vs Celtics Grave Gros B | CA14: Padel | CB14: ='2-Phase de classement-Padel'!$E$49 -> Pooldeads A | CC14: ='2-Phase de classement-Padel'!$E$50 -> Celtics Grave Gros B | CD14: ='2-Phase de classement-Padel'!$F$50 -> W | CE14: =IFERROR(IF(_xlfn.XLOOKUP(Tableau15[[#This Row],[Equipe 2]],$BM$3:$BM$6,$BM$3:$BM$6,0)=Tableau15[[#This Row],[Equipe 2]],Tableau15[[#This Row],[Equipe 2]],IF(_xlfn.XLOOKUP(Tableau15[[#This Row],[Equipe 2]],$BN$3:$BN$6,$BN$3:$BN$6,0)=Tableau15[[#This Row],[Equipe 2]],Tableau15[[#This Row],[Equipe 2]],IF(_xlfn.XLOOKUP(Tableau15[[#This Row],[Equipe 1]],$BM$3:$BM$6,$BM$3:$BM$6,0)=Tableau15[[#This Row],[Equipe 1]],Tableau15[[#This Row],[Equipe 1]],_xlfn.XLOOKUP(Tableau15[[#This Row],[Equipe 1]],$BN$3:$BN$6,$BN$3:$BN$6,0)))),0) -> 0 | CF14: =IFERROR(IF(_xlfn.XLOOKUP(Tableau15[[#This Row],[Equipe 2]],$AL$7:$AL$10,$AL$7:$AL$10,0)=Tableau15[[#This Row],[Equipe 2]],Tableau15[[#This Row],[Equipe 2]],IF(_xlfn.XLOOKUP(Tableau15[[#This Row],[Equipe 2]],$AM$7:$AM$10,$AM$7:$AM$10,0)=Tableau15[[#This Row],[Equipe 2]],Tableau15[[#This Row],[Equipe 2]],IF(_xlfn.XLOOKUP(Tableau15[[#This Row],[Equipe 1]],$AL$7:$AL$10,$AL$7:$AL$10,0)=Tableau15[[#This Row],[Equipe 1]],Tableau15[[#This Row],[Equipe 1]],_xlfn.XLOOKUP(Tableau15[[#This Row],[Equipe 1]],$AM$7:$AM$10,$AM$7:$AM$10,0)))),0) -> 0 | CG14: =LEN(Tableau15[[#This Row],[Equipe 1]]) -> 11 | CH14: =LEN(Tableau15[[#This Row],[Equipe 2]]) -> 20 | CI14: =IFERROR(IF(Tableau15[[#This Row],[Q3]]>0,1,0)+IF(Tableau15[[#This Row],[Q4]]>0,1,0),0) -> 2
A15: 13 | B15: =Tableau1[[#This Row],[Sport]]&" - "&Tableau1[[#This Row],[Equipe 1]]&" vs "&Tableau1[[#This Row],[Equipe 2]] -> Padel - Les Tengos A vs Bandanateam B | C15: Padel | D15: ='2-Phase de classement-Padel'!$E$53 -> Les Tengos A | E15: ='2-Phase de classement-Padel'!$E$54 -> Bandanateam B | F15: ='2-Phase de classement-Padel'!$F$54 -> L | I15: =LEN(Tableau1[[#This Row],[Equipe 1]]) -> 12 | J15: =LEN(Tableau1[[#This Row],[Equipe 2]]) -> 13 | K15: =IFERROR(IF(Tableau1[[#This Row],[Q3]]>0,1,0)+IF(Tableau1[[#This Row],[Q4]]>0,1,0),0) -> 2 | X15: 13 | Y15: =Tableau2[[#This Row],[Sport]]&" - "&Tableau2[[#This Row],[Equipe 1]]&" vs "&Tableau2[[#This Row],[Equipe 2]] -> Badminton - Celtics Grave Gros A vs Les torcheurs A | Z15: Badminton | AA15: ='2-Phase de classement-Bad'!$E$53 -> Celtics Grave Gros A | AB15: ='2-Phase de classement-Bad'!$E$54 -> Les torcheurs A | AC15: ='2-Phase de classement-Bad'!$F$54 -> W | AD15: =IFERROR(IF(_xlfn.XLOOKUP(Tableau2[[#This Row],[Equipe 2]],$P$3:$P$6,$P$3:$P$6,0)=Tableau2[[#This Row],[Equipe 2]],Tableau2[[#This Row],[Equipe 2]],IF(_xlfn.XLOOKUP(Tableau2[[#This Row],[Equipe 2]],$Q$3:$Q$6,$Q$3:$Q$6,0)=Tableau2[[#This Row],[Equipe 2]],Tableau2[[#This Row],[Equipe 2]],IF(_xlfn.XLOOKUP(Tableau2[[#This Row],[Equipe 1]],$P$3:$P$6,$P$3:$P$6,0)=Tableau2[[#This Row],[Equipe 1]],Tableau2[[#This Row],[Equipe 1]],_xlfn.XLOOKUP(Tableau2[[#This Row],[Equipe 1]],$Q$3:$Q$6,$Q$3:$Q$6,0)))),0) -> Celtics Grave Gros A | AE15: =LEN(Tableau2[[#This Row],[Equipe 1]]) -> 20 | AF15: =LEN(Tableau2[[#This Row],[Equipe 2]]) -> 15 | AG15: =IFERROR(IF(Tableau2[[#This Row],[Q3]]>0,1,0)+IF(Tableau2[[#This Row],[Q4]]>0,1,0),0) -> 2 | AX15: 13 | AY15: =Tableau1[[#This Row],[Sport]]&" - "&Tableau1[[#This Row],[Equipe 1]]&" vs "&Tableau1[[#This Row],[Equipe 2]] -> Padel - Les Tengos A vs Bandanateam B | AZ15: Padel | BA15: ='2-Phase de classement-Padel'!$E$53 -> Les Tengos A | BB15: ='2-Phase de classement-Padel'!$E$54 -> Bandanateam B | BC15: ='2-Phase de classement-Padel'!$F$54 -> L | BD15: =IFERROR(IF(_xlfn.XLOOKUP(Tableau3[[#This Row],[Equipe 2]],$P$3:$P$6,$P$3:$P$6,0)=Tableau3[[#This Row],[Equipe 2]],Tableau3[[#This Row],[Equipe 2]],IF(_xlfn.XLOOKUP(Tableau3[[#This Row],[Equipe 2]],$Q$3:$Q$6,$Q$3:$Q$6,0)=Tableau3[[#This Row],[Equipe 2]],Tableau3[[#This Row],[Equipe 2]],IF(_xlfn.XLOOKUP(Tableau3[[#This Row],[Equipe 1]],$P$3:$P$6,$P$3:$P$6,0)=Tableau3[[#This Row],[Equipe 1]],Tableau3[[#This Row],[Equipe 1]],_xlfn.XLOOKUP(Tableau3[[#This Row],[Equipe 1]],$Q$3:$Q$6,$Q$3:$Q$6,0)))),0) -> 0 | BE15: =IFERROR(IF(_xlfn.XLOOKUP(Tableau3[[#This Row],[Equipe 2]],$AL$3:$AL$10,$AL$3:$AL$10,0)=Tableau3[[#This Row],[Equipe 2]],Tableau3[[#This Row],[Equipe 2]],IF(_xlfn.XLOOKUP(Tableau3[[#This Row],[Equipe 2]],$AM$3:$AM$10,$AM$3:$AM$10,0)=Tableau3[[#This Row],[Equipe 2]],Tableau3[[#This Row],[Equipe 2]],IF(_xlfn.XLOOKUP(Tableau3[[#This Row],[Equipe 1]],$AL$3:$AL$10,$AL$3:$AL$10,0)=Tableau3[[#This Row],[Equipe 1]],Tableau3[[#This Row],[Equipe 1]],_xlfn.XLOOKUP(Tableau3[[#This Row],[Equipe 1]],$AM$3:$AM$10,$AM$3:$AM$10,0)))),0) -> 0 | BF15: =LEN(Tableau3[[#This Row],[Equipe 1]]) -> 12 | BG15: =LEN(Tableau3[[#This Row],[Equipe 2]]) -> 13 | BH15: =IFERROR(IF(Tableau3[[#This Row],[Q3]]>0,1,0)+IF(Tableau3[[#This Row],[Q4]]>0,1,0),0) -> 2 | BY15: 13 | BZ15: =Tableau15[[#This Row],[Sport]]&" - "&Tableau15[[#This Row],[Equipe 1]]&" vs "&Tableau15[[#This Row],[Equipe 2]] -> Padel - Les Tengos A vs Bandanateam B | CA15: Padel | CB15: ='2-Phase de classement-Padel'!$E$53 -> Les Tengos A | CC15: ='2-Phase de classement-Padel'!$E$54 -> Bandanateam B | CD15: ='2-Phase de classement-Padel'!$F$54 -> L | CE15: =IFERROR(IF(_xlfn.XLOOKUP(Tableau15[[#This Row],[Equipe 2]],$BM$3:$BM$6,$BM$3:$BM$6,0)=Tableau15[[#This Row],[Equipe 2]],Tableau15[[#This Row],[Equipe 2]],IF(_xlfn.XLOOKUP(Tableau15[[#This Row],[Equipe 2]],$BN$3:$BN$6,$BN$3:$BN$6,0)=Tableau15[[#This Row],[Equipe 2]],Tableau15[[#This Row],[Equipe 2]],IF(_xlfn.XLOOKUP(Tableau15[[#This Row],[Equipe 1]],$BM$3:$BM$6,$BM$3:$BM$6,0)=Tableau15[[#This Row],[Equipe 1]],Tableau15[[#This Row],[Equipe 1]],_xlfn.XLOOKUP(Tableau15[[#This Row],[Equipe 1]],$BN$3:$BN$6,$BN$3:$BN$6,0)))),0) -> 0 | CF15: =IFERROR(IF(_xlfn.XLOOKUP(Tableau15[[#This Row],[Equipe 2]],$AL$7:$AL$10,$AL$7:$AL$10,0)=Tableau15[[#This Row],[Equipe 2]],Tableau15[[#This Row],[Equipe 2]],IF(_xlfn.XLOOKUP(Tableau15[[#This Row],[Equipe 2]],$AM$7:$AM$10,$AM$7:$AM$10,0)=Tableau15[[#This Row],[Equipe 2]],Tableau15[[#This Row],[Equipe 2]],IF(_xlfn.XLOOKUP(Tableau15[[#This Row],[Equipe 1]],$AL$7:$AL$10,$AL$7:$AL$10,0)=Tableau15[[#This Row],[Equipe 1]],Tableau15[[#This Row],[Equipe 1]],_xlfn.XLOOKUP(Tableau15[[#This Row],[Equipe 1]],$AM$7:$AM$10,$AM$7:$AM$10,0)))),0) -> 0 | CG15: =LEN(Tableau15[[#This Row],[Equipe 1]]) -> 12 | CH15: =LEN(Tableau15[[#This Row],[Equipe 2]]) -> 13 | CI15: =IFERROR(IF(Tableau15[[#This Row],[Q3]]>0,1,0)+IF(Tableau15[[#This Row],[Q4]]>0,1,0),0) -> 2
A16: 14 | B16: =Tableau1[[#This Row],[Sport]]&" - "&Tableau1[[#This Row],[Equipe 1]]&" vs "&Tableau1[[#This Row],[Equipe 2]] -> Padel - Waral A vs L'aile ou la cuite B | C16: Padel | D16: ='2-Phase de classement-Padel'!$E$57 -> Waral A | E16: ='2-Phase de classement-Padel'!$E$58 -> L'aile ou la cuite B | F16: ='2-Phase de classement-Padel'!$F$58 -> L | I16: =LEN(Tableau1[[#This Row],[Equipe 1]]) -> 7 | J16: =LEN(Tableau1[[#This Row],[Equipe 2]]) -> 20 | K16: =IFERROR(IF(Tableau1[[#This Row],[Q3]]>0,1,0)+IF(Tableau1[[#This Row],[Q4]]>0,1,0),0) -> 2 | X16: 14 | Y16: =Tableau2[[#This Row],[Sport]]&" - "&Tableau2[[#This Row],[Equipe 1]]&" vs "&Tableau2[[#This Row],[Equipe 2]] -> Badminton - Roue Libre B vs Les Fisbrmzv B | Z16: Badminton | AA16: ='2-Phase de classement-Bad'!$E$57 -> Roue Libre B | AB16: ='2-Phase de classement-Bad'!$E$58 -> Les Fisbrmzv B | AC16: ='2-Phase de classement-Bad'!$F$58 -> W | AD16: =IFERROR(IF(_xlfn.XLOOKUP(Tableau2[[#This Row],[Equipe 2]],$P$3:$P$6,$P$3:$P$6,0)=Tableau2[[#This Row],[Equipe 2]],Tableau2[[#This Row],[Equipe 2]],IF(_xlfn.XLOOKUP(Tableau2[[#This Row],[Equipe 2]],$Q$3:$Q$6,$Q$3:$Q$6,0)=Tableau2[[#This Row],[Equipe 2]],Tableau2[[#This Row],[Equipe 2]],IF(_xlfn.XLOOKUP(Tableau2[[#This Row],[Equipe 1]],$P$3:$P$6,$P$3:$P$6,0)=Tableau2[[#This Row],[Equipe 1]],Tableau2[[#This Row],[Equipe 1]],_xlfn.XLOOKUP(Tableau2[[#This Row],[Equipe 1]],$Q$3:$Q$6,$Q$3:$Q$6,0)))),0) -> 0 | AE16: =LEN(Tableau2[[#This Row],[Equipe 1]]) -> 12 | AF16: =LEN(Tableau2[[#This Row],[Equipe 2]]) -> 14 | AG16: =IFERROR(IF(Tableau2[[#This Row],[Q3]]>0,1,0)+IF(Tableau2[[#This Row],[Q4]]>0,1,0),0) -> 2 | AX16: 14 | AY16: =Tableau1[[#This Row],[Sport]]&" - "&Tableau1[[#This Row],[Equipe 1]]&" vs "&Tableau1[[#This Row],[Equipe 2]] -> Padel - Waral A vs L'aile ou la cuite B | AZ16: Padel | BA16: ='2-Phase de classement-Padel'!$E$57 -> Waral A | BB16: ='2-Phase de classement-Padel'!$E$58 -> L'aile ou la cuite B | BC16: ='2-Phase de classement-Padel'!$F$58 -> L | BD16: =IFERROR(IF(_xlfn.XLOOKUP(Tableau3[[#This Row],[Equipe 2]],$P$3:$P$6,$P$3:$P$6,0)=Tableau3[[#This Row],[Equipe 2]],Tableau3[[#This Row],[Equipe 2]],IF(_xlfn.XLOOKUP(Tableau3[[#This Row],[Equipe 2]],$Q$3:$Q$6,$Q$3:$Q$6,0)=Tableau3[[#This Row],[Equipe 2]],Tableau3[[#This Row],[Equipe 2]],IF(_xlfn.XLOOKUP(Tableau3[[#This Row],[Equipe 1]],$P$3:$P$6,$P$3:$P$6,0)=Tableau3[[#This Row],[Equipe 1]],Tableau3[[#This Row],[Equipe 1]],_xlfn.XLOOKUP(Tableau3[[#This Row],[Equipe 1]],$Q$3:$Q$6,$Q$3:$Q$6,0)))),0) -> 0 | BE16: =IFERROR(IF(_xlfn.XLOOKUP(Tableau3[[#This Row],[Equipe 2]],$AL$3:$AL$10,$AL$3:$AL$10,0)=Tableau3[[#This Row],[Equipe 2]],Tableau3[[#This Row],[Equipe 2]],IF(_xlfn.XLOOKUP(Tableau3[[#This Row],[Equipe 2]],$AM$3:$AM$10,$AM$3:$AM$10,0)=Tableau3[[#This Row],[Equipe 2]],Tableau3[[#This Row],[Equipe 2]],IF(_xlfn.XLOOKUP(Tableau3[[#This Row],[Equipe 1]],$AL$3:$AL$10,$AL$3:$AL$10,0)=Tableau3[[#This Row],[Equipe 1]],Tableau3[[#This Row],[Equipe 1]],_xlfn.XLOOKUP(Tableau3[[#This Row],[Equipe 1]],$AM$3:$AM$10,$AM$3:$AM$10,0)))),0) -> 0 | BF16: =LEN(Tableau3[[#This Row],[Equipe 1]]) -> 7 | BG16: =LEN(Tableau3[[#This Row],[Equipe 2]]) -> 20 | BH16: =IFERROR(IF(Tableau3[[#This Row],[Q3]]>0,1,0)+IF(Tableau3[[#This Row],[Q4]]>0,1,0),0) -> 2 | BY16: 14 | BZ16: =Tableau15[[#This Row],[Sport]]&" - "&Tableau15[[#This Row],[Equipe 1]]&" vs "&Tableau15[[#This Row],[Equipe 2]] -> Padel - Waral A vs L'aile ou la cuite B | CA16: Padel | CB16: ='2-Phase de classement-Padel'!$E$57 -> Waral A | CC16: ='2-Phase de classement-Padel'!$E$58 -> L'aile ou la cuite B | CD16: ='2-Phase de classement-Padel'!$F$58 -> L | CE16: =IFERROR(IF(_xlfn.XLOOKUP(Tableau15[[#This Row],[Equipe 2]],$BM$3:$BM$6,$BM$3:$BM$6,0)=Tableau15[[#This Row],[Equipe 2]],Tableau15[[#This Row],[Equipe 2]],IF(_xlfn.XLOOKUP(Tableau15[[#This Row],[Equipe 2]],$BN$3:$BN$6,$BN$3:$BN$6,0)=Tableau15[[#This Row],[Equipe 2]],Tableau15[[#This Row],[Equipe 2]],IF(_xlfn.XLOOKUP(Tableau15[[#This Row],[Equipe 1]],$BM$3:$BM$6,$BM$3:$BM$6,0)=Tableau15[[#This Row],[Equipe 1]],Tableau15[[#This Row],[Equipe 1]],_xlfn.XLOOKUP(Tableau15[[#This Row],[Equipe 1]],$BN$3:$BN$6,$BN$3:$BN$6,0)))),0) -> 0 | CF16: =IFERROR(IF(_xlfn.XLOOKUP(Tableau15[[#This Row],[Equipe 2]],$AL$7:$AL$10,$AL$7:$AL$10,0)=Tableau15[[#This Row],[Equipe 2]],Tableau15[[#This Row],[Equipe 2]],IF(_xlfn.XLOOKUP(Tableau15[[#This Row],[Equipe 2]],$AM$7:$AM$10,$AM$7:$AM$10,0)=Tableau15[[#This Row],[Equipe 2]],Tableau15[[#This Row],[Equipe 2]],IF(_xlfn.XLOOKUP(Tableau15[[#This Row],[Equipe 1]],$AL$7:$AL$10,$AL$7:$AL$10,0)=Tableau15[[#This Row],[Equipe 1]],Tableau15[[#This Row],[Equipe 1]],_xlfn.XLOOKUP(Tableau15[[#This Row],[Equipe 1]],$AM$7:$AM$10,$AM$7:$AM$10,0)))),0) -> 0 | CG16: =LEN(Tableau15[[#This Row],[Equipe 1]]) -> 7 | CH16: =LEN(Tableau15[[#This Row],[Equipe 2]]) -> 20 | CI16: =IFERROR(IF(Tableau15[[#This Row],[Q3]]>0,1,0)+IF(Tableau15[[#This Row],[Q4]]>0,1,0),0) -> 2
A17: 15 | B17: =Tableau1[[#This Row],[Sport]]&" - "&Tableau1[[#This Row],[Equipe 1]]&" vs "&Tableau1[[#This Row],[Equipe 2]] -> Padel - Les Fisbrmzv A vs VitaMines B | C17: Padel | D17: ='2-Phase de classement-Padel'!$E$61 -> Les Fisbrmzv A | E17: ='2-Phase de classement-Padel'!$E$62 -> VitaMines B | F17: ='2-Phase de classement-Padel'!$F$62 -> L | I17: =LEN(Tableau1[[#This Row],[Equipe 1]]) -> 14 | J17: =LEN(Tableau1[[#This Row],[Equipe 2]]) -> 11 | K17: =IFERROR(IF(Tableau1[[#This Row],[Q3]]>0,1,0)+IF(Tableau1[[#This Row],[Q4]]>0,1,0),0) -> 2 | X17: 15 | Y17: =Tableau2[[#This Row],[Sport]]&" - "&Tableau2[[#This Row],[Equipe 1]]&" vs "&Tableau2[[#This Row],[Equipe 2]] -> Badminton - Les torcheurs B vs Gett'up A | Z17: Badminton | AA17: ='2-Phase de classement-Bad'!$E$61 -> Les torcheurs B | AB17: ='2-Phase de classement-Bad'!$E$62 -> Gett'up A | AC17: ='2-Phase de classement-Bad'!$F$62 -> L | AD17: =IFERROR(IF(_xlfn.XLOOKUP(Tableau2[[#This Row],[Equipe 2]],$P$3:$P$6,$P$3:$P$6,0)=Tableau2[[#This Row],[Equipe 2]],Tableau2[[#This Row],[Equipe 2]],IF(_xlfn.XLOOKUP(Tableau2[[#This Row],[Equipe 2]],$Q$3:$Q$6,$Q$3:$Q$6,0)=Tableau2[[#This Row],[Equipe 2]],Tableau2[[#This Row],[Equipe 2]],IF(_xlfn.XLOOKUP(Tableau2[[#This Row],[Equipe 1]],$P$3:$P$6,$P$3:$P$6,0)=Tableau2[[#This Row],[Equipe 1]],Tableau2[[#This Row],[Equipe 1]],_xlfn.XLOOKUP(Tableau2[[#This Row],[Equipe 1]],$Q$3:$Q$6,$Q$3:$Q$6,0)))),0) -> Les torcheurs B | AE17: =LEN(Tableau2[[#This Row],[Equipe 1]]) -> 15 | AF17: =LEN(Tableau2[[#This Row],[Equipe 2]]) -> 9 | AG17: =IFERROR(IF(Tableau2[[#This Row],[Q3]]>0,1,0)+IF(Tableau2[[#This Row],[Q4]]>0,1,0),0) -> 2 | AX17: 15 | AY17: =Tableau1[[#This Row],[Sport]]&" - "&Tableau1[[#This Row],[Equipe 1]]&" vs "&Tableau1[[#This Row],[Equipe 2]] -> Padel - Les Fisbrmzv A vs VitaMines B | AZ17: Padel | BA17: ='2-Phase de classement-Padel'!$E$61 -> Les Fisbrmzv A | BB17: ='2-Phase de classement-Padel'!$E$62 -> VitaMines B | BC17: ='2-Phase de classement-Padel'!$F$62 -> L | BD17: =IFERROR(IF(_xlfn.XLOOKUP(Tableau3[[#This Row],[Equipe 2]],$P$3:$P$6,$P$3:$P$6,0)=Tableau3[[#This Row],[Equipe 2]],Tableau3[[#This Row],[Equipe 2]],IF(_xlfn.XLOOKUP(Tableau3[[#This Row],[Equipe 2]],$Q$3:$Q$6,$Q$3:$Q$6,0)=Tableau3[[#This Row],[Equipe 2]],Tableau3[[#This Row],[Equipe 2]],IF(_xlfn.XLOOKUP(Tableau3[[#This Row],[Equipe 1]],$P$3:$P$6,$P$3:$P$6,0)=Tableau3[[#This Row],[Equipe 1]],Tableau3[[#This Row],[Equipe 1]],_xlfn.XLOOKUP(Tableau3[[#This Row],[Equipe 1]],$Q$3:$Q$6,$Q$3:$Q$6,0)))),0) -> 0 | BE17: =IFERROR(IF(_xlfn.XLOOKUP(Tableau3[[#This Row],[Equipe 2]],$AL$3:$AL$10,$AL$3:$AL$10,0)=Tableau3[[#This Row],[Equipe 2]],Tableau3[[#This Row],[Equipe 2]],IF(_xlfn.XLOOKUP(Tableau3[[#This Row],[Equipe 2]],$AM$3:$AM$10,$AM$3:$AM$10,0)=Tableau3[[#This Row],[Equipe 2]],Tableau3[[#This Row],[Equipe 2]],IF(_xlfn.XLOOKUP(Tableau3[[#This Row],[Equipe 1]],$AL$3:$AL$10,$AL$3:$AL$10,0)=Tableau3[[#This Row],[Equipe 1]],Tableau3[[#This Row],[Equipe 1]],_xlfn.XLOOKUP(Tableau3[[#This Row],[Equipe 1]],$AM$3:$AM$10,$AM$3:$AM$10,0)))),0) -> 0 | BF17: =LEN(Tableau3[[#This Row],[Equipe 1]]) -> 14 | BG17: =LEN(Tableau3[[#This Row],[Equipe 2]]) -> 11 | BH17: =IFERROR(IF(Tableau3[[#This Row],[Q3]]>0,1,0)+IF(Tableau3[[#This Row],[Q4]]>0,1,0),0) -> 2 | BY17: 15 | BZ17: =Tableau15[[#This Row],[Sport]]&" - "&Tableau15[[#This Row],[Equipe 1]]&" vs "&Tableau15[[#This Row],[Equipe 2]] -> Padel - Les Fisbrmzv A vs VitaMines B | CA17: Padel | CB17: ='2-Phase de classement-Padel'!$E$61 -> Les Fisbrmzv A | CC17: ='2-Phase de classement-Padel'!$E$62 -> VitaMines B | CD17: ='2-Phase de classement-Padel'!$F$62 -> L | CE17: =IFERROR(IF(_xlfn.XLOOKUP(Tableau15[[#This Row],[Equipe 2]],$BM$3:$BM$6,$BM$3:$BM$6,0)=Tableau15[[#This Row],[Equipe 2]],Tableau15[[#This Row],[Equipe 2]],IF(_xlfn.XLOOKUP(Tableau15[[#This Row],[Equipe 2]],$BN$3:$BN$6,$BN$3:$BN$6,0)=Tableau15[[#This Row],[Equipe 2]],Tableau15[[#This Row],[Equipe 2]],IF(_xlfn.XLOOKUP(Tableau15[[#This Row],[Equipe 1]],$BM$3:$BM$6,$BM$3:$BM$6,0)=Tableau15[[#This Row],[Equipe 1]],Tableau15[[#This Row],[Equipe 1]],_xlfn.XLOOKUP(Tableau15[[#This Row],[Equipe 1]],$BN$3:$BN$6,$BN$3:$BN$6,0)))),0) -> 0 | CF17: =IFERROR(IF(_xlfn.XLOOKUP(Tableau15[[#This Row],[Equipe 2]],$AL$7:$AL$10,$AL$7:$AL$10,0)=Tableau15[[#This Row],[Equipe 2]],Tableau15[[#This Row],[Equipe 2]],IF(_xlfn.XLOOKUP(Tableau15[[#This Row],[Equipe 2]],$AM$7:$AM$10,$AM$7:$AM$10,0)=Tableau15[[#This Row],[Equipe 2]],Tableau15[[#This Row],[Equipe 2]],IF(_xlfn.XLOOKUP(Tableau15[[#This Row],[Equipe 1]],$AL$7:$AL$10,$AL$7:$AL$10,0)=Tableau15[[#This Row],[Equipe 1]],Tableau15[[#This Row],[Equipe 1]],_xlfn.XLOOKUP(Tableau15[[#This Row],[Equipe 1]],$AM$7:$AM$10,$AM$7:$AM$10,0)))),0) -> 0 | CG17: =LEN(Tableau15[[#This Row],[Equipe 1]]) -> 14 | CH17: =LEN(Tableau15[[#This Row],[Equipe 2]]) -> 11 | CI17: =IFERROR(IF(Tableau15[[#This Row],[Q3]]>0,1,0)+IF(Tableau15[[#This Row],[Q4]]>0,1,0),0) -> 2
A18: 16 | B18: =Tableau1[[#This Row],[Sport]]&" - "&Tableau1[[#This Row],[Equipe 1]]&" vs "&Tableau1[[#This Row],[Equipe 2]] -> Padel - Les torcheurs A vs Bayer les verres culs sec B | C18: Padel | D18: ='2-Phase de classement-Padel'!$E$65 -> Les torcheurs A | E18: ='2-Phase de classement-Padel'!$E$66 -> Bayer les verres culs sec B | F18: ='2-Phase de classement-Padel'!$F$66 -> W | I18: =LEN(Tableau1[[#This Row],[Equipe 1]]) -> 15 | J18: =LEN(Tableau1[[#This Row],[Equipe 2]]) -> 27 | K18: =IFERROR(IF(Tableau1[[#This Row],[Q3]]>0,1,0)+IF(Tableau1[[#This Row],[Q4]]>0,1,0),0) -> 2 | X18: 16 | Y18: =Tableau2[[#This Row],[Sport]]&" - "&Tableau2[[#This Row],[Equipe 1]]&" vs "&Tableau2[[#This Row],[Equipe 2]] -> Badminton - Bandanateam A vs VitaMines B | Z18: Badminton | AA18: ='2-Phase de classement-Bad'!$E$65 -> Bandanateam A | AB18: ='2-Phase de classement-Bad'!$E$66 -> VitaMines B | AC18: ='2-Phase de classement-Bad'!$F$66 -> L | AD18: =IFERROR(IF(_xlfn.XLOOKUP(Tableau2[[#This Row],[Equipe 2]],$P$3:$P$6,$P$3:$P$6,0)=Tableau2[[#This Row],[Equipe 2]],Tableau2[[#This Row],[Equipe 2]],IF(_xlfn.XLOOKUP(Tableau2[[#This Row],[Equipe 2]],$Q$3:$Q$6,$Q$3:$Q$6,0)=Tableau2[[#This Row],[Equipe 2]],Tableau2[[#This Row],[Equipe 2]],IF(_xlfn.XLOOKUP(Tableau2[[#This Row],[Equipe 1]],$P$3:$P$6,$P$3:$P$6,0)=Tableau2[[#This Row],[Equipe 1]],Tableau2[[#This Row],[Equipe 1]],_xlfn.XLOOKUP(Tableau2[[#This Row],[Equipe 1]],$Q$3:$Q$6,$Q$3:$Q$6,0)))),0) -> 0 | AE18: =LEN(Tableau2[[#This Row],[Equipe 1]]) -> 13 | AF18: =LEN(Tableau2[[#This Row],[Equipe 2]]) -> 11 | AG18: =IFERROR(IF(Tableau2[[#This Row],[Q3]]>0,1,0)+IF(Tableau2[[#This Row],[Q4]]>0,1,0),0) -> 2 | AX18: 16 | AY18: =Tableau1[[#This Row],[Sport]]&" - "&Tableau1[[#This Row],[Equipe 1]]&" vs "&Tableau1[[#This Row],[Equipe 2]] -> Padel - Les torcheurs A vs Bayer les verres culs sec B | AZ18: Padel | BA18: ='2-Phase de classement-Padel'!$E$65 -> Les torcheurs A | BB18: ='2-Phase de classement-Padel'!$E$66 -> Bayer les verres culs sec B | BC18: ='2-Phase de classement-Padel'!$F$66 -> W | BD18: =IFERROR(IF(_xlfn.XLOOKUP(Tableau3[[#This Row],[Equipe 2]],$P$3:$P$6,$P$3:$P$6,0)=Tableau3[[#This Row],[Equipe 2]],Tableau3[[#This Row],[Equipe 2]],IF(_xlfn.XLOOKUP(Tableau3[[#This Row],[Equipe 2]],$Q$3:$Q$6,$Q$3:$Q$6,0)=Tableau3[[#This Row],[Equipe 2]],Tableau3[[#This Row],[Equipe 2]],IF(_xlfn.XLOOKUP(Tableau3[[#This Row],[Equipe 1]],$P$3:$P$6,$P$3:$P$6,0)=Tableau3[[#This Row],[Equipe 1]],Tableau3[[#This Row],[Equipe 1]],_xlfn.XLOOKUP(Tableau3[[#This Row],[Equipe 1]],$Q$3:$Q$6,$Q$3:$Q$6,0)))),0) -> 0 | BE18: =IFERROR(IF(_xlfn.XLOOKUP(Tableau3[[#This Row],[Equipe 2]],$AL$3:$AL$10,$AL$3:$AL$10,0)=Tableau3[[#This Row],[Equipe 2]],Tableau3[[#This Row],[Equipe 2]],IF(_xlfn.XLOOKUP(Tableau3[[#This Row],[Equipe 2]],$AM$3:$AM$10,$AM$3:$AM$10,0)=Tableau3[[#This Row],[Equipe 2]],Tableau3[[#This Row],[Equipe 2]],IF(_xlfn.XLOOKUP(Tableau3[[#This Row],[Equipe 1]],$AL$3:$AL$10,$AL$3:$AL$10,0)=Tableau3[[#This Row],[Equipe 1]],Tableau3[[#This Row],[Equipe 1]],_xlfn.XLOOKUP(Tableau3[[#This Row],[Equipe 1]],$AM$3:$AM$10,$AM$3:$AM$10,0)))),0) -> 0 | BF18: =LEN(Tableau3[[#This Row],[Equipe 1]]) -> 15 | BG18: =LEN(Tableau3[[#This Row],[Equipe 2]]) -> 27 | BH18: =IFERROR(IF(Tableau3[[#This Row],[Q3]]>0,1,0)+IF(Tableau3[[#This Row],[Q4]]>0,1,0),0) -> 2 | BY18: 16 | BZ18: =Tableau15[[#This Row],[Sport]]&" - "&Tableau15[[#This Row],[Equipe 1]]&" vs "&Tableau15[[#This Row],[Equipe 2]] -> Padel - Les torcheurs A vs Bayer les verres culs sec B | CA18: Padel | CB18: ='2-Phase de classement-Padel'!$E$65 -> Les torcheurs A | CC18: ='2-Phase de classement-Padel'!$E$66 -> Bayer les verres culs sec B | CD18: ='2-Phase de classement-Padel'!$F$66 -> W | CE18: =IFERROR(IF(_xlfn.XLOOKUP(Tableau15[[#This Row],[Equipe 2]],$BM$3:$BM$6,$BM$3:$BM$6,0)=Tableau15[[#This Row],[Equipe 2]],Tableau15[[#This Row],[Equipe 2]],IF(_xlfn.XLOOKUP(Tableau15[[#This Row],[Equipe 2]],$BN$3:$BN$6,$BN$3:$BN$6,0)=Tableau15[[#This Row],[Equipe 2]],Tableau15[[#This Row],[Equipe 2]],IF(_xlfn.XLOOKUP(Tableau15[[#This Row],[Equipe 1]],$BM$3:$BM$6,$BM$3:$BM$6,0)=Tableau15[[#This Row],[Equipe 1]],Tableau15[[#This Row],[Equipe 1]],_xlfn.XLOOKUP(Tableau15[[#This Row],[Equipe 1]],$BN$3:$BN$6,$BN$3:$BN$6,0)))),0) -> 0 | CF18: =IFERROR(IF(_xlfn.XLOOKUP(Tableau15[[#This Row],[Equipe 2]],$AL$7:$AL$10,$AL$7:$AL$10,0)=Tableau15[[#This Row],[Equipe 2]],Tableau15[[#This Row],[Equipe 2]],IF(_xlfn.XLOOKUP(Tableau15[[#This Row],[Equipe 2]],$AM$7:$AM$10,$AM$7:$AM$10,0)=Tableau15[[#This Row],[Equipe 2]],Tableau15[[#This Row],[Equipe 2]],IF(_xlfn.XLOOKUP(Tableau15[[#This Row],[Equipe 1]],$AL$7:$AL$10,$AL$7:$AL$10,0)=Tableau15[[#This Row],[Equipe 1]],Tableau15[[#This Row],[Equipe 1]],_xlfn.XLOOKUP(Tableau15[[#This Row],[Equipe 1]],$AM$7:$AM$10,$AM$7:$AM$10,0)))),0) -> 0 | CG18: =LEN(Tableau15[[#This Row],[Equipe 1]]) -> 15 | CH18: =LEN(Tableau15[[#This Row],[Equipe 2]]) -> 27 | CI18: =IFERROR(IF(Tableau15[[#This Row],[Q3]]>0,1,0)+IF(Tableau15[[#This Row],[Q4]]>0,1,0),0) -> 2
A19: 17 | B19: =Tableau1[[#This Row],[Sport]]&" - "&Tableau1[[#This Row],[Equipe 1]]&" vs "&Tableau1[[#This Row],[Equipe 2]] -> Padel - Roue Libre A vs Les Fisbrmzv B | C19: Padel | D19: ='2-Phase de classement-Padel'!$E$69 -> Roue Libre A | E19: ='2-Phase de classement-Padel'!$E$70 -> Les Fisbrmzv B | F19: ='2-Phase de classement-Padel'!$F$70 -> W | I19: =LEN(Tableau1[[#This Row],[Equipe 1]]) -> 12 | J19: =LEN(Tableau1[[#This Row],[Equipe 2]]) -> 14 | K19: =IFERROR(IF(Tableau1[[#This Row],[Q3]]>0,1,0)+IF(Tableau1[[#This Row],[Q4]]>0,1,0),0) -> 2 | X19: 17 | Y19: =Tableau2[[#This Row],[Sport]]&" - "&Tableau2[[#This Row],[Equipe 1]]&" vs "&Tableau2[[#This Row],[Equipe 2]] -> Badminton - Téléteubiloutes A vs L'aile ou la cuite A | Z19: Badminton | AA19: ='2-Phase de classement-Bad'!$E$69 -> Téléteubiloutes A | AB19: ='2-Phase de classement-Bad'!$E$70 -> L'aile ou la cuite A | AC19: ='2-Phase de classement-Bad'!$F$70 -> W | AD19: =IFERROR(IF(_xlfn.XLOOKUP(Tableau2[[#This Row],[Equipe 2]],$P$3:$P$6,$P$3:$P$6,0)=Tableau2[[#This Row],[Equipe 2]],Tableau2[[#This Row],[Equipe 2]],IF(_xlfn.XLOOKUP(Tableau2[[#This Row],[Equipe 2]],$Q$3:$Q$6,$Q$3:$Q$6,0)=Tableau2[[#This Row],[Equipe 2]],Tableau2[[#This Row],[Equipe 2]],IF(_xlfn.XLOOKUP(Tableau2[[#This Row],[Equipe 1]],$P$3:$P$6,$P$3:$P$6,0)=Tableau2[[#This Row],[Equipe 1]],Tableau2[[#This Row],[Equipe 1]],_xlfn.XLOOKUP(Tableau2[[#This Row],[Equipe 1]],$Q$3:$Q$6,$Q$3:$Q$6,0)))),0) -> L'aile ou la cuite A | AE19: =LEN(Tableau2[[#This Row],[Equipe 1]]) -> 17 | AF19: =LEN(Tableau2[[#This Row],[Equipe 2]]) -> 20 | AG19: =IFERROR(IF(Tableau2[[#This Row],[Q3]]>0,1,0)+IF(Tableau2[[#This Row],[Q4]]>0,1,0),0) -> 2 | AX19: 17 | AY19: =Tableau1[[#This Row],[Sport]]&" - "&Tableau1[[#This Row],[Equipe 1]]&" vs "&Tableau1[[#This Row],[Equipe 2]] -> Padel - Roue Libre A vs Les Fisbrmzv B | AZ19: Padel | BA19: ='2-Phase de classement-Padel'!$E$69 -> Roue Libre A | BB19: ='2-Phase de classement-Padel'!$E$70 -> Les Fisbrmzv B | BC19: ='2-Phase de classement-Padel'!$F$70 -> W | BD19: =IFERROR(IF(_xlfn.XLOOKUP(Tableau3[[#This Row],[Equipe 2]],$P$3:$P$6,$P$3:$P$6,0)=Tableau3[[#This Row],[Equipe 2]],Tableau3[[#This Row],[Equipe 2]],IF(_xlfn.XLOOKUP(Tableau3[[#This Row],[Equipe 2]],$Q$3:$Q$6,$Q$3:$Q$6,0)=Tableau3[[#This Row],[Equipe 2]],Tableau3[[#This Row],[Equipe 2]],IF(_xlfn.XLOOKUP(Tableau3[[#This Row],[Equipe 1]],$P$3:$P$6,$P$3:$P$6,0)=Tableau3[[#This Row],[Equipe 1]],Tableau3[[#This Row],[Equipe 1]],_xlfn.XLOOKUP(Tableau3[[#This Row],[Equipe 1]],$Q$3:$Q$6,$Q$3:$Q$6,0)))),0) -> Roue Libre A | BE19: =IFERROR(IF(_xlfn.XLOOKUP(Tableau3[[#This Row],[Equipe 2]],$AL$3:$AL$10,$AL$3:$AL$10,0)=Tableau3[[#This Row],[Equipe 2]],Tableau3[[#This Row],[Equipe 2]],IF(_xlfn.XLOOKUP(Tableau3[[#This Row],[Equipe 2]],$AM$3:$AM$10,$AM$3:$AM$10,0)=Tableau3[[#This Row],[Equipe 2]],Tableau3[[#This Row],[Equipe 2]],IF(_xlfn.XLOOKUP(Tableau3[[#This Row],[Equipe 1]],$AL$3:$AL$10,$AL$3:$AL$10,0)=Tableau3[[#This Row],[Equipe 1]],Tableau3[[#This Row],[Equipe 1]],_xlfn.XLOOKUP(Tableau3[[#This Row],[Equipe 1]],$AM$3:$AM$10,$AM$3:$AM$10,0)))),0) -> 0 | BF19: =LEN(Tableau3[[#This Row],[Equipe 1]]) -> 12 | BG19: =LEN(Tableau3[[#This Row],[Equipe 2]]) -> 14 | BH19: =IFERROR(IF(Tableau3[[#This Row],[Q3]]>0,1,0)+IF(Tableau3[[#This Row],[Q4]]>0,1,0),0) -> 2 | BY19: 17 | BZ19: =Tableau15[[#This Row],[Sport]]&" - "&Tableau15[[#This Row],[Equipe 1]]&" vs "&Tableau15[[#This Row],[Equipe 2]] -> Padel - Roue Libre A vs Les Fisbrmzv B | CA19: Padel | CB19: ='2-Phase de classement-Padel'!$E$69 -> Roue Libre A | CC19: ='2-Phase de classement-Padel'!$E$70 -> Les Fisbrmzv B | CD19: ='2-Phase de classement-Padel'!$F$70 -> W | CE19: =IFERROR(IF(_xlfn.XLOOKUP(Tableau15[[#This Row],[Equipe 2]],$BM$3:$BM$6,$BM$3:$BM$6,0)=Tableau15[[#This Row],[Equipe 2]],Tableau15[[#This Row],[Equipe 2]],IF(_xlfn.XLOOKUP(Tableau15[[#This Row],[Equipe 2]],$BN$3:$BN$6,$BN$3:$BN$6,0)=Tableau15[[#This Row],[Equipe 2]],Tableau15[[#This Row],[Equipe 2]],IF(_xlfn.XLOOKUP(Tableau15[[#This Row],[Equipe 1]],$BM$3:$BM$6,$BM$3:$BM$6,0)=Tableau15[[#This Row],[Equipe 1]],Tableau15[[#This Row],[Equipe 1]],_xlfn.XLOOKUP(Tableau15[[#This Row],[Equipe 1]],$BN$3:$BN$6,$BN$3:$BN$6,0)))),0) -> 0 | CF19: =IFERROR(IF(_xlfn.XLOOKUP(Tableau15[[#This Row],[Equipe 2]],$AL$7:$AL$10,$AL$7:$AL$10,0)=Tableau15[[#This Row],[Equipe 2]],Tableau15[[#This Row],[Equipe 2]],IF(_xlfn.XLOOKUP(Tableau15[[#This Row],[Equipe 2]],$AM$7:$AM$10,$AM$7:$AM$10,0)=Tableau15[[#This Row],[Equipe 2]],Tableau15[[#This Row],[Equipe 2]],IF(_xlfn.XLOOKUP(Tableau15[[#This Row],[Equipe 1]],$AL$7:$AL$10,$AL$7:$AL$10,0)=Tableau15[[#This Row],[Equipe 1]],Tableau15[[#This Row],[Equipe 1]],_xlfn.XLOOKUP(Tableau15[[#This Row],[Equipe 1]],$AM$7:$AM$10,$AM$7:$AM$10,0)))),0) -> 0 | CG19: =LEN(Tableau15[[#This Row],[Equipe 1]]) -> 12 | CH19: =LEN(Tableau15[[#This Row],[Equipe 2]]) -> 14 | CI19: =IFERROR(IF(Tableau15[[#This Row],[Q3]]>0,1,0)+IF(Tableau15[[#This Row],[Q4]]>0,1,0),0) -> 2
