Workbook

Sheet Point équipe
A3: Equipes participants | F3: Joueur 1 | G3: Joueur 2 | H3: Joueur 3 | I3: Joueur 4 | J3: Joueur 5 | K3: Joueur 6
A4: Roue Libre
A5: Akatsuki
A6: Les Tengos
A7: VitaMines
A8: Spyk'up
A9: Flotouyat
A10: Bandanateam
A11: Les Fisbrmzv
A12: Les inconnus
A13: Facilement
A14: Waral
A15: Bayer les verres culs sec
... A23: L'aile ou la cuite
B24: =SUM(B4:B23) -> 0 | C24: =SUM(C4:C23) -> 0 | D24: =SUM(D4:D23) -> 0

Sheet Paramétrage
A1: W
A2: N | E2: Equipes participants | F2: Binome A | G2: Binome A
A3: L | E3: Roue Libre | F3: =E3&" A" -> Roue Libre A | G3: =E3&" B" -> Roue Libre B
E4: Akatsuki | F4: =E4&" A" -> Akatsuki A | G4: =E4&" B" -> Akatsuki B
B5: OZAIPEOIAE | E5: Les Tengos | F5: =E5&" A" -> Les Tengos A | G5: =E5&" B" -> Les Tengos B
B6: OZAIPEOIAE | E6: VitaMines | F6: =E6&" A" -> VitaMines A | G6: =E6&" B" -> VitaMines B
B7: OZAIPEOIAE | E7: Spyk'up | F7: =E7&" A" -> Spyk'up A | G7: =E7&" B" -> Spyk'up B
B8: OZAIPEOIAE | E8: Floyouyat | F8: =E8&" A" -> Floyouyat A | G8: =E8&" B" -> Floyouyat B
B9: OZAIPEOIAE | E9: Bandanateam | F9: =E9&" A" -> Bandanateam A | G9: =E9&" B" -> Bandanateam B
B10: OZAIPEOIAE | E10: Les Fisbrmzv | F10: =E10&" A" -> Les Fisbrmzv A | G10: =E10&" B" -> Les Fisbrmzv B
B11: OZAIPEOIAE | E11: Les inconnus | F11: =E11&" A" -> Les inconnus A | G11: =E11&" B" -> Les inconnus B
B12: OZAIPEOIAE | E12: Facilement | F12: =E12&" A" -> Facilement A | G12: =E12&" B" -> Facilement B
B13: OZAIPEOIAE | E13: Waral | F13: =E13&" A" -> Waral A | G13: =E13&" B" -> Waral B
B14: OZAIPEOIAE | E14: Bayer les verres culs sec | F14: =E14&" A" -> Bayer les verres culs sec A | G14: =E14&" B" -> Bayer les verres culs sec B
B15: OZAIPEOIAE | E15: Gett'up | F15: =E15&" A" -> Gett'up A | G15: =E15&" B" -> Gett'up B
B16: OZAIPEOIAE | E16: Téléteubiloutes | F16: =E16&" A" -> Téléteubiloutes A | G16: =E16&" B" -> Téléteubiloutes B
... B21: OZAIPEOIAE | E21: Les torcheurs | F21: =E21&" A" -> Les torcheurs A | G21: =E21&" B" -> Les torcheurs B
E22: L'aile ou la cuite | F22: =E22&" A" -> L'aile ou la cuite A | G22: =E22&" B" -> L'aile ou la cuite B
D24: Paramétrage Padel -poule | E24: Paramétrage Bad -poule | F24: Paramétrage Padel -Classement | G24: Paramétrage Bad -Classement
B25: Horaire de début | D25: 0.38194444 | E25: 0.38194444 | F25: 0.625 | G25: 0.625
B26: Temps match | D26: 0.00625 | E26: =D26 -> 0.00625 | F26: 0.0048611111 | G26: =F26 -> 0.0048611111
B27: Entre match | D27: 0.0017361111 | E27: =D27 -> 0.0017361111 | F27: 0.0020833333 | G27: =F27 -> 0.0020833333
B28: Passage à phase de classement | D28: 0.0069444444 | E28: 0.0069444444 | F28: 0.0069444444 | G28: 0.0069444444
B29: Fin poule 1 | D29: ='1-Phase de poule-Padel'!C15 -> 0.46423611 | E29: ='1-Phase de poule-Bad'!N20 -> 0
B30: Fin poule 2 | D30: ='1-Phase de poule-Padel'!AJ46 -> 0.6 | E30: ='1-Phase de poule-Bad'!AJ20 -> 0
B31: Fin tournoi | F31: =+'2-Phase de classement-Padel'!V86 -> 0.70902778 | G31: ='Tour généré'!N2 -> 0.68125
B33: Nombre point de victoire | C33: 3 | D33: =D26*5+F26*3 -> 0.045833333 | E33: =E26*5+G26*3 -> 0.045833333
B34: Nombre point le nul | C34: 2
B35: Nombre point la défaite | C35: 1

Sheet Param. - Transition
B2: Phase de Poule vers phase de classement
B4: 1 | C4: 2 | D4: 3 | E4: 4 | F4: 5
A5: A | B5: =+VLOOKUP('Param. - Transition'!B$4,'1-Phase de poule-Padel'!$H$17:$I$21,2,FALSE) -> Roue Libre A | C5: =+VLOOKUP('Param. - Transition'!C$4,'1-Phase de poule-Padel'!$H$17:$I$21,2,FALSE) -> Les Tengos A | D5: =+VLOOKUP('Param. - Transition'!D$4,'1-Phase de poule-Padel'!$H$17:$I$21,2,FALSE) -> Spyk'up A | E5: =+VLOOKUP('Param. - Transition'!E$4,'1-Phase de poule-Padel'!$H$17:$I$21,2,FALSE) -> VitaMines A | F5: =+VLOOKUP('Param. - Transition'!F$4,'1-Phase de poule-Padel'!$H$17:$I$21,2,FALSE) -> Akatsuki A
A6: B | B6: =+VLOOKUP('Param. - Transition'!B$4,'1-Phase de poule-Padel'!$S$17:$T$21,2,FALSE) -> Bandanateam A | C6: =+VLOOKUP('Param. - Transition'!C$4,'1-Phase de poule-Padel'!$S$17:$T$21,2,FALSE) -> Les Fisbrmzv A | D6: =+VLOOKUP('Param. - Transition'!D$4,'1-Phase de poule-Padel'!$S$17:$T$21,2,FALSE) -> Floyouyat A | E6: =+VLOOKUP('Param. - Transition'!E$4,'1-Phase de poule-Padel'!$S$17:$T$21,2,FALSE) -> Facilement A | F6: =+VLOOKUP('Param. - Transition'!F$4,'1-Phase de poule-Padel'!$S$17:$T$21,2,FALSE) -> Les inconnus A
A7: C | B7: =+VLOOKUP('Param. - Transition'!B$4,'1-Phase de poule-Padel'!$AD$17:$AE$21,2,FALSE) -> Les Tengos B | C7: =+VLOOKUP('Param. - Transition'!C$4,'1-Phase de poule-Padel'!$AD$17:$AE$21,2,FALSE) -> VitaMines B | D7: =+VLOOKUP('Param. - Transition'!D$4,'1-Phase de poule-Padel'!$AD$17:$AE$21,2,FALSE) -> Spyk'up B | E7: =+VLOOKUP('Param. - Transition'!E$4,'1-Phase de poule-Padel'!$AD$17:$AE$21,2,FALSE) -> Akatsuki B | F7: =+VLOOKUP('Param. - Transition'!F$4,'1-Phase de poule-Padel'!$AD$17:$AE$21,2,FALSE) -> Roue Libre B
A8: D | B8: =+VLOOKUP('Param. - Transition'!B$4,'1-Phase de poule-Padel'!$AO$17:$AP$21,2,FALSE) -> Les Fisbrmzv B | C8: =+VLOOKUP('Param. - Transition'!C$4,'1-Phase de poule-Padel'!$AO$17:$AP$21,2,FALSE) -> Bandanateam B | D8: =+VLOOKUP('Param. - Transition'!D$4,'1-Phase de poule-Padel'!$AO$17:$AP$21,2,FALSE) -> Les inconnus B | E8: =+VLOOKUP('Param. - Transition'!E$4,'1-Phase de poule-Padel'!$AO$17:$AP$21,2,FALSE) -> Floyouyat B | F8: =+VLOOKUP('Param. - Transition'!F$4,'1-Phase de poule-Padel'!$AO$17:$AP$21,2,FALSE) -> Facilement B
B10: 1 | C10: 2 | D10: 3 | E10: 4 | F10: 5
A11: E | B11: =+VLOOKUP('Param. - Transition'!B$4,'1-Phase de poule-Padel'!$H$48:$I$52,2,FALSE) -> Celtics Grave Gros A | C11: =+VLOOKUP('Param. - Transition'!C$4,'1-Phase de poule-Padel'!$H$48:$I$52,2,FALSE) -> Waral A | D11: =+VLOOKUP('Param. - Transition'!D$4,'1-Phase de poule-Padel'!$H$48:$I$52,2,FALSE) -> Téléteubiloutes A | E11: =+VLOOKUP('Param. - Transition'!E$4,'1-Phase de poule-Padel'!$H$48:$I$52,2,FALSE) -> Bayer les verres culs sec A | F11: =+VLOOKUP('Param. - Transition'!F$4,'1-Phase de poule-Padel'!$H$48:$I$52,2,FALSE) -> Gett'up A
A12: F | B12: =+VLOOKUP('Param. - Transition'!B$4,'1-Phase de poule-Padel'!$S$48:$T$52,2,FALSE) -> L'aile ou la cuite A | C12: =+VLOOKUP('Param. - Transition'!C$4,'1-Phase de poule-Padel'!$S$48:$T$52,2,FALSE) -> Les torcheurs A | D12: =+VLOOKUP('Param. - Transition'!D$4,'1-Phase de poule-Padel'!$S$48:$T$52,2,FALSE) -> Pooldeads A | E12: =+VLOOKUP('Param. - Transition'!E$4,'1-Phase de poule-Padel'!$S$48:$T$52,2,FALSE) -> Blockudoku A | F12: =+VLOOKUP('Param. - Transition'!F$4,'1-Phase de poule-Padel'!$S$48:$T$52,2,FALSE) -> Lazio de Rhum A
A13: G | B13: =+VLOOKUP('Param. - Transition'!B$4,'1-Phase de poule-Padel'!$AD$48:$AE$52,2,FALSE) -> Waral B | C13: =+VLOOKUP('Param. - Transition'!C$4,'1-Phase de poule-Padel'!$AD$48:$AE$52,2,FALSE) -> Bayer les verres culs sec B | D13: =+VLOOKUP('Param. - Transition'!D$4,'1-Phase de poule-Padel'!$AD$48:$AE$52,2,FALSE) -> Celtics Grave Gros B | E13: =+VLOOKUP('Param. - Transition'!E$4,'1-Phase de poule-Padel'!$AD$48:$AE$52,2,FALSE) -> Téléteubiloutes B | F13: =+VLOOKUP('Param. - Transition'!F$4,'1-Phase de poule-Padel'!$AD$48:$AE$52,2,FALSE) -> Gett'up B
A14: H | B14: =+VLOOKUP('Param. - Transition'!B$4,'1-Phase de poule-Padel'!$AO$48:$AP$52,2,FALSE) -> Blockudoku B | C14: =+VLOOKUP('Param. - Transition'!C$4,'1-Phase de poule-Padel'!$AO$48:$AP$52,2,FALSE) -> L'aile ou la cuite B | D14: =+VLOOKUP('Param. - Transition'!D$4,'1-Phase de poule-Padel'!$AO$48:$AP$52,2,FALSE) -> Les torcheurs B | E14: =+VLOOKUP('Param. - Transition'!E$4,'1-Phase de poule-Padel'!$AO$48:$AP$52,2,FALSE) -> Lazio de Rhum B | F14: =+VLOOKUP('Param. - Transition'!F$4,'1-Phase de poule-Padel'!$AO$48:$AP$52,2,FALSE) -> Pooldeads B
B16: A/D | C16: E/H
B17: B/C | C17: F/G
B22: Phase de Poule vers phase de classement
B24: 1 | C24: 2 | D24: 3 | E24: 4 | F24: 5
A25: A | B25: =+VLOOKUP('Param. - Transition'!B$4,'1-Phase de poule-Bad'!$H$17:$I$21,2,FALSE) -> Téléteubiloutes A | C25: =+VLOOKUP('Param. - Transition'!C$4,'1-Phase de poule-Bad'!$H$17:$I$21,2,FALSE) -> Celtics Grave Gros A | D25: =+VLOOKUP('Param. - Transition'!D$4,'1-Phase de poule-Bad'!$H$17:$I$21,2,FALSE) -> Waral B | E25: =+VLOOKUP('Param. - Transition'!E$4,'1-Phase de poule-Bad'!$H$17:$I$21,2,FALSE) -> Bayer les verres culs sec B | F25: =+VLOOKUP('Param. - Transition'!F$4,'1-Phase de poule-Bad'!$H$17:$I$21,2,FALSE) -> Gett'up B
A26: B | B26: =+VLOOKUP('Param. - Transition'!B$4,'1-Phase de poule-Bad'!$S$17:$T$21,2,FALSE) -> Pooldeads A | C26: =+VLOOKUP('Param. - Transition'!C$4,'1-Phase de poule-Bad'!$S$17:$T$21,2,FALSE) -> Les torcheurs B | D26: =+VLOOKUP('Param. - Transition'!D$4,'1-Phase de poule-Bad'!$S$17:$T$21,2,FALSE) -> Blockudoku A | E26: =+VLOOKUP('Param. - Transition'!E$4,'1-Phase de poule-Bad'!$S$17:$T$21,2,FALSE) -> Lazio de Rhum A | F26: =+VLOOKUP('Param. - Transition'!F$4,'1-Phase de poule-Bad'!$S$17:$T$21,2,FALSE) -> L'aile ou la cuite B
A27: C | B27: =+VLOOKUP('Param. - Transition'!B$4,'1-Phase de poule-Bad'!$AD$17:$AE$21,2,FALSE) -> Waral A | C27: =+VLOOKUP('Param. - Transition'!C$4,'1-Phase de poule-Bad'!$AD$17:$AE$21,2,FALSE) -> Gett'up A | D27: =+VLOOKUP('Param. - Transition'!D$4,'1-Phase de poule-Bad'!$AD$17:$AE$21,2,FALSE) -> Téléteubiloutes B | E27: =+VLOOKUP('Param. - Transition'!E$4,'1-Phase de poule-Bad'!$AD$17:$AE$21,2,FALSE) -> Celtics Grave Gros B | F27: =+VLOOKUP('Param. - Transition'!F$4,'1-Phase de poule-Bad'!$AD$17:$AE$21,2,FALSE) -> Bayer les verres culs sec A
A28: D | B28: =+VLOOKUP('Param. - Transition'!B$4,'1-Phase de poule-Bad'!$AO$17:$AP$21,2,FALSE) -> L'aile ou la cuite A | C28: =+VLOOKUP('Param. - Transition'!C$4,'1-Phase de poule-Bad'!$AO$17:$AP$21,2,FALSE) -> Les torcheurs A | D28: =+VLOOKUP('Param. - Transition'!D$4,'1-Phase de poule-Bad'!$AO$17:$AP$21,2,FALSE) -> Blockudoku B | E28: =+VLOOKUP('Param. - Transition'!E$4,'1-Phase de poule-Bad'!$AO$17:$AP$21,2,FALSE) -> Pooldeads B | F28: =+VLOOKUP('Param. - Transition'!F$4,'1-Phase de poule-Bad'!$AO$17:$AP$21,2,FALSE) -> Lazio de Rhum B
B30: 1 | C30: 2 | D30: 3 | E30: 4 | F30: 5
A31: E | B31: =+VLOOKUP('Param. - Transition'!B$4,'1-Phase de poule-Bad'!$H$48:$I$52,2,FALSE) -> Les Tengos B | C31: =+VLOOKUP('Param. - Transition'!C$4,'1-Phase de poule-Bad'!$H$48:$I$52,2,FALSE) -> Roue Libre B | D31: =+VLOOKUP('Param. - Transition'!D$4,'1-Phase de poule-Bad'!$H$48:$I$52,2,FALSE) -> Spyk'up A | E31: =+VLOOKUP('Param. - Transition'!E$4,'1-Phase de poule-Bad'!$H$48:$I$52,2,FALSE) -> VitaMines A | F31: =+VLOOKUP('Param. - Transition'!F$4,'1-Phase de poule-Bad'!$H$48:$I$52,2,FALSE) -> Akatsuki B
A32: F | B32: =+VLOOKUP('Param. - Transition'!B$4,'1-Phase de poule-Bad'!$S$48:$T$52,2,FALSE) -> Les Fisbrmzv A | C32: =+VLOOKUP('Param. - Transition'!C$4,'1-Phase de poule-Bad'!$S$48:$T$52,2,FALSE) -> Bandanateam A | D32: =+VLOOKUP('Param. - Transition'!D$4,'1-Phase de poule-Bad'!$S$48:$T$52,2,FALSE) -> Floyouyat A | E32: =+VLOOKUP('Param. - Transition'!E$4,'1-Phase de poule-Bad'!$S$48:$T$52,2,FALSE) -> Les inconnus B | F32: =+VLOOKUP('Param. - Transition'!F$4,'1-Phase de poule-Bad'!$S$48:$T$52,2,FALSE) -> Facilement B
A33: G | B33: =+VLOOKUP('Param. - Transition'!B$4,'1-Phase de poule-Bad'!$AD$48:$AE$52,2,FALSE) -> Roue Libre A | C33: =+VLOOKUP('Param. - Transition'!C$4,'1-Phase de poule-Bad'!$AD$48:$AE$52,2,FALSE) -> VitaMines B | D33: =+VLOOKUP('Param. - Transition'!D$4,'1-Phase de poule-Bad'!$AD$48:$AE$52,2,FALSE) -> Les Tengos A | E33: =+VLOOKUP('Param. - Transition'!E$4,'1-Phase de poule-Bad'!$AD$48:$AE$52,2,FALSE) -> Spyk'up B | F33: =+VLOOKUP('Param. - Transition'!F$4,'1-Phase de poule-Bad'!$AD$48:$AE$52,2,FALSE) -> Akatsuki A
A34: H | B34: =+VLOOKUP('Param. - Transition'!B$4,'1-Phase de poule-Bad'!$AO$48:$AP$52,2,FALSE) -> Bandanateam B | C34: =+VLOOKUP('Param. - Transition'!C$4,'1-Phase de poule-Bad'!$AO$48:$AP$52,2,FALSE) -> Les Fisbrmzv B | D34: =+VLOOKUP('Param. - Transition'!D$4,'1-Phase de poule-Bad'!$AO$48:$AP$52,2,FALSE) -> Floyouyat B | E34: =+VLOOKUP('Param. - Transition'!E$4,'1-Phase de poule-Bad'!$AO$48:$AP$52,2,FALSE) -> Les inconnus A | F34: =+VLOOKUP('Param. - Transition'!F$4,'1-Phase de poule-Bad'!$AO$48:$AP$52,2,FALSE) -> Facilement A

Sheet FdM
B2: Feuille de match | M2: Feuille de match | X2: Feuille de match | AI2: Feuille de match | AT2: Feuille de match | BE2: Feuille de match | BP2: Feuille de match | CA2: Feuille de match
E7: POULE A - Padel Matin | P7: POULE B - Padel Matin | AA7: POULE C - Padel Matin | AL7: POULE D - Padel Matin | AW7: POULE E - Padel Après Midi | BH7: POULE F - Padel Après Midi | BS7: POULE G - Padel Après Midi | CD7: POULE H - Padel Après Midi
E9: Nom équipe | F9: W/L | G9: Dif. | I9: Nom équipe | J9: W/L | K9: Dif. | P9: Nom équipe | Q9: W/L | R9: Dif. | T9: Nom équipe | U9: W/L | V9: Dif. | AA9: Nom équipe | AB9: W/L | AC9: Dif. | AE9: Nom équipe | AF9: W/L | AG9: Dif. | AL9: Nom équipe | AM9: W/L | AN9: Dif. | AP9: Nom équipe | AQ9: W/L | AR9: Dif. | AW9: Nom équipe | AX9: W/L | AY9: Dif. | BA9: Nom équipe | BB9: W/L | BC9: Dif. | BH9: Nom équipe | BI9: W/L | BJ9: Dif. | BL9: Nom équipe | BM9: W/L | BN9: Dif. | BS9: Nom équipe | BT9: W/L | BU9: Dif. | BW9: Nom équipe | BX9: W/L | BY9: Dif. | CD9: Nom équipe | CE9: W/L | CF9: Dif. | CH9: Nom équipe | CI9: W/L | CJ9: Dif.
A10: =+'1-Phase de poule-Padel'!A5 -> 0 | B10: =+'1-Phase de poule-Padel'!B5 -> T1 | C10: =+'1-Phase de poule-Padel'!C5 -> 0.38194444 | E10: =+'1-Phase de poule-Padel'!E5 -> Roue Libre A | H10: =+'1-Phase de poule-Padel'!H5 -> VS | I10: =+'1-Phase de poule-Padel'!I5 -> VitaMines A | L10: =+'1-Phase de poule-Padel'!L5 -> 0 | M10: =+'1-Phase de poule-Padel'!M5 -> T2 | N10: =+'1-Phase de poule-Padel'!N5 -> 0.38194444 | P10: =+'1-Phase de poule-Padel'!P5 -> Floyouyat A | S10: =+'1-Phase de poule-Padel'!S5 -> VS | T10: =+'1-Phase de poule-Padel'!T5 -> Les inconnus A | X10: =+'1-Phase de poule-Padel'!X5 -> T3 | Y10: =+'1-Phase de poule-Padel'!Y5 -> 0.38194444 | AA10: =+'1-Phase de poule-Padel'!AA5 -> Les Tengos B | AD10: =+'1-Phase de poule-Padel'!AD5 -> VS | AE10: =+'1-Phase de poule-Padel'!AE5 -> Akatsuki B | AI10: =+'1-Phase de poule-Padel'!AI5 -> T4 | AJ10: =+'1-Phase de poule-Padel'!AJ5 -> 0.38194444 | AL10: =+'1-Phase de poule-Padel'!AL5 -> Les Fisbrmzv B | AO10: =+'1-Phase de poule-Padel'!AO5 -> VS | AP10: =+'1-Phase de poule-Padel'!AP5 -> Bandanateam B | AT10: ='1-Phase de poule-Padel'!B36 -> T1 | AU10: ='1-Phase de poule-Padel'!C36 -> 0.47222222 | AW10: ='1-Phase de poule-Padel'!E36 -> Waral A | AZ10: ='1-Phase de poule-Padel'!H36 -> VS | BA10: ='1-Phase de poule-Padel'!I36 -> Téléteubiloutes A | BE10: ='1-Phase de poule-Padel'!M36 -> T2 | BF10: ='1-Phase de poule-Padel'!N36 -> 0.47222222 | BH10: ='1-Phase de poule-Padel'!P36 -> Pooldeads A | BK10: ='1-Phase de poule-Padel'!S36 -> VS | BL10: ='1-Phase de poule-Padel'!T36 -> Les torcheurs A | BP10: ='1-Phase de poule-Padel'!X36 -> T3 | BQ10: ='1-Phase de poule-Padel'!Y36 -> 0.47222222 | BS10: ='1-Phase de poule-Padel'!AA36 -> Gett'up B | BV10: ='1-Phase de poule-Padel'!AD36 -> VS | BW10: ='1-Phase de poule-Padel'!AE36 -> Bayer les verres culs sec B | CA10: ='1-Phase de poule-Padel'!AI36 -> T4 | CB10: ='1-Phase de poule-Padel'!AJ36 -> 0.47222222 | CD10: ='1-Phase de poule-Padel'!AL36 -> Blockudoku B | CG10: ='1-Phase de poule-Padel'!AO36 -> VS | CH10: ='1-Phase de poule-Padel'!AP36 -> Lazio de Rhum B
A11: =+'1-Phase de poule-Padel'!A6 -> 0 | B11: =+'1-Phase de poule-Padel'!B6 -> T1 | C11: =+'1-Phase de poule-Padel'!C6 -> 0.39236111 | E11: =+'1-Phase de poule-Padel'!E6 -> Akatsuki A | H11: =+'1-Phase de poule-Padel'!H6 -> VS | I11: =+'1-Phase de poule-Padel'!I6 -> Spyk'up A | L11: =+'1-Phase de poule-Padel'!L6 -> 0 | M11: =+'1-Phase de poule-Padel'!M6 -> T2 | N11: =+'1-Phase de poule-Padel'!N6 -> 0.39236111 | P11: =+'1-Phase de poule-Padel'!P6 -> Bandanateam A | S11: =+'1-Phase de poule-Padel'!S6 -> VS | T11: =+'1-Phase de poule-Padel'!T6 -> Facilement A | X11: =+'1-Phase de poule-Padel'!X6 -> T3 | Y11: =+'1-Phase de poule-Padel'!Y6 -> 0.39236111 | AA11: =+'1-Phase de poule-Padel'!AA6 -> VitaMines B | AD11: =+'1-Phase de poule-Padel'!AD6 -> VS | AE11: =+'1-Phase de poule-Padel'!AE6 -> Roue Libre B | AI11: =+'1-Phase de poule-Padel'!AI6 -> T4 | AJ11: =+'1-Phase de poule-Padel'!AJ6 -> 0.39236111 | AL11: =+'1-Phase de poule-Padel'!AL6 -> Les inconnus B | AO11: =+'1-Phase de poule-Padel'!AO6 -> VS | AP11: =+'1-Phase de poule-Padel'!AP6 -> Floyouyat B | AT11: ='1-Phase de poule-Padel'!B37 -> T1 | AU11: ='1-Phase de poule-Padel'!C37 -> 0.48020833 | AW11: ='1-Phase de poule-Padel'!E37 -> Bayer les verres culs sec A | AZ11: ='1-Phase de poule-Padel'!H37 -> VS | BA11: ='1-Phase de poule-Padel'!I37 -> Celtics Grave Gros A | BE11: ='1-Phase de poule-Padel'!M37 -> T2 | BF11: ='1-Phase de poule-Padel'!N37 -> 0.48020833 | BH11: ='1-Phase de poule-Padel'!P37 -> Lazio de Rhum A | BK11: ='1-Phase de poule-Padel'!S37 -> VS | BL11: ='1-Phase de poule-Padel'!T37 -> L'aile ou la cuite A | BP11: ='1-Phase de poule-Padel'!X37 -> T3 | BQ11: ='1-Phase de poule-Padel'!Y37 -> 0.48020833 | BS11: ='1-Phase de poule-Padel'!AA37 -> Téléteubiloutes B | BV11: ='1-Phase de poule-Padel'!AD37 -> VS | BW11: ='1-Phase de poule-Padel'!AE37 -> Waral B | CA11: ='1-Phase de poule-Padel'!AI37 -> T4 | CB11: ='1-Phase de poule-Padel'!AJ37 -> 0.48020833 | CD11: ='1-Phase de poule-Padel'!AL37 -> Les torcheurs B | CG11: ='1-Phase de poule-Padel'!AO37 -> VS | CH11: ='1-Phase de poule-Padel'!AP37 -> Pooldeads B
A12: =+'1-Phase de poule-Padel'!A7 -> 0 | B12: =+'1-Phase de poule-Padel'!B7 -> T1 | C12: =+'1-Phase de poule-Padel'!C7 -> 0.40034722 | E12: =+'1-Phase de poule-Padel'!E7 -> Les Tengos A | H12: =+'1-Phase de poule-Padel'!H7 -> VS | I12: =+'1-Phase de poule-Padel'!I7 -> Roue Libre A | L12: =+'1-Phase de poule-Padel'!L7 -> 0 | M12: =+'1-Phase de poule-Padel'!M7 -> T2 | N12: =+'1-Phase de poule-Padel'!N7 -> 0.40034722 | P12: =+'1-Phase de poule-Padel'!P7 -> Les Fisbrmzv A | S12: =+'1-Phase de poule-Padel'!S7 -> VS | T12: =+'1-Phase de poule-Padel'!T7 -> Floyouyat A | X12: =+'1-Phase de poule-Padel'!X7 -> T3 | Y12: =+'1-Phase de poule-Padel'!Y7 -> 0.40034722 | AA12: =+'1-Phase de poule-Padel'!AA7 -> Spyk'up B | AD12: =+'1-Phase de poule-Padel'!AD7 -> VS | AE12: =+'1-Phase de poule-Padel'!AE7 -> Les Tengos B | AI12: =+'1-Phase de poule-Padel'!AI7 -> T4 | AJ12: =+'1-Phase de poule-Padel'!AJ7 -> 0.40034722 | AL12: =+'1-Phase de poule-Padel'!AL7 -> Facilement B | AO12: =+'1-Phase de poule-Padel'!AO7 -> VS | AP12: =+'1-Phase de poule-Padel'!AP7 -> Les Fisbrmzv B | AT12: ='1-Phase de poule-Padel'!B38 -> T1 | AU12: ='1-Phase de poule-Padel'!C38 -> 0.48819444 | AW12: ='1-Phase de poule-Padel'!E38 -> Gett'up A | AZ12: ='1-Phase de poule-Padel'!H38 -> VS | BA12: ='1-Phase de poule-Padel'!I38 -> Waral A | BE12: ='1-Phase de poule-Padel'!M38 -> T2 | BF12: ='1-Phase de poule-Padel'!N38 -> 0.48819444 | BH12: ='1-Phase de poule-Padel'!P38 -> Blockudoku A | BK12: ='1-Phase de poule-Padel'!S38 -> VS | BL12: ='1-Phase de poule-Padel'!T38 -> Pooldeads A | BP12: ='1-Phase de poule-Padel'!X38 -> T3 | BQ12: ='1-Phase de poule-Padel'!Y38 -> 0.48819444 | BS12: ='1-Phase de poule-Padel'!AA38 -> Celtics Grave Gros B | BV12: ='1-Phase de poule-Padel'!AD38 -> VS | BW12: ='1-Phase de poule-Padel'!AE38 -> Gett'up B | CA12: ='1-Phase de poule-Padel'!AI38 -> T4 | CB12: ='1-Phase de poule-Padel'!AJ38 -> 0.48819444 | CD12: ='1-Phase de poule-Padel'!AL38 -> L'aile ou la cuite B | CG12: ='1-Phase de poule-Padel'!AO38 -> VS | CH12: ='1-Phase de poule-Padel'!AP38 -> Blockudoku B
A13: =+'1-Phase de poule-Padel'!A8 -> 0 | B13: =+'1-Phase de poule-Padel'!B8 -> T1 | C13: =+'1-Phase de poule-Padel'!C8 -> 0.40833333 | E13: =+'1-Phase de poule-Padel'!E8 -> VitaMines A | H13: =+'1-Phase de poule-Padel'!H8 -> VS | I13: =+'1-Phase de poule-Padel'!I8 -> Akatsuki A | L13: =+'1-Phase de poule-Padel'!L8 -> 0 | M13: =+'1-Phase de poule-Padel'!M8 -> T2 | N13: =+'1-Phase de poule-Padel'!N8 -> 0.40833333 | P13: =+'1-Phase de poule-Padel'!P8 -> Les inconnus A | S13: =+'1-Phase de poule-Padel'!S8 -> VS | T13: =+'1-Phase de poule-Padel'!T8 -> Bandanateam A | X13: =+'1-Phase de poule-Padel'!X8 -> T3 | Y13: =+'1-Phase de poule-Padel'!Y8 -> 0.40833333 | AA13: =+'1-Phase de poule-Padel'!AA8 -> Akatsuki B | AD13: =+'1-Phase de poule-Padel'!AD8 -> VS | AE13: =+'1-Phase de poule-Padel'!AE8 -> VitaMines B | AI13: =+'1-Phase de poule-Padel'!AI8 -> T4 | AJ13: =+'1-Phase de poule-Padel'!AJ8 -> 0.40833333 | AL13: =+'1-Phase de poule-Padel'!AL8 -> Bandanateam B | AO13: =+'1-Phase de poule-Padel'!AO8 -> VS | AP13: =+'1-Phase de poule-Padel'!AP8 -> Les inconnus B | AT13: ='1-Phase de poule-Padel'!B39 -> T1 | AU13: ='1-Phase de poule-Padel'!C39 -> 0.49618056 | AW13: ='1-Phase de poule-Padel'!E39 -> Téléteubiloutes A | AZ13: ='1-Phase de poule-Padel'!H39 -> VS | BA13: ='1-Phase de poule-Padel'!I39 -> Bayer les verres culs sec A | BE13: ='1-Phase de poule-Padel'!M39 -> T2 | BF13: ='1-Phase de poule-Padel'!N39 -> 0.49618056 | BH13: ='1-Phase de poule-Padel'!P39 -> Les torcheurs A | BK13: ='1-Phase de poule-Padel'!S39 -> VS | BL13: ='1-Phase de poule-Padel'!T39 -> Lazio de Rhum A | BP13: ='1-Phase de poule-Padel'!X39 -> T3 | BQ13: ='1-Phase de poule-Padel'!Y39 -> 0.49618056 | BS13: ='1-Phase de poule-Padel'!AA39 -> Bayer les verres culs sec B | BV13: ='1-Phase de poule-Padel'!AD39 -> VS | BW13: ='1-Phase de poule-Padel'!AE39 -> Téléteubiloutes B | CA13: ='1-Phase de poule-Padel'!AI39 -> T4 | CB13: ='1-Phase de poule-Padel'!AJ39 -> 0.49618056 | CD13: ='1-Phase de poule-Padel'!AL39 -> Lazio de Rhum B | CG13: ='1-Phase de poule-Padel'!AO39 -> VS | CH13: ='1-Phase de poule-Padel'!AP39 -> Les torcheurs B
A14: =+'1-Phase de poule-Padel'!A9 -> 0 | B14: =+'1-Phase de poule-Padel'!B9 -> T1 | C14: =+'1-Phase de poule-Padel'!C9 -> 0.41631944 | E14: =+'1-Phase de poule-Padel'!E9 -> Spyk'up A | H14: =+'1-Phase de poule-Padel'!H9 -> VS | I14: =+'1-Phase de poule-Padel'!I9 -> Les Tengos A | L14: =+'1-Phase de poule-Padel'!L9 -> 0 | M14: =+'1-Phase de poule-Padel'!M9 -> T2 | N14: =+'1-Phase de poule-Padel'!N9 -> 0.41631944 | P14: =+'1-Phase de poule-Padel'!P9 -> Facilement A | S14: =+'1-Phase de poule-Padel'!S9 -> VS | T14: =+'1-Phase de poule-Padel'!T9 -> Les Fisbrmzv A | X14: =+'1-Phase de poule-Padel'!X9 -> T3 | Y14: =+'1-Phase de poule-Padel'!Y9 -> 0.41631944 | AA14: =+'1-Phase de poule-Padel'!AA9 -> Roue Libre B | AD14: =+'1-Phase de poule-Padel'!AD9 -> VS | AE14: =+'1-Phase de poule-Padel'!AE9 -> Spyk'up B | AI14: =+'1-Phase de poule-Padel'!AI9 -> T4 | AJ14: =+'1-Phase de poule-Padel'!AJ9 -> 0.41631944 | AL14: =+'1-Phase de poule-Padel'!AL9 -> Floyouyat B | AO14: =+'1-Phase de poule-Padel'!AO9 -> VS | AP14: =+'1-Phase de poule-Padel'!AP9 -> Facilement B | AT14: ='1-Phase de poule-Padel'!B40 -> T1 | AU14: ='1-Phase de poule-Padel'!C40 -> 0.50416667 | AW14: ='1-Phase de poule-Padel'!E40 -> Celtics Grave Gros A | AZ14: ='1-Phase de poule-Padel'!H40 -> VS | BA14: ='1-Phase de poule-Padel'!I40 -> Gett'up A | BE14: ='1-Phase de poule-Padel'!M40 -> T2 | BF14: ='1-Phase de poule-Padel'!N40 -> 0.50416667 | BH14: ='1-Phase de poule-Padel'!P40 -> L'aile ou la cuite A | BK14: ='1-Phase de poule-Padel'!S40 -> VS | BL14: ='1-Phase de poule-Padel'!T40 -> Blockudoku A | BP14: ='1-Phase de poule-Padel'!X40 -> T1 | BQ14: ='1-Phase de poule-Padel'!Y40 -> 0.55208333 | BS14: ='1-Phase de poule-Padel'!AA40 -> Waral B | BV14: ='1-Phase de poule-Padel'!AD40 -> VS | BW14: ='1-Phase de poule-Padel'!AE40 -> Celtics Grave Gros B | CA14: ='1-Phase de poule-Padel'!AI40 -> T2 | CB14: ='1-Phase de poule-Padel'!AJ40 -> 0.55208333 | CD14: ='1-Phase de poule-Padel'!AL40 -> Pooldeads B | CG14: ='1-Phase de poule-Padel'!AO40 -> VS | CH14: ='1-Phase de poule-Padel'!AP40 -> L'aile ou la cuite B
A15: =+'1-Phase de poule-Padel'!A10 -> 0 | B15: =+'1-Phase de poule-Padel'!B10 -> T1 | C15: =+'1-Phase de poule-Padel'!C10 -> 0.42430556 | E15: =+'1-Phase de poule-Padel'!E10 -> Roue Libre A | H15: =+'1-Phase de poule-Padel'!H10 -> VS | I15: =+'1-Phase de poule-Padel'!I10 -> Akatsuki A | L15: =+'1-Phase de poule-Padel'!L10 -> 0 | M15: =+'1-Phase de poule-Padel'!M10 -> T2 | N15: =+'1-Phase de poule-Padel'!N10 -> 0.42430556 | P15: =+'1-Phase de poule-Padel'!P10 -> Floyouyat A | S15: =+'1-Phase de poule-Padel'!S10 -> VS | T15: =+'1-Phase de poule-Padel'!T10 -> Bandanateam A | X15: =+'1-Phase de poule-Padel'!X10 -> T3 | Y15: =+'1-Phase de poule-Padel'!Y10 -> 0.42430556 | AA15: =+'1-Phase de poule-Padel'!AA10 -> Les Tengos B | AD15: =+'1-Phase de poule-Padel'!AD10 -> VS | AE15: =+'1-Phase de poule-Padel'!AE10 -> VitaMines B | AI15: =+'1-Phase de poule-Padel'!AI10 -> T4 | AJ15: =+'1-Phase de poule-Padel'!AJ10 -> 0.42430556 | AL15: =+'1-Phase de poule-Padel'!AL10 -> Les Fisbrmzv B | AO15: =+'1-Phase de poule-Padel'!AO10 -> VS | AP15: =+'1-Phase de poule-Padel'!AP10 -> Les inconnus B | AT15: ='1-Phase de poule-Padel'!B41 -> T1 | AU15: ='1-Phase de poule-Padel'!C41 -> 0.51215278 | AW15: ='1-Phase de poule-Padel'!E41 -> Waral A | AZ15: ='1-Phase de poule-Padel'!H41 -> VS | BA15: ='1-Phase de poule-Padel'!I41 -> Bayer les verres culs sec A | BE15: ='1-Phase de poule-Padel'!M41 -> T2 | BF15: ='1-Phase de poule-Padel'!N41 -> 0.51215278 | BH15: ='1-Phase de poule-Padel'!P41 -> Pooldeads A | BK15: ='1-Phase de poule-Padel'!S41 -> VS | BL15: ='1-Phase de poule-Padel'!T41 -> Lazio de Rhum A | BP15: ='1-Phase de poule-Padel'!X41 -> T1 | BQ15: ='1-Phase de poule-Padel'!Y41 -> 0.56006944 | BS15: ='1-Phase de poule-Padel'!AA41 -> Gett'up B | BV15: ='1-Phase de poule-Padel'!AD41 -> VS | BW15: ='1-Phase de poule-Padel'!AE41 -> Téléteubiloutes B | CA15: ='1-Phase de poule-Padel'!AI41 -> T2 | CB15: ='1-Phase de poule-Padel'!AJ41 -> 0.56006944 | CD15: ='1-Phase de poule-Padel'!AL41 -> Blockudoku B | CG15: ='1-Phase de poule-Padel'!AO41 -> VS | CH15: ='1-Phase de poule-Padel'!AP41 -> Les torcheurs B
A16: =+'1-Phase de poule-Padel'!A11 -> 0 | B16: =+'1-Phase de poule-Padel'!B11 -> T1 | C16: =+'1-Phase de poule-Padel'!C11 -> 0.43229167 | E16: =+'1-Phase de poule-Padel'!E11 -> VitaMines A | H16: =+'1-Phase de poule-Padel'!H11 -> VS | I16: =+'1-Phase de poule-Padel'!I11 -> Spyk'up A | L16: =+'1-Phase de poule-Padel'!L11 -> 0 | M16: =+'1-Phase de poule-Padel'!M11 -> T2 | N16: =+'1-Phase de poule-Padel'!N11 -> 0.43229167 | P16: =+'1-Phase de poule-Padel'!P11 -> Les inconnus A | S16: =+'1-Phase de poule-Padel'!S11 -> VS | T16: =+'1-Phase de poule-Padel'!T11 -> Facilement A | X16: =+'1-Phase de poule-Padel'!X11 -> T3 | Y16: =+'1-Phase de poule-Padel'!Y11 -> 0.43229167 | AA16: =+'1-Phase de poule-Padel'!AA11 -> Akatsuki B | AD16: =+'1-Phase de poule-Padel'!AD11 -> VS | AE16: =+'1-Phase de poule-Padel'!AE11 -> Roue Libre B | AI16: =+'1-Phase de poule-Padel'!AI11 -> T4 | AJ16: =+'1-Phase de poule-Padel'!AJ11 -> 0.43229167 | AL16: =+'1-Phase de poule-Padel'!AL11 -> Bandanateam B | AO16: =+'1-Phase de poule-Padel'!AO11 -> VS | AP16: =+'1-Phase de poule-Padel'!AP11 -> Floyouyat B | AT16: ='1-Phase de poule-Padel'!B42 -> T1 | AU16: ='1-Phase de poule-Padel'!C42 -> 0.52013889 | AW16: ='1-Phase de poule-Padel'!E42 -> Téléteubiloutes A | AZ16: ='1-Phase de poule-Padel'!H42 -> VS | BA16: ='1-Phase de poule-Padel'!I42 -> Celtics Grave Gros A | BE16: ='1-Phase de poule-Padel'!M42 -> T2 | BF16: ='1-Phase de poule-Padel'!N42 -> 0.52013889 | BH16: ='1-Phase de poule-Padel'!P42 -> Les torcheurs A | BK16: ='1-Phase de poule-Padel'!S42 -> VS | BL16: ='1-Phase de poule-Padel'!T42 -> L'aile ou la cuite A | BP16: ='1-Phase de poule-Padel'!X42 -> T1 | BQ16: ='1-Phase de poule-Padel'!Y42 -> 0.56805556 | BS16: ='1-Phase de poule-Padel'!AA42 -> Bayer les verres culs sec B | BV16: ='1-Phase de poule-Padel'!AD42 -> VS | BW16: ='1-Phase de poule-Padel'!AE42 -> Waral B | CA16: ='1-Phase de poule-Padel'!AI42 -> T2 | CB16: ='1-Phase de poule-Padel'!AJ42 -> 0.56805556 | CD16: ='1-Phase de poule-Padel'!AL42 -> Lazio de Rhum B | CG16: ='1-Phase de poule-Padel'!AO42 -> VS | CH16: ='1-Phase de poule-Padel'!AP42 -> Pooldeads B
A17: =+'1-Phase de poule-Padel'!A12 -> 0 | B17: =+'1-Phase de poule-Padel'!B12 -> T1 | C17: =+'1-Phase de poule-Padel'!C12 -> 0.44027778 | E17: =+'1-Phase de poule-Padel'!E12 -> Akatsuki A | H17: =+'1-Phase de poule-Padel'!H12 -> VS | I17: =+'1-Phase de poule-Padel'!I12 -> Les Tengos A | L17: =+'1-Phase de poule-Padel'!L12 -> 0 | M17: =+'1-Phase de poule-Padel'!M12 -> T2 | N17: =+'1-Phase de poule-Padel'!N12 -> 0.44027778 | P17: =+'1-Phase de poule-Padel'!P12 -> Bandanateam A | S17: =+'1-Phase de poule-Padel'!S12 -> VS | T17: =+'1-Phase de poule-Padel'!T12 -> Les Fisbrmzv A | X17: =+'1-Phase de poule-Padel'!X12 -> T3 | Y17: =+'1-Phase de poule-Padel'!Y12 -> 0.44027778 | AA17: =+'1-Phase de poule-Padel'!AA12 -> VitaMines B | AD17: =+'1-Phase de poule-Padel'!AD12 -> VS | AE17: =+'1-Phase de poule-Padel'!AE12 -> Spyk'up B | AI17: =+'1-Phase de poule-Padel'!AI12 -> T4 | AJ17: =+'1-Phase de poule-Padel'!AJ12 -> 0.44027778 | AL17: =+'1-Phase de poule-Padel'!AL12 -> Les inconnus B | AO17: =+'1-Phase de poule-Padel'!AO12 -> VS | AP17: =+'1-Phase de poule-Padel'!AP12 -> Facilement B | AT17: ='1-Phase de poule-Padel'!B43 -> T1 | AU17: ='1-Phase de poule-Padel'!C43 -> 0.528125 | AW17: ='1-Phase de poule-Padel'!E43 -> Bayer les verres culs sec A | AZ17: ='1-Phase de poule-Padel'!H43 -> VS | BA17: ='1-Phase de poule-Padel'!I43 -> Gett'up A | BE17: ='1-Phase de poule-Padel'!M43 -> T2 | BF17: ='1-Phase de poule-Padel'!N43 -> 0.528125 | BH17: ='1-Phase de poule-Padel'!P43 -> Lazio de Rhum A | BK17: ='1-Phase de poule-Padel'!S43 -> VS | BL17: ='1-Phase de poule-Padel'!T43 -> Blockudoku A | BP17: ='1-Phase de poule-Padel'!X43 -> T1 | BQ17: ='1-Phase de poule-Padel'!Y43 -> 0.57604167 | BS17: ='1-Phase de poule-Padel'!AA43 -> Téléteubiloutes B | BV17: ='1-Phase de poule-Padel'!AD43 -> VS | BW17: ='1-Phase de poule-Padel'!AE43 -> Celtics Grave Gros B | CA17: ='1-Phase de poule-Padel'!AI43 -> T2 | CB17: ='1-Phase de poule-Padel'!AJ43 -> 0.57604167 | CD17: ='1-Phase de poule-Padel'!AL43 -> Les torcheurs B | CG17: ='1-Phase de poule-Padel'!AO43 -> VS | CH17: ='1-Phase de poule-Padel'!AP43 -> L'aile ou la cuite B
A18: =+'1-Phase de poule-Padel'!A13 -> 0 | B18: =+'1-Phase de poule-Padel'!B13 -> T1 | C18: =+'1-Phase de poule-Padel'!C13 -> 0.44826389 | E18: =+'1-Phase de poule-Padel'!E13 -> Roue Libre A | H18: =+'1-Phase de poule-Padel'!H13 -> VS | I18: =+'1-Phase de poule-Padel'!I13 -> Spyk'up A | L18: =+'1-Phase de poule-Padel'!L13 -> 0 | M18: =+'1-Phase de poule-Padel'!M13 -> T2 | N18: =+'1-Phase de poule-Padel'!N13 -> 0.44826389 | P18: =+'1-Phase de poule-Padel'!P13 -> Floyouyat A | S18: =+'1-Phase de poule-Padel'!S13 -> VS | T18: =+'1-Phase de poule-Padel'!T13 -> Facilement A | X18: =+'1-Phase de poule-Padel'!X13 -> T3 | Y18: =+'1-Phase de poule-Padel'!Y13 -> 0.44826389 | AA18: =+'1-Phase de poule-Padel'!AA13 -> Les Tengos B | AD18: =+'1-Phase de poule-Padel'!AD13 -> VS | AE18: =+'1-Phase de poule-Padel'!AE13 -> Roue Libre B | AI18: =+'1-Phase de poule-Padel'!AI13 -> T4 | AJ18: =+'1-Phase de poule-Padel'!AJ13 -> 0.44826389 | AL18: =+'1-Phase de poule-Padel'!AL13 -> Les Fisbrmzv B | AO18: =+'1-Phase de poule-Padel'!AO13 -> VS | AP18: =+'1-Phase de poule-Padel'!AP13 -> Floyouyat B | AT18: ='1-Phase de poule-Padel'!B44 -> T1 | AU18: ='1-Phase de poule-Padel'!C44 -> 0.53611111 | AW18: ='1-Phase de poule-Padel'!E44 -> Waral A | AZ18: ='1-Phase de poule-Padel'!H44 -> VS | BA18: ='1-Phase de poule-Padel'!I44 -> Celtics Grave Gros A | BE18: ='1-Phase de poule-Padel'!M44 -> T2 | BF18: ='1-Phase de poule-Padel'!N44 -> 0.53611111 | BH18: ='1-Phase de poule-Padel'!P44 -> Pooldeads A | BK18: ='1-Phase de poule-Padel'!S44 -> VS | BL18: ='1-Phase de poule-Padel'!T44 -> L'aile ou la cuite A | BP18: ='1-Phase de poule-Padel'!X44 -> T1 | BQ18: ='1-Phase de poule-Padel'!Y44 -> 0.58402778 | BS18: ='1-Phase de poule-Padel'!AA44 -> Gett'up B | BV18: ='1-Phase de poule-Padel'!AD44 -> VS | BW18: ='1-Phase de poule-Padel'!AE44 -> Waral B | CA18: ='1-Phase de poule-Padel'!AI44 -> T2 | CB18: ='1-Phase de poule-Padel'!AJ44 -> 0.58402778 | CD18: ='1-Phase de poule-Padel'!AL44 -> Blockudoku B | CG18: ='1-Phase de poule-Padel'!AO44 -> VS | CH18: ='1-Phase de poule-Padel'!AP44 -> Pooldeads B
A19: =+'1-Phase de poule-Padel'!A14 -> 0 | B19: =+'1-Phase de poule-Padel'!B14 -> T1 | C19: =+'1-Phase de poule-Padel'!C14 -> 0.45625 | E19: =+'1-Phase de poule-Padel'!E14 -> VitaMines A | H19: =+'1-Phase de poule-Padel'!H14 -> VS | I19: =+'1-Phase de poule-Padel'!I14 -> Les Tengos A | L19: =+'1-Phase de poule-Padel'!L14 -> 0 | M19: =+'1-Phase de poule-Padel'!M14 -> T2 | N19: =+'1-Phase de poule-Padel'!N14 -> 0.45625 | P19: =+'1-Phase de poule-Padel'!P14 -> Les inconnus A | S19: =+'1-Phase de poule-Padel'!S14 -> VS | T19: =+'1-Phase de poule-Padel'!T14 -> Les Fisbrmzv A | X19: =+'1-Phase de poule-Padel'!X14 -> T3 | Y19: =+'1-Phase de poule-Padel'!Y14 -> 0.45625 | AA19: =+'1-Phase de poule-Padel'!AA14 -> Akatsuki B | AD19: =+'1-Phase de poule-Padel'!AD14 -> VS | AE19: =+'1-Phase de poule-Padel'!AE14 -> Spyk'up B | AI19: =+'1-Phase de poule-Padel'!AI14 -> T4 | AJ19: =+'1-Phase de poule-Padel'!AJ14 -> 0.45625 | AL19: =+'1-Phase de poule-Padel'!AL14 -> Bandanateam B | AO19: =+'1-Phase de poule-Padel'!AO14 -> VS | AP19: =+'1-Phase de poule-Padel'!AP14 -> Facilement B | AT19: ='1-Phase de poule-Padel'!B45 -> T1 | AU19: ='1-Phase de poule-Padel'!C45 -> 0.54409722 | AW19: ='1-Phase de poule-Padel'!E45 -> Téléteubiloutes A | AZ19: ='1-Phase de poule-Padel'!H45 -> VS | BA19: ='1-Phase de poule-Padel'!I45 -> Gett'up A | BE19: ='1-Phase de poule-Padel'!M45 -> T2 | BF19: ='1-Phase de poule-Padel'!N45 -> 0.54409722 | BH19: ='1-Phase de poule-Padel'!P45 -> Les torcheurs A | BK19: ='1-Phase de poule-Padel'!S45 -> VS | BL19: ='1-Phase de poule-Padel'!T45 -> Blockudoku A | BP19: ='1-Phase de poule-Padel'!X45 -> T1 | BQ19: ='1-Phase de poule-Padel'!Y45 -> 0.59201389 | BS19: ='1-Phase de poule-Padel'!AA45 -> Bayer les verres culs sec B | BV19: ='1-Phase de poule-Padel'!AD45 -> VS | BW19: ='1-Phase de poule-Padel'!AE45 -> Celtics Grave Gros B | CA19: ='1-Phase de poule-Padel'!AI45 -> T2 | CB19: ='1-Phase de poule-Padel'!AJ45 -> 0.59201389 | CD19: ='1-Phase de poule-Padel'!AL45 -> Lazio de Rhum B | CG19: ='1-Phase de poule-Padel'!AO45 -> VS | CH19: ='1-Phase de poule-Padel'!AP45 -> L'aile ou la cuite B
A20: =+'1-Phase de poule-Padel'!A15 -> 0 | C20: =+'1-Phase de poule-Padel'!C15 -> 0.46423611 | L20: =+'1-Phase de poule-Padel'!L15 -> 0 | N20: =+'1-Phase de poule-Padel'!N15 -> 0.46423611 | Y20: =+'1-Phase de poule-Padel'!Y15 -> 0.46423611 | AJ20: =+'1-Phase de poule-Padel'!AJ15 -> 0.46423611 | AU20: ='1-Phase de poule-Padel'!C46 -> 0.55208333 | BF20: ='1-Phase de poule-Padel'!N46 -> 0.55208333 | BQ20: ='1-Phase de poule-Padel'!Y46 -> 0.6 | CB20: ='1-Phase de poule-Padel'!AJ46 -> 0.6

Sheet 1-Phase de poule-Padel
E2: POULE A | P2: POULE B | AA2: POULE C | AL2: POULE D
E4: Nom équipe | F4: W/L | G4: Dif. | I4: Nom équipe | J4: W/L | K4: Dif. | P4: Nom équipe | Q4: W/L | R4: Dif. | T4: Nom équipe | U4: W/L | V4: Dif. | AA4: Nom équipe | AB4: W/L | AC4: Dif. | AE4: Nom équipe | AF4: W/L | AG4: Dif. | AL4: Nom équipe | AM4: W/L | AN4: Dif. | AP4: Nom équipe | AQ4: W/L | AR4: Dif.
B5: T1 | C5: =Paramétrage!D25 -> 0.38194444 | E5: =Paramétrage!$F$3 -> Roue Libre A | F5: W | G5: 23 | H5: VS | I5: =Paramétrage!$F$6 -> VitaMines A | J5: =IF(F5="W","L",IF(F5="L","W","N")) -> L | K5: =-G5 -> -23 | M5: T2 | N5: =C5 -> 0.38194444 | P5: =Paramétrage!$F$8 -> Floyouyat A | Q5: W | R5: 6 | S5: VS | T5: =Paramétrage!$F$11 -> Les inconnus A | U5: =IF(Q5="W","L",IF(Q5="L","W","N")) -> L | V5: =-R5 -> -6 | X5: T3 | Y5: =C5 -> 0.38194444 | AA5: =Paramétrage!$G$5 -> Les Tengos B | AB5: W | AC5: 24 | AD5: VS | AE5: =Paramétrage!$G$4 -> Akatsuki B | AF5: =IF(AB5="W","L",IF(AB5="L","W","N")) -> L | AG5: =-AC5 -> -24 | AI5: T4 | AJ5: =C5 -> 0.38194444 | AL5: =Paramétrage!$G$10 -> Les Fisbrmzv B | AM5: W | AN5: 4 | AO5: VS | AP5: =Paramétrage!$G$9 -> Bandanateam B | AQ5: =IF(AM5="W","L",IF(AM5="L","W","N")) -> L | AR5: =-AN5 -> -4
B6: T1 | C6: 0.39236111 | E6: =Paramétrage!$F$4 -> Akatsuki A | F6: L | G6: -6 | H6: VS | I6: =Paramétrage!$F$7 -> Spyk'up A | J6: W | K6: 6 | M6: T2 | N6: =C6 -> 0.39236111 | P6: =Paramétrage!$F$9 -> Bandanateam A | Q6: W | R6: 20 | S6: VS | T6: =Paramétrage!$F$12 -> Facilement A | U6: =IF(Q6="W","L",IF(Q6="L","W","N")) -> L | V6: =-R6 -> -20 | X6: T3 | Y6: =C6 -> 0.39236111 | AA6: =Paramétrage!$G$6 -> VitaMines B | AB6: W | AC6: 17 | AD6: VS | AE6: =Paramétrage!$G$3 -> Roue Libre B | AF6: =IF(AB6="W","L",IF(AB6="L","W","N")) -> L | AG6: =-AC6 -> -17 | AI6: T4 | AJ6: =C6 -> 0.39236111 | AL6: =Paramétrage!$G$11 -> Les inconnus B | AM6: W | AN6: 2 | AO6: VS | AP6: =Paramétrage!$G$8 -> Floyouyat B | AQ6: =IF(AM6="W","L",IF(AM6="L","W","N")) -> L | AR6: =-AN6 -> -2
B7: T1 | C7: =C6+Paramétrage!$D$26+Paramétrage!$D$27 -> 0.40034722 | E7: =Paramétrage!$F$5 -> Les Tengos A | F7: L | G7: -6 | H7: VS | I7: =+E5 -> Roue Libre A | J7: =IF(F7="W","L",IF(F7="L","W","N")) -> W | K7: =-G7 -> 6 | M7: T2 | N7: =C7 -> 0.40034722 | P7: =Paramétrage!$F$10 -> Les Fisbrmzv A | Q7: W | R7: 15 | S7: VS | T7: =+P5 -> Floyouyat A | U7: =IF(Q7="W","L",IF(Q7="L","W","N")) -> L | V7: =-R7 -> -15 | X7: T3 | Y7: =C7 -> 0.40034722 | AA7: =Paramétrage!$G$7 -> Spyk'up B | AB7: L | AC7: -22 | AD7: VS | AE7: =+AA5 -> Les Tengos B | AF7: =IF(AB7="W","L",IF(AB7="L","W","N")) -> W | AG7: =-AC7 -> 22 | AI7: T4 | AJ7: =C7 -> 0.40034722 | AL7: =Paramétrage!$G$12 -> Facilement B | AM7: L | AN7: -12 | AO7: VS | AP7: =+AL5 -> Les Fisbrmzv B | AQ7: =IF(AM7="W","L",IF(AM7="L","W","N")) -> W | AR7: =-AN7 -> 12
B8: T1 | C8: =C7+Paramétrage!$D$26+Paramétrage!$D$27 -> 0.40833333 | E8: =+I5 -> VitaMines A | F8: w | G8: 17 | H8: VS | I8: =E6 -> Akatsuki A | J8: =IF(F8="W","L",IF(F8="L","W","N")) -> L | K8: =-G8 -> -17 | M8: T2 | N8: =C8 -> 0.40833333 | P8: =+T5 -> Les inconnus A | Q8: L | R8: -14 | S8: VS | T8: =P6 -> Bandanateam A | U8: =IF(Q8="W","L",IF(Q8="L","W","N")) -> W | V8: =-R8 -> 14 | X8: T3 | Y8: =C8 -> 0.40833333 | AA8: =+AE5 -> Akatsuki B | AB8: L | AC8: -10 | AD8: VS | AE8: =AA6 -> VitaMines B | AF8: =IF(AB8="W","L",IF(AB8="L","W","N")) -> W | AG8: =-AC8 -> 10 | AI8: T4 | AJ8: =C8 -> 0.40833333 | AL8: =+AP5 -> Bandanateam B | AM8: W | AN8: 2 | AO8: VS | AP8: =AL6 -> Les inconnus B | AQ8: =IF(AM8="W","L",IF(AM8="L","W","N")) -> L | AR8: =-AN8 -> -2
B9: T1 | C9: =C8+Paramétrage!$D$26+Paramétrage!$D$27 -> 0.41631944 | E9: =I6 -> Spyk'up A | F9: w | G9: 4 | H9: VS | I9: =E7 -> Les Tengos A | J9: =IF(F9="W","L",IF(F9="L","W","N")) -> L | K9: =-G9 -> -4 | M9: T2 | N9: =C9 -> 0.41631944 | P9: =T6 -> Facilement A | Q9: L | R9: -9 | S9: VS | T9: =P7 -> Les Fisbrmzv A | U9: =IF(Q9="W","L",IF(Q9="L","W","N")) -> W | V9: =-R9 -> 9 | X9: T3 | Y9: =C9 -> 0.41631944 | AA9: =AE6 -> Roue Libre B | AB9: L | AC9: -13 | AD9: VS | AE9: =AA7 -> Spyk'up B | AF9: =IF(AB9="W","L",IF(AB9="L","W","N")) -> W | AG9: =-AC9 -> 13 | AI9: T4 | AJ9: =C9 -> 0.41631944 | AL9: =AP6 -> Floyouyat B | AM9: W | AN9: 16 | AO9: VS | AP9: =AL7 -> Facilement B | AQ9: =IF(AM9="W","L",IF(AM9="L","W","N")) -> L | AR9: =-AN9 -> -16
B10: T1 | C10: =C9+Paramétrage!$D$26+Paramétrage!$D$27 -> 0.42430556 | E10: =E5 -> Roue Libre A | F10: w | G10: 11 | H10: VS | I10: =E6 -> Akatsuki A | J10: =IF(F10="W","L",IF(F10="L","W","N")) -> L | K10: =-G10 -> -11 | M10: T2 | N10: =C10 -> 0.42430556 | P10: =P5 -> Floyouyat A | Q10: L | R10: -13 | S10: VS | T10: =P6 -> Bandanateam A | U10: =IF(Q10="W","L",IF(Q10="L","W","N")) -> W | V10: =-R10 -> 13 | X10: T3 | Y10: =C10 -> 0.42430556 | AA10: =AA5 -> Les Tengos B | AB10: W | AC10: 8 | AD10: VS | AE10: =AA6 -> VitaMines B | AF10: =IF(AB10="W","L",IF(AB10="L","W","N")) -> L | AG10: =-AC10 -> -8 | AI10: T4 | AJ10: =C10 -> 0.42430556 | AL10: =AL5 -> Les Fisbrmzv B | AM10: W | AN10: 21 | AO10: VS | AP10: =AL6 -> Les inconnus B | AQ10: =IF(AM10="W","L",IF(AM10="L","W","N")) -> L | AR10: =-AN10 -> -21
B11: T1 | C11: =C10+Paramétrage!$D$26+Paramétrage!$D$27 -> 0.43229167 | E11: =I5 -> VitaMines A | F11: W | G11: 3 | H11: VS | I11: =I6 -> Spyk'up A | J11: =IF(F11="W","L",IF(F11="L","W","N")) -> L | K11: =-G11 -> -3 | M11: T2 | N11: =C11 -> 0.43229167 | P11: =T5 -> Les inconnus A | Q11: L | R11: -13 | S11: VS | T11: =T6 -> Facilement A | U11: =IF(Q11="W","L",IF(Q11="L","W","N")) -> W | V11: =-R11 -> 13 | X11: T3 | Y11: =C11 -> 0.43229167 | AA11: =AE5 -> Akatsuki B | AB11: W | AC11: 5 | AD11: VS | AE11: =AE6 -> Roue Libre B | AF11: =IF(AB11="W","L",IF(AB11="L","W","N")) -> L | AG11: =-AC11 -> -5 | AI11: T4 | AJ11: =C11 -> 0.43229167 | AL11: =AP5 -> Bandanateam B | AM11: W | AN11: 19 | AO11: VS | AP11: =AP6 -> Floyouyat B | AQ11: =IF(AM11="W","L",IF(AM11="L","W","N")) -> L | AR11: =-AN11 -> -19
B12: T1 | C12: =C11+Paramétrage!$D$26+Paramétrage!$D$27 -> 0.44027778 | E12: =E6 -> Akatsuki A | F12: L | G12: -9 | H12: VS | I12: =E7 -> Les Tengos A | J12: =IF(F12="W","L",IF(F12="L","W","N")) -> W | K12: =-G12 -> 9 | M12: T2 | N12: =C12 -> 0.44027778 | P12: =P6 -> Bandanateam A | Q12: W | R12: 5 | S12: VS | T12: =P7 -> Les Fisbrmzv A | U12: =IF(Q12="W","L",IF(Q12="L","W","N")) -> L | V12: =-R12 -> -5 | X12: T3 | Y12: =C12 -> 0.44027778 | AA12: =AA6 -> VitaMines B | AB12: W | AC12: 9 | AD12: VS | AE12: =AA7 -> Spyk'up B | AF12: =IF(AB12="W","L",IF(AB12="L","W","N")) -> L | AG12: =-AC12 -> -9 | AI12: T4 | AJ12: =C12 -> 0.44027778 | AL12: =AL6 -> Les inconnus B | AM12: W | AN12: 9 | AO12: VS | AP12: =AL7 -> Facilement B | AQ12: =IF(AM12="W","L",IF(AM12="L","W","N")) -> L | AR12: =-AN12 -> -9
B13: T1 | C13: =C12+Paramétrage!$D$26+Paramétrage!$D$27 -> 0.44826389 | E13: =E5 -> Roue Libre A | F13: W | G13: 11 | H13: VS | I13: =I6 -> Spyk'up A | J13: =IF(F13="W","L",IF(F13="L","W","N")) -> L | K13: =-G13 -> -11 | M13: T2 | N13: =C13 -> 0.44826389 | P13: =P5 -> Floyouyat A | Q13: W | R13: 4 | S13: VS | T13: =T6 -> Facilement A | U13: =IF(Q13="W","L",IF(Q13="L","W","N")) -> L | V13: =-R13 -> -4 | X13: T3 | Y13: =C13 -> 0.44826389 | AA13: =AA5 -> Les Tengos B | AB13: W | AC13: 19 | AD13: VS | AE13: =AE6 -> Roue Libre B | AF13: =IF(AB13="W","L",IF(AB13="L","W","N")) -> L | AG13: =-AC13 -> -19 | AI13: T4 | AJ13: =C13 -> 0.44826389 | AL13: =AL5 -> Les Fisbrmzv B | AM13: W | AN13: 3 | AO13: VS | AP13: =AP6 -> Floyouyat B | AQ13: =IF(AM13="W","L",IF(AM13="L","W","N")) -> L | AR13: =-AN13 -> -3
B14: T1 | C14: =C13+Paramétrage!$D$26+Paramétrage!$D$27 -> 0.45625 | E14: =E8 -> VitaMines A | F14: L | G14: -9 | H14: VS | I14: =E7 -> Les Tengos A | J14: =IF(F14="W","L",IF(F14="L","W","N")) -> W | K14: =-G14 -> 9 | M14: T2 | N14: =C14 -> 0.45625 | P14: =P8 -> Les inconnus A | Q14: L | R14: -11 | S14: VS | T14: =P7 -> Les Fisbrmzv A | U14: =IF(Q14="W","L",IF(Q14="L","W","N")) -> W | V14: =-R14 -> 11 | X14: T3 | Y14: =C14 -> 0.45625 | AA14: =AA8 -> Akatsuki B | AB14: N | AC14: 0 | AD14: VS | AE14: =AA7 -> Spyk'up B | AF14: =IF(AB14="W","L",IF(AB14="L","W","N")) -> N | AG14: =-AC14 -> 0 | AI14: T4 | AJ14: =C14 -> 0.45625 | AL14: =AL8 -> Bandanateam B | AM14: W | AN14: 16 | AO14: VS | AP14: =AL7 -> Facilement B | AQ14: =IF(AM14="W","L",IF(AM14="L","W","N")) -> L | AR14: =-AN14 -> -16
C15: =C14+Paramétrage!$D$26+Paramétrage!$D$27 -> 0.46423611 | N15: =C15 -> 0.46423611 | Y15: =C15 -> 0.46423611 | AJ15: =C15 -> 0.46423611
E16: Nom équipe | F16: Pts | G16: Dif. | H16: Clas. | I16: Ne pas toucher | P16: Nom équipe | Q16: Pts | R16: Dif. | S16: Clas. | T16: Ne pas toucher | AA16: Nom équipe | AB16: Pts | AC16: Dif. | AD16: Clas. | AE16: Ne pas toucher | AL16: Nom équipe | AM16: Pts | AN16: Dif. | AO16: Clas. | AP16: Ne pas toucher
E17: =E5 -> Roue Libre A | F17: =(COUNTIFS(J$5:J$14,"w",I$5:I$14,E17)+COUNTIFS(F$5:F$14,"w",E$5:E$14,E17))*Paramétrage!$C$33+(COUNTIFS(J$5:J$14,"N",I$5:I$14,E17)+COUNTIFS(F$5:F$14,"N",E$5:E$14,E17))*Paramétrage!$C$34+(COUNTIFS(J$5:J$14,"L",I$5:I$14,E17)+COUNTIFS(F$5:F$14,"L",E$5:E$14,E17))*Paramétrage!$C$35 -> 12 | G17: =SUMIF(E$5:G$14,E17,G$5:G$14)+SUMIF(I$5:K$14,E17,K$5:K$14) -> 51 | H17: 1 | I17: =E17 -> Roue Libre A | P17: =P5 -> Floyouyat A | Q17: =(COUNTIFS(U$5:U$14,"w",T$5:T$14,P17)+COUNTIFS(Q$5:Q$14,"w",P$5:P$14,P17))*Paramétrage!$C$33+(COUNTIFS(U$5:U$14,"N",T$5:T$14,P17)+COUNTIFS(Q$5:Q$14,"N",P$5:P$14,P17))*Paramétrage!$C$34+(COUNTIFS(U$5:U$14,"L",T$5:T$14,P17)+COUNTIFS(Q$5:Q$14,"L",P$5:P$14,P17))*Paramétrage!$C$35 -> 8 | R17: =SUMIF(P$5:R$14,P17,R$5:R$14)+SUMIF(T$5:V$14,P17,V$5:V$14) -> -18 | S17: 3 | T17: =P17 -> Floyouyat A | Y17: =76+51 -> 127 | AA17: =AA5 -> Les Tengos B | AB17: =(COUNTIFS(AF$5:AF$14,"w",AE$5:AE$14,AA17)+COUNTIFS(AB$5:AB$14,"w",AA$5:AA$14,AA17))*Paramétrage!$C$33+(COUNTIFS(AF$5:AF$14,"N",AE$5:AE$14,AA17)+COUNTIFS(AB$5:AB$14,"N",AA$5:AA$14,AA17))*Paramétrage!$C$34+(COUNTIFS(AF$5:AF$14,"L",AE$5:AE$14,AA17)+COUNTIFS(AB$5:AB$14,"L",AA$5:AA$14,AA17))*Paramétrage!$C$35 -> 12 | AC17: =SUMIF(AA$5:AC$14,AA17,AC$5:AC$14)+SUMIF(AE$5:AG$14,AA17,AG$5:AG$14) -> 73 | AD17: 1 | AE17: =AA17 -> Les Tengos B | AL17: =AL5 -> Les Fisbrmzv B | AM17: =(COUNTIFS(AQ$5:AQ$14,"w",AP$5:AP$14,AL17)+COUNTIFS(AM$5:AM$14,"w",AL$5:AL$14,AL17))*Paramétrage!$C$33+(COUNTIFS(AQ$5:AQ$14,"N",AP$5:AP$14,AL17)+COUNTIFS(AM$5:AM$14,"N",AL$5:AL$14,AL17))*Paramétrage!$C$34+(COUNTIFS(AQ$5:AQ$14,"L",AP$5:AP$14,AL17)+COUNTIFS(AM$5:AM$14,"L",AL$5:AL$14,AL17))*Paramétrage!$C$35 -> 12 | AN17: =SUMIF(AL$5:AN$14,AL17,AN$5:AN$14)+SUMIF(AP$5:AR$14,AL17,AR$5:AR$14) -> 40 | AO17: 1 | AP17: =AL17 -> Les Fisbrmzv B
E18: =E6 -> Akatsuki A | F18: =(COUNTIFS(J$5:J$14,"w",I$5:I$14,E18)+COUNTIFS(F$5:F$14,"w",E$5:E$14,E18))*Paramétrage!$C$33+(COUNTIFS(J$5:J$14,"N",I$5:I$14,E18)+COUNTIFS(F$5:F$14,"N",E$5:E$14,E18))*Paramétrage!$C$34+(COUNTIFS(J$5:J$14,"L",I$5:I$14,E18)+COUNTIFS(F$5:F$14,"L",E$5:E$14,E18))*Paramétrage!$C$35 -> 4 | G18: =SUMIF(E$5:G$14,E18,G$5:G$14)+SUMIF(I$5:K$14,E18,K$5:K$14) -> -43 | H18: 5 | I18: =E18 -> Akatsuki A | P18: =P6 -> Bandanateam A | Q18: =(COUNTIFS(U$5:U$14,"w",T$5:T$14,P18)+COUNTIFS(Q$5:Q$14,"w",P$5:P$14,P18))*Paramétrage!$C$33+(COUNTIFS(U$5:U$14,"N",T$5:T$14,P18)+COUNTIFS(Q$5:Q$14,"N",P$5:P$14,P18))*Paramétrage!$C$34+(COUNTIFS(U$5:U$14,"L",T$5:T$14,P18)+COUNTIFS(Q$5:Q$14,"L",P$5:P$14,P18))*Paramétrage!$C$35 -> 12 | R18: =SUMIF(P$5:R$14,P18,R$5:R$14)+SUMIF(T$5:V$14,P18,V$5:V$14) -> 52 | S18: 1 | T18: =P18 -> Bandanateam A | AA18: =AA6 -> VitaMines B | AB18: =(COUNTIFS(AF$5:AF$14,"w",AE$5:AE$14,AA18)+COUNTIFS(AB$5:AB$14,"w",AA$5:AA$14,AA18))*Paramétrage!$C$33+(COUNTIFS(AF$5:AF$14,"N",AE$5:AE$14,AA18)+COUNTIFS(AB$5:AB$14,"N",AA$5:AA$14,AA18))*Paramétrage!$C$34+(COUNTIFS(AF$5:AF$14,"L",AE$5:AE$14,AA18)+COUNTIFS(AB$5:AB$14,"L",AA$5:AA$14,AA18))*Paramétrage!$C$35 -> 10 | AC18: =SUMIF(AA$5:AC$14,AA18,AC$5:AC$14)+SUMIF(AE$5:AG$14,AA18,AG$5:AG$14) -> 28 | AD18: 2 | AE18: =AA18 -> VitaMines B | AL18: =AL6 -> Les inconnus B | AM18: =(COUNTIFS(AQ$5:AQ$14,"w",AP$5:AP$14,AL18)+COUNTIFS(AM$5:AM$14,"w",AL$5:AL$14,AL18))*Paramétrage!$C$33+(COUNTIFS(AQ$5:AQ$14,"N",AP$5:AP$14,AL18)+COUNTIFS(AM$5:AM$14,"N",AL$5:AL$14,AL18))*Paramétrage!$C$34+(COUNTIFS(AQ$5:AQ$14,"L",AP$5:AP$14,AL18)+COUNTIFS(AM$5:AM$14,"L",AL$5:AL$14,AL18))*Paramétrage!$C$35 -> 8 | AN18: =SUMIF(AL$5:AN$14,AL18,AN$5:AN$14)+SUMIF(AP$5:AR$14,AL18,AR$5:AR$14) -> -12 | AO18: 3 | AP18: =AL18 -> Les inconnus B
E19: =E7 -> Les Tengos A | F19: =(COUNTIFS(J$5:J$14,"w",I$5:I$14,E19)+COUNTIFS(F$5:F$14,"w",E$5:E$14,E19))*Paramétrage!$C$33+(COUNTIFS(J$5:J$14,"N",I$5:I$14,E19)+COUNTIFS(F$5:F$14,"N",E$5:E$14,E19))*Paramétrage!$C$34+(COUNTIFS(J$5:J$14,"L",I$5:I$14,E19)+COUNTIFS(F$5:F$14,"L",E$5:E$14,E19))*Paramétrage!$C$35 -> 8 | G19: =SUMIF(E$5:G$14,E19,G$5:G$14)+SUMIF(I$5:K$14,E19,K$5:K$14) -> 8 | H19: 2 | I19: =E19 -> Les Tengos A | P19: =P7 -> Les Fisbrmzv A | Q19: =(COUNTIFS(U$5:U$14,"w",T$5:T$14,P19)+COUNTIFS(Q$5:Q$14,"w",P$5:P$14,P19))*Paramétrage!$C$33+(COUNTIFS(U$5:U$14,"N",T$5:T$14,P19)+COUNTIFS(Q$5:Q$14,"N",P$5:P$14,P19))*Paramétrage!$C$34+(COUNTIFS(U$5:U$14,"L",T$5:T$14,P19)+COUNTIFS(Q$5:Q$14,"L",P$5:P$14,P19))*Paramétrage!$C$35 -> 10 | R19: =SUMIF(P$5:R$14,P19,R$5:R$14)+SUMIF(T$5:V$14,P19,V$5:V$14) -> 30 | S19: 2 | T19: =P19 -> Les Fisbrmzv A | AA19: =AA7 -> Spyk'up B | AB19: =(COUNTIFS(AF$5:AF$14,"w",AE$5:AE$14,AA19)+COUNTIFS(AB$5:AB$14,"w",AA$5:AA$14,AA19))*Paramétrage!$C$33+(COUNTIFS(AF$5:AF$14,"N",AE$5:AE$14,AA19)+COUNTIFS(AB$5:AB$14,"N",AA$5:AA$14,AA19))*Paramétrage!$C$34+(COUNTIFS(AF$5:AF$14,"L",AE$5:AE$14,AA19)+COUNTIFS(AB$5:AB$14,"L",AA$5:AA$14,AA19))*Paramétrage!$C$35 -> 7 | AC19: =SUMIF(AA$5:AC$14,AA19,AC$5:AC$14)+SUMIF(AE$5:AG$14,AA19,AG$5:AG$14) -> -18 | AD19: 3 | AE19: =AA19 -> Spyk'up B | AL19: =AL7 -> Facilement B | AM19: =(COUNTIFS(AQ$5:AQ$14,"w",AP$5:AP$14,AL19)+COUNTIFS(AM$5:AM$14,"w",AL$5:AL$14,AL19))*Paramétrage!$C$33+(COUNTIFS(AQ$5:AQ$14,"N",AP$5:AP$14,AL19)+COUNTIFS(AM$5:AM$14,"N",AL$5:AL$14,AL19))*Paramétrage!$C$34+(COUNTIFS(AQ$5:AQ$14,"L",AP$5:AP$14,AL19)+COUNTIFS(AM$5:AM$14,"L",AL$5:AL$14,AL19))*Paramétrage!$C$35 -> 4 | AN19: =SUMIF(AL$5:AN$14,AL19,AN$5:AN$14)+SUMIF(AP$5:AR$14,AL19,AR$5:AR$14) -> -53 | AO19: 5 | AP19: =AL19 -> Facilement B
E20: =I5 -> VitaMines A | F20: =(COUNTIFS(J$5:J$14,"w",I$5:I$14,E20)+COUNTIFS(F$5:F$14,"w",E$5:E$14,E20))*Paramétrage!$C$33+(COUNTIFS(J$5:J$14,"N",I$5:I$14,E20)+COUNTIFS(F$5:F$14,"N",E$5:E$14,E20))*Paramétrage!$C$34+(COUNTIFS(J$5:J$14,"L",I$5:I$14,E20)+COUNTIFS(F$5:F$14,"L",E$5:E$14,E20))*Paramétrage!$C$35 -> 8 | G20: =SUMIF(E$5:G$14,E20,G$5:G$14)+SUMIF(I$5:K$14,E20,K$5:K$14) -> -12 | H20: 4 | I20: =E20 -> VitaMines A | P20: =T5 -> Les inconnus A | Q20: =(COUNTIFS(U$5:U$14,"w",T$5:T$14,P20)+COUNTIFS(Q$5:Q$14,"w",P$5:P$14,P20))*Paramétrage!$C$33+(COUNTIFS(U$5:U$14,"N",T$5:T$14,P20)+COUNTIFS(Q$5:Q$14,"N",P$5:P$14,P20))*Paramétrage!$C$34+(COUNTIFS(U$5:U$14,"L",T$5:T$14,P20)+COUNTIFS(Q$5:Q$14,"L",P$5:P$14,P20))*Paramétrage!$C$35 -> 4 | R20: =SUMIF(P$5:R$14,P20,R$5:R$14)+SUMIF(T$5:V$14,P20,V$5:V$14) -> -44 | S20: 5 | T20: =P20 -> Les inconnus A | AA20: =AE5 -> Akatsuki B | AB20: =(COUNTIFS(AF$5:AF$14,"w",AE$5:AE$14,AA20)+COUNTIFS(AB$5:AB$14,"w",AA$5:AA$14,AA20))*Paramétrage!$C$33+(COUNTIFS(AF$5:AF$14,"N",AE$5:AE$14,AA20)+COUNTIFS(AB$5:AB$14,"N",AA$5:AA$14,AA20))*Paramétrage!$C$34+(COUNTIFS(AF$5:AF$14,"L",AE$5:AE$14,AA20)+COUNTIFS(AB$5:AB$14,"L",AA$5:AA$14,AA20))*Paramétrage!$C$35 -> 7 | AC20: =SUMIF(AA$5:AC$14,AA20,AC$5:AC$14)+SUMIF(AE$5:AG$14,AA20,AG$5:AG$14) -> -29 | AD20: 4 | AE20: =AA20 -> Akatsuki B | AL20: =AP5 -> Bandanateam B | AM20: =(COUNTIFS(AQ$5:AQ$14,"w",AP$5:AP$14,AL20)+COUNTIFS(AM$5:AM$14,"w",AL$5:AL$14,AL20))*Paramétrage!$C$33+(COUNTIFS(AQ$5:AQ$14,"N",AP$5:AP$14,AL20)+COUNTIFS(AM$5:AM$14,"N",AL$5:AL$14,AL20))*Paramétrage!$C$34+(COUNTIFS(AQ$5:AQ$14,"L",AP$5:AP$14,AL20)+COUNTIFS(AM$5:AM$14,"L",AL$5:AL$14,AL20))*Paramétrage!$C$35 -> 10 | AN20: =SUMIF(AL$5:AN$14,AL20,AN$5:AN$14)+SUMIF(AP$5:AR$14,AL20,AR$5:AR$14) -> 33 | AO20: 2 | AP20: =AL20 -> Bandanateam B
E21: =I6 -> Spyk'up A | F21: =(COUNTIFS(J$5:J$14,"w",I$5:I$14,E21)+COUNTIFS(F$5:F$14,"w",E$5:E$14,E21))*Paramétrage!$C$33+(COUNTIFS(J$5:J$14,"N",I$5:I$14,E21)+COUNTIFS(F$5:F$14,"N",E$5:E$14,E21))*Paramétrage!$C$34+(COUNTIFS(J$5:J$14,"L",I$5:I$14,E21)+COUNTIFS(F$5:F$14,"L",E$5:E$14,E21))*Paramétrage!$C$35 -> 8 | G21: =SUMIF(E$5:G$14,E21,G$5:G$14)+SUMIF(I$5:K$14,E21,K$5:K$14) -> -4 | H21: 3 | I21: =E21 -> Spyk'up A | P21: =T6 -> Facilement A | Q21: =(COUNTIFS(U$5:U$14,"w",T$5:T$14,P21)+COUNTIFS(Q$5:Q$14,"w",P$5:P$14,P21))*Paramétrage!$C$33+(COUNTIFS(U$5:U$14,"N",T$5:T$14,P21)+COUNTIFS(Q$5:Q$14,"N",P$5:P$14,P21))*Paramétrage!$C$34+(COUNTIFS(U$5:U$14,"L",T$5:T$14,P21)+COUNTIFS(Q$5:Q$14,"L",P$5:P$14,P21))*Paramétrage!$C$35 -> 6 | R21: =SUMIF(P$5:R$14,P21,R$5:R$14)+SUMIF(T$5:V$14,P21,V$5:V$14) -> -20 | S21: 4 | T21: =P21 -> Facilement A | AA21: =AE6 -> Roue Libre B | AB21: =(COUNTIFS(AF$5:AF$14,"w",AE$5:AE$14,AA21)+COUNTIFS(AB$5:AB$14,"w",AA$5:AA$14,AA21))*Paramétrage!$C$33+(COUNTIFS(AF$5:AF$14,"N",AE$5:AE$14,AA21)+COUNTIFS(AB$5:AB$14,"N",AA$5:AA$14,AA21))*Paramétrage!$C$34+(COUNTIFS(AF$5:AF$14,"L",AE$5:AE$14,AA21)+COUNTIFS(AB$5:AB$14,"L",AA$5:AA$14,AA21))*Paramétrage!$C$35 -> 4 | AC21: =SUMIF(AA$5:AC$14,AA21,AC$5:AC$14)+SUMIF(AE$5:AG$14,AA21,AG$5:AG$14) -> -54 | AD21: 5 | AE21: =AA21 -> Roue Libre B | AL21: =AP6 -> Floyouyat B | AM21: =(COUNTIFS(AQ$5:AQ$14,"w",AP$5:AP$14,AL21)+COUNTIFS(AM$5:AM$14,"w",AL$5:AL$14,AL21))*Paramétrage!$C$33+(COUNTIFS(AQ$5:AQ$14,"N",AP$5:AP$14,AL21)+COUNTIFS(AM$5:AM$14,"N",AL$5:AL$14,AL21))*Paramétrage!$C$34+(COUNTIFS(AQ$5:AQ$14,"L",AP$5:AP$14,AL21)+COUNTIFS(AM$5:AM$14,"L",AL$5:AL$14,AL21))*Paramétrage!$C$35 -> 6 | AN21: =SUMIF(AL$5:AN$14,AL21,AN$5:AN$14)+SUMIF(AP$5:AR$14,AL21,AR$5:AR$14) -> -8 | AO21: 4 | AP21: =AL21 -> Floyouyat B
E33: POULE E | P33: POULE F | AA33: POULE G | AL33: POULE H
E34: =Paramétrage!$F$9 -> Bandanateam A | I34: =Paramétrage!$G$12 -> Facilement B
E35: Nom équipe | F35: W/L | G35: Dif. | I35: Nom équipe | J35: W/L | K35: Dif. | P35: Nom équipe | Q35: W/L | R35: Dif. | T35: Nom équipe | U35: W/L | V35: Dif. | AA35: Nom équipe | AB35: W/L | AC35: Dif. | AE35: Nom équipe | AF35: W/L | AG35: Dif. | AL35: Nom équipe | AM35: W/L | AN35: Dif. | AP35: Nom équipe | AQ35: W/L | AR35: Dif.
B36: T1 | C36: =C15+Paramétrage!$D$26+Paramétrage!$D$27 -> 0.47222222 | E36: =Paramétrage!$F$13 -> Waral A | F36: W | G36: 6 | H36: VS | I36: =Paramétrage!$F$16 -> Téléteubiloutes A | J36: =IF(F36="W","L",IF(F36="L","W","N")) -> L | K36: =-G36 -> -6 | M36: T2 | N36: =C36 -> 0.47222222 | P36: =Paramétrage!$F$18 -> Pooldeads A | Q36: L | R36: -1 | S36: VS | T36: =Paramétrage!$F$21 -> Les torcheurs A | U36: =IF(Q36="W","L",IF(Q36="L","W","N")) -> W | V36: =-R36 -> 1 | X36: T3 | Y36: =C36 -> 0.47222222 | AA36: =Paramétrage!$G$15 -> Gett'up B | AB36: L | AC36: -15 | AD36: VS | AE36: =Paramétrage!$G$14 -> Bayer les verres culs sec B | AF36: =IF(AB36="W","L",IF(AB36="L","W","N")) -> W | AG36: =-AC36 -> 15 | AI36: T4 | AJ36: =C36 -> 0.47222222 | AL36: =Paramétrage!$G$20 -> Blockudoku B | AM36: W | AN36: 13 | AO36: VS | AP36: =Paramétrage!$G$19 -> Lazio de Rhum B | AQ36: =IF(AM36="W","L",IF(AM36="L","W","N")) -> L | AR36: =-AN36 -> -13
B37: T1 | C37: =C36+Paramétrage!$D$26+Paramétrage!$D$27 -> 0.48020833 | E37: =Paramétrage!$F$14 -> Bayer les verres culs sec A | F37: L | G37: -17 | H37: VS | I37: =Paramétrage!$F$17 -> Celtics Grave Gros A | J37: =IF(F37="W","L",IF(F37="L","W","N")) -> W | K37: =-G37 -> 17 | M37: T2 | N37: =C37 -> 0.48020833 | P37: =Paramétrage!$F$19 -> Lazio de Rhum A | Q37: L | R37: -19 | S37: VS | T37: =Paramétrage!$F$22 -> L'aile ou la cuite A | U37: =IF(Q37="W","L",IF(Q37="L","W","N")) -> W | V37: =-R37 -> 19 | X37: T3 | Y37: =C37 -> 0.48020833 | AA37: =Paramétrage!$G$16 -> Téléteubiloutes B | AB37: L | AC37: -15 | AD37: VS | AE37: =Paramétrage!$G$13 -> Waral B | AF37: =IF(AB37="W","L",IF(AB37="L","W","N")) -> W | AG37: =-AC37 -> 15 | AI37: T4 | AJ37: =C37 -> 0.48020833 | AL37: =Paramétrage!$G$21 -> Les torcheurs B | AM37: L | AN37: -1 | AO37: VS | AP37: =Paramétrage!$G$18 -> Pooldeads B | AQ37: =IF(AM37="W","L",IF(AM37="L","W","N")) -> W | AR37: =-AN37 -> 1
B38: T1 | C38: =C37+Paramétrage!$D$26+Paramétrage!$D$27 -> 0.48819444 | E38: =Paramétrage!$F$15 -> Gett'up A | F38: L | G38: -14 | H38: VS | I38: =+E36 -> Waral A | J38: =IF(F38="W","L",IF(F38="L","W","N")) -> W | K38: =-G38 -> 14 | M38: T2 | N38: =C38 -> 0.48819444 | P38: =Paramétrage!$F$20 -> Blockudoku A | Q38: L | R38: -18 | S38: VS | T38: =+P36 -> Pooldeads A | U38: =IF(Q38="W","L",IF(Q38="L","W","N")) -> W | V38: =-R38 -> 18 | X38: T3 | Y38: =C38 -> 0.48819444 | AA38: =Paramétrage!$G$17 -> Celtics Grave Gros B | AB38: W | AC38: 18 | AD38: VS | AE38: =+AA36 -> Gett'up B | AF38: =IF(AB38="W","L",IF(AB38="L","W","N")) -> L | AG38: =-AC38 -> -18 | AI38: T4 | AJ38: =C38 -> 0.48819444 | AL38: =Paramétrage!$G$22 -> L'aile ou la cuite B | AM38: L | AN38: -6 | AO38: VS | AP38: =+AL36 -> Blockudoku B | AQ38: =IF(AM38="W","L",IF(AM38="L","W","N")) -> W | AR38: =-AN38 -> 6
B39: T1 | C39: =C38+Paramétrage!$D$26+Paramétrage!$D$27 -> 0.49618056 | E39: =+I36 -> Téléteubiloutes A | F39: W | G39: 9 | H39: VS | I39: =E37 -> Bayer les verres culs sec A | J39: =IF(F39="W","L",IF(F39="L","W","N")) -> L | K39: =-G39 -> -9 | M39: T2 | N39: =C39 -> 0.49618056 | P39: =+T36 -> Les torcheurs A | Q39: W | R39: 13 | S39: VS | T39: =P37 -> Lazio de Rhum A | U39: =IF(Q39="W","L",IF(Q39="L","W","N")) -> L | V39: =-R39 -> -13 | X39: T3 | Y39: =C39 -> 0.49618056 | AA39: =+AE36 -> Bayer les verres culs sec B | AB39: W | AC39: 7 | AD39: VS | AE39: =AA37 -> Téléteubiloutes B | AF39: =IF(AB39="W","L",IF(AB39="L","W","N")) -> L | AG39: =-AC39 -> -7 | AI39: T4 | AJ39: =C39 -> 0.49618056 | AL39: =+AP36 -> Lazio de Rhum B | AM39: L | AN39: -8 | AO39: VS | AP39: =AL37 -> Les torcheurs B | AQ39: =IF(AM39="W","L",IF(AM39="L","W","N")) -> W | AR39: =-AN39 -> 8
B40: T1 | C40: =C39+Paramétrage!$D$26+Paramétrage!$D$27 -> 0.50416667 | E40: =I37 -> Celtics Grave Gros A | F40: W | G40: 16 | H40: VS | I40: =E38 -> Gett'up A | J40: =IF(F40="W","L",IF(F40="L","W","N")) -> L | K40: =-G40 -> -16 | M40: T2 | N40: =C40 -> 0.50416667 | P40: =T37 -> L'aile ou la cuite A | Q40: W | R40: 18 | S40: VS | T40: =P38 -> Blockudoku A | U40: =IF(Q40="W","L",IF(Q40="L","W","N")) -> L | V40: =-R40 -> -18 | X40: T1 | Y40: =C46 -> 0.55208333 | AA40: =AE37 -> Waral B | AB40: W | AC40: 5 | AD40: VS | AE40: =AA38 -> Celtics Grave Gros B | AF40: =IF(AB40="W","L",IF(AB40="L","W","N")) -> L | AG40: =-AC40 -> -5 | AI40: T2 | AJ40: =Y40 -> 0.55208333 | AL40: =AP37 -> Pooldeads B | AM40: L | AN40: -7 | AO40: VS | AP40: =AL38 -> L'aile ou la cuite B | AQ40: =IF(AM40="W","L",IF(AM40="L","W","N")) -> W | AR40: =-AN40 -> 7
B41: T1 | C41: =C40+Paramétrage!$D$26+Paramétrage!$D$27 -> 0.51215278 | E41: =E36 -> Waral A | F41: W | G41: 10 | H41: VS | I41: =E37 -> Bayer les verres culs sec A | J41: =IF(F41="W","L",IF(F41="L","W","N")) -> L | K41: =-G41 -> -10 | M41: T2 | N41: =C41 -> 0.51215278 | P41: =P36 -> Pooldeads A | Q41: W | R41: 15 | S41: VS | T41: =P37 -> Lazio de Rhum A | U41: =IF(Q41="W","L",IF(Q41="L","W","N")) -> L | V41: =-R41 -> -15 | X41: T1 | Y41: =Y40+Paramétrage!$D$26+Paramétrage!$D$27 -> 0.56006944 | AA41: =AA36 -> Gett'up B | AB41: L | AC41: -7 | AD41: VS | AE41: =AA37 -> Téléteubiloutes B | AF41: =IF(AB41="W","L",IF(AB41="L","W","N")) -> W | AG41: =-AC41 -> 7 | AI41: T2 | AJ41: =AJ40+Paramétrage!$D$26+Paramétrage!$D$27 -> 0.56006944 | AL41: =AL36 -> Blockudoku B | AM41: W | AN41: 10 | AO41: VS | AP41: =AL37 -> Les torcheurs B | AQ41: =IF(AM41="W","L",IF(AM41="L","W","N")) -> L | AR41: =-AN41 -> -10
B42: T1 | C42: =C41+Paramétrage!$D$26+Paramétrage!$D$27 -> 0.52013889 | E42: =I36 -> Téléteubiloutes A | F42: L | G42: -1 | H42: VS | I42: =I37 -> Celtics Grave Gros A | J42: =IF(F42="W","L",IF(F42="L","W","N")) -> W | K42: =-G42 -> 1 | M42: T2 | N42: =C42 -> 0.52013889 | P42: =T36 -> Les torcheurs A | Q42: L | R42: -8 | S42: VS | T42: =T37 -> L'aile ou la cuite A | U42: =IF(Q42="W","L",IF(Q42="L","W","N")) -> W | V42: =-R42 -> 8 | X42: T1 | Y42: =Y41+Paramétrage!$D$26+Paramétrage!$D$27 -> 0.56805556 | AA42: =AE36 -> Bayer les verres culs sec B | AB42: n | AC42: 0 | AD42: VS | AE42: =AE37 -> Waral B | AF42: =IF(AB42="W","L",IF(AB42="L","W","N")) -> N | AG42: =-AC42 -> 0 | AI42: T2 | AJ42: =AJ41+Paramétrage!$D$26+Paramétrage!$D$27 -> 0.56805556 | AL42: =AP36 -> Lazio de Rhum B | AM42: W | AN42: 10 | AO42: VS | AP42: =AP37 -> Pooldeads B | AQ42: =IF(AM42="W","L",IF(AM42="L","W","N")) -> L | AR42: =-AN42 -> -10
