Workbook
Name ARTICLE: COMMANDE[ARTICLE]
Name BUDGET: #REF!
Name DATE_DE_PRODUCTION: COMMANDE[DATE DE PRODUCTION]
Name DESIGNATION: COMMANDE[DESIGNATION]
Name FOURCHETTE: [1]Feuil2!$E$4:$E$21
Name FOURCHETTE: #REF!
Name FOURNISSEUR: COMMANDE[FOURNISSEUR]
Name PE19000004639: 'TB PREVISION'!$B$3:$T$8
Name PHOTO: INDIRECT([2]SHOPPER!$B$42)
Name PRIX: #REF!
Name REF: [1]Feuil2!$D$4:$D$21
Name REF: #REF!
Name REFERENT: COMMANDE[REFERENT]
Name VOLUME_PROD: COMMANDE[VOLUME PROD]

Sheet ACCUEIL
C3: REFERENT | D3: ARTICLE | E3: DESIGNATION | F3: VOLUME PROD | G3: DATE DE PRODUCTION | H3: FOURNISSEUR | I3: BUDGET
C4: LUCIE | D4: PE19000004640 | F4: 100 | G4: 45383 | H4: ANVIS
D5: PE19000004640 | F5: 101
D6: PE20000004797 | F6: 600
D7: PE19000004640 | F7: 1001
D8: PE19000004640 | F8: 1900
D9: PE19000004640 | F9: 2500
D10: PE19000004640 | F10: 2500
D11: PE19000004639 | F11: 99
D12: PE19000004639 | F12: 101
D13: PE19000004639 | F13: 5000

Sheet TB PREVISION
A2: BOX_LIQUIDE
A3: ARTICLE | B3: MOIS | C3: 45292 | D3: 45323 | E3: 45352 | F3: 45383 | G3: 45413 | H3: 45444 | I3: 45474 | J3: 45505 | K3: 45536 | L3: 45566 | M3: 45597 | N3: 45627 | O3: 45658 | P3: 45689 | Q3: 45717 | R3: 45748 | S3: 45778 | T3: 45809
A4: BOX_LIQUIDE | B4: Prévision | C4: 200 | D4: 300 | E4: 300 | F4: 300 | G4: 300 | H4: 300 | I4: 300 | U4: BOX_LIQUIDE1
A5: BOX_LIQUIDE | B5: Commandes réelles | C5: 500 | D5: 200 | E5: 10000000 | U5: BOX_LIQUIDE2
A6: BOX_LIQUIDE | B6: Production | C6: =SUMIFS(ACCUEIL!$H:$H, ACCUEIL!$I:$I, ">="&DATE(YEAR('TB PREVISION'!C3), MONTH('TB PREVISION'!C3)-1, 1), ACCUEIL!$I:$I, "<"&DATE(YEAR('TB PREVISION'!C3), MONTH('TB PREVISION'!C3), 1),ACCUEIL!$G:$G,'TB PREVISION'!$A$6) -> 0 | D6: =SUMIFS(ACCUEIL!$H:$H, ACCUEIL!$I:$I, ">="&DATE(YEAR('TB PREVISION'!D3), MONTH('TB PREVISION'!D3)-1, 1), ACCUEIL!$I:$I, "<"&DATE(YEAR('TB PREVISION'!D3), MONTH('TB PREVISION'!D3), 1),ACCUEIL!$G:$G,'TB PREVISION'!$A$6) -> 0 | E6: =SUMIFS(ACCUEIL!$H:$H, ACCUEIL!$I:$I, ">="&DATE(YEAR('TB PREVISION'!E3), MONTH('TB PREVISION'!E3)-1, 1), ACCUEIL!$I:$I, "<"&DATE(YEAR('TB PREVISION'!E3), MONTH('TB PREVISION'!E3), 1),ACCUEIL!$G:$G,'TB PREVISION'!$A$6) -> 0 | F6: =SUMIFS(ACCUEIL!$H:$H, ACCUEIL!$I:$I, ">="&DATE(YEAR('TB PREVISION'!F3), MONTH('TB PREVISION'!F3)-1, 1), ACCUEIL!$I:$I, "<"&DATE(YEAR('TB PREVISION'!F3), MONTH('TB PREVISION'!F3), 1),ACCUEIL!$G:$G,'TB PREVISION'!$A$6) -> 0 | G6: =SUMIFS(ACCUEIL!$H:$H, ACCUEIL!$I:$I, ">="&DATE(YEAR('TB PREVISION'!G3), MONTH('TB PREVISION'!G3)-1, 1), ACCUEIL!$I:$I, "<"&DATE(YEAR('TB PREVISION'!G3), MONTH('TB PREVISION'!G3), 1),ACCUEIL!$G:$G,'TB PREVISION'!$A$6) -> 0 | H6: =SUMIFS(ACCUEIL!$H:$H, ACCUEIL!$I:$I, ">="&DATE(YEAR('TB PREVISION'!H3), MONTH('TB PREVISION'!H3)-1, 1), ACCUEIL!$I:$I, "<"&DATE(YEAR('TB PREVISION'!H3), MONTH('TB PREVISION'!H3), 1),ACCUEIL!$G:$G,'TB PREVISION'!$A$6) -> 0 | I6: =SUMIFS(ACCUEIL!$H:$H, ACCUEIL!$I:$I, ">="&DATE(YEAR('TB PREVISION'!I3), MONTH('TB PREVISION'!I3)-1, 1), ACCUEIL!$I:$I, "<"&DATE(YEAR('TB PREVISION'!I3), MONTH('TB PREVISION'!I3), 1),ACCUEIL!$G:$G,'TB PREVISION'!$A$6) -> 0 | J6: =SUMIFS(ACCUEIL!$H:$H, ACCUEIL!$I:$I, ">="&DATE(YEAR('TB PREVISION'!J3), MONTH('TB PREVISION'!J3)-1, 1), ACCUEIL!$I:$I, "<"&DATE(YEAR('TB PREVISION'!J3), MONTH('TB PREVISION'!J3), 1),ACCUEIL!$G:$G,'TB PREVISION'!$A$6) -> 0 | K6: =SUMIFS([2]ACCUEIL!$H:$H, [2]ACCUEIL!$I:$I, ">="&DATE(YEAR('TB PREVISION'!K3), MONTH('TB PREVISION'!K3)-1, 1), [2]ACCUEIL!$I:$I, "<"&DATE(YEAR('TB PREVISION'!K3), MONTH('TB PREVISION'!K3), 1),[2]ACCUEIL!$G:$G,'TB PREVISION'!$A$6) -> 0 | L6: =SUMIFS([2]ACCUEIL!$H:$H, [2]ACCUEIL!$I:$I, ">="&DATE(YEAR('TB PREVISION'!L3), MONTH('TB PREVISION'!L3)-1, 1), [2]ACCUEIL!$I:$I, "<"&DATE(YEAR('TB PREVISION'!L3), MONTH('TB PREVISION'!L3), 1),[2]ACCUEIL!$G:$G,'TB PREVISION'!$A$6) -> 0 | M6: =SUMIFS([2]ACCUEIL!$H:$H, [2]ACCUEIL!$I:$I, ">="&DATE(YEAR('TB PREVISION'!M3), MONTH('TB PREVISION'!M3)-1, 1), [2]ACCUEIL!$I:$I, "<"&DATE(YEAR('TB PREVISION'!M3), MONTH('TB PREVISION'!M3), 1),[2]ACCUEIL!$G:$G,'TB PREVISION'!$A$6) -> 0 | N6: =SUMIFS([2]ACCUEIL!$H:$H, [2]ACCUEIL!$I:$I, ">="&DATE(YEAR('TB PREVISION'!N3), MONTH('TB PREVISION'!N3)-1, 1), [2]ACCUEIL!$I:$I, "<"&DATE(YEAR('TB PREVISION'!N3), MONTH('TB PREVISION'!N3), 1),[2]ACCUEIL!$G:$G,'TB PREVISION'!$A$6) -> 0 | O6: =SUMIFS([2]ACCUEIL!$H:$H, [2]ACCUEIL!$I:$I, ">="&DATE(YEAR('TB PREVISION'!O3), MONTH('TB PREVISION'!O3)-1, 1), [2]ACCUEIL!$I:$I, "<"&DATE(YEAR('TB PREVISION'!O3), MONTH('TB PREVISION'!O3), 1),[2]ACCUEIL!$G:$G,'TB PREVISION'!$A$6) -> 0 | P6: =SUMIFS([2]ACCUEIL!$H:$H, [2]ACCUEIL!$I:$I, ">="&DATE(YEAR('TB PREVISION'!P3), MONTH('TB PREVISION'!P3)-1, 1), [2]ACCUEIL!$I:$I, "<"&DATE(YEAR('TB PREVISION'!P3), MONTH('TB PREVISION'!P3), 1),[2]ACCUEIL!$G:$G,'TB PREVISION'!$A$6) -> 0 | Q6: =SUMIFS([2]ACCUEIL!$H:$H, [2]ACCUEIL!$I:$I, ">="&DATE(YEAR('TB PREVISION'!Q3), MONTH('TB PREVISION'!Q3)-1, 1), [2]ACCUEIL!$I:$I, "<"&DATE(YEAR('TB PREVISION'!Q3), MONTH('TB PREVISION'!Q3), 1),[2]ACCUEIL!$G:$G,'TB PREVISION'!$A$6) -> 0 | R6: =SUMIFS([2]ACCUEIL!$H:$H, [2]ACCUEIL!$I:$I, ">="&DATE(YEAR('TB PREVISION'!R3), MONTH('TB PREVISION'!R3)-1, 1), [2]ACCUEIL!$I:$I, "<"&DATE(YEAR('TB PREVISION'!R3), MONTH('TB PREVISION'!R3), 1),[2]ACCUEIL!$G:$G,'TB PREVISION'!$A$6) -> 0 | ... T6: =SUMIFS([2]ACCUEIL!$H:$H, [2]ACCUEIL!$I:$I, ">="&DATE(YEAR('TB PREVISION'!T3), MONTH('TB PREVISION'!T3)-1, 1), [2]ACCUEIL!$I:$I, "<"&DATE(YEAR('TB PREVISION'!T3), MONTH('TB PREVISION'!T3), 1),[2]ACCUEIL!$G:$G,'TB PREVISION'!$A$6) -> 0 | U6: BOX_LIQUIDE3
A7: BOX_LIQUIDE | B7: stock réel | C7: 3500 | D7: =IF(D5<>0,C7-D5+D6,"") -> 3300 | E7: =IF(E5<>0,D7-E5+E6,"") -> -9996700 | F7: =IF(F5<>0,E7-F5+F6,"") | G7: =IF(G5<>0,F7-G5+G6,"") | H7: =IF(H5<>0,G7-H5+H6,"") | I7: =IF(I5<>0,H7-I5+I6,"") | J7: =IF(J5<>0,I7-J5+J6,"") | K7: =IF(K5<>0,J7-K5+K6,"") | ... M7: =IF(M5<>0,L7-M5+M6,"") | N7: =IF(N4<>0,M7-N4+N6,"") | O7: =IF(O5<>0,N7-O5+O6,"") | P7: =IF(P5<>0,O7-P5+P6,"") | Q7: =IF(Q5<>0,P7-Q5+Q6,"") | R7: =IF(R5<>0,Q7-R5+R6,"") | S7: =IF(S5<>0,R7-S5+S6,"") | T7: =IF(T5<>0,S7-T5+T6,"") | U7: BOX_LIQUIDE4
A8: BOX_LIQUIDE | B8: stock proj | C8: 3500 | D8: =IF(D7="",C8-D4+D6,D7) -> 3300 | E8: =IF(E7="",D8-E4+E6,E7) -> -9996700 | F8: =IF(F7="",E8-F4+F6,F7) -> -9997000 | G8: =IF(G7="",F8-G4+G6,G7) -> -9997300 | H8: =IF(H7="",G8-H4+H6,H7) -> -9997600 | I8: =IF(I7="",H8-I4+I6,I7) -> -9997900 | J8: =IF(J7="",I8-J4+J6,J7) -> -9997900 | K8: =IF(K7="",J8-K4+K6,K7) -> -9997900 | ... N8: =IF(N7="",M8-N4+N6,N7) -> -9997900 | O8: =IF(O7=0,N7-O4+O6,O7) | P8: =IF(P7=0,O7-P4+P6,P7) | Q8: =IF(Q7=0,P7-Q4+Q6,Q7) | R8: =IF(R7=0,Q7-R4+R6,R7) | S8: =IF(S7=0,R7-S4+S6,S7) | T8: =IF(T7=0,S7-T4+T6,T7) | U8: BOX_LIQUIDE5
A11: BOX_EPICERIE
A12: ARTICLE | B12: MOIS | C12: 45292 | D12: 45323 | E12: 45352 | F12: 45383 | G12: 45413 | H12: 45444 | I12: 45474 | J12: 45505 | K12: 45536 | L12: 45566 | M12: 45597 | N12: 45627 | O12: 45658 | P12: 45689 | Q12: 45717 | R12: 45748 | S12: 45778 | T12: 45809
A13: BOX_EPICERIE | B13: Prévision | C13: 100 | D13: 150 | E13: 150 | F13: 150 | G13: 150 | H13: 150 | I13: 150 | U13: BOX_EPICERIE1
A14: BOX_EPICERIE | B14: Commandes réelles | C14: 90 | D14: 120 | E14: 400 | F14: 1000 | U14: BOX_EPICERIE2
A15: BOX_EPICERIE | B15: Production | C15: =SUMIFS(ACCUEIL!$H:$H, ACCUEIL!$I:$I, ">="&DATE(YEAR('TB PREVISION'!C12), MONTH('TB PREVISION'!C12)-1, 1), ACCUEIL!$I:$I, "<"&DATE(YEAR('TB PREVISION'!C12), MONTH('TB PREVISION'!C12), 1),ACCUEIL!$G:$G,'TB PREVISION'!$A$15) -> 0 | D15: =SUMIFS(ACCUEIL!$H:$H, ACCUEIL!$I:$I, ">="&DATE(YEAR('TB PREVISION'!D12), MONTH('TB PREVISION'!D12)-1, 1), ACCUEIL!$I:$I, "<"&DATE(YEAR('TB PREVISION'!D12), MONTH('TB PREVISION'!D12), 1),ACCUEIL!$G:$G,'TB PREVISION'!$A$15) -> 0 | E15: =SUMIFS(ACCUEIL!$H:$H, ACCUEIL!$I:$I, ">="&DATE(YEAR('TB PREVISION'!E12), MONTH('TB PREVISION'!E12)-1, 1), ACCUEIL!$I:$I, "<"&DATE(YEAR('TB PREVISION'!E12), MONTH('TB PREVISION'!E12), 1),ACCUEIL!$G:$G,'TB PREVISION'!$A$15) -> 0 | F15: =SUMIFS(ACCUEIL!$H:$H, ACCUEIL!$I:$I, ">="&DATE(YEAR('TB PREVISION'!F12), MONTH('TB PREVISION'!F12)-1, 1), ACCUEIL!$I:$I, "<"&DATE(YEAR('TB PREVISION'!F12), MONTH('TB PREVISION'!F12), 1),ACCUEIL!$G:$G,'TB PREVISION'!$A$15) -> 0 | G15: =SUMIFS(ACCUEIL!$H:$H, ACCUEIL!$I:$I, ">="&DATE(YEAR('TB PREVISION'!G12), MONTH('TB PREVISION'!G12)-1, 1), ACCUEIL!$I:$I, "<"&DATE(YEAR('TB PREVISION'!G12), MONTH('TB PREVISION'!G12), 1),ACCUEIL!$G:$G,'TB PREVISION'!$A$15) -> 0 | H15: =SUMIFS(ACCUEIL!$H:$H, ACCUEIL!$I:$I, ">="&DATE(YEAR('TB PREVISION'!H12), MONTH('TB PREVISION'!H12)-1, 1), ACCUEIL!$I:$I, "<"&DATE(YEAR('TB PREVISION'!H12), MONTH('TB PREVISION'!H12), 1),ACCUEIL!$G:$G,'TB PREVISION'!$A$15) -> 0 | I15: =SUMIFS(ACCUEIL!$H:$H, ACCUEIL!$I:$I, ">="&DATE(YEAR('TB PREVISION'!I12), MONTH('TB PREVISION'!I12)-1, 1), ACCUEIL!$I:$I, "<"&DATE(YEAR('TB PREVISION'!I12), MONTH('TB PREVISION'!I12), 1),ACCUEIL!$G:$G,'TB PREVISION'!$A$15) -> 0 | J15: =SUMIFS(ACCUEIL!$H:$H, ACCUEIL!$I:$I, ">="&DATE(YEAR('TB PREVISION'!J12), MONTH('TB PREVISION'!J12)-1, 1), ACCUEIL!$I:$I, "<"&DATE(YEAR('TB PREVISION'!J12), MONTH('TB PREVISION'!J12), 1),ACCUEIL!$G:$G,'TB PREVISION'!$A$15) -> 0 | K15: =SUMIFS([2]ACCUEIL!$H:$H, [2]ACCUEIL!$I:$I, ">="&DATE(YEAR('TB PREVISION'!K12), MONTH('TB PREVISION'!K12)-1, 1), [2]ACCUEIL!$I:$I, "<"&DATE(YEAR('TB PREVISION'!K12), MONTH('TB PREVISION'!K12), 1),[2]ACCUEIL!$G:$G,'TB PREVISION'!$A$15) -> 0 | L15: =SUMIFS([2]ACCUEIL!$H:$H, [2]ACCUEIL!$I:$I, ">="&DATE(YEAR('TB PREVISION'!L12), MONTH('TB PREVISION'!L12)-1, 1), [2]ACCUEIL!$I:$I, "<"&DATE(YEAR('TB PREVISION'!L12), MONTH('TB PREVISION'!L12), 1),[2]ACCUEIL!$G:$G,'TB PREVISION'!$A$15) -> 0 | M15: =SUMIFS([2]ACCUEIL!$H:$H, [2]ACCUEIL!$I:$I, ">="&DATE(YEAR('TB PREVISION'!M12), MONTH('TB PREVISION'!M12)-1, 1), [2]ACCUEIL!$I:$I, "<"&DATE(YEAR('TB PREVISION'!M12), MONTH('TB PREVISION'!M12), 1),[2]ACCUEIL!$G:$G,'TB PREVISION'!$A$15) -> 0 | N15: =SUMIFS([2]ACCUEIL!$H:$H, [2]ACCUEIL!$I:$I, ">="&DATE(YEAR('TB PREVISION'!N12), MONTH('TB PREVISION'!N12)-1, 1), [2]ACCUEIL!$I:$I, "<"&DATE(YEAR('TB PREVISION'!N12), MONTH('TB PREVISION'!N12), 1),[2]ACCUEIL!$G:$G,'TB PREVISION'!$A$15) -> 0 | O15: =SUMIFS([2]ACCUEIL!$H:$H, [2]ACCUEIL!$I:$I, ">="&DATE(YEAR('TB PREVISION'!O12), MONTH('TB PREVISION'!O12)-1, 1), [2]ACCUEIL!$I:$I, "<"&DATE(YEAR('TB PREVISION'!O12), MONTH('TB PREVISION'!O12), 1),[2]ACCUEIL!$G:$G,'TB PREVISION'!$A$15) -> 0 | P15: =SUMIFS([2]ACCUEIL!$H:$H, [2]ACCUEIL!$I:$I, ">="&DATE(YEAR('TB PREVISION'!P12), MONTH('TB PREVISION'!P12)-1, 1), [2]ACCUEIL!$I:$I, "<"&DATE(YEAR('TB PREVISION'!P12), MONTH('TB PREVISION'!P12), 1),[2]ACCUEIL!$G:$G,'TB PREVISION'!$A$15) -> 0 | Q15: =SUMIFS([2]ACCUEIL!$H:$H, [2]ACCUEIL!$I:$I, ">="&DATE(YEAR('TB PREVISION'!Q12), MONTH('TB PREVISION'!Q12)-1, 1), [2]ACCUEIL!$I:$I, "<"&DATE(YEAR('TB PREVISION'!Q12), MONTH('TB PREVISION'!Q12), 1),[2]ACCUEIL!$G:$G,'TB PREVISION'!$A$15) -> 0 | R15: =SUMIFS([2]ACCUEIL!$H:$H, [2]ACCUEIL!$I:$I, ">="&DATE(YEAR('TB PREVISION'!R12), MONTH('TB PREVISION'!R12)-1, 1), [2]ACCUEIL!$I:$I, "<"&DATE(YEAR('TB PREVISION'!R12), MONTH('TB PREVISION'!R12), 1),[2]ACCUEIL!$G:$G,'TB PREVISION'!$A$15) -> 0 | ... T15: =SUMIFS([2]ACCUEIL!$H:$H, [2]ACCUEIL!$I:$I, ">="&DATE(YEAR('TB PREVISION'!T12), MONTH('TB PREVISION'!T12)-1, 1), [2]ACCUEIL!$I:$I, "<"&DATE(YEAR('TB PREVISION'!T12), MONTH('TB PREVISION'!T12), 1),[2]ACCUEIL!$G:$G,'TB PREVISION'!$A$15) -> 0 | U15: BOX_EPICERIE3
A16: BOX_EPICERIE | B16: stock réel | C16: 1910 | D16: =IF(D14<>0,C16-D14+D15,"") -> 1790 | E16: =IF(E14<>0,D16-E14+E15,"") -> 1390 | F16: =IF(F14<>0,E16-F14+F15,"") -> 390 | G16: =IF(G14<>0,F16-G14+G15,"") | H16: =IF(H14<>0,G16-H14+H15,"") | I16: =IF(I14<>0,H16-I14+I15,"") | J16: =IF(J14<>0,I16-J14+J15,"") | K16: =IF(K14<>0,J16-K14+K15,"") | ... N16: =IF(N14<>0,M16-N14+N15,"") | U16: BOX_EPICERIE4
A17: BOX_EPICERIE | B17: stock proj | C17: 1910 | D17: =IF(D16="",C17-D13+D15,D16) -> 1790 | E17: =IF(E16="",D17-E13+E15,E16) -> 1390 | F17: =IF(F16="",E17-F13+F15,F16) -> 390 | G17: =IF(G16="",F17-G13+G15,G16) -> 240 | H17: =IF(H16="",G17-H13+H15,H16) -> 90 | I17: =IF(I16="",H17-I13+I15,I16) -> -60 | J17: =IF(J16="",I17-J13+J15,J16) -> -60 | K17: =IF(K16="",J17-K13+K15,K16) -> -60 | ... N17: =IF(N16="",M17-N13+N15,N16) -> -60 | U17: BOX_EPICERIE5
A20: BOX_SLIM
A21: ARTICLE | B21: MOIS | C21: 45292 | D21: 45323 | E21: 45352 | F21: 45383 | G21: 45413 | H21: 45444 | I21: 45474 | J21: 45505 | K21: 45536 | L21: 45566 | M21: 45597 | N21: 45627 | O21: 45658 | P21: 45689 | Q21: 45717 | R21: 45748 | S21: 45778 | T21: 45809
A22: BOX_SLIM | B22: Prévision | F22: 150 | G22: 200 | H22: 460 | I22: 300 | J22: 100 | K22: 60 | L22: 50 | M22: 50 | N22: 30 | O22: 100 | P22: 100 | Q22: 100 | R22: 80 | S22: 80 | T22: 80 | U22: BOX_SLIM1
A23: BOX_SLIM | B23: Commandes réelles | U23: BOX_SLIM2
A24: BOX_SLIM | B24: Production | C24: =SUMIFS(ACCUEIL!$H:$H, ACCUEIL!$I:$I, ">="&DATE(YEAR('TB PREVISION'!C21), MONTH('TB PREVISION'!C21)-1, 1), ACCUEIL!$I:$I, "<"&DATE(YEAR('TB PREVISION'!C21), MONTH('TB PREVISION'!C21), 1),ACCUEIL!$G:$G,$A$24) -> 0 | D24: =SUMIFS(ACCUEIL!$H:$H, ACCUEIL!$I:$I, ">="&DATE(YEAR('TB PREVISION'!D21), MONTH('TB PREVISION'!D21)-1, 1), ACCUEIL!$I:$I, "<"&DATE(YEAR('TB PREVISION'!D21), MONTH('TB PREVISION'!D21), 1),ACCUEIL!$G:$G,$A$24) -> 0 | E24: =SUMIFS(ACCUEIL!$H:$H, ACCUEIL!$I:$I, ">="&DATE(YEAR('TB PREVISION'!E21), MONTH('TB PREVISION'!E21)-1, 1), ACCUEIL!$I:$I, "<"&DATE(YEAR('TB PREVISION'!E21), MONTH('TB PREVISION'!E21), 1),ACCUEIL!$G:$G,$A$24) -> 0 | F24: =SUMIFS(ACCUEIL!$H:$H, ACCUEIL!$I:$I, ">="&DATE(YEAR('TB PREVISION'!F21), MONTH('TB PREVISION'!F21)-1, 1), ACCUEIL!$I:$I, "<"&DATE(YEAR('TB PREVISION'!F21), MONTH('TB PREVISION'!F21), 1),ACCUEIL!$G:$G,$A$24) -> 0 | G24: =SUMIFS(ACCUEIL!$H:$H, ACCUEIL!$I:$I, ">="&DATE(YEAR('TB PREVISION'!G21), MONTH('TB PREVISION'!G21)-1, 1), ACCUEIL!$I:$I, "<"&DATE(YEAR('TB PREVISION'!G21), MONTH('TB PREVISION'!G21), 1),ACCUEIL!$G:$G,$A$24) -> 0 | H24: =SUMIFS(ACCUEIL!$H:$H, ACCUEIL!$I:$I, ">="&DATE(YEAR('TB PREVISION'!H21), MONTH('TB PREVISION'!H21)-1, 1), ACCUEIL!$I:$I, "<"&DATE(YEAR('TB PREVISION'!H21), MONTH('TB PREVISION'!H21), 1),ACCUEIL!$G:$G,$A$24) -> 0 | I24: =SUMIFS(ACCUEIL!$H:$H, ACCUEIL!$I:$I, ">="&DATE(YEAR('TB PREVISION'!I21), MONTH('TB PREVISION'!I21)-1, 1), ACCUEIL!$I:$I, "<"&DATE(YEAR('TB PREVISION'!I21), MONTH('TB PREVISION'!I21), 1),ACCUEIL!$G:$G,$A$24) -> 0 | J24: =SUMIFS(ACCUEIL!$H:$H, ACCUEIL!$I:$I, ">="&DATE(YEAR('TB PREVISION'!J21), MONTH('TB PREVISION'!J21)-1, 1), ACCUEIL!$I:$I, "<"&DATE(YEAR('TB PREVISION'!J21), MONTH('TB PREVISION'!J21), 1),ACCUEIL!$G:$G,$A$24) -> 0 | K24: =SUMIFS([2]ACCUEIL!$H:$H, [2]ACCUEIL!$I:$I, ">="&DATE(YEAR('TB PREVISION'!K21), MONTH('TB PREVISION'!K21)-1, 1), [2]ACCUEIL!$I:$I, "<"&DATE(YEAR('TB PREVISION'!K21), MONTH('TB PREVISION'!K21), 1),[2]ACCUEIL!$G:$G,$A$24) -> 0 | L24: =SUMIFS([2]ACCUEIL!$H:$H, [2]ACCUEIL!$I:$I, ">="&DATE(YEAR('TB PREVISION'!L21), MONTH('TB PREVISION'!L21)-1, 1), [2]ACCUEIL!$I:$I, "<"&DATE(YEAR('TB PREVISION'!L21), MONTH('TB PREVISION'!L21), 1),[2]ACCUEIL!$G:$G,$A$24) -> 0 | M24: =SUMIFS([2]ACCUEIL!$H:$H, [2]ACCUEIL!$I:$I, ">="&DATE(YEAR('TB PREVISION'!M21), MONTH('TB PREVISION'!M21)-1, 1), [2]ACCUEIL!$I:$I, "<"&DATE(YEAR('TB PREVISION'!M21), MONTH('TB PREVISION'!M21), 1),[2]ACCUEIL!$G:$G,$A$24) -> 0 | N24: =SUMIFS([2]ACCUEIL!$H:$H, [2]ACCUEIL!$I:$I, ">="&DATE(YEAR('TB PREVISION'!N21), MONTH('TB PREVISION'!N21)-1, 1), [2]ACCUEIL!$I:$I, "<"&DATE(YEAR('TB PREVISION'!N21), MONTH('TB PREVISION'!N21), 1),[2]ACCUEIL!$G:$G,$A$24) -> 0 | O24: =SUMIFS([2]ACCUEIL!$H:$H, [2]ACCUEIL!$I:$I, ">="&DATE(YEAR('TB PREVISION'!O21), MONTH('TB PREVISION'!O21)-1, 1), [2]ACCUEIL!$I:$I, "<"&DATE(YEAR('TB PREVISION'!O21), MONTH('TB PREVISION'!O21), 1),[2]ACCUEIL!$G:$G,$A$24) -> 0 | P24: =SUMIFS([2]ACCUEIL!$H:$H, [2]ACCUEIL!$I:$I, ">="&DATE(YEAR('TB PREVISION'!P21), MONTH('TB PREVISION'!P21)-1, 1), [2]ACCUEIL!$I:$I, "<"&DATE(YEAR('TB PREVISION'!P21), MONTH('TB PREVISION'!P21), 1),[2]ACCUEIL!$G:$G,$A$24) -> 0 | Q24: =SUMIFS([2]ACCUEIL!$H:$H, [2]ACCUEIL!$I:$I, ">="&DATE(YEAR('TB PREVISION'!Q21), MONTH('TB PREVISION'!Q21)-1, 1), [2]ACCUEIL!$I:$I, "<"&DATE(YEAR('TB PREVISION'!Q21), MONTH('TB PREVISION'!Q21), 1),[2]ACCUEIL!$G:$G,$A$24) -> 0 | R24: =SUMIFS([2]ACCUEIL!$H:$H, [2]ACCUEIL!$I:$I, ">="&DATE(YEAR('TB PREVISION'!R21), MONTH('TB PREVISION'!R21)-1, 1), [2]ACCUEIL!$I:$I, "<"&DATE(YEAR('TB PREVISION'!R21), MONTH('TB PREVISION'!R21), 1),[2]ACCUEIL!$G:$G,$A$24) -> 0 | ... T24: =SUMIFS([2]ACCUEIL!$H:$H, [2]ACCUEIL!$I:$I, ">="&DATE(YEAR('TB PREVISION'!T21), MONTH('TB PREVISION'!T21)-1, 1), [2]ACCUEIL!$I:$I, "<"&DATE(YEAR('TB PREVISION'!T21), MONTH('TB PREVISION'!T21), 1),[2]ACCUEIL!$G:$G,$A$24) -> 0 | U24: BOX_SLIM3
A25: BOX_SLIM | B25: stock réel | D25: =IF(D23<>0,C25-D23+D24,"") | E25: =IF(E23<>0,D25-E23+E24,"") | F25: =IF(F23<>0,E25-F23+F24,"") | G25: =IF(G23<>0,F25-G23+G24,"") | H25: =IF(H23<>0,G25-H23+H24,"") | I25: =IF(I23<>0,H25-I23+I24,"") | J25: =IF(J23<>0,I25-J23+J24,"") | K25: =IF(K23<>0,J25-K23+K24,"") | ... T25: =IF(T23<>0,S25-T23+T24,"") | U25: BOX_SLIM4
A26: BOX_SLIM | B26: stock proj | D26: =IF(D25="",C26-D22+D24,D25) -> 0 | E26: =IF(E25="",D26-E22+E24,E25) -> 0 | F26: =IF(F25="",E26-F22+F24,F25) -> -150 | G26: =IF(G25="",F26-G22+G24,G25) -> -350 | H26: =IF(H25="",G26-H22+H24,H25) -> -810 | I26: =IF(I25="",H26-I22+I24,I25) -> -1110 | J26: =IF(J25="",I26-J22+J24,J25) -> -1210 | K26: =IF(K25="",J26-K22+K24,K25) -> -1270 | ... T26: =IF(T25="",S26-T22+T24,T25) -> -1940 | U26: BOX_SLIM5

Sheet DATA
C3: DESIGNATION | D3: ARTICLE | E3: DIMENSIONS (LxlxH) | F3: POIDS (kg) | G3: FOURNISSEUR | H3: PA | I3: MATIERE | J3: QUOTA ANNUEL | K3: DELAI DE PROD (en J)
C4: BOX_EPICERIE | D4: PE19000004639 | E4: 97x80x9 | F4: 5 | G4: HH | H4: 10 | I4: CARTON | K4: 30
C5: BOX_LIQUIDE | D5: PE19000004640 | E5: 97x80x13 | F5: 6.2 | G5: HH | H5: 15 | I5: CARTON | K5: 30
C6: BOX_SLIM | D6: PE20000004797 | E6: 86x72x10 | F6: 3.5 | G6: HH | H6: 31.51 | I6: CARTON | J6: 1470 | K6: 30
C7: MEUBLE_ICI_LA_PAUSE | D7: PE20000005713 | E7: 124x63x257 | F7: 180 | G7: ANVIS | H7: 1075 | I7: VITRINES | K7: 49
C8: BAC_BOUCHERIE | D8: PE18000003253 | E8: 72x28x13 | F8: 1.1 | H8: 24.26 | I8: BOIS
C9: METAL_REGLABLE | D9: PE16000000478 | E9: 92x62x27 | F9: 8 | H9: 54.63 | I9: METAL
C10: DEVANT_DE_CAISSE | D10: PE20000005003 | E10: 140x30x60 | F10: 18 | H10: 187 | I10: BOIS
C11: PETIT_MEUBLE_BOIS | D11: PE21000000518 | E11: 79x57x31 | F11: 15.2 | H11: 214 | I11: CARTON
C12: GRAND_MEUBLE_BOIS | D12: PE21000000049 | E12: 103x80x30 | F12: 26.83 | H12: 240 | I12: CARTON
C13: TG_DORITOS | D13: PE21000000031 | E13: 134x51x235 | F13: 125 | H13: 890 | I13: VITRINES
C14: MINI_TG_DORITOS | D14: PE21000006007 | E14: 86x95x66 | F14: 50 | H14: 449.35 | I14: CARTON
C15: MEUBLE_SAUCE_DORITOS | D15: PE2300000056 | E15: 80x60x140 | F15: 47 | H15: 400 | I15: CARTON
C16: MEUBLE_PO1
C17: BOX_DORITOS | D17: PE2300000225 | E17: 95x80x13 | F17: 6.7 | H17: 44.73 | I17: CARTON | J17: 1000
C18: BOX_DEMI_PAL | D18: PE16000001030 | E18: 100x60x7 | F18: 3.13 | H18: 40 | I18: CARTON | J18: 1279
C19: MEUBLE_DEMI_PALETTE | D19: PE21000000456 | E19: 85x65x35 | F19: 23.6 | H19: 110 | I19: CARTON
C20: PLATEAUX_LAYS | D20: PE2300000095 | E20: 29x77x10 | F20: 6.36 | H20: 43.2 | I20: CARTON | J20: 628
C21: PLATEAUX_DORITOS | D21: PE2300000097 | E21: 78x29x10 | F21: 5.78 | H21: 43.2 | I21: CARTON | J21: 1030
C22: PLATEAUX_LIPTON | D22: PE2300001015 | E22: 39x33x21 | F22: 1.06 | H22: 127 | I22: CARTON | J22: 206
C23: PLATEAUX_LIPTON_PETILLANT
C24: PARASOL_LAYS | D24: PE19000004708 | E24: 120x15x15 | F24: 2.3 | H24: 23.12 | I24: PLASTIQUE | J24: 309
C25: PARASOL_DORITOS | D25: PE19000004709 | E25: 120x15x15 | F25: 2.25 | H25: 23.12 | I25: PLASTIQUE | J25: 210
C26: PARASOL_LIPTON | D26: PE19000004699 | E26: 120x10x10 | F26: 2.25 | H26: 20 | I26: PLASTIQUE | J26: 103
C27: PARASOL_PEPSI | D27: PE2300001047 | E27: 120x12x8 | F27: 1.88 | H27: 25 | I27: PLASTIQUE | J27: 555
C28: INTERCALAIRE_LIPTON_PO1 | D28: PE21000000139 | E28: 113x108x1 | F28: 0.94 | H28: 4.1 | I28: CARTON
C29: INTERCALAIRE_PEPSI_MAX | D29: PE21000006043 | E29: 108x115x1 | F29: 0.5 | H29: 3 | I29: CARTON
C30: CHEVALET_ARDOISE_BIG_BETS | D30: PE22000000537 | E30: 26x17x7 | F30: 0.24 | H30: 10 | I30: BOIS
C31: PLAQUE_EMAILLEE_PEPSI | D31: PE17000001777 | E31: 40x30x1 | F31: 0.37 | H31: 9.6 | I31: PLASTIQUE
C32: VERRE_LIPTON_2020_(LOT_DE_6) | D32: PE20000004834 | E32: 27x18x13 | F32: 2.8 | H32: 6 | I32: VERRE
C33: PLAQUE_EMAILLEE_LIPTON | D33: PE21000000024 | E33: 33x23x6 | F33: 0.37 | H33: 9.6 | I33: PLASTIQUE
C34: NEON_PEPSI_FIELD_AFH | D34: PE2300000212 | E34: 57x57x5 | F34: 2.7 | H34: 70 | I34: PLASTIQUE
C35: PLATEAU_PEPSI_CHR | D35: PE2300000227 | E35: 45x45x2 | F35: 0.61 | H35: 12 | I35: PLASTIQUE
C36: PICHET_PEPSI_1,5l | D36: PE2300000228 | E36: 18x13x20 | F36: 0.13 | H36: 2 | I36: PLASTIQUE
C37: VERRE_PEPSI_2023_(BOITE_DE_4) | D37: PE2300000244 | E37: 17x17x14 | F37: 1.23 | H37: 3 | I37: VERRE
C38: PRESENTOIR_FOOD_AFH | D38: PE2300000211 | E38: 26x24x60 | F38: 1.61 | H38: 24 | I38: CARTON
C39: BOX_SLIM_OOH_PETROLIERS | D39: PE21000005754 | E39: 70x79x12 | F39: 4.2 | H39: 40 | I39: CARTON
... C45: CUTTERS GMS | D45: PE20000005677 | E45: 13x3x1 | F45: 0.03 | H45: 0.5 | I45: PLASTIQUE
