Workbook
Name Noms: OFFSET(Données!$B$2,,,COUNTA(Données!$B:$B)-1)

Sheet Recherche
B4: Date | C4: Disponibles AM | D4: Disponibles PM | F4: Enseignant | G4: Date AM | H4: Date PM | I4: Ecole AM | J4: Ecole PM | O4: CALENDRIER DE L'ANNEE : | R4: 2024 | T4: Aujourd'hui | U4: Week-end | V4: Vacances | W4: Jours frériés
B5: Matin | C5: =IFERROR(INDEX(Planning[NOM],SMALL(IF(OFFSET(Planning!$A$4,1,MATCH($B$6,Planning[[#Headers],[AM_Sept_01]:[PM_Juil_07]],0),COUNTA(Planning[NOM]),1)=0,ROW(Planning[NOM])-3),ROW(Planning[NOM])-3)),"") | D5: =IFERROR(INDEX(Planning[NOM],SMALL(IF(OFFSET(Planning!$A$4,1,MATCH($B$8,Planning[[#Headers],[AM_Sept_01]:[PM_Juil_07]],0),COUNTA(Planning[NOM]),1)=0,ROW(Planning[NOM])-3),ROW(Planning[NOM])-3)),"") | F5: A | G5: AM_Sept_10 | H5: PM_Sept_10 | I5: =INDEX(Planning[[AM_Sept_01]:[PM_Juil_07]],MATCH($F$5,Planning[NOM],0),MATCH($G$5,Planning[[#Headers],[AM_Sept_01]:[PM_Juil_07]],0)) -> Lalande, CE2 | J5: =INDEX(Planning[[AM_Sept_01]:[PM_Juil_07]],MATCH($F$5,Planning[NOM],0),MATCH($H$5,Planning[[#Headers],[AM_Sept_01]:[PM_Juil_07]],0)) -> Billières, CP
B6: AM_Oct_18
B7: Après-midi | F7: Ecole | G7: Date | H7: Formation
B8: AM_Déc_06 | F8: Tabar | G8: =IFERROR(INDEX(Planning!$D$4:$LO$4,SMALL(IF(Planning!D$93:LO$93>0,COLUMN(Planning!$D$5:$LO$5)-3),ROW(Planning!1:1))),"") -> PM_Sept_03 | H8: =IFERROR(INDEX(Planning!$D$2:$VW$2,SMALL(IF(Planning!D$59:VW$59>0,COLUMN(Planning!$D$5:$VW$5)-3),ROW(Planning!1:1))),"") -> Pondération 1 | L8: Janvier | M8: Février | N8: Mars | O8: Avril | P8: Mai | Q8: Juin | R8: Juillet | S8: Août | T8: Septembre | U8: Octobre | V8: Novembre | W8: Décembre
G9: =IFERROR(INDEX(Planning!$D$4:$LO$4,SMALL(IF(Planning!D$93:LO$93>0,COLUMN(Planning!$D$5:$LO$5)-3),ROW(Planning!2:2))),"") | H9: =IFERROR(INDEX(Planning!$D$2:$VW$2,SMALL(IF(Planning!D$59:VW$59>0,COLUMN(Planning!$D$5:$VW$5)-3),ROW(Planning!2:2))),"") | L9: =DATE(R4,1,1) -> 45292 | M9: =EDATE(L9,1) -> 45323 | N9: =EDATE(M9,1) -> 45352 | O9: 45383 | P9: 45413 | Q9: 45444 | R9: 45474 | S9: 45505 | T9: 45536 | U9: 45566 | V9: 45597 | W9: 45627
G10: =IFERROR(INDEX(Planning!$D$4:$LO$4,SMALL(IF(Planning!D$93:LO$93>0,COLUMN(Planning!$D$5:$LO$5)-3),ROW(Planning!4:4))),"") | H10: =IFERROR(INDEX(Planning!$D$2:$VW$2,SMALL(IF(Planning!D$59:VW$59>0,COLUMN(Planning!$D$5:$VW$5)-3),ROW(Planning!4:4))),"") | L10: =IF(MONTH(L9+1)=1,L9+1,"-") -> 45293 | M10: =IFERROR(IF(MONTH(M9+1)=2,M9+1,"-"),"-") -> 45324 | N10: =IF(MONTH(N9+1)=3,N9+1,"-") -> 45353 | O10: =IF(MONTH(O9+1)=4,O9+1,"-") -> 45384 | P10: =IF(MONTH(P9+1)=5,P9+1,"-") -> 45414 | Q10: =IF(MONTH(Q9+1)=6,Q9+1,"-") -> 45445 | R10: =IF(MONTH(R9+1)=7,R9+1,"-") -> 45475 | S10: =IF(MONTH(S9+1)=8,S9+1,"-") -> 45506 | T10: =IF(MONTH(T9+1)=9,T9+1,"-") -> 45537 | U10: =IF(MONTH(U9+1)=10,U9+1,"-") -> 45567 | V10: =IF(MONTH(V9+1)=11,V9+1,"-") -> 45598 | W10: =IF(MONTH(W9+1)=12,W9+1,"-") -> 45628
G11: =IFERROR(INDEX(Planning!$D$4:$LO$4,SMALL(IF(Planning!D$93:LO$93>0,COLUMN(Planning!$D$5:$LO$5)-3),ROW(Planning!5:5))),"") | H11: =IFERROR(INDEX(Planning!$D$2:$VW$2,SMALL(IF(Planning!D$59:VW$59>0,COLUMN(Planning!$D$5:$VW$5)-3),ROW(Planning!5:5))),"") | L11: =IF(MONTH(L10+1)=1,L10+1,"-") -> 45294 | M11: =IFERROR(IF(MONTH(M10+1)=2,M10+1,"-"),"-") -> 45325 | N11: =IF(MONTH(N10+1)=3,N10+1,"-") -> 45354 | O11: =IF(MONTH(O10+1)=4,O10+1,"-") -> 45385 | P11: =IF(MONTH(P10+1)=5,P10+1,"-") -> 45415 | Q11: =IF(MONTH(Q10+1)=6,Q10+1,"-") -> 45446 | R11: =IF(MONTH(R10+1)=7,R10+1,"-") -> 45476 | S11: =IF(MONTH(S10+1)=8,S10+1,"-") -> 45507 | T11: =IF(MONTH(T10+1)=9,T10+1,"-") -> 45538 | U11: =IF(MONTH(U10+1)=10,U10+1,"-") -> 45568 | V11: =IF(MONTH(V10+1)=11,V10+1,"-") -> 45599 | W11: =IF(MONTH(W10+1)=12,W10+1,"-") -> 45629
G12: =IFERROR(INDEX(Planning!$D$4:$LO$4,SMALL(IF(Planning!D$93:LO$93>0,COLUMN(Planning!$D$5:$LO$5)-3),ROW(Planning!6:6))),"") | H12: =IFERROR(INDEX(Planning!$D$2:$VW$2,SMALL(IF(Planning!D$59:VW$59>0,COLUMN(Planning!$D$5:$VW$5)-3),ROW(Planning!6:6))),"") | L12: =IF(MONTH(L11+1)=1,L11+1,"-") -> 45295 | M12: =IFERROR(IF(MONTH(M11+1)=2,M11+1,"-"),"-") -> 45326 | N12: =IF(MONTH(N11+1)=3,N11+1,"-") -> 45355 | O12: =IF(MONTH(O11+1)=4,O11+1,"-") -> 45386 | P12: =IF(MONTH(P11+1)=5,P11+1,"-") -> 45416 | Q12: =IF(MONTH(Q11+1)=6,Q11+1,"-") -> 45447 | R12: =IF(MONTH(R11+1)=7,R11+1,"-") -> 45477 | S12: =IF(MONTH(S11+1)=8,S11+1,"-") -> 45508 | T12: =IF(MONTH(T11+1)=9,T11+1,"-") -> 45539 | U12: =IF(MONTH(U11+1)=10,U11+1,"-") -> 45569 | V12: =IF(MONTH(V11+1)=11,V11+1,"-") -> 45600 | W12: =IF(MONTH(W11+1)=12,W11+1,"-") -> 45630
G13: =IFERROR(INDEX(Planning!$D$4:$LO$4,SMALL(IF(Planning!D$93:LO$93>0,COLUMN(Planning!$D$5:$LO$5)-3),ROW(Planning!7:7))),"") | H13: =IFERROR(INDEX(Planning!$D$2:$VW$2,SMALL(IF(Planning!D$59:VW$59>0,COLUMN(Planning!$D$5:$VW$5)-3),ROW(Planning!7:7))),"") | L13: =IF(MONTH(L12+1)=1,L12+1,"-") -> 45296 | M13: =IFERROR(IF(MONTH(M12+1)=2,M12+1,"-"),"-") -> 45327 | N13: =IF(MONTH(N12+1)=3,N12+1,"-") -> 45356 | O13: =IF(MONTH(O12+1)=4,O12+1,"-") -> 45387 | P13: =IF(MONTH(P12+1)=5,P12+1,"-") -> 45417 | Q13: =IF(MONTH(Q12+1)=6,Q12+1,"-") -> 45448 | R13: =IF(MONTH(R12+1)=7,R12+1,"-") -> 45478 | S13: =IF(MONTH(S12+1)=8,S12+1,"-") -> 45509 | T13: =IF(MONTH(T12+1)=9,T12+1,"-") -> 45540 | U13: =IF(MONTH(U12+1)=10,U12+1,"-") -> 45570 | V13: =IF(MONTH(V12+1)=11,V12+1,"-") -> 45601 | W13: =IF(MONTH(W12+1)=12,W12+1,"-") -> 45631
G14: =IFERROR(INDEX(Planning!$D$4:$LO$4,SMALL(IF(Planning!D$93:LO$93>0,COLUMN(Planning!$D$5:$LO$5)-3),ROW(Planning!8:8))),"") | H14: =IFERROR(INDEX(Planning!$D$2:$VW$2,SMALL(IF(Planning!D$59:VW$59>0,COLUMN(Planning!$D$5:$VW$5)-3),ROW(Planning!8:8))),"") | L14: =IF(MONTH(L13+1)=1,L13+1,"-") -> 45297 | M14: =IFERROR(IF(MONTH(M13+1)=2,M13+1,"-"),"-") -> 45328 | N14: =IF(MONTH(N13+1)=3,N13+1,"-") -> 45357 | O14: =IF(MONTH(O13+1)=4,O13+1,"-") -> 45388 | P14: =IF(MONTH(P13+1)=5,P13+1,"-") -> 45418 | Q14: =IF(MONTH(Q13+1)=6,Q13+1,"-") -> 45449 | R14: =IF(MONTH(R13+1)=7,R13+1,"-") -> 45479 | S14: =IF(MONTH(S13+1)=8,S13+1,"-") -> 45510 | T14: =IF(MONTH(T13+1)=9,T13+1,"-") -> 45541 | U14: =IF(MONTH(U13+1)=10,U13+1,"-") -> 45571 | V14: =IF(MONTH(V13+1)=11,V13+1,"-") -> 45602 | W14: =IF(MONTH(W13+1)=12,W13+1,"-") -> 45632
G15: =IFERROR(INDEX(Planning!$D$4:$LO$4,SMALL(IF(Planning!D$93:LO$93>0,COLUMN(Planning!$D$5:$LO$5)-3),ROW(Planning!9:9))),"") | H15: =IFERROR(INDEX(Planning!$D$2:$VW$2,SMALL(IF(Planning!D$59:VW$59>0,COLUMN(Planning!$D$5:$VW$5)-3),ROW(Planning!9:9))),"") | L15: =IF(MONTH(L14+1)=1,L14+1,"-") -> 45298 | M15: =IFERROR(IF(MONTH(M14+1)=2,M14+1,"-"),"-") -> 45329 | N15: =IF(MONTH(N14+1)=3,N14+1,"-") -> 45358 | O15: =IF(MONTH(O14+1)=4,O14+1,"-") -> 45389 | P15: =IF(MONTH(P14+1)=5,P14+1,"-") -> 45419 | Q15: =IF(MONTH(Q14+1)=6,Q14+1,"-") -> 45450 | R15: =IF(MONTH(R14+1)=7,R14+1,"-") -> 45480 | S15: =IF(MONTH(S14+1)=8,S14+1,"-") -> 45511 | T15: =IF(MONTH(T14+1)=9,T14+1,"-") -> 45542 | U15: =IF(MONTH(U14+1)=10,U14+1,"-") -> 45572 | V15: =IF(MONTH(V14+1)=11,V14+1,"-") -> 45603 | W15: =IF(MONTH(W14+1)=12,W14+1,"-") -> 45633
G16: =IFERROR(INDEX(Planning!$D$4:$LO$4,SMALL(IF(Planning!D$93:LO$93>0,COLUMN(Planning!$D$5:$LO$5)-3),ROW(Planning!10:10))),"") | H16: =IFERROR(INDEX(Planning!$D$2:$VW$2,SMALL(IF(Planning!D$59:VW$59>0,COLUMN(Planning!$D$5:$VW$5)-3),ROW(Planning!10:10))),"") | L16: =IF(MONTH(L15+1)=1,L15+1,"-") -> 45299 | M16: =IFERROR(IF(MONTH(M15+1)=2,M15+1,"-"),"-") -> 45330 | N16: =IF(MONTH(N15+1)=3,N15+1,"-") -> 45359 | O16: =IF(MONTH(O15+1)=4,O15+1,"-") -> 45390 | P16: =IF(MONTH(P15+1)=5,P15+1,"-") -> 45420 | Q16: =IF(MONTH(Q15+1)=6,Q15+1,"-") -> 45451 | R16: =IF(MONTH(R15+1)=7,R15+1,"-") -> 45481 | S16: =IF(MONTH(S15+1)=8,S15+1,"-") -> 45512 | T16: =IF(MONTH(T15+1)=9,T15+1,"-") -> 45543 | U16: =IF(MONTH(U15+1)=10,U15+1,"-") -> 45573 | V16: =IF(MONTH(V15+1)=11,V15+1,"-") -> 45604 | W16: =IF(MONTH(W15+1)=12,W15+1,"-") -> 45634
G17: =IFERROR(INDEX(Planning!$D$4:$LO$4,SMALL(IF(Planning!D$93:LO$93>0,COLUMN(Planning!$D$5:$LO$5)-3),ROW(Planning!11:11))),"") | H17: =IFERROR(INDEX(Planning!$D$2:$VW$2,SMALL(IF(Planning!D$59:VW$59>0,COLUMN(Planning!$D$5:$VW$5)-3),ROW(Planning!11:11))),"") | L17: =IF(MONTH(L16+1)=1,L16+1,"-") -> 45300 | M17: =IFERROR(IF(MONTH(M16+1)=2,M16+1,"-"),"-") -> 45331 | N17: =IF(MONTH(N16+1)=3,N16+1,"-") -> 45360 | O17: =IF(MONTH(O16+1)=4,O16+1,"-") -> 45391 | P17: =IF(MONTH(P16+1)=5,P16+1,"-") -> 45421 | Q17: =IF(MONTH(Q16+1)=6,Q16+1,"-") -> 45452 | R17: =IF(MONTH(R16+1)=7,R16+1,"-") -> 45482 | S17: =IF(MONTH(S16+1)=8,S16+1,"-") -> 45513 | T17: =IF(MONTH(T16+1)=9,T16+1,"-") -> 45544 | U17: =IF(MONTH(U16+1)=10,U16+1,"-") -> 45574 | V17: =IF(MONTH(V16+1)=11,V16+1,"-") -> 45605 | W17: =IF(MONTH(W16+1)=12,W16+1,"-") -> 45635
G18: =IFERROR(INDEX(Planning!$D$4:$LO$4,SMALL(IF(Planning!D$93:LO$93>0,COLUMN(Planning!$D$5:$LO$5)-3),ROW(Planning!12:12))),"") | H18: =IFERROR(INDEX(Planning!$D$2:$VW$2,SMALL(IF(Planning!D$59:VW$59>0,COLUMN(Planning!$D$5:$VW$5)-3),ROW(Planning!12:12))),"") | L18: =IF(MONTH(L17+1)=1,L17+1,"-") -> 45301 | M18: =IFERROR(IF(MONTH(M17+1)=2,M17+1,"-"),"-") -> 45332 | N18: =IF(MONTH(N17+1)=3,N17+1,"-") -> 45361 | O18: =IF(MONTH(O17+1)=4,O17+1,"-") -> 45392 | P18: =IF(MONTH(P17+1)=5,P17+1,"-") -> 45422 | Q18: =IF(MONTH(Q17+1)=6,Q17+1,"-") -> 45453 | R18: =IF(MONTH(R17+1)=7,R17+1,"-") -> 45483 | S18: =IF(MONTH(S17+1)=8,S17+1,"-") -> 45514 | T18: =IF(MONTH(T17+1)=9,T17+1,"-") -> 45545 | U18: =IF(MONTH(U17+1)=10,U17+1,"-") -> 45575 | V18: =IF(MONTH(V17+1)=11,V17+1,"-") -> 45606 | W18: =IF(MONTH(W17+1)=12,W17+1,"-") -> 45636
G19: =IFERROR(INDEX(Planning!$D$4:$LO$4,SMALL(IF(Planning!D$93:LO$93>0,COLUMN(Planning!$D$5:$LO$5)-3),ROW(Planning!13:13))),"") | H19: =IFERROR(INDEX(Planning!$D$2:$VW$2,SMALL(IF(Planning!D$59:VW$59>0,COLUMN(Planning!$D$5:$VW$5)-3),ROW(Planning!13:13))),"") | L19: =IF(MONTH(L18+1)=1,L18+1,"-") -> 45302 | M19: =IFERROR(IF(MONTH(M18+1)=2,M18+1,"-"),"-") -> 45333 | N19: =IF(MONTH(N18+1)=3,N18+1,"-") -> 45362 | O19: =IF(MONTH(O18+1)=4,O18+1,"-") -> 45393 | P19: =IF(MONTH(P18+1)=5,P18+1,"-") -> 45423 | Q19: =IF(MONTH(Q18+1)=6,Q18+1,"-") -> 45454 | R19: =IF(MONTH(R18+1)=7,R18+1,"-") -> 45484 | S19: =IF(MONTH(S18+1)=8,S18+1,"-") -> 45515 | T19: =IF(MONTH(T18+1)=9,T18+1,"-") -> 45546 | U19: =IF(MONTH(U18+1)=10,U18+1,"-") -> 45576 | V19: =IF(MONTH(V18+1)=11,V18+1,"-") -> 45607 | W19: =IF(MONTH(W18+1)=12,W18+1,"-") -> 45637
G20: =IFERROR(INDEX(Planning!$D$4:$LO$4,SMALL(IF(Planning!D$93:LO$93>0,COLUMN(Planning!$D$5:$LO$5)-3),ROW(Planning!14:14))),"") | H20: =IFERROR(INDEX(Planning!$D$2:$VW$2,SMALL(IF(Planning!D$59:VW$59>0,COLUMN(Planning!$D$5:$VW$5)-3),ROW(Planning!14:14))),"") | L20: =IF(MONTH(L19+1)=1,L19+1,"-") -> 45303 | M20: =IFERROR(IF(MONTH(M19+1)=2,M19+1,"-"),"-") -> 45334 | N20: =IF(MONTH(N19+1)=3,N19+1,"-") -> 45363 | O20: =IF(MONTH(O19+1)=4,O19+1,"-") -> 45394 | P20: =IF(MONTH(P19+1)=5,P19+1,"-") -> 45424 | Q20: =IF(MONTH(Q19+1)=6,Q19+1,"-") -> 45455 | R20: =IF(MONTH(R19+1)=7,R19+1,"-") -> 45485 | S20: =IF(MONTH(S19+1)=8,S19+1,"-") -> 45516 | T20: =IF(MONTH(T19+1)=9,T19+1,"-") -> 45547 | U20: =IF(MONTH(U19+1)=10,U19+1,"-") -> 45577 | V20: =IF(MONTH(V19+1)=11,V19+1,"-") -> 45608 | W20: =IF(MONTH(W19+1)=12,W19+1,"-") -> 45638
G21: =IFERROR(INDEX(Planning!$D$4:$LO$4,SMALL(IF(Planning!D$93:LO$93>0,COLUMN(Planning!$D$5:$LO$5)-3),ROW(Planning!15:15))),"") | H21: =IFERROR(INDEX(Planning!$D$2:$VW$2,SMALL(IF(Planning!D$59:VW$59>0,COLUMN(Planning!$D$5:$VW$5)-3),ROW(Planning!15:15))),"") | L21: =IF(MONTH(L20+1)=1,L20+1,"-") -> 45304 | M21: =IFERROR(IF(MONTH(M20+1)=2,M20+1,"-"),"-") -> 45335 | N21: =IF(MONTH(N20+1)=3,N20+1,"-") -> 45364 | O21: =IF(MONTH(O20+1)=4,O20+1,"-") -> 45395 | P21: =IF(MONTH(P20+1)=5,P20+1,"-") -> 45425 | Q21: =IF(MONTH(Q20+1)=6,Q20+1,"-") -> 45456 | R21: =IF(MONTH(R20+1)=7,R20+1,"-") -> 45486 | S21: =IF(MONTH(S20+1)=8,S20+1,"-") -> 45517 | T21: =IF(MONTH(T20+1)=9,T20+1,"-") -> 45548 | U21: =IF(MONTH(U20+1)=10,U20+1,"-") -> 45578 | V21: =IF(MONTH(V20+1)=11,V20+1,"-") -> 45609 | W21: =IF(MONTH(W20+1)=12,W20+1,"-") -> 45639
G22: =IFERROR(INDEX(Planning!$D$4:$LO$4,SMALL(IF(Planning!D$93:LO$93>0,COLUMN(Planning!$D$5:$LO$5)-3),ROW(Planning!16:16))),"") | H22: =IFERROR(INDEX(Planning!$D$2:$VW$2,SMALL(IF(Planning!D$59:VW$59>0,COLUMN(Planning!$D$5:$VW$5)-3),ROW(Planning!16:16))),"") | L22: =IF(MONTH(L21+1)=1,L21+1,"-") -> 45305 | M22: =IFERROR(IF(MONTH(M21+1)=2,M21+1,"-"),"-") -> 45336 | N22: =IF(MONTH(N21+1)=3,N21+1,"-") -> 45365 | O22: =IF(MONTH(O21+1)=4,O21+1,"-") -> 45396 | P22: =IF(MONTH(P21+1)=5,P21+1,"-") -> 45426 | Q22: =IF(MONTH(Q21+1)=6,Q21+1,"-") -> 45457 | R22: =IF(MONTH(R21+1)=7,R21+1,"-") -> 45487 | S22: =IF(MONTH(S21+1)=8,S21+1,"-") -> 45518 | T22: =IF(MONTH(T21+1)=9,T21+1,"-") -> 45549 | U22: =IF(MONTH(U21+1)=10,U21+1,"-") -> 45579 | V22: =IF(MONTH(V21+1)=11,V21+1,"-") -> 45610 | W22: =IF(MONTH(W21+1)=12,W21+1,"-") -> 45640
G23: =IFERROR(INDEX(Planning!$D$4:$LO$4,SMALL(IF(Planning!D$93:LO$93>0,COLUMN(Planning!$D$5:$LO$5)-3),ROW(Planning!17:17))),"") | H23: =IFERROR(INDEX(Planning!$D$2:$VW$2,SMALL(IF(Planning!D$59:VW$59>0,COLUMN(Planning!$D$5:$VW$5)-3),ROW(Planning!17:17))),"") | L23: =IF(MONTH(L22+1)=1,L22+1,"-") -> 45306 | M23: =IFERROR(IF(MONTH(M22+1)=2,M22+1,"-"),"-") -> 45337 | N23: =IF(MONTH(N22+1)=3,N22+1,"-") -> 45366 | O23: =IF(MONTH(O22+1)=4,O22+1,"-") -> 45397 | P23: =IF(MONTH(P22+1)=5,P22+1,"-") -> 45427 | Q23: =IF(MONTH(Q22+1)=6,Q22+1,"-") -> 45458 | R23: =IF(MONTH(R22+1)=7,R22+1,"-") -> 45488 | S23: =IF(MONTH(S22+1)=8,S22+1,"-") -> 45519 | T23: =IF(MONTH(T22+1)=9,T22+1,"-") -> 45550 | U23: =IF(MONTH(U22+1)=10,U22+1,"-") -> 45580 | V23: =IF(MONTH(V22+1)=11,V22+1,"-") -> 45611 | W23: =IF(MONTH(W22+1)=12,W22+1,"-") -> 45641
G24: =IFERROR(INDEX(Planning!$D$4:$LO$4,SMALL(IF(Planning!D$93:LO$93>0,COLUMN(Planning!$D$5:$LO$5)-3),ROW(Planning!18:18))),"") | H24: =IFERROR(INDEX(Planning!$D$2:$VW$2,SMALL(IF(Planning!D$59:VW$59>0,COLUMN(Planning!$D$5:$VW$5)-3),ROW(Planning!18:18))),"") | L24: =IF(MONTH(L23+1)=1,L23+1,"-") -> 45307 | M24: =IFERROR(IF(MONTH(M23+1)=2,M23+1,"-"),"-") -> 45338 | N24: =IF(MONTH(N23+1)=3,N23+1,"-") -> 45367 | O24: =IF(MONTH(O23+1)=4,O23+1,"-") -> 45398 | P24: =IF(MONTH(P23+1)=5,P23+1,"-") -> 45428 | Q24: =IF(MONTH(Q23+1)=6,Q23+1,"-") -> 45459 | R24: =IF(MONTH(R23+1)=7,R23+1,"-") -> 45489 | S24: =IF(MONTH(S23+1)=8,S23+1,"-") -> 45520 | T24: =IF(MONTH(T23+1)=9,T23+1,"-") -> 45551 | U24: =IF(MONTH(U23+1)=10,U23+1,"-") -> 45581 | V24: =IF(MONTH(V23+1)=11,V23+1,"-") -> 45612 | W24: =IF(MONTH(W23+1)=12,W23+1,"-") -> 45642
G25: =IFERROR(INDEX(Planning!$D$4:$LO$4,SMALL(IF(Planning!D$93:LO$93>0,COLUMN(Planning!$D$5:$LO$5)-3),ROW(Planning!19:19))),"") | H25: =IFERROR(INDEX(Planning!$D$2:$VW$2,SMALL(IF(Planning!D$59:VW$59>0,COLUMN(Planning!$D$5:$VW$5)-3),ROW(Planning!19:19))),"") | L25: =IF(MONTH(L24+1)=1,L24+1,"-") -> 45308 | M25: =IFERROR(IF(MONTH(M24+1)=2,M24+1,"-"),"-") -> 45339 | N25: =IF(MONTH(N24+1)=3,N24+1,"-") -> 45368 | O25: =IF(MONTH(O24+1)=4,O24+1,"-") -> 45399 | P25: =IF(MONTH(P24+1)=5,P24+1,"-") -> 45429 | Q25: =IF(MONTH(Q24+1)=6,Q24+1,"-") -> 45460 | R25: =IF(MONTH(R24+1)=7,R24+1,"-") -> 45490 | S25: =IF(MONTH(S24+1)=8,S24+1,"-") -> 45521 | T25: =IF(MONTH(T24+1)=9,T24+1,"-") -> 45552 | U25: =IF(MONTH(U24+1)=10,U24+1,"-") -> 45582 | V25: =IF(MONTH(V24+1)=11,V24+1,"-") -> 45613 | W25: =IF(MONTH(W24+1)=12,W24+1,"-") -> 45643
G26: =IFERROR(INDEX(Planning!$D$4:$LO$4,SMALL(IF(Planning!D$93:LO$93>0,COLUMN(Planning!$D$5:$LO$5)-3),ROW(Planning!20:20))),"") | H26: =IFERROR(INDEX(Planning!$D$2:$VW$2,SMALL(IF(Planning!D$59:VW$59>0,COLUMN(Planning!$D$5:$VW$5)-3),ROW(Planning!20:20))),"") | L26: =IF(MONTH(L25+1)=1,L25+1,"-") -> 45309 | M26: =IFERROR(IF(MONTH(M25+1)=2,M25+1,"-"),"-") -> 45340 | N26: =IF(MONTH(N25+1)=3,N25+1,"-") -> 45369 | O26: =IF(MONTH(O25+1)=4,O25+1,"-") -> 45400 | P26: =IF(MONTH(P25+1)=5,P25+1,"-") -> 45430 | Q26: =IF(MONTH(Q25+1)=6,Q25+1,"-") -> 45461 | R26: =IF(MONTH(R25+1)=7,R25+1,"-") -> 45491 | S26: =IF(MONTH(S25+1)=8,S25+1,"-") -> 45522 | T26: =IF(MONTH(T25+1)=9,T25+1,"-") -> 45553 | U26: =IF(MONTH(U25+1)=10,U25+1,"-") -> 45583 | V26: =IF(MONTH(V25+1)=11,V25+1,"-") -> 45614 | W26: =IF(MONTH(W25+1)=12,W25+1,"-") -> 45644
G27: =IFERROR(INDEX(Planning!$D$4:$LO$4,SMALL(IF(Planning!D$93:LO$93>0,COLUMN(Planning!$D$5:$LO$5)-3),ROW(Planning!21:21))),"") | H27: =IFERROR(INDEX(Planning!$D$2:$VW$2,SMALL(IF(Planning!D$59:VW$59>0,COLUMN(Planning!$D$5:$VW$5)-3),ROW(Planning!21:21))),"") | L27: =IF(MONTH(L26+1)=1,L26+1,"-") -> 45310 | M27: =IFERROR(IF(MONTH(M26+1)=2,M26+1,"-"),"-") -> 45341 | N27: =IF(MONTH(N26+1)=3,N26+1,"-") -> 45370 | O27: =IF(MONTH(O26+1)=4,O26+1,"-") -> 45401 | P27: =IF(MONTH(P26+1)=5,P26+1,"-") -> 45431 | Q27: =IF(MONTH(Q26+1)=6,Q26+1,"-") -> 45462 | R27: =IF(MONTH(R26+1)=7,R26+1,"-") -> 45492 | S27: =IF(MONTH(S26+1)=8,S26+1,"-") -> 45523 | T27: =IF(MONTH(T26+1)=9,T26+1,"-") -> 45554 | U27: =IF(MONTH(U26+1)=10,U26+1,"-") -> 45584 | V27: =IF(MONTH(V26+1)=11,V26+1,"-") -> 45615 | W27: =IF(MONTH(W26+1)=12,W26+1,"-") -> 45645
G28: =IFERROR(INDEX(Planning!$D$4:$LO$4,SMALL(IF(Planning!D$93:LO$93>0,COLUMN(Planning!$D$5:$LO$5)-3),ROW(Planning!22:22))),"") | H28: =IFERROR(INDEX(Planning!$D$2:$VW$2,SMALL(IF(Planning!D$59:VW$59>0,COLUMN(Planning!$D$5:$VW$5)-3),ROW(Planning!22:22))),"") | L28: =IF(MONTH(L27+1)=1,L27+1,"-") -> 45311 | M28: =IFERROR(IF(MONTH(M27+1)=2,M27+1,"-"),"-") -> 45342 | N28: =IF(MONTH(N27+1)=3,N27+1,"-") -> 45371 | O28: =IF(MONTH(O27+1)=4,O27+1,"-") -> 45402 | P28: =IF(MONTH(P27+1)=5,P27+1,"-") -> 45432 | Q28: =IF(MONTH(Q27+1)=6,Q27+1,"-") -> 45463 | R28: =IF(MONTH(R27+1)=7,R27+1,"-") -> 45493 | S28: =IF(MONTH(S27+1)=8,S27+1,"-") -> 45524 | T28: =IF(MONTH(T27+1)=9,T27+1,"-") -> 45555 | U28: =IF(MONTH(U27+1)=10,U27+1,"-") -> 45585 | V28: =IF(MONTH(V27+1)=11,V27+1,"-") -> 45616 | W28: =IF(MONTH(W27+1)=12,W27+1,"-") -> 45646
G29: =IFERROR(INDEX(Planning!$D$4:$LO$4,SMALL(IF(Planning!D$93:LO$93>0,COLUMN(Planning!$D$5:$LO$5)-3),ROW(Planning!23:23))),"") | H29: =IFERROR(INDEX(Planning!$D$2:$VW$2,SMALL(IF(Planning!D$59:VW$59>0,COLUMN(Planning!$D$5:$VW$5)-3),ROW(Planning!23:23))),"") | L29: =IF(MONTH(L28+1)=1,L28+1,"-") -> 45312 | M29: =IFERROR(IF(MONTH(M28+1)=2,M28+1,"-"),"-") -> 45343 | N29: =IF(MONTH(N28+1)=3,N28+1,"-") -> 45372 | O29: =IF(MONTH(O28+1)=4,O28+1,"-") -> 45403 | P29: =IF(MONTH(P28+1)=5,P28+1,"-") -> 45433 | Q29: =IF(MONTH(Q28+1)=6,Q28+1,"-") -> 45464 | R29: =IF(MONTH(R28+1)=7,R28+1,"-") -> 45494 | S29: =IF(MONTH(S28+1)=8,S28+1,"-") -> 45525 | T29: =IF(MONTH(T28+1)=9,T28+1,"-") -> 45556 | U29: =IF(MONTH(U28+1)=10,U28+1,"-") -> 45586 | V29: =IF(MONTH(V28+1)=11,V28+1,"-") -> 45617 | W29: =IF(MONTH(W28+1)=12,W28+1,"-") -> 45647
G30: =IFERROR(INDEX(Planning!$D$4:$LO$4,SMALL(IF(Planning!D$93:LO$93>0,COLUMN(Planning!$D$5:$LO$5)-3),ROW(Planning!24:24))),"") | H30: =IFERROR(INDEX(Planning!$D$2:$VW$2,SMALL(IF(Planning!D$59:VW$59>0,COLUMN(Planning!$D$5:$VW$5)-3),ROW(Planning!24:24))),"") | L30: =IF(MONTH(L29+1)=1,L29+1,"-") -> 45313 | M30: =IFERROR(IF(MONTH(M29+1)=2,M29+1,"-"),"-") -> 45344 | N30: =IF(MONTH(N29+1)=3,N29+1,"-") -> 45373 | O30: =IF(MONTH(O29+1)=4,O29+1,"-") -> 45404 | P30: =IF(MONTH(P29+1)=5,P29+1,"-") -> 45434 | Q30: =IF(MONTH(Q29+1)=6,Q29+1,"-") -> 45465 | R30: =IF(MONTH(R29+1)=7,R29+1,"-") -> 45495 | S30: =IF(MONTH(S29+1)=8,S29+1,"-") -> 45526 | T30: =IF(MONTH(T29+1)=9,T29+1,"-") -> 45557 | U30: =IF(MONTH(U29+1)=10,U29+1,"-") -> 45587 | V30: =IF(MONTH(V29+1)=11,V29+1,"-") -> 45618 | W30: =IF(MONTH(W29+1)=12,W29+1,"-") -> 45648
G31: =IFERROR(INDEX(Planning!$D$4:$LO$4,SMALL(IF(Planning!D$93:LO$93>0,COLUMN(Planning!$D$5:$LO$5)-3),ROW(Planning!25:25))),"") | H31: =IFERROR(INDEX(Planning!$D$2:$VW$2,SMALL(IF(Planning!D$59:VW$59>0,COLUMN(Planning!$D$5:$VW$5)-3),ROW(Planning!25:25))),"") | L31: =IF(MONTH(L30+1)=1,L30+1,"-") -> 45314 | M31: =IFERROR(IF(MONTH(M30+1)=2,M30+1,"-"),"-") -> 45345 | N31: =IF(MONTH(N30+1)=3,N30+1,"-") -> 45374 | O31: =IF(MONTH(O30+1)=4,O30+1,"-") -> 45405 | P31: =IF(MONTH(P30+1)=5,P30+1,"-") -> 45435 | Q31: =IF(MONTH(Q30+1)=6,Q30+1,"-") -> 45466 | R31: =IF(MONTH(R30+1)=7,R30+1,"-") -> 45496 | S31: =IF(MONTH(S30+1)=8,S30+1,"-") -> 45527 | T31: =IF(MONTH(T30+1)=9,T30+1,"-") -> 45558 | U31: =IF(MONTH(U30+1)=10,U30+1,"-") -> 45588 | V31: =IF(MONTH(V30+1)=11,V30+1,"-") -> 45619 | W31: =IF(MONTH(W30+1)=12,W30+1,"-") -> 45649
G32: =IFERROR(INDEX(Planning!$D$4:$LO$4,SMALL(IF(Planning!D$93:LO$93>0,COLUMN(Planning!$D$5:$LO$5)-3),ROW(Planning!26:26))),"") | H32: =IFERROR(INDEX(Planning!$D$2:$VW$2,SMALL(IF(Planning!D$59:VW$59>0,COLUMN(Planning!$D$5:$VW$5)-3),ROW(Planning!26:26))),"") | L32: =IF(MONTH(L31+1)=1,L31+1,"-") -> 45315 | M32: =IFERROR(IF(MONTH(M31+1)=2,M31+1,"-"),"-") -> 45346 | N32: =IF(MONTH(N31+1)=3,N31+1,"-") -> 45375 | O32: =IF(MONTH(O31+1)=4,O31+1,"-") -> 45406 | P32: =IF(MONTH(P31+1)=5,P31+1,"-") -> 45436 | Q32: =IF(MONTH(Q31+1)=6,Q31+1,"-") -> 45467 | R32: =IF(MONTH(R31+1)=7,R31+1,"-") -> 45497 | S32: =IF(MONTH(S31+1)=8,S31+1,"-") -> 45528 | T32: =IF(MONTH(T31+1)=9,T31+1,"-") -> 45559 | U32: =IF(MONTH(U31+1)=10,U31+1,"-") -> 45589 | V32: =IF(MONTH(V31+1)=11,V31+1,"-") -> 45620 | W32: =IF(MONTH(W31+1)=12,W31+1,"-") -> 45650
G33: =IFERROR(INDEX(Planning!$D$4:$LO$4,SMALL(IF(Planning!D$93:LO$93>0,COLUMN(Planning!$D$5:$LO$5)-3),ROW(Planning!27:27))),"") | H33: =IFERROR(INDEX(Planning!$D$2:$VW$2,SMALL(IF(Planning!D$59:VW$59>0,COLUMN(Planning!$D$5:$VW$5)-3),ROW(Planning!27:27))),"") | L33: =IF(MONTH(L32+1)=1,L32+1,"-") -> 45316 | M33: =IFERROR(IF(MONTH(M32+1)=2,M32+1,"-"),"-") -> 45347 | N33: =IF(MONTH(N32+1)=3,N32+1,"-") -> 45376 | O33: =IF(MONTH(O32+1)=4,O32+1,"-") -> 45407 | P33: =IF(MONTH(P32+1)=5,P32+1,"-") -> 45437 | Q33: =IF(MONTH(Q32+1)=6,Q32+1,"-") -> 45468 | R33: =IF(MONTH(R32+1)=7,R32+1,"-") -> 45498 | S33: =IF(MONTH(S32+1)=8,S32+1,"-") -> 45529 | T33: =IF(MONTH(T32+1)=9,T32+1,"-") -> 45560 | U33: =IF(MONTH(U32+1)=10,U32+1,"-") -> 45590 | V33: =IF(MONTH(V32+1)=11,V32+1,"-") -> 45621 | W33: =IF(MONTH(W32+1)=12,W32+1,"-") -> 45651
G34: =IFERROR(INDEX(Planning!$D$4:$LO$4,SMALL(IF(Planning!D$93:LO$93>0,COLUMN(Planning!$D$5:$LO$5)-3),ROW(Planning!28:28))),"") | H34: =IFERROR(INDEX(Planning!$D$2:$VW$2,SMALL(IF(Planning!D$59:VW$59>0,COLUMN(Planning!$D$5:$VW$5)-3),ROW(Planning!28:28))),"") | L34: =IF(MONTH(L33+1)=1,L33+1,"-") -> 45317 | M34: =IFERROR(IF(MONTH(M33+1)=2,M33+1,"-"),"-") -> 45348 | N34: =IF(MONTH(N33+1)=3,N33+1,"-") -> 45377 | O34: =IF(MONTH(O33+1)=4,O33+1,"-") -> 45408 | P34: =IF(MONTH(P33+1)=5,P33+1,"-") -> 45438 | Q34: =IF(MONTH(Q33+1)=6,Q33+1,"-") -> 45469 | R34: =IF(MONTH(R33+1)=7,R33+1,"-") -> 45499 | S34: =IF(MONTH(S33+1)=8,S33+1,"-") -> 45530 | T34: =IF(MONTH(T33+1)=9,T33+1,"-") -> 45561 | U34: =IF(MONTH(U33+1)=10,U33+1,"-") -> 45591 | V34: =IF(MONTH(V33+1)=11,V33+1,"-") -> 45622 | W34: =IF(MONTH(W33+1)=12,W33+1,"-") -> 45652
G35: =IFERROR(INDEX(Planning!$D$4:$LO$4,SMALL(IF(Planning!D$93:LO$93>0,COLUMN(Planning!$D$5:$LO$5)-3),ROW(Planning!29:29))),"") | H35: =IFERROR(INDEX(Planning!$D$2:$VW$2,SMALL(IF(Planning!D$59:VW$59>0,COLUMN(Planning!$D$5:$VW$5)-3),ROW(Planning!29:29))),"") | L35: =IF(MONTH(L34+1)=1,L34+1,"-") -> 45318 | M35: =IFERROR(IF(MONTH(M34+1)=2,M34+1,"-"),"-") -> 45349 | N35: =IF(MONTH(N34+1)=3,N34+1,"-") -> 45378 | O35: =IF(MONTH(O34+1)=4,O34+1,"-") -> 45409 | P35: =IF(MONTH(P34+1)=5,P34+1,"-") -> 45439 | Q35: =IF(MONTH(Q34+1)=6,Q34+1,"-") -> 45470 | R35: =IF(MONTH(R34+1)=7,R34+1,"-") -> 45500 | S35: =IF(MONTH(S34+1)=8,S34+1,"-") -> 45531 | T35: =IF(MONTH(T34+1)=9,T34+1,"-") -> 45562 | U35: =IF(MONTH(U34+1)=10,U34+1,"-") -> 45592 | V35: =IF(MONTH(V34+1)=11,V34+1,"-") -> 45623 | W35: =IF(MONTH(W34+1)=12,W34+1,"-") -> 45653
G36: =IFERROR(INDEX(Planning!$D$4:$LO$4,SMALL(IF(Planning!D$93:LO$93>0,COLUMN(Planning!$D$5:$LO$5)-3),ROW(Planning!30:30))),"") | H36: =IFERROR(INDEX(Planning!$D$2:$VW$2,SMALL(IF(Planning!D$59:VW$59>0,COLUMN(Planning!$D$5:$VW$5)-3),ROW(Planning!30:30))),"") | L36: =IF(MONTH(L35+1)=1,L35+1,"-") -> 45319 | M36: =IFERROR(IF(MONTH(M35+1)=2,M35+1,"-"),"-") -> 45350 | N36: =IF(MONTH(N35+1)=3,N35+1,"-") -> 45379 | O36: =IF(MONTH(O35+1)=4,O35+1,"-") -> 45410 | P36: =IF(MONTH(P35+1)=5,P35+1,"-") -> 45440 | Q36: =IF(MONTH(Q35+1)=6,Q35+1,"-") -> 45471 | R36: =IF(MONTH(R35+1)=7,R35+1,"-") -> 45501 | S36: =IF(MONTH(S35+1)=8,S35+1,"-") -> 45532 | T36: =IF(MONTH(T35+1)=9,T35+1,"-") -> 45563 | U36: =IF(MONTH(U35+1)=10,U35+1,"-") -> 45593 | V36: =IF(MONTH(V35+1)=11,V35+1,"-") -> 45624 | W36: =IF(MONTH(W35+1)=12,W35+1,"-") -> 45654
G37: =IFERROR(INDEX(Planning!$D$4:$LO$4,SMALL(IF(Planning!D$93:LO$93>0,COLUMN(Planning!$D$5:$LO$5)-3),ROW(Planning!31:31))),"") | H37: =IFERROR(INDEX(Planning!$D$2:$VW$2,SMALL(IF(Planning!D$59:VW$59>0,COLUMN(Planning!$D$5:$VW$5)-3),ROW(Planning!31:31))),"") | L37: =IF(MONTH(L36+1)=1,L36+1,"-") -> 45320 | M37: =IFERROR(IF(MONTH(M36+1)=2,M36+1,"-"),"-") -> 45351 | N37: =IF(MONTH(N36+1)=3,N36+1,"-") -> 45380 | O37: =IF(MONTH(O36+1)=4,O36+1,"-") -> 45411 | P37: =IF(MONTH(P36+1)=5,P36+1,"-") -> 45441 | Q37: =IF(MONTH(Q36+1)=6,Q36+1,"-") -> 45472 | R37: =IF(MONTH(R36+1)=7,R36+1,"-") -> 45502 | S37: =IF(MONTH(S36+1)=8,S36+1,"-") -> 45533 | T37: =IF(MONTH(T36+1)=9,T36+1,"-") -> 45564 | U37: =IF(MONTH(U36+1)=10,U36+1,"-") -> 45594 | V37: =IF(MONTH(V36+1)=11,V36+1,"-") -> 45625 | W37: =IF(MONTH(W36+1)=12,W36+1,"-") -> 45655
G38: =IFERROR(INDEX(Planning!$D$4:$LO$4,SMALL(IF(Planning!D$93:LO$93>0,COLUMN(Planning!$D$5:$LO$5)-3),ROW(Planning!32:32))),"") | H38: =IFERROR(INDEX(Planning!$D$2:$VW$2,SMALL(IF(Planning!D$59:VW$59>0,COLUMN(Planning!$D$5:$VW$5)-3),ROW(Planning!32:32))),"") | L38: =IF(MONTH(L37+1)=1,L37+1,"-") -> 45321 | M38: =IFERROR(IF(MONTH(M37+1)=2,M37+1,"-"),"-") -> - | N38: =IF(MONTH(N37+1)=3,N37+1,"-") -> 45381 | O38: =IF(MONTH(O37+1)=4,O37+1,"-") -> 45412 | P38: =IF(MONTH(P37+1)=5,P37+1,"-") -> 45442 | Q38: =IF(MONTH(Q37+1)=6,Q37+1,"-") -> 45473 | R38: =IF(MONTH(R37+1)=7,R37+1,"-") -> 45503 | S38: =IF(MONTH(S37+1)=8,S37+1,"-") -> 45534 | T38: =IF(MONTH(T37+1)=9,T37+1,"-") -> 45565 | U38: =IF(MONTH(U37+1)=10,U37+1,"-") -> 45595 | V38: =IF(MONTH(V37+1)=11,V37+1,"-") -> 45626 | W38: =IF(MONTH(W37+1)=12,W37+1,"-") -> 45656
G39: =IFERROR(INDEX(Planning!$D$4:$LO$4,SMALL(IF(Planning!D$93:LO$93>0,COLUMN(Planning!$D$5:$LO$5)-3),ROW(Planning!33:33))),"") | H39: =IFERROR(INDEX(Planning!$D$2:$VW$2,SMALL(IF(Planning!D$59:VW$59>0,COLUMN(Planning!$D$5:$VW$5)-3),ROW(Planning!33:33))),"") | L39: =IF(MONTH(L38+1)=1,L38+1,"-") -> 45322 | M39: =IFERROR(IF(MONTH(M38+1)=2,M38+1,"-"),"-") -> - | N39: =IF(MONTH(N38+1)=3,N38+1,"-") -> 45382 | O39: =IF(MONTH(O38+1)=4,O38+1,"-") -> - | P39: =IF(MONTH(P38+1)=5,P38+1,"-") -> 45443 | Q39: =IF(MONTH(Q38+1)=6,Q38+1,"-") -> - | R39: =IF(MONTH(R38+1)=7,R38+1,"-") -> 45504 | S39: =IF(MONTH(S38+1)=8,S38+1,"-") -> 45535 | T39: =IF(MONTH(T38+1)=9,T38+1,"-") -> - | U39: =IF(MONTH(U38+1)=10,U38+1,"-") -> 45596 | V39: =IF(MONTH(V38+1)=11,V38+1,"-") -> - | W39: =IF(MONTH(W38+1)=12,W38+1,"-") -> 45657
G40: =IFERROR(INDEX(Planning!$D$4:$LO$4,SMALL(IF(Planning!D$93:LO$93>0,COLUMN(Planning!$D$5:$LO$5)-3),ROW(Planning!#REF!))),"") | H40: =IFERROR(INDEX(Planning!$D$2:$VW$2,SMALL(IF(Planning!D$59:VW$59>0,COLUMN(Planning!$D$5:$VW$5)-3),ROW(Planning!#REF!))),"")
G41: =IFERROR(INDEX(Planning!$D$4:$LO$4,SMALL(IF(Planning!D$93:LO$93>0,COLUMN(Planning!$D$5:$LO$5)-3),ROW(Planning!#REF!))),"") | H41: =IFERROR(INDEX(Planning!$D$2:$VW$2,SMALL(IF(Planning!D$59:VW$59>0,COLUMN(Planning!$D$5:$VW$5)-3),ROW(Planning!#REF!))),"")
G42: =IFERROR(INDEX(Planning!$D$4:$LO$4,SMALL(IF(Planning!D$93:LO$93>0,COLUMN(Planning!$D$5:$LO$5)-3),ROW(Planning!#REF!))),"") | H42: =IFERROR(INDEX(Planning!$D$2:$VW$2,SMALL(IF(Planning!D$59:VW$59>0,COLUMN(Planning!$D$5:$VW$5)-3),ROW(Planning!#REF!))),"")
G43: =IFERROR(INDEX(Planning!$D$4:$LO$4,SMALL(IF(Planning!D$93:LO$93>0,COLUMN(Planning!$D$5:$LO$5)-3),ROW(Planning!#REF!))),"") | H43: =IFERROR(INDEX(Planning!$D$2:$VW$2,SMALL(IF(Planning!D$59:VW$59>0,COLUMN(Planning!$D$5:$VW$5)-3),ROW(Planning!#REF!))),"")
...

Sheet Planning
D1: lundi | F1: mardi | H1: mercredi | I1: jeudi | K1: vendredi | M1: lundi | O1: mardi | Q1: mercredi | R1: jeudi | T1: vendredi | V1: lundi | X1: mardi | Z1: mercredi | AA1: jeudi | AC1: vendredi | AE1: lundi | AG1: mardi | AI1: mercredi | AJ1: jeudi | AL1: vendredi | AN1: lundi | AQ1: mardi | AS1: mercredi | AT1: jeudi | AV1: vendredi | AX1: lundi | AZ1: mardi | BB1: mercredi | BC1: jeudi | BE1: vendredi | BG1: lundi | BI1: mardi | BK1: mercredi | BL1: jeudi | BN1: vendredi | BQ1: lundi | BS1: mardi | BU1: mercredi | BV1: jeudi | BX1: vendredi | BZ1: mardi | CB1: mercredi | CC1: jeudi | CE1: vendredi | CG1: Lundi | CI1: mardi | CK1: mercredi | CL1: jeudi | CN1: vendredi | CP1: Lundi | CR1: mardi | CT1: mercredi | CU1: jeudi | CW1: vendredi | CZ1: Lundi | DB1: mardi | DD1: mercredi | DE1: jeudi | DG1: vendredi | DI1: Lundi | DK1: mardi | DM1: mercredi | DN1: jeudi | DP1: vendredi | DR1: Lundi | DT1: mardi | DV1: mercredi | DW1: jeudi | DY1: vendredi | EB1: Lundi | ED1: mardi | EF1: mercredi | EG1: jeudi | EI1: vendredi | EK1: Lundi | EM1: mardi | EO1: mercredi | EP1: jeudi | ER1: vendredi | ET1: Lundi | EV1: mardi | EX1: mercredi | EY1: jeudi | FA1: vendredi | FC1: Lundi | FE1: mardi | FG1: mercredi | FH1: jeudi | FK1: vendredi | FM1: Lundi | FO1: Mardi | FQ1: Mercredi | FR1: Jeudi | FT1: Vendredi | FV1: Lundi | FX1: Mardi | FZ1: Mercredi | GA1: Jeudi | GC1: Vendredi | GF1: Lundi | GH1: Mardi | GJ1: Mercredi | GK1: Jeudi | GM1: Vendredi | GO1: Lundi | GQ1: Mardi | GS1: Mercredi | GT1: Jeudi | GV1: Vendredi | GX1: Lundi | GZ1: Mardi | HB1: Mercredi | HC1: Jeudi | HE1: Vendredi | HG1: Lundi | HI1: Mardi | HK1: Mercredi | HL1: Jeudi | HN1: Vendredi | HP1: Lundi | HS1: Mardi | HU1: Mercredi | HV1: Jeudi | HX1: Vendredi | HZ1: Lundi | IB1: Mardi | ID1: Mercredi | IE1: Jeudi | IG1: Vendredi | II1: Lundi | IK1: Mardi | IM1: Mercredi | IO1: Vendredi | IQ1: Lundi | IS1: Mardi | IU1: Mercredi | IV1: Vendredi | IX1: Lundi | IZ1: Mardi | JB1: Mercredi | JC1: Jeudi | JE1: Vendredi | JG1: Lundi | JI1: Mardi | JK1: Mercredi | JL1: Jeudi | JN1: Vendredi | JP1: Lundi | JR1: Mardi | JT1: Mercredi | JV1: Lundi | JX1: Mardi | JZ1: Mercredi | KA1: Jeudi | KC1: Vendredi | KE1: Mardi | KG1: Mercredi | KH1: Jeudi | KJ1: Vendredi | KL1: Lundi | KN1: Mardi | KP1: Mercredi | KQ1: Jeudi | KS1: Vendredi | KU1: Lundi | KW1: Mardi | KY1: Mercredi | KZ1: Jeudi | LB1: Vendredi | LD1: Lundi | LG1: Mardi | LI1: Mercredi | LJ1: Jeudi | LL1: Vendredi
D2: Formation Brigade Musique- | E2: Formation Brigade Musique- | F2: Brigade | G2: Brigade | H2: Pondération 1 | I2: Formation Brigade Numérique- | J2: Formation Brigade situation complexe- | K2: Formation Brigade Natation | L2: Formation Brigade Natation- | M2: Pondération 1 | N2: Pondération 1 | O2: Pondération 1 | P2: Pondération 1 | Q2: Pondération 1 | R2: Formation Nouveaux REP+ | S2: Formation Nouveaux REP+ | T2: Pondération 1 | U2: Pondération 1 | V2: Pondération 1 | W2: Pondération 1 | X2: Formation Nouveaux REP+ | Y2: Formation Nouveaux REP+ | Z2: Pondération 1 | AA2: Formation production ecrits CP CE1- | AB2: Pondération 1 | AC2: Pondération 1 | AD2: Pondération 1 | AE2: Pondération 1 | AF2: Pondération brigade 1 | AG2: Formation 1 arts plastiques élémentaire école | AH2: Formation 1 arts plastiques élémentaire école | AI2: Formation 1 arts plastiques élémentaire école | AJ2: Formation 1 arts plastiques élémentaire école | AK2: Formation 1 arts plastiques élémentaire école | AL2: Formation 1 arts plastiques élémentaire école | AM2: Pondération 2 | AN2: Pondération 2 | AO2: Pondération 2 | AQ2: formation Reformulation Maternelle école | AR2: formation Reformulation Maternelle école | AS2: Pondération 2 | AT2: Formation production écrits CE2 CM1 CM2- | AU2: Formation production écrits CE2 CM1 CM2- | AV2: Pondération 2 | AW2: Pondération 2 | AX2: Formation Mathématiques CE2 CM1 CM2 +Ecolier Citoyen dans la ville- | AY2: Formation Mathématiques CE2 CM1 CM2 +Ecolier Citoyen dans la ville- | AZ2: Pondération 2 | BA2: Pondération 2 | BB2: Pondération 2 | BC2: Pondération 2 | BD2: Pondération 2 | BE2: Pondération 2 | BF2: Pondération 2 | BG2: Formation mater comprehension ecole T1 | BH2: Formation mater comprehension ecole T2 | BI2: Formation mater Musique ecole T1 | BJ2: Formation mater Musique ecole T1 | BK2: Pondération 2 | BL2: Formation sciences CE2 CM1 CM2 | BM2: Formation sciences CE2 CM1 CM2 | BN2: Pondération 2 | BO2: Brigade 2- Galia | BQ2: Formation Savoir Nager | BR2: Formation Savoir Nager | BS2: Formation école Musique/Fluence T1 ----------- Formation CE2-CM1-2 Production d'écrits | BT2: Formation école Musique/Fluence T1 | BU2: Pondération 3 | BV2: Pondération 3 | BW2: Pondération 3 | BX2: Formation Savoir Nager | BY2: Pondération 3 | BZ2: Formation Musique PS et MS | CA2: Formation Musique PS et MS | CB2: Pondération 3 | CC2: Formation arts plastiques PS et MS | CD2: Formation arts plastiques PS et MS | CE2: Formation savoir Nager | CF2: Formation savoir Nager | CG2: Pondération 3 | CH2: Pondération 3 | CI2: Pondération 3 | CJ2: Pondération 3 | CK2: Pondération 3 | CL2: Formation Regulation Elementaire école | CM2: Formation Regulation Elementaire école | CN2: Formation savoir Nager | CO2: Pondération 3 | CP2: Formation printemps des poètes CE2 CM1 CM2 (écriture ) | CQ2: Formation printemps des poètes CE2 CM1 CM2 (écriture) | CR2: Formation printemps des poètes CE2 CM1 CM2 (écriture-mise en voix)- | CS2: Pondération 3 | CT2: Pondération 3 | CU2: Pondération 3 | CV2: Formation seminaire directeurs | CW2: Pondération 3 | CX2: Brigade 3- | CZ2: Formation printemps des poètes-Musique CE2 CM1 CM2 (écriture) | DA2: Formation printemps des poètes-Musique CE2 CM1 CM2 (écriture) | DB2: Formation printemps des poètes-Musique CE2 CM1 CM2 (écriture- mise en voix) | DC2: Séminaire CE2 CM1 CM2 | DD2: Séminaire CE2 CM1 CM2 | DE2: Formation musique maternelle école T2 | DF2: Séminaire CE2 CM1 CM2 | DG2: Formation mathématiquesCE2CM1CM2 | DH2: Formation mathématiquesCE2CM1CM2 | DI2: Formation maths CP-CE1 | DJ2: Formation maths CP-CE1 | DK2: Séminaire CE2 CM1 CM2 | DL2: Formation régulation Elémentaire école | DM2: Pondération 4 | DN2: Formation sciences ecole | DO2: Formation sciences ecole | DP2: Formation maternelle Reformulation école | DQ2: Formation maternelle Reformulation école | DR2: Formation compréhension-coopération | DS2: Formation compréhension-coopération | DT2: Pondération 4 | DU2: Pondération 4 | DV2: Pondération 4 | DW2: Pondération 4 | DX2: Pondération 4 | DY2: Pondération 4 | DZ2: Pondération 4 | EB2: Pondération 4 | EC2: Formation comprehension mater école T2 | ED2: Formation Casnav et LVE T1 mater école | EE2: Formation Casnav et LVE T1 mater école | EF2: Formation production ecrits CE2 CM1 CM2 | EG2: Formation CP-CE1 dédoublés T1 | EH2: Formation CP-CE1 dédoublés T1 | EI2: Formation CP-CE1 dédoublés T1 | EJ2: Formation CP-CE1 dédoublés T1 | EK2: Formation CP-CE1 dédoublés T1 | EL2: Formation CP-CE1 dédoublés T1 | EM2: Formation maths CE2 CM1 CM2 Formation production écrits | EN2: Pondératon 4 | EO2: Formation régulation Elémentaire école | EP2: formation production ecrits CP-CE1 | EQ2: Pondération 4 | ER2: Pondération 4 | ES2: Pondération 4 | ET2: Formation plurilinguisme mater école T1 | EU2: Formation plurilinguisme mater école T1 | EV2: Formation EPS mater T1 école | EW2: Formation EPS mater T1 école | EX2: Pondération 4 | EY2: Formation GS dedoublées T1 | EZ2: Formation GS dedoublées T1 | FA2: Formation GS dedoublées T1 / Formation Musique PS-MS T1 | FB2: Formation GS dedoublées T1 / Formation Musique PS-MS T1 | FC2: Formation CP-CE1 dédoublés T1 | FD2: Formation CP-CE1 dédoublés T1 | FE2: Formation CP-CE1 dédoublés T1 | FF2: Formation CP-CE1 dédoublés T1 | FG2: Pondération 4 | FH2: Formation GS dédoublées T1 | FI2: Formation GS dédoublées T1 | FJ2: Pondération 4 | FK2: Pondération 5 | FM2: Pondération 5 | FN2: Pondération 5 | FO2: Pondération 5 | FP2: Pondération 5 | FQ2: Pondération 5 | FR2: Pondération 5 | FS2: Pondération 5 | FT2: formation Maths CE2 CM1 CM2 | FU2: Formation école Musique/Fluence T1 ----- Formation production écrits | FV2: Formation régulation Elémentaire école | FW2: Formation régulation Elémentaire école | FX2: Pondération 5 | FY2: Pondération 5 | FZ2: Pondération 5 | GA2: Pondération 5 | GB2: Pondération 5 | GC2: Pondération 5 | GD2: Pondération 5 | GF2: Formation CP-CE1 dédoublés T2 | GG2: Formation CP-CE1 dédoublés T2 | GH2: Formation CP-CE1 dédoublés T2 | GI2: Brigade 5 | GJ2: Pondération 6 | GK2: Formation casnav et LVE école T2 | GL2: Pondération 6 | GM2: Formation Sciences CE2 CM1 CM2 | GN2: Pondération 6 | GO2: Formation GS dedoublées T2 | GP2: Pondération 6 | GQ2: Pondération 6 | GR2: Pondération 6 | GS2: Pondération 6 | GT2: Formation CP-CE1 dédoublés T2 | GU2: Formation CP-CE1 dédoublés T2 | GV2: Formation Maths Cycle Formation Interactions- école | GW2: Formation Interactions- école | GX2: Pondération 6 | GY2: Pondération 6 | GZ2: Pondération 6 | HA2: Pondération 6 | HB2: Formation production ecrits CP CE1 | HC2: Pondération 6 | HD2: Pondération 6 | HE2: Formation Reformaulation | HF2: Formation Reformaulation | HG2: Pondération 6 | HH2: Pondération 6 | HI2: Brigade 6 | HJ2: Formation GS dédoublées T2 | HK2: Pondération 7 | HL2: Pondération 7 | HM2: Pondération 7 | HN2: Formation GS dedoublées T2 / Formation Musique PS-MS T1 | HO2: Pondération 7 | HP2: Formation EPS Mater école | HQ2: Pondération 7 | HS2: Formation Musique PS MS | HT2: Pondération 7 | HU2: Pondération 7 | HV2: Formation école Sciences | HW2: Pondération 7 | HX2: Formation arts plastiques PS MS | HY2: Pondération 7 | HZ2: Pondération 7 | IA2: Pondération 7 | IB2: Pondération 7 | IC2: Pondération 7 | ID2: Pondération 7 | IE2: Pondération 7 | IF2: Brigade 7 | IG2: Pondération 8 | IH2: Pondération 8 | II2: Pondération 8 | IJ2: Pondération 8 | IK2: Pondération 8 | IL2: Pondération 8 | IM2: Pondération 8 | IO2: Formation interactions dans les apprentissages | IP2: Formation interactions dans les apprentissages | IQ2: Pondération 8 | IR2: Pondération 8 | IS2: Formation plurilinguisme mater école T2 | IT2: Pondération 8 | IU2: Pondération 8 | IV2: Pondération 8 | IW2: Pondération 8 | IX2: Pondération 8 | IY2: Pondération 8 | IZ2: Brigade 8 | JA2: Pondération 9 | JB2: Pondération 9 | JC2: Pondération 9 | JD2: Pondération 9 | JE2: Pondération 9 | JF2: Pondération 9 | JG2: Pondération 9 | JH2: Pondération 9 | JI2: Pondération 9 | JJ2: Pondération 9 | JK2: Pondération 9 | JL2: Pondération 9 | JM2: Pondération 9 | JN2: Pondération 9 | JO2: Pondération 9 | JP2: Brigade 8 | JQ2: Pondération 10 | JR2: Pondération 10 | JS2: Pondération 10 | JT2: Pondération 10 | JV2: Pondération 10 | JW2: Pondération 10 | JX2: Pondération 10 | JY2: Pondération 10 | JZ2: Pondération 10 | KA2: Pondération 10 | KB2: Pondération 10 | KC2: Pondération 10 | KD2: Pondération 10 | KE2: Pondération 10 | KF2: Pondération 10 | KG2: Brigade 10 | KH2: Pondération 11 | KI2: Pondération 11 | KJ2: Pondération 11 | KK2: Pondération 11 | KL2: Pondération 11 | KM2: Pondération 11 | KN2: Pondération 11 | KO2: Pondération 11 | KP2: Pondération 11 | KQ2: Pondération 11 | KR2: Pondération 11 | KS2: Pondération 11 | KT2: Pondération 11 | KU2: Pondération 11 | KV2: Pondération 11 | KW2: Brigade 11 | KX2: Pondération 12 | KY2: Pondération 12 | KZ2: Pondération 12 | LA2: Pondération 12 | LB2: Pondération 12 | LC2: Pondération 12 | LD2: Pondération 12 | LE2: Pondération 12 | LG2: Pondération 12 | LH2: Pondération 12 | LI2: Pondération 12 | LJ2: Pondération 12 | LK2: Pondération 12 | LL2: Pondération 12 | LM2: Pondération 12
D3: Falcucci | E3: Falcucci | I3: Galia | J3: Galia | L3: Bastide RDC bâtiment 2 | R3: Coll. St Simon | S3: Coll. St Simon | X3: Coll. St Simon | Y3: Coll. St Simon | AA3: Galia | AF3: Galia -Salle Maths&Sciences | AT3: Galia | AU3: Galia | AX3: Galia | AY3: Galia | BG3: Stendhal | BH3: Stendhal | BI3: Falcucci | BJ3: Falcucci | BL3: Galia-Maths &sciences----- | BM3: Galia-Maths &sciences----- | BN3: Galia | BO3: Galia | BQ3: Piscine Alban Minville | BS3: Galia-Maths &sciences----- | BT3: Galia-Maths & sciences | BX3: Piscine Alban Minville | BZ3: Falcucci élem | CA3: Falcucci élem | CC3: Galia-Maths&ciences --- | CD3: Galia-Maths&ciences --- | CE3: Piscine Alban Minville | CF3: Salle de conférence Piscine Alban Minville | CL3: collège Bellevue | CM3: Collège Bellevue | CP3: Collège St.Simon | CQ3: Collège St.Simon | CR3: Ecole Elem Falcucci | CZ3: Collège St.Simon | DA3: Collège St.Simon | DE3: école élem.Falcucci | DG3: Galia-Maths&ciences --- | DH3: Galia-Maths&ciences --- | DI3: Galia-Maths&ciences --- | DJ3: Galia-Maths&ciences --- | DN3: Galia-Maths&ciences --- | DO3: Galia-Maths&ciences --- | FU3: Galia-Maths&ciences --- | FV3: Collège Bellevue | FW3: Collège Bellevue
A4: NOM | B4: AM_Sept_01 | C4: PM_Sept_01 | D4: AM_Sept_02 | E4: PM_Sept_02 | F4: AM_Sept_03 | G4: PM_Sept_03 | H4: AM_Sept_04 | I4: AM_Sept_05 | J4: PM_Sept_05 | K4: AM_Sept_06 | L4: PM_Sept_06 | M4: AM_Sept_09 | N4: PM_Sept_09 | O4: AM_Sept_10 | P4: PM_Sept_10 | Q4: AM_Sept_11 | R4: AM_Sept_12 | S4: PM_Sept_12 | T4: AM_Sept_13 | U4: PM_Sept_13 | V4: AM_Sept_16 | W4: PM_Sept_16 | X4: AM_Sept_17 | Y4: PM_Sept_17 | Z4: AM_Sept_18 | AA4: AM_Sept_19 | AB4: PM_Sept_19 | AC4: AM_Sept_20 | AD4: PM_Sept_20 | AE4: AM_Sept_23 | AF4: PM_Sept_23 | AG4: AM_Sept_24 | AH4: PM_Sept_24 | AI4: AM_Sept_25 | AJ4: AM_Sept_26 | AK4: PM_Sept_26 | AL4: AM_Sept_27 | AM4: PM_Sept_27 | AN4: AM_Sept_30 | AO4: PM_Sept_30 | AP4: Octobre | AQ4: AM_Oct_01 | AR4: PM_Oct_01 | AS4: AM_Oct_02 | AT4: AM_Oct_03 | AU4: PM_Oct_03 | AV4: AM_Oct_04 | AW4: PM_Oct_04 | AX4: AM_Oct_07 | AY4: PM_Oct_07 | AZ4: AM_Oct_08 | BA4: PM_Oct_08 | BB4: AM_Oct_09 | BC4: AM_Oct_10 | BD4: PM_Oct_10 | BE4: AM_Oct_11 | BF4: PM_Oct_11 | BG4: AM_Oct_14 | BH4: PM_Oct_14 | BI4: AM_Oct_15 | BJ4: PM_Oct_15 | BK4: AM_Oct_16 | BL4: AM_Oct_17 | BM4: PM_Oct_17 | BN4: AM_Oct_18 | BO4: PM_Oct_18 | BP4: Novembre | BQ4: AM_Nov_04 | BR4: PM_Nov_04 | BS4: AM_Nov_05 | BT4: PM_Nov_05 | BU4: AM_Nov_06 | BV4: AM_Nov_07 | BW4: PM_Nov_07 | BX4: AM_Nov_08 | BY4: PM_Nov_08 | BZ4: AM_Nov_12 | CA4: PM_Nov_12 | CB4: AM_Nov_13 | CC4: AM_Nov_14 | CD4: PM_Nov_14 | CE4: AM_Nov_15 | CF4: PM_Nov_15 | CG4: AM_Nov_18 | CH4: PM_Nov_18 | CI4: AM_Nov_19 | CJ4: PM_Nov_19 | CK4: AM_Nov_20 | CL4: AM_Nov_21 | CM4: PM_Nov_21 | CN4: AM_Nov_22 | CO4: PM_Nov_22 | CP4: AM_Nov_25 | CQ4: PM_Nov_25 | CR4: AM_Nov_26 | CS4: Mardi-PM_Nov_26 | CT4: Mercredi AM_Nov_27 | CU4: AM_Nov_28 | CV4: PM_Nov_28 | CW4: AM_Nov_29 | CX4: PM_Nov_29 | CY4: Décembre | CZ4: AM_Déc_02 | DA4: PM_Déc_02 | DB4: AM_Déc_03 | DC4: PM_Déc_03 | DD4: AM_Déc_04 | DE4: AM_Déc_05 | DF4: PM_Déc_05 | DG4: AM_Déc_06 | DH4: PM_Déc_06 | DI4: AM_Déc_09 | DJ4: PM_Déc_09 | DK4: AM_Déc_10 | DL4: PM_Déc_10 | DM4: AM_Déc_11 | DN4: AM_Déc_12 | DO4: PM_Déc_12 | DP4: AM_Déc_13 | DQ4: PM_Déc_13 | DR4: AM_Déc_16 | DS4: PM_Déc_16 | DT4: AM_Déc_17 | DU4: PM_Déc_17 | DV4: AM_Déc_18 | DW4: AM_Déc_19 | DX4: PM_Déc_19 | DY4: AM_Déc_20 | DZ4: PM_Déc_20 | EA4: Janvier | EB4: AM_Janv_06 | EC4: PM_Janv_06 | ED4: AM_Janv_07 | EE4: PM_Janv_07 | EF4: AM_Janv_08 | EG4: AM_Janv_09 | EH4: PM_Janv_09 | EI4: AM_Janv_10 | EJ4: PM_Janv_10 | EK4: AM_Janv_13 | EL4: PM_Janv_13 | EM4: AM_Janv_14 | EN4: PM_Janv_14 | EO4: AM_Janv_15 | EP4: AM_Janv_16 | EQ4: PM_Janv_16 | ER4: AM_Janv_17 | ES4: PM_Janv_17 | ET4: AM_Janv_20 | EU4: PM_Janv_20 | EV4: AM_Janv_21 | EW4: PM_Janv_21 | EX4: AM_Janv_22 | EY4: AM_Janv_23 | EZ4: PM_Janv_23 | FA4: AM_Janv_24 | FB4: PM_Janv_24 | FC4: AM_Janv_27 | FD4: PM_Janv_27 | FE4: AM_Janv_28 | FF4: PM_Janv_28 | FG4: AM_Janv_29 | FH4: AM_Janv_30 | FI4: PM_Janv_30 | FJ4: PM_Janv_31 | FK4: AM_Janv_31 | FL4: Février | FM4: AM_Fév_03 | FN4: PM_Fév_03 | FO4: AM_Fév_04 | FP4: PM_Fév_04 | FQ4: AM_Fév_05 | FR4: AM_Fév_06 | FS4: PM_Fév_06 | FT4: AM_Fév_07 | FU4: PM_Fév_07 | FV4: AM_Fév_10 | FW4: PM_Fév_10 | FX4: AM_Fév_11 | FY4: PM_Fév_11 | FZ4: AM_Fév_12 | GA4: AM_Fév_13 | GB4: PM_Fév_13 | GC4: AM_Fév_14 | GD4: PM_Fév_14 | GE4: Mars | GF4: AM_Mar_03 | GG4: PM_Mar_03 | GH4: AM_Mar_04 | GI4: PM_Mar_04 | GJ4: AM_Mar_05 | GK4: AM_Mar_06 | GL4: PM_Mar_06 | GM4: AM_Mar_07 | GN4: PM_Mar_07 | GO4: AM_Mar_10 | GP4: PM_Mar_10 | GQ4: AM_Mar_11 | GR4: PM_Mar_11 | GS4: AM_Mar_12 | GT4: AM_Mar_13 | GU4: PM_Mar_13 | GV4: AM_Mar_14 | GW4: PM_Mar_14 | GX4: AM_Mar_17 | GY4: PM_Mar_17 | GZ4: AM_Mar_18 | HA4: PM_Mar_18 | HB4: AM_Mar_19 | HC4: AM_Mar_20 | HD4: PM_Mar_20 | HE4: AM_Mar_21 | HF4: PM_Mar_21 | HG4: AM_Mar_24 | HH4: PM_Mar_24 | HI4: AM_Mar_25 | HJ4: PM_Mar_25 | HK4: AM_Mar_26 | HL4: AM_Mar_27 | HM4: PM_Mar_27 | HN4: AM_Mar_28 | HO4: PM_Mar_28 | HP4: AM_Mar_31 | HQ4: PM_Mar_31 | HR4: Avril | HS4: AM_Avr_01 | HT4: PM_Avr_01 | HU4: AM_Avr_02 | HV4: AM_Avr_03 | HW4: PM_Avr_03 | HX4: AM_Avr_04 | HY4: PM_Avr_04 | HZ4: AM_Avr_07 | IA4: PM_Avr_07 | IB4: AM_Avr_08 | IC4: PM_Avr_08 | ID4: AM_Avr_09 | IE4: AM_Avr_10 | IF4: PM_Avr_10 | IG4: AM_Avr_11 | IH4: PM_Avr_11 | II4: AM_Avr_28 | IJ4: PM_Avr_28 | IK4: AM_Avr_29 | IL4: PM_Avr_29 | IM4: AM_Avr_30 | IN4: Mai | IO4: AM_Mai_02 | IP4: PM_Mai_02 | IQ4: AM_Mai_05 | IR4: PM_Mai_05 | IS4: AM_Mai_06 | IT4: PM_Mai_06 | IU4: AM_Mai_07 | IV4: AM_Mai_09 | IW4: PM_Mai_09 | IX4: AM_Mai_12 | IY4: PM_Mai_12 | IZ4: AM_Mai_13 | JA4: PM_Mai_13 | JB4: AM_Mai_14 | JC4: AM_Mai_15 | JD4: PM_Mai_15 | JE4: AM_Mai_16 | JF4: PM_Mai_16 | JG4: AM_Mai_19 | JH4: PM_Mai_19 | JI4: AM_Mai_20 | JJ4: PM_Mai_20 | JK4: AM_Mai_21 | JL4: AM_Mai_22 | JM4: PM_Mai_22 | JN4: AM_Mai_23 | JO4: PM_Mai_23 | JP4: AM_Mai_26 | JQ4: PM_Mai_26 | JR4: AM_Mai_27 | JS4: PM_Mai_27 | JT4: AM_Mai_28 | JU4: Juin | JV4: AM_Juin_02 | JW4: PM_Juin_02 | JX4: AM_Juin_03 | JY4: AM_Juin_032 | JZ4: AM_Juin_04 | KA4: AM_Juin_05 | KB4: PM_Juin_05 | KC4: AM_Juin_06 | KD4: PM_Juin_06 | KE4: AM_Juin_10 | KF4: PM_Juin_10 | KG4: AM_Juin_11 | KH4: AM_Juin_12 | KI4: PM_Juin_12 | KJ4: AM_Juin_13 | KK4: PM_Juin_13 | KL4: AM_Juin_16 | KM4: PM_Juin_16 | KN4: AM_Juin_17 | KO4: PM_Juin_17 | KP4: AM_Juin_18 | KQ4: AM_Juin_19 | KR4: PM_Juin_19 | KS4: AM_Juin_20 | KT4: PM_Juin_20 | KU4: AM_Juin_23 | KV4: PM_Juin_23 | KW4: AM_Juin_24 | KX4: PM_Juin_24 | KY4: AM_Juin_25 | KZ4: AM_Juin_26 | LA4: PM_Juin_26 | LB4: AM_Juin_27 | LC4: PM_Juin_27 | LD4: AM_Juin_30 | LE4: PM_Juin_30 | LF4: Juillet | LG4: AM_Juil_01 | LH4: PM_Juil_01 | LI4: AM_Juil_02 | LJ4: AM_Juil_03 | LK4: PM_Juil_03 | LL4: AM_Juil_04 | LM4: PM_Juil_04 | LN4: AM_Juil_07 | LO4: PM_Juil_07
A5: A | D5: Formation Brigade | E5: Formation Brigade | F5: Pondération brigade 1 | G5: Pondération brigade 1 | H5: Tabar, PS MS | I5: Formation Brigade | J5: Formation Brigade | K5: Formation Brigade | L5: Formation Brigade | M5: Dottin, C2C3 | N5: Renan, PS-MS | O5: Lalande, CE2 | P5: Billières, CP | Q5: Faucher, MS-GS | R5: Burc N. Pagnol mater | S5: Burc N. Pagnol mater | T5: Bastide, CE2 CM1 CM2 | U5: Pagnol, PS MS | V5: Papus, PS MS | W5: Dauriac, ULIS | X5: Bousquet M. Dauriac CP | Y5: Bousquet M. Dauriac CP | Z5: Triolet, CM1 | AA5: Hugo, ULIS | AB5: Falcucci, PS MS | AC5: Hyon, CE1 | AD5: Buffon, PS MS | AE5: Veil, CE1-CE2 | AF5: Pondération brigade 1 | AG5: Veil, TPS PS | AH5: Veil, TPS PS | AI5: Veil, TPS PS | AJ5: Hyon, CE1 | AK5: Hyon, CE1 | AL5: Hyon, CE1 | AM5: Tabar, PS MS | AN5: Lalande, CE2 | AO5: Renan, PS-MS | AQ5: Faucher, MS-GS | AR5: Faucher, MS-GS | AS5: Billières, CP | AT5: Triolet, CM1 | AU5: Triolet, CM1 | AV5: Faucher, MS-GS | AW5: Pagnol, PS MS | AX5: Marie Ulm Dauriac CM1CM2 | AY5: Marie Ulm Dauriac CM1CM2 | AZ5: Veil, CE1-CE2 | BA5: Buffon, PS MS | BB5: Dottin, C2C3 | BC5: Papus, PS MS | BD5: Dauriac, ULIS | BE5: Hyon, CE1 | BF5: Falcucci, PS MS | BG5: Monnet, GS CO | BH5: Monnet, GS CO | BI5: Pagnol, PS MS | BJ5: Pagnol, PS MS | BK5: Bastide, CE2 CM1 CM2 | BL5: Triolet, CM1 | BM5: Triolet, CM1 | BN5: Triolet, CM1 | BO5: BRIGADE | BQ5: Héritier, ULIS | BR5: Héritier, ULIS | BS5: Bastide, CM1 CM2 | BU5: Lalande, CE2 | BV5: Renan, PS-MS | BW5: Billières, CP | BX5: Héritier, ULIS | BY5: Faucher, MS-GS | BZ5: Tabar, PS MS | CA5: Tabar, PS MS | CB5: Pagnol, PS MS | CC5: Papus, PS MS | CD5: Papus, PS MS | CE5: Buffon, CP | CF5: Buffon, CP | CG5: Veil, CE1-CE2 | CH5: Buffon, PS MS | CI5: Dottin, C2C3 | CJ5: Papus, PS MS | CK5: Dauriac, ULIS | CL5: Veil, CE1-CE2 | CM5: Veil, CE1-CE2 | CN5: Buffon, CP | CO5: Hyon, CE1 | CP5: Lalande,CE2 | CQ5: Lalande,CE2 | CR5: Lalande,CE2 | CS5: Tabar, PS MS | CT5: Bastide, CE2 CM1 CM2 | CU5: Falcucci, PS MS | CV5: Cerezal, Pinhous | CW5: Triolet, CM1 | CX5: BRIGADE | CZ5: Héritier CM1 | DA5: Héritier CM1 | DB5: Héritier CM1 | DE5: Pagnol, PS MS | DG5: Hugo, CE2 | DH5: Hugo, CE2 | DI5: Pagnol, CP | DJ5: Pagnol, CP | DL5: Veil, CE1-CE2 | DM5: Lalande, CE2 | DN5: Bastide, CE2 CM1 CM2 | DO5: Bastide, CE2 CM1 CM2 | DP5: Faucher, MS-GS | DQ5: Faucher, MS-GS | DT5: Renan, PS-MS | DU5: Billières, CP | DV5: Faucher, MS-GS | DW5: Pagnol, PS MS | DX5: Veil, CE1-CE2 | DY5: Buffon, PS MS | DZ5: Dottin, C2C3 | EB5: Papus, PS MS | EC5: Monnet, GS CO | ED5: Bastide, TPS PS | EE5: Bastide, TPS PS | EF5: Hugo, CE2 | EG5: Ronsard, CP | EH5: Ronsard, CP | EI5: Bastide, CP | EJ5: Bastide, CP | EK5: Lalande, CP | EL5: Lalande, CP | EM5: Lalande, CM1 | EN5: Dauriac, ULIS | EO5: Dauriac CP | EP5: Hugo CP | EQ5: Hyon, CE1 | ER5: Tabar, PS MS | ES5: Bastide, CE2 CM1 CM2 | ET5: Renan, PS MS | EU5: Renan, PS MS | EV5: Michel, TPS PS | EW5: Michel, TPS PS | EX5: Falcucci, PS MS | EY5: Michel, MS GS | EZ5: Michel, MS GS | FA5: Ronsard, MS GS | FB5: Ronsard, MS GS | FC5: Papus, CP | FD5: Papus, CP | FE5: Dottin, CP | FF5: Dottin, CP | FG5: Triolet, CM1 | FH5: Daurat, MS GS | FI5: Daurat, MS GS | FJ5: BRIGADE | FK5: Lalande, CE2 | FM5: Renan, PS-MS | FN5: Billières, CP | FO5: Faucher, MS-GS | FP5: Pagnol, PS MS | FQ5: Veil, CE1-CE2 | FR5: Buffon, PS MS | FS5: Dottin, C2C3 | FT5: Hugo, CE2 | FU5: Bastide CM1 CM2 | FV5: Veil, CP | FW5: Veil, CP | FX5: Papus, PS MS | FY5: Dauriac, ULIS | FZ5: Hyon, CE1 | GA5: Tabar, PS MS | GB5: Bastide, CE2 CM1 CM2 | GC5: Falcucci, PS MS | GD5: Triolet, CM1 | GF5: Bastide, CP | GG5: Ronsard, CP | GH5: Dottin, CP | GI5: BRIGADE | GJ5: Lalande, CE2 | GK5: Bastide, TPS PS | GL5: Renan, PS-MS | GM5: Dottin, CE2 | GN5: Billières, CP | GO5: L.Michel, MS GS | GP5: Faucher, MS-GS | GQ5: Pagnol, PS MS | GR5: Veil, CE1-CE2 | GS5: Buffon, PS MS | GT5: Lalande, CP | GU5: Papus, CP | GV5: Pagnol, CP | GW5: Faucher | GX5: Dottin, C2C3 | GY5: Papus, PS MS | GZ5: Dauriac, ULIS | HA5: Hyon, CE1 | HB5: Hugo CP | HC5: Tabar, PS MS | HD5: Bastide, CE2 CM1 CM2 | HG5: Falcucci, PS MS | HH5: Triolet, CM1 | HI5: BRIGADE | HJ5: Daurat, GS- MS | HK5: Billières, CP | HL5: Lalande, CE2 | HM5: Renan, PS-MS | HN5: Ronsard, MS GS | HO5: Veil, CE1-CE2 | HP5: Michel, TPS PS | HQ5: Buffon, PS MS | HT5: Dottin, C2C3 | HU5: Papus, PS MS | HV5: Daurat CP | HW5: Dauriac, ULIS | HX5: Veil, TPS PS MS | HY5: Hyon, CE1 | HZ5: Faucher, MS-GS | IA5: Pagnol, PS MS | IB5: Tabar, PS MS | IC5: Bastide, CE2 CM1 CM2 | ID5: Falcucci, PS MS | IE5: Triolet, CM1 | IF5: BRIGADE | IG5: Lalande, CE2 | IH5: Renan, PS-MS | II5: Billières, CP | IJ5: Faucher, MS-GS | IK5: Pagnol, PS MS | IL5: Veil, CE1-CE2 | IM5: Buffon, PS MS | IO5: Faucher | IP5: Faucher | IQ5: Dottin, C2C3 | IR5: Papus, PS MS | IS5: Renan, PS MS | IT5: Dauriac, ULIS | IU5: Hyon, CE1 | IV5: Tabar, PS MS | IW5: Bastide, CE2 CM1 CM2 | IX5: Falcucci, PS MS | IY5: Triolet, CM1 | IZ5: BRIGADE | JA5: Lalande, CE2 | JB5: Renan, PS-MS | JC5: Billières, CP | JD5: Faucher, MS-GS | JE5: Pagnol, PS MS | JF5: Veil, CE1-CE2 | JG5: Buffon, PS MS | JH5: Dottin, C2C3 | JI5: Papus, PS MS | JJ5: Dauriac, ULIS | JK5: Hyon, CE1 | JL5: Tabar, PS MS | JM5: Bastide, CE2 CM1 CM2 | JN5: Falcucci, PS MS | JO5: Triolet, CM1 | JP5: BRIGADE | JQ5: Lalande, CE2 | JR5: Renan, PS-MS | JS5: Billières, CP | JT5: Faucher, MS-GS | JV5: Pagnol, PS MS | JW5: Veil, CE1-CE2 | JX5: Buffon, PS MS | JY5: Dottin, C2C3 | JZ5: Papus, PS MS | KA5: Dauriac, ULIS | KB5: Hyon, CE1 | KC5: Tabar, PS MS | KD5: Bastide, CE2 CM1 CM2 | KE5: Falcucci, PS MS | KF5: Triolet, CM1 | KG5: BRIGADE | KH5: Lalande, CE2 | KI5: Renan, PS-MS | KJ5: Billières, CP | KK5: Faucher, MS-GS | KL5: Pagnol, PS MS | KM5: Veil, CE1-CE2 | KN5: Buffon, PS MS | KO5: Dottin, C2C3 | KP5: Papus, PS MS | KQ5: Dauriac, ULIS | KR5: Hyon, CE1 | KS5: Tabar, PS MS | KT5: Bastide, CE2 CM1 CM2 | KU5: Falcucci, PS MS | KV5: Triolet, CM1 | KW5: BRIGADE | KX5: Lalande, CE2 | KY5: Renan, PS-MS | KZ5: Billières, CP | LA5: Faucher, MS-GS | LB5: Pagnol, PS MS | LC5: Veil, CE1-CE2 | LD5: Buffon, PS MS | LE5: Dottin, C2C3 | LG5: Papus, PS MS | LH5: Dauriac, ULIS | LI5: Hyon, CE1 | LJ5: Tabar, PS MS | LK5: Bastide, CE2 CM1 CM2 | LL5: Falcucci, PS MS | LM5: Triolet, CM1
A6: B | D6: Formation Brigade | E6: Formation Brigade | F6: Pondération brigade 1 | G6: Pondération brigade 1 | H6: Papus, CP | I6: Formation Brigade | J6: Formation Brigade | K6: Formation Brigade | L6: Formation Brigade | M6: Claudel, GS | N6: Renan, CE1 CO | O6: Triolet, TPS MS | P6: Billières, PS MS | Q6: Faucher, PS-MS | R6: Lauze E. Papus MS | S6: Lauze E. Papus MS | T6: Bastide, CE1 | U6: Pagnol, CP CE1 | V6: Hugo, C2C3 | W6: Dauriac, CM1 CM2 | X6: Delaunay M. Buffon CP | Y6: Delaunay M. Buffon CP | Z6: Triolet, CE2 | AA6: Renan, CE1 CO | AB6: Falcucci, CE1 | AC6: Hyon, CM1 | AD6: Faucher, CM1 CM2 | AE6: Veil, CP | AF6: Pondération brigade 1 | AG6: Falcucci, CE1 | AH6: Falcucci, CE1 | AI6: Falcucci, CE1 | AJ6: Hyon, CM1 | AK6: Hyon, CM1 | AL6: Hyon, CM1 | AM6: Papus, CP | AN6: Triolet, TPS MS | AO6: Renan, CE1 CO | AQ6: Triolet, TPS MS | AR6: Triolet, TPS MS | AS6: Billières, PS MS | AT6: Triolet, CE2 | AU6: Triolet, CE2 | AV6: Faucher, PS-MS | AW6: Pagnol, CP CE1 | AX6: Marie Oliveiro Dauriac CM1CM2 | AY6: Marie Oliveiro Dauriac CM1CM2 | AZ6: Veil, CP | BA6: Faucher, CM1 CM2 | BB6: Claudel, GS | BC6: Hugo, C2C3 | BD6: Dauriac, CM1 CM2 | BE6: Hyon, CM1 | BF6: Falcucci, CE1 | BK6: Bastide, CE1 | BL6: Triolet, CE2 | BM6: Triolet, CE2 | BN6: Triolet, CE2 | BO6: BRIGADE | BQ6: Billières, CP | BR6: Billières, CP | BS6: Papus, CP | BT6: Papus, CP | BU6: Triolet, TPS MS | BV6: Renan, CE1 CO | BW6: Billières, PS MS | BX6: Billières, CP | BY6: Faucher, PS-MS | CB6: Pagnol, CP CE1 | CC6: Billières, PS MS | CD6: Billières, PS MS | CE6: Buffon, CP | CF6: Buffon, CP | CG6: Veil, CP | CH6: Faucher, CM1 CM2 | CI6: Claudel, GS | CJ6: Hugo, C2C3 | CK6: Dauriac, CM1 CM2 | CL6: Veil,CP | CM6: Veil,CP | CN6: Buffon, CP | CO6: Hyon, CM1 | CP6: Hyon, CM1 | CQ6: Hyon, CM1 | CR6: Hyon, CM1 | CS6: Papus, CP | CT6: Bastide, CE1 | CU6: Falcucci, CE1 | CV6: Ratier, Daste mater | CW6: Triolet, CE2 | CX6: BRIGADE | CZ6: Ronsard, CM1 CM2 | DA6: Ronsard, CM1 CM2 | DB6: Ronsard, CM1 CM2 | DG6: Papus, CE2 | DH6: Papus, CE2 | DI6: Pagnol, CP CE1 | DJ6: Pagnol, CP CE1 | DL6: Veil, CP | DM6: Triolet, TPS MS | DN6: Bastide, CE1 | DO6: Bastide, CE1 | DP6: Triolet, TPS MS | DQ6: Triolet, TPS MS | DR6: Faucher, CM1 CM2 | DS6: Faucher, CM1 CM2 | DT6: Renan, CE1 CO | DU6: Billières, PS MS | DV6: Faucher, PS-MS | DW6: Pagnol, CP CE1 | DX6: Veil, CP | DY6: Faucher, CM1 CM2 | DZ6: Claudel, GS | EB6: Hugo, C2C3 | ED6: Bastide, PS MS | EE6: Bastide, PS MS | EF6: Hugo, CE2 | EG6: Ronsard, CP | EH6: Ronsard, CP | EI6: Bastide, CP | EJ6: Bastide, CP | EK6: Lalande, CP | EL6: Lalande, CP | EM6: Lalande, CM1 | EN6: Dauriac, CM1 CM2 | EO6: Dauriac CP | EP6: Hugo CP | EQ6: Hyon, CM1 | ER6: Papus, CP | ES6: Bastide, CE1 | ET6: Renan, PS MS | EU6: Renan, PS MS | EV6: Michel, PS MS | EW6: Michel, PS MS | EX6: Falcucci, CE1 | EY6: Michel, GS | EZ6: Michel, GS | FA6: Ronsard, MS GS | FB6: Ronsard, MS GS | FC6: Papus, CP | FD6: Papus, CP | FE6: Dottin, CP | FF6: Dottin, CP | FG6: Triolet, CE2 | FH6: Daurat, GS | FI6: Daurat, GS | FJ6: BRIGADE | FK6: Triolet, TPS MS | FM6: Renan, CE1 CO | FN6: Billières, PS MS | FO6: Faucher, PS-MS | FP6: Pagnol, CP CE1 | FQ6: Veil, CP | FR6: Faucher, CM1 CM2 | FS6: Claudel, GS | FT6: Hugo, CE2 | FU6: Papus, CP | FV6: Veil,CP | FW6: Veil,CP | FX6: Hugo, C2C3 | FY6: Dauriac, CM1 CM2 | FZ6: Hyon, CM1 | GA6: Papus, CP | GB6: Bastide, CE1 | GC6: Falcucci, CE1 | GD6: Triolet, CE2 | GF6: Bastide, CP | GG6: Ronsard, CP | GH6: Dottin, CP | GI6: BRIGADE | GJ6: Triolet, TPS MS | GK6: Bastide, PS MS | GL6: Renan, CE1 CO | GM6: Dottin, CE2 | GN6: Billières, PS MS | GP6: Faucher, PS-MS | GQ6: Pagnol, CP CE1 | GR6: Veil, CP | GS6: Faucher, CM1 CM2 | GT6: Lalande, CP | GU6: Papus, CP | GV6: Pagnol, CP CE1 | GW6: Faucher | GX6: Claudel, GS | GY6: Hugo, C2C3 | GZ6: Dauriac, CM1 CM2 | HA6: Hyon, CM1 | HB6: Hugo CP | HC6: Papus, CP | HD6: Bastide, CE1 | HE6: Galia, MS GS | HF6: Galia, MS GS | HG6: Falcucci, CE1 | HH6: Triolet, CE2 | HI6: BRIGADE | HJ6: Daurat, GS | HK6: Billières, PS MS | HL6: Triolet, TPS MS | HM6: Renan, CE1 CO | HN6: Ronsard, MS GS | HO6: Veil, CP | HP6: Michel, PS MS | HQ6: Faucher, CM1 CM2 | HT6: Claudel, GS | HU6: Hugo, C2C3 | HV6: Daurat CP | HW6: Dauriac, CM1 CM2 | HX6: Veil, PS MS | HY6: Hyon, CM1 | HZ6: Faucher, PS-MS | IA6: Pagnol, CP CE1 | IB6: Papus, CP | IC6: Bastide, CE1 | ID6: Falcucci, CE1 | IE6: Triolet, CE2 | IF6: BRIGADE | IG6: Triolet, TPS MS | IH6: Renan, CE1 CO | II6: Billières, PS MS | IJ6: Faucher, PS-MS | IK6: Pagnol, CP CE1 | IL6: Veil, CP | IM6: Faucher, CM1 CM2 | IO6: Faucher | IP6: Faucher | IQ6: Claudel, GS | IR6: Hugo, C2C3 | IS6: Renan, PS MS | IT6: Dauriac, CM1 CM2 | IU6: Hyon, CM1 | IV6: Papus, CP | IW6: Bastide, CE1 | IX6: Falcucci, CE1 | IY6: Triolet, CE2 | IZ6: BRIGADE | JA6: Triolet, TPS MS | JB6: Renan, CE1 CO | JC6: Billières, PS MS | JD6: Faucher, PS-MS | JE6: Pagnol, CP CE1 | JF6: Veil, CP | JG6: Faucher, CM1 CM2 | JH6: Claudel, GS | JI6: Hugo, C2C3 | JJ6: Dauriac, CM1 CM2 | JK6: Hyon, CM1 | JL6: Papus, CP | JM6: Bastide, CE1 | JN6: Falcucci, CE1 | JO6: Triolet, CE2 | JP6: BRIGADE | JQ6: Triolet, TPS MS | JR6: Renan, CE1 CO | JS6: Billières, PS MS | JT6: Faucher, PS-MS | JV6: Pagnol, CP CE1 | JW6: Veil, CP | JX6: Faucher, CM1 CM2 | JY6: Claudel, GS | JZ6: Hugo, C2C3 | KA6: Dauriac, CM1 CM2 | KB6: Hyon, CM1 | KC6: Papus, CP | KD6: Bastide, CE1 | KE6: Falcucci, CE1 | KF6: Triolet, CE2 | KG6: BRIGADE | KH6: Triolet, TPS MS | KI6: Renan, CE1 CO | KJ6: Billières, PS MS | KK6: Faucher, PS-MS | KL6: Pagnol, CP CE1 | KM6: Veil, CP | KN6: Faucher, CM1 CM2 | KO6: Claudel, GS | KP6: Hugo, C2C3 | KQ6: Dauriac, CM1 CM2 | KR6: Hyon, CM1 | KS6: Papus, CP | KT6: Bastide, CE1 | KU6: Falcucci, CE1 | KV6: Triolet, CE2 | KW6: BRIGADE | KX6: Triolet, TPS MS | KY6: Renan, CE1 CO | KZ6: Billières, PS MS | LA6: Faucher, PS-MS | LB6: Pagnol, CP CE1 | LC6: Veil, CP | LD6: Faucher, CM1 CM2 | LE6: Claudel, GS | LG6: Hugo, C2C3 | LH6: Dauriac, CM1 CM2 | LI6: Hyon, CM1 | LJ6: Papus, CP | LK6: Bastide, CE1 | LL6: Falcucci, CE1 | LM6: Triolet, CE2
