Workbook
Name Noms: OFFSET(Données!$B$2,,,COUNTA(Données!$B:$B)-1)

Sheet Recherche
B4: Date | C4: Disponibles AM | D4: Disponibles PM | F4: Enseignant | G4: Date AM | H4: Date PM | I4: Ecole AM | J4: Ecole PM | O4: CALENDRIER DE L'ANNEE : | R4: 2024 | T4: Aujourd'hui | U4: Week-end | V4: Vacances | W4: Jours frériés
B5: Matin | C5: =IFERROR(INDEX(Planning[NOM],SMALL(IF(OFFSET(Planning!$A$4,1,MATCH($B$6,Planning[[#Headers],[AM_Sept_01]:[PM_Juil_07]],0),COUNTA(Planning[NOM]),1)=0,ROW(Planning[NOM])-3),ROW(Planning[NOM])-3)),"") | D5: =IFERROR(INDEX(Planning[NOM],SMALL(IF(OFFSET(Planning!$A$4,1,MATCH($B$8,Planning[[#Headers],[AM_Sept_01]:[PM_Juil_07]],0),COUNTA(Planning[NOM]),1)=0,ROW(Planning[NOM])-3),ROW(Planning[NOM])-3)),"") | F5: A | G5: AM_Sept_10 | H5: PM_Sept_10 | I5: =INDEX(Planning[[AM_Sept_01]:[PM_Juil_07]],MATCH($F$5,Planning[NOM],0),MATCH($G$5,Planning[[#Headers],[AM_Sept_01]:[PM_Juil_07]],0)) -> Lalande, CE2 | J5: =INDEX(Planning[[AM_Sept_01]:[PM_Juil_07]],MATCH($F$5,Planning[NOM],0),MATCH($H$5,Planning[[#Headers],[AM_Sept_01]:[PM_Juil_07]],0)) -> Billières, CP
B6: AM_Oct_18
B7: Après-midi | F7: Ecole | G7: Date | H7: Formation
B8: AM_Déc_06 | F8: Tabar | G8: =IFERROR(INDEX(Planning!$D$4:$LO$4,SMALL(IF(Planning!D$93:LO$93>0,COLUMN(Planning!$D$5:$LO$5)-3),ROW(Planning!1:1))),"") -> PM_Sept_03 | H8: =IFERROR(INDEX(Planning!$D$2:$VW$2,SMALL(IF(Planning!D$59:VW$59>0,COLUMN(Planning!$D$5:$VW$5)-3),ROW(Planning!1:1))),"") -> Pondération 1 | L8: Janvier | M8: Février | N8: Mars | O8: Avril | P8: Mai | Q8: Juin | R8: Juillet | S8: Août | T8: Septembre | U8: Octobre | V8: Novembre | W8: Décembre
G9: =IFERROR(INDEX(Planning!$D$4:$LO$4,SMALL(IF(Planning!D$93:LO$93>0,COLUMN(Planning!$D$5:$LO$5)-3),ROW(Planning!2:2))),"") | H9: =IFERROR(INDEX(Planning!$D$2:$VW$2,SMALL(IF(Planning!D$59:VW$59>0,COLUMN(Planning!$D$5:$VW$5)-3),ROW(Planning!2:2))),"") | L9: =DATE(R4,1,1) -> 45292 | M9: =EDATE(L9,1) -> 45323 | N9: =EDATE(M9,1) -> 45352 | O9: 45383 | P9: 45413 | Q9: 45444 | R9: 45474 | S9: 45505 | T9: 45536 | U9: 45566 | V9: 45597 | W9: 45627
G10: =IFERROR(INDEX(Planning!$D$4:$LO$4,SMALL(IF(Planning!D$93:LO$93>0,COLUMN(Planning!$D$5:$LO$5)-3),ROW(Planning!4:4))),"") | H10: =IFERROR(INDEX(Planning!$D$2:$VW$2,SMALL(IF(Planning!D$59:VW$59>0,COLUMN(Planning!$D$5:$VW$5)-3),ROW(Planning!4:4))),"") | L10: =IF(MONTH(L9+1)=1,L9+1,"-") -> 45293 | M10: =IFERROR(IF(MONTH(M9+1)=2,M9+1,"-"),"-") -> 45324 | N10: =IF(MONTH(N9+1)=3,N9+1,"-") -> 45353 | O10: =IF(MONTH(O9+1)=4,O9+1,"-") -> 45384 | P10: =IF(MONTH(P9+1)=5,P9+1,"-") -> 45414 | Q10: =IF(MONTH(Q9+1)=6,Q9+1,"-") -> 45445 | R10: =IF(MONTH(R9+1)=7,R9+1,"-") -> 45475 | S10: =IF(MONTH(S9+1)=8,S9+1,"-") -> 45506 | T10: =IF(MONTH(T9+1)=9,T9+1,"-") -> 45537 | U10: =IF(MONTH(U9+1)=10,U9+1,"-") -> 45567 | V10: =IF(MONTH(V9+1)=11,V9+1,"-") -> 45598 | W10: =IF(MONTH(W9+1)=12,W9+1,"-") -> 45628
G11: =IFERROR(INDEX(Planning!$D$4:$LO$4,SMALL(IF(Planning!D$93:LO$93>0,COLUMN(Planning!$D$5:$LO$5)-3),ROW(Planning!5:5))),"") | H11: =IFERROR(INDEX(Planning!$D$2:$VW$2,SMALL(IF(Planning!D$59:VW$59>0,COLUMN(Planning!$D$5:$VW$5)-3),ROW(Planning!5:5))),"") | L11: =IF(MONTH(L10+1)=1,L10+1,"-") -> 45294 | M11: =IFERROR(IF(MONTH(M10+1)=2,M10+1,"-"),"-") -> 45325 | N11: =IF(MONTH(N10+1)=3,N10+1,"-") -> 45354 | O11: =IF(MONTH(O10+1)=4,O10+1,"-") -> 45385 | P11: =IF(MONTH(P10+1)=5,P10+1,"-") -> 45415 | Q11: =IF(MONTH(Q10+1)=6,Q10+1,"-") -> 45446 | R11: =IF(MONTH(R10+1)=7,R10+1,"-") -> 45476 | S11: =IF(MONTH(S10+1)=8,S10+1,"-") -> 45507 | T11: =IF(MONTH(T10+1)=9,T10+1,"-") -> 45538 | U11: =IF(MONTH(U10+1)=10,U10+1,"-") -> 45568 | V11: =IF(MONTH(V10+1)=11,V10+1,"-") -> 45599 | W11: =IF(MONTH(W10+1)=12,W10+1,"-") -> 45629
G12: =IFERROR(INDEX(Planning!$D$4:$LO$4,SMALL(IF(Planning!D$93:LO$93>0,COLUMN(Planning!$D$5:$LO$5)-3),ROW(Planning!6:6))),"") | H12: =IFERROR(INDEX(Planning!$D$2:$VW$2,SMALL(IF(Planning!D$59:VW$59>0,COLUMN(Planning!$D$5:$VW$5)-3),ROW(Planning!6:6))),"") | L12: =IF(MONTH(L11+1)=1,L11+1,"-") -> 45295 | M12: =IFERROR(IF(MONTH(M11+1)=2,M11+1,"-"),"-") -> 45326 | N12: =IF(MONTH(N11+1)=3,N11+1,"-") -> 45355 | O12: =IF(MONTH(O11+1)=4,O11+1,"-") -> 45386 | P12: =IF(MONTH(P11+1)=5,P11+1,"-") -> 45416 | Q12: =IF(MONTH(Q11+1)=6,Q11+1,"-") -> 45447 | R12: =IF(MONTH(R11+1)=7,R11+1,"-") -> 45477 | S12: =IF(MONTH(S11+1)=8,S11+1,"-") -> 45508 | T12: =IF(MONTH(T11+1)=9,T11+1,"-") -> 45539 | U12: =IF(MONTH(U11+1)=10,U11+1,"-") -> 45569 | V12: =IF(MONTH(V11+1)=11,V11+1,"-") -> 45600 | W12: =IF(MONTH(W11+1)=12,W11+1,"-") -> 45630
G13: =IFERROR(INDEX(Planning!$D$4:$LO$4,SMALL(IF(Planning!D$93:LO$93>0,COLUMN(Planning!$D$5:$LO$5)-3),ROW(Planning!7:7))),"") | H13: =IFERROR(INDEX(Planning!$D$2:$VW$2,SMALL(IF(Planning!D$59:VW$59>0,COLUMN(Planning!$D$5:$VW$5)-3),ROW(Planning!7:7))),"") | L13: =IF(MONTH(L12+1)=1,L12+1,"-") -> 45296 | M13: =IFERROR(IF(MONTH(M12+1)=2,M12+1,"-"),"-") -> 45327 | N13: =IF(MONTH(N12+1)=3,N12+1,"-") -> 45356 | O13: =IF(MONTH(O12+1)=4,O12+1,"-") -> 45387 | P13: =IF(MONTH(P12+1)=5,P12+1,"-") -> 45417 | Q13: =IF(MONTH(Q12+1)=6,Q12+1,"-") -> 45448 | R13: =IF(MONTH(R12+1)=7,R12+1,"-") -> 45478 | S13: =IF(MONTH(S12+1)=8,S12+1,"-") -> 45509 | T13: =IF(MONTH(T12+1)=9,T12+1,"-") -> 45540 | U13: =IF(MONTH(U12+1)=10,U12+1,"-") -> 45570 | V13: =IF(MONTH(V12+1)=11,V12+1,"-") -> 45601 | W13: =IF(MONTH(W12+1)=12,W12+1,"-") -> 45631
G14: =IFERROR(INDEX(Planning!$D$4:$LO$4,SMALL(IF(Planning!D$93:LO$93>0,COLUMN(Planning!$D$5:$LO$5)-3),ROW(Planning!8:8))),"") | H14: =IFERROR(INDEX(Planning!$D$2:$VW$2,SMALL(IF(Planning!D$59:VW$59>0,COLUMN(Planning!$D$5:$VW$5)-3),ROW(Planning!8:8))),"") | L14: =IF(MONTH(L13+1)=1,L13+1,"-") -> 45297 | M14: =IFERROR(IF(MONTH(M13+1)=2,M13+1,"-"),"-") -> 45328 | N14: =IF(MONTH(N13+1)=3,N13+1,"-") -> 45357 | O14: =IF(MONTH(O13+1)=4,O13+1,"-") -> 45388 | P14: =IF(MONTH(P13+1)=5,P13+1,"-") -> 45418 | Q14: =IF(MONTH(Q13+1)=6,Q13+1,"-") -> 45449 | R14: =IF(MONTH(R13+1)=7,R13+1,"-") -> 45479 | S14: =IF(MONTH(S13+1)=8,S13+1,"-") -> 45510 | T14: =IF(MONTH(T13+1)=9,T13+1,"-") -> 45541 | U14: =IF(MONTH(U13+1)=10,U13+1,"-") -> 45571 | V14: =IF(MONTH(V13+1)=11,V13+1,"-") -> 45602 | W14: =IF(MONTH(W13+1)=12,W13+1,"-") -> 45632
G15: =IFERROR(INDEX(Planning!$D$4:$LO$4,SMALL(IF(Planning!D$93:LO$93>0,COLUMN(Planning!$D$5:$LO$5)-3),ROW(Planning!9:9))),"") | H15: =IFERROR(INDEX(Planning!$D$2:$VW$2,SMALL(IF(Planning!D$59:VW$59>0,COLUMN(Planning!$D$5:$VW$5)-3),ROW(Planning!9:9))),"") | L15: =IF(MONTH(L14+1)=1,L14+1,"-") -> 45298 | M15: =IFERROR(IF(MONTH(M14+1)=2,M14+1,"-"),"-") -> 45329 | N15: =IF(MONTH(N14+1)=3,N14+1,"-") -> 45358 | O15: =IF(MONTH(O14+1)=4,O14+1,"-") -> 45389 | P15: =IF(MONTH(P14+1)=5,P14+1,"-") -> 45419 | Q15: =IF(MONTH(Q14+1)=6,Q14+1,"-") -> 45450 | R15: =IF(MONTH(R14+1)=7,R14+1,"-") -> 45480 | S15: =IF(MONTH(S14+1)=8,S14+1,"-") -> 45511 | T15: =IF(MONTH(T14+1)=9,T14+1,"-") -> 45542 | U15: =IF(MONTH(U14+1)=10,U14+1,"-") -> 45572 | V15: =IF(MONTH(V14+1)=11,V14+1,"-") -> 45603 | W15: =IF(MONTH(W14+1)=12,W14+1,"-") -> 45633
G16: =IFERROR(INDEX(Planning!$D$4:$LO$4,SMALL(IF(Planning!D$93:LO$93>0,COLUMN(Planning!$D$5:$LO$5)-3),ROW(Planning!10:10))),"") | H16: =IFERROR(INDEX(Planning!$D$2:$VW$2,SMALL(IF(Planning!D$59:VW$59>0,COLUMN(Planning!$D$5:$VW$5)-3),ROW(Planning!10:10))),"") | L16: =IF(MONTH(L15+1)=1,L15+1,"-") -> 45299 | M16: =IFERROR(IF(MONTH(M15+1)=2,M15+1,"-"),"-") -> 45330 | N16: =IF(MONTH(N15+1)=3,N15+1,"-") -> 45359 | O16: =IF(MONTH(O15+1)=4,O15+1,"-") -> 45390 | P16: =IF(MONTH(P15+1)=5,P15+1,"-") -> 45420 | Q16: =IF(MONTH(Q15+1)=6,Q15+1,"-") -> 45451 | R16: =IF(MONTH(R15+1)=7,R15+1,"-") -> 45481 | S16: =IF(MONTH(S15+1)=8,S15+1,"-") -> 45512 | T16: =IF(MONTH(T15+1)=9,T15+1,"-") -> 45543 | U16: =IF(MONTH(U15+1)=10,U15+1,"-") -> 45573 | V16: =IF(MONTH(V15+1)=11,V15+1,"-") -> 45604 | W16: =IF(MONTH(W15+1)=12,W15+1,"-") -> 45634
G17: =IFERROR(INDEX(Planning!$D$4:$LO$4,SMALL(IF(Planning!D$93:LO$93>0,COLUMN(Planning!$D$5:$LO$5)-3),ROW(Planning!11:11))),"") | H17: =IFERROR(INDEX(Planning!$D$2:$VW$2,SMALL(IF(Planning!D$59:VW$59>0,COLUMN(Planning!$D$5:$VW$5)-3),ROW(Planning!11:11))),"") | L17: =IF(MONTH(L16+1)=1,L16+1,"-") -> 45300 | M17: =IFERROR(IF(MONTH(M16+1)=2,M16+1,"-"),"-") -> 45331 | N17: =IF(MONTH(N16+1)=3,N16+1,"-") -> 45360 | O17: =IF(MONTH(O16+1)=4,O16+1,"-") -> 45391 | P17: =IF(MONTH(P16+1)=5,P16+1,"-") -> 45421 | Q17: =IF(MONTH(Q16+1)=6,Q16+1,"-") -> 45452 | R17: =IF(MONTH(R16+1)=7,R16+1,"-") -> 45482 | S17: =IF(MONTH(S16+1)=8,S16+1,"-") -> 45513 | T17: =IF(MONTH(T16+1)=9,T16+1,"-") -> 45544 | U17: =IF(MONTH(U16+1)=10,U16+1,"-") -> 45574 | V17: =IF(MONTH(V16+1)=11,V16+1,"-") -> 45605 | W17: =IF(MONTH(W16+1)=12,W16+1,"-") -> 45635
G18: =IFERROR(INDEX(Planning!$D$4:$LO$4,SMALL(IF(Planning!D$93:LO$93>0,COLUMN(Planning!$D$5:$LO$5)-3),ROW(Planning!12:12))),"") | H18: =IFERROR(INDEX(Planning!$D$2:$VW$2,SMALL(IF(Planning!D$59:VW$59>0,COLUMN(Planning!$D$5:$VW$5)-3),ROW(Planning!12:12))),"") | L18: =IF(MONTH(L17+1)=1,L17+1,"-") -> 45301 | M18: =IFERROR(IF(MONTH(M17+1)=2,M17+1,"-"),"-") -> 45332 | N18: =IF(MONTH(N17+1)=3,N17+1,"-") -> 45361 | O18: =IF(MONTH(O17+1)=4,O17+1,"-") -> 45392 | P18: =IF(MONTH(P17+1)=5,P17+1,"-") -> 45422 | Q18: =IF(MONTH(Q17+1)=6,Q17+1,"-") -> 45453 | R18: =IF(MONTH(R17+1)=7,R17+1,"-") -> 45483 | S18: =IF(MONTH(S17+1)=8,S17+1,"-") -> 45514 | T18: =IF(MONTH(T17+1)=9,T17+1,"-") -> 45545 | U18: =IF(MONTH(U17+1)=10,U17+1,"-") -> 45575 | V18: =IF(MONTH(V17+1)=11,V17+1,"-") -> 45606 | W18: =IF(MONTH(W17+1)=12,W17+1,"-") -> 45636
G19: =IFERROR(INDEX(Planning!$D$4:$LO$4,SMALL(IF(Planning!D$93:LO$93>0,COLUMN(Planning!$D$5:$LO$5)-3),ROW(Planning!13:13))),"") | H19: =IFERROR(INDEX(Planning!$D$2:$VW$2,SMALL(IF(Planning!D$59:VW$59>0,COLUMN(Planning!$D$5:$VW$5)-3),ROW(Planning!13:13))),"") | L19: =IF(MONTH(L18+1)=1,L18+1,"-") -> 45302 | M19: =IFERROR(IF(MONTH(M18+1)=2,M18+1,"-"),"-") -> 45333 | N19: =IF(MONTH(N18+1)=3,N18+1,"-") -> 45362 | O19: =IF(MONTH(O18+1)=4,O18+1,"-") -> 45393 | P19: =IF(MONTH(P18+1)=5,P18+1,"-") -> 45423 | Q19: =IF(MONTH(Q18+1)=6,Q18+1,"-") -> 45454 | R19: =IF(MONTH(R18+1)=7,R18+1,"-") -> 45484 | S19: =IF(MONTH(S18+1)=8,S18+1,"-") -> 45515 | T19: =IF(MONTH(T18+1)=9,T18+1,"-") -> 45546 | U19: =IF(MONTH(U18+1)=10,U18+1,"-") -> 45576 | V19: =IF(MONTH(V18+1)=11,V18+1,"-") -> 45607 | W19: =IF(MONTH(W18+1)=12,W18+1,"-") -> 45637
G20: =IFERROR(INDEX(Planning!$D$4:$LO$4,SMALL(IF(Planning!D$93:LO$93>0,COLUMN(Planning!$D$5:$LO$5)-3),ROW(Planning!14:14))),"") | H20: =IFERROR(INDEX(Planning!$D$2:$VW$2,SMALL(IF(Planning!D$59:VW$59>0,COLUMN(Planning!$D$5:$VW$5)-3),ROW(Planning!14:14))),"") | L20: =IF(MONTH(L19+1)=1,L19+1,"-") -> 45303 | M20: =IFERROR(IF(MONTH(M19+1)=2,M19+1,"-"),"-") -> 45334 | N20: =IF(MONTH(N19+1)=3,N19+1,"-") -> 45363 | O20: =IF(MONTH(O19+1)=4,O19+1,"-") -> 45394 | P20: =IF(MONTH(P19+1)=5,P19+1,"-") -> 45424 | Q20: =IF(MONTH(Q19+1)=6,Q19+1,"-") -> 45455 | R20: =IF(MONTH(R19+1)=7,R19+1,"-") -> 45485 | S20: =IF(MONTH(S19+1)=8,S19+1,"-") -> 45516 | T20: =IF(MONTH(T19+1)=9,T19+1,"-") -> 45547 | U20: =IF(MONTH(U19+1)=10,U19+1,"-") -> 45577 | V20: =IF(MONTH(V19+1)=11,V19+1,"-") -> 45608 | W20: =IF(MONTH(W19+1)=12,W19+1,"-") -> 45638
G21: =IFERROR(INDEX(Planning!$D$4:$LO$4,SMALL(IF(Planning!D$93:LO$93>0,COLUMN(Planning!$D$5:$LO$5)-3),ROW(Planning!15:15))),"") | H21: =IFERROR(INDEX(Planning!$D$2:$VW$2,SMALL(IF(Planning!D$59:VW$59>0,COLUMN(Planning!$D$5:$VW$5)-3),ROW(Planning!15:15))),"") | L21: =IF(MONTH(L20+1)=1,L20+1,"-") -> 45304 | M21: =IFERROR(IF(MONTH(M20+1)=2,M20+1,"-"),"-") -> 45335 | N21: =IF(MONTH(N20+1)=3,N20+1,"-") -> 45364 | O21: =IF(MONTH(O20+1)=4,O20+1,"-") -> 45395 | P21: =IF(MONTH(P20+1)=5,P20+1,"-") -> 45425 | Q21: =IF(MONTH(Q20+1)=6,Q20+1,"-") -> 45456 | R21: =IF(MONTH(R20+1)=7,R20+1,"-") -> 45486 | S21: =IF(MONTH(S20+1)=8,S20+1,"-") -> 45517 | T21: =IF(MONTH(T20+1)=9,T20+1,"-") -> 45548 | U21: =IF(MONTH(U20+1)=10,U20+1,"-") -> 45578 | V21: =IF(MONTH(V20+1)=11,V20+1,"-") -> 45609 | W21: =IF(MONTH(W20+1)=12,W20+1,"-") -> 45639
G22: =IFERROR(INDEX(Planning!$D$4:$LO$4,SMALL(IF(Planning!D$93:LO$93>0,COLUMN(Planning!$D$5:$LO$5)-3),ROW(Planning!16:16))),"") | H22: =IFERROR(INDEX(Planning!$D$2:$VW$2,SMALL(IF(Planning!D$59:VW$59>0,COLUMN(Planning!$D$5:$VW$5)-3),ROW(Planning!16:16))),"") | L22: =IF(MONTH(L21+1)=1,L21+1,"-") -> 45305 | M22: =IFERROR(IF(MONTH(M21+1)=2,M21+1,"-"),"-") -> 45336 | N22: =IF(MONTH(N21+1)=3,N21+1,"-") -> 45365 | O22: =IF(MONTH(O21+1)=4,O21+1,"-") -> 45396 | P22: =IF(MONTH(P21+1)=5,P21+1,"-") -> 45426 | Q22: =IF(MONTH(Q21+1)=6,Q21+1,"-") -> 45457 | R22: =IF(MONTH(R21+1)=7,R21+1,"-") -> 45487 | S22: =IF(MONTH(S21+1)=8,S21+1,"-") -> 45518 | T22: =IF(MONTH(T21+1)=9,T21+1,"-") -> 45549 | U22: =IF(MONTH(U21+1)=10,U21+1,"-") -> 45579 | V22: =IF(MONTH(V21+1)=11,V21+1,"-") -> 45610 | W22: =IF(MONTH(W21+1)=12,W21+1,"-") -> 45640
G23: =IFERROR(INDEX(Planning!$D$4:$LO$4,SMALL(IF(Planning!D$93:LO$93>0,COLUMN(Planning!$D$5:$LO$5)-3),ROW(Planning!17:17))),"") | H23: =IFERROR(INDEX(Planning!$D$2:$VW$2,SMALL(IF(Planning!D$59:VW$59>0,COLUMN(Planning!$D$5:$VW$5)-3),ROW(Planning!17:17))),"") | L23: =IF(MONTH(L22+1)=1,L22+1,"-") -> 45306 | M23: =IFERROR(IF(MONTH(M22+1)=2,M22+1,"-"),"-") -> 45337 | N23: =IF(MONTH(N22+1)=3,N22+1,"-") -> 45366 | O23: =IF(MONTH(O22+1)=4,O22+1,"-") -> 45397 | P23: =IF(MONTH(P22+1)=5,P22+1,"-") -> 45427 | Q23: =IF(MONTH(Q22+1)=6,Q22+1,"-") -> 45458 | R23: =IF(MONTH(R22+1)=7,R22+1,"-") -> 45488 | S23: =IF(MONTH(S22+1)=8,S22+1,"-") -> 45519 | T23: =IF(MONTH(T22+1)=9,T22+1,"-") -> 45550 | U23: =IF(MONTH(U22+1)=10,U22+1,"-") -> 45580 | V23: =IF(MONTH(V22+1)=11,V22+1,"-") -> 45611 | W23: =IF(MONTH(W22+1)=12,W22+1,"-") -> 45641
G24: =IFERROR(INDEX(Planning!$D$4:$LO$4,SMALL(IF(Planning!D$93:LO$93>0,COLUMN(Planning!$D$5:$LO$5)-3),ROW(Planning!18:18))),"") | H24: =IFERROR(INDEX(Planning!$D$2:$VW$2,SMALL(IF(Planning!D$59:VW$59>0,COLUMN(Planning!$D$5:$VW$5)-3),ROW(Planning!18:18))),"") | L24: =IF(MONTH(L23+1)=1,L23+1,"-") -> 45307 | M24: =IFERROR(IF(MONTH(M23+1)=2,M23+1,"-"),"-") -> 45338 | N24: =IF(MONTH(N23+1)=3,N23+1,"-") -> 45367 | O24: =IF(MONTH(O23+1)=4,O23+1,"-") -> 45398 | P24: =IF(MONTH(P23+1)=5,P23+1,"-") -> 45428 | Q24: =IF(MONTH(Q23+1)=6,Q23+1,"-") -> 45459 | R24: =IF(MONTH(R23+1)=7,R23+1,"-") -> 45489 | S24: =IF(MONTH(S23+1)=8,S23+1,"-") -> 45520 | T24: =IF(MONTH(T23+1)=9,T23+1,"-") -> 45551 | U24: =IF(MONTH(U23+1)=10,U23+1,"-") -> 45581 | V24: =IF(MONTH(V23+1)=11,V23+1,"-") -> 45612 | W24: =IF(MONTH(W23+1)=12,W23+1,"-") -> 45642
G25: =IFERROR(INDEX(Planning!$D$4:$LO$4,SMALL(IF(Planning!D$93:LO$93>0,COLUMN(Planning!$D$5:$LO$5)-3),ROW(Planning!19:19))),"") | H25: =IFERROR(INDEX(Planning!$D$2:$VW$2,SMALL(IF(Planning!D$59:VW$59>0,COLUMN(Planning!$D$5:$VW$5)-3),ROW(Planning!19:19))),"") | L25: =IF(MONTH(L24+1)=1,L24+1,"-") -> 45308 | M25: =IFERROR(IF(MONTH(M24+1)=2,M24+1,"-"),"-") -> 45339 | N25: =IF(MONTH(N24+1)=3,N24+1,"-") -> 45368 | O25: =IF(MONTH(O24+1)=4,O24+1,"-") -> 45399 | P25: =IF(MONTH(P24+1)=5,P24+1,"-") -> 45429 | Q25: =IF(MONTH(Q24+1)=6,Q24+1,"-") -> 45460 | R25: =IF(MONTH(R24+1)=7,R24+1,"-") -> 45490 | S25: =IF(MONTH(S24+1)=8,S24+1,"-") -> 45521 | T25: =IF(MONTH(T24+1)=9,T24+1,"-") -> 45552 | U25: =IF(MONTH(U24+1)=10,U24+1,"-") -> 45582 | V25: =IF(MONTH(V24+1)=11,V24+1,"-") -> 45613 | W25: =IF(MONTH(W24+1)=12,W24+1,"-") -> 45643
G26: =IFERROR(INDEX(Planning!$D$4:$LO$4,SMALL(IF(Planning!D$93:LO$93>0,COLUMN(Planning!$D$5:$LO$5)-3),ROW(Planning!20:20))),"") | H26: =IFERROR(INDEX(Planning!$D$2:$VW$2,SMALL(IF(Planning!D$59:VW$59>0,COLUMN(Planning!$D$5:$VW$5)-3),ROW(Planning!20:20))),"") | L26: =IF(MONTH(L25+1)=1,L25+1,"-") -> 45309 | M26: =IFERROR(IF(MONTH(M25+1)=2,M25+1,"-"),"-") -> 45340 | N26: =IF(MONTH(N25+1)=3,N25+1,"-") -> 45369 | O26: =IF(MONTH(O25+1)=4,O25+1,"-") -> 45400 | P26: =IF(MONTH(P25+1)=5,P25+1,"-") -> 45430 | Q26: =IF(MONTH(Q25+1)=6,Q25+1,"-") -> 45461 | R26: =IF(MONTH(R25+1)=7,R25+1,"-") -> 45491 | S26: =IF(MONTH(S25+1)=8,S25+1,"-") -> 45522 | T26: =IF(MONTH(T25+1)=9,T25+1,"-") -> 45553 | U26: =IF(MONTH(U25+1)=10,U25+1,"-") -> 45583 | V26: =IF(MONTH(V25+1)=11,V25+1,"-") -> 45614 | W26: =IF(MONTH(W25+1)=12,W25+1,"-") -> 45644
G27: =IFERROR(INDEX(Planning!$D$4:$LO$4,SMALL(IF(Planning!D$93:LO$93>0,COLUMN(Planning!$D$5:$LO$5)-3),ROW(Planning!21:21))),"") | H27: =IFERROR(INDEX(Planning!$D$2:$VW$2,SMALL(IF(Planning!D$59:VW$59>0,COLUMN(Planning!$D$5:$VW$5)-3),ROW(Planning!21:21))),"") | L27: =IF(MONTH(L26+1)=1,L26+1,"-") -> 45310 | M27: =IFERROR(IF(MONTH(M26+1)=2,M26+1,"-"),"-") -> 45341 | N27: =IF(MONTH(N26+1)=3,N26+1,"-") -> 45370 | O27: =IF(MONTH(O26+1)=4,O26+1,"-") -> 45401 | P27: =IF(MONTH(P26+1)=5,P26+1,"-") -> 45431 | Q27: =IF(MONTH(Q26+1)=6,Q26+1,"-") -> 45462 | R27: =IF(MONTH(R26+1)=7,R26+1,"-") -> 45492 | S27: =IF(MONTH(S26+1)=8,S26+1,"-") -> 45523 | T27: =IF(MONTH(T26+1)=9,T26+1,"-") -> 45554 | U27: =IF(MONTH(U26+1)=10,U26+1,"-") -> 45584 | V27: =IF(MONTH(V26+1)=11,V26+1,"-") -> 45615 | W27: =IF(MONTH(W26+1)=12,W26+1,"-") -> 45645
G28: =IFERROR(INDEX(Planning!$D$4:$LO$4,SMALL(IF(Planning!D$93:LO$93>0,COLUMN(Planning!$D$5:$LO$5)-3),ROW(Planning!22:22))),"") | H28: =IFERROR(INDEX(Planning!$D$2:$VW$2,SMALL(IF(Planning!D$59:VW$59>0,COLUMN(Planning!$D$5:$VW$5)-3),ROW(Planning!22:22))),"") | L28: =IF(MONTH(L27+1)=1,L27+1,"-") -> 45311 | M28: =IFERROR(IF(MONTH(M27+1)=2,M27+1,"-"),"-") -> 45342 | N28: =IF(MONTH(N27+1)=3,N27+1,"-") -> 45371 | O28: =IF(MONTH(O27+1)=4,O27+1,"-") -> 45402 | P28: =IF(MONTH(P27+1)=5,P27+1,"-") -> 45432 | Q28: =IF(MONTH(Q27+1)=6,Q27+1,"-") -> 45463 | R28: =IF(MONTH(R27+1)=7,R27+1,"-") -> 45493 | S28: =IF(MONTH(S27+1)=8,S27+1,"-") -> 45524 | T28: =IF(MONTH(T27+1)=9,T27+1,"-") -> 45555 | U28: =IF(MONTH(U27+1)=10,U27+1,"-") -> 45585 | V28: =IF(MONTH(V27+1)=11,V27+1,"-") -> 45616 | W28: =IF(MONTH(W27+1)=12,W27+1,"-") -> 45646
G29: =IFERROR(INDEX(Planning!$D$4:$LO$4,SMALL(IF(Planning!D$93:LO$93>0,COLUMN(Planning!$D$5:$LO$5)-3),ROW(Planning!23:23))),"") | H29: =IFERROR(INDEX(Planning!$D$2:$VW$2,SMALL(IF(Planning!D$59:VW$59>0,COLUMN(Planning!$D$5:$VW$5)-3),ROW(Planning!23:23))),"") | L29: =IF(MONTH(L28+1)=1,L28+1,"-") -> 45312 | M29: =IFERROR(IF(MONTH(M28+1)=2,M28+1,"-"),"-") -> 45343 | N29: =IF(MONTH(N28+1)=3,N28+1,"-") -> 45372 | O29: =IF(MONTH(O28+1)=4,O28+1,"-") -> 45403 | P29: =IF(MONTH(P28+1)=5,P28+1,"-") -> 45433 | Q29: =IF(MONTH(Q28+1)=6,Q28+1,"-") -> 45464 | R29: =IF(MONTH(R28+1)=7,R28+1,"-") -> 45494 | S29: =IF(MONTH(S28+1)=8,S28+1,"-") -> 45525 | T29: =IF(MONTH(T28+1)=9,T28+1,"-") -> 45556 | U29: =IF(MONTH(U28+1)=10,U28+1,"-") -> 45586 | V29: =IF(MONTH(V28+1)=11,V28+1,"-") -> 45617 | W29: =IF(MONTH(W28+1)=12,W28+1,"-") -> 45647
G30: =IFERROR(INDEX(Planning!$D$4:$LO$4,SMALL(IF(Planning!D$93:LO$93>0,COLUMN(Planning!$D$5:$LO$5)-3),ROW(Planning!24:24))),"") | H30: =IFERROR(INDEX(Planning!$D$2:$VW$2,SMALL(IF(Planning!D$59:VW$59>0,COLUMN(Planning!$D$5:$VW$5)-3),ROW(Planning!24:24))),"") | L30: =IF(MONTH(L29+1)=1,L29+1,"-") -> 45313 | M30: =IFERROR(IF(MONTH(M29+1)=2,M29+1,"-"),"-") -> 45344 | N30: =IF(MONTH(N29+1)=3,N29+1,"-") -> 45373 | O30: =IF(MONTH(O29+1)=4,O29+1,"-") -> 45404 | P30: =IF(MONTH(P29+1)=5,P29+1,"-") -> 45434 | Q30: =IF(MONTH(Q29+1)=6,Q29+1,"-") -> 45465 | R30: =IF(MONTH(R29+1)=7,R29+1,"-") -> 45495 | S30: =IF(MONTH(S29+1)=8,S29+1,"-") -> 45526 | T30: =IF(MONTH(T29+1)=9,T29+1,"-") -> 45557 | U30: =IF(MONTH(U29+1)=10,U29+1,"-") -> 45587 | V30: =IF(MONTH(V29+1)=11,V29+1,"-") -> 45618 | W30: =IF(MONTH(W29+1)=12,W29+1,"-") -> 45648
G31: =IFERROR(INDEX(Planning!$D$4:$LO$4,SMALL(IF(Planning!D$93:LO$93>0,COLUMN(Planning!$D$5:$LO$5)-3),ROW(Planning!25:25))),"") | H31: =IFERROR(INDEX(Planning!$D$2:$VW$2,SMALL(IF(Planning!D$59:VW$59>0,COLUMN(Planning!$D$5:$VW$5)-3),ROW(Planning!25:25))),"") | L31: =IF(MONTH(L30+1)=1,L30+1,"-") -> 45314 | M31: =IFERROR(IF(MONTH(M30+1)=2,M30+1,"-"),"-") -> 45345 | N31: =IF(MONTH(N30+1)=3,N30+1,"-") -> 45374 | O31: =IF(MONTH(O30+1)=4,O30+1,"-") -> 45405 | P31: =IF(MONTH(P30+1)=5,P30+1,"-") -> 45435 | Q31: =IF(MONTH(Q30+1)=6,Q30+1,"-") -> 45466 | R31: =IF(MONTH(R30+1)=7,R30+1,"-") -> 45496 | S31: =IF(MONTH(S30+1)=8,S30+1,"-") -> 45527 | T31: =IF(MONTH(T30+1)=9,T30+1,"-") -> 45558 | U31: =IF(MONTH(U30+1)=10,U30+1,"-") -> 45588 | V31: =IF(MONTH(V30+1)=11,V30+1,"-") -> 45619 | W31: =IF(MONTH(W30+1)=12,W30+1,"-") -> 45649
G32: =IFERROR(INDEX(Planning!$D$4:$LO$4,SMALL(IF(Planning!D$93:LO$93>0,COLUMN(Planning!$D$5:$LO$5)-3),ROW(Planning!26:26))),"") | H32: =IFERROR(INDEX(Planning!$D$2:$VW$2,SMALL(IF(Planning!D$59:VW$59>0,COLUMN(Planning!$D$5:$VW$5)-3),ROW(Planning!26:26))),"") | L32: =IF(MONTH(L31+1)=1,L31+1,"-") -> 45315 | M32: =IFERROR(IF(MONTH(M31+1)=2,M31+1,"-"),"-") -> 45346 | N32: =IF(MONTH(N31+1)=3,N31+1,"-") -> 45375 | O32: =IF(MONTH(O31+1)=4,O31+1,"-") -> 45406 | P32: =IF(MONTH(P31+1)=5,P31+1,"-") -> 45436 | Q32: =IF(MONTH(Q31+1)=6,Q31+1,"-") -> 45467 | R32: =IF(MONTH(R31+1)=7,R31+1,"-") -> 45497 | S32: =IF(MONTH(S31+1)=8,S31+1,"-") -> 45528 | T32: =IF(MONTH(T31+1)=9,T31+1,"-") -> 45559 | U32: =IF(MONTH(U31+1)=10,U31+1,"-") -> 45589 | V32: =IF(MONTH(V31+1)=11,V31+1,"-") -> 45620 | W32: =IF(MONTH(W31+1)=12,W31+1,"-") -> 45650
G33: =IFERROR(INDEX(Planning!$D$4:$LO$4,SMALL(IF(Planning!D$93:LO$93>0,COLUMN(Planning!$D$5:$LO$5)-3),ROW(Planning!27:27))),"") | H33: =IFERROR(INDEX(Planning!$D$2:$VW$2,SMALL(IF(Planning!D$59:VW$59>0,COLUMN(Planning!$D$5:$VW$5)-3),ROW(Planning!27:27))),"") | L33: =IF(MONTH(L32+1)=1,L32+1,"-") -> 45316 | M33: =IFERROR(IF(MONTH(M32+1)=2,M32+1,"-"),"-") -> 45347 | N33: =IF(MONTH(N32+1)=3,N32+1,"-") -> 45376 | O33: =IF(MONTH(O32+1)=4,O32+1,"-") -> 45407 | P33: =IF(MONTH(P32+1)=5,P32+1,"-") -> 45437 | Q33: =IF(MONTH(Q32+1)=6,Q32+1,"-") -> 45468 | R33: =IF(MONTH(R32+1)=7,R32+1,"-") -> 45498 | S33: =IF(MONTH(S32+1)=8,S32+1,"-") -> 45529 | T33: =IF(MONTH(T32+1)=9,T32+1,"-") -> 45560 | U33: =IF(MONTH(U32+1)=10,U32+1,"-") -> 45590 | V33: =IF(MONTH(V32+1)=11,V32+1,"-") -> 45621 | W33: =IF(MONTH(W32+1)=12,W32+1,"-") -> 45651
G34: =IFERROR(INDEX(Planning!$D$4:$LO$4,SMALL(IF(Planning!D$93:LO$93>0,COLUMN(Planning!$D$5:$LO$5)-3),ROW(Planning!28:28))),"") | H34: =IFERROR(INDEX(Planning!$D$2:$VW$2,SMALL(IF(Planning!D$59:VW$59>0,COLUMN(Planning!$D$5:$VW$5)-3),ROW(Planning!28:28))),"") | L34: =IF(MONTH(L33+1)=1,L33+1,"-") -> 45317 | M34: =IFERROR(IF(MONTH(M33+1)=2,M33+1,"-"),"-") -> 45348 | N34: =IF(MONTH(N33+1)=3,N33+1,"-") -> 45377 | O34: =IF(MONTH(O33+1)=4,O33+1,"-") -> 45408 | P34: =IF(MONTH(P33+1)=5,P33+1,"-") -> 45438 | Q34: =IF(MONTH(Q33+1)=6,Q33+1,"-") -> 45469 | R34: =IF(MONTH(R33+1)=7,R33+1,"-") -> 45499 | S34: =IF(MONTH(S33+1)=8,S33+1,"-") -> 45530 | T34: =IF(MONTH(T33+1)=9,T33+1,"-") -> 45561 | U34: =IF(MONTH(U33+1)=10,U33+1,"-") -> 45591 | V34: =IF(MONTH(V33+1)=11,V33+1,"-") -> 45622 | W34: =IF(MONTH(W33+1)=12,W33+1,"-") -> 45652
G35: =IFERROR(INDEX(Planning!$D$4:$LO$4,SMALL(IF(Planning!D$93:LO$93>0,COLUMN(Planning!$D$5:$LO$5)-3),ROW(Planning!29:29))),"") | H35: =IFERROR(INDEX(Planning!$D$2:$VW$2,SMALL(IF(Planning!D$59:VW$59>0,COLUMN(Planning!$D$5:$VW$5)-3),ROW(Planning!29:29))),"") | L35: =IF(MONTH(L34+1)=1,L34+1,"-") -> 45318 | M35: =IFERROR(IF(MONTH(M34+1)=2,M34+1,"-"),"-") -> 45349 | N35: =IF(MONTH(N34+1)=3,N34+1,"-") -> 45378 | O35: =IF(MONTH(O34+1)=4,O34+1,"-") -> 45409 | P35: =IF(MONTH(P34+1)=5,P34+1,"-") -> 45439 | Q35: =IF(MONTH(Q34+1)=6,Q34+1,"-") -> 45470 | R35: =IF(MONTH(R34+1)=7,R34+1,"-") -> 45500 | S35: =IF(MONTH(S34+1)=8,S34+1,"-") -> 45531 | T35: =IF(MONTH(T34+1)=9,T34+1,"-") -> 45562 | U35: =IF(MONTH(U34+1)=10,U34+1,"-") -> 45592 | V35: =IF(MONTH(V34+1)=11,V34+1,"-") -> 45623 | W35: =IF(MONTH(W34+1)=12,W34+1,"-") -> 45653
G36: =IFERROR(INDEX(Planning!$D$4:$LO$4,SMALL(IF(Planning!D$93:LO$93>0,COLUMN(Planning!$D$5:$LO$5)-3),ROW(Planning!30:30))),"") | H36: =IFERROR(INDEX(Planning!$D$2:$VW$2,SMALL(IF(Planning!D$59:VW$59>0,COLUMN(Planning!$D$5:$VW$5)-3),ROW(Planning!30:30))),"") | L36: =IF(MONTH(L35+1)=1,L35+1,"-") -> 45319 | M36: =IFERROR(IF(MONTH(M35+1)=2,M35+1,"-"),"-") -> 45350 | N36: =IF(MONTH(N35+1)=3,N35+1,"-") -> 45379 | O36: =IF(MONTH(O35+1)=4,O35+1,"-") -> 45410 | P36: =IF(MONTH(P35+1)=5,P35+1,"-") -> 45440 | Q36: =IF(MONTH(Q35+1)=6,Q35+1,"-") -> 45471 | R36: =IF(MONTH(R35+1)=7,R35+1,"-") -> 45501 | S36: =IF(MONTH(S35+1)=8,S35+1,"-") -> 45532 | T36: =IF(MONTH(T35+1)=9,T35+1,"-") -> 45563 | U36: =IF(MONTH(U35+1)=10,U35+1,"-") -> 45593 | V36: =IF(MONTH(V35+1)=11,V35+1,"-") -> 45624 | W36: =IF(MONTH(W35+1)=12,W35+1,"-") -> 45654
G37: =IFERROR(INDEX(Planning!$D$4:$LO$4,SMALL(IF(Planning!D$93:LO$93>0,COLUMN(Planning!$D$5:$LO$5)-3),ROW(Planning!31:31))),"") | H37: =IFERROR(INDEX(Planning!$D$2:$VW$2,SMALL(IF(Planning!D$59:VW$59>0,COLUMN(Planning!$D$5:$VW$5)-3),ROW(Planning!31:31))),"") | L37: =IF(MONTH(L36+1)=1,L36+1,"-") -> 45320 | M37: =IFERROR(IF(MONTH(M36+1)=2,M36+1,"-"),"-") -> 45351 | N37: =IF(MONTH(N36+1)=3,N36+1,"-") -> 45380 | O37: =IF(MONTH(O36+1)=4,O36+1,"-") -> 45411 | P37: =IF(MONTH(P36+1)=5,P36+1,"-") -> 45441 | Q37: =IF(MONTH(Q36+1)=6,Q36+1,"-") -> 45472 | R37: =IF(MONTH(R36+1)=7,R36+1,"-") -> 45502 | S37: =IF(MONTH(S36+1)=8,S36+1,"-") -> 45533 | T37: =IF(MONTH(T36+1)=9,T36+1,"-") -> 45564 | U37: =IF(MONTH(U36+1)=10,U36+1,"-") -> 45594 | V37: =IF(MONTH(V36+1)=11,V36+1,"-") -> 45625 | W37: =IF(MONTH(W36+1)=12,W36+1,"-") -> 45655
G38: =IFERROR(INDEX(Planning!$D$4:$LO$4,SMALL(IF(Planning!D$93:LO$93>0,COLUMN(Planning!$D$5:$LO$5)-3),ROW(Planning!32:32))),"") | H38: =IFERROR(INDEX(Planning!$D$2:$VW$2,SMALL(IF(Planning!D$59:VW$59>0,COLUMN(Planning!$D$5:$VW$5)-3),ROW(Planning!32:32))),"") | L38: =IF(MONTH(L37+1)=1,L37+1,"-") -> 45321 | M38: =IFERROR(IF(MONTH(M37+1)=2,M37+1,"-"),"-") -> - | N38: =IF(MONTH(N37+1)=3,N37+1,"-") -> 45381 | O38: =IF(MONTH(O37+1)=4,O37+1,"-") -> 45412 | P38: =IF(MONTH(P37+1)=5,P37+1,"-") -> 45442 | Q38: =IF(MONTH(Q37+1)=6,Q37+1,"-") -> 45473 | R38: =IF(MONTH(R37+1)=7,R37+1,"-") -> 45503 | S38: =IF(MONTH(S37+1)=8,S37+1,"-") -> 45534 | T38: =IF(MONTH(T37+1)=9,T37+1,"-") -> 45565 | U38: =IF(MONTH(U37+1)=10,U37+1,"-") -> 45595 | V38: =IF(MONTH(V37+1)=11,V37+1,"-") -> 45626 | W38: =IF(MONTH(W37+1)=12,W37+1,"-") -> 45656
G39: =IFERROR(INDEX(Planning!$D$4:$LO$4,SMALL(IF(Planning!D$93:LO$93>0,COLUMN(Planning!$D$5:$LO$5)-3),ROW(Planning!33:33))),"") | H39: =IFERROR(INDEX(Planning!$D$2:$VW$2,SMALL(IF(Planning!D$59:VW$59>0,COLUMN(Planning!$D$5:$VW$5)-3),ROW(Planning!33:33))),"") | L39: =IF(MONTH(L38+1)=1,L38+1,"-") -> 45322 | M39: =IFERROR(IF(MONTH(M38+1)=2,M38+1,"-"),"-") -> - | N39: =IF(MONTH(N38+1)=3,N38+1,"-") -> 45382 | O39: =IF(MONTH(O38+1)=4,O38+1,"-") -> - | P39: =IF(MONTH(P38+1)=5,P38+1,"-") -> 45443 | Q39: =IF(MONTH(Q38+1)=6,Q38+1,"-") -> - | R39: =IF(MONTH(R38+1)=7,R38+1,"-") -> 45504 | S39: =IF(MONTH(S38+1)=8,S38+1,"-") -> 45535 | T39: =IF(MONTH(T38+1)=9,T38+1,"-") -> - | U39: =IF(MONTH(U38+1)=10,U38+1,"-") -> 45596 | V39: =IF(MONTH(V38+1)=11,V38+1,"-") -> - | W39: =IF(MONTH(W38+1)=12,W38+1,"-") -> 45657
G40: =IFERROR(INDEX(Planning!$D$4:$LO$4,SMALL(IF(Planning!D$93:LO$93>0,COLUMN(Planning!$D$5:$LO$5)-3),ROW(Planning!#REF!))),"") | H40: =IFERROR(INDEX(Planning!$D$2:$VW$2,SMALL(IF(Planning!D$59:VW$59>0,COLUMN(Planning!$D$5:$VW$5)-3),ROW(Planning!#REF!))),"")
G41: =IFERROR(INDEX(Planning!$D$4:$LO$4,SMALL(IF(Planning!D$93:LO$93>0,COLUMN(Planning!$D$5:$LO$5)-3),ROW(Planning!#REF!))),"") | H41: =IFERROR(INDEX(Planning!$D$2:$VW$2,SMALL(IF(Planning!D$59:VW$59>0,COLUMN(Planning!$D$5:$VW$5)-3),ROW(Planning!#REF!))),"")
G42: =IFERROR(INDEX(Planning!$D$4:$LO$4,SMALL(IF(Planning!D$93:LO$93>0,COLUMN(Planning!$D$5:$LO$5)-3),ROW(Planning!#REF!))),"") | H42: =IFERROR(INDEX(Planning!$D$2:$VW$2,SMALL(IF(Planning!D$59:VW$59>0,COLUMN(Planning!$D$5:$VW$5)-3),ROW(Planning!#REF!))),"")
G43: =IFERROR(INDEX(Planning!$D$4:$LO$4,SMALL(IF(Planning!D$93:LO$93>0,COLUMN(Planning!$D$5:$LO$5)-3),ROW(Planning!#REF!))),"") | H43: =IFERROR(INDEX(Planning!$D$2:$VW$2,SMALL(IF(Planning!D$59:VW$59>0,COLUMN(Planning!$D$5:$VW$5)-3),ROW(Planning!#REF!))),"")
G44: =IFERROR(INDEX(Planning!$D$4:$LO$4,SMALL(IF(Planning!D$93:LO$93>0,COLUMN(Planning!$D$5:$LO$5)-3),ROW(Planning!#REF!))),"") | H44: =IFERROR(INDEX(Planning!$D$2:$VW$2,SMALL(IF(Planning!D$59:VW$59>0,COLUMN(Planning!$D$5:$VW$5)-3),ROW(Planning!#REF!))),"")
G45: =IFERROR(INDEX(Planning!$D$4:$LO$4,SMALL(IF(Planning!D$93:LO$93>0,COLUMN(Planning!$D$5:$LO$5)-3),ROW(Planning!#REF!))),"") | H45: =IFERROR(INDEX(Planning!$D$2:$VW$2,SMALL(IF(Planning!D$59:VW$59>0,COLUMN(Planning!$D$5:$VW$5)-3),ROW(Planning!#REF!))),"")
G46: =IFERROR(INDEX(Planning!$D$4:$LO$4,SMALL(IF(Planning!D$93:LO$93>0,COLUMN(Planning!$D$5:$LO$5)-3),ROW(Planning!#REF!))),"") | H46: =IFERROR(INDEX(Planning!$D$2:$VW$2,SMALL(IF(Planning!D$59:VW$59>0,COLUMN(Planning!$D$5:$VW$5)-3),ROW(Planning!#REF!))),"")
G47: =IFERROR(INDEX(Planning!$D$4:$LO$4,SMALL(IF(Planning!D$93:LO$93>0,COLUMN(Planning!$D$5:$LO$5)-3),ROW(Planning!#REF!))),"") | H47: =IFERROR(INDEX(Planning!$D$2:$VW$2,SMALL(IF(Planning!D$59:VW$59>0,COLUMN(Planning!$D$5:$VW$5)-3),ROW(Planning!#REF!))),"")
G48: =IFERROR(INDEX(Planning!$D$4:$LO$4,SMALL(IF(Planning!D$93:LO$93>0,COLUMN(Planning!$D$5:$LO$5)-3),ROW(Planning!#REF!))),"") | H48: =IFERROR(INDEX(Planning!$D$2:$VW$2,SMALL(IF(Planning!D$59:VW$59>0,COLUMN(Planning!$D$5:$VW$5)-3),ROW(Planning!#REF!))),"")
G49: =IFERROR(INDEX(Planning!$D$4:$LO$4,SMALL(IF(Planning!D$93:LO$93>0,COLUMN(Planning!$D$5:$LO$5)-3),ROW(Planning!#REF!))),"") | H49: =IFERROR(INDEX(Planning!$D$2:$VW$2,SMALL(IF(Planning!D$59:VW$59>0,COLUMN(Planning!$D$5:$VW$5)-3),ROW(Planning!#REF!))),"")
G50: =IFERROR(INDEX(Planning!$D$4:$LO$4,SMALL(IF(Planning!D$93:LO$93>0,COLUMN(Planning!$D$5:$LO$5)-3),ROW(Planning!#REF!))),"") | H50: =IFERROR(INDEX(Planning!$D$2:$VW$2,SMALL(IF(Planning!D$59:VW$59>0,COLUMN(Planning!$D$5:$VW$5)-3),ROW(Planning!#REF!))),"")
G51: =IFERROR(INDEX(Planning!$D$4:$LO$4,SMALL(IF(Planning!D$93:LO$93>0,COLUMN(Planning!$D$5:$LO$5)-3),ROW(Planning!#REF!))),"") | H51: =IFERROR(INDEX(Planning!$D$2:$VW$2,SMALL(IF(Planning!D$59:VW$59>0,COLUMN(Planning!$D$5:$VW$5)-3),ROW(Planning!#REF!))),"")
... G69: =IFERROR(INDEX(Planning!$D$4:$LO$4,SMALL(IF(Planning!D$93:LO$93>0,COLUMN(Planning!$D$5:$LO$5)-3),ROW(Planning!#REF!))),"") | H69: =IFERROR(INDEX(Planning!$D$2:$VW$2,SMALL(IF(Planning!D$59:VW$59>0,COLUMN(Planning!$D$5:$VW$5)-3),ROW(Planning!#REF!))),"")
G70: =IFERROR(INDEX(Planning!$D$4:$LO$4,SMALL(IF(Planning!D$93:LO$93>0,COLUMN(Planning!$D$5:$LO$5)-3),ROW(Planning!36:36))),"") | H70: =IFERROR(INDEX(Planning!$D$2:$VW$2,SMALL(IF(Planning!D$59:VW$59>0,COLUMN(Planning!$D$5:$VW$5)-3),ROW(Planning!36:36))),"")
G71: =IFERROR(INDEX(Planning!$D$4:$LO$4,SMALL(IF(Planning!D$93:LO$93>0,COLUMN(Planning!$D$5:$LO$5)-3),ROW(Planning!37:37))),"") | H71: =IFERROR(INDEX(Planning!$D$2:$VW$2,SMALL(IF(Planning!D$59:VW$59>0,COLUMN(Planning!$D$5:$VW$5)-3),ROW(Planning!37:37))),"")
G72: =IFERROR(INDEX(Planning!$D$4:$LO$4,SMALL(IF(Planning!D$93:LO$93>0,COLUMN(Planning!$D$5:$LO$5)-3),ROW(Planning!#REF!))),"") | H72: =IFERROR(INDEX(Planning!$D$2:$VW$2,SMALL(IF(Planning!D$59:VW$59>0,COLUMN(Planning!$D$5:$VW$5)-3),ROW(Planning!#REF!))),"")
G73: =IFERROR(INDEX(Planning!$D$4:$LO$4,SMALL(IF(Planning!D$93:LO$93>0,COLUMN(Planning!$D$5:$LO$5)-3),ROW(Planning!#REF!))),"") | H73: =IFERROR(INDEX(Planning!$D$2:$VW$2,SMALL(IF(Planning!D$59:VW$59>0,COLUMN(Planning!$D$5:$VW$5)-3),ROW(Planning!#REF!))),"")
G74: =IFERROR(INDEX(Planning!$D$4:$LO$4,SMALL(IF(Planning!D$93:LO$93>0,COLUMN(Planning!$D$5:$LO$5)-3),ROW(Planning!38:38))),"") | H74: =IFERROR(INDEX(Planning!$D$2:$VW$2,SMALL(IF(Planning!D$59:VW$59>0,COLUMN(Planning!$D$5:$VW$5)-3),ROW(Planning!38:38))),"")
G75: =IFERROR(INDEX(Planning!$D$4:$LO$4,SMALL(IF(Planning!D$93:LO$93>0,COLUMN(Planning!$D$5:$LO$5)-3),ROW(Planning!39:39))),"") | H75: =IFERROR(INDEX(Planning!$D$2:$VW$2,SMALL(IF(Planning!D$59:VW$59>0,COLUMN(Planning!$D$5:$VW$5)-3),ROW(Planning!39:39))),"")
G76: =IFERROR(INDEX(Planning!$D$4:$LO$4,SMALL(IF(Planning!D$93:LO$93>0,COLUMN(Planning!$D$5:$LO$5)-3),ROW(Planning!40:40))),"") | H76: =IFERROR(INDEX(Planning!$D$2:$VW$2,SMALL(IF(Planning!D$59:VW$59>0,COLUMN(Planning!$D$5:$VW$5)-3),ROW(Planning!40:40))),"")
G77: =IFERROR(INDEX(Planning!$D$4:$LO$4,SMALL(IF(Planning!D$93:LO$93>0,COLUMN(Planning!$D$5:$LO$5)-3),ROW(Planning!41:41))),"") | H77: =IFERROR(INDEX(Planning!$D$2:$VW$2,SMALL(IF(Planning!D$59:VW$59>0,COLUMN(Planning!$D$5:$VW$5)-3),ROW(Planning!41:41))),"")
G78: =IFERROR(INDEX(Planning!$D$4:$LO$4,SMALL(IF(Planning!D$93:LO$93>0,COLUMN(Planning!$D$5:$LO$5)-3),ROW(Planning!42:42))),"") | H78: =IFERROR(INDEX(Planning!$D$2:$VW$2,SMALL(IF(Planning!D$59:VW$59>0,COLUMN(Planning!$D$5:$VW$5)-3),ROW(Planning!42:42))),"")
G79: =IFERROR(INDEX(Planning!$D$4:$LO$4,SMALL(IF(Planning!D$93:LO$93>0,COLUMN(Planning!$D$5:$LO$5)-3),ROW(Planning!43:43))),"") | H79: =IFERROR(INDEX(Planning!$D$2:$VW$2,SMALL(IF(Planning!D$59:VW$59>0,COLUMN(Planning!$D$5:$VW$5)-3),ROW(Planning!43:43))),"")
G80: =IFERROR(INDEX(Planning!$D$4:$LO$4,SMALL(IF(Planning!D$93:LO$93>0,COLUMN(Planning!$D$5:$LO$5)-3),ROW(Planning!44:44))),"") | H80: =IFERROR(INDEX(Planning!$D$2:$VW$2,SMALL(IF(Planning!D$59:VW$59>0,COLUMN(Planning!$D$5:$VW$5)-3),ROW(Planning!44:44))),"")
G81: =IFERROR(INDEX(Planning!$D$4:$LO$4,SMALL(IF(Planning!D$93:LO$93>0,COLUMN(Planning!$D$5:$LO$5)-3),ROW(Planning!45:45))),"") | H81: =IFERROR(INDEX(Planning!$D$2:$VW$2,SMALL(IF(Planning!D$59:VW$59>0,COLUMN(Planning!$D$5:$VW$5)-3),ROW(Planning!45:45))),"")
G82: =IFERROR(INDEX(Planning!$D$4:$LO$4,SMALL(IF(Planning!D$93:LO$93>0,COLUMN(Planning!$D$5:$LO$5)-3),ROW(Planning!46:46))),"") | H82: =IFERROR(INDEX(Planning!$D$2:$VW$2,SMALL(IF(Planning!D$59:VW$59>0,COLUMN(Planning!$D$5:$VW$5)-3),ROW(Planning!46:46))),"")
G83: =IFERROR(INDEX(Planning!$D$4:$LO$4,SMALL(IF(Planning!D$93:LO$93>0,COLUMN(Planning!$D$5:$LO$5)-3),ROW(Planning!47:47))),"") | H83: =IFERROR(INDEX(Planning!$D$2:$VW$2,SMALL(IF(Planning!D$59:VW$59>0,COLUMN(Planning!$D$5:$VW$5)-3),ROW(Planning!47:47))),"")
G84: =IFERROR(INDEX(Planning!$D$4:$LO$4,SMALL(IF(Planning!D$93:LO$93>0,COLUMN(Planning!$D$5:$LO$5)-3),ROW(Planning!48:48))),"") | H84: =IFERROR(INDEX(Planning!$D$2:$VW$2,SMALL(IF(Planning!D$59:VW$59>0,COLUMN(Planning!$D$5:$VW$5)-3),ROW(Planning!48:48))),"")
G85: =IFERROR(INDEX(Planning!$D$4:$LO$4,SMALL(IF(Planning!D$93:LO$93>0,COLUMN(Planning!$D$5:$LO$5)-3),ROW(Planning!49:49))),"") | H85: =IFERROR(INDEX(Planning!$D$2:$VW$2,SMALL(IF(Planning!D$59:VW$59>0,COLUMN(Planning!$D$5:$VW$5)-3),ROW(Planning!49:49))),"")
G86: =IFERROR(INDEX(Planning!$D$4:$LO$4,SMALL(IF(Planning!D$93:LO$93>0,COLUMN(Planning!$D$5:$LO$5)-3),ROW(Planning!50:50))),"") | H86: =IFERROR(INDEX(Planning!$D$2:$VW$2,SMALL(IF(Planning!D$59:VW$59>0,COLUMN(Planning!$D$5:$VW$5)-3),ROW(Planning!50:50))),"")
G87: =IFERROR(INDEX(Planning!$D$4:$LO$4,SMALL(IF(Planning!D$93:LO$93>0,COLUMN(Planning!$D$5:$LO$5)-3),ROW(Planning!51:51))),"") | H87: =IFERROR(INDEX(Planning!$D$2:$VW$2,SMALL(IF(Planning!D$59:VW$59>0,COLUMN(Planning!$D$5:$VW$5)-3),ROW(Planning!51:51))),"")
G88: =IFERROR(INDEX(Planning!$D$4:$LO$4,SMALL(IF(Planning!D$93:LO$93>0,COLUMN(Planning!$D$5:$LO$5)-3),ROW(Planning!52:52))),"") | H88: =IFERROR(INDEX(Planning!$D$2:$VW$2,SMALL(IF(Planning!D$59:VW$59>0,COLUMN(Planning!$D$5:$VW$5)-3),ROW(Planning!52:52))),"")
G89: =IFERROR(INDEX(Planning!$D$4:$LO$4,SMALL(IF(Planning!D$93:LO$93>0,COLUMN(Planning!$D$5:$LO$5)-3),ROW(Planning!53:53))),"") | H89: =IFERROR(INDEX(Planning!$D$2:$VW$2,SMALL(IF(Planning!D$59:VW$59>0,COLUMN(Planning!$D$5:$VW$5)-3),ROW(Planning!53:53))),"")
G90: =IFERROR(INDEX(Planning!$D$4:$LO$4,SMALL(IF(Planning!D$93:LO$93>0,COLUMN(Planning!$D$5:$LO$5)-3),ROW(Planning!54:54))),"") | H90: =IFERROR(INDEX(Planning!$D$2:$VW$2,SMALL(IF(Planning!D$59:VW$59>0,COLUMN(Planning!$D$5:$VW$5)-3),ROW(Planning!54:54))),"")
G91: =IFERROR(INDEX(Planning!$D$4:$LO$4,SMALL(IF(Planning!D$93:LO$93>0,COLUMN(Planning!$D$5:$LO$5)-3),ROW(Planning!55:55))),"") | H91: =IFERROR(INDEX(Planning!$D$2:$VW$2,SMALL(IF(Planning!D$59:VW$59>0,COLUMN(Planning!$D$5:$VW$5)-3),ROW(Planning!55:55))),"")
G92: =IFERROR(INDEX(Planning!$D$4:$LO$4,SMALL(IF(Planning!D$93:LO$93>0,COLUMN(Planning!$D$5:$LO$5)-3),ROW(Planning!56:56))),"") | H92: =IFERROR(INDEX(Planning!$D$2:$VW$2,SMALL(IF(Planning!D$59:VW$59>0,COLUMN(Planning!$D$5:$VW$5)-3),ROW(Planning!56:56))),"")
G93: =IFERROR(INDEX(Planning!$D$4:$LO$4,SMALL(IF(Planning!D$93:LO$93>0,COLUMN(Planning!$D$5:$LO$5)-3),ROW(Planning!57:57))),"") | H93: =IFERROR(INDEX(Planning!$D$2:$VW$2,SMALL(IF(Planning!D$59:VW$59>0,COLUMN(Planning!$D$5:$VW$5)-3),ROW(Planning!57:57))),"")
G94: =IFERROR(INDEX(Planning!$D$4:$LO$4,SMALL(IF(Planning!D$93:LO$93>0,COLUMN(Planning!$D$5:$LO$5)-3),ROW(Planning!58:58))),"") | H94: =IFERROR(INDEX(Planning!$D$2:$VW$2,SMALL(IF(Planning!D$59:VW$59>0,COLUMN(Planning!$D$5:$VW$5)-3),ROW(Planning!58:58))),"")
G95: =IFERROR(INDEX(Planning!$D$4:$LO$4,SMALL(IF(Planning!D$93:LO$93>0,COLUMN(Planning!$D$5:$LO$5)-3),ROW(Planning!59:59))),"") | H95: =IFERROR(INDEX(Planning!$D$2:$VW$2,SMALL(IF(Planning!D$59:VW$59>0,COLUMN(Planning!$D$5:$VW$5)-3),ROW(Planning!59:59))),"")
G96: =IFERROR(INDEX(Planning!$D$4:$LO$4,SMALL(IF(Planning!D$93:LO$93>0,COLUMN(Planning!$D$5:$LO$5)-3),ROW(Planning!60:60))),"") | H96: =IFERROR(INDEX(Planning!$D$2:$VW$2,SMALL(IF(Planning!D$59:VW$59>0,COLUMN(Planning!$D$5:$VW$5)-3),ROW(Planning!60:60))),"")
G97: =IFERROR(INDEX(Planning!$D$4:$LO$4,SMALL(IF(Planning!D$93:LO$93>0,COLUMN(Planning!$D$5:$LO$5)-3),ROW(Planning!61:61))),"") | H97: =IFERROR(INDEX(Planning!$D$2:$VW$2,SMALL(IF(Planning!D$59:VW$59>0,COLUMN(Planning!$D$5:$VW$5)-3),ROW(Planning!61:61))),"")
G98: =IFERROR(INDEX(Planning!$D$4:$LO$4,SMALL(IF(Planning!D$93:LO$93>0,COLUMN(Planning!$D$5:$LO$5)-3),ROW(Planning!62:62))),"") | H98: =IFERROR(INDEX(Planning!$D$2:$VW$2,SMALL(IF(Planning!D$59:VW$59>0,COLUMN(Planning!$D$5:$VW$5)-3),ROW(Planning!62:62))),"")
G99: =IFERROR(INDEX(Planning!$D$4:$LO$4,SMALL(IF(Planning!D$93:LO$93>0,COLUMN(Planning!$D$5:$LO$5)-3),ROW(Planning!63:63))),"") | H99: =IFERROR(INDEX(Planning!$D$2:$VW$2,SMALL(IF(Planning!D$59:VW$59>0,COLUMN(Planning!$D$5:$VW$5)-3),ROW(Planning!63:63))),"")
G100: =IFERROR(INDEX(Planning!$D$4:$LO$4,SMALL(IF(Planning!D$93:LO$93>0,COLUMN(Planning!$D$5:$LO$5)-3),ROW(Planning!64:64))),"") | H100: =IFERROR(INDEX(Planning!$D$2:$VW$2,SMALL(IF(Planning!D$59:VW$59>0,COLUMN(Planning!$D$5:$VW$5)-3),ROW(Planning!64:64))),"")
G101: =IFERROR(INDEX(Planning!$D$4:$LO$4,SMALL(IF(Planning!D$93:LO$93>0,COLUMN(Planning!$D$5:$LO$5)-3),ROW(Planning!65:65))),"") | H101: =IFERROR(INDEX(Planning!$D$2:$VW$2,SMALL(IF(Planning!D$59:VW$59>0,COLUMN(Planning!$D$5:$VW$5)-3),ROW(Planning!65:65))),"")
G102: =IFERROR(INDEX(Planning!$D$4:$LO$4,SMALL(IF(Planning!D$93:LO$93>0,COLUMN(Planning!$D$5:$LO$5)-3),ROW(Planning!66:66))),"") | H102: =IFERROR(INDEX(Planning!$D$2:$VW$2,SMALL(IF(Planning!D$59:VW$59>0,COLUMN(Planning!$D$5:$VW$5)-3),ROW(Planning!66:66))),"")
G103: =IFERROR(INDEX(Planning!$D$4:$LO$4,SMALL(IF(Planning!D$93:LO$93>0,COLUMN(Planning!$D$5:$LO$5)-3),ROW(Planning!67:67))),"") | H103: =IFERROR(INDEX(Planning!$D$2:$VW$2,SMALL(IF(Planning!D$59:VW$59>0,COLUMN(Planning!$D$5:$VW$5)-3),ROW(Planning!67:67))),"")
G104: =IFERROR(INDEX(Planning!$D$4:$LO$4,SMALL(IF(Planning!D$93:LO$93>0,COLUMN(Planning!$D$5:$LO$5)-3),ROW(Planning!68:68))),"") | H104: =IFERROR(INDEX(Planning!$D$2:$VW$2,SMALL(IF(Planning!D$59:VW$59>0,COLUMN(Planning!$D$5:$VW$5)-3),ROW(Planning!68:68))),"")
G105: =IFERROR(INDEX(Planning!$D$4:$LO$4,SMALL(IF(Planning!D$93:LO$93>0,COLUMN(Planning!$D$5:$LO$5)-3),ROW(Planning!69:69))),"") | H105: =IFERROR(INDEX(Planning!$D$2:$VW$2,SMALL(IF(Planning!D$59:VW$59>0,COLUMN(Planning!$D$5:$VW$5)-3),ROW(Planning!69:69))),"")
G106: =IFERROR(INDEX(Planning!$D$4:$LO$4,SMALL(IF(Planning!D$93:LO$93>0,COLUMN(Planning!$D$5:$LO$5)-3),ROW(Planning!70:70))),"") | H106: =IFERROR(INDEX(Planning!$D$2:$VW$2,SMALL(IF(Planning!D$59:VW$59>0,COLUMN(Planning!$D$5:$VW$5)-3),ROW(Planning!70:70))),"")
G107: =IFERROR(INDEX(Planning!$D$4:$LO$4,SMALL(IF(Planning!D$93:LO$93>0,COLUMN(Planning!$D$5:$LO$5)-3),ROW(Planning!71:71))),"") | H107: =IFERROR(INDEX(Planning!$D$2:$VW$2,SMALL(IF(Planning!D$59:VW$59>0,COLUMN(Planning!$D$5:$VW$5)-3),ROW(Planning!71:71))),"")
G108: =IFERROR(INDEX(Planning!$D$4:$LO$4,SMALL(IF(Planning!D$93:LO$93>0,COLUMN(Planning!$D$5:$LO$5)-3),ROW(Planning!72:72))),"") | H108: =IFERROR(INDEX(Planning!$D$2:$VW$2,SMALL(IF(Planning!D$59:VW$59>0,COLUMN(Planning!$D$5:$VW$5)-3),ROW(Planning!72:72))),"")
G109: =IFERROR(INDEX(Planning!$D$4:$LO$4,SMALL(IF(Planning!D$93:LO$93>0,COLUMN(Planning!$D$5:$LO$5)-3),ROW(Planning!73:73))),"") | H109: =IFERROR(INDEX(Planning!$D$2:$VW$2,SMALL(IF(Planning!D$59:VW$59>0,COLUMN(Planning!$D$5:$VW$5)-3),ROW(Planning!73:73))),"")
G110: =IFERROR(INDEX(Planning!$D$4:$LO$4,SMALL(IF(Planning!D$93:LO$93>0,COLUMN(Planning!$D$5:$LO$5)-3),ROW(Planning!74:74))),"") | H110: =IFERROR(INDEX(Planning!$D$2:$VW$2,SMALL(IF(Planning!D$59:VW$59>0,COLUMN(Planning!$D$5:$VW$5)-3),ROW(Planning!74:74))),"")
G111: =IFERROR(INDEX(Planning!$D$4:$LO$4,SMALL(IF(Planning!D$93:LO$93>0,COLUMN(Planning!$D$5:$LO$5)-3),ROW(Planning!75:75))),"") | H111: =IFERROR(INDEX(Planning!$D$2:$VW$2,SMALL(IF(Planning!D$59:VW$59>0,COLUMN(Planning!$D$5:$VW$5)-3),ROW(Planning!75:75))),"")
G112: =IFERROR(INDEX(Planning!$D$4:$LO$4,SMALL(IF(Planning!D$93:LO$93>0,COLUMN(Planning!$D$5:$LO$5)-3),ROW(Planning!76:76))),"") | H112: =IFERROR(INDEX(Planning!$D$2:$VW$2,SMALL(IF(Planning!D$59:VW$59>0,COLUMN(Planning!$D$5:$VW$5)-3),ROW(Planning!76:76))),"")
G113: =IFERROR(INDEX(Planning!$D$4:$LO$4,SMALL(IF(Planning!D$93:LO$93>0,COLUMN(Planning!$D$5:$LO$5)-3),ROW(Planning!77:77))),"") | H113: =IFERROR(INDEX(Planning!$D$2:$VW$2,SMALL(IF(Planning!D$59:VW$59>0,COLUMN(Planning!$D$5:$VW$5)-3),ROW(Planning!77:77))),"")
G114: =IFERROR(INDEX(Planning!$D$4:$LO$4,SMALL(IF(Planning!D$93:LO$93>0,COLUMN(Planning!$D$5:$LO$5)-3),ROW(Planning!78:78))),"") | H114: =IFERROR(INDEX(Planning!$D$2:$VW$2,SMALL(IF(Planning!D$59:VW$59>0,COLUMN(Planning!$D$5:$VW$5)-3),ROW(Planning!78:78))),"")
G115: =IFERROR(INDEX(Planning!$D$4:$LO$4,SMALL(IF(Planning!D$93:LO$93>0,COLUMN(Planning!$D$5:$LO$5)-3),ROW(Planning!79:79))),"") | H115: =IFERROR(INDEX(Planning!$D$2:$VW$2,SMALL(IF(Planning!D$59:VW$59>0,COLUMN(Planning!$D$5:$VW$5)-3),ROW(Planning!79:79))),"")
G116: =IFERROR(INDEX(Planning!$D$4:$LO$4,SMALL(IF(Planning!D$93:LO$93>0,COLUMN(Planning!$D$5:$LO$5)-3),ROW(Planning!80:80))),"") | H116: =IFERROR(INDEX(Planning!$D$2:$VW$2,SMALL(IF(Planning!D$59:VW$59>0,COLUMN(Planning!$D$5:$VW$5)-3),ROW(Planning!80:80))),"")
G117: =IFERROR(INDEX(Planning!$D$4:$LO$4,SMALL(IF(Planning!D$93:LO$93>0,COLUMN(Planning!$D$5:$LO$5)-3),ROW(Planning!81:81))),"") | H117: =IFERROR(INDEX(Planning!$D$2:$VW$2,SMALL(IF(Planning!D$59:VW$59>0,COLUMN(Planning!$D$5:$VW$5)-3),ROW(Planning!81:81))),"")
G118: =IFERROR(INDEX(Planning!$D$4:$LO$4,SMALL(IF(Planning!D$93:LO$93>0,COLUMN(Planning!$D$5:$LO$5)-3),ROW(Planning!82:82))),"") | H118: =IFERROR(INDEX(Planning!$D$2:$VW$2,SMALL(IF(Planning!D$59:VW$59>0,COLUMN(Planning!$D$5:$VW$5)-3),ROW(Planning!82:82))),"")
G119: =IFERROR(INDEX(Planning!$D$4:$LO$4,SMALL(IF(Planning!D$93:LO$93>0,COLUMN(Planning!$D$5:$LO$5)-3),ROW(Planning!83:83))),"") | H119: =IFERROR(INDEX(Planning!$D$2:$VW$2,SMALL(IF(Planning!D$59:VW$59>0,COLUMN(Planning!$D$5:$VW$5)-3),ROW(Planning!83:83))),"")
G120: =IFERROR(INDEX(Planning!$D$4:$LO$4,SMALL(IF(Planning!D$93:LO$93>0,COLUMN(Planning!$D$5:$LO$5)-3),ROW(Planning!84:84))),"") | H120: =IFERROR(INDEX(Planning!$D$2:$VW$2,SMALL(IF(Planning!D$59:VW$59>0,COLUMN(Planning!$D$5:$VW$5)-3),ROW(Planning!84:84))),"")
...

Sheet Planning
D1: lundi | F1: mardi | H1: mercredi | I1: jeudi | K1: vendredi | M1: lundi | O1: mardi | Q1: mercredi | R1: jeudi | T1: vendredi | V1: lundi | X1: mardi | Z1: mercredi | AA1: jeudi | AC1: vendredi | AE1: lundi | AG1: mardi | AI1: mercredi | AJ1: jeudi | AL1: vendredi | AN1: lundi | AQ1: mardi | AS1: mercredi | AT1: jeudi | AV1: vendredi | AX1: lundi | AZ1: mardi | BB1: mercredi | BC1: jeudi | BE1: vendredi | BG1: lundi | BI1: mardi | BK1: mercredi | BL1: jeudi | BN1: vendredi | BQ1: lundi | BS1: mardi | BU1: mercredi | BV1: jeudi | BX1: vendredi | BZ1: mardi | CB1: mercredi | CC1: jeudi | CE1: vendredi | CG1: Lundi | CI1: mardi | CK1: mercredi | CL1: jeudi | CN1: vendredi | CP1: Lundi | CR1: mardi | CT1: mercredi | CU1: jeudi | CW1: vendredi | CZ1: Lundi | DB1: mardi | DD1: mercredi | DE1: jeudi | DG1: vendredi | DI1: Lundi | DK1: mardi | DM1: mercredi | DN1: jeudi | DP1: vendredi | DR1: Lundi | DT1: mardi | DV1: mercredi | DW1: jeudi | DY1: vendredi | EB1: Lundi | ED1: mardi | EF1: mercredi | EG1: jeudi | EI1: vendredi | EK1: Lundi | EM1: mardi | EO1: mercredi | EP1: jeudi | ER1: vendredi | ET1: Lundi | EV1: mardi | EX1: mercredi | EY1: jeudi | FA1: vendredi | FC1: Lundi | FE1: mardi | FG1: mercredi | FH1: jeudi | FK1: vendredi | FM1: Lundi | FO1: Mardi | FQ1: Mercredi | FR1: Jeudi | FT1: Vendredi | FV1: Lundi | FX1: Mardi | FZ1: Mercredi | GA1: Jeudi | GC1: Vendredi | GF1: Lundi | GH1: Mardi | GJ1: Mercredi | GK1: Jeudi | GM1: Vendredi | GO1: Lundi | GQ1: Mardi | GS1: Mercredi | GT1: Jeudi | GV1: Vendredi | GX1: Lundi | GZ1: Mardi | HB1: Mercredi | HC1: Jeudi | HE1: Vendredi | HG1: Lundi | HI1: Mardi | HK1: Mercredi | HL1: Jeudi | HN1: Vendredi | HP1: Lundi | HS1: Mardi | HU1: Mercredi | HV1: Jeudi | HX1: Vendredi | HZ1: Lundi | IB1: Mardi | ID1: Mercredi | IE1: Jeudi | IG1: Vendredi | II1: Lundi | IK1: Mardi | IM1: Mercredi | IO1: Vendredi | IQ1: Lundi | IS1: Mardi | IU1: Mercredi | IV1: Vendredi | IX1: Lundi | IZ1: Mardi | JB1: Mercredi | JC1: Jeudi | JE1: Vendredi | JG1: Lundi | JI1: Mardi | JK1: Mercredi | JL1: Jeudi | JN1: Vendredi | JP1: Lundi | JR1: Mardi | JT1: Mercredi | JV1: Lundi | JX1: Mardi | JZ1: Mercredi | KA1: Jeudi | KC1: Vendredi | KE1: Mardi | KG1: Mercredi | KH1: Jeudi | KJ1: Vendredi | KL1: Lundi | KN1: Mardi | KP1: Mercredi | KQ1: Jeudi | KS1: Vendredi | KU1: Lundi | KW1: Mardi | KY1: Mercredi | KZ1: Jeudi | LB1: Vendredi | LD1: Lundi | LG1: Mardi | LI1: Mercredi | LJ1: Jeudi | LL1: Vendredi
D2: Formation Brigade Musique- | E2: Formation Brigade Musique- | F2: Brigade | G2: Brigade | H2: Pondération 1 | I2: Formation Brigade Numérique- | J2: Formation Brigade situation complexe- | K2: Formation Brigade Natation | L2: Formation Brigade Natation- | M2: Pondération 1 | N2: Pondération 1 | O2: Pondération 1 | P2: Pondération 1 | Q2: Pondération 1 | R2: Formation Nouveaux REP+ | S2: Formation Nouveaux REP+ | T2: Pondération 1 | U2: Pondération 1 | V2: Pondération 1 | W2: Pondération 1 | X2: Formation Nouveaux REP+ | Y2: Formation Nouveaux REP+ | Z2: Pondération 1 | AA2: Formation production ecrits CP CE1- | AB2: Pondération 1 | AC2: Pondération 1 | AD2: Pondération 1 | AE2: Pondération 1 | AF2: Pondération brigade 1 | AG2: Formation 1 arts plastiques élémentaire école | AH2: Formation 1 arts plastiques élémentaire école | AI2: Formation 1 arts plastiques élémentaire école | AJ2: Formation 1 arts plastiques élémentaire école | AK2: Formation 1 arts plastiques élémentaire école | AL2: Formation 1 arts plastiques élémentaire école | AM2: Pondération 2 | AN2: Pondération 2 | AO2: Pondération 2 | AQ2: formation Reformulation Maternelle école | AR2: formation Reformulation Maternelle école | AS2: Pondération 2 | AT2: Formation production écrits CE2 CM1 CM2- | AU2: Formation production écrits CE2 CM1 CM2- | AV2: Pondération 2 | AW2: Pondération 2 | AX2: Formation Mathématiques CE2 CM1 CM2 +Ecolier Citoyen dans la ville- | AY2: Formation Mathématiques CE2 CM1 CM2 +Ecolier Citoyen dans la ville- | AZ2: Pondération 2 | BA2: Pondération 2 | BB2: Pondération 2 | BC2: Pondération 2 | BD2: Pondération 2 | BE2: Pondération 2 | BF2: Pondération 2 | BG2: Formation mater comprehension ecole T1 | BH2: Formation mater comprehension ecole T2 | BI2: Formation mater Musique ecole T1 | BJ2: Formation mater Musique ecole T1 | BK2: Pondération 2 | BL2: Formation sciences CE2 CM1 CM2 | BM2: Formation sciences CE2 CM1 CM2 | BN2: Pondération 2 | BO2: Brigade 2- Galia | BQ2: Formation Savoir Nager | BR2: Formation Savoir Nager | BS2: Formation école Musique/Fluence T1 ----------- Formation CE2-CM1-2 Production d'écrits | BT2: Formation école Musique/Fluence T1 | BU2: Pondération 3 | BV2: Pondération 3 | BW2: Pondération 3 | BX2: Formation Savoir Nager | BY2: Pondération 3 | BZ2: Formation Musique PS et MS | CA2: Formation Musique PS et MS | CB2: Pondération 3 | CC2: Formation arts plastiques PS et MS | CD2: Formation arts plastiques PS et MS | CE2: Formation savoir Nager | CF2: Formation savoir Nager | CG2: Pondération 3 | CH2: Pondération 3 | CI2: Pondération 3 | CJ2: Pondération 3 | CK2: Pondération 3 | CL2: Formation Regulation Elementaire école | CM2: Formation Regulation Elementaire école | CN2: Formation savoir Nager | CO2: Pondération 3 | CP2: Formation printemps des poètes CE2 CM1 CM2 (écriture ) | CQ2: Formation printemps des poètes CE2 CM1 CM2 (écriture) | CR2: Formation printemps des poètes CE2 CM1 CM2 (écriture-mise en voix)- | CS2: Pondération 3 | CT2: Pondération 3 | CU2: Pondération 3 | CV2: Formation seminaire directeurs | CW2: Pondération 3 | CX2: Brigade 3- | CZ2: Formation printemps des poètes-Musique CE2 CM1 CM2 (écriture) | DA2: Formation printemps des poètes-Musique CE2 CM1 CM2 (écriture) | DB2: Formation printemps des poètes-Musique CE2 CM1 CM2 (écriture- mise en voix) | DC2: Séminaire CE2 CM1 CM2 | DD2: Séminaire CE2 CM1 CM2 | DE2: Formation musique maternelle école T2 | DF2: Séminaire CE2 CM1 CM2 | DG2: Formation mathématiquesCE2CM1CM2 | DH2: Formation mathématiquesCE2CM1CM2 | DI2: Formation maths CP-CE1 | DJ2: Formation maths CP-CE1 | DK2: Séminaire CE2 CM1 CM2 | DL2: Formation régulation Elémentaire école | DM2: Pondération 4 | DN2: Formation sciences ecole | DO2: Formation sciences ecole | DP2: Formation maternelle Reformulation école | DQ2: Formation maternelle Reformulation école | DR2: Formation compréhension-coopération | DS2: Formation compréhension-coopération | DT2: Pondération 4 | DU2: Pondération 4 | DV2: Pondération 4 | DW2: Pondération 4 | DX2: Pondération 4 | DY2: Pondération 4 | DZ2: Pondération 4 | EB2: Pondération 4 | EC2: Formation comprehension mater école T2 | ED2: Formation Casnav et LVE T1 mater école | EE2: Formation Casnav et LVE T1 mater école | EF2: Formation production ecrits CE2 CM1 CM2 | EG2: Formation CP-CE1 dédoublés T1 | EH2: Formation CP-CE1 dédoublés T1 | EI2: Formation CP-CE1 dédoublés T1 | EJ2: Formation CP-CE1 dédoublés T1 | EK2: Formation CP-CE1 dédoublés T1 | EL2: Formation CP-CE1 dédoublés T1 | EM2: Formation maths CE2 CM1 CM2 Formation production écrits | EN2: Pondératon 4 | EO2: Formation régulation Elémentaire école | EP2: formation production ecrits CP-CE1 | EQ2: Pondération 4 | ER2: Pondération 4 | ES2: Pondération 4 | ET2: Formation plurilinguisme mater école T1 | EU2: Formation plurilinguisme mater école T1 | EV2: Formation EPS mater T1 école | EW2: Formation EPS mater T1 école | EX2: Pondération 4 | EY2: Formation GS dedoublées T1 | EZ2: Formation GS dedoublées T1 | FA2: Formation GS dedoublées T1 / Formation Musique PS-MS T1 | FB2: Formation GS dedoublées T1 / Formation Musique PS-MS T1 | FC2: Formation CP-CE1 dédoublés T1 | FD2: Formation CP-CE1 dédoublés T1 | FE2: Formation CP-CE1 dédoublés T1 | FF2: Formation CP-CE1 dédoublés T1 | FG2: Pondération 4 | FH2: Formation GS dédoublées T1 | FI2: Formation GS dédoublées T1 | FJ2: Pondération 4 | FK2: Pondération 5 | FM2: Pondération 5 | FN2: Pondération 5 | FO2: Pondération 5 | FP2: Pondération 5 | FQ2: Pondération 5 | FR2: Pondération 5 | FS2: Pondération 5 | FT2: formation Maths CE2 CM1 CM2 | FU2: Formation école Musique/Fluence T1 ----- Formation production écrits | FV2: Formation régulation Elémentaire école | FW2: Formation régulation Elémentaire école | FX2: Pondération 5 | FY2: Pondération 5 | FZ2: Pondération 5 | GA2: Pondération 5 | GB2: Pondération 5 | GC2: Pondération 5 | GD2: Pondération 5 | GF2: Formation CP-CE1 dédoublés T2 | GG2: Formation CP-CE1 dédoublés T2 | GH2: Formation CP-CE1 dédoublés T2 | GI2: Brigade 5 | GJ2: Pondération 6 | GK2: Formation casnav et LVE école T2 | GL2: Pondération 6 | GM2: Formation Sciences CE2 CM1 CM2 | GN2: Pondération 6 | GO2: Formation GS dedoublées T2 | GP2: Pondération 6 | GQ2: Pondération 6 | GR2: Pondération 6 | GS2: Pondération 6 | GT2: Formation CP-CE1 dédoublés T2 | GU2: Formation CP-CE1 dédoublés T2 | GV2: Formation Maths Cycle Formation Interactions- école | GW2: Formation Interactions- école | GX2: Pondération 6 | GY2: Pondération 6 | GZ2: Pondération 6 | HA2: Pondération 6 | HB2: Formation production ecrits CP CE1 | HC2: Pondération 6 | HD2: Pondération 6 | HE2: Formation Reformaulation | HF2: Formation Reformaulation | HG2: Pondération 6 | HH2: Pondération 6 | HI2: Brigade 6 | HJ2: Formation GS dédoublées T2 | HK2: Pondération 7 | HL2: Pondération 7 | HM2: Pondération 7 | HN2: Formation GS dedoublées T2 / Formation Musique PS-MS T1 | HO2: Pondération 7 | HP2: Formation EPS Mater école | HQ2: Pondération 7 | HS2: Formation Musique PS MS | HT2: Pondération 7 | HU2: Pondération 7 | HV2: Formation école Sciences | HW2: Pondération 7 | HX2: Formation arts plastiques PS MS | HY2: Pondération 7 | HZ2: Pondération 7 | IA2: Pondération 7 | IB2: Pondération 7 | IC2: Pondération 7 | ID2: Pondération 7 | IE2: Pondération 7 | IF2: Brigade 7 | IG2: Pondération 8 | IH2: Pondération 8 | II2: Pondération 8 | IJ2: Pondération 8 | IK2: Pondération 8 | IL2: Pondération 8 | IM2: Pondération 8 | IO2: Formation interactions dans les apprentissages | IP2: Formation interactions dans les apprentissages | IQ2: Pondération 8 | IR2: Pondération 8 | IS2: Formation plurilinguisme mater école T2 | IT2: Pondération 8 | IU2: Pondération 8 | IV2: Pondération 8 | IW2: Pondération 8 | IX2: Pondération 8 | IY2: Pondération 8 | IZ2: Brigade 8 | JA2: Pondération 9 | JB2: Pondération 9 | JC2: Pondération 9 | JD2: Pondération 9 | JE2: Pondération 9 | JF2: Pondération 9 | JG2: Pondération 9 | JH2: Pondération 9 | JI2: Pondération 9 | JJ2: Pondération 9 | JK2: Pondération 9 | JL2: Pondération 9 | JM2: Pondération 9 | JN2: Pondération 9 | JO2: Pondération 9 | JP2: Brigade 8 | JQ2: Pondération 10 | JR2: Pondération 10 | JS2: Pondération 10 | JT2: Pondération 10 | JV2: Pondération 10 | JW2: Pondération 10 | JX2: Pondération 10 | JY2: Pondération 10 | JZ2: Pondération 10 | KA2: Pondération 10 | KB2: Pondération 10 | KC2: Pondération 10 | KD2: Pondération 10 | KE2: Pondération 10 | KF2: Pondération 10 | KG2: Brigade 10 | KH2: Pondération 11 | KI2: Pondération 11 | KJ2: Pondération 11 | KK2: Pondération 11 | KL2: Pondération 11 | KM2: Pondération 11 | KN2: Pondération 11 | KO2: Pondération 11 | KP2: Pondération 11 | KQ2: Pondération 11 | KR2: Pondération 11 | KS2: Pondération 11 | KT2: Pondération 11 | KU2: Pondération 11 | KV2: Pondération 11 | KW2: Brigade 11 | KX2: Pondération 12 | KY2: Pondération 12 | KZ2: Pondération 12 | LA2: Pondération 12 | LB2: Pondération 12 | LC2: Pondération 12 | LD2: Pondération 12 | LE2: Pondération 12 | LG2: Pondération 12 | LH2: Pondération 12 | LI2: Pondération 12 | LJ2: Pondération 12 | LK2: Pondération 12 | LL2: Pondération 12 | LM2: Pondération 12
D3: Falcucci | E3: Falcucci | I3: Galia | J3: Galia | L3: Bastide RDC bâtiment 2 | R3: Coll. St Simon | S3: Coll. St Simon | X3: Coll. St Simon | Y3: Coll. St Simon | AA3: Galia | AF3: Galia -Salle Maths&Sciences | AT3: Galia | AU3: Galia | AX3: Galia | AY3: Galia | BG3: Stendhal | BH3: Stendhal | BI3: Falcucci | BJ3: Falcucci | BL3: Galia-Maths &sciences----- | BM3: Galia-Maths &sciences----- | BN3: Galia | BO3: Galia | BQ3: Piscine Alban Minville | BS3: Galia-Maths &sciences----- | BT3: Galia-Maths & sciences | BX3: Piscine Alban Minville | BZ3: Falcucci élem | CA3: Falcucci élem | CC3: Galia-Maths&ciences --- | CD3: Galia-Maths&ciences --- | CE3: Piscine Alban Minville | CF3: Salle de conférence Piscine Alban Minville | CL3: collège Bellevue | CM3: Collège Bellevue | CP3: Collège St.Simon | CQ3: Collège St.Simon | CR3: Ecole Elem Falcucci | CZ3: Collège St.Simon | DA3: Collège St.Simon | DE3: école élem.Falcucci | DG3: Galia-Maths&ciences --- | DH3: Galia-Maths&ciences --- | DI3: Galia-Maths&ciences --- | DJ3: Galia-Maths&ciences --- | DN3: Galia-Maths&ciences --- | DO3: Galia-Maths&ciences --- | FU3: Galia-Maths&ciences --- | FV3: Collège Bellevue | FW3: Collège Bellevue
A4: NOM | B4: AM_Sept_01 | C4: PM_Sept_01 | D4: AM_Sept_02 | E4: PM_Sept_02 | F4: AM_Sept_03 | G4: PM_Sept_03 | H4: AM_Sept_04 | I4: AM_Sept_05 | J4: PM_Sept_05 | K4: AM_Sept_06 | L4: PM_Sept_06 | M4: AM_Sept_09 | N4: PM_Sept_09 | O4: AM_Sept_10 | P4: PM_Sept_10 | Q4: AM_Sept_11 | R4: AM_Sept_12 | S4: PM_Sept_12 | T4: AM_Sept_13 | U4: PM_Sept_13 | V4: AM_Sept_16 | W4: PM_Sept_16 | X4: AM_Sept_17 | Y4: PM_Sept_17 | Z4: AM_Sept_18 | AA4: AM_Sept_19 | AB4: PM_Sept_19 | AC4: AM_Sept_20 | AD4: PM_Sept_20 | AE4: AM_Sept_23 | AF4: PM_Sept_23 | AG4: AM_Sept_24 | AH4: PM_Sept_24 | AI4: AM_Sept_25 | AJ4: AM_Sept_26 | AK4: PM_Sept_26 | AL4: AM_Sept_27 | AM4: PM_Sept_27 | AN4: AM_Sept_30 | AO4: PM_Sept_30 | AP4: Octobre | AQ4: AM_Oct_01 | AR4: PM_Oct_01 | AS4: AM_Oct_02 | AT4: AM_Oct_03 | AU4: PM_Oct_03 | AV4: AM_Oct_04 | AW4: PM_Oct_04 | AX4: AM_Oct_07 | AY4: PM_Oct_07 | AZ4: AM_Oct_08 | BA4: PM_Oct_08 | BB4: AM_Oct_09 | BC4: AM_Oct_10 | BD4: PM_Oct_10 | BE4: AM_Oct_11 | BF4: PM_Oct_11 | BG4: AM_Oct_14 | BH4: PM_Oct_14 | BI4: AM_Oct_15 | BJ4: PM_Oct_15 | BK4: AM_Oct_16 | BL4: AM_Oct_17 | BM4: PM_Oct_17 | BN4: AM_Oct_18 | BO4: PM_Oct_18 | BP4: Novembre | BQ4: AM_Nov_04 | BR4: PM_Nov_04 | BS4: AM_Nov_05 | BT4: PM_Nov_05 | BU4: AM_Nov_06 | BV4: AM_Nov_07 | BW4: PM_Nov_07 | BX4: AM_Nov_08 | BY4: PM_Nov_08 | BZ4: AM_Nov_12 | CA4: PM_Nov_12 | CB4: AM_Nov_13 | CC4: AM_Nov_14 | CD4: PM_Nov_14 | CE4: AM_Nov_15 | CF4: PM_Nov_15 | CG4: AM_Nov_18 | CH4: PM_Nov_18 | CI4: AM_Nov_19 | CJ4: PM_Nov_19 | CK4: AM_Nov_20 | CL4: AM_Nov_21 | CM4: PM_Nov_21 | CN4: AM_Nov_22 | CO4: PM_Nov_22 | CP4: AM_Nov_25 | CQ4: PM_Nov_25 | CR4: AM_Nov_26 | CS4: Mardi-PM_Nov_26 | CT4: Mercredi AM_Nov_27 | CU4: AM_Nov_28 | CV4: PM_Nov_28 | CW4: AM_Nov_29 | CX4: PM_Nov_29 | CY4: Décembre | CZ4: AM_Déc_02 | DA4: PM_Déc_02 | DB4: AM_Déc_03 | DC4: PM_Déc_03 | DD4: AM_Déc_04 | DE4: AM_Déc_05 | DF4: PM_Déc_05 | DG4: AM_Déc_06 | DH4: PM_Déc_06 | DI4: AM_Déc_09 | DJ4: PM_Déc_09 | DK4: AM_Déc_10 | DL4: PM_Déc_10 | DM4: AM_Déc_11 | DN4: AM_Déc_12 | DO4: PM_Déc_12 | DP4: AM_Déc_13 | DQ4: PM_Déc_13 | DR4: AM_Déc_16 | DS4: PM_Déc_16 | DT4: AM_Déc_17 | DU4: PM_Déc_17 | DV4: AM_Déc_18 | DW4: AM_Déc_19 | DX4: PM_Déc_19 | DY4: AM_Déc_20 | DZ4: PM_Déc_20 | EA4: Janvier | EB4: AM_Janv_06 | EC4: PM_Janv_06 | ED4: AM_Janv_07 | EE4: PM_Janv_07 | EF4: AM_Janv_08 | EG4: AM_Janv_09 | EH4: PM_Janv_09 | EI4: AM_Janv_10 | EJ4: PM_Janv_10 | EK4: AM_Janv_13 | EL4: PM_Janv_13 | EM4: AM_Janv_14 | EN4: PM_Janv_14 | EO4: AM_Janv_15 | EP4: AM_Janv_16 | EQ4: PM_Janv_16 | ER4: AM_Janv_17 | ES4: PM_Janv_17 | ET4: AM_Janv_20 | EU4: PM_Janv_20 | EV4: AM_Janv_21 | EW4: PM_Janv_21 | EX4: AM_Janv_22 | EY4: AM_Janv_23 | EZ4: PM_Janv_23 | FA4: AM_Janv_24 | FB4: PM_Janv_24 | FC4: AM_Janv_27 | FD4: PM_Janv_27 | FE4: AM_Janv_28 | FF4: PM_Janv_28 | FG4: AM_Janv_29 | FH4: AM_Janv_30 | FI4: PM_Janv_30 | FJ4: PM_Janv_31 | FK4: AM_Janv_31 | FL4: Février | FM4: AM_Fév_03 | FN4: PM_Fév_03 | FO4: AM_Fév_04 | FP4: PM_Fév_04 | FQ4: AM_Fév_05 | FR4: AM_Fév_06 | FS4: PM_Fév_06 | FT4: AM_Fév_07 | FU4: PM_Fév_07 | FV4: AM_Fév_10 | FW4: PM_Fév_10 | FX4: AM_Fév_11 | FY4: PM_Fév_11 | FZ4: AM_Fév_12 | GA4: AM_Fév_13 | GB4: PM_Fév_13 | GC4: AM_Fév_14 | GD4: PM_Fév_14 | GE4: Mars | GF4: AM_Mar_03 | GG4: PM_Mar_03 | GH4: AM_Mar_04 | GI4: PM_Mar_04 | GJ4: AM_Mar_05 | GK4: AM_Mar_06 | GL4: PM_Mar_06 | GM4: AM_Mar_07 | GN4: PM_Mar_07 | GO4: AM_Mar_10 | GP4: PM_Mar_10 | GQ4: AM_Mar_11 | GR4: PM_Mar_11 | GS4: AM_Mar_12 | GT4: AM_Mar_13 | GU4: PM_Mar_13 | GV4: AM_Mar_14 | GW4: PM_Mar_14 | GX4: AM_Mar_17 | GY4: PM_Mar_17 | GZ4: AM_Mar_18 | HA4: PM_Mar_18 | HB4: AM_Mar_19 | HC4: AM_Mar_20 | HD4: PM_Mar_20 | HE4: AM_Mar_21 | HF4: PM_Mar_21 | HG4: AM_Mar_24 | HH4: PM_Mar_24 | HI4: AM_Mar_25 | HJ4: PM_Mar_25 | HK4: AM_Mar_26 | HL4: AM_Mar_27 | HM4: PM_Mar_27 | HN4: AM_Mar_28 | HO4: PM_Mar_28 | HP4: AM_Mar_31 | HQ4: PM_Mar_31 | HR4: Avril | HS4: AM_Avr_01 | HT4: PM_Avr_01 | HU4: AM_Avr_02 | HV4: AM_Avr_03 | HW4: PM_Avr_03 | HX4: AM_Avr_04 | HY4: PM_Avr_04 | HZ4: AM_Avr_07 | IA4: PM_Avr_07 | IB4: AM_Avr_08 | IC4: PM_Avr_08 | ID4: AM_Avr_09 | IE4: AM_Avr_10 | IF4: PM_Avr_10 | IG4: AM_Avr_11 | IH4: PM_Avr_11 | II4: AM_Avr_28 | IJ4: PM_Avr_28 | IK4: AM_Avr_29 | IL4: PM_Avr_29 | IM4: AM_Avr_30 | IN4: Mai | IO4: AM_Mai_02 | IP4: PM_Mai_02 | IQ4: AM_Mai_05 | IR4: PM_Mai_05 | IS4: AM_Mai_06 | IT4: PM_Mai_06 | IU4: AM_Mai_07 | IV4: AM_Mai_09 | IW4: PM_Mai_09 | IX4: AM_Mai_12 | IY4: PM_Mai_12 | IZ4: AM_Mai_13 | JA4: PM_Mai_13 | JB4: AM_Mai_14 | JC4: AM_Mai_15 | JD4: PM_Mai_15 | JE4: AM_Mai_16 | JF4: PM_Mai_16 | JG4: AM_Mai_19 | JH4: PM_Mai_19 | JI4: AM_Mai_20 | JJ4: PM_Mai_20 | JK4: AM_Mai_21 | JL4: AM_Mai_22 | JM4: PM_Mai_22 | JN4: AM_Mai_23 | JO4: PM_Mai_23 | JP4: AM_Mai_26 | JQ4: PM_Mai_26 | JR4: AM_Mai_27 | JS4: PM_Mai_27 | JT4: AM_Mai_28 | JU4: Juin | JV4: AM_Juin_02 | JW4: PM_Juin_02 | JX4: AM_Juin_03 | JY4: AM_Juin_032 | JZ4: AM_Juin_04 | KA4: AM_Juin_05 | KB4: PM_Juin_05 | KC4: AM_Juin_06 | KD4: PM_Juin_06 | KE4: AM_Juin_10 | KF4: PM_Juin_10 | KG4: AM_Juin_11 | KH4: AM_Juin_12 | KI4: PM_Juin_12 | KJ4: AM_Juin_13 | KK4: PM_Juin_13 | KL4: AM_Juin_16 | KM4: PM_Juin_16 | KN4: AM_Juin_17 | KO4: PM_Juin_17 | KP4: AM_Juin_18 | KQ4: AM_Juin_19 | KR4: PM_Juin_19 | KS4: AM_Juin_20 | KT4: PM_Juin_20 | KU4: AM_Juin_23 | KV4: PM_Juin_23 | KW4: AM_Juin_24 | KX4: PM_Juin_24 | KY4: AM_Juin_25 | KZ4: AM_Juin_26 | LA4: PM_Juin_26 | LB4: AM_Juin_27 | LC4: PM_Juin_27 | LD4: AM_Juin_30 | LE4: PM_Juin_30 | LF4: Juillet | LG4: AM_Juil_01 | LH4: PM_Juil_01 | LI4: AM_Juil_02 | LJ4: AM_Juil_03 | LK4: PM_Juil_03 | LL4: AM_Juil_04 | LM4: PM_Juil_04 | LN4: AM_Juil_07 | LO4: PM_Juil_07
A5: A | D5: Formation Brigade | E5: Formation Brigade | F5: Pondération brigade 1 | G5: Pondération brigade 1 | H5: Tabar, PS MS | I5: Formation Brigade | J5: Formation Brigade | K5: Formation Brigade | L5: Formation Brigade | M5: Dottin, C2C3 | N5: Renan, PS-MS | O5: Lalande, CE2 | P5: Billières, CP | Q5: Faucher, MS-GS | R5: Burc N. Pagnol mater | S5: Burc N. Pagnol mater | T5: Bastide, CE2 CM1 CM2 | U5: Pagnol, PS MS | V5: Papus, PS MS | W5: Dauriac, ULIS | X5: Bousquet M. Dauriac CP | Y5: Bousquet M. Dauriac CP | Z5: Triolet, CM1 | AA5: Hugo, ULIS | AB5: Falcucci, PS MS | AC5: Hyon, CE1 | AD5: Buffon, PS MS | AE5: Veil, CE1-CE2 | AF5: Pondération brigade 1 | AG5: Veil, TPS PS | AH5: Veil, TPS PS | AI5: Veil, TPS PS | AJ5: Hyon, CE1 | AK5: Hyon, CE1 | AL5: Hyon, CE1 | AM5: Tabar, PS MS | AN5: Lalande, CE2 | AO5: Renan, PS-MS | AQ5: Faucher, MS-GS | AR5: Faucher, MS-GS | AS5: Billières, CP | AT5: Triolet, CM1 | AU5: Triolet, CM1 | AV5: Faucher, MS-GS | AW5: Pagnol, PS MS | AX5: Marie Ulm Dauriac CM1CM2 | AY5: Marie Ulm Dauriac CM1CM2 | AZ5: Veil, CE1-CE2 | BA5: Buffon, PS MS | BB5: Dottin, C2C3 | BC5: Papus, PS MS | BD5: Dauriac, ULIS | BE5: Hyon, CE1 | BF5: Falcucci, PS MS | BG5: Monnet, GS CO | BH5: Monnet, GS CO | BI5: Pagnol, PS MS | BJ5: Pagnol, PS MS | BK5: Bastide, CE2 CM1 CM2 | BL5: Triolet, CM1 | BM5: Triolet, CM1 | BN5: Triolet, CM1 | BO5: BRIGADE | BQ5: Héritier, ULIS | BR5: Héritier, ULIS | BS5: Bastide, CM1 CM2 | BU5: Lalande, CE2 | BV5: Renan, PS-MS | BW5: Billières, CP | BX5: Héritier, ULIS | BY5: Faucher, MS-GS | BZ5: Tabar, PS MS | CA5: Tabar, PS MS | CB5: Pagnol, PS MS | CC5: Papus, PS MS | CD5: Papus, PS MS | CE5: Buffon, CP | CF5: Buffon, CP | CG5: Veil, CE1-CE2 | CH5: Buffon, PS MS | CI5: Dottin, C2C3 | CJ5: Papus, PS MS | CK5: Dauriac, ULIS | CL5: Veil, CE1-CE2 | CM5: Veil, CE1-CE2 | CN5: Buffon, CP | CO5: Hyon, CE1 | CP5: Lalande,CE2 | CQ5: Lalande,CE2 | CR5: Lalande,CE2 | CS5: Tabar, PS MS | CT5: Bastide, CE2 CM1 CM2 | CU5: Falcucci, PS MS | CV5: Cerezal, Pinhous | CW5: Triolet, CM1 | CX5: BRIGADE | CZ5: Héritier CM1 | DA5: Héritier CM1 | DB5: Héritier CM1 | DE5: Pagnol, PS MS | DG5: Hugo, CE2 | DH5: Hugo, CE2 | DI5: Pagnol, CP | DJ5: Pagnol, CP | DL5: Veil, CE1-CE2 | DM5: Lalande, CE2 | DN5: Bastide, CE2 CM1 CM2 | DO5: Bastide, CE2 CM1 CM2 | DP5: Faucher, MS-GS | DQ5: Faucher, MS-GS | DT5: Renan, PS-MS | DU5: Billières, CP | DV5: Faucher, MS-GS | DW5: Pagnol, PS MS | DX5: Veil, CE1-CE2 | DY5: Buffon, PS MS | DZ5: Dottin, C2C3 | EB5: Papus, PS MS | EC5: Monnet, GS CO | ED5: Bastide, TPS PS | EE5: Bastide, TPS PS | EF5: Hugo, CE2 | EG5: Ronsard, CP | EH5: Ronsard, CP | EI5: Bastide, CP | EJ5: Bastide, CP | EK5: Lalande, CP | EL5: Lalande, CP | EM5: Lalande, CM1 | EN5: Dauriac, ULIS | EO5: Dauriac CP | EP5: Hugo CP | EQ5: Hyon, CE1 | ER5: Tabar, PS MS | ES5: Bastide, CE2 CM1 CM2 | ET5: Renan, PS MS | EU5: Renan, PS MS | EV5: Michel, TPS PS | EW5: Michel, TPS PS | EX5: Falcucci, PS MS | EY5: Michel, MS GS | EZ5: Michel, MS GS | FA5: Ronsard, MS GS | FB5: Ronsard, MS GS | FC5: Papus, CP | FD5: Papus, CP | FE5: Dottin, CP | FF5: Dottin, CP | FG5: Triolet, CM1 | FH5: Daurat, MS GS | FI5: Daurat, MS GS | FJ5: BRIGADE | FK5: Lalande, CE2 | FM5: Renan, PS-MS | FN5: Billières, CP | FO5: Faucher, MS-GS | FP5: Pagnol, PS MS | FQ5: Veil, CE1-CE2 | FR5: Buffon, PS MS | FS5: Dottin, C2C3 | FT5: Hugo, CE2 | FU5: Bastide CM1 CM2 | FV5: Veil, CP | FW5: Veil, CP | FX5: Papus, PS MS | FY5: Dauriac, ULIS | FZ5: Hyon, CE1 | GA5: Tabar, PS MS | GB5: Bastide, CE2 CM1 CM2 | GC5: Falcucci, PS MS | GD5: Triolet, CM1 | GF5: Bastide, CP | GG5: Ronsard, CP | GH5: Dottin, CP | GI5: BRIGADE | GJ5: Lalande, CE2 | GK5: Bastide, TPS PS | GL5: Renan, PS-MS | GM5: Dottin, CE2 | GN5: Billières, CP | GO5: L.Michel, MS GS | GP5: Faucher, MS-GS | GQ5: Pagnol, PS MS | GR5: Veil, CE1-CE2 | GS5: Buffon, PS MS | GT5: Lalande, CP | GU5: Papus, CP | GV5: Pagnol, CP | GW5: Faucher | GX5: Dottin, C2C3 | GY5: Papus, PS MS | GZ5: Dauriac, ULIS | HA5: Hyon, CE1 | HB5: Hugo CP | HC5: Tabar, PS MS | HD5: Bastide, CE2 CM1 CM2 | HG5: Falcucci, PS MS | HH5: Triolet, CM1 | HI5: BRIGADE | HJ5: Daurat, GS- MS | HK5: Billières, CP | HL5: Lalande, CE2 | HM5: Renan, PS-MS | HN5: Ronsard, MS GS | HO5: Veil, CE1-CE2 | HP5: Michel, TPS PS | HQ5: Buffon, PS MS | HT5: Dottin, C2C3 | HU5: Papus, PS MS | HV5: Daurat CP | HW5: Dauriac, ULIS | HX5: Veil, TPS PS MS | HY5: Hyon, CE1 | HZ5: Faucher, MS-GS | IA5: Pagnol, PS MS | IB5: Tabar, PS MS | IC5: Bastide, CE2 CM1 CM2 | ID5: Falcucci, PS MS | IE5: Triolet, CM1 | IF5: BRIGADE | IG5: Lalande, CE2 | IH5: Renan, PS-MS | II5: Billières, CP | IJ5: Faucher, MS-GS | IK5: Pagnol, PS MS | IL5: Veil, CE1-CE2 | IM5: Buffon, PS MS | IO5: Faucher | IP5: Faucher | IQ5: Dottin, C2C3 | IR5: Papus, PS MS | IS5: Renan, PS MS | IT5: Dauriac, ULIS | IU5: Hyon, CE1 | IV5: Tabar, PS MS | IW5: Bastide, CE2 CM1 CM2 | IX5: Falcucci, PS MS | IY5: Triolet, CM1 | IZ5: BRIGADE | JA5: Lalande, CE2 | JB5: Renan, PS-MS | JC5: Billières, CP | JD5: Faucher, MS-GS | JE5: Pagnol, PS MS | JF5: Veil, CE1-CE2 | JG5: Buffon, PS MS | JH5: Dottin, C2C3 | JI5: Papus, PS MS | JJ5: Dauriac, ULIS | JK5: Hyon, CE1 | JL5: Tabar, PS MS | JM5: Bastide, CE2 CM1 CM2 | JN5: Falcucci, PS MS | JO5: Triolet, CM1 | JP5: BRIGADE | JQ5: Lalande, CE2 | JR5: Renan, PS-MS | JS5: Billières, CP | JT5: Faucher, MS-GS | JV5: Pagnol, PS MS | JW5: Veil, CE1-CE2 | JX5: Buffon, PS MS | JY5: Dottin, C2C3 | JZ5: Papus, PS MS | KA5: Dauriac, ULIS | KB5: Hyon, CE1 | KC5: Tabar, PS MS | KD5: Bastide, CE2 CM1 CM2 | KE5: Falcucci, PS MS | KF5: Triolet, CM1 | KG5: BRIGADE | KH5: Lalande, CE2 | KI5: Renan, PS-MS | KJ5: Billières, CP | KK5: Faucher, MS-GS | KL5: Pagnol, PS MS | KM5: Veil, CE1-CE2 | KN5: Buffon, PS MS | KO5: Dottin, C2C3 | KP5: Papus, PS MS | KQ5: Dauriac, ULIS | KR5: Hyon, CE1 | KS5: Tabar, PS MS | KT5: Bastide, CE2 CM1 CM2 | KU5: Falcucci, PS MS | KV5: Triolet, CM1 | KW5: BRIGADE | KX5: Lalande, CE2 | KY5: Renan, PS-MS | KZ5: Billières, CP | LA5: Faucher, MS-GS | LB5: Pagnol, PS MS | LC5: Veil, CE1-CE2 | LD5: Buffon, PS MS | LE5: Dottin, C2C3 | LG5: Papus, PS MS | LH5: Dauriac, ULIS | LI5: Hyon, CE1 | LJ5: Tabar, PS MS | LK5: Bastide, CE2 CM1 CM2 | LL5: Falcucci, PS MS | LM5: Triolet, CM1
A6: B | D6: Formation Brigade | E6: Formation Brigade | F6: Pondération brigade 1 | G6: Pondération brigade 1 | H6: Papus, CP | I6: Formation Brigade | J6: Formation Brigade | K6: Formation Brigade | L6: Formation Brigade | M6: Claudel, GS | N6: Renan, CE1 CO | O6: Triolet, TPS MS | P6: Billières, PS MS | Q6: Faucher, PS-MS | R6: Lauze E. Papus MS | S6: Lauze E. Papus MS | T6: Bastide, CE1 | U6: Pagnol, CP CE1 | V6: Hugo, C2C3 | W6: Dauriac, CM1 CM2 | X6: Delaunay M. Buffon CP | Y6: Delaunay M. Buffon CP | Z6: Triolet, CE2 | AA6: Renan, CE1 CO | AB6: Falcucci, CE1 | AC6: Hyon, CM1 | AD6: Faucher, CM1 CM2 | AE6: Veil, CP | AF6: Pondération brigade 1 | AG6: Falcucci, CE1 | AH6: Falcucci, CE1 | AI6: Falcucci, CE1 | AJ6: Hyon, CM1 | AK6: Hyon, CM1 | AL6: Hyon, CM1 | AM6: Papus, CP | AN6: Triolet, TPS MS | AO6: Renan, CE1 CO | AQ6: Triolet, TPS MS | AR6: Triolet, TPS MS | AS6: Billières, PS MS | AT6: Triolet, CE2 | AU6: Triolet, CE2 | AV6: Faucher, PS-MS | AW6: Pagnol, CP CE1 | AX6: Marie Oliveiro Dauriac CM1CM2 | AY6: Marie Oliveiro Dauriac CM1CM2 | AZ6: Veil, CP | BA6: Faucher, CM1 CM2 | BB6: Claudel, GS | BC6: Hugo, C2C3 | BD6: Dauriac, CM1 CM2 | BE6: Hyon, CM1 | BF6: Falcucci, CE1 | BK6: Bastide, CE1 | BL6: Triolet, CE2 | BM6: Triolet, CE2 | BN6: Triolet, CE2 | BO6: BRIGADE | BQ6: Billières, CP | BR6: Billières, CP | BS6: Papus, CP | BT6: Papus, CP | BU6: Triolet, TPS MS | BV6: Renan, CE1 CO | BW6: Billières, PS MS | BX6: Billières, CP | BY6: Faucher, PS-MS | CB6: Pagnol, CP CE1 | CC6: Billières, PS MS | CD6: Billières, PS MS | CE6: Buffon, CP | CF6: Buffon, CP | CG6: Veil, CP | CH6: Faucher, CM1 CM2 | CI6: Claudel, GS | CJ6: Hugo, C2C3 | CK6: Dauriac, CM1 CM2 | CL6: Veil,CP | CM6: Veil,CP | CN6: Buffon, CP | CO6: Hyon, CM1 | CP6: Hyon, CM1 | CQ6: Hyon, CM1 | CR6: Hyon, CM1 | CS6: Papus, CP | CT6: Bastide, CE1 | CU6: Falcucci, CE1 | CV6: Ratier, Daste mater | CW6: Triolet, CE2 | CX6: BRIGADE | CZ6: Ronsard, CM1 CM2 | DA6: Ronsard, CM1 CM2 | DB6: Ronsard, CM1 CM2 | DG6: Papus, CE2 | DH6: Papus, CE2 | DI6: Pagnol, CP CE1 | DJ6: Pagnol, CP CE1 | DL6: Veil, CP | DM6: Triolet, TPS MS | DN6: Bastide, CE1 | DO6: Bastide, CE1 | DP6: Triolet, TPS MS | DQ6: Triolet, TPS MS | DR6: Faucher, CM1 CM2 | DS6: Faucher, CM1 CM2 | DT6: Renan, CE1 CO | DU6: Billières, PS MS | DV6: Faucher, PS-MS | DW6: Pagnol, CP CE1 | DX6: Veil, CP | DY6: Faucher, CM1 CM2 | DZ6: Claudel, GS | EB6: Hugo, C2C3 | ED6: Bastide, PS MS | EE6: Bastide, PS MS | EF6: Hugo, CE2 | EG6: Ronsard, CP | EH6: Ronsard, CP | EI6: Bastide, CP | EJ6: Bastide, CP | EK6: Lalande, CP | EL6: Lalande, CP | EM6: Lalande, CM1 | EN6: Dauriac, CM1 CM2 | EO6: Dauriac CP | EP6: Hugo CP | EQ6: Hyon, CM1 | ER6: Papus, CP | ES6: Bastide, CE1 | ET6: Renan, PS MS | EU6: Renan, PS MS | EV6: Michel, PS MS | EW6: Michel, PS MS | EX6: Falcucci, CE1 | EY6: Michel, GS | EZ6: Michel, GS | FA6: Ronsard, MS GS | FB6: Ronsard, MS GS | FC6: Papus, CP | FD6: Papus, CP | FE6: Dottin, CP | FF6: Dottin, CP | FG6: Triolet, CE2 | FH6: Daurat, GS | FI6: Daurat, GS | FJ6: BRIGADE | FK6: Triolet, TPS MS | FM6: Renan, CE1 CO | FN6: Billières, PS MS | FO6: Faucher, PS-MS | FP6: Pagnol, CP CE1 | FQ6: Veil, CP | FR6: Faucher, CM1 CM2 | FS6: Claudel, GS | FT6: Hugo, CE2 | FU6: Papus, CP | FV6: Veil,CP | FW6: Veil,CP | FX6: Hugo, C2C3 | FY6: Dauriac, CM1 CM2 | FZ6: Hyon, CM1 | GA6: Papus, CP | GB6: Bastide, CE1 | GC6: Falcucci, CE1 | GD6: Triolet, CE2 | GF6: Bastide, CP | GG6: Ronsard, CP | GH6: Dottin, CP | GI6: BRIGADE | GJ6: Triolet, TPS MS | GK6: Bastide, PS MS | GL6: Renan, CE1 CO | GM6: Dottin, CE2 | GN6: Billières, PS MS | GP6: Faucher, PS-MS | GQ6: Pagnol, CP CE1 | GR6: Veil, CP | GS6: Faucher, CM1 CM2 | GT6: Lalande, CP | GU6: Papus, CP | GV6: Pagnol, CP CE1 | GW6: Faucher | GX6: Claudel, GS | GY6: Hugo, C2C3 | GZ6: Dauriac, CM1 CM2 | HA6: Hyon, CM1 | HB6: Hugo CP | HC6: Papus, CP | HD6: Bastide, CE1 | HE6: Galia, MS GS | HF6: Galia, MS GS | HG6: Falcucci, CE1 | HH6: Triolet, CE2 | HI6: BRIGADE | HJ6: Daurat, GS | HK6: Billières, PS MS | HL6: Triolet, TPS MS | HM6: Renan, CE1 CO | HN6: Ronsard, MS GS | HO6: Veil, CP | HP6: Michel, PS MS | HQ6: Faucher, CM1 CM2 | HT6: Claudel, GS | HU6: Hugo, C2C3 | HV6: Daurat CP | HW6: Dauriac, CM1 CM2 | HX6: Veil, PS MS | HY6: Hyon, CM1 | HZ6: Faucher, PS-MS | IA6: Pagnol, CP CE1 | IB6: Papus, CP | IC6: Bastide, CE1 | ID6: Falcucci, CE1 | IE6: Triolet, CE2 | IF6: BRIGADE | IG6: Triolet, TPS MS | IH6: Renan, CE1 CO | II6: Billières, PS MS | IJ6: Faucher, PS-MS | IK6: Pagnol, CP CE1 | IL6: Veil, CP | IM6: Faucher, CM1 CM2 | IO6: Faucher | IP6: Faucher | IQ6: Claudel, GS | IR6: Hugo, C2C3 | IS6: Renan, PS MS | IT6: Dauriac, CM1 CM2 | IU6: Hyon, CM1 | IV6: Papus, CP | IW6: Bastide, CE1 | IX6: Falcucci, CE1 | IY6: Triolet, CE2 | IZ6: BRIGADE | JA6: Triolet, TPS MS | JB6: Renan, CE1 CO | JC6: Billières, PS MS | JD6: Faucher, PS-MS | JE6: Pagnol, CP CE1 | JF6: Veil, CP | JG6: Faucher, CM1 CM2 | JH6: Claudel, GS | JI6: Hugo, C2C3 | JJ6: Dauriac, CM1 CM2 | JK6: Hyon, CM1 | JL6: Papus, CP | JM6: Bastide, CE1 | JN6: Falcucci, CE1 | JO6: Triolet, CE2 | JP6: BRIGADE | JQ6: Triolet, TPS MS | JR6: Renan, CE1 CO | JS6: Billières, PS MS | JT6: Faucher, PS-MS | JV6: Pagnol, CP CE1 | JW6: Veil, CP | JX6: Faucher, CM1 CM2 | JY6: Claudel, GS | JZ6: Hugo, C2C3 | KA6: Dauriac, CM1 CM2 | KB6: Hyon, CM1 | KC6: Papus, CP | KD6: Bastide, CE1 | KE6: Falcucci, CE1 | KF6: Triolet, CE2 | KG6: BRIGADE | KH6: Triolet, TPS MS | KI6: Renan, CE1 CO | KJ6: Billières, PS MS | KK6: Faucher, PS-MS | KL6: Pagnol, CP CE1 | KM6: Veil, CP | KN6: Faucher, CM1 CM2 | KO6: Claudel, GS | KP6: Hugo, C2C3 | KQ6: Dauriac, CM1 CM2 | KR6: Hyon, CM1 | KS6: Papus, CP | KT6: Bastide, CE1 | KU6: Falcucci, CE1 | KV6: Triolet, CE2 | KW6: BRIGADE | KX6: Triolet, TPS MS | KY6: Renan, CE1 CO | KZ6: Billières, PS MS | LA6: Faucher, PS-MS | LB6: Pagnol, CP CE1 | LC6: Veil, CP | LD6: Faucher, CM1 CM2 | LE6: Claudel, GS | LG6: Hugo, C2C3 | LH6: Dauriac, CM1 CM2 | LI6: Hyon, CM1 | LJ6: Papus, CP | LK6: Bastide, CE1 | LL6: Falcucci, CE1 | LM6: Triolet, CE2
A7: C | D7: Formation Brigade | E7: Formation Brigade | F7: Pondération brigade 1 | G7: Pondération brigade 1 | H7: Papus, CM1 CM2 | I7: Formation Brigade | J7: Formation Brigade | K7: Formation Brigade | L7: Formation Brigade | M7: Claudel, GS | N7: Renan, CE1 CO | O7: Triolet PS GS | P7: Billières, TPS PS | Q7: Faucher, TPS-PS | R7: Dubosc M. Papus PS | S7: Dubosc M. Papus PS | T7: Bastide, CP | U7: Daurat, GS- MS | V7: Hugo, CM1 | W7: Dauriac, CE2 | X7: Villedary F. S. Veil élémentaire | Y7: Villedary F. S. Veil élémentaire | Z7: Triolet, CE1 | AA7: Renan, CE1 CO | AB7: Falcucci, CE1 | AC7: Hyon, CP | AD7: Faucher, CE1 CE2 | AE7: Veil, CM1-CM2 | AF7: Pondération brigade 1 | AG7: Falcucci, CE1 | AH7: Falcucci, CE1 | AI7: Falcucci, CE1 | AJ7: Hyon, CP | AK7: Hyon, CP | AL7: Hyon, CP | AM7: Papus, CM1 CM2 | AN7: Triolet PS GS | AO7: Renan, CE1 CO | AQ7: Faucher, TPS-PS | AR7: Faucher, TPS-PS | AS7: Billières, TPS PS | AT7: Hugo, CM1 | AU7: Hugo, CM1 | AV7: Faucher, TPS-PS | AW7: Daurat, GS- MS | AZ7: Veil, CM1-CM2 | BA7: Faucher, CE1 CE2 | BB7: Claudel, GS | BC7: Hugo, CM1 | BD7: Dauriac, CE2 | BE7: Hyon, CP | BF7: Falcucci, CE1 | BI7: Daurat, GS- MS | BJ7: Daurat, GS- MS | BK7: Bastide, CP | BL7: Triolet, CM2 | BM7: Triolet, CM2 | BN7: Triolet, CE1 | BO7: BRIGADE | BQ7: Héritier,CP CE1 | BR7: Héritier,CP CE1 | BS7: Papus, CM1 CM2 | BT7: Papus, CM1 CM2 | BU7: Triolet PS GS | BV7: Renan, CE1 CO | BW7: Billières, TPS PS | BX7: Héritier,CP CE1 | BY7: Faucher, TPS-PS | BZ7: Claudel, TPS PS | CA7: Claudel, TPS PS | CB7: Daurat, GS- MS | CC7: Billières, TPS PS | CD7: Billières, TPS PS | CG7: Veil, CM1-CM2 | CH7: Faucher, CE1 CE2 | CI7: Claudel, GS | CJ7: Hugo, CM1 | CK7: Dauriac, CE2 | CL7: Dauriac CE2 | CM7: Dauriac CE2 | CO7: Hyon, CP | CS7: Papus, CM1 CM2 | CT7: Bastide, CP | CU7: Falcucci, CE1 | CV7: Darche Christophe, J.Moulin | CW7: Triolet, CE1 | CX7: BRIGADE | CZ7: Ronsard, CM1 CM2 | DA7: Ronsard, CM1 CM2 | DB7: Ronsard, CM1 CM2 | DE7: Daurat, GS | DG7: Papus, CM1 CM2 | DH7: Papus, CM1 CM2 | DI7: Pagnol, CE1 | DJ7: Pagnol, CE1 | DL7: Veil, CM1-CM2 | DM7: Triolet PS GS | DN7: Bastide, CP | DO7: Bastide, CP | DP7: Faucher, TPS-PS | DQ7: Faucher, TPS-PS | DR7: Faucher, CE1 CE2 | DS7: Faucher, CE1 CE2 | DT7: Renan, CE1 CO | DU7: Billières, TPS PS | DV7: Faucher, TPS-PS | DW7: Daurat, GS- MS | DX7: Veil, CM1-CM2 | DY7: Faucher, CE1 CE2 | DZ7: Claudel, GS | EB7: Hugo, CM1 | ED7: Bastide, MS GS | EE7: Bastide, MS GS | EF7: Hugo, CE2 | EG7: Ronsard, CE1 | EH7: Ronsard, CE1 | EI7: Bastide, CP | EJ7: Bastide, CP | EK7: Lalande, CP | EL7: Lalande, CP | EM7: Lalande, CM1 | EN7: Dauriac, CE2 | EO7: Dauriac CP | EP7: Hugo CP CE1 | EQ7: Hyon, CP | ER7: Papus, CM1 CM2 | ES7: Bastide, CP | ET7: Renan, PS MS | EU7: Renan, PS MS | EV7: Michel, MS GS | EW7: Michel, MS GS | EX7: Falcucci, CE1 | EY7: Tabar, GS | EZ7: Tabar, GS | FA7: Ronsard, GS | FB7: Ronsard, GS | FC7: Papus, CP | FD7: Papus, CP | FE7: Dottin, CP | FF7: Dottin, CP | FG7: Triolet, CE1 | FH7: Veil, MS GS | FI7: Veil, MS GS | FJ7: BRIGADE | FK7: Triolet PS GS | FM7: Renan, CE1 CO | FN7: Billières, TPS PS | FO7: Faucher, TPS-PS | FP7: Daurat, GS- MS | FQ7: Veil, CM1-CM2 | FR7: Faucher, CE1 CE2 | FS7: Claudel, GS | FT7: Hugo, CE2 | FU7: Papus, CM1 CM2 | FV7: Veil,CP | FW7: Veil,CP | FX7: Hugo, CM1 | FY7: Dauriac, CE2 | FZ7: Hyon, CP | GA7: Papus, CM1 CM2 | GB7: Bastide, CP | GC7: Falcucci, CE1 | GD7: Triolet, CE1 | GF7: Bastide, CP | GG7: Ronsard, CE1 | GH7: Dottin, CP | GI7: BRIGADE | GJ7: Triolet PS GS | GK7: Bastide, MS GS | GL7: Renan, CE1 CO | GM7: Dottin, CE2 CM1 | GN7: Billières, TPS PS | GO7: Tabar, GS | GP7: Faucher, TPS-PS | GQ7: Daurat, GS- MS | GR7: Veil, CM1-CM2 | GS7: Faucher, CE1 CE2 | GT7: Lalande, CP | GU7: Papus, CP | GW7: Faucher | GX7: Claudel, GS | GY7: Hugo, CM1 | GZ7: Dauriac, CE2 | HA7: Hyon, CP | HB7: Hugo CP CE1 | HC7: Papus, CM1 CM2 | HD7: Bastide, CP | HE7: Galia, MS GS | HF7: Galia, MS GS | HG7: Falcucci, CE1 | HH7: Triolet, CE1 | HI7: BRIGADE | HJ7: Veil, MS GS | HK7: Billières, TPS PS | HL7: Triolet PS GS | HM7: Renan, CE1 CO | HN7: Ronsard, GS | HO7: Veil, CM1-CM2 | HP7: Michel, MS GS | HQ7: Faucher, CE1 CE2 | HS7: Pinhous, TPS PS | HT7: Claudel, GS | HU7: Hugo, CM1 | HV7: Daurat CE1 | HW7: Dauriac, CE2 | HX7: Daurat, TPS PS | HY7: Hyon, CP | HZ7: Faucher, TPS-PS | IA7: Daurat, GS- MS | IB7: Papus, CM1 CM2 | IC7: Bastide, CP | ID7: Falcucci, CE1 | IE7: Triolet, CE1 | IF7: BRIGADE | IG7: Triolet PS GS | IH7: Renan, CE1 CO | II7: Billières, TPS PS | IJ7: Faucher, TPS-PS | IK7: Daurat, GS- MS | IL7: Veil, CM1-CM2 | IM7: Faucher, CE1 CE2 | IO7: Faucher | IP7: Faucher | IQ7: Claudel, GS | IR7: Hugo, CM1 | IS7: Renan, PS MS | IT7: Dauriac, CE2 | IU7: Hyon, CP | IV7: Papus, CM1 CM2 | IW7: Bastide, CP | IX7: Falcucci, CE1 | IY7: Triolet, CE1 | IZ7: BRIGADE | JA7: Triolet PS GS | JB7: Renan, CE1 CO | JC7: Billières, TPS PS | JD7: Faucher, TPS-PS | JE7: Daurat, GS- MS | JF7: Veil, CM1-CM2 | JG7: Faucher, CE1 CE2 | JH7: Claudel, GS | JI7: Hugo, CM1 | JJ7: Dauriac, CE2 | JK7: Hyon, CP | JL7: Papus, CM1 CM2 | JM7: Bastide, CP | JN7: Falcucci, CE1 | JO7: Triolet, CE1 | JP7: BRIGADE | JQ7: Triolet PS GS | JR7: Renan, CE1 CO | JS7: Billières, TPS PS | JT7: Faucher, TPS-PS | JV7: Daurat, GS- MS | JW7: Veil, CM1-CM2 | JX7: Faucher, CE1 CE2 | JY7: Claudel, GS | JZ7: Hugo, CM1 | KA7: Dauriac, CE2 | KB7: Hyon, CP | KC7: Papus, CM1 CM2 | KD7: Bastide, CP | KE7: Falcucci, CE1 | KF7: Triolet, CE1 | KG7: BRIGADE | KH7: Triolet PS GS | KI7: Renan, CE1 CO | KJ7: Billières, TPS PS | KK7: Faucher, TPS-PS | KL7: Daurat, GS- MS | KM7: Veil, CM1-CM2 | KN7: Faucher, CE1 CE2 | KO7: Claudel, GS | KP7: Hugo, CM1 | KQ7: Dauriac, CE2 | KR7: Hyon, CP | KS7: Papus, CM1 CM2 | KT7: Bastide, CP | KU7: Falcucci, CE1 | KV7: Triolet, CE1 | KW7: BRIGADE | KX7: Triolet PS GS | KY7: Renan, CE1 CO | KZ7: Billières, TPS PS | LA7: Faucher, TPS-PS | LB7: Daurat, GS- MS | LC7: Veil, CM1-CM2 | LD7: Faucher, CE1 CE2 | LE7: Claudel, GS | LG7: Hugo, CM1 | LH7: Dauriac, CE2 | LI7: Hyon, CP | LJ7: Papus, CM1 CM2 | LK7: Bastide, CP | LL7: Falcucci, CE1 | LM7: Triolet, CE1
A8: D | D8: Formation Brigade | E8: Formation Brigade | F8: Pondération brigade 1 | G8: Pondération brigade 1 | H8: Tabar, C1 | I8: Formation Brigade | J8: Formation Brigade | K8: Formation Brigade | L8: Formation Brigade | M8: Dottin, CM1 CM2 | N8: Renan, CM1 | O8: Lalande, CP | P8: Billières, CP | Q8: Buffon, CP | R8: Costes M. Billières CP | S8: Costes M. Billières CP | T8: Bastide, CP | U8: Pagnol, GS | V8: Hugo, CP | W8: Monnet, PS | X8: Goli O. S. Veil élémentaire | Y8: Goli O. S. Veil élémentaire | Z8: Héritier, ULIS | AA8: Hugo, CP | AB8: Dieuzaide, MS GS | AC8: Hyon, PS MS | AD8: Ronsard, PS | AE8: Galia, MS GS | AF8: Pondération brigade 1 | AG8: Ronsard, CE1 | AH8: Ronsard, CE1 | AI8: Ronsard, CE1 | AJ8: Dottin, CM1 CM2 | AK8: Dottin, CM1 CM2 | AL8: Dottin, CM1 CM2 | AM8: Tabar, C1 | AN8: Lalande, CP | AO8: Renan, CM1 | AQ8: Galia, MS GS | AR8: Galia, MS GS | AS8: Billières, CP | AT8: Renan, CM1 | AU8: Renan, CM1 | AV8: Buffon, CP | AW8: Pagnol, GS | AZ8: Galia, MS GS | BA8: Ronsard, PS | BB8: Dottin, CM1 CM2 | BC8: Hugo, CP | BD8: Monnet, PS | BE8: Hyon, PS MS | BF8: Dieuzaide, MS GS | BG8: Monnet, PS | BH8: Monnet, PS | BI8: Pagnol, GS | BJ8: Pagnol, GS | BK8: Bastide, CP | BL8: Dottin, CM1 CM2 | BM8: Dottin, CM1 CM2 | BN8: Héritier, ULIS | BO8: BRIGADE | BQ8: Billières, CP | BR8: Billières, CP | BS8: Bastide, CM1 CM2 | BU8: Lalande, CP | BV8: Renan, CM1 | BW8: Billières, CP | BX8: Billières, CP | BY8: Buffon, CP | BZ8: Hyon, PS MS | CA8: Hyon, PS MS | CB8: Pagnol, GS | CE8: Buffon, CE1 | CF8: Buffon, CE1 | CG8: Galia, MS GS | CH8: Ronsard, PS | CI8: Dottin, CM1 CM2 | CJ8: Hugo, CP | CK8: Monnet, PS | CL8: Dauriac Ulis | CM8: Dauriac Ulis | CN8: Buffon, CE1 | CO8: Hyon, PS MS | CP8: Lalande, CE2 | CQ8: Lalande, CE2 | CR8: Lalande, CE2 | CS8: Papus, CM1 CM2 | CT8: Bastide, CP | CU8: Dieuzaide, MS GS | CV8: Brunello Laure L.Lagrange mater | CW8: Héritier, ULIS | CX8: BRIGADE | CZ8: Héritier, ULIS | DA8: Héritier, ULIS | DB8: Héritier, ULIS | DE8: Pagnol, GS | DG8: Renan, CM1 | DH8: Renan, CM1 | DI8: Pagnol, CE1 | DJ8: Pagnol, CE1 | DL8: Dauriac CE2 | DM8: Lalande, CP | DN8: Bastide, CP | DO8: Bastide, CP | DP8: Galia, MS GS | DQ8: Galia, MS GS | DT8: Renan, CM1 | DU8: Billières, CP | DV8: Buffon, CP | DW8: Pagnol, GS | DX8: Galia, MS GS | DY8: Ronsard, PS | DZ8: Dottin, CM1 CM2 | EB8: Hugo, CP | EC8: Monnet, PS | ED8: Bastide, GS MS | EE8: Bastide, GS MS | EF8: Hugo, CM1 | EG8: Ronsard, CE1 | EH8: Ronsard, CE1 | EI8: Bastide, CP | EJ8: Bastide, CP | EK8: Lalande, CP | EL8: Lalande, CP | EM8: Lalande, CM2 | EN8: Monnet, PS | EO8: Dauriac CE1 | EP8: Hugo CP CE1 | EQ8: Hyon, PS MS | ER8: Papus, CM1 CM2 | ES8: Bastide, CP | ET8: Renan, PS MS | EU8: Renan, PS MS | EV8: Michel, MS GS | EW8: Michel, MS GS | EX8: Dieuzaide, MS GS | EY8: Tabar, GS | EZ8: Tabar, GS | FA8: Pagnol, GS | FB8: Pagnol, GS | FC8: Papus, CP | FD8: Papus, CP | FE8: Dottin, CP CE1 | FF8: Dottin, CP CE1 | FG8: Héritier, ULIS | FH8: Veil, GS | FI8: Veil, GS | FJ8: BRIGADE | FK8: Lalande, CP | FM8: Renan, CM1 | FN8: Billières, CP | FO8: Buffon, CP | FP8: Pagnol, GS | FQ8: Galia, MS GS | FR8: Ronsard, PS | FS8: Dottin, CM1 CM2 | FT8: Hugo, CM1 | FU8: Bastide CM1 CM2 | FV8: Veil, CE1-CE2 | FW8: Veil, CE1-CE2 | FX8: Hugo, CP | FY8: Monnet, PS | FZ8: Hyon, PS MS | GA8: Papus, CM1 CM2 | GB8: Bastide, CP | GC8: Dieuzaide, MS GS | GD8: Héritier, ULIS | GF8: Bastide, CP | GG8: Ronsard, CE1 | GH8: Dottin, CP CE1 | GI8: BRIGADE | GJ8: Lalande, CP | GK8: Bastide, GS MS | GL8: Renan, CM1 | GM8: Dottin, CM1 CM2 | GN8: Billières, CP | GO8: Tabar, GS | GP8: Buffon, CP | GQ8: Pagnol, GS | GR8: Galia, MS GS | GS8: Ronsard, PS | GT8: Lalande, CP | GU8: Papus, CP | GV8: Pagnol, CE1 | GW8: Faucher | GX8: Dottin, CM1 CM2 | GY8: Hugo, CP | GZ8: Monnet, PS | HA8: Hyon, PS MS | HB8: Hugo CP CE1 | HC8: Papus, CM1 CM2 | HD8: Bastide, CP | HE8: Falcucci, TPS MS | HF8: Falcucci, TPS MS | HG8: Dieuzaide, MS GS | HH8: Héritier, ULIS | HI8: BRIGADE | HJ8: Veil, GS | HK8: Billières, CP | HL8: Lalande, CP | HM8: Renan, CM1 | HN8: Pagnol, GS | HO8: Galia, MS GS | HP8: Michel, MS GS | HQ8: Ronsard, PS | HS8: Hugo, TPS PS | HT8: Dottin, CM1 CM2 | HU8: Hugo, CP | HV8: Daurat CE1 CE2 | HW8: Monnet, PS | HX8: Daurat, PS MS | HY8: Hyon, PS MS | HZ8: Buffon, CP | IA8: Pagnol, GS | IB8: Papus, CM1 CM2 | IC8: Bastide, CP | ID8: Dieuzaide, MS GS | IE8: Héritier, ULIS | IF8: BRIGADE | IG8: Lalande, CP | IH8: Renan, CM1 | II8: Billières, CP | IJ8: Buffon, CP | IK8: Pagnol, GS | IL8: Galia, MS GS | IM8: Ronsard, PS | IO8: Faucher | IP8: Faucher | IQ8: Dottin, CM1 CM2 | IR8: Hugo, CP | IS8: Renan, PS MS | IT8: Monnet, PS | IU8: Hyon, PS MS | IV8: Papus, CM1 CM2 | IW8: Bastide, CP | IX8: Dieuzaide, MS GS | IY8: Héritier, ULIS | IZ8: BRIGADE | JA8: Lalande, CP | JB8: Renan, CM1 | JC8: Billières, CP | JD8: Buffon, CP | JE8: Pagnol, GS | JF8: Galia, MS GS | JG8: Ronsard, PS | JH8: Dottin, CM1 CM2 | JI8: Hugo, CP | JJ8: Monnet, PS | JK8: Hyon, PS MS | JL8: Papus, CM1 CM2 | JM8: Bastide, CP | JN8: Dieuzaide, MS GS | JO8: Héritier, ULIS | JP8: BRIGADE | JQ8: Lalande, CP | JR8: Renan, CM1 | JS8: Billières, CP | JT8: Buffon, CP | JV8: Pagnol, GS | JW8: Galia, MS GS | JX8: Ronsard, PS | JY8: Dottin, CM1 CM2 | JZ8: Hugo, CP | KA8: Monnet, PS | KB8: Hyon, PS MS | KC8: Papus, CM1 CM2 | KD8: Bastide, CP | KE8: Dieuzaide, MS GS | KF8: Héritier, ULIS | KG8: BRIGADE | KH8: Lalande, CP | KI8: Renan, CM1 | KJ8: Billières, CP | KK8: Buffon, CP | KL8: Pagnol, GS | KM8: Galia, MS GS | KN8: Ronsard, PS | KO8: Dottin, CM1 CM2 | KP8: Hugo, CP | KQ8: Monnet, PS | KR8: Hyon, PS MS | KS8: Papus, CM1 CM2 | KT8: Bastide, CP | KU8: Dieuzaide, MS GS | KV8: Héritier, ULIS | KW8: BRIGADE | KX8: Lalande, CP | KY8: Renan, CM1 | KZ8: Billières, CP | LA8: Buffon, CP | LB8: Pagnol, GS | LC8: Galia, MS GS | LD8: Ronsard, PS | LE8: Dottin, CM1 CM2 | LG8: Hugo, CP | LH8: Monnet, PS | LI8: Hyon, PS MS | LJ8: Papus, CM1 CM2 | LK8: Bastide, CP | LL8: Dieuzaide, MS GS | LM8: Héritier, ULIS
A9: E | D9: Formation Brigade | E9: Formation Brigade | F9: Pondération brigade 1 | G9: Pondération brigade 1 | H9: Papus, CM1 CM2 | I9: Formation Brigade | J9: Formation Brigade | K9: Formation Brigade | L9: Formation Brigade | M9: Claudel, PS MS | N9: Renan, GS | O9: Lalande, CP CO | P9: Billières, PS MS | Q9: Buffon, CP | R9: Pages M. L. Michel GS | S9: Pages M. L. Michel GS | T9: Bastide, CE2 CM1 CM2 | U9: Daurat, CE2 | V9: Hugo, CE1 | W9: Monnet, PS | X9: Fabre G. Faucher CE1 CE2 | Y9: Fabre G. Faucher CE1 CE2 | Z9: Ronsard, CM1 CM2 | AA9: Hugo, CE1 | AB9: Falcucci, CE1 | AC9: Hyon, CE1 | AD9: Ronsard, MS GS | AE9: Galia, MS GS | AF9: Pondération brigade 1 | AG9: Ronsard, CM1 CM2 | AH9: Ronsard, CM1 CM2 | AI9: Ronsard, CM1 CM2 | AJ9: Hyon, CE1 | AK9: Hyon, CE1 | AL9: Hyon, CE1 | AM9: Papus, CM1 CM2 | AN9: Lalande, CP CO | AO9: Renan, GS | AQ9: Galia, MS GS | AR9: Galia, MS GS | AS9: Billières, PS MS | AT9: Renan, CE2 | AU9: Renan, CE2 | AV9: Buffon, CP | AW9: Daurat, CE2 | AZ9: Galia, MS GS | BA9: Ronsard, MS GS | BB9: Claudel, PS MS | BC9: Hugo, CE1 | BD9: Monnet, PS | BE9: Hyon, CE1 | BF9: Falcucci, CE1 | BG9: Monnet, PS | BH9: Monnet, PS | BI9: Dauriac, TPS PS | BJ9: Dauriac, TPS PS | BK9: Bastide, CE2 CM1 CM2 | BL9: Bastide, CE2 CM1 CM2 | BM9: Bastide, CE2 CM1 CM2 | BN9: Ronsard, CM1 CM2 | BO9: BRIGADE | BQ9: Billières, CM1 CM2 | BR9: Billières, CM1 CM2 | BS9: Papus, CM1 CM2 | BT9: Papus, CM1 CM2 | BU9: Lalande, CP CO | BV9: Renan, GS | BW9: Billières, PS MS | BX9: Billières, CM1 CM2 | BY9: Buffon, CP | BZ9: Claudel, PS MS | CA9: Claudel, PS MS | CB9: Daurat, CE2 | CC9: Billières, PS MS | CD9: Billières, PS MS | CE9: Buffon, CM1-CM2 | CF9: Buffon, CM1-CM2 | CG9: Galia, MS GS | CH9: Ronsard, MS GS | CI9: Claudel, PS MS | CJ9: Hugo, CE1 | CK9: Monnet, PS | CL9: Dauriac CM1 CM2 | CM9: Dauriac CM1 CM2 | CN9: Buffon, CM1-CM2 | CO9: Hyon, CE1 | CP9: Daurat,CE2 | CQ9: Daurat,CE2 | CR9: Daurat,CE2 | CS9: Papus, CP | CT9: Bastide, CE2 CM1 CM2 | CU9: Falcucci, CE1 | CV9: Losfeld Marianne, F.De Lesseps mater | CW9: Ronsard, CM1 CM2 | CX9: BRIGADE | CZ9: Ronsard, CM1 CM2 | DA9: Ronsard, CM1 CM2 | DB9: Ronsard, CM1 CM2 | DG9: Papus, CM1 CM2 | DH9: Papus, CM1 CM2 | DI9: Pagnol, CE2 | DJ9: Pagnol, CE2 | DL9: Dauriac CE1 | DM9: Lalande, CP CO | DN9: Bastide, CE2 CM1 CM2 | DO9: Bastide, CE2 CM1 CM2 | DP9: Galia, MS GS | DQ9: Galia, MS GS | DT9: Renan, GS | DU9: Billières, PS MS | DV9: Buffon, CP | DW9: Daurat, CE2 | DX9: Galia, MS GS | DY9: Ronsard, MS GS | DZ9: Claudel, PS MS | EB9: Hugo, CE1 | EC9: Monnet, PS | ED9: Claudel, GS | EE9: Claudel, GS | EF9: Hugo, CM1 | EG9: Ronsard, CE1 | EH9: Ronsard, CE1 | EI9: Bastide, CE1 | EJ9: Bastide, CE1 | EK9: Lalande, CE1 | EL9: Lalande, CE1 | EM9: Lalande, CM2 | EN9: Monnet, PS | EO9: Dauriac CE1 | EP9: Hugo CE1 | EQ9: Hyon, CE1 | ER9: Papus, CP | ES9: Bastide, CE2 CM1 CM2 | ET9: Renan, PS MS | EU9: Renan, PS MS | EX9: Falcucci, CE1 | FA9: Pagnol, GS | FB9: Pagnol, GS | FC9: Papus, CP | FD9: Papus, CP | FE9: Dottin, CP CE1 | FF9: Dottin, CP CE1 | FG9: Ronsard, CM1 CM2 | FH9: Buffon, MS GS | FI9: Buffon, MS GS | FJ9: BRIGADE | FK9: Lalande, CP CO | FM9: Renan, GS | FN9: Billières, PS MS | FO9: Buffon, CP | FP9: Daurat, CE2 | FQ9: Galia, MS GS | FR9: Ronsard, MS GS | FS9: Claudel, PS MS | FT9: Hugo, CM1 | FU9: Papus, CM1 CM2 | FV9: Veil, CE1-CE2 | FW9: Veil, CE1-CE2 | FX9: Hugo, CE1 | FY9: Monnet, PS | FZ9: Hyon, CE1 | GA9: Papus, CP | GB9: Bastide, CE2 CM1 CM2 | GC9: Falcucci, CE1 | GD9: Ronsard, CM1 CM2 | GF9: Bastide, CE1 | GG9: Ronsard, CE1 | GH9: Dottin, CP CE1 | GI9: BRIGADE | GJ9: Lalande, CP CO | GK9: Claudel, GS | GL9: Renan, GS | GM9: Dottin, CM1 CM2 | GN9: Billières, PS MS | GO9: Dauriac, PS MS GS | GP9: Buffon, CP | GQ9: Daurat, CE2 | GR9: Galia, MS GS | GS9: Ronsard, MS GS | GT9: Lalande, CE1 | GU9: Papus, CP | GV9: Pagnol, CE2 | GW9: Faucher | GX9: Claudel, PS MS | GY9: Hugo, CE1 | GZ9: Monnet, PS | HA9: Hyon, CE1 | HB9: Hugo CE1 | HC9: Papus, CP | HD9: Bastide, CE2 CM1 CM2 | HE9: Falcucci, PS MS | HF9: Falcucci, PS MS | HG9: Falcucci, CE1 | HH9: Ronsard, CM1 CM2 | HI9: BRIGADE | HJ9: Buffon, MS GS | HK9: Billières, PS MS | HL9: Lalande, CP CO | HM9: Renan, GS | HN9: Pagnol, GS | HO9: Galia, MS GS | HQ9: Ronsard, MS GS | HS9: Hugo, PS MS | HT9: Claudel, PS MS | HU9: Hugo, CE1 | HV9: Daurat CE2 | HW9: Monnet, PS | HX9: Pagnol, TPS PS | HY9: Hyon, CE1 | HZ9: Buffon, CP | IA9: Daurat, CE2 | IB9: Papus, CP | IC9: Bastide, CE2 CM1 CM2 | ID9: Falcucci, CE1 | IE9: Ronsard, CM1 CM2 | IF9: BRIGADE | IG9: Lalande, CP CO | IH9: Renan, GS | II9: Billières, PS MS | IJ9: Buffon, CP | IK9: Daurat, CE2 | IL9: Galia, MS GS | IM9: Ronsard, MS GS | IO9: Faucher | IP9: Faucher | IQ9: Claudel, PS MS | IR9: Hugo, CE1 | IS9: Renan, PS MS | IT9: Monnet, PS | IU9: Hyon, CE1 | IV9: Papus, CP | IW9: Bastide, CE2 CM1 CM2 | IX9: Falcucci, CE1 | IY9: Ronsard, CM1 CM2 | IZ9: BRIGADE | JA9: Lalande, CP CO | JB9: Renan, GS | JC9: Billières, PS MS | JD9: Buffon, CP | JE9: Daurat, CE2 | JF9: Galia, MS GS | JG9: Ronsard, MS GS | JH9: Claudel, PS MS | JI9: Hugo, CE1 | JJ9: Monnet, PS | JK9: Hyon, CE1 | JL9: Papus, CP | JM9: Bastide, CE2 CM1 CM2 | JN9: Falcucci, CE1 | JO9: Ronsard, CM1 CM2 | JP9: BRIGADE | JQ9: Lalande, CP CO | JR9: Renan, GS | JS9: Billières, PS MS | JT9: Buffon, CP | JV9: Daurat, CE2 | JW9: Galia, MS GS | JX9: Ronsard, MS GS | JY9: Claudel, PS MS | JZ9: Hugo, CE1 | KA9: Monnet, PS | KB9: Hyon, CE1 | KC9: Papus, CP | KD9: Bastide, CE2 CM1 CM2 | KE9: Falcucci, CE1 | KF9: Ronsard, CM1 CM2 | KG9: BRIGADE | KH9: Lalande, CP CO | KI9: Renan, GS | KJ9: Billières, PS MS | KK9: Buffon, CP | KL9: Daurat, CE2 | KM9: Galia, MS GS | KN9: Ronsard, MS GS | KO9: Claudel, PS MS | KP9: Hugo, CE1 | KQ9: Monnet, PS | KR9: Hyon, CE1 | KS9: Papus, CP | KT9: Bastide, CE2 CM1 CM2 | KU9: Falcucci, CE1 | KV9: Ronsard, CM1 CM2 | KW9: BRIGADE | KX9: Lalande, CP CO | KY9: Renan, GS | KZ9: Billières, PS MS | LA9: Buffon, CP | LB9: Daurat, CE2 | LC9: Galia, MS GS | LD9: Ronsard, MS GS | LE9: Claudel, PS MS | LG9: Hugo, CE1 | LH9: Monnet, PS | LI9: Hyon, CE1 | LJ9: Papus, CP | LK9: Bastide, CE2 CM1 CM2 | LL9: Falcucci, CE1 | LM9: Ronsard, CM1 CM2
A10: F | D10: Formation Brigade | E10: Formation Brigade | F10: Pondération brigade 1 | G10: Pondération brigade 1 | H10: Papus, CP | I10: Formation Brigade | J10: Formation Brigade | K10: Formation Brigade | L10: Formation Brigade | M10: Dottin, CE1 | N10: Renan, CP | O10: Lalande, CE1 | P10: Billières, CM1 CM2 | Q10: Faucher, PS-MS | R10: Perez A. Dauriac PS MS | S10: Perez A. Dauriac PS MS | T10: Hugo, GS | U10: Pagnol, CE2 CM1 | V10: Hugo, CM2 | W10: Dauriac, C2C3 | X10: Liehn L. Daurat CE1 | Y10: Liehn L. Daurat CE1 | Z10: Héritier,CP CE1 | AA10: Renan, CP | AB10: Dieuzaide, PS | AC10: Michel, MS GS | AD10: Faucher, CE1 CE2 | AE10: Veil, MS GS | AF10: Pondération brigade 1 | AG10: Veil, MS GS | AH10: Veil, MS GS | AI10: Veil, MS GS | AJ10: Dottin, CE1 | AK10: Dottin, CE1 | AL10: Dottin, CE1 | AM10: Papus, CP | AN10: Lalande, CE1 | AO10: Renan, CP | AQ10: Faucher, PS-MS | AR10: Faucher, PS-MS | AS10: Billières, CM1 CM2 | AT10: Renan, CM2 | AU10: Renan, CM2 | AV10: Faucher, PS-MS | AW10: Pagnol, CE2 CM1 | AX10: Pagnol, CE2 CM1 | AY10: Pagnol, CE2 CM1 | AZ10: Veil, MS GS | BA10: Faucher, CE1 CE2 | BB10: Dottin, CE1 | BC10: Hugo, CM2 | BD10: Dauriac, C2C3 | BE10: Michel, MS GS | BF10: Dieuzaide, PS | BG10: Hugo, GS | BH10: Hugo, GS | BK10: Hugo, GS | BL10: Pagnol, CE2 CM1 | BM10: Pagnol, CE2 CM1 | BN10: Héritier,CP CE1 | BO10: BRIGADE | BQ10: Héritier,CE1 | BR10: Héritier,CE1 | BS10: Bastide, CE2 CM1 CM2 | BU10: Lalande, CE1 | BV10: Renan, CP | BW10: Billières, CM1 CM2 | BX10: Héritier,CE1 | BY10: Faucher, PS-MS | CB10: Pagnol, CE2 CM1 | CC10: Pagnol, MS | CD10: Pagnol, MS | CE10: Buffon, CE1 | CF10: Buffon, CE1 | CG10: Veil, MS GS | CH10: Faucher, CE1 CE2 | CI10: Dottin, CE1 | CJ10: Hugo, CM2 | CK10: Dauriac, C2C3 | CL10: Veil, CM1-CM2 | CM10: Veil, CM1-CM2 | CN10: Buffon, CE1 | CO10: Michel, MS GS | CP10: Billières,CM1 CM2 | CQ10: Billières,CM1 CM2 | CR10: Billières,CM1 CM2 | CS10: Papus, CE1 | CT10: Hugo, GS | CU10: Dieuzaide, PS | CV10: Muccin Laetition, G.Hyon | CW10: Héritier,CP CE1 | CX10: BRIGADE | CZ10: Buffon, CM1-CM2 | DA10: Buffon, CM1-CM2 | DB10: Buffon, CM1-CM2 | DE10: Dauriac, GS | DG10: Hugo, CM2 | DH10: Hugo, CM2 | DI10: Lalande, CP | DJ10: Lalande, CP | DL10: Dauriac Ulis | DM10: Lalande, CE1 | DP10: Faucher, PS-MS | DQ10: Faucher, PS-MS | DR10: Faucher, CE1 CE2 | DS10: Faucher, CE1 CE2 | DT10: Renan, CP | DU10: Billières, CM1 CM2 | DV10: Faucher, PS-MS | DW10: Pagnol, CE2 CM1 | DX10: Veil, MS GS | DY10: Faucher, CE1 CE2 | DZ10: Dottin, CE1 | EB10: Hugo, CM2 | EC10: Hugo, GS | ED10: Claudel, GS | EE10: Claudel, GS | EF10: Hugo, CM2 | EG10: Hyon, CP | EH10: Hyon, CP | EI10: Bastide, CE1 CE2 | EJ10: Bastide, CE1 CE2 | EK10: Lalande, CE1 | EL10: Lalande, CE1 | EM10: Pagnol, CE2 CM1 | EN10: Dauriac, C2C3 | EO10: Dauriac CE1 | EP10: Hugo CE1 | EQ10: Michel, MS GS | ER10: Papus, CE1 | ES10: Hugo, GS | ET10: Renan, GS | EU10: Renan, GS | EV10: Billières, TPS PS | EW10: Billières, TPS PS | EX10: Dieuzaide, PS | FA10: Hyon, GS | FB10: Hyon, GS | FC10: Papus, CE1 | FD10: Papus, CE1 | FE10: Dottin, CE1 | FF10: Dottin, CE1 | FG10: Héritier,CP CE1 | FH10: Buffon, GS | FI10: Buffon, GS | FJ10: BRIGADE | FK10: Lalande, CE1 | FM10: Renan, CP | FN10: Billières, CM1 CM2 | FO10: Faucher, PS-MS | FP10: Pagnol, CE2 CM1 | FQ10: Veil, MS GS | FR10: Faucher, CE1 CE2 | FS10: Dottin, CE1 | FT10: Hugo, CM2 | FU10: Bastide CM1 CM2 | FV10: Veil, CE1-CE2 | FW10: Veil, CE1-CE2 | FX10: Hugo, CM2 | FY10: Dauriac, C2C3 | FZ10: Michel, MS GS | GA10: Papus, CE1 | GB10: Hugo, GS | GC10: Dieuzaide, PS | GD10: Héritier,CP CE1 | GF10: Bastide, CE1 CE2 | GG10: Hyon, CP | GH10: Dottin, CE1 | GI10: BRIGADE | GJ10: Lalande, CE1 | GK10: Claudel, GS | GL10: Renan, CP | GM10: Dottin, CM1 CM2 | GN10: Billières, CM1 CM2 | GO10: Dauriac, PS MS GS | GP10: Faucher, PS-MS | GQ10: Pagnol, CE2 CM1 | GR10: Veil, MS GS | GS10: Faucher, CE1 CE2 | GT10: Lalande, CE1 | GU10: Papus, CE1 | GV10: Lalande, CP | GW10: Faucher | GX10: Dottin, CE1 | GY10: Hugo, CM2 | GZ10: Dauriac, C2C3 | HA10: Michel, MS GS | HB10: Hugo CE1 | HC10: Papus, CE1 | HD10: Hugo, GS | HE10: Falcucci, MS PS | HF10: Falcucci, MS PS | HG10: Dieuzaide, PS | HH10: Héritier,CP CE1 | HI10: BRIGADE | HJ10: Buffon, MS GS | HK10: Billières, CM1 CM2 | HL10: Lalande, CE1 | HM10: Renan, CP | HN10: Hyon, GS | HO10: Veil, MS GS | HP10: Billières, TPS PS | HQ10: Faucher, CE1 CE2 | HS10: Hugo, MS | HT10: Dottin, CE1 | HU10: Hugo, CM2 | HV10: Daurat, CM1-CM2 | HW10: Dauriac, C2C3 | HX10: Pagnol, PS MS | HY10: Michel, MS GS | HZ10: Faucher, PS-MS | IA10: Pagnol, CE2 CM1 | IB10: Papus, CE1 | IC10: Hugo, GS | ID10: Dieuzaide, PS | IE10: Héritier,CP CE1 | IF10: BRIGADE | IG10: Lalande, CE1 | IH10: Renan, CP | II10: Billières, CM1 CM2 | IJ10: Faucher, PS-MS | IK10: Pagnol, CE2 CM1 | IL10: Veil, MS GS | IM10: Faucher, CE1 CE2 | IO10: Faucher | IP10: Faucher | IQ10: Dottin, CE1 | IR10: Hugo, CM2 | IS10: Renan, GS | IT10: Dauriac, C2C3 | IU10: Michel, MS GS | IV10: Papus, CE1 | IW10: Hugo, GS | IX10: Dieuzaide, PS | IY10: Héritier,CP CE1 | IZ10: BRIGADE | JA10: Lalande, CE1 | JB10: Renan, CP | JC10: Billières, CM1 CM2 | JD10: Faucher, PS-MS | JE10: Pagnol, CE2 CM1 | JF10: Veil, MS GS | JG10: Faucher, CE1 CE2 | JH10: Dottin, CE1 | JI10: Hugo, CM2 | JJ10: Dauriac, C2C3 | JK10: Michel, MS GS | JL10: Papus, CE1 | JM10: Hugo, GS | JN10: Dieuzaide, PS | JO10: Héritier,CP CE1 | JP10: BRIGADE | JQ10: Lalande, CE1 | JR10: Renan, CP | JS10: Billières, CM1 CM2 | JT10: Faucher, PS-MS | JV10: Pagnol, CE2 CM1 | JW10: Veil, MS GS | JX10: Faucher, CE1 CE2 | JY10: Dottin, CE1 | JZ10: Hugo, CM2 | KA10: Dauriac, C2C3 | KB10: Michel, MS GS | KC10: Papus, CE1 | KD10: Hugo, GS | KE10: Dieuzaide, PS | KF10: Héritier,CP CE1 | KG10: BRIGADE | KH10: Lalande, CE1 | KI10: Renan, CP | KJ10: Billières, CM1 CM2 | KK10: Faucher, PS-MS | KL10: Pagnol, CE2 CM1 | KM10: Veil, MS GS | KN10: Faucher, CE1 CE2 | KO10: Dottin, CE1 | KP10: Hugo, CM2 | KQ10: Dauriac, C2C3 | KR10: Michel, MS GS | KS10: Papus, CE1 | KT10: Hugo, GS | KU10: Dieuzaide, PS | KV10: Héritier,CP CE1 | KW10: BRIGADE | KX10: Lalande, CE1 | KY10: Renan, CP | KZ10: Billières, CM1 CM2 | LA10: Faucher, PS-MS | LB10: Pagnol, CE2 CM1 | LC10: Veil, MS GS | LD10: Faucher, CE1 CE2 | LE10: Dottin, CE1 | LG10: Hugo, CM2 | LH10: Dauriac, C2C3 | LI10: Michel, MS GS | LJ10: Papus, CE1 | LK10: Hugo, GS | LL10: Dieuzaide, PS | LM10: Héritier,CP CE1
A11: G | D11: Formation Brigade | E11: Formation Brigade | F11: Pondération brigade 1 | G11: Pondération brigade 1 | H11: Papus, CE1 | I11: Formation Brigade | J11: Formation Brigade | K11: Formation Brigade | L11: Formation Brigade | M11: Dottin, CM1 CM2 | N11: Renan, CP | O11: Lalande, CM2 | P11: Billières, TPS PS MS | Q11: Buffon, CE1 | R11: Ros A. Monnet PS | S11: Ros A. Monnet PS | T11: Bastide, CE1 CE2 | U11: Pagnol, GS | V11: Hugo, ULIS | W11: Monnet, GS | X11: BOUCHE M.Daurat CM1 CM2 | Y11: BOUCHE M.Daurat CM1 CM2 | Z11: Triolet, CM2 | AA11: Renan, CP | AB11: Dieuzaide, PS MS | AC11: Michel, PS MS | AD11: Faucher, CP | AE11: Veil, CE1-CE2 | AF11: Pondération brigade 1 | AG11: Ronsard, CM1 CM2 | AH11: Ronsard, CM1 CM2 | AI11: Ronsard, CM1 CM2 | AJ11: Dottin, CM1 CM2 | AK11: Dottin, CM1 CM2 | AL11: Dottin, CM1 CM2 | AM11: Papus, CE1 | AN11: Lalande, CM2 | AO11: Renan, CP | AQ11: Triolet PS GS | AR11: Triolet PS GS | AS11: Billières, TPS PS MS | AT11: Triolet, CM2 | AU11: Triolet, CM2 | AV11: Buffon, CE1 | AW11: Pagnol, GS | AX11: Camille Molinié Bastide CE2 | AY11: Camille Molinié Bastide CE2 | AZ11: Veil, CE1-CE2 | BA11: Faucher, CP | BB11: Dottin, CM1 CM2 | BC11: Hugo, ULIS | BD11: Monnet, GS | BE11: Michel, PS MS | BF11: Dieuzaide, PS MS | BG11: Monnet, GS | BH11: Monnet, GS | BI11: Pagnol, GS | BJ11: Pagnol, GS | BK11: Bastide, CE1 CE2 | BL11: Dottin, CM1 CM2 | BM11: Dottin, CM1 CM2 | BN11: Triolet, CM2 | BO11: BRIGADE | BQ11: Billières, CE1 | BR11: Billières, CE1 | BS11: Papus, CE1 | BT11: Papus, CE1 | BU11: Lalande, CM2 | BV11: Renan, CP | BW11: Billières, TPS PS MS | BX11: Billières, CE1 | BY11: Buffon, CE1 | BZ11: Michel, PS MS | CA11: Michel, PS MS | CB11: Pagnol, GS | CC11: Billières, TPS PS MS | CD11: Billières, TPS PS MS | CE11: Buffon, CM1-CM2 | CF11: Buffon, CM1-CM2 | CG11: Veil, CE1-CE2 | CH11: Faucher, CP | CI11: Dottin, CM1 CM2 | CJ11: Hugo, ULIS | CK11: Monnet, GS | CL11: Veil, CE1-CE2 | CM11: Veil, CE1-CE2 | CN11: Buffon, CM1-CM2 | CO11: Michel, PS MS | CP11: Lalande, CM2 | CQ11: Lalande, CM2 | CR11: Lalande, CM2 | CS11: Papus, CP | CT11: Bastide, CE1 CE2 | CU11: Dieuzaide, PS MS | CV11: Bégué MP. Tabar | CW11: Triolet, CM2 | CX11: BRIGADE | CZ11: Falcucci, CM1 CM2 | DA11: Falcucci, CM1 CM2 | DB11: Falcucci, CM1 CM2 | DE11: Pagnol, GS | DG11: Hugo, ULIS | DH11: Hugo, ULIS | DI11: Lalande, CP | DJ11: Lalande, CP | DL11: Veil, CE1-CE2 | DM11: Lalande, CM2 | DN11: Bastide, CE1 CE2 | DO11: Bastide, CE1 CE2 | DP11: Triolet PS GS | DQ11: Triolet PS GS | DR11: Faucher, CP | DS11: Faucher, CP | DT11: Renan, CP | DU11: Billières, TPS PS MS | DV11: Buffon, CE1 | DW11: Pagnol, GS | DX11: Veil, CE1-CE2 | DY11: Faucher, CP | DZ11: Dottin, CM1 CM2 | EB11: Hugo, ULIS | EC11: Monnet, GS | ED11: Claudel, GS | EE11: Claudel, GS | EF11: Hugo, CM2 | EG11: Hyon, CP | EH11: Hyon, CP | EI11: Bastide, CE1 CE2 | EJ11: Bastide, CE1 CE2 | EK11: Lalande, CE1 | EL11: Lalande, CE1 | EM11: Pagnol, CM1 CM2 | EN11: Monnet, GS | EO11: Dauriac CE2 | EP11: Hugo CE1 | EQ11: Michel, PS MS | ER11: Papus, CP | ES11: Bastide, CE1 CE2 | ET11: Renan, GS | EU11: Renan, GS | EV11: Billières, TPS PS MS | EW11: Billières, TPS PS MS | EX11: Dieuzaide, PS MS | EY11: Dauriac, MS GS | EZ11: Dauriac, MS GS | FA11: Hyon, GS | FB11: Hyon, GS | FC11: Papus, CE1 | FD11: Papus, CE1 | FE11: Dottin, CE1 | FF11: Dottin, CE1 | FG11: Triolet, CM2 | FH11: Buffon, GS | FI11: Buffon, GS | FJ11: BRIGADE | FK11: Lalande, CM2 | FM11: Renan, CP | FN11: Billières, TPS PS MS | FO11: Buffon, CE1 | FP11: Pagnol, GS | FQ11: Veil, CE1-CE2 | FR11: Faucher, CP | FS11: Dottin, CM1 CM2 | FT11: Hugo, CM2 | FU11: Papus, CE1 | FV11: Veil, CE1-CE2 | FW11: Veil, CE1-CE2 | FX11: Hugo, ULIS | FY11: Monnet, GS | FZ11: Michel, PS MS | GA11: Papus, CP | GB11: Bastide, CE1 CE2 | GC11: Dieuzaide, PS MS | GD11: Triolet, CM2 | GF11: Bastide, CE1 CE2 | GG11: Hyon, CP | GH11: Dottin, CE1 | GI11: BRIGADE | GJ11: Lalande, CM2 | GK11: Claudel, GS | GL11: Renan, CP | GM11: Dottin, CM1 CM2 | GN11: Billières, TPS PS MS | GO11: Dauriac, PS MS GS | GP11: Buffon, CE1 | GQ11: Pagnol, GS | GR11: Veil, CE1-CE2 | GS11: Faucher, CP | GT11: Lalande, CE1 | GU11: Papus, CE1 | GV11: Lalande, CP | GW11: Faucher | GX11: Dottin, CM1 CM2 | GY11: Hugo, ULIS | GZ11: Monnet, GS | HA11: Michel, PS MS | HB11: Hugo CE1 | HC11: Papus, CP | HD11: Bastide, CE1 CE2 | HE11: Falcucci, GS | HF11: Falcucci, GS | HG11: Dieuzaide, PS MS | HH11: Triolet, CM2 | HI11: BRIGADE | HJ11: Buffon, GS | HK11: Billières, TPS PS MS | HL11: Lalande, CM2 | HM11: Renan, CP | HN11: Hyon, GS | HO11: Veil, CE1-CE2 | HP11: Billières, TPS PS MS | HQ11: Faucher, CP | HS11: Hugo, MS | HT11: Dottin, CM1 CM2 | HU11: Hugo, ULIS | HV11: Daurat, CM1-CM2 | HW11: Monnet, GS | HX11: Pagnol, MS | HY11: Michel, PS MS | HZ11: Buffon, CE1 | IA11: Pagnol, GS | IB11: Papus, CP | IC11: Bastide, CE1 CE2 | ID11: Dieuzaide, PS MS | IE11: Triolet, CM2 | IF11: BRIGADE | IG11: Lalande, CM2 | IH11: Renan, CP | II11: Billières, TPS PS MS | IJ11: Buffon, CE1 | IK11: Pagnol, GS | IL11: Veil, CE1-CE2 | IM11: Faucher, CP | IO11: Faucher | IP11: Faucher | IQ11: Dottin, CM1 CM2 | IR11: Hugo, ULIS | IS11: Renan, GS | IT11: Monnet, GS | IU11: Michel, PS MS | IV11: Papus, CP | IW11: Bastide, CE1 CE2 | IX11: Dieuzaide, PS MS | IY11: Triolet, CM2 | IZ11: BRIGADE | JA11: Lalande, CM2 | JB11: Renan, CP | JC11: Billières, TPS PS MS | JD11: Buffon, CE1 | JE11: Pagnol, GS | JF11: Veil, CE1-CE2 | JG11: Faucher, CP | JH11: Dottin, CM1 CM2 | JI11: Hugo, ULIS | JJ11: Monnet, GS | JK11: Michel, PS MS | JL11: Papus, CP | JM11: Bastide, CE1 CE2 | JN11: Dieuzaide, PS MS | JO11: Triolet, CM2 | JP11: BRIGADE | JQ11: Lalande, CM2 | JR11: Renan, CP | JS11: Billières, TPS PS MS | JT11: Buffon, CE1 | JV11: Pagnol, GS | JW11: Veil, CE1-CE2 | JX11: Faucher, CP | JY11: Dottin, CM1 CM2 | JZ11: Hugo, ULIS | KA11: Monnet, GS | KB11: Michel, PS MS | KC11: Papus, CP | KD11: Bastide, CE1 CE2 | KE11: Dieuzaide, PS MS | KF11: Triolet, CM2 | KG11: BRIGADE | KH11: Lalande, CM2 | KI11: Renan, CP | KJ11: Billières, TPS PS MS | KK11: Buffon, CE1 | KL11: Pagnol, GS | KM11: Veil, CE1-CE2 | KN11: Faucher, CP | KO11: Dottin, CM1 CM2 | KP11: Hugo, ULIS | KQ11: Monnet, GS | KR11: Michel, PS MS | KS11: Papus, CP | KT11: Bastide, CE1 CE2 | KU11: Dieuzaide, PS MS | KV11: Triolet, CM2 | KW11: BRIGADE | KX11: Lalande, CM2 | KY11: Renan, CP | KZ11: Billières, TPS PS MS | LA11: Buffon, CE1 | LB11: Pagnol, GS | LC11: Veil, CE1-CE2 | LD11: Faucher, CP | LE11: Dottin, CM1 CM2 | LG11: Hugo, ULIS | LH11: Monnet, GS | LI11: Michel, PS MS | LJ11: Papus, CP | LK11: Bastide, CE1 CE2 | LL11: Dieuzaide, PS MS | LM11: Triolet, CM2
A12: H | D12: Formation Brigade | E12: Formation Brigade | F12: Pondération brigade 1 | G12: Pondération brigade 1 | H12: Papus, CP | I12: Formation Brigade | J12: Formation Brigade | K12: Formation Brigade | L12: Formation Brigade | M12: Dottin, CP | N12: Renan, GS | O12: Lalande, CM1 | P12: Billières, CE1 | Q12: Buffon, CM1-CM2 | R12: MAUREL L. Monnet PS MS | S12: MAUREL L. Monnet PS MS | T12: Hugo, GS | U12: Daurat,CP | V12: Hugo, CM2 | W12: Monnet, GS CO | X12: ZOBIRE C. Buffon CE1 | Y12: ZOBIRE C. Buffon CE1 | Z12: Triolet, CP-CE1 | AA12: Triolet, CP-CE1 | AB12: Falcucci | AC12: Bastide, TPS PS | AD12: Buffon, PS MS | AE12: Veil, PS MS | AF12: Pondération brigade 1 | AG12: Veil, PS MS | AH12: Veil, PS MS | AI12: Veil, PS MS | AJ12: Dottin, CP | AK12: Dottin, CP | AL12: Dottin, CP | AM12: Papus, CP | AN12: Lalande, CM1 | AO12: Renan, GS | AQ12: Triolet PS GS | AR12: Triolet PS GS | AS12: Billières, CE1 | AT12: Hugo, CM2 | AU12: Hugo, CM2 | AV12: Buffon, CM1-CM2 | AW12: Daurat,CP | AX12: Lalande, CM1 | AY12: Lalande, CM1 | AZ12: Veil, PS MS | BA12: Buffon, PS MS | BB12: Dottin, CP | BC12: Hugo, CM2 | BD12: Monnet, GS CO | BE12: Bastide, TPS PS | BF12: Falcucci | BG12: Hugo, GS | BH12: Hugo, GS | BK12: Hugo, GS | BL12: Bastide, CE2 CM1 CM2 | BM12: Bastide, CE2 CM1 CM2 | BN12: Triolet, CP-CE1 | BO12: BRIGADE | BQ12: Héritier,CE2 | BR12: Héritier,CE2 | BS12: Papus, CP | BT12: Papus, CP | BU12: Lalande, CM1 | BV12: Renan, GS | BW12: Billières, CE1 | BX12: Héritier,CE2 | BY12: Buffon, CM1-CM2 | BZ12: Pinhous, TPS PS | CA12: Pinhous, TPS PS | CB12: Daurat,CP | CC12: Veil, PS MS | CD12: Veil, PS MS | CE12: Buffon, CE2 | CF12: Buffon, CE2 | CG12: Veil, PS MS | CH12: Buffon, PS MS | CI12: Dottin, CP | CJ12: Hugo, CM2 | CK12: Monnet, GS CO | CL12: Dauriac CE1 | CM12: Dauriac CE1 | CN12: Buffon, CE2 | CO12: Bastide, TPS PS | CP12: Lalande, CM1 | CQ12: Lalande, CM1 | CR12: Lalande, CM1 | CS12: Tabar, GS | CT12: Hugo, GS | CU12: Falcucci | CV12: Demaelle Aurelie-L.Michel | CW12: Triolet, CP-CE1 | CX12: BRIGADE | CZ12: Buffon, CM1-CM2 | DA12: Buffon, CM1-CM2 | DB12: Buffon, CM1-CM2 | DE12: Pagnol, TPS PS | DG12: Hugo, CM2 | DH12: Hugo, CM2 | DI12: Lalande, CP | DJ12: Lalande, CP | DL12: Dauriac CE1 | DM12: Lalande, CM1 | DN12: Daurat CP | DO12: Daurat CP | DP12: Triolet PS GS | DQ12: Triolet PS GS | DT12: Renan, GS | DU12: Billières, CE1 | DV12: Buffon, CM1-CM2 | DW12: Daurat,CP | DX12: Veil, PS MS | DY12: Buffon, PS MS | DZ12: Dottin, CP | EB12: Hugo, CM2 | EC12: Hugo, GS | ED12: Claudel, PS MS | EE12: Claudel, PS MS | EF12: Hugo, CM2 | EG12: Hyon, CP | EH12: Hyon, CP | EI12: Héritier,CP | EJ12: Héritier,CP | EK12: Lalande, CE1 | EL12: Lalande, CE1 | EM12: Pagnol, CM2 | EN12: Monnet, GS CO | EO12: Dauriac CE2 | EP12: Hugo CE1 | EQ12: Bastide, TPS PS | ER12: Tabar, GS | ES12: Hugo, GS | ET12: Renan, GS | EU12: Renan, GS | EV12: Billières, TPS PS MS | EW12: Billières, TPS PS MS | EX12: Falcucci | EY12: Dauriac, GS | EZ12: Dauriac, GS | FA12: Billières, GS | FB12: Billières, GS | FC12: Papus, CE1 | FD12: Papus, CE1 | FE12: Dottin CE2 | FF12: Dottin CE2 | FG12: Triolet, CP-CE1 | FH12: Buffon, GS | FI12: Buffon, GS | FJ12: BRIGADE | FK12: Lalande, CM1 | FM12: Renan, GS | FN12: Billières, CE1 | FO12: Buffon, CM1-CM2 | FP12: Daurat,CP | FQ12: Veil, PS MS | FR12: Buffon, PS MS | FS12: Dottin, CP | FT12: Hugo, CM2 | FU12: Papus, CP | FV12: Veil, CE1-CE2 | FW12: Veil, CE1-CE2 | FX12: Hugo, CM2 | FY12: Monnet, GS CO | FZ12: Bastide, TPS PS | GA12: Tabar, GS | GB12: Hugo, GS | GC12: Falcucci | GD12: Triolet, CP-CE1 | GF12: Héritier,CP | GG12: Hyon, CP | GI12: BRIGADE | GJ12: Lalande, CM1 | GK12: Claudel, PS MS | GL12: Renan, GS | GN12: Billières, CE1 | GO12: Dauriac, PS MS GS | GP12: Buffon, CM1-CM2 | GQ12: Daurat,CP | GR12: Veil, PS MS | GS12: Buffon, PS MS | GT12: Lalande, CE1 | GU12: Papus, CE1 | GV12: Lalande, CP | GW12: Faucher | GX12: Dottin, CP | GY12: Hugo, CM2 | GZ12: Monnet, GS CO | HA12: Bastide, TPS PS | HB12: Hugo CE1 | HC12: Tabar, GS | HD12: Hugo, GS | HE12: Falcucci, GS | HF12: Falcucci, GS | HG12: Falcucci | HH12: Triolet, CP-CE1 | HI12: BRIGADE | HJ12: Buffon, GS | HK12: Billières, CE1 | HL12: Lalande, CM1 | HM12: Renan, GS | HN12: Billières, GS | HO12: Veil, PS MS | HP12: Billières, TPS PS MS | HQ12: Buffon, PS MS | HT12: Dottin, CP | HU12: Hugo, CM2 | HV12: Bastide | HW12: Monnet, GS CO | HX12: Billières, TPS PS MS | HY12: Bastide, TPS PS | HZ12: Buffon, CM1-CM2 | IA12: Daurat,CP | IB12: Tabar, GS | IC12: Hugo, GS | ID12: Falcucci | IE12: Triolet, CP-CE1 | IF12: BRIGADE | IG12: Lalande, CM1 | IH12: Renan, GS | II12: Billières, CE1 | IJ12: Buffon, CM1-CM2 | IK12: Daurat,CP | IL12: Veil, PS MS | IM12: Buffon, PS MS | IO12: Faucher | IP12: Faucher | IQ12: Dottin, CP | IR12: Hugo, CM2 | IS12: Renan, GS | IT12: Monnet, GS CO | IU12: Bastide, TPS PS | IV12: Tabar, GS | IW12: Hugo, GS | IX12: Falcucci | IY12: Triolet, CP-CE1 | IZ12: BRIGADE | JA12: Lalande, CM1 | JB12: Renan, GS | JC12: Billières, CE1 | JD12: Buffon, CM1-CM2 | JE12: Daurat,CP | JF12: Veil, PS MS | JG12: Buffon, PS MS | JH12: Dottin, CP | JI12: Hugo, CM2 | JJ12: Monnet, GS CO | JK12: Bastide, TPS PS | JL12: Tabar, GS | JM12: Hugo, GS | JN12: Falcucci | JO12: Triolet, CP-CE1 | JP12: BRIGADE | JQ12: Lalande, CM1 | JR12: Renan, GS | JS12: Billières, CE1 | JT12: Buffon, CM1-CM2 | JV12: Daurat,CP | JW12: Veil, PS MS | JX12: Buffon, PS MS | JY12: Dottin, CP | JZ12: Hugo, CM2 | KA12: Monnet, GS CO | KB12: Bastide, TPS PS | KC12: Tabar, GS | KD12: Hugo, GS | KE12: Falcucci | KF12: Triolet, CP-CE1 | KG12: BRIGADE | KH12: Lalande, CM1 | KI12: Renan, GS | KJ12: Billières, CE1 | KK12: Buffon, CM1-CM2 | KL12: Daurat,CP | KM12: Veil, PS MS | KN12: Buffon, PS MS | KO12: Dottin, CP | KP12: Hugo, CM2 | KQ12: Monnet, GS CO | KR12: Bastide, TPS PS | KS12: Tabar, GS | KT12: Hugo, GS | KU12: Falcucci | KV12: Triolet, CP-CE1 | KW12: BRIGADE | KX12: Lalande, CM1 | KY12: Renan, GS | KZ12: Billières, CE1 | LA12: Buffon, CM1-CM2 | LB12: Daurat,CP | LC12: Veil, PS MS | LD12: Buffon, PS MS | LE12: Dottin, CP | LG12: Hugo, CM2 | LH12: Monnet, GS CO | LI12: Bastide, TPS PS | LJ12: Tabar, GS | LK12: Hugo, GS | LL12: Falcucci | LM12: Triolet, CP-CE1
A13: I | D13: Formation Brigade | E13: Formation Brigade | F13: Pondération brigade 1 | G13: Pondération brigade 1 | H13: Papus, C2C3 | I13: Formation Brigade | J13: Formation Brigade | K13: Formation Brigade | L13: Formation Brigade | M13: Pinhous, GS MS | N13: Renan, CE1 | O13: Lalande, CM1 | P13: Billières, CM1 CM2 | Q13: Buffon, CE1 | R13: PAUCHET S. Dieuzaide PS MS | S13: PAUCHET S. Dieuzaide PS MS | T13: Hugo, GS | U13: Pagnol, CE1 | V13: Papus, MS | W13: Dauriac, CM1 CM2 | X13: BRAHAMI L. Buffon CM1-CM2 | Y13: BRAHAMI L. Buffon CM1-CM2 | Z13: Héritier,CE1 | AA13: Renan, CE1 | AB13: Dieuzaide, MS GS | AC13: Michel, GS | AD13: Faucher, CM1 CM2 | AE13: Galia, TPS PS | AF13: Pondération brigade 1 | AG13: Veil, GS | AH13: Veil, GS | AI13: Veil, GS | AJ13: Dottin, C2C3 | AK13: Dottin, C2C3 | AL13: Dottin, C2C3 | AM13: Papus, C2C3 | AN13: Lalande, CM1 | AO13: Renan, CE1 | AQ13: Galia, TPS PS | AR13: Galia, TPS PS | AS13: Billières, CM1 CM2 | AV13: Buffon, CE1 | AW13: Pagnol, CE1 | AX13: Lalande, CM1 | AY13: Lalande, CM1 | AZ13: Galia, TPS PS | BA13: Faucher, CM1 CM2 | BB13: Pinhous, GS MS | BC13: Papus, MS | BD13: Dauriac, CM1 CM2 | BE13: Michel, GS | BF13: Dieuzaide, MS GS | BG13: Hugo, GS | BH13: Hugo, GS | BI13: Pinhous, GS MS | BJ13: Pinhous, GS MS | BK13: Hugo, GS | BL13: Bastide, CM1 CM2 | BM13: Bastide, CM1 CM2 | BN13: Héritier,CE1 | BO13: BRIGADE | BQ13: Billières, CE2 | BR13: Billières, CE2 | BS13: Bastide, CE2 CM1 CM2 | BU13: Lalande, CM1 | BV13: Renan, CE1 | BW13: Billières, CM1 CM2 | BX13: Billières, CE2 | BY13: Buffon, CE1 | CB13: Pagnol, CE1 | CC13: Papus, MS | CD13: Papus, MS | CE13: Buffon, CE1 | CF13: Buffon, CE1 | CG13: Galia, TPS PS | CH13: Faucher, CM1 CM2 | CI13: Pinhous, GS MS | CJ13: Papus, MS | CK13: Dauriac, CM1 CM2 | CL13: Dauriac CM1 CM2 | CM13: Dauriac CM1 CM2 | CN13: Buffon, CE1 | CO13: Michel, GS | CP13: Lalande, CM1 | CQ13: Lalande, CM1 | CR13: Lalande, CM1 | CS13: Papus, CE1 | CT13: Hugo, GS | CU13: Dieuzaide, MS GS | CV13: JOUVE Frédérique.S.Veil | CW13: Héritier,CE1 | CX13: BRIGADE | CZ13: Falcucci, CM1 CM2 | DA13: Falcucci, CM1 CM2 | DB13: Falcucci, CM1 CM2 | DE13: Pinhous, GS MS | DI13: Lalande, CP | DJ13: Lalande, CP | DL13: Dauriac CM1 CM2 | DM13: Lalande, CM1 | DP13: Galia, TPS PS | DQ13: Galia, TPS PS | DR13: Faucher, CM1 CM2 | DS13: Faucher, CM1 CM2 | DT13: Renan, CE1 | DU13: Billières, CM1 CM2 | DV13: Buffon, CE1 | DW13: Pagnol, CE1 | DX13: Galia, TPS PS | DY13: Faucher, CM1 CM2 | DZ13: Pinhous, GS MS | EB13: Papus, MS | EC13: Hugo, GS | ED13: Claudel, TPS PS | EE13: Claudel, TPS PS | EF13: Triolet, CE2 | EG13: Pagnol, CE1 | EH13: Pagnol, CE1 | EI13: Héritier,CE1 | EJ13: Héritier,CE1 | EK13: Renan, CE1 | EL13: Renan, CE1 | EM13: Bastide CE2 CM1 | EN13: Dauriac, CM1 CM2 | EO13: Dauriac CM1 CM2 | EP13: Renan, CE1 | EQ13: Michel, GS | ER13: Papus, CE1 | ES13: Hugo, GS | ET13: Renan, GS | EU13: Renan, GS | EV13: Michel, GS | EW13: Michel, GS | EX13: Dieuzaide, MS GS | EY13: Dieuzaide, MS GS | EZ13: Dieuzaide, MS GS | FA13: Billières, GS | FB13: Billières, GS | FC13: Papus, CE1 | FD13: Papus, CE1 | FE13: Hugo, CP | FF13: Hugo, CP | FG13: Héritier,CE1 | FH13: Pinhous, MS GS | FI13: Pinhous, MS GS | FJ13: BRIGADE | FK13: Lalande, CM1 | FM13: Renan, CE1 | FN13: Billières, CM1 CM2 | FO13: Buffon, CE1 | FP13: Pagnol, CE1 | FQ13: Galia, TPS PS | FR13: Faucher, CM1 CM2 | FS13: Pinhous, GS MS | FT13: Hugo, ULIS | FU13: Bastide CM1 CM2 | FV13: Dauriac CM1 CM2 | FW13: Dauriac CM1 CM2 | FX13: Papus, MS | FY13: Dauriac, CM1 CM2 | FZ13: Michel, GS | GA13: Papus, CE1 | GB13: Hugo, GS | GC13: Dieuzaide, MS GS | GD13: Héritier,CE1 | GF13: Héritier,CE1 | GG13: Pagnol, CE1 | GH13: Hugo, CP | GI13: BRIGADE | GJ13: Lalande, CM1 | GK13: Claudel, TPS PS | GL13: Renan, CE1 | GM13: Bastide, CE2 | GN13: Billières, CM1 CM2 | GO13: L.Michel, GS | GP13: Buffon, CE1 | GQ13: Pagnol, CE1 | GR13: Galia, TPS PS | GS13: Faucher, CM1 CM2 | GT13: Renan, CE1 | GU13: Papus, CE1 | GV13: Pagnol, CE1 | GX13: Pinhous, GS MS | GY13: Papus, MS | GZ13: Dauriac, CM1 CM2 | HA13: Michel, GS | HB13: Renan, CE1 | HC13: Papus, CE1 | HD13: Hugo, GS | HE13: Galia, TPS PS | HF13: Galia, TPS PS | HG13: Dieuzaide, MS GS | HH13: Héritier,CE1 | HI13: BRIGADE | HJ13: Hugo, GS | HK13: Billières, CM1 CM2 | HL13: Lalande, CM1 | HM13: Renan, CE1 | HN13: Billières, GS | HO13: Galia, TPS PS | HP13: Michel, GS | HQ13: Faucher, CM1 CM2 | HS13: Claudel, PS MS | HT13: Pinhous, GS MS | HU13: Papus, MS | HV13: Bastide | HW13: Dauriac, CM1 CM2 | HX13: Papus, MS | HY13: Michel, GS | HZ13: Buffon, CE1 | IA13: Pagnol, CE1 | IB13: Papus, CE1 | IC13: Hugo, GS | ID13: Dieuzaide, MS GS | IE13: Héritier,CE1 | IF13: BRIGADE | IG13: Lalande, CM1 | IH13: Renan, CE1 | II13: Billières, CM1 CM2 | IJ13: Buffon, CE1 | IK13: Pagnol, CE1 | IL13: Galia, TPS PS | IM13: Faucher, CM1 CM2 | IO13: Faucher | IP13: Faucher | IQ13: Pinhous, GS MS | IR13: Papus, MS | IS13: Dieuzaide, MS GS | IT13: Dauriac, CM1 CM2 | IU13: Michel, GS | IV13: Papus, CE1 | IW13: Hugo, GS | IX13: Dieuzaide, MS GS | IY13: Héritier,CE1 | IZ13: BRIGADE | JA13: Lalande, CM1 | JB13: Renan, CE1 | JC13: Billières, CM1 CM2 | JD13: Buffon, CE1 | JE13: Pagnol, CE1 | JF13: Galia, TPS PS | JG13: Faucher, CM1 CM2 | JH13: Pinhous, GS MS | JI13: Papus, MS | JJ13: Dauriac, CM1 CM2 | JK13: Michel, GS | JL13: Papus, CE1 | JM13: Hugo, GS | JN13: Dieuzaide, MS GS | JO13: Héritier,CE1 | JP13: BRIGADE | JQ13: Lalande, CM1 | JR13: Renan, CE1 | JS13: Billières, CM1 CM2 | JT13: Buffon, CE1 | JV13: Pagnol, CE1 | JW13: Galia, TPS PS | JX13: Faucher, CM1 CM2 | JY13: Pinhous, GS MS | JZ13: Papus, MS | KA13: Dauriac, CM1 CM2 | KB13: Michel, GS | KC13: Papus, CE1 | KD13: Hugo, GS | KE13: Dieuzaide, MS GS | KF13: Héritier,CE1 | KG13: BRIGADE | KH13: Lalande, CM1 | KI13: Renan, CE1 | KJ13: Billières, CM1 CM2 | KK13: Buffon, CE1 | KL13: Pagnol, CE1 | KM13: Galia, TPS PS | KN13: Faucher, CM1 CM2 | KO13: Pinhous, GS MS | KP13: Papus, MS | KQ13: Dauriac, CM1 CM2 | KR13: Michel, GS | KS13: Papus, CE1 | KT13: Hugo, GS | KU13: Dieuzaide, MS GS | KV13: Héritier,CE1 | KW13: BRIGADE | KX13: Lalande, CM1 | KY13: Renan, CE1 | KZ13: Billières, CM1 CM2 | LA13: Buffon, CE1 | LB13: Pagnol, CE1 | LC13: Galia, TPS PS | LD13: Faucher, CM1 CM2 | LE13: Pinhous, GS MS | LG13: Papus, MS | LH13: Dauriac, CM1 CM2 | LI13: Michel, GS | LJ13: Papus, CE1 | LK13: Hugo, GS | LL13: Dieuzaide, MS GS | LM13: Héritier,CE1
A14: J | D14: Formation Brigade | E14: Formation Brigade | F14: Pondération brigade 1 | G14: Pondération brigade 1 | H14: Tabar, GS | I14: Formation Brigade | J14: Formation Brigade | K14: Formation Brigade | L14: Formation Brigade | M14: Dottin, CP | N14: Renan, MS- GS | O14: Lalande, CE2 | P14: Billières, CM1 | Q14: Buffon, CM1-CM2 | R14: Crussière M. Bastide TPS PS | S14: Crussière M. Bastide TPS PS | T14: Hugo, MS | U14: Pagnol, CE2 | V14: Papus, MS GS | W14: Monnet, PS MS | X14: TOLLIS P. Triolet CE2 | Y14: TOLLIS P. Triolet CE2 | Z14: Ronsard, CM1 CM2 | AA14: Triolet, CE1 | AB14: Falcucci, CP | AC14: Hyon, GS | AD14: Faucher, C2C3 | AE14: Veil, CE1-CE2 | AF14: Pondération brigade 1 | AG14: Falcucci, CP | AH14: Falcucci, CP | AI14: Falcucci, CP | AJ14: Dottin, CP | AK14: Dottin, CP | AL14: Dottin, CP | AM14: Tabar, GS | AN14: Lalande, CE2 | AO14: Renan, MS- GS | AS14: Billières, CM1 | AV14: Buffon, CM1-CM2 | AW14: Pagnol, CE2 | AX14: Smahan Bélyazid Pagnol CE2 | AY14: Smahan Bélyazid Pagnol CE2 | AZ14: Veil, CE1-CE2 | BA14: Faucher, C2C3 | BB14: Dottin, CP | BC14: Papus, MS GS | BD14: Monnet, PS MS | BE14: Hyon, GS | BF14: Falcucci, CP | BG14: Hugo, MS | BH14: Hugo, MS | BK14: Hugo, MS | BL14: Pagnol, CE2 | BM14: Pagnol, CE2 | BN14: Ronsard, CM1 CM2 | BO14: BRIGADE | BQ14: Héritier,CM2 | BR14: Héritier,CM2 | BS14: Bastide, CE2 CM1 CM2 | BU14: Lalande, CE2 | BV14: Renan, MS- GS | BW14: Billières, CM1 | BX14: Héritier,CM2 | BY14: Buffon, CM1-CM2 | BZ14: Hugo, MS | CA14: Hugo, MS | CB14: Pagnol, CE2 | CC14: Papus, PS | CD14: Papus, PS | CE14: Buffon, CE1 | CF14: Buffon, CE1 | CG14: Veil, CE1-CE2 | CH14: Faucher, C2C3 | CI14: Dottin, CP | CJ14: Papus, MS GS | CK14: Monnet, PS MS | CL14: Veil, CE1-CE2 | CM14: Veil, CE1-CE2 | CN14: Buffon, CE1 | CO14: Hyon, GS | CP14: Billières, CM1 | CQ14: Billières, CM1 | CR14: Billières, CM1 | CS14: Papus, CE2 | CT14: Hugo, MS | CU14: Falcucci, CP | CV14: Muccin Laetitia. Falcucci | CW14: Ronsard, CM1 CM2 | CX14: BRIGADE | CZ14: Buffon, CM1-CM2 | DA14: Buffon, CM1-CM2 | DB14: Buffon, CM1-CM2 | DE14: Pinhous, GS MS | DG14: Papus, CM1 CM2 | DH14: Papus, CM1 CM2 | DI14: Lalande, CE1 | DJ14: Lalande, CE1 | DL14: Veil, CE1-CE2 | DM14: Lalande, CE2 | DN14: Bastide, CM1 CM2 | DO14: Bastide, CM1 CM2 | DP14: Morgane Cartier, Faucher élem | DQ14: Morgane Cartier, Faucher élem | DT14: Renan, MS- GS | DU14: Billières, CM1 | DV14: Buffon, CM1-CM2 | DW14: Pagnol, CE2 | DX14: Veil, CE1-CE2 | DY14: Faucher, C2C3 | DZ14: Dottin, CP | EB14: Papus, MS GS | EC14: Hugo, MS | EF14: Triolet, CM1 | EG14: Hyon, CE1 | EH14: Hyon, CE1 | EK14: Lalande, CP | EL14: Lalande, CP | EM14: Bastide CE2 CM1 | EN14: Monnet, PS MS | EO14: Dauriac CM1 CM2 | EP14: Triolet CP | EQ14: Hyon, GS | ER14: Papus, CE2 | ES14: Hugo, MS | ET14: Renan, GS | EU14: Renan, GS | EV14: Billières, PS MS | EW14: Billières, PS MS | EX14: Falcucci, CP | EY14: Papus, GS | EZ14: Papus, GS | FA14: Billières, GS | FB14: Billières, GS | FC14: Falcucci, CP | FD14: Falcucci, CP | FE14: Hugo, CP | FF14: Hugo, CP | FG14: Ronsard, CM1 CM2 | FH14: Hugo, MS GS | FI14: Hugo, GS | FJ14: BRIGADE | FK14: Lalande, CE2 | FM14: Renan, MS- GS | FN14: Billières, CM1 | FO14: Buffon, CM1-CM2 | FP14: Pagnol, CE2 | FQ14: Veil, CE1-CE2 | FR14: Faucher, C2C3 | FS14: Dottin, CP | FT14: Renan, CE2 | FU14: Bastide CM1 CE2 | FV14: Veil, CM1-CM2 | FW14: Veil, CM1-CM2 | FX14: Papus, MS GS | FY14: Monnet, PS MS | FZ14: Hyon, GS | GA14: Papus, CE2 | GB14: Hugo, MS | GC14: Falcucci, CP | GD14: Ronsard, CM1 CM2 | GG14: Hyon, CE1 | GH14: Hugo, CP | GI14: BRIGADE | GJ14: Lalande, CE2 | GL14: Renan, MS- GS | GM14: Bastide, CE2 CM1 CM2 | GN14: Billières, CM1 | GO14: Papus, GS | GP14: Buffon, CM1-CM2 | GQ14: Pagnol, CE2 | GR14: Veil, CE1-CE2 | GS14: Faucher, C2 C3 | GT14: Lalande CP | GU14: Falcucci, CP | GV14: Lalande, CE1 | GX14: Dottin, CP | GY14: Papus, MS GS | GZ14: Monnet, PS MS | HA14: Hyon, GS | HB14: Triolet CP | HC14: Papus, CE2 | HD14: Hugo, MS | HG14: Falcucci, CP | HH14: Ronsard, CM1 CM2 | HI14: BRIGADE | HK14: Billières, CM1 | HL14: Lalande, CE2 | HM14: Renan, MS- GS | HN14: Billières, GS | HO14: Veil, CE1-CE2 | HP14: Billières, PS MS | HQ14: Faucher, C2C3 | HS14: Claudel, TPS PS | HT14: Dottin, CP | HU14: Papus, MS GS | HV14: Bastide | HW14: Monnet, PS MS | HX14: Billières, TPS PS MS | HY14: Hyon, GS | HZ14: Buffon, CM1-CM2 | IA14: Pagnol, CE2 | IB14: Papus, CE2 | IC14: Hugo, MS | ID14: Falcucci, CP | IE14: Ronsard, CM1 CM2 | IF14: BRIGADE | IG14: Lalande, CE2 | IH14: Renan, MS- GS | II14: Billières, CM1 | IJ14: Buffon, CM1-CM2 | IK14: Pagnol, CE2 | IL14: Veil, CE1-CE2 | IM14: Faucher, C2C3 | IQ14: Dottin, CP | IR14: Papus, MS GS | IS14: Renan, GS | IT14: Monnet, PS MS | IU14: Hyon, GS | IV14: Papus, CE2 | IW14: Hugo, MS | IX14: Falcucci, CP | IY14: Ronsard, CM1 CM2 | IZ14: BRIGADE | JA14: Lalande, CE2 | JB14: Renan, MS- GS | JC14: Billières, CM1 | JD14: Buffon, CM1-CM2 | JE14: Pagnol, CE2 | JF14: Veil, CE1-CE2 | JG14: Faucher, C2C3 | JH14: Dottin, CP | JI14: Papus, MS GS | JJ14: Monnet, PS MS | JK14: Hyon, GS | JL14: Papus, CE2 | JM14: Hugo, MS | JN14: Falcucci, CP | JO14: Ronsard, CM1 CM2 | JP14: BRIGADE | JQ14: Lalande, CE2 | JR14: Renan, MS- GS | JS14: Billières, CM1 | JT14: Buffon, CM1-CM2 | JV14: Pagnol, CE2 | JW14: Veil, CE1-CE2 | JX14: Faucher, C2C3 | JY14: Dottin, CP | JZ14: Papus, MS GS | KA14: Monnet, PS MS | KB14: Hyon, GS | KC14: Papus, CE2 | KD14: Hugo, MS | KE14: Falcucci, CP | KF14: Ronsard, CM1 CM2 | KG14: BRIGADE | KH14: Lalande, CE2 | KI14: Renan, MS- GS | KJ14: Billières, CM1 | KK14: Buffon, CM1-CM2 | KL14: Pagnol, CE2 | KM14: Veil, CE1-CE2 | KN14: Faucher, C2C3 | KO14: Dottin, CP | KP14: Papus, MS GS | KQ14: Monnet, PS MS | KR14: Hyon, GS | KS14: Papus, CE2 | KT14: Hugo, MS | KU14: Falcucci, CP | KV14: Ronsard, CM1 CM2 | KW14: BRIGADE | KX14: Lalande, CE2 | KY14: Renan, MS- GS | KZ14: Billières, CM1 | LA14: Buffon, CM1-CM2 | LB14: Pagnol, CE2 | LC14: Veil, CE1-CE2 | LD14: Faucher, C2C3 | LE14: Dottin, CP | LG14: Papus, MS GS | LH14: Monnet, PS MS | LI14: Hyon, GS | LJ14: Papus, CE2 | LK14: Hugo, MS | LL14: Falcucci, CP | LM14: Ronsard, CM1 CM2
A15: K | D15: Formation Brigade | E15: Formation Brigade | F15: Pondération brigade 1 | G15: Pondération brigade 1 | H15: Papus, CE1 | I15: Formation Brigade | J15: Formation Brigade | K15: Formation Brigade | L15: Formation Brigade | M15: Pinhous, GS MS | N15: Renan, CP | O15: Lalande, CP | P15: Billières,CM1 CM2 | Q15: Buffon, CE2 | R15: Désignaux C. Pinhous TPS PS | S15: Désignaux C. Pinhous TPS PS | T15: Bastide, CE2 CM1 CM2 | U15: Daurat, MS | V15: Hugo, C2C3 | W15: Monnet, GS CO | X15: Faugeron L. Hyon CE1 | Y15: Faugeron L. Hyon CE1 | Z15: Héritier,CE2 | AA15: Renan, CP | AB15: Falcucci, CE2 | AC15: Hyon, CP | AD15: Buffon, MS GS | AE15: Dauriac, MS | AF15: Pondération brigade 1 | AG15: Falcucci, CE2 | AH15: Falcucci, CE2 | AI15: Falcucci, CE2 | AJ15: Hyon, CP | AK15: Hyon, CP | AL15: Hyon, CP | AM15: Papus, CE1 | AN15: Lalande, CP | AO15: Renan, CP | AS15: Billières,CM1 CM2 | AV15: Buffon, CE2 | AW15: Daurat, MS | AX15: Samly El Sankary Vergers CE2 | AY15: Samly El Sankary Vergers CE2 | AZ15: Dauriac, MS | BA15: Buffon, MS GS | BB15: Pinhous, GS MS | BC15: Hugo, C2C3 | BD15: Monnet, GS CO | BE15: Hyon, CP | BF15: Falcucci, CE2 | BG15: Monnet, GS CO | BH15: Monnet, GS CO | BI15: Daurat, MS | BJ15: Daurat, MS | BK15: Bastide, CE2 CM1 CM2 | BL15: Bastide, CE2 CM1 CM2 | BM15: Bastide, CE2 CM1 CM2 | BN15: Héritier,CE2 | BO15: BRIGADE | BQ15: Billières, CM2 | BR15: Billières, CM2 | BS15: Papus, CE1 | BT15: Papus, CE1 | BU15: Lalande, CP | BV15: Renan, CP | BW15: Billières,CM1 CM2 | BX15: Billières, CM2 | BY15: Buffon, CE2 | BZ15: Renan, PS-MS | CA15: Renan, PS-MS | CB15: Daurat, MS | CC15: Daurat, MS | CD15: Daurat, MS | CE15: Buffon, CP-CE1 | CF15: Buffon, CP-CE1 | CG15: Dauriac, MS | CH15: Buffon, MS GS | CI15: Pinhous, GS MS | CJ15: Hugo, C2C3 | CK15: Monnet, GS CO | CL15: Dauriac CE1 | CM15: Dauriac CE1 | CN15: Buffon, CP-CE1 | CO15: Hyon, CP | CP15: Billières, CM1 CM2 | CQ15: Billières, CM1 CM2 | CR15: Billières, CM1 CM2 | CS15: Tabar, PS MS | CT15: Bastide, CE2 CM1 CM2 | CU15: Falcucci, CE2 | CW15: Héritier,CE2 | CX15: BRIGADE | CZ15: Héritier,CE2 | DA15: Héritier,CE2 | DB15: Héritier,CE2 | DE15: Daurat, MS | DG15: Renan, CE2 | DH15: Renan, CE2 | DI15: Lalande, CE1 | DJ15: Lalande, CE1 | DL15: Dauriac CE2 | DM15: Lalande, CP | DN15: Bastide, CE2 CM1 CM2 | DO15: Bastide, CE2 CM1 CM2 | DP15: Clara Garcelon, E.Triolet élem | DQ15: Clara Garcelon, E.Triolet élem | DT15: Renan, CP | DU15: Billières,CM1 CM2 | DV15: Buffon, CE2 | DW15: Daurat, MS | DX15: Dauriac, MS | DY15: Buffon, MS GS | DZ15: Pinhous, GS MS | EB15: Hugo, C2C3 | EC15: Monnet, GS CO | ED15: Hyon, PS | EE15: Hyon, PS | EF15: Triolet, CM2 | EG15: Hyon, CE1 | EH15: Hyon, CE1 | EI15: Buffon, CP | EJ15: Buffon, CP | EM15: Bastide CM1 CM2 | EN15: Monnet, GS CO | EO15: Dauriac CM1 CM2 | EP15: Triolet CP CE1 | EQ15: Hyon, CP | ER15: Tabar, PS MS | ES15: Bastide, CE2 CM1 CM2 | ET15: Buffon, GS | EU15: Buffon, GS | EV15: Billières, PS MS | EW15: Billières, PS MS | EX15: Falcucci, CE2 | EY15: Papus, GS | EZ15: Papus, GS | FA15: Billières, GS | FB15: Billières, GS | FC15: Falcucci, CP | FD15: Falcucci, CP | FE15: Hugo, CP CE1 | FF15: Hugo, CP CE1 | FG15: Héritier,CE2 | FH15: Hugo, GS | FI15: Hugo, GS | FJ15: BRIGADE | FK15: Lalande, CP | FM15: Renan, CP | FN15: Billières,CM1 CM2 | FO15: Buffon, CE2 | FP15: Daurat, MS | FQ15: Dauriac, MS | FR15: Buffon, MS GS | FS15: Pinhous, GS MS | FT15: Renan, CE2 | FU15: Papus, CE1 | FV15: Veil, CM1-CM2 | FW15: Veil, CM1-CM2 | FX15: Hugo, C2C3 | FY15: Monnet, GS CO | FZ15: Hyon, CP | GA15: Tabar, PS MS | GB15: Bastide, CE2 CM1 CM2 | GC15: Falcucci, CE2 | GD15: Héritier,CE2 | GF15: Buffon, CP | GG15: Hyon, CE1 | GH15: Hugo, CP CE1 | GI15: BRIGADE | GJ15: Lalande, CP | GK15: Hyon, PS | GL15: Renan, CP | GM15: Bastide, CE2 CM1 CM2 | GN15: Billières,CM1 CM2 | GO15: Papus, GS | GP15: Buffon, CE2 | GQ15: Daurat, MS | GR15: Dauriac, MS | GS15: Buffon, MS GS | GT15: Renan, CP | GU15: Falcucci, CP | GV15: Lalande, CE1 | GX15: Pinhous, GS MS | GY15: Hugo, C2C3 | GZ15: Monnet, GS CO | HA15: Hyon, CP | HB15: Triolet CP CE1 | HC15: Tabar, PS MS | HD15: Bastide, CE2 CM1 CM2 | HE15: Triolet, TPS PS | HF15: Triolet, TPS PS | HG15: Falcucci, CE2 | HH15: Héritier,CE2 | HI15: BRIGADE | HJ15: Hugo, GS | HK15: Billières,CM1 CM2 | HL15: Lalande, CP | HM15: Renan, CP | HN15: Billières, GS | HO15: Dauriac, MS | HP15: Billières, PS MS | HQ15: Buffon, MS GS | HS15: Hyon, PS | HT15: Pinhous, GS MS | HU15: Hugo, C2C3 | HV15: Bastide | HW15: Monnet, GS CO | HX15: Billières, PS MS | HY15: Hyon, CP | HZ15: Buffon, CE2 | IA15: Daurat, MS | IB15: Tabar, PS MS | IC15: Bastide, CE2 CM1 CM2 | ID15: Falcucci, CE2 | IE15: Héritier,CE2 | IF15: BRIGADE | IG15: Lalande, CP | IH15: Renan, CP | II15: Billières,CM1 CM2 | IJ15: Buffon, CE2 | IK15: Daurat, MS | IL15: Dauriac, MS | IM15: Buffon, MS GS | IQ15: Pinhous, GS MS | IR15: Hugo, C2C3 | IS15: Buffon, GS | IT15: Monnet, GS CO | IU15: Hyon, CP | IV15: Tabar, PS MS | IW15: Bastide, CE2 CM1 CM2 | IX15: Falcucci, CE2 | IY15: Héritier,CE2 | IZ15: BRIGADE | JA15: Lalande, CP | JB15: Renan, CP | JC15: Billières,CM1 CM2 | JD15: Buffon, CE2 | JE15: Daurat, MS | JF15: Dauriac, MS | JG15: Buffon, MS GS | JH15: Pinhous, GS MS | JI15: Hugo, C2C3 | JJ15: Monnet, GS CO | JK15: Hyon, CP | JL15: Tabar, PS MS | JM15: Bastide, CE2 CM1 CM2 | JN15: Falcucci, CE2 | JO15: Héritier,CE2 | JP15: BRIGADE | JQ15: Lalande, CP | JR15: Renan, CP | JS15: Billières,CM1 CM2 | JT15: Buffon, CE2 | JV15: Daurat, MS | JW15: Dauriac, MS | JX15: Buffon, MS GS | JY15: Pinhous, GS MS | JZ15: Hugo, C2C3 | KA15: Monnet, GS CO | KB15: Hyon, CP | KC15: Tabar, PS MS | KD15: Bastide, CE2 CM1 CM2 | KE15: Falcucci, CE2 | KF15: Héritier,CE2 | KG15: BRIGADE | KH15: Lalande, CP | KI15: Renan, CP | KJ15: Billières,CM1 CM2 | KK15: Buffon, CE2 | KL15: Daurat, MS | KM15: Dauriac, MS | KN15: Buffon, MS GS | KO15: Pinhous, GS MS | KP15: Hugo, C2C3 | KQ15: Monnet, GS CO | KR15: Hyon, CP | KS15: Tabar, PS MS | KT15: Bastide, CE2 CM1 CM2 | KU15: Falcucci, CE2 | KV15: Héritier,CE2 | KW15: BRIGADE | KX15: Lalande, CP | KY15: Renan, CP | KZ15: Billières,CM1 CM2 | LA15: Buffon, CE2 | LB15: Daurat, MS | LC15: Dauriac, MS | LD15: Buffon, MS GS | LE15: Pinhous, GS MS | LG15: Hugo, C2C3 | LH15: Monnet, GS CO | LI15: Hyon, CP | LJ15: Tabar, PS MS | LK15: Bastide, CE2 CM1 CM2 | LL15: Falcucci, CE2 | LM15: Héritier,CE2
A16: L | D16: Formation Brigade | E16: Formation Brigade | F16: Pondération brigade 1 | G16: Pondération brigade 1 | H16: Papus, C2C3 | I16: Formation Brigade | J16: Formation Brigade | K16: Formation Brigade | L16: Formation Brigade | M16: Dottin, CM1 CM2 | N16: Renan, GS | O16: Lalande, CE1 | P16: Billières, CP | Q16: Buffon, CE1 | R16: MAIRET E. Triolet TPS PS | S16: MAIRET E. Triolet TPS PS | T16: Bastide, CE1 CE2 | U16: Pagnol, TPS PS | V16: Hugo, CE2 | W16: Monnet, GS CO | X16: Roumaillat Borderouge | Y16: Roumaillat S. Borderouge | Z16: Ronsard, CE1 | AA16: Renan, ULIS | AB16: Falcucci, CM1 CM2 | AC16: Bastide, MS GS | AD16: Buffon, GS | AE16: Veil, CM1-CM2 | AF16: Pondération brigade 1 | AG16: Falcucci, CM1 CM2 | AH16: Falcucci, CM1 CM2 | AI16: Falcucci, CM1 CM2 | AJ16: Dottin, CM1 CM2 | AK16: Dottin, CM1 CM2 | AL16: Dottin, CM1 CM2 | AM16: Papus, C2C3 | AN16: Lalande, CE1 | AO16: Renan, GS | AQ16: Falcucci, PS MS | AR16: Falcucci, PS MS | AS16: Billières, CP | AT16: Hugo, CE2 | AU16: Hugo, CE2 | AV16: Buffon, CE1 | AW16: Pagnol, TPS PS | AZ16: Veil, CM1-CM2 | BA16: Buffon, GS | BB16: Dottin, CM1 CM2 | BC16: Hugo, CE2 | BD16: Monnet, GS CO | BE16: Bastide, MS GS | BF16: Falcucci, CM1 CM2 | BG16: Monnet, GS CO | BH16: Monnet, GS CO | BI16: Pagnol, TPS PS | BJ16: Pagnol, TPS PS | BK16: Bastide, CE1 CE2 | BL16: Dottin, CM1 CM2 | BM16: Dottin, CM1 CM2 | BN16: Ronsard, CE1 | BO16: BRIGADE | BQ16: Billières, CE1 CE2 | BR16: Billières, CE1 CE2 | BS16: Bastide, CE2 CM1 CM2 | BU16: Lalande, CE1 | BV16: Renan, GS | BW16: Billières, CP | BX16: Billières, CE1 CE2 | BY16: Buffon, CE1 | BZ16: Renan, PS | CA16: Renan, PS | CB16: Pagnol, TPS PS | CC16: Pagnol, TPS PS | CD16: Pagnol, TPS PS | CE16: Buffon, CP | CF16: Buffon, CP | CG16: Veil, CM1-CM2 | CH16: Buffon, GS | CI16: Dottin, CM1 CM2 | CJ16: Hugo, CE2 | CK16: Monnet, GS CO | CL16: Veil, CM1-CM2 | CM16: Veil, CM1-CM2 | CN16: Buffon, CP | CO16: Bastide, MS GS | CP16: Lalande, CE2 | CQ16: Lalande, CE2 | CR16: Lalande, CE2 | CS16: Papus, CM1 CM2 | CT16: Bastide, CE1 CE2 | CU16: Falcucci, CM1 CM2 | CW16: Ronsard, CE1 | CX16: BRIGADE | CZ16: Falcucci, CM1 CM2 | DA16: Falcucci, CM1 CM2 | DB16: Falcucci, CM1 CM2 | DE16: Pagnol, TPS PS | DG16: Hugo, CE2 | DH16: Hugo, CE2 | DI16: Lalande, CE1 | DJ16: Lalande, CE1 | DL16: Veil, CM1-CM2 | DM16: Lalande, CE1 | DN16: Bastide, CE1 CE2 | DO16: Bastide, CE1 CE2 | DP16: Falcucci, PS MS | DQ16: Falcucci, PS MS | DT16: Renan, GS | DU16: Billières, CP | DV16: Buffon, CE1 | DW16: Pagnol, TPS PS | DX16: Veil, CM1-CM2 | DY16: Buffon, GS | DZ16: Dottin, CM1 CM2 | EB16: Hugo, CE2 | EC16: Monnet, GS CO | ED16: Hyon, PS MS | EE16: Hyon, PS MS | EF16: Triolet, CM2 | EG16: Billières, CP | EH16: Billières, CP | EI16: Buffon, CP | EJ16: Buffon, CP | EK16: Renan, CP | EL16: Renan, CP | EM16: Bastide CM1 CM2 | EN16: Monnet, GS CO | EO16: Dauriac CM1 CM2 | EP16: Triolet CE1 | EQ16: Bastide, MS GS | ER16: Papus, CM1 CM2 | ES16: Bastide, CE1 CE2 | ET16: Buffon, GS | EU16: Buffon, GS | EV16: Billières, GS | EW16: Billières, GS | EX16: Falcucci, CM1 CM2 | EY16: Renan, GS | EZ16: Renan, GS | FA16: Billières, GS | FB16: Billières, GS | FC16: Falcucci, CP | FD16: Falcucci, CP | FE16: Hugo, CP CE1 | FF16: Hugo, CP CE1 | FG16: Ronsard, CE1 | FH16: Hugo, GS | FI16: Hugo, GS | FJ16: BRIGADE | FK16: Lalande, CE1 | FM16: Renan, GS | FN16: Billières, CP | FO16: Buffon, CE1 | FP16: Pagnol, TPS PS | FQ16: Veil, CM1-CM2 | FR16: Buffon, GS | FS16: Dottin, CM1 CM2 | FT16: Renan, CM1 | FU16: Bastide CM1 CE2 | FV16: Veil, CM1-CM2 | FW16: Veil, CM1-CM2 | FX16: Hugo, CE2 | FY16: Monnet, GS CO | FZ16: Bastide, MS GS | GA16: Papus, CM1 CM2 | GB16: Bastide, CE1 CE2 | GC16: Falcucci, CM1 CM2 | GD16: Ronsard, CE1 | GF16: Buffon, CP | GG16: Billières, CP | GH16: Hugo, CP CE1 | GI16: BRIGADE | GJ16: Lalande, CE1 | GK16: Hyon, PS MS | GL16: Renan, GS | GM16: Bastide, CE2 CM1 CM2 | GN16: Billières, CP | GO16: Renan, GS | GP16: Buffon, CE1 | GQ16: Pagnol, TPS PS | GR16: Veil, CM1-CM2 | GS16: Buffon, GS | GT16: Renan, CP | GU16: Falcucci, CP | GV16: Lalande, CE1 | GX16: Dottin, CM1 CM2 | GY16: Hugo, CE2 | GZ16: Monnet, GS CO | HA16: Bastide, MS GS | HB16: Triolet CE1 | HC16: Papus, CM1 CM2 | HD16: Bastide, CE1 CE2 | HE16: Triolet, TPS MS | HF16: Triolet, TPS MS | HG16: Falcucci, CM1 CM2 | HH16: Ronsard, CE1 | HI16: BRIGADE | HJ16: Hugo, GS | HK16: Billières, CP | HL16: Lalande, CE1 | HM16: Renan, GS | HN16: Billières, GS | HO16: Veil, CM1-CM2 | HP16: Billières, GS | HQ16: Buffon, GS | HS16: Hyon, PS MS | HT16: Dottin, CM1 CM2 | HU16: Hugo, CE2 | HV16: Bastide | HW16: Monnet, GS CO | HX16: Billières, PS MS | HY16: Bastide, MS GS | HZ16: Buffon, CE1 | IA16: Pagnol, TPS PS | IB16: Papus, CM1 CM2 | IC16: Bastide, CE1 CE2 | ID16: Falcucci, CM1 CM2 | IE16: Ronsard, CE1 | IF16: BRIGADE | IG16: Lalande, CE1 | IH16: Renan, GS | II16: Billières, CP | IJ16: Buffon, CE1 | IK16: Pagnol, TPS PS | IL16: Veil, CM1-CM2 | IM16: Buffon, GS | IQ16: Dottin, CM1 CM2 | IR16: Hugo, CE2 | IS16: Buffon, GS | IT16: Monnet, GS CO | IU16: Bastide, MS GS | IV16: Papus, CM1 CM2 | IW16: Bastide, CE1 CE2 | IX16: Falcucci, CM1 CM2 | IY16: Ronsard, CE1 | IZ16: BRIGADE | JA16: Lalande, CE1 | JB16: Renan, GS | JC16: Billières, CP | JD16: Buffon, CE1 | JE16: Pagnol, TPS PS | JF16: Veil, CM1-CM2 | JG16: Buffon, GS | JH16: Dottin, CM1 CM2 | JI16: Hugo, CE2 | JJ16: Monnet, GS CO | JK16: Bastide, MS GS | JL16: Papus, CM1 CM2 | JM16: Bastide, CE1 CE2 | JN16: Falcucci, CM1 CM2 | JO16: Ronsard, CE1 | JP16: BRIGADE | JQ16: Lalande, CE1 | JR16: Renan, GS | JS16: Billières, CP | JT16: Buffon, CE1 | JV16: Pagnol, TPS PS | JW16: Veil, CM1-CM2 | JX16: Buffon, GS | JY16: Dottin, CM1 CM2 | JZ16: Hugo, CE2 | KA16: Monnet, GS CO | KB16: Bastide, MS GS | KC16: Papus, CM1 CM2 | KD16: Bastide, CE1 CE2 | KE16: Falcucci, CM1 CM2 | KF16: Ronsard, CE1 | KG16: BRIGADE | KH16: Lalande, CE1 | KI16: Renan, GS | KJ16: Billières, CP | KK16: Buffon, CE1 | KL16: Pagnol, TPS PS | KM16: Veil, CM1-CM2 | KN16: Buffon, GS | KO16: Dottin, CM1 CM2 | KP16: Hugo, CE2 | KQ16: Monnet, GS CO | KR16: Bastide, MS GS | KS16: Papus, CM1 CM2 | KT16: Bastide, CE1 CE2 | KU16: Falcucci, CM1 CM2 | KV16: Ronsard, CE1 | KW16: BRIGADE | KX16: Lalande, CE1 | KY16: Renan, GS | KZ16: Billières, CP | LA16: Buffon, CE1 | LB16: Pagnol, TPS PS | LC16: Veil, CM1-CM2 | LD16: Buffon, GS | LE16: Dottin, CM1 CM2 | LG16: Hugo, CE2 | LH16: Monnet, GS CO | LI16: Bastide, MS GS | LJ16: Papus, CM1 CM2 | LK16: Bastide, CE1 CE2 | LL16: Falcucci, CM1 CM2 | LM16: Ronsard, CE1
A17: M | D17: Formation Brigade | E17: Formation Brigade | F17: Pondération brigade 1 | G17: Pondération brigade 1 | H17: Papus, CE2 | I17: Formation Brigade | J17: Formation Brigade | K17: Formation Brigade | L17: Formation Brigade | M17: Dottin, CM1 CM2 | N17: Renan, CM2 | O17: Lalande, CE2 | P17: Billières, CE2 | Q17: Buffon, CE1 | R17: DAVEZAC S. Veil PS MS | S17: DAVEZAC S. Veil PS MS | T17: Bastide, CE2 CM1 CM2 | U17: Daurat, GS | V17: Hugo, CE2 | W17: Monnet, GS CO | X17: BERGAMASCHI G. Renan CE1 | Y17: BERGAMASCHI G. Renan CE1 | Z17: Héritier,CM2 | AA17: Renan, CE1 | AB17: Falcucci, CM1 CM2 | AC17: Hyon, CE2 | AD17: Buffon, GS | AE17: Dauriac, C1 | AF17: Pondération brigade 1 | AG17: Falcucci, CM1 CM2 | AH17: Falcucci, CM1 CM2 | AI17: Falcucci, CM1 CM2 | AJ17: Hyon, CE2 | AK17: Hyon, CE2 | AL17: Hyon, CE2 | AM17: Papus, CE2 | AN17: Lalande, CE2 | AO17: Renan, CM2 | AS17: Billières, CE2 | AT17: Renan, CM2 | AU17: Renan, CM2 | AV17: Buffon, CE1 | AW17: Daurat, GS | AZ17: Dauriac, C1 | BA17: Buffon, GS | BB17: Dottin, CM1 CM2 | BC17: Hugo, CE2 | BD17: Monnet, GS CO | BE17: Hyon, CE2 | BF17: Falcucci, CM1 CM2 | BG17: Monnet, GS CO | BH17: Monnet, GS CO | BI17: Daurat, GS | BJ17: Daurat, GS | BK17: Bastide, CE2 CM1 CM2 | BL17: Bastide, CE2 CM1 CM2 | BM17: Bastide, CE2 CM1 CM2 | BN17: Héritier,CM2 | BO17: BRIGADE | BQ17: Héritier, CP | BR17: Héritier, CP | BS17: Papus, CE2 | BT17: Papus, CE2 | BU17: Lalande, CE2 | BV17: Renan, CM2 | BW17: Billières, CE2 | BX17: Héritier, CP | BY17: Buffon, CE1 | BZ17: Renan, PS-MS | CA17: Renan, PS-MS | CB17: Daurat, GS | CE17: Buffon, CM1-CM2 | CF17: Buffon, CM1-CM2 | CG17: Dauriac, C1 | CH17: Buffon, GS | CI17: Dottin, CM1 CM2 | CJ17: Hugo, CE2 | CK17: Monnet, GS CO | CL17: Dauriac CE1 | CM17: Dauriac CE1 | CN17: Buffon, CM1-CM2 | CO17: Hyon, CE2 | CP17: Billières, CE2 | CQ17: Billières, CE2 | CR17: Billières, CE2 | CS17: Papus, CP | CT17: Bastide, CE2 CM1 CM2 | CU17: Falcucci, CM1 CM2 | CW17: Héritier,CM2 | CX17: BRIGADE | CZ17: Héritier,CM2 | DA17: Héritier,CM2 | DB17: Héritier,CM2 | DE17: Daurat, GS- MS | DG17: Renan, CM2 | DH17: Renan, CM2 | DI17: Lalande, CE1 | DJ17: Lalande, CE1 | DL17: Dauriac CM1 CM2 | DM17: Lalande, CE2 | DN17: Bastide, CE2 CM1 CM2 | DO17: Bastide, CE2 CM1 CM2 | DT17: Renan, CM2 | DU17: Billières, CE2 | DV17: Buffon, CE1 | DW17: Daurat, GS | DX17: Dauriac, C1 | DY17: Buffon, GS | DZ17: Dottin, CM1 CM2 | EB17: Hugo, CE2 | EC17: Monnet, GS CO | ED17: Hyon, MS | EE17: Hyon, MS | EF17: Renan, CE2 | EG17: Billières, CP | EH17: Billières, CP | EI17: Buffon, CP | EJ17: Buffon, CP | EK17: Renan, CP | EL17: Renan, CP | EM17: Bastide CM1 CM2 | EN17: Monnet, GS CO | EO17: Dauriac Ulis | EP17: Triolet CE1 | EQ17: Hyon, CE2 | ER17: Papus, CP | ES17: Bastide, CE2 CM1 CM2 | ET17: Buffon, GS | EU17: Buffon, GS | EV17: Billières, GS | EW17: Billières, GS | EX17: Falcucci, CM1 CM2 | EY17: Renan, GS | EZ17: Renan, GS | FA17: Dieuzaide, PS MS | FB17: Dieuzaide, PS MS | FC17: Falcucci, CE1 | FD17: Falcucci, CE1 | FE17: Hugo, CE1 | FF17: Hugo, CE1 | FG17: Héritier,CM2 | FH17: Hugo, GS | FI17: Hugo, GS | FJ17: BRIGADE | FK17: Lalande, CE2 | FM17: Renan, CM2 | FN17: Billières, CE2 | FO17: Buffon, CE1 | FP17: Daurat, GS | FQ17: Dauriac, C1 | FR17: Buffon, GS | FS17: Dottin, CM1 CM2 | FT17: Renan, CM1 | FU17: Papus, CE2 | FV17: Veil, ULIS | FW17: Veil, ULIS | FX17: Hugo, CE2 | FY17: Monnet, GS CO | FZ17: Hyon, CE2 | GA17: Papus, CP | GB17: Bastide, CE2 CM1 CM2 | GC17: Falcucci, CM1 CM2 | GD17: Héritier,CM2 | GF17: Buffon, CP | GG17: Billières, CP | GH17: Hugo, CE1 | GI17: BRIGADE | GJ17: Lalande, CE2 | GK17: Hyon, MS | GL17: Renan, CM2 | GM17: Bastide, CE2 CM1 CM2 | GN17: Billières, CE2 | GO17: Renan, GS | GP17: Buffon, CE1 | GQ17: Daurat, GS | GR17: Dauriac, C1 | GS17: Buffon, GS | GT17: Renan, CP | GU17: Falcucci, CE1 | GV17: Lalande, CE1 | GX17: Dottin, CM1 CM2 | GY17: Hugo, CE2 | GZ17: Monnet, GS CO | HA17: Hyon, CE2 | HB17: Triolet CE1 | HC17: Papus, CP | HD17: Bastide, CE2 CM1 CM2 | HE17: Triolet PS GS | HF17: Triolet PS GS | HG17: Falcucci, CM1 CM2 | HH17: Héritier,CM2 | HI17: BRIGADE | HJ17: Hugo, GS | HK17: Billières, CE2 | HL17: Lalande, CE2 | HM17: Renan, CM2 | HN17: Dieuzaide, PS MS | HO17: Dauriac, C1 | HP17: Billières, GS | HQ17: Buffon, GS | HS17: Hyon, MS | HT17: Dottin, CM1 CM2 | HU17: Hugo, CE2 | HV17: Bastide | HW17: Monnet, GS CO | HX17: Billières, PS MS | HY17: Hyon, CE2 | HZ17: Buffon, CE1 | IA17: Daurat, GS | IB17: Papus, CP | IC17: Bastide, CE2 CM1 CM2 | ID17: Falcucci, CM1 CM2 | IE17: Héritier,CM2 | IF17: BRIGADE | IG17: Lalande, CE2 | IH17: Renan, CM2 | II17: Billières, CE2 | IJ17: Buffon, CE1 | IK17: Daurat, GS | IL17: Dauriac, C1 | IM17: Buffon, GS | IQ17: Dottin, CM1 CM2 | IR17: Hugo, CE2 | IS17: Buffon, GS | IT17: Monnet, GS CO | IU17: Hyon, CE2 | IV17: Papus, CP | IW17: Bastide, CE2 CM1 CM2 | IX17: Falcucci, CM1 CM2 | IY17: Héritier,CM2 | IZ17: BRIGADE | JA17: Lalande, CE2 | JB17: Renan, CM2 | JC17: Billières, CE2 | JD17: Buffon, CE1 | JE17: Daurat, GS | JF17: Dauriac, C1 | JG17: Buffon, GS | JH17: Dottin, CM1 CM2 | JI17: Hugo, CE2 | JJ17: Monnet, GS CO | JK17: Hyon, CE2 | JL17: Papus, CP | JM17: Bastide, CE2 CM1 CM2 | JN17: Falcucci, CM1 CM2 | JO17: Héritier,CM2 | JP17: BRIGADE | JQ17: Lalande, CE2 | JR17: Renan, CM2 | JS17: Billières, CE2 | JT17: Buffon, CE1 | JV17: Daurat, GS | JW17: Dauriac, C1 | JX17: Buffon, GS | JY17: Dottin, CM1 CM2 | JZ17: Hugo, CE2 | KA17: Monnet, GS CO | KB17: Hyon, CE2 | KC17: Papus, CP | KD17: Bastide, CE2 CM1 CM2 | KE17: Falcucci, CM1 CM2 | KF17: Héritier,CM2 | KG17: BRIGADE | KH17: Lalande, CE2 | KI17: Renan, CM2 | KJ17: Billières, CE2 | KK17: Buffon, CE1 | KL17: Daurat, GS | KM17: Dauriac, C1 | KN17: Buffon, GS | KO17: Dottin, CM1 CM2 | KP17: Hugo, CE2 | KQ17: Monnet, GS CO | KR17: Hyon, CE2 | KS17: Papus, CP | KT17: Bastide, CE2 CM1 CM2 | KU17: Falcucci, CM1 CM2 | KV17: Héritier,CM2 | KW17: BRIGADE | KX17: Lalande, CE2 | KY17: Renan, CM2 | KZ17: Billières, CE2 | LA17: Buffon, CE1 | LB17: Daurat, GS | LC17: Dauriac, C1 | LD17: Buffon, GS | LE17: Dottin, CM1 CM2 | LG17: Hugo, CE2 | LH17: Monnet, GS CO | LI17: Hyon, CE2 | LJ17: Papus, CP | LK17: Bastide, CE2 CM1 CM2 | LL17: Falcucci, CM1 CM2 | LM17: Héritier,CM2
A18: N | D18: Formation Brigade | E18: Formation Brigade | F18: Pondération brigade 1 | G18: Pondération brigade 1 | H18: Tabar, PS MS | I18: Formation Brigade | J18: Formation Brigade | K18: Formation Brigade | L18: Formation Brigade | M18: Claudel, C1 | N18: Renan, PS MS | O18: Lalande, CM2 | P18: Billières, CP CE1 | Q18: Buffon, CP-CE1 | R18: PAGES V. Daurat maternelle | S18: PAGES V. Daurat maternelle | T18: Bastide, CP | U18: Daurat, CE1-CE2 | V18: Hugo, CE2 | W18: Monnet, PS MS | X18: CAZAUBANG N. école Fenelon | Y18: CAZAUBANG N. école Fenelon | Z18: Triolet, CP | AA18: Triolet, CP | AB18: Falcucci, TPS MS | AC18: Michel, MS GS | AD18: Faucher Ulis | AE18: Veil, CM1-CM2 | AF18: Pondération brigade 1 | AG18: Falcucci, CM1 CM2 | AH18: Falcucci, CM1 CM2 | AI18: Falcucci, CM1 CM2 | AJ18: Hyon | AK18: Hyon | AL18: Hyon | AM18: Tabar, PS MS | AN18: Lalande, CM2 | AO18: Renan, PS MS | AQ18: Falcucci, TPS MS | AR18: Falcucci, TPS MS | AS18: Billières, CP CE1 | AT18: Hugo, CE2 | AU18: Hugo, CE2 | AV18: Buffon, CP-CE1 | AW18: Daurat, CE1-CE2 | AX18: Lalande, CM2 | AY18: Lalande, CM2 | AZ18: Veil, CM1-CM2 | BA18: Faucher Ulis | BB18: Claudel, C1 | BC18: Hugo, CE2 | BD18: Monnet, PS MS | BE18: Michel, MS GS | BF18: Falcucci, TPS MS | BG18: Monnet, PS MS | BH18: Monnet, PS MS | BK18: Bastide, CP | BN18: Triolet, CP | BO18: BRIGADE | BQ18: Héritier CM1 | BR18: Héritier CM1 | BS18: Bastide, CE2 CM1 CM2 | BU18: Lalande, CM2 | BV18: Renan, PS MS | BW18: Billières, CP CE1 | BX18: Héritier CM1 | BY18: Buffon, CP-CE1 | BZ18: Tabar, PS MS | CA18: Tabar, PS MS | CB18: Daurat, CE1-CE2 | CC18: Buffon, PS MS | CD18: Buffon, PS MS | CG18: Veil, CM1-CM2 | CH18: Faucher Ulis | CI18: Claudel, C1 | CJ18: Hugo, CE2 | CK18: Monnet, PS MS | CL18: Veil, CM1-CM2 | CM18: Veil, CM1-CM2 | CO18: Michel, MS GS | CP18: Lalande, CM2 | CQ18: Lalande, CM2 | CR18: Lalande, CM2 | CS18: Tabar, GS | CT18: Bastide, CP | CU18: Falcucci, TPS MS | CW18: Triolet, CP | CX18: BRIGADE | CZ18: Buffon, CE2 | DA18: Buffon, CE2 | DB18: Buffon, CE2 | DG18: Hugo, CE2 | DH18: Hugo, CE2 | DI18: Lalande, CE1 | DJ18: Lalande, CE1 | DL18: Veil, CM1-CM2 | DM18: Lalande, CM2 | DN18: Bastide, CP | DO18: Bastide, CP | DP18: Falcucci, TPS MS | DQ18: Falcucci, TPS MS | DR18: Faucher Ulis | DS18: Faucher Ulis | DT18: Renan, PS MS | DU18: Billières, CP CE1 | DV18: Buffon, CP-CE1 | DW18: Daurat, CE1-CE2 | DX18: Veil, CM1-CM2 | DY18: Faucher Ulis | DZ18: Claudel, C1 | EB18: Hugo, CE2 | EC18: Monnet, PS MS | ED18: Hyon, GS | EE18: Hyon, GS | EF18: Renan, CE2 | EG18: Billières, CP | EH18: Billières, CP | EI18: Buffon, CP-CE1 | EJ18: Buffon, CP-CE1 | EK18: Renan, CP | EL18: Renan, CP | EM18: Bastide CM1 CM2 | EN18: Monnet, PS MS | EO18: Veil, CP | EP18: Renan, CP | EQ18: Michel, MS GS | ER18: Tabar, GS | ES18: Bastide, CP | ET18: Buffon, GS | EU18: Buffon, GS | EV18: Billières, GS | EW18: Billières, GS | EX18: Falcucci, TPS MS | EY18: Renan, GS | EZ18: Renan, GS | FA18: Dieuzaide, PS MS | FB18: Dieuzaide, PS MS | FC18: Falcucci, CE1 | FD18: Falcucci, CE1 | FE18: Hugo, CE1 | FF18: Hugo, CE1 | FG18: Triolet, CP | FH18: Pinhous, GS | FI18: Pinhous,MS GS | FJ18: BRIGADE | FK18: Lalande, CM2 | FM18: Renan, PS MS | FN18: Billières, CP CE1 | FO18: Buffon, CP-CE1 | FP18: Daurat, CE1-CE2 | FQ18: Veil, CM1-CM2 | FR18: Faucher Ulis | FS18: Claudel, C1 | FT18: Renan, CM2 | FV18: Dauriac CP | FW18: Dauriac CP | FX18: Hugo, CE2 | FY18: Monnet, PS MS | FZ18: Michel, MS GS | GA18: Tabar, GS | GB18: Bastide, CP | GC18: Falcucci, TPS MS | GD18: Triolet, CP | GF18: Buffon, CP-CE1 | GG18: Billières, CP | GH18: Hugo, CE1 | GI18: BRIGADE | GJ18: Lalande, CM2 | GK18: Hyon, GS | GL18: Renan, PS MS | GM18: Bastide, CM1 CM2 | GN18: Billières, CP CE1 | GO18: Renan, GS | GP18: Buffon, CP-CE1 | GQ18: Daurat, CE1-CE2 | GR18: Veil, CM1-CM2 | GS18: Faucher Ulis | GT18: Renan, CP | GU18: Falcucci, CE1 | GV18: Lalande, CE1 | GX18: Claudel, C1 | GY18: Hugo, CE2 | GZ18: Monnet, PS MS | HA18: Michel, MS GS | HB18: Renan, CP | HC18: Tabar, GS | HD18: Bastide, CP | HE18: Triolet PS GS | HF18: Triolet PS GS | HG18: Falcucci, TPS MS | HH18: Triolet, CP | HI18: BRIGADE | HJ18: Pinhous,MS GS | HK18: Billières, CP CE1 | HL18: Lalande, CM2 | HM18: Renan, PS MS | HN18: Dieuzaide, PS MS | HO18: Veil, CM1-CM2 | HP18: Billières, GS | HQ18: Faucher Ulis | HS18: Tabar, PS MS | HT18: Claudel, C1 | HU18: Hugo, CE2 | HV18: Bastide | HW18: Monnet, PS MS | HX18: Papus, PS | HY18: Michel, MS GS | HZ18: Buffon, CP-CE1 | IA18: Daurat, CE1-CE2 | IB18: Tabar, GS | IC18: Bastide, CP | ID18: Falcucci, TPS MS | IE18: Triolet, CP | IF18: BRIGADE | IG18: Lalande, CM2 | IH18: Renan, PS MS | II18: Billières, CP CE1 | IJ18: Buffon, CP-CE1 | IK18: Daurat, CE1-CE2 | IL18: Veil, CM1-CM2 | IM18: Faucher Ulis | IQ18: Claudel, C1 | IR18: Hugo, CE2 | IS18: Buffon, GS | IT18: Monnet, PS MS | IU18: Michel, MS GS | IV18: Tabar, GS | IW18: Bastide, CP | IX18: Falcucci, TPS MS | IY18: Triolet, CP | IZ18: BRIGADE | JA18: Lalande, CM2 | JB18: Renan, PS MS | JC18: Billières, CP CE1 | JD18: Buffon, CP-CE1 | JE18: Daurat, CE1-CE2 | JF18: Veil, CM1-CM2 | JG18: Faucher Ulis | JH18: Claudel, C1 | JI18: Hugo, CE2 | JJ18: Monnet, PS MS | JK18: Michel, MS GS | JL18: Tabar, GS | JM18: Bastide, CP | JN18: Falcucci, TPS MS | JO18: Triolet, CP | JP18: BRIGADE | JQ18: Lalande, CM2 | JR18: Renan, PS MS | JS18: Billières, CP CE1 | JT18: Buffon, CP-CE1 | JV18: Daurat, CE1-CE2 | JW18: Veil, CM1-CM2 | JX18: Faucher Ulis | JY18: Claudel, C1 | JZ18: Hugo, CE2 | KA18: Monnet, PS MS | KB18: Michel, MS GS | KC18: Tabar, GS | KD18: Bastide, CP | KE18: Falcucci, TPS MS | KF18: Triolet, CP | KG18: BRIGADE | KH18: Lalande, CM2 | KI18: Renan, PS MS | KJ18: Billières, CP CE1 | KK18: Buffon, CP-CE1 | KL18: Daurat, CE1-CE2 | KM18: Veil, CM1-CM2 | KN18: Faucher Ulis | KO18: Claudel, C1 | KP18: Hugo, CE2 | KQ18: Monnet, PS MS | KR18: Michel, MS GS | KS18: Tabar, GS | KT18: Bastide, CP | KU18: Falcucci, TPS MS | KV18: Triolet, CP | KW18: BRIGADE | KX18: Lalande, CM2 | KY18: Renan, PS MS | KZ18: Billières, CP CE1 | LA18: Buffon, CP-CE1 | LB18: Daurat, CE1-CE2 | LC18: Veil, CM1-CM2 | LD18: Faucher Ulis | LE18: Claudel, C1 | LG18: Hugo, CE2 | LH18: Monnet, PS MS | LI18: Michel, MS GS | LJ18: Tabar, GS | LK18: Bastide, CP | LL18: Falcucci, TPS MS | LM18: Triolet, CP
A19: O | D19: Formation Brigade | E19: Formation Brigade | F19: Pondération brigade 1 | G19: Pondération brigade 1 | H19: Papus, CM1 CM2 | I19: Formation Brigade | J19: Formation Brigade | K19: Formation Brigade | L19: Formation Brigade | M19: Dottin, CE2 CM1 | N19: Renan, CM1 | O19: Triolet, TPS MS | P19: Billières, GS | Q19: Buffon, CP | R19: DEFOUR AS.Billières Desbals TPS/PS/MS | S19: DEFOUR AS.Billières Desbals TPS/PS/MS | T19: Hugo, GS | U19: Daurat, TPS PS | V19: Hugo, CP CE1 | W19: Dauriac, CP | X19: Moncoucut N. Ronsard CE1 | Y19: Moncoucut N. Ronsard CE1 | Z19: Ronsard, CE1 | AA19: Hugo, CP CE1 | AB19: Falcucci, CP | AC19: Hyon | AD19: Buffon, MS GS | AE19: Veil, GS | AF19: Pondération brigade 1 | AG19: Falcucci, CP | AH19: Falcucci, CP | AI19: Falcucci, CP | AJ19: Dottin, CE2 CM1 | AK19: Dottin, CE2 CM1 | AL19: Dottin, CE2 CM1 | AM19: Papus, CM1 CM2 | AN19: Triolet, TPS MS | AO19: Renan, CM1 | AQ19: Triolet, TPS MS | AR19: Triolet, TPS MS | AS19: Billières, GS | AT19: Renan, CM1 | AU19: Renan, CM1 | AV19: Buffon, CP | AW19: Daurat, TPS PS | AZ19: Veil, GS | BA19: Buffon, MS GS | BB19: Dottin, CE2 CM1 | BC19: Hugo, CP CE1 | BD19: Dauriac, CP | BE19: Hugo | BF19: Falcucci, CP | BG19: Hugo, GS | BH19: Hugo, GS | BI19: Daurat, TPS PS | BJ19: Daurat, TPS PS | BK19: Hugo, GS | BL19: Dottin, CE2 CM1 | BM19: Dottin, CE2 CM1 | BN19: Ronsard, CE1 | BO19: BRIGADE | BQ19: Héritier,CM1-CM2 | BR19: Héritier,CM1-CM2 | BS19: Papus, CM1 CM2 | BT19: Papus, CM1 CM2 | BU19: Triolet, TPS MS | BV19: Renan, CM1 | BW19: Billières, GS | BX19: Héritier,CM1-CM2 | BY19: Buffon, CP | BZ19: Renan, PS | CA19: Renan, PS | CB19: Daurat, TPS PS | CC19: Daurat, TPS PS | CD19: Daurat, TPS PS | CE19: Buffon, CE2 | CF19: Buffon, CE2 | CG19: Veil, GS | CH19: Buffon, MS GS | CI19: Dottin, CE2 CM1 | CJ19: Hugo, CP CE1 | CK19: Dauriac, CP | CL19: Dauriac CP | CM19: Dauriac CP | CN19: Buffon, CE2 | CO19: Hugo | CP19: Billières, CE2 | CQ19: Billières, CE2 | CR19: Billières, CE2 | CS19: Papus, CE1 | CT19: Hugo, GS | CU19: Falcucci, CP | CW19: Ronsard, CE1 | CX19: BRIGADE | CZ19: Falcucci, CE2 | DA19: Falcucci, CE2 | DB19: Falcucci, CE2 | DE19: Daurat, TPS PS | DG19: Renan, CM1 | DH19: Renan, CM1 | DI19: Lalande,CE2 | DJ19: Lalande,CE2 | DL19: Dauriac CP | DM19: Triolet, TPS MS | DP19: Triolet, TPS MS | DQ19: Triolet, TPS MS | DT19: Renan, CM1 | DU19: Billières, GS | DV19: Buffon, CP | DW19: Daurat, TPS PS | DX19: Veil, GS | DY19: Buffon, MS GS | DZ19: Dottin, CE2 CM1 | EB19: Hugo, CP CE1 | EC19: Hugo, GS | ED19: Hyon, GS | EE19: Hyon, GS | EF19: Renan, CM1 | EG19: Billières, CP CE1 | EH19: Billières, CP CE1 | EI19: Buffon, CE1 | EJ19: Buffon, CE1 | EK19: Renan, CP | EL19: Renan, CP | EN19: Dauriac, CP | EO19: Veil,CP | EP19: Renan, CP | EQ19: Hugo | ER19: Papus, CE1 | ES19: Hugo, GS | ET19: Buffon, GS | EU19: Buffon, GS | EV19: Billières, GS | EW19: Billières, GS | EX19: Falcucci, CP | EY19: Renan, GS | EZ19: Renan, GS | FA19: Monnet, PS | FB19: Monnet, PS | FC19: Falcucci, CE1 | FD19: Falcucci, CE1 | FE19: Hugo, CE1 | FF19: Hugo, CE1 | FG19: Ronsard, CE1 | FH19: Pinhous, GS | FI19: Pinhous, MS GS | FJ19: BRIGADE | FK19: Triolet, TPS MS | FM19: Renan, CM1 | FN19: Billières, GS | FO19: Buffon, CP | FP19: Daurat, TPS PS | FQ19: Veil, GS | FR19: Buffon, MS GS | FS19: Dottin, CE2 CM1 | FT19: Renan, CM2 | FU19: Papus, CM1 CM2 | FV19: Dauriac CP | FW19: Dauriac CP | FX19: Hugo, CP CE1 | FY19: Dauriac, CP | FZ19: Hugo | GA19: Papus, CE1 | GB19: Hugo, GS | GC19: Falcucci, CP | GD19: Ronsard, CE1 | GF19: Buffon, CE1 | GG19: Billières, CP CE1 | GH19: Hugo, CE1 | GI19: BRIGADE | GJ19: Triolet, TPS MS | GK19: Hyon, GS | GL19: Renan, CM1 | GM19: Bastide | GN19: Billières, GS | GO19: Renan, GS | GP19: Buffon, CP | GQ19: Daurat, TPS PS | GR19: Veil, GS | GS19: Buffon, MS GS | GT19: Renan, CE1 | GU19: Falcucci, CE1 | GV19: Lalande,CE2 | GX19: Dottin, CE2 CM1 | GY19: Hugo, CP CE1 | GZ19: Dauriac, CP | HA19: Hugo | HB19: Renan, CP | HC19: Papus, CE1 | HD19: Hugo, GS | HE19: Faucher, TPS-PS | HF19: Faucher, TPS-PS | HG19: Falcucci, CP | HH19: Ronsard, CE1 | HI19: BRIGADE | HJ19: Pinhous, MS GS | HK19: Billières, GS | HL19: Triolet, TPS MS | HM19: Renan, CM1 | HN19: Monnet, PS | HO19: Veil, GS | HP19: Billières, GS | HQ19: Buffon, MS GS | HS19: Tabar, PS MS | HT19: Dottin, CE2 CM1 | HU19: Hugo, CP CE1 | HV19: Bastide | HW19: Dauriac, CP | HX19: Papus, PS MS | HY19: Hugo | HZ19: Buffon, CP | IA19: Daurat, TPS PS | IB19: Papus, CE1 | IC19: Hugo, GS | ID19: Falcucci, CP | IE19: Ronsard, CE1 | IF19: BRIGADE | IG19: Triolet, TPS MS | IH19: Renan, CM1 | II19: Billières, GS | IJ19: Buffon, CP | IK19: Daurat, TPS PS | IL19: Veil, GS | IM19: Buffon, MS GS | IQ19: Dottin, CE2 CM1 | IR19: Hugo, CP CE1 | IS19: Buffon, GS | IT19: Dauriac, CP | IU19: Hugo | IV19: Papus, CE1 | IW19: Hugo, GS | IX19: Falcucci, CP | IY19: Ronsard, CE1 | IZ19: BRIGADE | JA19: Triolet, TPS MS | JB19: Renan, CM1 | JC19: Billières, GS | JD19: Buffon, CP | JE19: Daurat, TPS PS | JF19: Veil, GS | JG19: Buffon, MS GS | JH19: Dottin, CE2 CM1 | JI19: Hugo, CP CE1 | JJ19: Dauriac, CP | JK19: Hugo | JL19: Papus, CE1 | JM19: Hugo, GS | JN19: Falcucci, CP | JO19: Ronsard, CE1 | JP19: BRIGADE | JQ19: Triolet, TPS MS | JR19: Renan, CM1 | JS19: Billières, GS | JT19: Buffon, CP | JV19: Daurat, TPS PS | JW19: Veil, GS | JX19: Buffon, MS GS | JY19: Dottin, CE2 CM1 | JZ19: Hugo, CP CE1 | KA19: Dauriac, CP | KB19: Hugo | KC19: Papus, CE1 | KD19: Hugo, GS | KE19: Falcucci, CP | KF19: Ronsard, CE1 | KG19: BRIGADE | KH19: Triolet, TPS MS | KI19: Renan, CM1 | KJ19: Billières, GS | KK19: Buffon, CP | KL19: Daurat, TPS PS | KM19: Veil, GS | KN19: Buffon, MS GS | KO19: Dottin, CE2 CM1 | KP19: Hugo, CP CE1 | KQ19: Dauriac, CP | KR19: Hugo | KS19: Papus, CE1 | KT19: Hugo, GS | KU19: Falcucci, CP | KV19: Ronsard, CE1 | KW19: BRIGADE | KX19: Triolet, TPS MS | KY19: Renan, CM1 | KZ19: Billières, GS | LA19: Buffon, CP | LB19: Daurat, TPS PS | LC19: Veil, GS | LD19: Buffon, MS GS | LE19: Dottin, CE2 CM1 | LG19: Hugo, CP CE1 | LH19: Dauriac, CP | LI19: Hugo | LJ19: Papus, CE1 | LK19: Hugo, GS | LL19: Falcucci, CP | LM19: Ronsard, CE1
A20: P | D20: Formation Brigade | E20: Formation Brigade | F20: Pondération brigade 1 | G20: Pondération brigade 1 | H20: Papus, CP | I20: Formation Brigade | J20: Formation Brigade | K20: Formation Brigade | L20: Formation Brigade | M20: Dottin, CP | N20: Renan, PS | O20: Triolet PS GS | P20: Billières, CE1 | Q20: Buffon, CM1-CM2 | R20: Babonneau Marina TPS PS Triolet | S20: Babonneau Marina TPS PS Triolet | T20: Bastide, CM1 CM2 | U20: Pagnol, CM2 | V20: Papus, PS | W20: Dauriac, CE1 | X20: Tran N. Billières CM1 CM2 | Y20: Tran N. Billières CM1 CM2 | Z20: Héritier, CP | AA20: Triolet, CE1 | AB20: Falcucci, GS | AC20: Hyon, PS | AD20: Buffon, TPS | AE20: Veil, CP | AF20: Pondération brigade 1 | AG20: Ronsard, CE1 | AH20: Ronsard, CE1 | AI20: Ronsard, CE1 | AJ20: Dottin, CP | AK20: Dottin, CP | AL20: Dottin, CP | AM20: Papus, CP | AN20: Triolet PS GS | AO20: Renan, PS | AQ20: Falcucci, GS | AR20: Falcucci, GS | AS20: Billières, CE1 | AV20: Buffon, CM1-CM2 | AW20: Pagnol, CM2 | AX20: Pagnol, CM2 | AY20: Pagnol, CM2 | AZ20: Veil, CP | BA20: Buffon, TPS | BB20: Dottin, CP | BC20: Papus, PS | BD20: Dauriac, CE1 | BE20: Hyon, PS | BF20: Falcucci, GS | BI20: Pagnol, MS | BJ20: Pagnol, MS | BK20: Bastide, CM1 CM2 | BL20: Pagnol, CM2 | BM20: Pagnol, CM2 | BN20: Héritier, CP | BO20: BRIGADE | BQ20: Billières, CE1 | BR20: Billières, CE1 | BS20: Papus, CP | BT20: Papus, CP | BU20: Triolet PS GS | BV20: Renan, PS | BW20: Billières, CE1 | BX20: Billières, CE1 | BY20: Buffon, CM1-CM2 | BZ20: Hyon, PS | CA20: Hyon, PS | CB20: Pagnol, CM2 | CC20: Buffon, TPS | CD20: Buffon, TPS | CE20: Buffon, CM1-CM2 | CF20: Buffon, CM1-CM2 | CG20: Veil, CP | CH20: Buffon, TPS | CI20: Dottin, CP | CJ20: Papus, PS | CK20: Dauriac, CE1 | CL20: Veil, CP | CM20: Veil, CP | CN20: Buffon, CM1-CM2 | CO20: Hyon, PS | CP20: Hyon, CE2 | CQ20: Hyon, CE2 | CR20: Hyon, CE2 | CS20: Papus, CE1 | CT20: Bastide, CM1 CM2 | CU20: Falcucci, GS | CW20: Héritier, CP | CX20: BRIGADE | CZ20: Buffon, CM1-CM2 | DA20: Buffon, CM1-CM2 | DB20: Buffon, CM1-CM2 | DE20: Pinhous, TPS PS | DG20: Papus, CM1 CM2 | DH20: Papus, CM1 CM2 | DI20: Lalande, CE2 | DJ20: Lalande, CE2 | DL20: Veil,CP | DM20: Triolet PS GS | DN20: Bastide, CM1 CM2 | DO20: Bastide, CM1 CM2 | DP20: Falcucci, GS | DQ20: Falcucci, GS | DT20: Renan, PS | DU20: Billières, CE1 | DV20: Buffon, CM1-CM2 | DW20: Pagnol, CM2 | DX20: Veil, CP | DY20: Buffon, TPS | DZ20: Dottin, CP | EB20: Papus, PS | ED20: Ronsard, PS | EE20: Ronsard, PS | EF20: Renan, CM1 | EG20: Billières, CE1 | EH20: Billières, CE1 | EI20: Buffon, CE1 | EJ20: Buffon, CE1 | EK20: Renan, CE1 | EL20: Renan, CE1 | EN20: Dauriac, CE1 | EO20: Veil,CP | EP20: Renan, CP | EQ20: Hyon, PS | ER20: Papus, CE1 | ES20: Bastide, CM1 CM2 | ET20: Buffon, PS MS | EU20: Buffon, PS MS | EV20: Billières, GS | EW20: Billières, GS | EX20: Falcucci, GS | EY20: Monnet, GS CO | EZ20: Monnet, GS CO | FA20: Monnet, PS | FB20: Monnet, PS | FE20: Hugo, CE1 | FF20: Hugo, CE1 | FG20: Héritier, CP | FJ20: BRIGADE | FK20: Triolet PS GS | FM20: Renan, PS | FN20: Billières, CE1 | FO20: Buffon, CM1-CM2 | FP20: Pagnol, CM2 | FQ20: Veil, CP | FR20: Buffon, TPS | FS20: Dottin, CP | FT20: Renan, ULIS | FU20: Papus, CP | FV20: Dauriac CP | FW20: Dauriac CP | FX20: Papus, PS | FY20: Dauriac, CE1 | FZ20: Hyon, PS | GA20: Papus, CE1 | GB20: Bastide, CM1 CM2 | GC20: Falcucci, GS | GD20: Héritier, CP | GF20: Buffon, CE1 | GG20: Billières, CE1 | GH20: Hugo, CE1 | GI20: BRIGADE | GJ20: Triolet PS GS | GK20: Ronsard, PS | GL20: Renan, PS | GN20: Billières, CE1 | GO20: Monnet, GS CO | GP20: Buffon, CM1-CM2 | GQ20: Pagnol, CM2 | GR20: Veil, CP | GS20: Buffon, TPS | GT20: Renan, CE1 | GU20: Falcucci, CE1 | GV20: Lalande, CE2 | GX20: Dottin, CP | GY20: Papus, PS | GZ20: Dauriac, CE1 | HA20: Hyon, PS | HB20: Renan, CP | HC20: Papus, CE1 | HD20: Bastide, CM1 CM2 | HE20: Faucher, PS-MS | HF20: Faucher, PS-MS | HG20: Falcucci, GS | HH20: Héritier, CP | HI20: BRIGADE | HJ20: Pinhous, MS GS | HK20: Billières, CE1 | HL20: Triolet PS GS | HM20: Renan, PS | HN20: Monnet, PS | HO20: Veil, CP | HP20: Billières, GS | HQ20: Buffon, TPS | HS20: Ronsard, PS | HT20: Dottin, CP | HU20: Papus, PS | HV20: Bastide | HW20: Dauriac, CE1 | HY20: Hyon, PS | HZ20: Buffon, CM1-CM2 | IA20: Pagnol, CM2 | IB20: Papus, CE1 | IC20: Bastide, CM1 CM2 | ID20: Falcucci, GS | IE20: Héritier, CP | IF20: BRIGADE | IG20: Triolet PS GS | IH20: Renan, PS | II20: Billières, CE1 | IJ20: Buffon, CM1-CM2 | IK20: Pagnol, CM2 | IL20: Veil, CP | IM20: Buffon, TPS | IQ20: Dottin, CP | IR20: Papus, PS | IS20: Buffon, PS MS | IT20: Dauriac, CE1 | IU20: Hyon, PS | IV20: Papus, CE1 | IW20: Bastide, CM1 CM2 | IX20: Falcucci, GS | IY20: Héritier, CP | IZ20: BRIGADE | JA20: Triolet PS GS | JB20: Renan, PS | JC20: Billières, CE1 | JD20: Buffon, CM1-CM2 | JE20: Pagnol, CM2 | JF20: Veil, CP | JG20: Buffon, TPS | JH20: Dottin, CP | JI20: Papus, PS | JJ20: Dauriac, CE1 | JK20: Hyon, PS | JL20: Papus, CE1 | JM20: Bastide, CM1 CM2 | JN20: Falcucci, GS | JO20: Héritier, CP | JP20: BRIGADE | JQ20: Triolet PS GS | JR20: Renan, PS | JS20: Billières, CE1 | JT20: Buffon, CM1-CM2 | JV20: Pagnol, CM2 | JW20: Veil, CP | JX20: Buffon, TPS | JY20: Dottin, CP | JZ20: Papus, PS | KA20: Dauriac, CE1 | KB20: Hyon, PS | KC20: Papus, CE1 | KD20: Bastide, CM1 CM2 | KE20: Falcucci, GS | KF20: Héritier, CP | KG20: BRIGADE | KH20: Triolet PS GS | KI20: Renan, PS | KJ20: Billières, CE1 | KK20: Buffon, CM1-CM2 | KL20: Pagnol, CM2 | KM20: Veil, CP | KN20: Buffon, TPS | KO20: Dottin, CP | KP20: Papus, PS | KQ20: Dauriac, CE1 | KR20: Hyon, PS | KS20: Papus, CE1 | KT20: Bastide, CM1 CM2 | KU20: Falcucci, GS | KV20: Héritier, CP | KW20: BRIGADE | KX20: Triolet PS GS | KY20: Renan, PS | KZ20: Billières, CE1 | LA20: Buffon, CM1-CM2 | LB20: Pagnol, CM2 | LC20: Veil, CP | LD20: Buffon, TPS | LE20: Dottin, CP | LG20: Papus, PS | LH20: Dauriac, CE1 | LI20: Hyon, PS | LJ20: Papus, CE1 | LK20: Bastide, CM1 CM2 | LL20: Falcucci, GS | LM20: Héritier, CP
A21: Q | D21: Formation Brigade | E21: Formation Brigade | F21: Pondération brigade 1 | G21: Pondération brigade 1 | H21: Tabar, GS | I21: Formation Brigade | J21: Formation Brigade | K21: Formation Brigade | L21: Formation Brigade | M21: Dottin, CE2 | N21: Renan, CE1 | O21: Lalande, CM2 | P21: Billières, PS MS | Q21: Buffon, C2C3 | R21: Romane Fermon Bastide maternelle | S21: Romane Fermon Bastide maternelle | T21: Bastide, CP | U21: Daurat, CM1-CM2 | V21: Hugo, CP CE1 | W21: Dauriac, CE2 | X21: Pétillon C. Dauriac Ulis | Y21: Pétillon C. Dauriac Ulis | Z21: Triolet, CE1 | AA21: Hugo, CP CE1 | AB21: Falcucci, GS | AC21: Michel, TPS PS | AD21: Buffon, PS | AE21: Veil, CM1-CM2 | AF21: Pondération brigade 1 | AG21: Ronsard, CE1 | AH21: Ronsard, CE1 | AI21: Ronsard, CE1 | AJ21: Dottin, CE2 | AK21: Dottin, CE2 | AL21: Dottin, CE2 | AM21: Tabar, GS | AN21: Lalande, CP | AO21: Renan, CE1 | AQ21: Falcucci, GS | AR21: Falcucci, GS | AS21: Billières, PS MS | AV21: Buffon, C2C3 | AW21: Daurat, CM1-CM2 | AX21: Clara Boucher Daurat CM1 | AY21: Clara Boucher Daurat CM1 | AZ21: Veil, CM1-CM2 | BA21: Buffon, PS | BB21: Dottin, CE2 | BC21: Hugo, CP CE1 | BD21: Dauriac, CE2 | BE21: Michel, TPS PS | BF21: Falcucci, GS | BI21: Pinhous, GS MS | BJ21: Pinhous, GS MS | BK21: Bastide, CP | BL21: Dottin, CE2 | BM21: Dottin, CE2 | BN21: Triolet, CE1 | BO21: BRIGADE | BQ21: Billières, CM1 CM2 | BR21: Billières, CM1 CM2 | BU21: Lalande, CP | BV21: Renan, CE1 | BW21: Billières, PS MS | BX21: Billières, CM1 CM2 | BY21: Buffon, C2C3 | BZ21: Michel, TPS PS | CA21: Michel, TPS PS | CB21: Daurat, CM1-CM2 | CC21: Buffon, PS | CD21: Buffon, PS | CE21: Buffon, CM1-CM2 | CF21: Buffon, CM1-CM2 | CG21: Veil, CM1-CM2 | CH21: Buffon, PS | CI21: Dottin, CE2 | CJ21: Hugo, CP CE1 | CK21: Dauriac, CE2 | CL21: Dauriac CE2 | CM21: Dauriac CE2 | CN21: Buffon, CM1-CM2 | CO21: Michel, TPS PS | CP21: Daurat, CM1-CM2 | CQ21: Daurat, CM1-CM2 | CR21: Daurat, CM1-CM2 | CS21: Papus, CM1 CM2 | CT21: Bastide, CP | CU21: Falcucci, GS | CW21: Triolet, CE1 | CX21: BRIGADE | CZ21: Héritier,CM1-CM2 | DA21: Héritier,CM1-CM2 | DB21: Héritier,CM1-CM2 | DG21: Hugo, CM1 | DH21: Hugo, CM1 | DI21: Lalande, CE2 | DJ21: Lalande, CE2 | DL21: Veil, CM1-CM2 | DM21: Lalande, CP | DN21: Bastide, CP | DO21: Bastide, CP | DP21: Falcucci, GS | DQ21: Falcucci, GS | DT21: Renan, CE1 | DU21: Billières, PS MS | DV21: Buffon, C2C3 | DW21: Daurat, CM1-CM2 | DX21: Veil, CM1-CM2 | DY21: Buffon, PS | DZ21: Dottin, CE2 | EB21: Hugo, CP CE1 | ED21: Ronsard, PS MS | EE21: Ronsard, PS MS | EF21: Renan, CM2 | EG21: Billières, CE1 | EH21: Billières, CE1 | EI21: Buffon, CE1 | EJ21: Buffon, CE1 | EK21: Renan, CE1 | EL21: Renan, CE1 | EN21: Dauriac, CE2 | EO21: Veil, CE1-CE2 | EP21: Renan, CP | EQ21: Michel, TPS PS | ER21: Papus, CM1 CM2 | ES21: Bastide, CP | ET21: Buffon, PS MS | EU21: Buffon, PS MS | EV21: Papus, PS | EW21: Papus, PS | EX21: Falcucci, GS | EY21: Monnet, GS CO | EZ21: Monnet, GS CO | FA21: Monnet, PS MS | FB21: Monnet, PS MS | FE21: Triolet, CP | FF21: Triolet, CP | FG21: Triolet, CE1 | FH21: Bastide, MS GS | FI21: Bastide, MS GS | FJ21: BRIGADE | FK21: Lalande, CP | FM21: Renan, CE1 | FN21: Billières, PS MS | FO21: Buffon, C2C3 | FP21: Daurat, CM1-CM2 | FQ21: Veil, CM1-CM2 | FR21: Buffon, PS | FS21: Dottin, CE2 | FT21: Papus, CE2 | FV21: Dauriac CE1 | FW21: Dauriac CE1 | FX21: Hugo, CP CE1 | FY21: Dauriac, CE2 | FZ21: Michel, TPS PS | GA21: Papus, CM1 CM2 | GB21: Bastide, CP | GC21: Falcucci, GS | GD21: Triolet, CE1 | GF21: Buffon, CE1 | GG21: Billières, CE1 | GH21: Triolet, CP | GI21: BRIGADE | GJ21: Lalande, CP | GK21: Ronsard, PS MS | GL21: Renan, CE1 | GM21: Triolet, CE2 | GN21: Billières, PS MS | GO21: Monnet, GS CO | GP21: Buffon, C2C3 | GQ21: Daurat, CM1-CM2 | GR21: Veil, CM1-CM2 | GS21: Buffon, PS | GT21: Lalande, CE1 | GV21: Lalande, CE2 | GX21: Dottin, CE2 | GY21: Hugo, CP CE1 | GZ21: Dauriac, CE2 | HA21: Michel, TPS PS | HB21: Renan, CP | HC21: Papus, CM1 CM2 | HD21: Bastide, CP | HE21: Faucher, PS-MS | HF21: Faucher, PS-MS | HG21: Falcucci, GS | HH21: Triolet, CE1 | HI21: BRIGADE | HJ21: Bastide, MS GS | HK21: Billières, PS MS | HL21: Lalande, CP | HM21: Renan, CE1 | HN21: Monnet, PS MS | HO21: Veil, CM1-CM2 | HP21: Papus, PS | HQ21: Buffon, PS | HS21: Ronsard, PS MS | HT21: Dottin, CE2 | HU21: Hugo, CP CE1 | HV21: Bastide | HW21: Dauriac, CE2 | HX21: Buffon, TPS | HY21: Michel, TPS PS | HZ21: Buffon, C2C3 | IA21: Daurat, CM1-CM2 | IB21: Papus, CM1 CM2 | IC21: Bastide, CP | ID21: Falcucci, GS | IE21: Triolet, CE1 | IF21: BRIGADE | IG21: Lalande, CP | IH21: Renan, CE1 | II21: Billières, PS MS | IJ21: Buffon, C2C3 | IK21: Daurat, CM1-CM2 | IL21: Veil, CM1-CM2 | IM21: Buffon, PS | IQ21: Dottin, CE2 | IR21: Hugo, CP CE1 | IS21: Buffon, PS MS | IT21: Dauriac, CE2 | IU21: Michel, TPS PS | IV21: Papus, CM1 CM2 | IW21: Bastide, CP | IX21: Falcucci, GS | IY21: Triolet, CE1 | IZ21: BRIGADE | JA21: Lalande, CP | JB21: Renan, CE1 | JC21: Billières, PS MS | JD21: Buffon, C2C3 | JE21: Daurat, CM1-CM2 | JF21: Veil, CM1-CM2 | JG21: Buffon, PS | JH21: Dottin, CE2 | JI21: Hugo, CP CE1 | JJ21: Dauriac, CE2 | JK21: Michel, TPS PS | JL21: Papus, CM1 CM2 | JM21: Bastide, CP | JN21: Falcucci, GS | JO21: Triolet, CE1 | JP21: BRIGADE | JQ21: Lalande, CP | JR21: Renan, CE1 | JS21: Billières, PS MS | JT21: Buffon, C2C3 | JV21: Daurat, CM1-CM2 | JW21: Veil, CM1-CM2 | JX21: Buffon, PS | JY21: Dottin, CE2 | JZ21: Hugo, CP CE1 | KA21: Dauriac, CE2 | KB21: Michel, TPS PS | KC21: Papus, CM1 CM2 | KD21: Bastide, CP | KE21: Falcucci, GS | KF21: Triolet, CE1 | KG21: BRIGADE | KH21: Lalande, CP | KI21: Renan, CE1 | KJ21: Billières, PS MS | KK21: Buffon, C2C3 | KL21: Daurat, CM1-CM2 | KM21: Veil, CM1-CM2 | KN21: Buffon, PS | KO21: Dottin, CE2 | KP21: Hugo, CP CE1 | KQ21: Dauriac, CE2 | KR21: Michel, TPS PS | KS21: Papus, CM1 CM2 | KT21: Bastide, CP | KU21: Falcucci, GS | KV21: Triolet, CE1 | KW21: BRIGADE | KX21: Lalande, CP | KY21: Renan, CE1 | KZ21: Billières, PS MS | LA21: Buffon, C2C3 | LB21: Daurat, CM1-CM2 | LC21: Veil, CM1-CM2 | LD21: Buffon, PS | LE21: Dottin, CE2 | LG21: Hugo, CP CE1 | LH21: Dauriac, CE2 | LI21: Michel, TPS PS | LJ21: Papus, CM1 CM2 | LK21: Bastide, CP | LL21: Falcucci, GS | LM21: Triolet, CE1
A22: R | D22: Formation Brigade | E22: Formation Brigade | F22: Pondération brigade 1 | G22: Pondération brigade 1 | H22: Papus, CE1 | I22: Formation Brigade | J22: Formation Brigade | K22: Formation Brigade | L22: Formation Brigade | M22: Dottin, CP CE1 | N22: Renan, ULIS | O22: Lalande, CM1 | P22: Billières, CE2 | Q22: Buffon, CE2 | T22: Hugo, PS MS | U22: Pagnol, CE1 | V22: Hugo, CE1 | W22: Dauriac, CM1 CM2 | X22: Gassman M. Dauriac CP | Y22: Gassman M. Dauriac CP | Z22: Ronsard, CP | AA22: Hugo, CE1 | AB22: Dieuzaide | AC22: Bastide, MS GS | AD22: Buffon, GS | AE22: Veil, TPS PS | AF22: Pondération brigade 1 | AG22: Ronsard, CP | AH22: Ronsard, CP | AI22: Ronsard, CP | AJ22: Dottin, CP CE1 | AK22: Dottin, CP CE1 | AL22: Dottin, CP CE1 | AM22: Papus, CE1 | AN22: Lalande, CM1 | AO22: Renan, ULIS | AS22: Billières, CE2 | AV22: Buffon, CE2 | AW22: Pagnol, CE1 | AX22: Lalande, CM1 | AY22: Lalande, CM1 | AZ22: Veil, TPS PS | BA22: Buffon, GS | BB22: Dottin, CP CE1 | BC22: Hugo, CE1 | BD22: Dauriac, CM1 CM2 | BE22: Bastide, MS GS | BF22: Dieuzaide | BG22: Hugo, PS MS | BH22: Hugo, PS MS | BK22: Hugo, PS MS | BN22: Ronsard, CP | BO22: BRIGADE | BQ22: Billières, CM1 | BR22: Billières, CM1 | BS22: Papus, CE1 | BT22: Papus, CE1 | BU22: Lalande, CM1 | BV22: Renan, ULIS | BW22: Billières, CE2 | BX22: Billières, CM1 | BY22: Buffon, CE2 | BZ22: Hugo, PS MS | CA22: Hugo, PS MS | CB22: Pagnol, CE1 | CC22: Veil, TPS PS | CD22: Veil, TPS PS | CE22: Buffon, ULIS | CF22: Buffon, ULIS | CG22: Veil, TPS PS | CH22: Buffon, GS | CI22: Dottin, CP CE1 | CJ22: Hugo, CE1 | CK22: Dauriac, CM1 CM2 | CL22: Dauriac CM1 CM2 | CM22: Dauriac CM1 CM2 | CN22: Buffon, ULIS | CO22: Bastide, MS GS | CP22: Lalande, CM1 | CQ22: Lalande, CM1 | CR22: Lalande, CM1 | CS22: Papus, CM1 CM2 | CT22: Hugo, PS MS | CU22: Dieuzaide | CW22: Ronsard, CP | CX22: BRIGADE | CZ22: Buffon, CE2 | DA22: Buffon, CE2 | DB22: Buffon, CE2 | DG22: Renan, ULIS | DH22: Renan, ULIS | DI22: Lalande, ulis | DJ22: Lalande, ulis | DL22: Dauriac CM1 CM2 | DM22: Lalande, CM1 | DN22: Daurat, CM1-CM2 | DO22: Daurat, CM1-CM2 | DT22: Renan, ULIS | DU22: Billières, CE2 | DV22: Buffon, CE2 | DW22: Pagnol, CE1 | DX22: Veil, TPS PS | DY22: Buffon, GS | DZ22: Dottin, CP CE1 | EB22: Hugo, CE1 | EC22: Hugo, PS MS | ED22: Ronsard, MS GS | EE22: Ronsard, MS GS | EF22: Renan, CM2 | EG22: Billières, CE1 CE2 | EH22: Billières, CE1 CE2 | EI22: Buffon, CE1 | EJ22: Buffon, CE1 | EK22: Renan, CE1 | EL22: Renan, CE1 | EN22: Dauriac, CM1 CM2 | EO22: Veil, CE1-CE2 | EP22: Renan, CE1 CO | EQ22: Bastide, MS GS | ER22: Papus, CM1 CM2 | ES22: Hugo, PS MS | ET22: Buffon, PS MS | EU22: Buffon, PS MS | EV22: Papus, PS MS | EW22: Papus, PS MS | EX22: Dieuzaide | EY22: Monnet, GS CO | EZ22: Monnet, GS CO | FA22: Monnet, PS MS | FB22: Monnet, PS MS | FE22: Triolet, CP-CE1 | FF22: Triolet, CP-CE1 | FG22: Ronsard, CP | FH22: Bastide, GS | FI22: Bastide, GS | FJ22: BRIGADE | FK22: Lalande, CM1 | FM22: Renan, ULIS | FN22: Billières, CE2 | FO22: Buffon, CE2 | FP22: Pagnol, CE1 | FQ22: Veil, TPS PS | FR22: Buffon, GS | FS22: Dottin, CP CE1 | FT22: Papus, CE2 | FU22: Papus, CE1 | FV22: Dauriac CE1 | FW22: Dauriac CE1 | FX22: Hugo, CE1 | FY22: Dauriac, CM1 CM2 | FZ22: Bastide, MS GS | GA22: Papus, CM1 CM2 | GB22: Hugo, PS MS | GC22: Dieuzaide | GD22: Ronsard, CP | GF22: Buffon, CE1 | GG22: Billières, CE1 CE2 | GH22: Triolet, CP-CE1 | GI22: BRIGADE | GJ22: Lalande, CM1 | GK22: Ronsard, MS GS | GL22: Renan, ULIS | GM22: Triolet, CM1 | GN22: Billières, CE2 | GO22: Monnet, GS CO | GP22: Buffon, CE2 | GQ22: Pagnol, CE1 | GR22: Veil, TPS PS | GS22: Buffon, GS | GV22: Lalande, Ulis | GX22: Dottin, CP CE1 | GY22: Hugo, CE1 | GZ22: Dauriac, CM1 CM2 | HA22: Bastide, MS GS | HB22: Renan, CE1 CO | HC22: Papus, CM1 CM2 | HD22: Hugo, PS MS | HE22: Faucher, MS-GS | HF22: Faucher, MS-GS | HG22: Dieuzaide | HH22: Ronsard, CP | HI22: BRIGADE | HJ22: Bastide, GS MS | HK22: Billières, CE2 | HL22: Lalande, CM1 | HM22: Renan, ULIS | HN22: Monnet, PS MS | HO22: Veil, TPS PS | HP22: Papus, PS MS | HQ22: Buffon, GS | HS22: Michel, TPS PS | HT22: Dottin, CP CE1 | HU22: Hugo, CE1 | HV22: Bastide | HW22: Dauriac, CM1 CM2 | HX22: Buffon, PS | HY22: Bastide, MS GS | HZ22: Buffon, CE2 | IA22: Pagnol, CE1 | IB22: Papus, CM1 CM2 | IC22: Hugo, PS MS | ID22: Dieuzaide | IE22: Ronsard, CP | IF22: BRIGADE | IG22: Lalande, CM1 | IH22: Renan, ULIS | II22: Billières, CE2 | IJ22: Buffon, CE2 | IK22: Pagnol, CE1 | IL22: Veil, TPS PS | IM22: Buffon, GS | IQ22: Dottin, CP CE1 | IR22: Hugo, CE1 | IS22: Buffon, PS MS | IT22: Dauriac, CM1 CM2 | IU22: Bastide, MS GS | IV22: Papus, CM1 CM2 | IW22: Hugo, PS MS | IX22: Dieuzaide | IY22: Ronsard, CP | IZ22: BRIGADE | JA22: Lalande, CM1 | JB22: Renan, ULIS | JC22: Billières, CE2 | JD22: Buffon, CE2 | JE22: Pagnol, CE1 | JF22: Veil, TPS PS | JG22: Buffon, GS | JH22: Dottin, CP CE1 | JI22: Hugo, CE1 | JJ22: Dauriac, CM1 CM2 | JK22: Bastide, MS GS | JL22: Papus, CM1 CM2 | JM22: Hugo, PS MS | JN22: Dieuzaide | JO22: Ronsard, CP | JP22: BRIGADE | JQ22: Lalande, CM1 | JR22: Renan, ULIS | JS22: Billières, CE2 | JT22: Buffon, CE2 | JV22: Pagnol, CE1 | JW22: Veil, TPS PS | JX22: Buffon, GS | JY22: Dottin, CP CE1 | JZ22: Hugo, CE1 | KA22: Dauriac, CM1 CM2 | KB22: Bastide, MS GS | KC22: Papus, CM1 CM2 | KD22: Hugo, PS MS | KE22: Dieuzaide | KF22: Ronsard, CP | KG22: BRIGADE | KH22: Lalande, CM1 | KI22: Renan, ULIS | KJ22: Billières, CE2 | KK22: Buffon, CE2 | KL22: Pagnol, CE1 | KM22: Veil, TPS PS | KN22: Buffon, GS | KO22: Dottin, CP CE1 | KP22: Hugo, CE1 | KQ22: Dauriac, CM1 CM2 | KR22: Bastide, MS GS | KS22: Papus, CM1 CM2 | KT22: Hugo, PS MS | KU22: Dieuzaide | KV22: Ronsard, CP | KW22: BRIGADE | KX22: Lalande, CM1 | KY22: Renan, ULIS | KZ22: Billières, CE2 | LA22: Buffon, CE2 | LB22: Pagnol, CE1 | LC22: Veil, TPS PS | LD22: Buffon, GS | LE22: Dottin, CP CE1 | LG22: Hugo, CE1 | LH22: Dauriac, CM1 CM2 | LI22: Bastide, MS GS | LJ22: Papus, CM1 CM2 | LK22: Hugo, PS MS | LL22: Dieuzaide | LM22: Ronsard, CP
A23: S | D23: Formation Brigade | E23: Formation Brigade | F23: Pondération brigade 1 | G23: Pondération brigade 1 | H23: Papus, CE1 | I23: Formation Brigade | J23: Formation Brigade | K23: Formation Brigade | L23: Formation Brigade | M23: Claudel, GS | N23: Renan, CM2 | O23: Lalande, CE1 CO | P23: Billières, GS | Q23: Buffon, CM1-CM2 | T23: Hugo, C1 | U23: Daurat, CE1 | V23: Hugo, CE1 | W23: Dauriac, CE1 | X23: BRAHITI F. Renan Ulis | Y23: BRAHITI F. Renan Ulis | Z23: Héritier CM1 | AA23: Hugo, CE1 | AB23: Falcucci, CM1 CM2 | AC23: Hyon, MS | AD23: Ronsard, MS GS | AE23: Veil, CE1-CE2 | AF23: Pondération brigade 1 | AG23: Falcucci, CM1 CM2 | AH23: Falcucci, CM1 CM2 | AI23: Falcucci, CM1 CM2 | AJ23: Dottin, CE2 | AK23: Dottin, CE2 | AL23: Dottin, CE2 | AM23: Papus, CE1 | AN23: Lalande, CE1 CO | AO23: Renan, CM2 | AS23: Billières, GS | AT23: Hugo, CM2 | AU23: Hugo, CM2 | AV23: Buffon, CM1-CM2 | AW23: Daurat, CE1 | AZ23: Veil, CE1-CE2 | BA23: Ronsard, MS GS | BB23: Claudel, GS | BC23: Hugo, CE1 | BD23: Dauriac, CE1 | BE23: Hyon, MS | BF23: Falcucci, CM1 CM2 | BI23: Dauriac, MS | BJ23: Dauriac, MS | BK23: Hugo, C1 | BL23: Bastide, CM1 CM2 | BM23: Bastide, CM1 CM2 | BN23: Héritier CM1 | BO23: BRIGADE | BQ23: Billières,CM1 CM2 | BR23: Billières,CM1 CM2 | BS23: Papus, CE1 | BT23: Papus, CE1 | BU23: Lalande, CE1 CO | BV23: Renan, CM2 | BW23: Billières, GS | BX23: Billières,CM1 CM2 | BY23: Buffon, CM1-CM2 | BZ23: Hyon, MS | CA23: Hyon, MS | CB23: Daurat, CE1 | CG23: Veil, CE1-CE2 | CH23: Ronsard, MS GS | CI23: Claudel, GS | CJ23: Hugo, CE1 | CK23: Dauriac, CE1 | CL23: Veil, CE1-CE2 | CM23: Veil, CE1-CE2 | CO23: Hyon, MS | CP23: Billières, CM1 CM2 | CQ23: Billières, CM1 CM2 | CR23: Billières, CM1 CM2 | CS23: Papus, CP | CT23: Hugo, C1 | CU23: Falcucci, CM1 CM2 | CW23: Héritier CM1 | CX23: BRIGADE | CZ23: Buffon, CM1-CM2 | DA23: Buffon, CM1-CM2 | DB23: Buffon, CM1-CM2 | DG23: Renan, CM2 | DH23: Renan, CM2 | DI23: Lalande, CP | DJ23: Lalande, CP | DL23: Veil, CE1-CE2 | DM23: Lalande, CE1 CO | DN23: Daurat CE1 | DO23: Daurat CE1 | DT23: Renan, CM2 | DU23: Billières, GS | DV23: Buffon, CM1-CM2 | DW23: Daurat, CE1 | DX23: Veil, CE1-CE2 | DY23: Ronsard, MS GS | DZ23: Claudel, GS | EB23: Hugo, CE1 | ED23: Ronsard, MS GS | EE23: Ronsard, MS GS | EG23: Pagnol, CP | EH23: Pagnol, CP | EN23: Dauriac, CE1 | EO23: Veil, CE1-CE2 | EQ23: Hyon, MS | ER23: Papus, CP | ES23: Hugo, C1 | ET23: Buffon, PS MS | EU23: Buffon, PS MS | EV23: Papus, MS | EW23: Papus, MS | EX23: Falcucci, CM1 CM2 | EY23: Monnet, GS CO | EZ23: Monnet, GS CO | FA23: Monnet, PS MS | FB23: Monnet, PS MS | FE23: Triolet, CE1 | FF23: Triolet, CE1 | FG23: Héritier CM1 | FH23: Claudel, GS | FI23: Claudel, GS | FJ23: BRIGADE | FK23: Lalande, CE1 CO | FM23: Renan, CM2 | FN23: Billières, GS | FO23: Buffon, CM1-CM2 | FP23: Daurat, CE1 | FQ23: Veil, CE1-CE2 | FR23: Ronsard, MS GS | FS23: Claudel, GS | FT23: Papus, CE2 | FU23: Papus, CE1 | FV23: Dauriac CE1 | FW23: Dauriac CE1 | FX23: Hugo, CE1 | FY23: Dauriac, CE1 | FZ23: Hyon, MS | GA23: Papus, CP | GB23: Hugo, C1 | GC23: Falcucci, CM1 CM2 | GD23: Héritier CM1 | GG23: Pagnol, CP | GH23: Triolet, CE1 | GI23: BRIGADE | GJ23: Lalande, CE1 CO | GK23: Ronsard, MS GS | GL23: Renan, CM2 | GM23: Triolet, CM2 | GN23: Billières, GS | GO23: Monnet, GS CO | GP23: Buffon, CM1-CM2 | GQ23: Daurat, CE1 | GR23: Veil, CE1-CE2 | GS23: Ronsard, MS GS | GV23: Faucher | GX23: Claudel, GS | GY23: Hugo, CE1 | GZ23: Dauriac, CE1 | HA23: Hyon, MS | HB23: Hugo Ulis | HC23: Papus, CP | HD23: Hugo, C1 | HE23: Faucher, GS | HF23: Faucher, GS | HG23: Falcucci, CM1 CM2 | HH23: Héritier CM1 | HI23: BRIGADE | HJ23: Claudel, GS | HK23: Billières, GS | HL23: Lalande, CE1 CO | HM23: Renan, CM2 | HN23: Monnet, PS MS | HO23: Veil, CE1-CE2 | HP23: Papus, MS | HQ23: Ronsard, MS GS | HS23: Michel, PS MS | HT23: Claudel, GS | HU23: Hugo, CE1 | HV23: Bastide | HW23: Dauriac, CE1 | HX23: Buffon, PS | HY23: Hyon, MS | HZ23: Buffon, CM1-CM2 | IA23: Daurat, CE1 | IB23: Papus, CP | IC23: Hugo, C1 | ID23: Falcucci, CM1 CM2 | IE23: Héritier CM1 | IF23: BRIGADE | IG23: Lalande, CE1 CO | IH23: Renan, CM2 | II23: Billières, GS | IJ23: Buffon, CM1-CM2 | IK23: Daurat, CE1 | IL23: Veil, CE1-CE2 | IM23: Ronsard, MS GS | IQ23: Claudel, GS | IR23: Hugo, CE1 | IS23: Buffon, PS MS | IT23: Dauriac, CE1 | IU23: Hyon, MS | IV23: Papus, CP | IW23: Hugo, C1 | IX23: Falcucci, CM1 CM2 | IY23: Héritier CM1 | IZ23: BRIGADE | JA23: Lalande, CE1 CO | JB23: Renan, CM2 | JC23: Billières, GS | JD23: Buffon, CM1-CM2 | JE23: Daurat, CE1 | JF23: Veil, CE1-CE2 | JG23: Ronsard, MS GS | JH23: Claudel, GS | JI23: Hugo, CE1 | JJ23: Dauriac, CE1 | JK23: Hyon, MS | JL23: Papus, CP | JM23: Hugo, C1 | JN23: Falcucci, CM1 CM2 | JO23: Héritier CM1 | JP23: BRIGADE | JQ23: Lalande, CE1 CO | JR23: Renan, CM2 | JS23: Billières, GS | JT23: Buffon, CM1-CM2 | JV23: Daurat, CE1 | JW23: Veil, CE1-CE2 | JX23: Ronsard, MS GS | JY23: Claudel, GS | JZ23: Hugo, CE1 | KA23: Dauriac, CE1 | KB23: Hyon, MS | KC23: Papus, CP | KD23: Hugo, C1 | KE23: Falcucci, CM1 CM2 | KF23: Héritier CM1 | KG23: BRIGADE | KH23: Lalande, CE1 CO | KI23: Renan, CM2 | KJ23: Billières, GS | KK23: Buffon, CM1-CM2 | KL23: Daurat, CE1 | KM23: Veil, CE1-CE2 | KN23: Ronsard, MS GS | KO23: Claudel, GS | KP23: Hugo, CE1 | KQ23: Dauriac, CE1 | KR23: Hyon, MS | KS23: Papus, CP | KT23: Hugo, C1 | KU23: Falcucci, CM1 CM2 | KV23: Héritier CM1 | KW23: BRIGADE | KX23: Lalande, CE1 CO | KY23: Renan, CM2 | KZ23: Billières, GS | LA23: Buffon, CM1-CM2 | LB23: Daurat, CE1 | LC23: Veil, CE1-CE2 | LD23: Ronsard, MS GS | LE23: Claudel, GS | LG23: Hugo, CE1 | LH23: Dauriac, CE1 | LI23: Hyon, MS | LJ23: Papus, CP | LK23: Hugo, C1 | LL23: Falcucci, CM1 CM2 | LM23: Héritier CM1
A24: T | D24: Formation Brigade | E24: Formation Brigade | F24: Pondération brigade 1 | G24: Pondération brigade 1 | H24: Papus, C2C3 | I24: Formation Brigade | J24: Formation Brigade | K24: Formation Brigade | L24: Formation Brigade | M24: Pinhous, TPS PS | N24: Renan, PS | O24: Triolet, TPS PS | P24: Billières, GS | Q24: Buffon, CM1-CM2 | T24: Hugo, TPS PS | U24: Pagnol, CM1 | V24: Papus, GS | W24: Dauriac, CP | X24: ARRIVEE J. Lalande Ulis | Y24: ARRIVEE J. Lalande Ulis | Z24: Héritier,CM1-CM2 | AA24: Renan | AB24: Falcucci, CE2 | AC24: Hyon, CM2 | AD24: Buffon, PS | AE24: Dauriac, TPS PS | AF24: Pondération brigade 1 | AG24: Falcucci, CE2 | AH24: Falcucci, CE2 | AI24: Falcucci, CE2 | AJ24: Hyon, CM2 | AK24: Hyon, CM2 | AL24: Hyon, CM2 | AM24: Papus, C2C3 | AN24: Triolet, TPS PS | AO24: Renan, PS | AQ24: Triolet, TPS PS | AR24: Triolet, TPS PS | AS24: Billières, GS | AT24: Hugo, CE2 | AU24: Hugo, CE2 | AV24: Buffon, CM1-CM2 | AW24: Pagnol, CM1 | AX24: Pagnol, CM1 CM2 | AY24: Pagnol, CM1 CM2 | AZ24: Dauriac, TPS PS | BA24: Buffon, PS | BB24: Pinhous, TPS PS | BC24: Papus, GS | BD24: Dauriac, CP | BE24: Hyon, CM2 | BF24: Falcucci, CE2 | BG24: Hugo, TPS PS | BH24: Hugo, TPS PS | BI24: Pinhous, TPS PS | BJ24: Pinhous, TPS PS | BK24: Hugo, TPS PS | BL24: Pagnol, CM1 | BM24: Pagnol, CM1 | BN24: Héritier,CM1-CM2 | BO24: BRIGADE | BQ24: Billières, CP | BR24: Billières, CP | BS24: Papus, CP | BT24: Papus, CP | BU24: Triolet, TPS PS | BV24: Renan, PS | BW24: Billières, GS | BX24: Billières, CP | BY24: Buffon, CM1-CM2 | BZ24: Hugo, TPS PS | CA24: Hugo, TPS PS | CB24: Pagnol, CM1 | CC24: Buffon, PS | CD24: Buffon, PS | CE24: Buffon | CF24: Buffon | CG24: Dauriac, TPS PS | CH24: Buffon, PS | CI24: Pinhous, TPS PS | CJ24: Papus, GS | CK24: Dauriac, CP | CL24: Dauriac CP | CM24: Dauriac CP | CN24: Buffon | CO24: Hyon, CM2 | CP24: Hyon, CM2 | CQ24: Hyon, CM2 | CR24: Hyon, CM2 | CS24: Papus, CE2 | CT24: Hugo, TPS PS | CU24: Falcucci, CE2 | CW24: Héritier,CM1-CM2 | CX24: BRIGADE | CZ24: Falcucci, CE2 | DA24: Falcucci, CE2 | DB24: Falcucci, CE2 | DE24: Dauriac, TPS PS | DG24: Papus, CE2 | DH24: Papus, CE2 | DI24: Lalande, CP | DJ24: Lalande, CP | DL24: Dauriac CP | DM24: Triolet, TPS PS | DN24: Daurat CE1 CE2 | DO24: Daurat CE1 CE2 | DP24: Triolet, TPS PS | DQ24: Triolet, TPS PS | DT24: Renan, PS | DU24: Billières, GS | DV24: Buffon, CM1-CM2 | DW24: Pagnol, CM1 | DX24: Dauriac, TPS PS | DY24: Buffon, PS | DZ24: Pinhous, TPS PS | EB24: Papus, GS | EC24: Hugo, TPS PS | ED24: Ronsard, GS | EE24: Ronsard, GS | EG24: Pagnol, CP CE1 | EH24: Pagnol, CP CE1 | EN24: Dauriac, CP | EO24: Veil, CE1-CE2 | EQ24: Hyon, CM2 | ER24: Papus, CE2 | ES24: Hugo, TPS PS | ET24: Buffon, PS MS | EU24: Buffon, PS MS | EV24: Papus, MS GS | EW24: Papus, MS GS | EX24: Falcucci, CE2 | EY24: Monnet EMPu | EZ24: Monnet EMPu | FA24: Monnet, PS MS | FB24: Monnet, PS MS | FE24: Triolet, CE1 | FF24: Triolet, CE1 | FG24: Héritier,CM1-CM2 | FH24: Claudel, GS | FI24: Claudel, GS | FJ24: BRIGADE | FK24: Triolet, TPS PS | FM24: Renan, PS | FN24: Billières, GS | FO24: Buffon, CM1-CM2 | FP24: Pagnol, CM1 | FQ24: Dauriac, TPS PS | FR24: Buffon, PS | FS24: Pinhous, TPS PS | FT24: Papus, CM1 CM2 | FU24: Papus, CP | FV24: Dauriac CE2 | FW24: Dauriac CE2 | FX24: Papus, GS | FY24: Dauriac, CP | FZ24: Hyon, CM2 | GA24: Papus, CE2 | GB24: Hugo, TPS PS | GC24: Falcucci, CE2 | GD24: Héritier,CM1-CM2 | GG24: Pagnol, CP CE1 | GH24: Triolet, CE1 | GI24: BRIGADE | GJ24: Triolet, TPS PS | GK24: Ronsard, GS | GL24: Renan, PS | GM24: Triolet, CM2 | GN24: Billières, GS | GO24: Monnet EMPu | GP24: Buffon, CM1-CM2 | GQ24: Pagnol, CM1 | GR24: Dauriac, TPS PS | GS24: Buffon, PS | GV24: Faucher | GX24: Pinhous, TPS PS | GY24: Papus, GS | GZ24: Dauriac, CP | HA24: Hyon, CM2 | HC24: Papus, CE2 | HD24: Hugo, TPS PS | HE24: Faucher, GS | HF24: Faucher, GS | HG24: Falcucci, CE2 | HH24: Héritier,CM1-CM2 | HI24: BRIGADE | HJ24: Claudel, GS | HK24: Billières, GS | HL24: Triolet, TPS PS | HM24: Renan, PS | HN24: Monnet, PS MS | HO24: Dauriac, TPS PS | HP24: Papus, MS GS | HQ24: Buffon, PS | HS24: Renan, PS | HT24: Pinhous, TPS PS | HU24: Papus, GS | HV24: Bastide | HW24: Dauriac, CP | HX24: Buffon, PS MS | HY24: Hyon, CM2 | HZ24: Buffon, CM1-CM2 | IA24: Pagnol, CM1 | IB24: Papus, CE2 | IC24: Hugo, TPS PS | ID24: Falcucci, CE2 | IE24: Héritier,CM1-CM2 | IF24: BRIGADE | IG24: Triolet, TPS PS | IH24: Renan, PS | II24: Billières, GS | IJ24: Buffon, CM1-CM2 | IK24: Pagnol, CM1 | IL24: Dauriac, TPS PS | IM24: Buffon, PS | IQ24: Pinhous, TPS PS | IR24: Papus, GS | IS24: Buffon, PS MS | IT24: Dauriac, CP | IU24: Hyon, CM2 | IV24: Papus, CE2 | IW24: Hugo, TPS PS | IX24: Falcucci, CE2 | IY24: Héritier,CM1-CM2 | IZ24: BRIGADE | JA24: Triolet, TPS PS | JB24: Renan, PS | JC24: Billières, GS | JD24: Buffon, CM1-CM2 | JE24: Pagnol, CM1 | JF24: Dauriac, TPS PS | JG24: Buffon, PS | JH24: Pinhous, TPS PS | JI24: Papus, GS | JJ24: Dauriac, CP | JK24: Hyon, CM2 | JL24: Papus, CE2 | JM24: Hugo, TPS PS | JN24: Falcucci, CE2 | JO24: Héritier,CM1-CM2 | JP24: BRIGADE | JQ24: Triolet, TPS PS | JR24: Renan, PS | JS24: Billières, GS | JT24: Buffon, CM1-CM2 | JV24: Pagnol, CM1 | JW24: Dauriac, TPS PS | JX24: Buffon, PS | JY24: Pinhous, TPS PS | JZ24: Papus, GS | KA24: Dauriac, CP | KB24: Hyon, CM2 | KC24: Papus, CE2 | KD24: Hugo, TPS PS | KE24: Falcucci, CE2 | KF24: Héritier,CM1-CM2 | KG24: BRIGADE | KH24: Triolet, TPS PS | KI24: Renan, PS | KJ24: Billières, GS | KK24: Buffon, CM1-CM2 | KL24: Pagnol, CM1 | KM24: Dauriac, TPS PS | KN24: Buffon, PS | KO24: Pinhous, TPS PS | KP24: Papus, GS | KQ24: Dauriac, CP | KR24: Hyon, CM2 | KS24: Papus, CE2 | KT24: Hugo, TPS PS | KU24: Falcucci, CE2 | KV24: Héritier,CM1-CM2 | KW24: BRIGADE | KX24: Triolet, TPS PS | KY24: Renan, PS | KZ24: Billières, GS | LA24: Buffon, CM1-CM2 | LB24: Pagnol, CM1 | LC24: Dauriac, TPS PS | LD24: Buffon, PS | LE24: Pinhous, TPS PS | LG24: Papus, GS | LH24: Dauriac, CP | LI24: Hyon, CM2 | LJ24: Papus, CE2 | LK24: Hugo, TPS PS | LL24: Falcucci, CE2 | LM24: Héritier,CM1-CM2
A25: V | D25: Formation Brigade | E25: Formation Brigade | F25: Pondération brigade 1 | G25: Pondération brigade 1 | H25: Papus, CM1 CM2 | I25: Formation Brigade | J25: Formation Brigade | K25: Formation Brigade | L25: Formation Brigade | M25: Dottin, CE2 | N25: Renan, CE2 | O25: Lalande, CE1 CO | P25: Billières, GS | Q25: Buffon, ULIS | T25: Bastide, CM1 CM2 | U25: Daurat, CM1-CM2 | V25: Hugo, CE1 | W25: Dauriac, CE1 | X25: Suisse Juliette GS à Simone Veil | Y25: Suisse Juliette GS à Simone Veil | Z25: Ronsard, CE1 | AA25: Hugo, CE1 | AB25: Falcucci, CP | AC25: Hyon, CP | AD25: Ronsard, GS | AE25: Veil, CE1-CE2 | AF25: Pondération brigade 1 | AG25: Falcucci, CP | AH25: Falcucci, CP | AI25: Falcucci, CP | AJ25: Hyon, CP | AK25: Hyon, CP | AL25: Hyon, CP | AM25: Papus, CM1 CM2 | AN25: Lalande, CE1 CO | AO25: Renan, CE2 | AS25: Billières, GS | AT25: Renan, CE2 | AU25: Renan, CE2 | AV25: Buffon, ULIS | AW25: Daurat, CM1-CM2 | AX25: Aurélie FLORENT Daurat CM1 | AY25: Aurélie FLORENT Daurat CM1 | AZ25: Veil, CE1-CE2 | BA25: Ronsard, GS | BB25: Dottin, CE2 | BC25: Hugo, CE1 | BD25: Dauriac, CE1 | BE25: Hyon, CP | BF25: Falcucci, CP | BG25: Hugo, MS | BH25: Hugo, MS | BK25: Bastide, CM1 CM2 | BL25: Dottin, CE2 | BM25: Dottin, CE2 | BN25: Ronsard, CE1 | BO25: BRIGADE | BQ25: Billières, CE2 | BR25: Billières, CE2 | BS25: Papus, CM1 CM2 | BT25: Papus, CM1 CM2 | BU25: Lalande, CE1 CO | BV25: Renan, CE2 | BW25: Billières, GS | BX25: Billières, CE2 | BY25: Buffon, ULIS | CB25: Daurat, CM1-CM2 | CC25: Billières, PS MS | CD25: Billières, PS MS | CE25: Buffon | CF25: Buffon | CG25: Veil, CE1-CE2 | CH25: Ronsard, GS | CI25: Dottin, CE2 | CJ25: Hugo, CE1 | CK25: Dauriac, CE1 | CL25: Veil, CE1-CE2 | CM25: Veil, CE1-CE2 | CN25: Buffon | CO25: Hyon, CP | CP25: Daurat, CM1-CM2 | CQ25: Daurat, CM1-CM2 | CR25: Daurat, CM1-CM2 | CS25: Papus, CE2 | CT25: Bastide, CM1 CM2 | CU25: Falcucci, CP | CW25: Ronsard, CE1 | CX25: BRIGADE | CZ25: Buffon, ULIS | DA25: Buffon, ULIS | DB25: Buffon, ULIS | DG25: Papus, CM1 CM2 | DH25: Papus, CM1 CM2 | DL25: Veil, CE1-CE2 | DM25: Lalande, CE1 CO | DN25: Daurat, CM1-CM2 | DO25: Daurat, CM1-CM2 | DT25: Renan, CE2 | DU25: Billières, GS | DV25: Buffon, ULIS | DW25: Daurat, CM1-CM2 | DX25: Veil, CE1-CE2 | DY25: Ronsard, GS | DZ25: Dottin, CE2 | EB25: Hugo, CE1 | EC25: Hugo, MS | ED25: Tabar, PS MS | EE25: Tabar, PS MS | EG25: Pagnol, CE1 | EH25: Pagnol, CE1 | EN25: Dauriac, CE1 | EO25: Veil, CE1-CE2 | EP25: Renan, CE1 | EQ25: Hyon, CP | ER25: Papus, CE2 | ES25: Bastide, CM1 CM2 | ET25: Buffon, PS MS | EU25: Buffon, PS MS | EV25: Papus, GS | EW25: Papus, GS | EX25: Falcucci, CP | FA25: Bastide,TPS PS | FB25: Bastide,TPS PS | FE25: Daurat,CP | FF25: Daurat,CP | FG25: Ronsard, CE1 | FH25: Claudel, GS | FI25: Claudel, GS | FJ25: BRIGADE | FK25: Lalande, CE1 CO | FM25: Renan, CE2 | FN25: Billières, GS | FO25: Buffon, ULIS | FP25: Daurat, CM1-CM2 | FQ25: Veil, CE1-CE2 | FR25: Ronsard, GS | FS25: Dottin, CE2 | FT25: Papus, CM1 CM2 | FU25: Papus, CM1 CM2 | FV25: Dauriac CE2 | FW25: Dauriac CE2 | FX25: Hugo, CE1 | FY25: Dauriac, CE1 | FZ25: Hyon, CP | GA25: Papus, CE2 | GB25: Bastide, CM1 CM2 | GC25: Falcucci, CP | GD25: Ronsard, CE1 | GH25: Daurat,CP | GI25: BRIGADE | GJ25: Lalande, CE1 CO | GK25: Tabar, PS MS | GL25: Renan, CE2 | GM25: Pagnol, CE2 | GN25: Billières, GS | GO25: Dieuzaide, MS GS | GP25: Buffon, ULIS | GQ25: Daurat, CM1-CM2 | GR25: Veil, CE1-CE2 | GS25: Ronsard, GS | GV25: Faucher | GX25: Dottin, CE2 | GY25: Hugo, CE1 | GZ25: Dauriac, CE1 | HA25: Hyon, CP | HB25: Renan, CE1 | HC25: Papus, CE2 | HD25: Bastide, CM1 CM2 | HG25: Falcucci, CP | HH25: Ronsard, CE1 | HI25: BRIGADE | HJ25: Claudel, GS | HK25: Billières, GS | HL25: Lalande, CE1 CO | HM25: Renan, CE2 | HN25: Bastide,TPS PS | HO25: Veil, CE1-CE2 | HP25: Papus, GS | HQ25: Ronsard, GS | HS25: Renan, PS | HT25: Dottin, CE2 | HU25: Hugo, CE1 | HV25: Bastide | HW25: Dauriac, CE1 | HX25: Buffon, PS MS | HY25: Hyon, CP | HZ25: Buffon, ULIS | IA25: Daurat, CM1-CM2 | IB25: Papus, CE2 | IC25: Bastide, CM1 CM2 | ID25: Falcucci, CP | IE25: Ronsard, CE1 | IF25: BRIGADE | IG25: Lalande, CE1 CO | IH25: Renan, CE2 | II25: Billières, GS | IJ25: Buffon, ULIS | IK25: Daurat, CM1-CM2 | IL25: Veil, CE1-CE2 | IM25: Ronsard, GS | IQ25: Dottin, CE2 | IR25: Hugo, CE1 | IS25: Buffon, PS MS | IT25: Dauriac, CE1 | IU25: Hyon, CP | IV25: Papus, CE2 | IW25: Bastide, CM1 CM2 | IX25: Falcucci, CP | IY25: Ronsard, CE1 | IZ25: BRIGADE | JA25: Lalande, CE1 CO | JB25: Renan, CE2 | JC25: Billières, GS | JD25: Buffon, ULIS | JE25: Daurat, CM1-CM2 | JF25: Veil, CE1-CE2 | JG25: Ronsard, GS | JH25: Dottin, CE2 | JI25: Hugo, CE1 | JJ25: Dauriac, CE1 | JK25: Hyon, CP | JL25: Papus, CE2 | JM25: Bastide, CM1 CM2 | JN25: Falcucci, CP | JO25: Ronsard, CE1 | JP25: BRIGADE | JQ25: Lalande, CE1 CO | JR25: Renan, CE2 | JS25: Billières, GS | JT25: Buffon, ULIS | JV25: Daurat, CM1-CM2 | JW25: Veil, CE1-CE2 | JX25: Ronsard, GS | JY25: Dottin, CE2 | JZ25: Hugo, CE1 | KA25: Dauriac, CE1 | KB25: Hyon, CP | KC25: Papus, CE2 | KD25: Bastide, CM1 CM2 | KE25: Falcucci, CP | KF25: Ronsard, CE1 | KG25: BRIGADE | KH25: Lalande, CE1 CO | KI25: Renan, CE2 | KJ25: Billières, GS | KK25: Buffon, ULIS | KL25: Daurat, CM1-CM2 | KM25: Veil, CE1-CE2 | KN25: Ronsard, GS | KO25: Dottin, CE2 | KP25: Hugo, CE1 | KQ25: Dauriac, CE1 | KR25: Hyon, CP | KS25: Papus, CE2 | KT25: Bastide, CM1 CM2 | KU25: Falcucci, CP | KV25: Ronsard, CE1 | KW25: BRIGADE | KX25: Lalande, CE1 CO | KY25: Renan, CE2 | KZ25: Billières, GS | LA25: Buffon, ULIS | LB25: Daurat, CM1-CM2 | LC25: Veil, CE1-CE2 | LD25: Ronsard, GS | LE25: Dottin, CE2 | LG25: Hugo, CE1 | LH25: Dauriac, CE1 | LI25: Hyon, CP | LJ25: Papus, CE2 | LK25: Bastide, CM1 CM2 | LL25: Falcucci, CP | LM25: Ronsard, CE1
A26: W | D26: Formation Brigade | E26: Formation Brigade | F26: Pondération brigade 1 | G26: Pondération brigade 1 | H26: Papus, CM1 CM2 | I26: Formation Brigade | J26: Formation Brigade | K26: Formation Brigade | L26: Formation Brigade | M26: Pinhous, GS MS | N26: Renan, CP | O26: Lalande, ULIS | P26: Billières, GS | Q26: Faucher, GS | T26: Bastide, CE1 | U26: Pagnol, MS | V26: Hugo, CM2 | W26: Dauriac, CP | X26: Maria Atal Ulis Hyon | Y26: Maria Atal Ulis Hyon | Z26: Ronsard, CP | AA26: Renan, CP | AB26: Falcucci, CE1 | AC26: Bastide, PS MS | AD26: Buffon, MS | AE26: Dauriac, GS | AF26: Pondération brigade 1 | AG26: Falcucci, CE1 | AH26: Falcucci, CE1 | AI26: Falcucci, CE1 | AJ26: Dottin, CM1 CM2 | AK26: Dottin, CM1 CM2 | AL26: Dottin, CM1 CM2 | AM26: Papus, CM1 CM2 | AN26: Lalande, ULIS | AO26: Renan, CP | AQ26: Faucher, GS | AR26: Faucher, GS | AS26: Billières, GS | AT26: Hugo, CM2 | AU26: Hugo, CM2 | AV26: Faucher, GS | AW26: Pagnol, MS | AZ26: Dauriac, GS | BA26: Buffon, MS | BB26: Pinhous, GS MS | BC26: Hugo, CM2 | BD26: Dauriac, CP | BE26: Bastide, PS MS | BF26: Falcucci, CE1 | BI26: Pinhous, GS MS | BJ26: Pinhous, GS MS | BK26: Bastide, CE1 | BL26: Dottin, CM1 CM2 | BM26: Dottin, CM1 CM2 | BN26: Ronsard, CP | BO26: BRIGADE | BQ26: Billières, CP CE1 | BR26: Billières, CP CE1 | BS26: Papus, CM1 CM2 | BT26: Papus, CM1 CM2 | BU26: Lalande, ULIS | BV26: Renan, CP | BW26: Billières, GS | BX26: Billières, CP CE1 | BY26: Faucher, GS | BZ26: Ronsard, PS | CA26: Ronsard, PS | CB26: Pagnol, MS | CC26: Buffon, MS | CD26: Buffon, MS | CG26: Dauriac, GS | CH26: Buffon, MS | CI26: Pinhous, GS MS | CJ26: Hugo, CM2 | CK26: Dauriac, CP | CL26: Dauriac CP | CM26: Dauriac CP | CO26: Bastide, PS MS | CP26: Lalande, ULIS | CQ26: Lalande, ULIS | CR26: Lalande, ULIS | CT26: Bastide, CE1 | CU26: Falcucci, CE1 | CW26: Ronsard, CP | CX26: BRIGADE | CZ26: Falcucci, CM1 CM2 | DA26: Falcucci, CM1 CM2 | DB26: Falcucci, CM1 CM2 | DE26: Pagnol, MS | DG26: Hugo, CM2 | DH26: Hugo, CM2 | DL26: Dauriac CP | DM26: Lalande, ULIS | DN26: Bastide, CE1 | DO26: Bastide, CE1 | DP26: Faucher, GS | DQ26: Faucher, GS | DT26: Renan, CP | DU26: Billières, GS | DV26: Faucher, GS | DW26: Pagnol, MS | DX26: Dauriac, GS | DY26: Buffon, MS | DZ26: Pinhous, GS MS | EB26: Hugo, CM2 | ED26: Tabar, PS MS | EE26: Tabar, PS MS | EN26: Dauriac, CP | EO26: Veil, CM1-CM2 | EP26: Renan, Ulis | EQ26: Bastide, PS MS | ES26: Bastide, CE1 | EV26: Papus, GS | EW26: Papus, GS | EX26: Falcucci, CE1 | EY26: Dieuzaide, MS-GS | EZ26: Dieuzaide, MS-GS | FA26: Bastide, PS MS | FB26: Bastide, PS MS | FE26: Daurat,CP | FF26: Daurat,CP | FG26: Ronsard, CP | FJ26: BRIGADE | FK26: Lalande, ULIS | FM26: Renan, CP | FN26: Billières, GS | FO26: Faucher, GS | FP26: Pagnol, MS | FQ26: Dauriac, GS | FR26: Buffon, MS | FS26: Pinhous, GS MS | FT26: Papus, CM1 CM2 | FU26: Papus, CM1 CM2 | FX26: Hugo, CM2 | FY26: Dauriac, CP | FZ26: Bastide, PS MS | GB26: Bastide, CE1 | GC26: Falcucci, CE1 | GD26: Ronsard, CP | GG26: Pagnol, CE1 | GH26: Daurat,CP | GI26: BRIGADE | GJ26: Lalande, ULIS | GK26: Tabar, PS MS | GL26: Renan, CP | GM26: Pagnol, CE2 CM1 | GN26: Billières, GS | GO26: Dieuzaide, MS-GS | GP26: Faucher, GS | GQ26: Pagnol, MS | GR26: Dauriac, GS | GS26: Buffon, MS | GV26: Faucher | GX26: Pinhous, GS MS | GY26: Hugo, CM2 | GZ26: Dauriac, CP | HA26: Bastide, PS MS | HB26: Renan, Ulis | HD26: Bastide, CE1 | HG26: Falcucci, CE1 | HH26: Ronsard, CP | HI26: BRIGADE | HJ26: Buffon, GS | HK26: Billières, GS | HL26: Lalande, ULIS | HM26: Renan, CP | HN26: Bastide, PS MS | HO26: Dauriac, GS | HP26: Papus, GS | HQ26: Buffon, MS | HS26: Renan, PS-MS | HT26: Pinhous, GS MS | HU26: Hugo, CM2 | HW26: Dauriac, CP | HX26: Buffon, MS | HY26: Bastide, PS MS | HZ26: Faucher, GS | IA26: Pagnol, MS | IC26: Bastide, CE1 | ID26: Falcucci, CE1 | IE26: Ronsard, CP | IF26: BRIGADE | IG26: Lalande, ULIS | IH26: Renan, CP | II26: Billières, GS | IJ26: Faucher, GS | IK26: Pagnol, MS | IL26: Dauriac, GS | IM26: Buffon, MS | IQ26: Pinhous, GS MS | IR26: Hugo, CM2 | IS26: Dieuzaide, PS MS | IT26: Dauriac, CP | IU26: Bastide, PS MS | IW26: Bastide, CE1 | IX26: Falcucci, CE1 | IY26: Ronsard, CP | IZ26: BRIGADE | JA26: Lalande, ULIS | JB26: Renan, CP | JC26: Billières, GS | JD26: Faucher, GS | JE26: Pagnol, MS | JF26: Dauriac, GS | JG26: Buffon, MS | JH26: Pinhous, GS MS | JI26: Hugo, CM2 | JJ26: Dauriac, CP | JK26: Bastide, PS MS | JM26: Bastide, CE1 | JN26: Falcucci, CE1 | JO26: Ronsard, CP | JP26: BRIGADE | JQ26: Lalande, ULIS | JR26: Renan, CP | JS26: Billières, GS | JT26: Faucher, GS | JV26: Pagnol, MS | JW26: Dauriac, GS | JX26: Buffon, MS | JY26: Pinhous, GS MS | JZ26: Hugo, CM2 | KA26: Dauriac, CP | KB26: Bastide, PS MS | KD26: Bastide, CE1 | KE26: Falcucci, CE1 | KF26: Ronsard, CP | KG26: BRIGADE | KH26: Lalande, ULIS | KI26: Renan, CP | KJ26: Billières, GS | KK26: Faucher, GS | KL26: Pagnol, MS | KM26: Dauriac, GS | KN26: Buffon, MS | KO26: Pinhous, GS MS | KP26: Hugo, CM2 | KQ26: Dauriac, CP | KR26: Bastide, PS MS | KT26: Bastide, CE1 | KU26: Falcucci, CE1 | KV26: Ronsard, CP | KW26: BRIGADE | KX26: Lalande, ULIS | KY26: Renan, CP | KZ26: Billières, GS | LA26: Faucher, GS | LB26: Pagnol, MS | LC26: Dauriac, GS | LD26: Buffon, MS | LE26: Pinhous, GS MS | LG26: Hugo, CM2 | LH26: Dauriac, CP | LI26: Bastide, PS MS | LK26: Bastide, CE1 | LL26: Falcucci, CE1 | LM26: Ronsard, CP
