Workbook

Sheet pronostics, cote, paris
D1: mises
A2: rencontre | B2: combattants | C2: résultat | D2: joueur 1 | E2: joueur 2 | F2: joueur 3 | G2: joueur 4 | H2: joueur 5 | I2: joueur 6 | J2: joueur 7 | K2: joueur 8 | L2: joueur 9 | M2: joueur 10 | AD2: classement | AE2: ='pronostics, cote, paris'!$E$2 -> joueur 2 | AF2: ='pronostics, cote, paris'!$F$2 -> joueur 3 | AG2: ='pronostics, cote, paris'!$G$2 -> joueur 4 | AH2: ='pronostics, cote, paris'!$H$2 -> joueur 5 | AI2: ='pronostics, cote, paris'!$I$2 -> joueur 6 | AJ2: ='pronostics, cote, paris'!$J$2 -> joueur 7 | AK2: ='pronostics, cote, paris'!$K$2 -> joueur 8 | AL2: ='pronostics, cote, paris'!$L$2 -> joueur 9 | AM2: ='pronostics, cote, paris'!$M$2 -> joueur 10 | AN2: ='pronostics, cote, paris'!$N$2
A3: combat 1 | B3: A | C3: A | D3: 15 | AE3: =SUM(#REF!) -> #REF! | AF3: =SUM(#REF!) -> #REF! | AG3: =SUM(#REF!) -> #REF! | AH3: =SUM(#REF!) -> #REF! | AI3: =SUM(#REF!) -> #REF! | AJ3: =SUM(#REF!) -> #REF! | AK3: =SUM(#REF!) -> #REF! | AL3: =SUM(#REF!) -> #REF! | ... AN3: =SUM(#REF!) -> #REF!
B4: B | E4: 3 | F4: 2
C5: gains =
A6: combat 2 | B6: C | C6: D | D6: 5 | AE6: =AE3+(100-COLUMN(AE2))/100 -> #REF! | AF6: =AF3+(100-COLUMN(AF2))/100 -> #REF! | AG6: =AG3+(100-COLUMN(AG2))/100 -> #REF! | AH6: =AH3+(100-COLUMN(AH2))/100 -> #REF! | AI6: =AI3+(100-COLUMN(AI2))/100 -> #REF! | AJ6: =AJ3+(100-COLUMN(AJ2))/100 -> #REF! | AK6: =AK3+(100-COLUMN(AK2))/100 -> #REF! | AL6: =AL3+(100-COLUMN(AL2))/100 -> #REF! | ... AN6: =AN3+(100-COLUMN(AN2))/100 -> #REF!
B7: D | E7: 3 | F7: 5
C8: gains =
A9: combat 3 | B9: E | AE9: =RANK(AE6,$AE$6:$AN$6,0) -> #REF! | AF9: =RANK(AF6,$AE$6:$AN$6,0) -> #REF! | AG9: =RANK(AG6,$AE$6:$AN$6,0) -> #REF! | AH9: =RANK(AH6,$AE$6:$AN$6,0) -> #REF! | AI9: =RANK(AI6,$AE$6:$AN$6,0) -> #REF! | AJ9: =RANK(AJ6,$AE$6:$AN$6,0) -> #REF! | AK9: =RANK(AK6,$AE$6:$AN$6,0) -> #REF! | AL9: =RANK(AL6,$AE$6:$AN$6,0) -> #REF! | ... AN9: =RANK(AN6,$AE$6:$AN$6,0) -> #REF!
B10: F
C11: gains =
A12: combat 4 | B12: G
B13: I
C14: gains =
A15: combat 5 | B15: J
B16: L
C17: gains =
A18: combat 6 | B18: M
B19: N
C20: gains =
A22: total mises : | C22: cote
A23: A | B23: =SUM(D3:M3) -> 15 | C23: 1
A24: B | B24: =SUM(D4:M4) -> 5 | C24: 3
A25: C | B25: =SUM(D6:M6) -> 5
A26: D | B26: =SUM(D7:M7) -> 8
A27: E | B27: =SUM(D9:M9) -> 0
A28: F | B28: =SUM(D10:M10) -> 0
A29: G | B29: =SUM(D12:M12) -> 0
A30: I | B30: =SUM(D13:M13) -> 0
A31: J | B31: =SUM(D15:M15) -> 0
A32: L | B32: =SUM(D16:M16) -> 0
A33: M | B33: =SUM(D18:M18) -> 0
A34: N | B34: =SUM(D19:M19) -> 0
A47: gains
