Workbook
Name _HS: param!$B$1
Name _JF: calendrier!$C:$C
Name debut: calendrier!$B$1
Name Segment_Année: #N/A
Name Segment_Mois: #N/A
Name Segment_Semaine: #N/A

Sheet param
A1: heures sup au-delà de | B1: 1.4583333
A4: Motifs | B4: Libellé | C4: Prise en compte pour décompte HS | E4: Nature | F4: Intitulé
A5: ABS | B5: Absence | E5: Sce | F5: Pour mon service (manque personnel)
A6: CP | B6: Congé payé | E6: Dim. Jf | F6: Dimanches et jours fériés
A7: Form | B7: Formation | C7: 0.29166667 | E7: Evè Int. | F7: Evènement Interne au Service (*présiser)
A8: EF | B8: Evénement familial | C8: 0.29166667 | E8: Evè Ext. | F8: Evènement Externe au Service (*présiser)
A9: Mal | B9: Maladie | E9: Dde Sce | F9: DEMANDES DU SERVICE AVS
A10: AT | B10: Accident de travail
A11: RTT | B11: Repos | C11: 0.29166667

Sheet calendrier
A1: début du fichier | B1: 45292 | C1: mettre un lundi - si modification = re-créer un fichier vierge sinon toutes les heures entrées seront décalées
A3: =YEAR(debut) -> 2024 | B3: Premier de l'AN | C3: =DATE(A3,1,1) -> 45292
B4: Pâques | C4: =ROUND(DATE(A3,4,MOD(234-11*MOD(A3,19),30))/7,0)*7-6 -> 45382
B5: Lundi de Pâques | C5: =C4+1 -> 45383
B6: Fête du travail | C6: =DATE(A3,5,1) -> 45413
B7: Victoire de 1945 | C7: =DATE(A3,5,8) -> 45420
B8: Ascension | C8: =C4+39 -> 45421
B9: Pentecôte | C9: =C4+50 -> 45432
B10: Fête nationale | C10: =DATE(A3,7,14) -> 45487
B11: Assomption | C11: =DATE(A3,8,15) -> 45519
B12: Toussaint | C12: =DATE(A3,11,1) -> 45597
B13: Armistice | C13: =DATE(A3,11,11) -> 45607
B14: Noël | C14: =DATE(A3,12,25) -> 45651
A15: =A3+1 -> 2025 | B15: Premier de l'AN | C15: =DATE(A15,1,1) -> 45658
B16: Pâques | C16: =ROUND(DATE(A15,4,MOD(234-11*MOD(A15,19),30))/7,0)*7-6 -> 45767
B17: Lundi de Pâques | C17: =C16+1 -> 45768
B18: Fête du travail | C18: =DATE(A15,5,1) -> 45778
B19: Victoire de 1945 | C19: =DATE(A15,5,8) -> 45785
B20: Ascension | C20: =C16+39 -> 45806
B21: Pentecôte | C21: =C16+50 -> 45817
B22: Fête nationale | C22: =DATE(A15,7,14) -> 45852
B23: Assomption | C23: =DATE(A15,8,15) -> 45884
B24: Toussaint | C24: =DATE(A15,11,1) -> 45962
B25: Armistice | C25: =DATE(A15,11,11) -> 45972
B26: Noël | C26: =DATE(A15,12,25) -> 46016
A27: =A15+1 -> 2026 | B27: Premier de l'AN | C27: =DATE(A27,1,1) -> 46023
B28: Pâques | C28: =ROUND(DATE(A27,4,MOD(234-11*MOD(A27,19),30))/7,0)*7-6 -> 46117
B29: Lundi de Pâques | C29: =C28+1 -> 46118
B30: Fête du travail | C30: =DATE(A27,5,1) -> 46143
B31: Victoire de 1945 | C31: =DATE(A27,5,8) -> 46150
B32: Ascension | C32: =C28+39 -> 46156
B33: Pentecôte | C33: =C28+50 -> 46167
B34: Fête nationale | C34: =DATE(A27,7,14) -> 46217
B35: Assomption | C35: =DATE(A27,8,15) -> 46249
B36: Toussaint | C36: =DATE(A27,11,1) -> 46327
B37: Armistice | C37: =DATE(A27,11,11) -> 46337
B38: Noël | C38: =DATE(A27,12,25) -> 46381
A39: =A27+1 -> 2027 | B39: Premier de l'AN | C39: =DATE(A39,1,1) -> 46388
B40: Pâques | C40: =ROUND(DATE(A39,4,MOD(234-11*MOD(A39,19),30))/7,0)*7-6 -> 46474
B41: Lundi de Pâques | C41: =C40+1 -> 46475
...

Sheet Tableau Récap. par personne
A1: FORMULAIRE DE DECLARATION DES HEURES SUPPLEMENTAIRES (HS) ET COMPLEMENTAIRES (HC)
A2: L’original du formulaire, rempli et signé, doit être adressé à la DRH avant le 21 de chaque mois.
A3: Renseignements sur l’agent ayant effectué les heures supplémentaires ou complémentaires
A4: NOM Prénom : | B4: =RIGHT(CELL("nomfichier",F4),LEN(CELL("nomfichier",F4))-FIND("]",CELL("nomfichier",F4))) -> Tableau Récap. par personne
A5: Temps de travail : | G5: Fonction :
A6: Informations sur les heures réalisées
A7: MOIS : | E7: Du 21/ | G7: au 20/
A8: Date | B8: Horaires habituels de travail | C8: Horaires Matin | E8: Horaires Après-Midi | G8: Nombre d’heures supplémentaires de : | J8: Nature de l’intervention : Propreté
C9: Début matin | D9: Fin matin | E9: Début apm | F9: Fin apm | G9: JOUR | H9: NUIT (22h -7h) | I9: Dimanche jours fériés | J9: MOTIF
A10: 45372 | B10: =IFERROR(INDEX('NOM Prénom'!$K$4:$K$369,MATCH(A10,'NOM Prénom'!$C$4:$C$369,0)),"-") -> 0.29166667 | C10: 0.29166667 | D10: 0.5 | E10: 0.54166667 | F10: 0.66666667 | G10: =IF(MOD(F10-E10,1)+MOD(D10-C10,1)>B10,MOD(F10-E10,1)+MOD(D10-C10,1)-B10,0) -> 0.041666667
A11: 45373 | B11: =IFERROR(INDEX('NOM Prénom'!$K$4:$K$369,MATCH(A11,'NOM Prénom'!$C$4:$C$369,0)),"-") -> 0.29166667 | C11: 0.375 | D11: 0.52083333 | E11: 0.5625 | F11: 0.72916667 | G11: =IF(MOD(F11-E11,1)+MOD(D11-C11,1)>B11,MOD(F11-E11,1)+MOD(D11-C11,1)-B11,0) -> 0.020833333 | I11: =IF(WEEKDAY(A11)=1,MOD(F11-E11,1)+MOD(D11-C11,1),"")
A12: 45374 | B12: =IFERROR(INDEX('NOM Prénom'!$K$4:$K$369,MATCH(A12,'NOM Prénom'!$C$4:$C$369,0)),"-") -> 0 | E12: 0.58333333 | F12: 0.70833333 | G12: =IF(MOD(F12-E12,1)+MOD(D12-C12,1)>B12,MOD(F12-E12,1)+MOD(D12-C12,1)-B12,0) -> 0.125 | J12: Evè Int.
A13: 45375 | B13: =IFERROR(INDEX('NOM Prénom'!$K$4:$K$369,MATCH(A13,'NOM Prénom'!$C$4:$C$369,0)),"-") -> 0 | E13: 0.5625 | F13: 0.72916667 | G13: =IF(MOD(F13-E13,1)+MOD(D13-C13,1)>B13,MOD(F13-E13,1)+MOD(D13-C13,1)-B13,0) -> 0.16666667
A14: 45376 | B14: =IFERROR(INDEX('NOM Prénom'!$K$4:$K$369,MATCH(A14,'NOM Prénom'!$C$4:$C$369,0)),"-") -> 0 | C14: 0.20833333 | D14: 0.5 | G14: =IF(MOD(F14-E14,1)+MOD(D14-C14,1)>B14,MOD(F14-E14,1)+MOD(D14-C14,1)-B14,0) -> 0.29166667
A15: 45377 | B15: =IFERROR(INDEX('NOM Prénom'!$K$4:$K$369,MATCH(A15,'NOM Prénom'!$C$4:$C$369,0)),"-") -> 0.29166667 | G15: =IF(MOD(F15-E15,1)+MOD(D15-C15,1)>B15,MOD(F15-E15,1)+MOD(D15-C15,1)-B15,0) -> 0
A16: 45378 | B16: =IFERROR(INDEX('NOM Prénom'!$K$4:$K$369,MATCH(A16,'NOM Prénom'!$C$4:$C$369,0)),"-") -> 0.29166667 | G16: =IF(MOD(F16-E16,1)+MOD(D16-C16,1)>B16,MOD(F16-E16,1)+MOD(D16-C16,1)-B16,0) -> 0
A17: 45379 | B17: =IFERROR(INDEX('NOM Prénom'!$K$4:$K$369,MATCH(A17,'NOM Prénom'!$C$4:$C$369,0)),"-") -> 0.29166667 | G17: =IF(MOD(F17-E17,1)+MOD(D17-C17,1)>B17,MOD(F17-E17,1)+MOD(D17-C17,1)-B17,0) -> 0
A18: 45380 | B18: =IFERROR(INDEX('NOM Prénom'!$K$4:$K$369,MATCH(A18,'NOM Prénom'!$C$4:$C$369,0)),"-") -> 0.29166667 | G18: =IF(MOD(F18-E18,1)+MOD(D18-C18,1)>B18,MOD(F18-E18,1)+MOD(D18-C18,1)-B18,0) -> 0
A19: 45381 | B19: =IFERROR(INDEX('NOM Prénom'!$K$4:$K$369,MATCH(A19,'NOM Prénom'!$C$4:$C$369,0)),"-") -> 0 | G19: =IF(MOD(F19-E19,1)+MOD(D19-C19,1)>B19,MOD(F19-E19,1)+MOD(D19-C19,1)-B19,0) -> 0
A20: 45382 | B20: =IFERROR(INDEX('NOM Prénom'!$K$4:$K$369,MATCH(A20,'NOM Prénom'!$C$4:$C$369,0)),"-") -> 0 | G20: =IF(MOD(F20-E20,1)+MOD(D20-C20,1)>B20,MOD(F20-E20,1)+MOD(D20-C20,1)-B20,0) -> 0
A21: 45383 | B21: =IFERROR(INDEX('NOM Prénom'!$K$4:$K$369,MATCH(A21,'NOM Prénom'!$C$4:$C$369,0)),"-") -> 0.29166667 | G21: =IF(MOD(F21-E21,1)+MOD(D21-C21,1)>B21,MOD(F21-E21,1)+MOD(D21-C21,1)-B21,0) -> 0
A22: 45384 | B22: =IFERROR(INDEX('NOM Prénom'!$K$4:$K$369,MATCH(A22,'NOM Prénom'!$C$4:$C$369,0)),"-") -> 0.29166667 | G22: =IF(MOD(F22-E22,1)+MOD(D22-C22,1)>B22,MOD(F22-E22,1)+MOD(D22-C22,1)-B22,0) -> 0
A23: Cet état doit faire apparaître les heures effectivement réalisées et ne doit pas dépasser le seuil de 25 HS ou 30 HC mensuelles. | G23: =SUM(G10:G22) -> 0.64583333 | H23: =SUM(H10:H22) -> 0 | I23: =SUM(I10:I22) -> 0
G24: TOTAL GENERAL
A25: Validation du cadre de proximité | H25: Modalités d’utilisation des heures
H26: Modalités de récupération | L26: Nombre d’heures à payer (le cas échéant)
A27: Date : | B27: NOM Prénom : | H27: Nombre d’heures à récupérer : | L27: Nombre d’heures à payer :
B28: Signature : | I28: Jour : | M28: Jour :
A29: Validation de la Direction | I29: Nuit : | M29: Nuit :
A30: Date : | B30: NOM Prénom : | I30: DJF : | M30: DJF :
B31: Signature : | L31: TOTAL A PAYER :

Sheet NOM Prénom
A1: Relevé présence et calcul des heures suplémentaires | C1: =RIGHT(CELL("nomfichier",F1),LEN(CELL("nomfichier",F1))-FIND("]",CELL("nomfichier",F1))) -> NOM Prénom
B3: Semaine | C3: Date | D3: Mois | E3: Année | F3: Début matin | G3: Fin matin | H3: Début apm | I3: Fin apm | J3: Abs. | K3: Heures | L3: H_Abs | M3: HS
B4: =WEEKNUM(Tableau1[[#This Row],[Date]]) -> 1 | C4: =debut+ROW()-ROW(Tableau1[[#Headers],[Date]])-1 -> 45292 | D4: =UPPER(TEXT((Tableau1[[#This Row],[Date]]),"mmmm")) -> JANVIER | E4: =YEAR(Tableau1[[#This Row],[Date]]) -> 2024 | K4: =MOD(Tableau1[[#This Row],[Fin apm]]-Tableau1[[#This Row],[Début apm]],1)+MOD(Tableau1[[#This Row],[Fin matin]]-Tableau1[[#This Row],[Début matin]],1) -> 0 | L4: =IFERROR(VLOOKUP(Tableau1[[#This Row],[Abs.]],Tmotif[],3,0),0) -> 0 | M4: =IF(WEEKDAY(Tableau1[[#This Row],[Date]],2)<7,0,MAX(0,SUM(OFFSET(Tableau1[[#This Row],[Heures]],-6,,7))+SUM(OFFSET(Tableau1[[#This Row],[H_Abs]],-6,,7))-_HS)) -> 0
B5: =WEEKNUM(Tableau1[[#This Row],[Date]]) -> 1 | C5: =debut+ROW()-ROW(Tableau1[[#Headers],[Date]])-1 -> 45293 | D5: =UPPER(TEXT((Tableau1[[#This Row],[Date]]),"mmmm")) -> JANVIER | E5: =YEAR(Tableau1[[#This Row],[Date]]) -> 2024 | F5: 0.20833333 | G5: 0.5 | K5: =MOD(Tableau1[[#This Row],[Fin apm]]-Tableau1[[#This Row],[Début apm]],1)+MOD(Tableau1[[#This Row],[Fin matin]]-Tableau1[[#This Row],[Début matin]],1) -> 0.29166667 | L5: =IFERROR(VLOOKUP(Tableau1[[#This Row],[Abs.]],Tmotif[],3,0),0) -> 0 | M5: =IF(WEEKDAY(Tableau1[[#This Row],[Date]],2)<7,0,MAX(0,SUM(OFFSET(Tableau1[[#This Row],[Heures]],-6,,7))+SUM(OFFSET(Tableau1[[#This Row],[H_Abs]],-6,,7))-_HS)) -> 0
B6: =WEEKNUM(Tableau1[[#This Row],[Date]]) -> 1 | C6: =debut+ROW()-ROW(Tableau1[[#Headers],[Date]])-1 -> 45294 | D6: =UPPER(TEXT((Tableau1[[#This Row],[Date]]),"mmmm")) -> JANVIER | E6: =YEAR(Tableau1[[#This Row],[Date]]) -> 2024 | F6: 0.20833333 | G6: 0.5 | K6: =MOD(Tableau1[[#This Row],[Fin apm]]-Tableau1[[#This Row],[Début apm]],1)+MOD(Tableau1[[#This Row],[Fin matin]]-Tableau1[[#This Row],[Début matin]],1) -> 0.29166667 | L6: =IFERROR(VLOOKUP(Tableau1[[#This Row],[Abs.]],Tmotif[],3,0),0) -> 0 | M6: =IF(WEEKDAY(Tableau1[[#This Row],[Date]],2)<7,0,MAX(0,SUM(OFFSET(Tableau1[[#This Row],[Heures]],-6,,7))+SUM(OFFSET(Tableau1[[#This Row],[H_Abs]],-6,,7))-_HS)) -> 0
B7: =WEEKNUM(Tableau1[[#This Row],[Date]]) -> 1 | C7: =debut+ROW()-ROW(Tableau1[[#Headers],[Date]])-1 -> 45295 | D7: =UPPER(TEXT((Tableau1[[#This Row],[Date]]),"mmmm")) -> JANVIER | E7: =YEAR(Tableau1[[#This Row],[Date]]) -> 2024 | F7: 0.20833333 | G7: 0.5 | K7: =MOD(Tableau1[[#This Row],[Fin apm]]-Tableau1[[#This Row],[Début apm]],1)+MOD(Tableau1[[#This Row],[Fin matin]]-Tableau1[[#This Row],[Début matin]],1) -> 0.29166667 | L7: =IFERROR(VLOOKUP(Tableau1[[#This Row],[Abs.]],Tmotif[],3,0),0) -> 0 | M7: =IF(WEEKDAY(Tableau1[[#This Row],[Date]],2)<7,0,MAX(0,SUM(OFFSET(Tableau1[[#This Row],[Heures]],-6,,7))+SUM(OFFSET(Tableau1[[#This Row],[H_Abs]],-6,,7))-_HS)) -> 0
B8: =WEEKNUM(Tableau1[[#This Row],[Date]]) -> 1 | C8: =debut+ROW()-ROW(Tableau1[[#Headers],[Date]])-1 -> 45296 | D8: =UPPER(TEXT((Tableau1[[#This Row],[Date]]),"mmmm")) -> JANVIER | E8: =YEAR(Tableau1[[#This Row],[Date]]) -> 2024 | F8: 0.20833333 | G8: 0.5 | K8: =MOD(Tableau1[[#This Row],[Fin apm]]-Tableau1[[#This Row],[Début apm]],1)+MOD(Tableau1[[#This Row],[Fin matin]]-Tableau1[[#This Row],[Début matin]],1) -> 0.29166667 | L8: =IFERROR(VLOOKUP(Tableau1[[#This Row],[Abs.]],Tmotif[],3,0),0) -> 0 | M8: =IF(WEEKDAY(Tableau1[[#This Row],[Date]],2)<7,0,MAX(0,SUM(OFFSET(Tableau1[[#This Row],[Heures]],-6,,7))+SUM(OFFSET(Tableau1[[#This Row],[H_Abs]],-6,,7))-_HS)) -> 0
B9: =WEEKNUM(Tableau1[[#This Row],[Date]]) -> 1 | C9: =debut+ROW()-ROW(Tableau1[[#Headers],[Date]])-1 -> 45297 | D9: =UPPER(TEXT((Tableau1[[#This Row],[Date]]),"mmmm")) -> JANVIER | E9: =YEAR(Tableau1[[#This Row],[Date]]) -> 2024 | K9: =MOD(Tableau1[[#This Row],[Fin apm]]-Tableau1[[#This Row],[Début apm]],1)+MOD(Tableau1[[#This Row],[Fin matin]]-Tableau1[[#This Row],[Début matin]],1) -> 0 | L9: =IFERROR(VLOOKUP(Tableau1[[#This Row],[Abs.]],Tmotif[],3,0),0) -> 0 | M9: =IF(WEEKDAY(Tableau1[[#This Row],[Date]],2)<7,0,MAX(0,SUM(OFFSET(Tableau1[[#This Row],[Heures]],-6,,7))+SUM(OFFSET(Tableau1[[#This Row],[H_Abs]],-6,,7))-_HS)) -> 0
B10: =WEEKNUM(Tableau1[[#This Row],[Date]]) -> 2 | C10: =debut+ROW()-ROW(Tableau1[[#Headers],[Date]])-1 -> 45298 | D10: =UPPER(TEXT((Tableau1[[#This Row],[Date]]),"mmmm")) -> JANVIER | E10: =YEAR(Tableau1[[#This Row],[Date]]) -> 2024 | K10: =MOD(Tableau1[[#This Row],[Fin apm]]-Tableau1[[#This Row],[Début apm]],1)+MOD(Tableau1[[#This Row],[Fin matin]]-Tableau1[[#This Row],[Début matin]],1) -> 0 | L10: =IFERROR(VLOOKUP(Tableau1[[#This Row],[Abs.]],Tmotif[],3,0),0) -> 0 | M10: =IF(WEEKDAY(Tableau1[[#This Row],[Date]],2)<7,0,MAX(0,SUM(OFFSET(Tableau1[[#This Row],[Heures]],-6,,7))+SUM(OFFSET(Tableau1[[#This Row],[H_Abs]],-6,,7))-_HS)) -> 0
B11: =WEEKNUM(Tableau1[[#This Row],[Date]]) -> 2 | C11: =debut+ROW()-ROW(Tableau1[[#Headers],[Date]])-1 -> 45299 | D11: =UPPER(TEXT((Tableau1[[#This Row],[Date]]),"mmmm")) -> JANVIER | E11: =YEAR(Tableau1[[#This Row],[Date]]) -> 2024 | F11: 0.20833333 | G11: 0.5 | K11: =MOD(Tableau1[[#This Row],[Fin apm]]-Tableau1[[#This Row],[Début apm]],1)+MOD(Tableau1[[#This Row],[Fin matin]]-Tableau1[[#This Row],[Début matin]],1) -> 0.29166667 | L11: =IFERROR(VLOOKUP(Tableau1[[#This Row],[Abs.]],Tmotif[],3,0),0) -> 0 | M11: =IF(WEEKDAY(Tableau1[[#This Row],[Date]],2)<7,0,MAX(0,SUM(OFFSET(Tableau1[[#This Row],[Heures]],-6,,7))+SUM(OFFSET(Tableau1[[#This Row],[H_Abs]],-6,,7))-_HS)) -> 0
B12: =WEEKNUM(Tableau1[[#This Row],[Date]]) -> 2 | C12: =debut+ROW()-ROW(Tableau1[[#Headers],[Date]])-1 -> 45300 | D12: =UPPER(TEXT((Tableau1[[#This Row],[Date]]),"mmmm")) -> JANVIER | E12: =YEAR(Tableau1[[#This Row],[Date]]) -> 2024 | F12: 0.20833333 | G12: 0.5 | K12: =MOD(Tableau1[[#This Row],[Fin apm]]-Tableau1[[#This Row],[Début apm]],1)+MOD(Tableau1[[#This Row],[Fin matin]]-Tableau1[[#This Row],[Début matin]],1) -> 0.29166667 | L12: =IFERROR(VLOOKUP(Tableau1[[#This Row],[Abs.]],Tmotif[],3,0),0) -> 0 | M12: =IF(WEEKDAY(Tableau1[[#This Row],[Date]],2)<7,0,MAX(0,SUM(OFFSET(Tableau1[[#This Row],[Heures]],-6,,7))+SUM(OFFSET(Tableau1[[#This Row],[H_Abs]],-6,,7))-_HS)) -> 0
B13: =WEEKNUM(Tableau1[[#This Row],[Date]]) -> 2 | C13: =debut+ROW()-ROW(Tableau1[[#Headers],[Date]])-1 -> 45301 | D13: =UPPER(TEXT((Tableau1[[#This Row],[Date]]),"mmmm")) -> JANVIER | E13: =YEAR(Tableau1[[#This Row],[Date]]) -> 2024 | F13: 0.20833333 | G13: 0.5 | J13: ABS | K13: =MOD(Tableau1[[#This Row],[Fin apm]]-Tableau1[[#This Row],[Début apm]],1)+MOD(Tableau1[[#This Row],[Fin matin]]-Tableau1[[#This Row],[Début matin]],1) -> 0.29166667 | L13: =IFERROR(VLOOKUP(Tableau1[[#This Row],[Abs.]],Tmotif[],3,0),0) -> 0 | M13: =IF(WEEKDAY(Tableau1[[#This Row],[Date]],2)<7,0,MAX(0,SUM(OFFSET(Tableau1[[#This Row],[Heures]],-6,,7))+SUM(OFFSET(Tableau1[[#This Row],[H_Abs]],-6,,7))-_HS)) -> 0
B14: =WEEKNUM(Tableau1[[#This Row],[Date]]) -> 2 | C14: =debut+ROW()-ROW(Tableau1[[#Headers],[Date]])-1 -> 45302 | D14: =UPPER(TEXT((Tableau1[[#This Row],[Date]]),"mmmm")) -> JANVIER | E14: =YEAR(Tableau1[[#This Row],[Date]]) -> 2024 | F14: 0.20833333 | G14: 0.5 | J14: Mal | K14: =MOD(Tableau1[[#This Row],[Fin apm]]-Tableau1[[#This Row],[Début apm]],1)+MOD(Tableau1[[#This Row],[Fin matin]]-Tableau1[[#This Row],[Début matin]],1) -> 0.29166667 | L14: =IFERROR(VLOOKUP(Tableau1[[#This Row],[Abs.]],Tmotif[],3,0),0) -> 0 | M14: =IF(WEEKDAY(Tableau1[[#This Row],[Date]],2)<7,0,MAX(0,SUM(OFFSET(Tableau1[[#This Row],[Heures]],-6,,7))+SUM(OFFSET(Tableau1[[#This Row],[H_Abs]],-6,,7))-_HS)) -> 0
B15: =WEEKNUM(Tableau1[[#This Row],[Date]]) -> 2 | C15: =debut+ROW()-ROW(Tableau1[[#Headers],[Date]])-1 -> 45303 | D15: =UPPER(TEXT((Tableau1[[#This Row],[Date]]),"mmmm")) -> JANVIER | E15: =YEAR(Tableau1[[#This Row],[Date]]) -> 2024 | F15: 0.20833333 | G15: 0.5 | J15: RTT | K15: =MOD(Tableau1[[#This Row],[Fin apm]]-Tableau1[[#This Row],[Début apm]],1)+MOD(Tableau1[[#This Row],[Fin matin]]-Tableau1[[#This Row],[Début matin]],1) -> 0.29166667 | L15: =IFERROR(VLOOKUP(Tableau1[[#This Row],[Abs.]],Tmotif[],3,0),0) -> 0.29166667 | M15: =IF(WEEKDAY(Tableau1[[#This Row],[Date]],2)<7,0,MAX(0,SUM(OFFSET(Tableau1[[#This Row],[Heures]],-6,,7))+SUM(OFFSET(Tableau1[[#This Row],[H_Abs]],-6,,7))-_HS)) -> 0
B16: =WEEKNUM(Tableau1[[#This Row],[Date]]) -> 2 | C16: =debut+ROW()-ROW(Tableau1[[#Headers],[Date]])-1 -> 45304 | D16: =UPPER(TEXT((Tableau1[[#This Row],[Date]]),"mmmm")) -> JANVIER | E16: =YEAR(Tableau1[[#This Row],[Date]]) -> 2024 | K16: =MOD(Tableau1[[#This Row],[Fin apm]]-Tableau1[[#This Row],[Début apm]],1)+MOD(Tableau1[[#This Row],[Fin matin]]-Tableau1[[#This Row],[Début matin]],1) -> 0 | L16: =IFERROR(VLOOKUP(Tableau1[[#This Row],[Abs.]],Tmotif[],3,0),0) -> 0 | M16: =IF(WEEKDAY(Tableau1[[#This Row],[Date]],2)<7,0,MAX(0,SUM(OFFSET(Tableau1[[#This Row],[Heures]],-6,,7))+SUM(OFFSET(Tableau1[[#This Row],[H_Abs]],-6,,7))-_HS)) -> 0
B17: =WEEKNUM(Tableau1[[#This Row],[Date]]) -> 3 | C17: =debut+ROW()-ROW(Tableau1[[#Headers],[Date]])-1 -> 45305 | D17: =UPPER(TEXT((Tableau1[[#This Row],[Date]]),"mmmm")) -> JANVIER | E17: =YEAR(Tableau1[[#This Row],[Date]]) -> 2024 | K17: =MOD(Tableau1[[#This Row],[Fin apm]]-Tableau1[[#This Row],[Début apm]],1)+MOD(Tableau1[[#This Row],[Fin matin]]-Tableau1[[#This Row],[Début matin]],1) -> 0 | L17: =IFERROR(VLOOKUP(Tableau1[[#This Row],[Abs.]],Tmotif[],3,0),0) -> 0 | M17: =IF(WEEKDAY(Tableau1[[#This Row],[Date]],2)<7,0,MAX(0,SUM(OFFSET(Tableau1[[#This Row],[Heures]],-6,,7))+SUM(OFFSET(Tableau1[[#This Row],[H_Abs]],-6,,7))-_HS)) -> 0.29166667
B18: =WEEKNUM(Tableau1[[#This Row],[Date]]) -> 3 | C18: =debut+ROW()-ROW(Tableau1[[#Headers],[Date]])-1 -> 45306 | D18: =UPPER(TEXT((Tableau1[[#This Row],[Date]]),"mmmm")) -> JANVIER | E18: =YEAR(Tableau1[[#This Row],[Date]]) -> 2024 | K18: =MOD(Tableau1[[#This Row],[Fin apm]]-Tableau1[[#This Row],[Début apm]],1)+MOD(Tableau1[[#This Row],[Fin matin]]-Tableau1[[#This Row],[Début matin]],1) -> 0 | L18: =IFERROR(VLOOKUP(Tableau1[[#This Row],[Abs.]],Tmotif[],3,0),0) -> 0 | M18: =IF(WEEKDAY(Tableau1[[#This Row],[Date]],2)<7,0,MAX(0,SUM(OFFSET(Tableau1[[#This Row],[Heures]],-6,,7))+SUM(OFFSET(Tableau1[[#This Row],[H_Abs]],-6,,7))-_HS)) -> 0
B19: =WEEKNUM(Tableau1[[#This Row],[Date]]) -> 3 | C19: =debut+ROW()-ROW(Tableau1[[#Headers],[Date]])-1 -> 45307 | D19: =UPPER(TEXT((Tableau1[[#This Row],[Date]]),"mmmm")) -> JANVIER | E19: =YEAR(Tableau1[[#This Row],[Date]]) -> 2024 | F19: 0.20833333 | G19: 0.5 | K19: =MOD(Tableau1[[#This Row],[Fin apm]]-Tableau1[[#This Row],[Début apm]],1)+MOD(Tableau1[[#This Row],[Fin matin]]-Tableau1[[#This Row],[Début matin]],1) -> 0.29166667 | L19: =IFERROR(VLOOKUP(Tableau1[[#This Row],[Abs.]],Tmotif[],3,0),0) -> 0 | M19: =IF(WEEKDAY(Tableau1[[#This Row],[Date]],2)<7,0,MAX(0,SUM(OFFSET(Tableau1[[#This Row],[Heures]],-6,,7))+SUM(OFFSET(Tableau1[[#This Row],[H_Abs]],-6,,7))-_HS)) -> 0
B20: =WEEKNUM(Tableau1[[#This Row],[Date]]) -> 3 | C20: =debut+ROW()-ROW(Tableau1[[#Headers],[Date]])-1 -> 45308 | D20: =UPPER(TEXT((Tableau1[[#This Row],[Date]]),"mmmm")) -> JANVIER | E20: =YEAR(Tableau1[[#This Row],[Date]]) -> 2024 | F20: 0.20833333 | G20: 0.5 | K20: =MOD(Tableau1[[#This Row],[Fin apm]]-Tableau1[[#This Row],[Début apm]],1)+MOD(Tableau1[[#This Row],[Fin matin]]-Tableau1[[#This Row],[Début matin]],1) -> 0.29166667 | L20: =IFERROR(VLOOKUP(Tableau1[[#This Row],[Abs.]],Tmotif[],3,0),0) -> 0 | M20: =IF(WEEKDAY(Tableau1[[#This Row],[Date]],2)<7,0,MAX(0,SUM(OFFSET(Tableau1[[#This Row],[Heures]],-6,,7))+SUM(OFFSET(Tableau1[[#This Row],[H_Abs]],-6,,7))-_HS)) -> 0
B21: =WEEKNUM(Tableau1[[#This Row],[Date]]) -> 3 | C21: =debut+ROW()-ROW(Tableau1[[#Headers],[Date]])-1 -> 45309 | D21: =UPPER(TEXT((Tableau1[[#This Row],[Date]]),"mmmm")) -> JANVIER | E21: =YEAR(Tableau1[[#This Row],[Date]]) -> 2024 | F21: 0.20833333 | G21: 0.5 | K21: =MOD(Tableau1[[#This Row],[Fin apm]]-Tableau1[[#This Row],[Début apm]],1)+MOD(Tableau1[[#This Row],[Fin matin]]-Tableau1[[#This Row],[Début matin]],1) -> 0.29166667 | L21: =IFERROR(VLOOKUP(Tableau1[[#This Row],[Abs.]],Tmotif[],3,0),0) -> 0 | M21: =IF(WEEKDAY(Tableau1[[#This Row],[Date]],2)<7,0,MAX(0,SUM(OFFSET(Tableau1[[#This Row],[Heures]],-6,,7))+SUM(OFFSET(Tableau1[[#This Row],[H_Abs]],-6,,7))-_HS)) -> 0
B22: =WEEKNUM(Tableau1[[#This Row],[Date]]) -> 3 | C22: =debut+ROW()-ROW(Tableau1[[#Headers],[Date]])-1 -> 45310 | D22: =UPPER(TEXT((Tableau1[[#This Row],[Date]]),"mmmm")) -> JANVIER | E22: =YEAR(Tableau1[[#This Row],[Date]]) -> 2024 | F22: 0.20833333 | G22: 0.5 | K22: =MOD(Tableau1[[#This Row],[Fin apm]]-Tableau1[[#This Row],[Début apm]],1)+MOD(Tableau1[[#This Row],[Fin matin]]-Tableau1[[#This Row],[Début matin]],1) -> 0.29166667 | L22: =IFERROR(VLOOKUP(Tableau1[[#This Row],[Abs.]],Tmotif[],3,0),0) -> 0 | M22: =IF(WEEKDAY(Tableau1[[#This Row],[Date]],2)<7,0,MAX(0,SUM(OFFSET(Tableau1[[#This Row],[Heures]],-6,,7))+SUM(OFFSET(Tableau1[[#This Row],[H_Abs]],-6,,7))-_HS)) -> 0
B23: =WEEKNUM(Tableau1[[#This Row],[Date]]) -> 3 | C23: =debut+ROW()-ROW(Tableau1[[#Headers],[Date]])-1 -> 45311 | D23: =UPPER(TEXT((Tableau1[[#This Row],[Date]]),"mmmm")) -> JANVIER | E23: =YEAR(Tableau1[[#This Row],[Date]]) -> 2024 | K23: =MOD(Tableau1[[#This Row],[Fin apm]]-Tableau1[[#This Row],[Début apm]],1)+MOD(Tableau1[[#This Row],[Fin matin]]-Tableau1[[#This Row],[Début matin]],1) -> 0 | L23: =IFERROR(VLOOKUP(Tableau1[[#This Row],[Abs.]],Tmotif[],3,0),0) -> 0 | M23: =IF(WEEKDAY(Tableau1[[#This Row],[Date]],2)<7,0,MAX(0,SUM(OFFSET(Tableau1[[#This Row],[Heures]],-6,,7))+SUM(OFFSET(Tableau1[[#This Row],[H_Abs]],-6,,7))-_HS)) -> 0
B24: =WEEKNUM(Tableau1[[#This Row],[Date]]) -> 4 | C24: =debut+ROW()-ROW(Tableau1[[#Headers],[Date]])-1 -> 45312 | D24: =UPPER(TEXT((Tableau1[[#This Row],[Date]]),"mmmm")) -> JANVIER | E24: =YEAR(Tableau1[[#This Row],[Date]]) -> 2024 | K24: =MOD(Tableau1[[#This Row],[Fin apm]]-Tableau1[[#This Row],[Début apm]],1)+MOD(Tableau1[[#This Row],[Fin matin]]-Tableau1[[#This Row],[Début matin]],1) -> 0 | L24: =IFERROR(VLOOKUP(Tableau1[[#This Row],[Abs.]],Tmotif[],3,0),0) -> 0 | M24: =IF(WEEKDAY(Tableau1[[#This Row],[Date]],2)<7,0,MAX(0,SUM(OFFSET(Tableau1[[#This Row],[Heures]],-6,,7))+SUM(OFFSET(Tableau1[[#This Row],[H_Abs]],-6,,7))-_HS)) -> 0
B25: =WEEKNUM(Tableau1[[#This Row],[Date]]) -> 4 | C25: =debut+ROW()-ROW(Tableau1[[#Headers],[Date]])-1 -> 45313 | D25: =UPPER(TEXT((Tableau1[[#This Row],[Date]]),"mmmm")) -> JANVIER | E25: =YEAR(Tableau1[[#This Row],[Date]]) -> 2024 | F25: 0.20833333 | G25: 0.5 | K25: =MOD(Tableau1[[#This Row],[Fin apm]]-Tableau1[[#This Row],[Début apm]],1)+MOD(Tableau1[[#This Row],[Fin matin]]-Tableau1[[#This Row],[Début matin]],1) -> 0.29166667 | L25: =IFERROR(VLOOKUP(Tableau1[[#This Row],[Abs.]],Tmotif[],3,0),0) -> 0 | M25: =IF(WEEKDAY(Tableau1[[#This Row],[Date]],2)<7,0,MAX(0,SUM(OFFSET(Tableau1[[#This Row],[Heures]],-6,,7))+SUM(OFFSET(Tableau1[[#This Row],[H_Abs]],-6,,7))-_HS)) -> 0
B26: =WEEKNUM(Tableau1[[#This Row],[Date]]) -> 4 | C26: =debut+ROW()-ROW(Tableau1[[#Headers],[Date]])-1 -> 45314 | D26: =UPPER(TEXT((Tableau1[[#This Row],[Date]]),"mmmm")) -> JANVIER | E26: =YEAR(Tableau1[[#This Row],[Date]]) -> 2024 | F26: 0.20833333 | G26: 0.5 | K26: =MOD(Tableau1[[#This Row],[Fin apm]]-Tableau1[[#This Row],[Début apm]],1)+MOD(Tableau1[[#This Row],[Fin matin]]-Tableau1[[#This Row],[Début matin]],1) -> 0.29166667 | L26: =IFERROR(VLOOKUP(Tableau1[[#This Row],[Abs.]],Tmotif[],3,0),0) -> 0 | M26: =IF(WEEKDAY(Tableau1[[#This Row],[Date]],2)<7,0,MAX(0,SUM(OFFSET(Tableau1[[#This Row],[Heures]],-6,,7))+SUM(OFFSET(Tableau1[[#This Row],[H_Abs]],-6,,7))-_HS)) -> 0
B27: =WEEKNUM(Tableau1[[#This Row],[Date]]) -> 4 | C27: =debut+ROW()-ROW(Tableau1[[#Headers],[Date]])-1 -> 45315 | D27: =UPPER(TEXT((Tableau1[[#This Row],[Date]]),"mmmm")) -> JANVIER | E27: =YEAR(Tableau1[[#This Row],[Date]]) -> 2024 | F27: 0.20833333 | G27: 0.5 | K27: =MOD(Tableau1[[#This Row],[Fin apm]]-Tableau1[[#This Row],[Début apm]],1)+MOD(Tableau1[[#This Row],[Fin matin]]-Tableau1[[#This Row],[Début matin]],1) -> 0.29166667 | L27: =IFERROR(VLOOKUP(Tableau1[[#This Row],[Abs.]],Tmotif[],3,0),0) -> 0 | M27: =IF(WEEKDAY(Tableau1[[#This Row],[Date]],2)<7,0,MAX(0,SUM(OFFSET(Tableau1[[#This Row],[Heures]],-6,,7))+SUM(OFFSET(Tableau1[[#This Row],[H_Abs]],-6,,7))-_HS)) -> 0
B28: =WEEKNUM(Tableau1[[#This Row],[Date]]) -> 4 | C28: =debut+ROW()-ROW(Tableau1[[#Headers],[Date]])-1 -> 45316 | D28: =UPPER(TEXT((Tableau1[[#This Row],[Date]]),"mmmm")) -> JANVIER | E28: =YEAR(Tableau1[[#This Row],[Date]]) -> 2024 | F28: 0.20833333 | G28: 0.5 | K28: =MOD(Tableau1[[#This Row],[Fin apm]]-Tableau1[[#This Row],[Début apm]],1)+MOD(Tableau1[[#This Row],[Fin matin]]-Tableau1[[#This Row],[Début matin]],1) -> 0.29166667 | L28: =IFERROR(VLOOKUP(Tableau1[[#This Row],[Abs.]],Tmotif[],3,0),0) -> 0 | M28: =IF(WEEKDAY(Tableau1[[#This Row],[Date]],2)<7,0,MAX(0,SUM(OFFSET(Tableau1[[#This Row],[Heures]],-6,,7))+SUM(OFFSET(Tableau1[[#This Row],[H_Abs]],-6,,7))-_HS)) -> 0
B29: =WEEKNUM(Tableau1[[#This Row],[Date]]) -> 4 | C29: =debut+ROW()-ROW(Tableau1[[#Headers],[Date]])-1 -> 45317 | D29: =UPPER(TEXT((Tableau1[[#This Row],[Date]]),"mmmm")) -> JANVIER | E29: =YEAR(Tableau1[[#This Row],[Date]]) -> 2024 | F29: 0.20833333 | G29: 0.5 | K29: =MOD(Tableau1[[#This Row],[Fin apm]]-Tableau1[[#This Row],[Début apm]],1)+MOD(Tableau1[[#This Row],[Fin matin]]-Tableau1[[#This Row],[Début matin]],1) -> 0.29166667 | L29: =IFERROR(VLOOKUP(Tableau1[[#This Row],[Abs.]],Tmotif[],3,0),0) -> 0 | M29: =IF(WEEKDAY(Tableau1[[#This Row],[Date]],2)<7,0,MAX(0,SUM(OFFSET(Tableau1[[#This Row],[Heures]],-6,,7))+SUM(OFFSET(Tableau1[[#This Row],[H_Abs]],-6,,7))-_HS)) -> 0
B30: =WEEKNUM(Tableau1[[#This Row],[Date]]) -> 4 | C30: =debut+ROW()-ROW(Tableau1[[#Headers],[Date]])-1 -> 45318 | D30: =UPPER(TEXT((Tableau1[[#This Row],[Date]]),"mmmm")) -> JANVIER | E30: =YEAR(Tableau1[[#This Row],[Date]]) -> 2024 | K30: =MOD(Tableau1[[#This Row],[Fin apm]]-Tableau1[[#This Row],[Début apm]],1)+MOD(Tableau1[[#This Row],[Fin matin]]-Tableau1[[#This Row],[Début matin]],1) -> 0 | L30: =IFERROR(VLOOKUP(Tableau1[[#This Row],[Abs.]],Tmotif[],3,0),0) -> 0 | M30: =IF(WEEKDAY(Tableau1[[#This Row],[Date]],2)<7,0,MAX(0,SUM(OFFSET(Tableau1[[#This Row],[Heures]],-6,,7))+SUM(OFFSET(Tableau1[[#This Row],[H_Abs]],-6,,7))-_HS)) -> 0
B31: =WEEKNUM(Tableau1[[#This Row],[Date]]) -> 5 | C31: =debut+ROW()-ROW(Tableau1[[#Headers],[Date]])-1 -> 45319 | D31: =UPPER(TEXT((Tableau1[[#This Row],[Date]]),"mmmm")) -> JANVIER | E31: =YEAR(Tableau1[[#This Row],[Date]]) -> 2024 | K31: =MOD(Tableau1[[#This Row],[Fin apm]]-Tableau1[[#This Row],[Début apm]],1)+MOD(Tableau1[[#This Row],[Fin matin]]-Tableau1[[#This Row],[Début matin]],1) -> 0 | L31: =IFERROR(VLOOKUP(Tableau1[[#This Row],[Abs.]],Tmotif[],3,0),0) -> 0 | M31: =IF(WEEKDAY(Tableau1[[#This Row],[Date]],2)<7,0,MAX(0,SUM(OFFSET(Tableau1[[#This Row],[Heures]],-6,,7))+SUM(OFFSET(Tableau1[[#This Row],[H_Abs]],-6,,7))-_HS)) -> 0
B32: =WEEKNUM(Tableau1[[#This Row],[Date]]) -> 5 | C32: =debut+ROW()-ROW(Tableau1[[#Headers],[Date]])-1 -> 45320 | D32: =UPPER(TEXT((Tableau1[[#This Row],[Date]]),"mmmm")) -> JANVIER | E32: =YEAR(Tableau1[[#This Row],[Date]]) -> 2024 | K32: =MOD(Tableau1[[#This Row],[Fin apm]]-Tableau1[[#This Row],[Début apm]],1)+MOD(Tableau1[[#This Row],[Fin matin]]-Tableau1[[#This Row],[Début matin]],1) -> 0 | L32: =IFERROR(VLOOKUP(Tableau1[[#This Row],[Abs.]],Tmotif[],3,0),0) -> 0 | M32: =IF(WEEKDAY(Tableau1[[#This Row],[Date]],2)<7,0,MAX(0,SUM(OFFSET(Tableau1[[#This Row],[Heures]],-6,,7))+SUM(OFFSET(Tableau1[[#This Row],[H_Abs]],-6,,7))-_HS)) -> 0
B33: =WEEKNUM(Tableau1[[#This Row],[Date]]) -> 5 | C33: =debut+ROW()-ROW(Tableau1[[#Headers],[Date]])-1 -> 45321 | D33: =UPPER(TEXT((Tableau1[[#This Row],[Date]]),"mmmm")) -> JANVIER | E33: =YEAR(Tableau1[[#This Row],[Date]]) -> 2024 | F33: 0.20833333 | G33: 0.5 | K33: =MOD(Tableau1[[#This Row],[Fin apm]]-Tableau1[[#This Row],[Début apm]],1)+MOD(Tableau1[[#This Row],[Fin matin]]-Tableau1[[#This Row],[Début matin]],1) -> 0.29166667 | L33: =IFERROR(VLOOKUP(Tableau1[[#This Row],[Abs.]],Tmotif[],3,0),0) -> 0 | M33: =IF(WEEKDAY(Tableau1[[#This Row],[Date]],2)<7,0,MAX(0,SUM(OFFSET(Tableau1[[#This Row],[Heures]],-6,,7))+SUM(OFFSET(Tableau1[[#This Row],[H_Abs]],-6,,7))-_HS)) -> 0
B34: =WEEKNUM(Tableau1[[#This Row],[Date]]) -> 5 | C34: =debut+ROW()-ROW(Tableau1[[#Headers],[Date]])-1 -> 45322 | D34: =UPPER(TEXT((Tableau1[[#This Row],[Date]]),"mmmm")) -> JANVIER | E34: =YEAR(Tableau1[[#This Row],[Date]]) -> 2024 | F34: 0.20833333 | G34: 0.5 | K34: =MOD(Tableau1[[#This Row],[Fin apm]]-Tableau1[[#This Row],[Début apm]],1)+MOD(Tableau1[[#This Row],[Fin matin]]-Tableau1[[#This Row],[Début matin]],1) -> 0.29166667 | L34: =IFERROR(VLOOKUP(Tableau1[[#This Row],[Abs.]],Tmotif[],3,0),0) -> 0 | M34: =IF(WEEKDAY(Tableau1[[#This Row],[Date]],2)<7,0,MAX(0,SUM(OFFSET(Tableau1[[#This Row],[Heures]],-6,,7))+SUM(OFFSET(Tableau1[[#This Row],[H_Abs]],-6,,7))-_HS)) -> 0
B35: =WEEKNUM(Tableau1[[#This Row],[Date]]) -> 5 | C35: =debut+ROW()-ROW(Tableau1[[#Headers],[Date]])-1 -> 45323 | D35: =UPPER(TEXT((Tableau1[[#This Row],[Date]]),"mmmm")) -> FÉVRIER | E35: =YEAR(Tableau1[[#This Row],[Date]]) -> 2024 | F35: 0.20833333 | G35: 0.5 | K35: =MOD(Tableau1[[#This Row],[Fin apm]]-Tableau1[[#This Row],[Début apm]],1)+MOD(Tableau1[[#This Row],[Fin matin]]-Tableau1[[#This Row],[Début matin]],1) -> 0.29166667 | L35: =IFERROR(VLOOKUP(Tableau1[[#This Row],[Abs.]],Tmotif[],3,0),0) -> 0 | M35: =IF(WEEKDAY(Tableau1[[#This Row],[Date]],2)<7,0,MAX(0,SUM(OFFSET(Tableau1[[#This Row],[Heures]],-6,,7))+SUM(OFFSET(Tableau1[[#This Row],[H_Abs]],-6,,7))-_HS)) -> 0
B36: =WEEKNUM(Tableau1[[#This Row],[Date]]) -> 5 | C36: =debut+ROW()-ROW(Tableau1[[#Headers],[Date]])-1 -> 45324 | D36: =UPPER(TEXT((Tableau1[[#This Row],[Date]]),"mmmm")) -> FÉVRIER | E36: =YEAR(Tableau1[[#This Row],[Date]]) -> 2024 | F36: 0.20833333 | G36: 0.5 | K36: =MOD(Tableau1[[#This Row],[Fin apm]]-Tableau1[[#This Row],[Début apm]],1)+MOD(Tableau1[[#This Row],[Fin matin]]-Tableau1[[#This Row],[Début matin]],1) -> 0.29166667 | L36: =IFERROR(VLOOKUP(Tableau1[[#This Row],[Abs.]],Tmotif[],3,0),0) -> 0 | M36: =IF(WEEKDAY(Tableau1[[#This Row],[Date]],2)<7,0,MAX(0,SUM(OFFSET(Tableau1[[#This Row],[Heures]],-6,,7))+SUM(OFFSET(Tableau1[[#This Row],[H_Abs]],-6,,7))-_HS)) -> 0
B37: =WEEKNUM(Tableau1[[#This Row],[Date]]) -> 5 | C37: =debut+ROW()-ROW(Tableau1[[#Headers],[Date]])-1 -> 45325 | D37: =UPPER(TEXT((Tableau1[[#This Row],[Date]]),"mmmm")) -> FÉVRIER | E37: =YEAR(Tableau1[[#This Row],[Date]]) -> 2024 | K37: =MOD(Tableau1[[#This Row],[Fin apm]]-Tableau1[[#This Row],[Début apm]],1)+MOD(Tableau1[[#This Row],[Fin matin]]-Tableau1[[#This Row],[Début matin]],1) -> 0 | L37: =IFERROR(VLOOKUP(Tableau1[[#This Row],[Abs.]],Tmotif[],3,0),0) -> 0 | M37: =IF(WEEKDAY(Tableau1[[#This Row],[Date]],2)<7,0,MAX(0,SUM(OFFSET(Tableau1[[#This Row],[Heures]],-6,,7))+SUM(OFFSET(Tableau1[[#This Row],[H_Abs]],-6,,7))-_HS)) -> 0
B38: =WEEKNUM(Tableau1[[#This Row],[Date]]) -> 6 | C38: =debut+ROW()-ROW(Tableau1[[#Headers],[Date]])-1 -> 45326 | D38: =UPPER(TEXT((Tableau1[[#This Row],[Date]]),"mmmm")) -> FÉVRIER | E38: =YEAR(Tableau1[[#This Row],[Date]]) -> 2024 | K38: =MOD(Tableau1[[#This Row],[Fin apm]]-Tableau1[[#This Row],[Début apm]],1)+MOD(Tableau1[[#This Row],[Fin matin]]-Tableau1[[#This Row],[Début matin]],1) -> 0 | L38: =IFERROR(VLOOKUP(Tableau1[[#This Row],[Abs.]],Tmotif[],3,0),0) -> 0 | M38: =IF(WEEKDAY(Tableau1[[#This Row],[Date]],2)<7,0,MAX(0,SUM(OFFSET(Tableau1[[#This Row],[Heures]],-6,,7))+SUM(OFFSET(Tableau1[[#This Row],[H_Abs]],-6,,7))-_HS)) -> 0
B39: =WEEKNUM(Tableau1[[#This Row],[Date]]) -> 6 | C39: =debut+ROW()-ROW(Tableau1[[#Headers],[Date]])-1 -> 45327 | D39: =UPPER(TEXT((Tableau1[[#This Row],[Date]]),"mmmm")) -> FÉVRIER | E39: =YEAR(Tableau1[[#This Row],[Date]]) -> 2024 | F39: 0.20833333 | G39: 0.5 | K39: =MOD(Tableau1[[#This Row],[Fin apm]]-Tableau1[[#This Row],[Début apm]],1)+MOD(Tableau1[[#This Row],[Fin matin]]-Tableau1[[#This Row],[Début matin]],1) -> 0.29166667 | L39: =IFERROR(VLOOKUP(Tableau1[[#This Row],[Abs.]],Tmotif[],3,0),0) -> 0 | M39: =IF(WEEKDAY(Tableau1[[#This Row],[Date]],2)<7,0,MAX(0,SUM(OFFSET(Tableau1[[#This Row],[Heures]],-6,,7))+SUM(OFFSET(Tableau1[[#This Row],[H_Abs]],-6,,7))-_HS)) -> 0
B40: =WEEKNUM(Tableau1[[#This Row],[Date]]) -> 6 | C40: =debut+ROW()-ROW(Tableau1[[#Headers],[Date]])-1 -> 45328 | D40: =UPPER(TEXT((Tableau1[[#This Row],[Date]]),"mmmm")) -> FÉVRIER | E40: =YEAR(Tableau1[[#This Row],[Date]]) -> 2024 | F40: 0.20833333 | G40: 0.5 | K40: =MOD(Tableau1[[#This Row],[Fin apm]]-Tableau1[[#This Row],[Début apm]],1)+MOD(Tableau1[[#This Row],[Fin matin]]-Tableau1[[#This Row],[Début matin]],1) -> 0.29166667 | L40: =IFERROR(VLOOKUP(Tableau1[[#This Row],[Abs.]],Tmotif[],3,0),0) -> 0 | M40: =IF(WEEKDAY(Tableau1[[#This Row],[Date]],2)<7,0,MAX(0,SUM(OFFSET(Tableau1[[#This Row],[Heures]],-6,,7))+SUM(OFFSET(Tableau1[[#This Row],[H_Abs]],-6,,7))-_HS)) -> 0
B41: =WEEKNUM(Tableau1[[#This Row],[Date]]) -> 6 | C41: =debut+ROW()-ROW(Tableau1[[#Headers],[Date]])-1 -> 45329 | D41: =UPPER(TEXT((Tableau1[[#This Row],[Date]]),"mmmm")) -> FÉVRIER | E41: =YEAR(Tableau1[[#This Row],[Date]]) -> 2024 | F41: 0.20833333 | G41: 0.5 | K41: =MOD(Tableau1[[#This Row],[Fin apm]]-Tableau1[[#This Row],[Début apm]],1)+MOD(Tableau1[[#This Row],[Fin matin]]-Tableau1[[#This Row],[Début matin]],1) -> 0.29166667 | L41: =IFERROR(VLOOKUP(Tableau1[[#This Row],[Abs.]],Tmotif[],3,0),0) -> 0 | M41: =IF(WEEKDAY(Tableau1[[#This Row],[Date]],2)<7,0,MAX(0,SUM(OFFSET(Tableau1[[#This Row],[Heures]],-6,,7))+SUM(OFFSET(Tableau1[[#This Row],[H_Abs]],-6,,7))-_HS)) -> 0
...
