Workbook

Sheet Trajets covoiturés 2024
B1: Covoitureurs | C1: Nb trajets covoiturés | D1: Comme conducteur.trice | E1: Comme passager.e | F1: Nb jours covoiturés
B2: =Données!B2 -> EC | C2: =COUNTIF(Tableau1[[Conducteur.trice]:[Passager.e 4]],"=EC") -> 1 | D2: =COUNTIF(Tableau1[Conducteur.trice],"=EC") -> 1 | E2: =COUNTIF(Tableau1[[Passager.e 1]:[Passager.e 4]],"=EC") -> 0
B3: =Données!B3 -> RF | C3: =COUNTIF(Tableau1[[Trajet]:[Passager.e 4]],"=RF") -> 12 | D3: =COUNTIF(Tableau1[Conducteur.trice],"=RF") -> 7 | E3: =COUNTIF(Tableau1[[Passager.e 1]:[Passager.e 4]],"=RF") -> 5
B4: =Données!B4 -> MLG | C4: =COUNTIF(Tableau1[[Trajet]:[Passager.e 4]],"=MLG") -> 22 | D4: =COUNTIF(Tableau1[Conducteur.trice],"=MLG") -> 9 | E4: =COUNTIF(Tableau1[[Passager.e 1]:[Passager.e 4]],"=MLG") -> 13
B5: =Données!B5 -> AG | C5: =COUNTIF(Tableau1[[Trajet]:[Passager.e 4]],"=AG") -> 16 | D5: =COUNTIF(Tableau1[Conducteur.trice],"=AG") -> 9 | E5: =COUNTIF(Tableau1[[Passager.e 1]:[Passager.e 4]],"=AG") -> 7
B6: =Données!B6 -> FI | C6: =COUNTIF(Tableau1[[Trajet]:[Passager.e 4]],"=FI") -> 24 | D6: =COUNTIF(Tableau1[Conducteur.trice],"=FI") -> 8 | E6: =COUNTIF(Tableau1[[Passager.e 1]:[Passager.e 4]],"=FI") -> 16
B7: =Données!B7 -> PJ | C7: =COUNTIF(Tableau1[[Trajet]:[Passager.e 4]],"=PJ") -> 7 | D7: =COUNTIF(Tableau1[Conducteur.trice],"=PJ") -> 1 | E7: =COUNTIF(Tableau1[[Passager.e 1]:[Passager.e 4]],"=PJ") -> 6
B9: Date | C9: Trajet | D9: Conducteur.trice | E9: Passager.e 1 | F9: Passager.e 2 | G9: Passager.e 3 | H9: Passager.e 4
B12: 45370 | C12: Travail > Domicile | D12: AG | E12: FI
B13: 45370 | C13: Domicile > Travail | D13: AG | E13: FI
B14: 45365 | C14: Travail > Domicile | D14: FI | E14: MLG
B15: 45365 | C15: Domicile > Travail | D15: FI | E15: AG | F15: MLG
B16: 45363 | C16: Travail > Domicile | D16: MLG | E16: AG | F16: FI
B17: 45363 | C17: Domicile > Travail | D17: MLG | E17: AG | F17: FI
B18: 45348 | C18: Domicile > Travail | D18: FI | E18: MLG
B19: 45344 | C19: Travail > Domicile | D19: RF | E19: FI
B20: 45344 | C20: Domicile > Travail | D20: MLG | E20: AG | F20: FI
B21: 45342 | C21: Travail > Domicile | D21: RF | E21: MLG
B22: 45342 | C22: Domicile > Travail | D22: RF | E22: MLG
B23: 45341 | C23: Travail > Domicile | D23: MLG | E23: PJ
B24: 45338 | C24: Travail > Domicile | D24: RF | E24: AG
B25: 45338 | C25: Domicile > Travail | D25: FI | E25: AG
B26: 45337 | C26: Domicile > Travail | D26: EC | E26: RF
B27: 45337 | C27: Domicile > Travail | D27: AG | E27: FI | F27: MLG
B28: 45337 | C28: Travail > Domicile | D28: RF | E28: FI
B29: 45335 | C29: Travail > Domicile | D29: AG | E29: MLG
B30: 45335 | C30: Travail > Domicile | D30: PJ | E30: FI | F30: RF
B31: 45335 | C31: Domicile > Travail | D31: AG | E31: FI
B32: 45334 | C32: Travail > Domicile | D32: MLG | E32: PJ
B33: 45331 | C33: Domicile > Travail | D33: AG | E33: FI
B34: 45330 | C34: Domicile > Travail | D34: MLG | E34: FI | F34: AG
B35: 45327 | C35: Travail > Domicile | D35: MLG | E35: PJ
B36: 45323 | C36: Domicile > Travail | D36: FI | E36: MLG
B37: 45323 | C37: Travail > Domicile | D37: FI | E37: MLG
B38: 45321 | C38: Domicile > Travail | D38: AG | E38: RF
B39: 45321 | C39: Travail > Domicile | D39: FI | E39: MLG | F39: PJ
B40: 45314 | C40: Domicile > Travail | D40: RF | E40: FI
B41: 45314 | C41: Travail > Domicile | D41: RF | E41: FI
B42: 45313 | C42: Domicile > Travail | D42: FI | E42: MLG
B43: 45307 | C43: Domicile > Travail | D43: AG | E43: RF | F43: MLG | G43: FI
...

Sheet Données
A1: Trajet | B1: Covoitureurs | C1: Jour
A2: Domicile > Travail | B2: EC | C2: lundi
A3: Travail > Domicile | B3: RF | C3: mardi
B4: MLG | C4: mercredi
B5: AG | C5: jeudi
B6: FI | C6: vendredi
B7: PJ | C7: samedi
C8: dimanche
