Workbook

Sheet Feuil1
A1: GROUPE | C1: PAX | D1: 100 | E1: DATE | H1: HORAIRE
A2: Entrée | C2: =A10 -> Brioche au fromage | E2: MARDI SOIR | F2: 12 | G2: MARS | H2: 12H30
A3: Proteine | C3: =A22 -> carbonnade flamande | D3: bouteille/8 | F3: bouteille | H3: carton
A4: sauce | C4: =A29 -> sauce chorizo | D4: royal | F4: =D1/8 -> 12.5 | H4: =F4/6 -> 2.0833333
A5: Accompagnement1 | C5: =A38 -> poele leg | D5: brise de mer rosé | F5: =D1/8 -> 12.5 | H5: =F5/6 -> 2.0833333
A6: Accompagnement2 | C6: =A47 -> pdt tournées rissolées | D6: pain/3,5sole /4INTER | G6: pièce | H6: carton
A7: Fromage | C7: OUI | D7: Bgt sur sole | G7: =D1/3.5 -> 28.571429 | H7: =G7/25 -> 1.1428571
A8: Dessert | C8: =A55 -> nougat glacé | D8: Bgt inter | G8: =D1/4 -> 25
A9: CHOIX | C9: PRODUITS | D9: FOURNISSEUR | E9: COEFF | F9: STOCK | G9: BESOIN
A10: Brioche au fromage | B10: =$A$10&" "&1 -> Brioche au fromage 1 | C10: =VLOOKUP($B10,entrée!$A$1:$C$498,2,0) -> Brioche au fromage 37825 90GR | D10: =VLOOKUP($B10,entrée!$A$1:$C$498,3,0) -> SYSCO | E10: =VLOOKUP($B10,entrée!$A$1:$D$498,4,0) -> 1 | G10: =D1*E10-F10 -> 100 | H10: =VLOOKUP($B10,entrée!$A$1:$E$498,5,0) -> PIECE
B11: =$A$10&" "&2 -> Brioche au fromage 2 | C11: =VLOOKUP($B11,entrée!$A$1:$C$498,2,0) -> carotte rapée | D11: =VLOOKUP($B11,entrée!$A$1:$C$498,3,0) -> pons | E11: =VLOOKUP($B11,entrée!$A$1:$D$498,4,0) -> 0.01 | G11: =D1*E11-F11 -> 1 | H11: =VLOOKUP($B11,entrée!$A$1:$E$498,5,0) -> kg
B12: =$A$10&" "&3 -> Brioche au fromage 3 | C12: =VLOOKUP($B12,entrée!$A$1:$C$498,2,0) -> Mesclun | D12: =VLOOKUP($B12,entrée!$A$1:$C$498,3,0) -> pons | E12: =VLOOKUP($B12,entrée!$A$1:$D$498,4,0) -> 0.01 | G12: =D1*E12-F12 -> 1 | H12: =VLOOKUP($B12,entrée!$A$1:$E$498,5,0) -> kg
B13: =$A$10&" "&4 -> Brioche au fromage 4 | C13: =VLOOKUP($B13,entrée!$A$1:$C$498,2,0) -> vinaigrette | D13: =VLOOKUP($B13,entrée!$A$1:$C$498,3,0) -> 0 | E13: =VLOOKUP($B13,entrée!$A$1:$D$498,4,0) -> 0.005 | G13: =D1*E13-F13 -> 0.5 | H13: =VLOOKUP($B13,entrée!$A$1:$E$498,5,0) -> litre
B14: =$A$10&" "&5 -> Brioche au fromage 5 | C14: =VLOOKUP($B14,entrée!$A$1:$C$498,2,0) -> #N/A | D14: =VLOOKUP($B14,entrée!$A$1:$C$498,3,0) -> #N/A | E14: =VLOOKUP($B14,entrée!$A$1:$D$498,4,0) -> #N/A | G14: =D1*E14-F14 -> #N/A | H14: =VLOOKUP($B14,entrée!$A$1:$E$498,5,0) -> #N/A
B15: =$A$10&" "&6 -> Brioche au fromage 6 | C15: =VLOOKUP($B15,entrée!$A$1:$C$498,2,0) -> #N/A | D15: =VLOOKUP($B15,entrée!$A$1:$C$498,3,0) -> #N/A | E15: =VLOOKUP($B15,entrée!$A$1:$D$498,4,0) -> #N/A | G15: =D1*E15-F15 -> #N/A | H15: =VLOOKUP($B15,entrée!$A$1:$E$498,5,0) -> #N/A
B16: =$A$10&" "&7 -> Brioche au fromage 7 | C16: =VLOOKUP($B16,entrée!$A$1:$C$498,2,0) -> #N/A | D16: =VLOOKUP($B16,entrée!$A$1:$C$498,3,0) -> #N/A | E16: =VLOOKUP($B16,entrée!$A$1:$D$498,4,0) -> #N/A | G16: =D1*E16-F16 -> #N/A | H16: =VLOOKUP($B16,entrée!$A$1:$E$498,5,0) -> #N/A
B17: =$A$10&" "&8 -> Brioche au fromage 8 | C17: =VLOOKUP($B17,entrée!$A$1:$C$498,2,0) -> #N/A | D17: =VLOOKUP($B17,entrée!$A$1:$C$498,3,0) -> #N/A | E17: =VLOOKUP($B17,entrée!$A$1:$D$498,4,0) -> #N/A | G17: =D1*E17-F17 -> #N/A | H17: =VLOOKUP($B17,entrée!$A$1:$E$498,5,0) -> #N/A
B18: =$A$10&" "&9 -> Brioche au fromage 9 | C18: =VLOOKUP($B18,entrée!$A$1:$C$498,2,0) -> #N/A | D18: =VLOOKUP($B18,entrée!$A$1:$C$498,3,0) -> #N/A | E18: =VLOOKUP($B18,entrée!$A$1:$D$498,4,0) -> #N/A | G18: =D1*E18-F18 -> #N/A | H18: =VLOOKUP($B18,entrée!$A$1:$E$498,5,0) -> #N/A
B19: =$A$10&" "&10 -> Brioche au fromage 10 | C19: =VLOOKUP($B19,entrée!$A$1:$C$498,2,0) -> #N/A | D19: =VLOOKUP($B19,entrée!$A$1:$C$498,3,0) -> #N/A | E19: =VLOOKUP($B19,entrée!$A$1:$D$498,4,0) -> #N/A | G19: =D1*E19-F19 -> #N/A | H19: =VLOOKUP($B19,entrée!$A$1:$E$498,5,0) -> #N/A
B20: =$A$10&" "&11 -> Brioche au fromage 11 | C20: =VLOOKUP($B20,entrée!$A$1:$C$498,2,0) -> #N/A | D20: =VLOOKUP($B20,entrée!$A$1:$C$498,3,0) -> #N/A | E20: =VLOOKUP($B20,entrée!$A$1:$D$498,4,0) -> #N/A | G20: =D1*E20-F20 -> #N/A | H20: =VLOOKUP($B20,entrée!$A$1:$E$498,5,0) -> #N/A
B21: =$A$10&" "&12 -> Brioche au fromage 12 | C21: =VLOOKUP($B21,entrée!$A$1:$C$498,2,0) -> #N/A | D21: =VLOOKUP($B21,entrée!$A$1:$C$498,3,0) -> #N/A | E21: =VLOOKUP($B21,entrée!$A$1:$D$498,4,0) -> #N/A | G21: =D1*E21-F21 -> #N/A | H21: =VLOOKUP($B21,entrée!$A$1:$E$498,5,0) -> #N/A
A22: carbonnade flamande | B22: =$A$22&" "&1 -> carbonnade flamande 1 | C22: =VLOOKUP($B22,proteine!$A$1:$C$513,2,0) -> Noix de joue de bœuf (0207)(ct 5kg) | D22: =VLOOKUP($B22,proteine!$A$1:$C$513,3,0) -> sirf | E22: =VLOOKUP($B22,proteine!$A$1:$D$513,4,0) -> 0.2 | G22: =D1*E22-F22 -> 20 | H22: =VLOOKUP($B22,proteine!$A$1:$E$513,5,0) -> KG
B23: =$A$22&" "&2 -> carbonnade flamande 2 | C23: =VLOOKUP($B23,proteine!$A$1:$C$513,2,0) -> pain d'épice | D23: =VLOOKUP($B23,proteine!$A$1:$C$513,3,0) -> ouest frais | E23: =VLOOKUP($B23,proteine!$A$1:$D$513,4,0) -> 0.01 | G23: =D1*E23-F23 -> 1 | H23: =VLOOKUP($B23,proteine!$A$1:$E$513,5,0) -> KG
B24: =$A$22&" "&3 -> carbonnade flamande 3 | C24: =VLOOKUP($B24,proteine!$A$1:$C$513,2,0) -> ail | D24: =VLOOKUP($B24,proteine!$A$1:$C$513,3,0) -> gel cote | E24: =VLOOKUP($B24,proteine!$A$1:$D$513,4,0) -> 0.008 | G24: =D1*E24-F24 -> 0.8 | H24: =VLOOKUP($B24,proteine!$A$1:$E$513,5,0) -> KG
B25: =$A$22&" "&4 -> carbonnade flamande 4 | C25: =VLOOKUP($B25,proteine!$A$1:$C$513,2,0) -> oignon | D25: =VLOOKUP($B25,proteine!$A$1:$C$513,3,0) -> passion froid | E25: =VLOOKUP($B25,proteine!$A$1:$D$513,4,0) -> 0.015 | G25: =D1*E25-F25 -> 1.5 | H25: =VLOOKUP($B25,proteine!$A$1:$E$513,5,0) -> KG
B26: =$A$22&" "&5 -> carbonnade flamande 5 | C26: =VLOOKUP($B26,proteine!$A$1:$C$513,2,0) -> bière | D26: =VLOOKUP($B26,proteine!$A$1:$C$513,3,0) -> inter | E26: =VLOOKUP($B26,proteine!$A$1:$D$513,4,0) -> 0.015 | G26: =D1*E26-F26 -> 1.5 | H26: =VLOOKUP($B26,proteine!$A$1:$E$513,5,0) -> LITRE
B27: =$A$22&" "&6 -> carbonnade flamande 6 | C27: =VLOOKUP($B27,proteine!$A$1:$C$513,2,0) -> fond de veau | D27: =VLOOKUP($B27,proteine!$A$1:$C$513,3,0) -> ouest frais | E27: =VLOOKUP($B27,proteine!$A$1:$D$513,4,0) -> 0.002 | G27: =D1*E27-F27 -> 0.2 | H27: =VLOOKUP($B27,proteine!$A$1:$E$513,5,0) -> KG
B28: =$A$22&" "&7 -> carbonnade flamande 7 | C28: =VLOOKUP($B28,proteine!$A$1:$C$513,2,0) -> moutarde | D28: =VLOOKUP($B28,proteine!$A$1:$C$513,3,0) -> ouest frais | E28: =VLOOKUP($B28,proteine!$A$1:$D$513,4,0) -> 0.005 | G28: =D1*E28-F28 -> 0.5 | H28: =VLOOKUP($B28,proteine!$A$1:$E$513,5,0) -> KG
A29: sauce chorizo | B29: =$A$29&" "&1 -> sauce chorizo 1 | C29: =VLOOKUP($B29,sauce!$A$1:$C$501,2,0) -> Chorizo | D29: =VLOOKUP($B29,sauce!$A$1:$C$501,3,0) -> sirf | E29: =VLOOKUP($B29,sauce!$A$1:$D$501,4,0) -> 0.005 | G29: =D1*E29-F29 -> 0.5 | H29: =VLOOKUP($B29,sauce!$A$1:$E$501,5,0) -> kg
B30: =$A$29&" "&2 -> sauce chorizo 2 | C30: =VLOOKUP($B30,sauce!$A$1:$C$501,2,0) -> échalote | D30: =VLOOKUP($B30,sauce!$A$1:$C$501,3,0) -> passion froid | E30: =VLOOKUP($B30,sauce!$A$1:$D$501,4,0) -> 0.003 | G30: =D1*E30-F30 -> 0.3 | H30: =VLOOKUP($B30,sauce!$A$1:$E$501,5,0) -> kg
B31: =$A$29&" "&3 -> sauce chorizo 3 | C31: =VLOOKUP($B31,sauce!$A$1:$C$501,2,0) -> Tomate confite | D31: =VLOOKUP($B31,sauce!$A$1:$C$501,3,0) -> ouest frais | E31: =VLOOKUP($B31,sauce!$A$1:$D$501,4,0) -> 0.005 | G31: =D1*E31-F31 -> 0.5 | H31: =VLOOKUP($B31,sauce!$A$1:$E$501,5,0) -> kg
B32: =$A$29&" "&4 -> sauce chorizo 4 | C32: =VLOOKUP($B32,sauce!$A$1:$C$501,2,0) -> Crème liquide(44610) | D32: =VLOOKUP($B32,sauce!$A$1:$C$501,3,0) -> ouest frais | E32: =VLOOKUP($B32,sauce!$A$1:$D$501,4,0) -> 0.01 | G32: =D1*E32-F32 -> 1 | H32: =VLOOKUP($B32,sauce!$A$1:$E$501,5,0) -> litre
B33: =$A$29&" "&5 -> sauce chorizo 5 | C33: =VLOOKUP($B33,sauce!$A$1:$C$501,2,0) -> Farine | D33: =VLOOKUP($B33,sauce!$A$1:$C$501,3,0) -> ouest frais | E33: =VLOOKUP($B33,sauce!$A$1:$D$501,4,0) -> 0.001 | G33: =D1*E33-F33 -> 0.1 | H33: =VLOOKUP($B33,sauce!$A$1:$E$501,5,0) -> kg
B34: =$A$29&" "&6 -> sauce chorizo 6 | C34: =VLOOKUP($B34,sauce!$A$1:$C$501,2,0) -> 0 | D34: =VLOOKUP($B34,sauce!$A$1:$C$501,3,0) -> 0 | E34: =VLOOKUP($B34,sauce!$A$1:$D$501,4,0) -> 0 | G34: =D1*E34-F34 -> 0 | H34: =VLOOKUP($B34,sauce!$A$1:$E$501,5,0) -> 0
B35: =$A$29&" "&7 -> sauce chorizo 7 | C35: =VLOOKUP($B35,sauce!$A$1:$C$501,2,0) -> 0 | D35: =VLOOKUP($B35,sauce!$A$1:$C$501,3,0) -> 0 | E35: =VLOOKUP($B35,sauce!$A$1:$D$501,4,0) -> 0 | G35: =D1*E35-F35 -> 0 | H35: =VLOOKUP($B35,sauce!$A$1:$E$501,5,0) -> 0
B36: =$A$29&" "&8 -> sauce chorizo 8 | C36: =VLOOKUP($B36,sauce!$A$1:$C$501,2,0) -> #N/A | D36: =VLOOKUP($B36,sauce!$A$1:$C$501,3,0) -> #N/A | E36: =VLOOKUP($B36,sauce!$A$1:$D$501,4,0) -> #N/A | G36: =D1*E36-F36 -> #N/A | H36: =VLOOKUP($B36,sauce!$A$1:$E$501,5,0) -> #N/A
B37: =$A$29&" "&9 -> sauce chorizo 9 | C37: =VLOOKUP($B37,sauce!$A$1:$C$501,2,0) -> #N/A | D37: =VLOOKUP($B37,sauce!$A$1:$C$501,3,0) -> #N/A | E37: =VLOOKUP($B37,sauce!$A$1:$D$501,4,0) -> #N/A | G37: =D1*E37-F37 -> #N/A | H37: =VLOOKUP($B37,sauce!$A$1:$E$501,5,0) -> #N/A
A38: poele leg | B38: =$A$38&" "&1 -> poele leg 1 | C38: =VLOOKUP($B38,accompagnement!$A$1:$C$505,2,0) -> oignon rouge | D38: =VLOOKUP($B38,accompagnement!$A$1:$C$505,3,0) -> pons | E38: =VLOOKUP($B38,accompagnement!$A$1:$D$505,4,0) -> 0.01 | G38: =D1*E38-F38 -> 1 | H38: =VLOOKUP($B38,accompagnement!$A$1:$E$505,5,0) -> KG
B39: =$A$38&" "&2 -> poele leg 2 | C39: =VLOOKUP($B39,accompagnement!$A$1:$C$505,2,0) -> Petit pois | D39: =VLOOKUP($B39,accompagnement!$A$1:$C$505,3,0) -> sirf | E39: =VLOOKUP($B39,accompagnement!$A$1:$D$505,4,0) -> 0.03 | G39: =D1*E39-F39 -> 3 | H39: =VLOOKUP($B39,accompagnement!$A$1:$E$505,5,0) -> KG
B40: =$A$38&" "&3 -> poele leg 3 | C40: =VLOOKUP($B40,accompagnement!$A$1:$C$505,2,0) -> grenaille | D40: =VLOOKUP($B40,accompagnement!$A$1:$C$505,3,0) -> pons | E40: =VLOOKUP($B40,accompagnement!$A$1:$D$505,4,0) -> 0.15 | F40: 0 | G40: =D1*E40-F40 -> 15 | H40: =VLOOKUP($B40,accompagnement!$A$1:$E$505,5,0) -> KG
B41: =$A$38&" "&4 -> poele leg 4 | C41: =VLOOKUP($B41,accompagnement!$A$1:$C$505,2,0) -> pois croquants(7636) | D41: =VLOOKUP($B41,accompagnement!$A$1:$C$505,3,0) -> sirf | E41: =VLOOKUP($B41,accompagnement!$A$1:$D$505,4,0) -> 0.02 | G41: =D1*E41-F41 -> 2 | H41: =VLOOKUP($B41,accompagnement!$A$1:$E$505,5,0) -> KG
B42: =$A$38&" "&5 -> poele leg 5 | C42: =VLOOKUP($B42,accompagnement!$A$1:$C$505,2,0) -> persil | D42: =VLOOKUP($B42,accompagnement!$A$1:$C$505,3,0) -> sirf | E42: =VLOOKUP($B42,accompagnement!$A$1:$D$505,4,0) -> 0.005 | G42: =D1*E42-F42 -> 0.5 | H42: =VLOOKUP($B42,accompagnement!$A$1:$E$505,5,0) -> KG
B43: =$A$38&" "&6 -> poele leg 6 | C43: =VLOOKUP($B43,accompagnement!$A$1:$C$505,2,0) -> beurre | D43: =VLOOKUP($B43,accompagnement!$A$1:$C$505,3,0) -> ouest frais | E43: =VLOOKUP($B43,accompagnement!$A$1:$D$505,4,0) -> 0.005 | G43: =D1*E43-F43 -> 0.5 | H43: =VLOOKUP($B43,accompagnement!$A$1:$E$505,5,0) -> KG
B44: =$A$38&" "&7 -> poele leg 7 | C44: =VLOOKUP($B44,accompagnement!$A$1:$C$505,2,0) -> brocoli | D44: =VLOOKUP($B44,accompagnement!$A$1:$C$505,3,0) -> pons | E44: =VLOOKUP($B44,accompagnement!$A$1:$D$505,4,0) -> 0.02 | G44: =D1*E44-F44 -> 2 | H44: =VLOOKUP($B44,accompagnement!$A$1:$E$505,5,0) -> KG
B45: =$A$38&" "&8 -> poele leg 8 | C45: =VLOOKUP($B45,accompagnement!$A$1:$C$505,2,0) -> carotte | D45: =VLOOKUP($B45,accompagnement!$A$1:$C$505,3,0) -> pons | E45: =VLOOKUP($B45,accompagnement!$A$1:$D$505,4,0) -> 0.015 | G45: =D1*E45-F45 -> 1.5 | H45: =VLOOKUP($B45,accompagnement!$A$1:$E$505,5,0) -> KG
B46: =$A$38&" "&9 -> poele leg 9 | C46: =VLOOKUP($B46,accompagnement!$A$1:$C$505,2,0) -> #N/A | D46: =VLOOKUP($B46,accompagnement!$A$1:$C$505,3,0) -> #N/A | E46: =VLOOKUP($B46,accompagnement!$A$1:$D$505,4,0) -> #N/A | G46: =D1*E46-F46 -> #N/A | H46: =VLOOKUP($B46,accompagnement!$A$1:$E$505,5,0) -> #N/A
A47: pdt tournées rissolées | B47: =$A$47&" "&1 -> pdt tournées rissolées 1 | C47: =VLOOKUP($B47,accompagnement!$A$1:$C$505,2,0) -> pomme de terre | D47: =VLOOKUP($B47,accompagnement!$A$1:$C$505,3,0) -> pons | E47: =VLOOKUP($B47,accompagnement!$A$1:$D$505,4,0) -> 0.2 | G47: =D1*E47-F47 -> 20 | H47: =VLOOKUP($B47,accompagnement!$A$1:$E$505,5,0) -> kg
B48: =$A$47&" "&2 -> pdt tournées rissolées 2 | C48: =VLOOKUP($B48,accompagnement!$A$1:$C$505,2,0) -> huile | D48: =VLOOKUP($B48,accompagnement!$A$1:$C$505,3,0) -> ouest frais | E48: =VLOOKUP($B48,accompagnement!$A$1:$D$505,4,0) -> 0.01 | G48: =D1*E48-F48 -> 1 | H48: =VLOOKUP($B48,accompagnement!$A$1:$E$505,5,0) -> litre
B49: =$A$47&" "&3 -> pdt tournées rissolées 3 | C49: =VLOOKUP($B49,accompagnement!$A$1:$C$505,2,0) -> beurre | D49: =VLOOKUP($B49,accompagnement!$A$1:$C$505,3,0) -> ouest frais | E49: =VLOOKUP($B49,accompagnement!$A$1:$D$505,4,0) -> 0.005 | G49: =D1*E49-F49 -> 0.5 | H49: =VLOOKUP($B49,accompagnement!$A$1:$E$505,5,0) -> kg
B50: =$A$47&" "&4 -> pdt tournées rissolées 4 | C50: =VLOOKUP($B50,accompagnement!$A$1:$C$505,2,0) -> #N/A | D50: =VLOOKUP($B50,accompagnement!$A$1:$C$505,3,0) -> #N/A | E50: =VLOOKUP($B50,accompagnement!$A$1:$D$505,4,0) -> #N/A | F50: 0 | G50: =D1*E50-F50 -> #N/A | H50: =VLOOKUP($B50,accompagnement!$A$1:$E$505,5,0) -> #N/A
B51: =$A$47&" "&5 -> pdt tournées rissolées 5 | C51: =VLOOKUP($B51,accompagnement!$A$1:$C$505,2,0) -> #N/A | D51: =VLOOKUP($B51,accompagnement!$A$1:$C$505,3,0) -> #N/A | E51: =VLOOKUP($B51,accompagnement!$A$1:$D$505,4,0) -> #N/A | G51: =D1*E51-F51 -> #N/A | H51: =VLOOKUP($B51,accompagnement!$A$1:$E$505,5,0) -> #N/A
B52: =$A$47&" "&6 -> pdt tournées rissolées 6 | C52: =VLOOKUP($B52,accompagnement!$A$1:$C$505,2,0) -> #N/A | D52: =VLOOKUP($B52,accompagnement!$A$1:$C$505,3,0) -> #N/A | E52: =VLOOKUP($B52,accompagnement!$A$1:$D$505,4,0) -> #N/A | G52: =D1*E52-F52 -> #N/A | H52: =VLOOKUP($B52,accompagnement!$A$1:$E$505,5,0) -> #N/A
B53: =$A$467&" "&7 -> 7 | C53: =VLOOKUP($B53,accompagnement!$A$1:$C$505,2,0) -> #N/A | D53: =VLOOKUP($B53,accompagnement!$A$1:$C$505,3,0) -> #N/A | E53: =VLOOKUP($B53,accompagnement!$A$1:$D$505,4,0) -> #N/A | G53: =D1*E53-F53 -> #N/A | H53: =VLOOKUP($B53,accompagnement!$A$1:$E$505,5,0) -> #N/A
B54: =$A$467&" "&8 -> 8 | C54: =VLOOKUP($B54,accompagnement!$A$1:$C$505,2,0) -> #N/A | D54: =VLOOKUP($B54,accompagnement!$A$1:$C$505,3,0) -> #N/A | E54: =VLOOKUP($B54,accompagnement!$A$1:$D$505,4,0) -> #N/A | G54: =D1*E54-F54 -> #N/A | H54: =VLOOKUP($B54,accompagnement!$A$1:$E$505,5,0) -> #N/A
A55: nougat glacé | B55: =$A$55&" "&1 -> nougat glacé 1 | C55: =VLOOKUP($B55,dessert!$A$1:$C$493,2,0) -> nougat glacé (9698)1€30(ct16) | D55: =VLOOKUP($B55,dessert!$A$1:$C$493,3,0) -> gel cote | E55: =VLOOKUP($B55,dessert!$A$1:$D$493,4,0) -> 1 | G55: =D1*E55-F55 -> 100 | H55: =VLOOKUP($B55,dessert!$A$1:$E$493,5,0) -> piece
B56: =$A$55&" "&2 -> nougat glacé 2 | C56: =VLOOKUP($B56,dessert!$A$1:$C$493,2,0) -> coulis fruit rouge | D56: =VLOOKUP($B56,dessert!$A$1:$C$493,3,0) -> ouest frais | E56: =VLOOKUP($B56,dessert!$A$1:$D$493,4,0) -> 0.01 | G56: =D1*E56-F56 -> 1 | H56: =VLOOKUP($B56,dessert!$A$1:$E$493,5,0) -> litre
B57: =$A$55&" "&3 -> nougat glacé 3 | C57: =VLOOKUP($B57,dessert!$A$1:$C$493,2,0) -> #N/A | D57: =VLOOKUP($B57,dessert!$A$1:$C$493,3,0) -> #N/A | E57: =VLOOKUP($B57,dessert!$A$1:$D$493,4,0) -> #N/A | F57: 0 | G57: =D1*E57-F57 -> #N/A | H57: =VLOOKUP($B57,dessert!$A$1:$E$493,5,0) -> #N/A
B58: =$A$55&" "&4 -> nougat glacé 4 | C58: =VLOOKUP($B58,dessert!$A$1:$C$493,2,0) -> #N/A | D58: =VLOOKUP($B58,dessert!$A$1:$C$493,3,0) -> #N/A | E58: =VLOOKUP($B58,dessert!$A$1:$D$493,4,0) -> #N/A | G58: =D1*E58-F58 -> #N/A | H58: =VLOOKUP($B58,dessert!$A$1:$E$493,5,0) -> #N/A
B59: =$A$55&" "&5 -> nougat glacé 5 | C59: =VLOOKUP($B59,dessert!$A$1:$C$493,2,0) -> #N/A | D59: =VLOOKUP($B59,dessert!$A$1:$C$493,3,0) -> #N/A | E59: =VLOOKUP($B59,dessert!$A$1:$D$493,4,0) -> #N/A | G59: =D1*E59-F59 -> #N/A | H59: litre

Sheet Feuil2
A1: GROUPE | C1: PAX | D1: 100 | E1: DATE | H1: HORAIRE
A2: Entrée | C2: =A10 -> tomate mozza | E2: MARDI SOIR | F2: 12 | G2: MARS | H2: 12H30
A3: Proteine | C3: =A22 -> roti de veau | D3: bouteille/8 | F3: bouteille | H3: carton
A4: sauce | C4: =A29 -> sauce chorizo | D4: royal | F4: =D1/8 -> 12.5 | H4: =F4/6 -> 2.0833333
A5: Accompagnement1 | C5: =A38 -> poele leg | D5: brise de mer rosé | F5: =D1/8 -> 12.5 | H5: =F5/6 -> 2.0833333
A6: Accompagnement2 | C6: =A47 -> pdt tournées rissolées | D6: pain/3,5sole /4INTER | G6: pièce | H6: carton
A7: Fromage | C7: OUI | D7: Bgt sur sole | G7: =D1/3.5 -> 28.571429 | H7: =G7/25 -> 1.1428571
A8: Dessert | C8: =A55 -> nougat glacé | D8: Bgt inter | G8: =D1/4 -> 25
A9: CHOIX | C9: PRODUITS | D9: FOURNISSEUR | E9: COEFF | F9: STOCK | G9: BESOIN
A10: tomate mozza | B10: =$A$10&" "&1 -> tomate mozza 1 | C10: =VLOOKUP($B10,entrée!$A$1:$C$498,2,0) -> tomate | D10: =VLOOKUP($B10,entrée!$A$1:$C$498,3,0) -> PONS | E10: =VLOOKUP($B10,entrée!$A$1:$D$498,4,0) -> 0.13 | G10: =D1*E10-F10 -> 13 | H10: =VLOOKUP($B10,entrée!$A$1:$E$498,5,0) -> KG
B11: =$A$10&" "&2 -> tomate mozza 2 | C11: =VLOOKUP($B11,entrée!$A$1:$C$498,2,0) -> roquette | D11: =VLOOKUP($B11,entrée!$A$1:$C$498,3,0) -> PONS | E11: =VLOOKUP($B11,entrée!$A$1:$D$498,4,0) -> 0.01 | G11: =D1*E11-F11 -> 1 | H11: =VLOOKUP($B11,entrée!$A$1:$E$498,5,0) -> KG
B12: =$A$10&" "&3 -> tomate mozza 3 | C12: =VLOOKUP($B12,entrée!$A$1:$C$498,2,0) -> basilic | D12: =VLOOKUP($B12,entrée!$A$1:$C$498,3,0) -> sirf | E12: =VLOOKUP($B12,entrée!$A$1:$D$498,4,0) -> 0.005 | G12: =D1*E12-F12 -> 0.5 | H12: =VLOOKUP($B12,entrée!$A$1:$E$498,5,0) -> KG
B13: =$A$10&" "&4 -> tomate mozza 4 | C13: =VLOOKUP($B13,entrée!$A$1:$C$498,2,0) -> mozzarella | D13: =VLOOKUP($B13,entrée!$A$1:$C$498,3,0) -> OUEST FRAIS | E13: =VLOOKUP($B13,entrée!$A$1:$D$498,4,0) -> 0.05 | G13: =D1*E13-F13 -> 5 | H13: =VLOOKUP($B13,entrée!$A$1:$E$498,5,0) -> KG
B14: =$A$10&" "&5 -> tomate mozza 5 | C14: =VLOOKUP($B14,entrée!$A$1:$C$498,2,0) -> huile olive | D14: =VLOOKUP($B14,entrée!$A$1:$C$498,3,0) -> OUEST FRAIS | E14: =VLOOKUP($B14,entrée!$A$1:$D$498,4,0) -> 0.01 | G14: =D1*E14-F14 -> 1 | H14: =VLOOKUP($B14,entrée!$A$1:$E$498,5,0) -> litre
B15: =$A$10&" "&6 -> tomate mozza 6 | C15: =VLOOKUP($B15,entrée!$A$1:$C$498,2,0) -> #N/A | D15: =VLOOKUP($B15,entrée!$A$1:$C$498,3,0) -> #N/A | E15: =VLOOKUP($B15,entrée!$A$1:$D$498,4,0) -> #N/A | G15: =D1*E15-F15 -> #N/A | H15: =VLOOKUP($B15,entrée!$A$1:$E$498,5,0) -> #N/A
B16: =$A$10&" "&7 -> tomate mozza 7 | C16: =VLOOKUP($B16,entrée!$A$1:$C$498,2,0) -> #N/A | D16: =VLOOKUP($B16,entrée!$A$1:$C$498,3,0) -> #N/A | E16: =VLOOKUP($B16,entrée!$A$1:$D$498,4,0) -> #N/A | G16: =D1*E16-F16 -> #N/A | H16: =VLOOKUP($B16,entrée!$A$1:$E$498,5,0) -> #N/A
B17: =$A$10&" "&8 -> tomate mozza 8 | C17: =VLOOKUP($B17,entrée!$A$1:$C$498,2,0) -> #N/A | D17: =VLOOKUP($B17,entrée!$A$1:$C$498,3,0) -> #N/A | E17: =VLOOKUP($B17,entrée!$A$1:$D$498,4,0) -> #N/A | G17: =D1*E17-F17 -> #N/A | H17: =VLOOKUP($B17,entrée!$A$1:$E$498,5,0) -> #N/A
B18: =$A$10&" "&9 -> tomate mozza 9 | C18: =VLOOKUP($B18,entrée!$A$1:$C$498,2,0) -> #N/A | D18: =VLOOKUP($B18,entrée!$A$1:$C$498,3,0) -> #N/A | E18: =VLOOKUP($B18,entrée!$A$1:$D$498,4,0) -> #N/A | G18: =D1*E18-F18 -> #N/A | H18: =VLOOKUP($B18,entrée!$A$1:$E$498,5,0) -> #N/A
B19: =$A$10&" "&10 -> tomate mozza 10 | C19: =VLOOKUP($B19,entrée!$A$1:$C$498,2,0) -> #N/A | D19: =VLOOKUP($B19,entrée!$A$1:$C$498,3,0) -> #N/A | E19: =VLOOKUP($B19,entrée!$A$1:$D$498,4,0) -> #N/A | G19: =D1*E19-F19 -> #N/A | H19: =VLOOKUP($B19,entrée!$A$1:$E$498,5,0) -> #N/A
B20: =$A$10&" "&11 -> tomate mozza 11 | C20: =VLOOKUP($B20,entrée!$A$1:$C$498,2,0) -> #N/A | D20: =VLOOKUP($B20,entrée!$A$1:$C$498,3,0) -> #N/A | E20: =VLOOKUP($B20,entrée!$A$1:$D$498,4,0) -> #N/A | G20: =D1*E20-F20 -> #N/A | H20: =VLOOKUP($B20,entrée!$A$1:$E$498,5,0) -> #N/A
B21: =$A$10&" "&12 -> tomate mozza 12 | C21: =VLOOKUP($B21,entrée!$A$1:$C$498,2,0) -> #N/A | D21: =VLOOKUP($B21,entrée!$A$1:$C$498,3,0) -> #N/A | E21: =VLOOKUP($B21,entrée!$A$1:$D$498,4,0) -> #N/A | G21: =D1*E21-F21 -> #N/A | H21: =VLOOKUP($B21,entrée!$A$1:$E$498,5,0) -> #N/A
A22: roti de veau | B22: =$A$22&" "&1 -> roti de veau 1 | C22: =VLOOKUP($B22,proteine!$A$1:$C$513,2,0) -> roti de veau (171189) 12€91 | D22: =VLOOKUP($B22,proteine!$A$1:$C$513,3,0) -> passion froid | E22: =VLOOKUP($B22,proteine!$A$1:$D$513,4,0) -> 0.16 | G22: =D1*E22-F22 -> 16 | H22: =VLOOKUP($B22,proteine!$A$1:$E$513,5,0) -> KG
B23: =$A$22&" "&2 -> roti de veau 2 | C23: =VLOOKUP($B23,proteine!$A$1:$C$513,2,0) -> Ail | D23: =VLOOKUP($B23,proteine!$A$1:$C$513,3,0) -> gel cote | E23: =VLOOKUP($B23,proteine!$A$1:$D$513,4,0) -> 0.002 | G23: =D1*E23-F23 -> 0.2 | H23: =VLOOKUP($B23,proteine!$A$1:$E$513,5,0) -> KG
B24: =$A$22&" "&3 -> roti de veau 3 | C24: =VLOOKUP($B24,proteine!$A$1:$C$513,2,0) -> Oignon émincé | D24: =VLOOKUP($B24,proteine!$A$1:$C$513,3,0) -> passion froid | E24: =VLOOKUP($B24,proteine!$A$1:$D$513,4,0) -> 0.015 | G24: =D1*E24-F24 -> 1.5 | H24: =VLOOKUP($B24,proteine!$A$1:$E$513,5,0) -> KG
B25: =$A$22&" "&4 -> roti de veau 4 | C25: =VLOOKUP($B25,proteine!$A$1:$C$513,2,0) -> Fond veau miel | D25: =VLOOKUP($B25,proteine!$A$1:$C$513,3,0) -> ouest frais | E25: =VLOOKUP($B25,proteine!$A$1:$D$513,4,0) -> 0.001 | G25: =D1*E25-F25 -> 0.1 | H25: =VLOOKUP($B25,proteine!$A$1:$E$513,5,0) -> KG
B26: =$A$22&" "&5 -> roti de veau 5 | C26: =VLOOKUP($B26,proteine!$A$1:$C$513,2,0) -> Vin blanc | D26: =VLOOKUP($B26,proteine!$A$1:$C$513,3,0) -> cave coop | E26: =VLOOKUP($B26,proteine!$A$1:$D$513,4,0) -> 0.008 | G26: =D1*E26-F26 -> 0.8 | H26: =VLOOKUP($B26,proteine!$A$1:$E$513,5,0) -> LITRE
B27: =$A$22&" "&6 -> roti de veau 6 | C27: =VLOOKUP($B27,proteine!$A$1:$C$513,2,0) -> champignon | D27: =VLOOKUP($B27,proteine!$A$1:$C$513,3,0) -> pons | E27: =VLOOKUP($B27,proteine!$A$1:$D$513,4,0) -> 0.02 | G27: =D1*E27-F27 -> 2 | H27: =VLOOKUP($B27,proteine!$A$1:$E$513,5,0) -> kg
B28: =$A$22&" "&7 -> roti de veau 7 | C28: =VLOOKUP($B28,proteine!$A$1:$C$513,2,0) -> carotte | D28: =VLOOKUP($B28,proteine!$A$1:$C$513,3,0) -> pons | E28: =VLOOKUP($B28,proteine!$A$1:$D$513,4,0) -> 0.02 | G28: =D1*E28-F28 -> 2 | H28: =VLOOKUP($B28,proteine!$A$1:$E$513,5,0) -> kg
A29: sauce chorizo | B29: =$A$29&" "&1 -> sauce chorizo 1 | C29: =VLOOKUP($B29,sauce!$A$1:$C$501,2,0) -> Chorizo | D29: =VLOOKUP($B29,sauce!$A$1:$C$501,3,0) -> sirf | E29: =VLOOKUP($B29,sauce!$A$1:$D$501,4,0) -> 0.005 | G29: =D1*E29-F29 -> 0.5 | H29: =VLOOKUP($B29,sauce!$A$1:$E$501,5,0) -> kg
B30: =$A$29&" "&2 -> sauce chorizo 2 | C30: =VLOOKUP($B30,sauce!$A$1:$C$501,2,0) -> échalote | D30: =VLOOKUP($B30,sauce!$A$1:$C$501,3,0) -> passion froid | E30: =VLOOKUP($B30,sauce!$A$1:$D$501,4,0) -> 0.003 | G30: =D1*E30-F30 -> 0.3 | H30: =VLOOKUP($B30,sauce!$A$1:$E$501,5,0) -> kg
B31: =$A$29&" "&3 -> sauce chorizo 3 | C31: =VLOOKUP($B31,sauce!$A$1:$C$501,2,0) -> Tomate confite | D31: =VLOOKUP($B31,sauce!$A$1:$C$501,3,0) -> ouest frais | E31: =VLOOKUP($B31,sauce!$A$1:$D$501,4,0) -> 0.005 | G31: =D1*E31-F31 -> 0.5 | H31: =VLOOKUP($B31,sauce!$A$1:$E$501,5,0) -> kg
B32: =$A$29&" "&4 -> sauce chorizo 4 | C32: =VLOOKUP($B32,sauce!$A$1:$C$501,2,0) -> Crème liquide(44610) | D32: =VLOOKUP($B32,sauce!$A$1:$C$501,3,0) -> ouest frais | E32: =VLOOKUP($B32,sauce!$A$1:$D$501,4,0) -> 0.01 | G32: =D1*E32-F32 -> 1 | H32: =VLOOKUP($B32,sauce!$A$1:$E$501,5,0) -> litre
B33: =$A$29&" "&5 -> sauce chorizo 5 | C33: =VLOOKUP($B33,sauce!$A$1:$C$501,2,0) -> Farine | D33: =VLOOKUP($B33,sauce!$A$1:$C$501,3,0) -> ouest frais | E33: =VLOOKUP($B33,sauce!$A$1:$D$501,4,0) -> 0.001 | G33: =D1*E33-F33 -> 0.1 | H33: =VLOOKUP($B33,sauce!$A$1:$E$501,5,0) -> kg
B34: =$A$29&" "&6 -> sauce chorizo 6 | C34: =VLOOKUP($B34,sauce!$A$1:$C$501,2,0) -> 0 | D34: =VLOOKUP($B34,sauce!$A$1:$C$501,3,0) -> 0 | E34: =VLOOKUP($B34,sauce!$A$1:$D$501,4,0) -> 0 | G34: =D1*E34-F34 -> 0 | H34: =VLOOKUP($B34,sauce!$A$1:$E$501,5,0) -> 0
B35: =$A$29&" "&7 -> sauce chorizo 7 | C35: =VLOOKUP($B35,sauce!$A$1:$C$501,2,0) -> 0 | D35: =VLOOKUP($B35,sauce!$A$1:$C$501,3,0) -> 0 | E35: =VLOOKUP($B35,sauce!$A$1:$D$501,4,0) -> 0 | G35: =D1*E35-F35 -> 0 | H35: =VLOOKUP($B35,sauce!$A$1:$E$501,5,0) -> 0
B36: =$A$29&" "&8 -> sauce chorizo 8 | C36: =VLOOKUP($B36,sauce!$A$1:$C$501,2,0) -> #N/A | D36: =VLOOKUP($B36,sauce!$A$1:$C$501,3,0) -> #N/A | E36: =VLOOKUP($B36,sauce!$A$1:$D$501,4,0) -> #N/A | G36: =D1*E36-F36 -> #N/A | H36: =VLOOKUP($B36,sauce!$A$1:$E$501,5,0) -> #N/A
B37: =$A$29&" "&9 -> sauce chorizo 9 | C37: =VLOOKUP($B37,sauce!$A$1:$C$501,2,0) -> #N/A | D37: =VLOOKUP($B37,sauce!$A$1:$C$501,3,0) -> #N/A | E37: =VLOOKUP($B37,sauce!$A$1:$D$501,4,0) -> #N/A | G37: =D1*E37-F37 -> #N/A | H37: =VLOOKUP($B37,sauce!$A$1:$E$501,5,0) -> #N/A
A38: poele leg | B38: =$A$38&" "&1 -> poele leg 1 | C38: =VLOOKUP($B38,accompagnement!$A$1:$C$505,2,0) -> oignon rouge | D38: =VLOOKUP($B38,accompagnement!$A$1:$C$505,3,0) -> pons | E38: =VLOOKUP($B38,accompagnement!$A$1:$D$505,4,0) -> 0.01 | G38: =D1*E38-F38 -> 1 | H38: =VLOOKUP($B38,accompagnement!$A$1:$E$505,5,0) -> KG
B39: =$A$38&" "&2 -> poele leg 2 | C39: =VLOOKUP($B39,accompagnement!$A$1:$C$505,2,0) -> Petit pois | D39: =VLOOKUP($B39,accompagnement!$A$1:$C$505,3,0) -> sirf | E39: =VLOOKUP($B39,accompagnement!$A$1:$D$505,4,0) -> 0.03 | G39: =D1*E39-F39 -> 3 | H39: =VLOOKUP($B39,accompagnement!$A$1:$E$505,5,0) -> KG
B40: =$A$38&" "&3 -> poele leg 3 | C40: =VLOOKUP($B40,accompagnement!$A$1:$C$505,2,0) -> grenaille | D40: =VLOOKUP($B40,accompagnement!$A$1:$C$505,3,0) -> pons | E40: =VLOOKUP($B40,accompagnement!$A$1:$D$505,4,0) -> 0.15 | F40: 0 | G40: =D1*E40-F40 -> 15 | H40: =VLOOKUP($B40,accompagnement!$A$1:$E$505,5,0) -> KG
B41: =$A$38&" "&4 -> poele leg 4 | C41: =VLOOKUP($B41,accompagnement!$A$1:$C$505,2,0) -> pois croquants(7636) | D41: =VLOOKUP($B41,accompagnement!$A$1:$C$505,3,0) -> sirf | E41: =VLOOKUP($B41,accompagnement!$A$1:$D$505,4,0) -> 0.02 | G41: =D1*E41-F41 -> 2 | H41: =VLOOKUP($B41,accompagnement!$A$1:$E$505,5,0) -> KG
B42: =$A$38&" "&5 -> poele leg 5 | C42: =VLOOKUP($B42,accompagnement!$A$1:$C$505,2,0) -> persil | D42: =VLOOKUP($B42,accompagnement!$A$1:$C$505,3,0) -> sirf | E42: =VLOOKUP($B42,accompagnement!$A$1:$D$505,4,0) -> 0.005 | G42: =D1*E42-F42 -> 0.5 | H42: =VLOOKUP($B42,accompagnement!$A$1:$E$505,5,0) -> KG
B43: =$A$38&" "&6 -> poele leg 6 | C43: =VLOOKUP($B43,accompagnement!$A$1:$C$505,2,0) -> beurre | D43: =VLOOKUP($B43,accompagnement!$A$1:$C$505,3,0) -> ouest frais | E43: =VLOOKUP($B43,accompagnement!$A$1:$D$505,4,0) -> 0.005 | G43: =D1*E43-F43 -> 0.5 | H43: =VLOOKUP($B43,accompagnement!$A$1:$E$505,5,0) -> KG
B44: =$A$38&" "&7 -> poele leg 7 | C44: =VLOOKUP($B44,accompagnement!$A$1:$C$505,2,0) -> brocoli | D44: =VLOOKUP($B44,accompagnement!$A$1:$C$505,3,0) -> pons | E44: =VLOOKUP($B44,accompagnement!$A$1:$D$505,4,0) -> 0.02 | G44: =D1*E44-F44 -> 2 | H44: =VLOOKUP($B44,accompagnement!$A$1:$E$505,5,0) -> KG
B45: =$A$38&" "&8 -> poele leg 8 | C45: =VLOOKUP($B45,accompagnement!$A$1:$C$505,2,0) -> carotte | D45: =VLOOKUP($B45,accompagnement!$A$1:$C$505,3,0) -> pons | E45: =VLOOKUP($B45,accompagnement!$A$1:$D$505,4,0) -> 0.015 | G45: =D1*E45-F45 -> 1.5 | H45: =VLOOKUP($B45,accompagnement!$A$1:$E$505,5,0) -> KG
B46: =$A$38&" "&9 -> poele leg 9 | C46: =VLOOKUP($B46,accompagnement!$A$1:$C$505,2,0) -> #N/A | D46: =VLOOKUP($B46,accompagnement!$A$1:$C$505,3,0) -> #N/A | E46: =VLOOKUP($B46,accompagnement!$A$1:$D$505,4,0) -> #N/A | G46: =D1*E46-F46 -> #N/A | H46: =VLOOKUP($B46,accompagnement!$A$1:$E$505,5,0) -> #N/A
A47: pdt tournées rissolées | B47: =$A$47&" "&1 -> pdt tournées rissolées 1 | C47: =VLOOKUP($B47,accompagnement!$A$1:$C$505,2,0) -> pomme de terre | D47: =VLOOKUP($B47,accompagnement!$A$1:$C$505,3,0) -> pons | E47: =VLOOKUP($B47,accompagnement!$A$1:$D$505,4,0) -> 0.2 | G47: =D1*E47-F47 -> 20 | H47: =VLOOKUP($B47,accompagnement!$A$1:$E$505,5,0) -> kg
B48: =$A$47&" "&2 -> pdt tournées rissolées 2 | C48: =VLOOKUP($B48,accompagnement!$A$1:$C$505,2,0) -> huile | D48: =VLOOKUP($B48,accompagnement!$A$1:$C$505,3,0) -> ouest frais | E48: =VLOOKUP($B48,accompagnement!$A$1:$D$505,4,0) -> 0.01 | G48: =D1*E48-F48 -> 1 | H48: =VLOOKUP($B48,accompagnement!$A$1:$E$505,5,0) -> litre
B49: =$A$47&" "&3 -> pdt tournées rissolées 3 | C49: =VLOOKUP($B49,accompagnement!$A$1:$C$505,2,0) -> beurre | D49: =VLOOKUP($B49,accompagnement!$A$1:$C$505,3,0) -> ouest frais | E49: =VLOOKUP($B49,accompagnement!$A$1:$D$505,4,0) -> 0.005 | G49: =D1*E49-F49 -> 0.5 | H49: =VLOOKUP($B49,accompagnement!$A$1:$E$505,5,0) -> kg
B50: =$A$47&" "&4 -> pdt tournées rissolées 4 | C50: =VLOOKUP($B50,accompagnement!$A$1:$C$505,2,0) -> #N/A | D50: =VLOOKUP($B50,accompagnement!$A$1:$C$505,3,0) -> #N/A | E50: =VLOOKUP($B50,accompagnement!$A$1:$D$505,4,0) -> #N/A | F50: 0 | G50: =D1*E50-F50 -> #N/A | H50: =VLOOKUP($B50,accompagnement!$A$1:$E$505,5,0) -> #N/A
B51: =$A$47&" "&5 -> pdt tournées rissolées 5 | C51: =VLOOKUP($B51,accompagnement!$A$1:$C$505,2,0) -> #N/A | D51: =VLOOKUP($B51,accompagnement!$A$1:$C$505,3,0) -> #N/A | E51: =VLOOKUP($B51,accompagnement!$A$1:$D$505,4,0) -> #N/A | G51: =D1*E51-F51 -> #N/A | H51: =VLOOKUP($B51,accompagnement!$A$1:$E$505,5,0) -> #N/A
B52: =$A$47&" "&6 -> pdt tournées rissolées 6 | C52: =VLOOKUP($B52,accompagnement!$A$1:$C$505,2,0) -> #N/A | D52: =VLOOKUP($B52,accompagnement!$A$1:$C$505,3,0) -> #N/A | E52: =VLOOKUP($B52,accompagnement!$A$1:$D$505,4,0) -> #N/A | G52: =D1*E52-F52 -> #N/A | H52: =VLOOKUP($B52,accompagnement!$A$1:$E$505,5,0) -> #N/A
B53: =$A$467&" "&7 -> 7 | C53: =VLOOKUP($B53,accompagnement!$A$1:$C$505,2,0) -> #N/A | D53: =VLOOKUP($B53,accompagnement!$A$1:$C$505,3,0) -> #N/A | E53: =VLOOKUP($B53,accompagnement!$A$1:$D$505,4,0) -> #N/A | G53: =D1*E53-F53 -> #N/A | H53: =VLOOKUP($B53,accompagnement!$A$1:$E$505,5,0) -> #N/A
B54: =$A$467&" "&8 -> 8 | C54: =VLOOKUP($B54,accompagnement!$A$1:$C$505,2,0) -> #N/A | D54: =VLOOKUP($B54,accompagnement!$A$1:$C$505,3,0) -> #N/A | E54: =VLOOKUP($B54,accompagnement!$A$1:$D$505,4,0) -> #N/A | G54: =D1*E54-F54 -> #N/A | H54: =VLOOKUP($B54,accompagnement!$A$1:$E$505,5,0) -> #N/A
A55: nougat glacé | B55: =$A$55&" "&1 -> nougat glacé 1 | C55: =VLOOKUP($B55,dessert!$A$1:$C$493,2,0) -> nougat glacé (9698)1€30(ct16) | D55: =VLOOKUP($B55,dessert!$A$1:$C$493,3,0) -> gel cote | E55: =VLOOKUP($B55,dessert!$A$1:$D$493,4,0) -> 1 | G55: =D1*E55-F55 -> 100 | H55: =VLOOKUP($B55,dessert!$A$1:$E$493,5,0) -> piece
B56: =$A$55&" "&2 -> nougat glacé 2 | C56: =VLOOKUP($B56,dessert!$A$1:$C$493,2,0) -> coulis fruit rouge | D56: =VLOOKUP($B56,dessert!$A$1:$C$493,3,0) -> ouest frais | E56: =VLOOKUP($B56,dessert!$A$1:$D$493,4,0) -> 0.01 | G56: =D1*E56-F56 -> 1 | H56: =VLOOKUP($B56,dessert!$A$1:$E$493,5,0) -> litre
B57: =$A$55&" "&3 -> nougat glacé 3 | C57: =VLOOKUP($B57,dessert!$A$1:$C$493,2,0) -> #N/A | D57: =VLOOKUP($B57,dessert!$A$1:$C$493,3,0) -> #N/A | E57: =VLOOKUP($B57,dessert!$A$1:$D$493,4,0) -> #N/A | F57: 0 | G57: =D1*E57-F57 -> #N/A | H57: =VLOOKUP($B57,dessert!$A$1:$E$493,5,0) -> #N/A
B58: =$A$55&" "&4 -> nougat glacé 4 | C58: =VLOOKUP($B58,dessert!$A$1:$C$493,2,0) -> #N/A | D58: =VLOOKUP($B58,dessert!$A$1:$C$493,3,0) -> #N/A | E58: =VLOOKUP($B58,dessert!$A$1:$D$493,4,0) -> #N/A | G58: =D1*E58-F58 -> #N/A | H58: =VLOOKUP($B58,dessert!$A$1:$E$493,5,0) -> #N/A
B59: =$A$55&" "&5 -> nougat glacé 5 | C59: =VLOOKUP($B59,dessert!$A$1:$C$493,2,0) -> #N/A | D59: =VLOOKUP($B59,dessert!$A$1:$C$493,3,0) -> #N/A | E59: =VLOOKUP($B59,dessert!$A$1:$D$493,4,0) -> #N/A | G59: =D1*E59-F59 -> #N/A | H59: litre

Sheet Feuil3
A1: GROUPE | C1: PAX | D1: 100 | E1: DATE | H1: HORAIRE
A2: Entrée | C2: =A10 -> SALADE ESPANA | E2: MARDI SOIR | F2: 12 | G2: MARS | H2: 12H30
A3: Proteine | C3: =A22 -> Poisson blanc | D3: bouteille/8 | F3: bouteille | H3: carton
A4: sauce | C4: =A29 -> sauce poivron vert | D4: royal | F4: =D1/8 -> 12.5 | H4: =F4/6 -> 2.0833333
A5: Accompagnement1 | C5: =A38 -> dipping fries | D5: brise de mer rosé | F5: =D1/8 -> 12.5 | H5: =F5/6 -> 2.0833333
A6: Accompagnement2 | C6: =A47 -> pdt tournées rissolées | D6: pain/3,5sole /4INTER | G6: pièce | H6: carton
A7: Fromage | C7: OUI | D7: Bgt sur sole | G7: =D1/3.5 -> 28.571429 | H7: =G7/25 -> 1.1428571
A8: Dessert | C8: =A55 -> tartare ananas mangue maison | D8: Bgt inter | G8: =D1/4 -> 25
A9: CHOIX | C9: PRODUITS | D9: FOURNISSEUR | E9: COEFF | F9: STOCK | G9: BESOIN
A10: SALADE ESPANA | B10: =$A$10&" "&1 -> SALADE ESPANA 1 | C10: =VLOOKUP($B10,entrée!$A$1:$C$498,2,0) -> laitue | D10: =VLOOKUP($B10,entrée!$A$1:$C$498,3,0) -> pons | E10: =VLOOKUP($B10,entrée!$A$1:$D$498,4,0) -> 0.03 | G10: =D1*E10-F10 -> 3 | H10: =VLOOKUP($B10,entrée!$A$1:$E$498,5,0) -> KG
B11: =$A$10&" "&2 -> SALADE ESPANA 2 | C11: =VLOOKUP($B11,entrée!$A$1:$C$498,2,0) -> mache | D11: =VLOOKUP($B11,entrée!$A$1:$C$498,3,0) -> pons | E11: =VLOOKUP($B11,entrée!$A$1:$D$498,4,0) -> 0.015 | G11: =D1*E11-F11 -> 1.5 | H11: =VLOOKUP($B11,entrée!$A$1:$E$498,5,0) -> KG
B12: =$A$10&" "&3 -> SALADE ESPANA 3 | C12: =VLOOKUP($B12,entrée!$A$1:$C$498,2,0) -> tomate | D12: =VLOOKUP($B12,entrée!$A$1:$C$498,3,0) -> pons | E12: =VLOOKUP($B12,entrée!$A$1:$D$498,4,0) -> 0.03 | G12: =D1*E12-F12 -> 3 | H12: =VLOOKUP($B12,entrée!$A$1:$E$498,5,0) -> KG
B13: =$A$10&" "&4 -> SALADE ESPANA 4 | C13: =VLOOKUP($B13,entrée!$A$1:$C$498,2,0) -> OIGNON | D13: =VLOOKUP($B13,entrée!$A$1:$C$498,3,0) -> pons | E13: =VLOOKUP($B13,entrée!$A$1:$D$498,4,0) -> 0.008 | G13: =D1*E13-F13 -> 0.8 | H13: =VLOOKUP($B13,entrée!$A$1:$E$498,5,0) -> KG
B14: =$A$10&" "&5 -> SALADE ESPANA 5 | C14: =VLOOKUP($B14,entrée!$A$1:$C$498,2,0) -> OLIVE VERTE | D14: =VLOOKUP($B14,entrée!$A$1:$C$498,3,0) -> ouest frais | E14: =VLOOKUP($B14,entrée!$A$1:$D$498,4,0) -> 0.015 | G14: =D1*E14-F14 -> 1.5 | H14: =VLOOKUP($B14,entrée!$A$1:$E$498,5,0) -> KG
B15: =$A$10&" "&6 -> SALADE ESPANA 6 | C15: =VLOOKUP($B15,entrée!$A$1:$C$498,2,0) -> MANCHEGO OU EMMENTAL(PRIX) | D15: =VLOOKUP($B15,entrée!$A$1:$C$498,3,0) -> ouest frais | E15: =VLOOKUP($B15,entrée!$A$1:$D$498,4,0) -> 0.015 | G15: =D1*E15-F15 -> 1.5 | H15: =VLOOKUP($B15,entrée!$A$1:$E$498,5,0) -> KG
B16: =$A$10&" "&7 -> SALADE ESPANA 7 | C16: =VLOOKUP($B16,entrée!$A$1:$C$498,2,0) -> #N/A | D16: =VLOOKUP($B16,entrée!$A$1:$C$498,3,0) -> #N/A | E16: =VLOOKUP($B16,entrée!$A$1:$D$498,4,0) -> #N/A | G16: =D1*E16-F16 -> #N/A | H16: =VLOOKUP($B16,entrée!$A$1:$E$498,5,0) -> #N/A
B17: =$A$10&" "&8 -> SALADE ESPANA 8 | C17: =VLOOKUP($B17,entrée!$A$1:$C$498,2,0) -> #N/A | D17: =VLOOKUP($B17,entrée!$A$1:$C$498,3,0) -> #N/A | E17: =VLOOKUP($B17,entrée!$A$1:$D$498,4,0) -> #N/A | G17: =D1*E17-F17 -> #N/A | H17: =VLOOKUP($B17,entrée!$A$1:$E$498,5,0) -> #N/A
B18: =$A$10&" "&9 -> SALADE ESPANA 9 | C18: =VLOOKUP($B18,entrée!$A$1:$C$498,2,0) -> #N/A | D18: =VLOOKUP($B18,entrée!$A$1:$C$498,3,0) -> #N/A | E18: =VLOOKUP($B18,entrée!$A$1:$D$498,4,0) -> #N/A | G18: =D1*E18-F18 -> #N/A | H18: =VLOOKUP($B18,entrée!$A$1:$E$498,5,0) -> #N/A
B19: =$A$10&" "&10 -> SALADE ESPANA 10 | C19: =VLOOKUP($B19,entrée!$A$1:$C$498,2,0) -> #N/A | D19: =VLOOKUP($B19,entrée!$A$1:$C$498,3,0) -> #N/A | E19: =VLOOKUP($B19,entrée!$A$1:$D$498,4,0) -> #N/A | G19: =D1*E19-F19 -> #N/A | H19: =VLOOKUP($B19,entrée!$A$1:$E$498,5,0) -> #N/A
B20: =$A$10&" "&11 -> SALADE ESPANA 11 | C20: =VLOOKUP($B20,entrée!$A$1:$C$498,2,0) -> #N/A | D20: =VLOOKUP($B20,entrée!$A$1:$C$498,3,0) -> #N/A | E20: =VLOOKUP($B20,entrée!$A$1:$D$498,4,0) -> #N/A | G20: =D1*E20-F20 -> #N/A | H20: =VLOOKUP($B20,entrée!$A$1:$E$498,5,0) -> #N/A
B21: =$A$10&" "&12 -> SALADE ESPANA 12 | C21: =VLOOKUP($B21,entrée!$A$1:$C$498,2,0) -> #N/A | D21: =VLOOKUP($B21,entrée!$A$1:$C$498,3,0) -> #N/A | E21: =VLOOKUP($B21,entrée!$A$1:$D$498,4,0) -> #N/A | G21: =D1*E21-F21 -> #N/A | H21: =VLOOKUP($B21,entrée!$A$1:$E$498,5,0) -> #N/A
A22: Poisson blanc | B22: =$A$22&" "&1 -> Poisson blanc 1 | C22: =VLOOKUP($B22,proteine!$A$1:$C$513,2,0) -> Poisson blanc | D22: =VLOOKUP($B22,proteine!$A$1:$C$513,3,0) -> mericq | E22: =VLOOKUP($B22,proteine!$A$1:$D$513,4,0) -> 0.15 | G22: =D1*E22-F22 -> 15 | H22: =VLOOKUP($B22,proteine!$A$1:$E$513,5,0) -> KG
B23: =$A$22&" "&2 -> Poisson blanc 2 | C23: =VLOOKUP($B23,proteine!$A$1:$C$513,2,0) -> beurre | D23: =VLOOKUP($B23,proteine!$A$1:$C$513,3,0) -> ouest frais | E23: =VLOOKUP($B23,proteine!$A$1:$D$513,4,0) -> 0.003 | G23: =D1*E23-F23 -> 0.3 | H23: =VLOOKUP($B23,proteine!$A$1:$E$513,5,0) -> KG
B24: =$A$22&" "&3 -> Poisson blanc 3 | C24: =VLOOKUP($B24,proteine!$A$1:$C$513,2,0) -> #N/A | D24: =VLOOKUP($B24,proteine!$A$1:$C$513,3,0) -> #N/A | E24: =VLOOKUP($B24,proteine!$A$1:$D$513,4,0) -> #N/A | G24: =D1*E24-F24 -> #N/A | H24: =VLOOKUP($B24,proteine!$A$1:$E$513,5,0) -> #N/A
B25: =$A$22&" "&4 -> Poisson blanc 4 | C25: =VLOOKUP($B25,proteine!$A$1:$C$513,2,0) -> #N/A | D25: =VLOOKUP($B25,proteine!$A$1:$C$513,3,0) -> #N/A | E25: =VLOOKUP($B25,proteine!$A$1:$D$513,4,0) -> #N/A | G25: =D1*E25-F25 -> #N/A | H25: =VLOOKUP($B25,proteine!$A$1:$E$513,5,0) -> #N/A
B26: =$A$22&" "&5 -> Poisson blanc 5 | C26: =VLOOKUP($B26,proteine!$A$1:$C$513,2,0) -> #N/A | D26: =VLOOKUP($B26,proteine!$A$1:$C$513,3,0) -> #N/A | E26: =VLOOKUP($B26,proteine!$A$1:$D$513,4,0) -> #N/A | G26: =D1*E26-F26 -> #N/A | H26: =VLOOKUP($B26,proteine!$A$1:$E$513,5,0) -> #N/A
B27: =$A$22&" "&6 -> Poisson blanc 6 | C27: =VLOOKUP($B27,proteine!$A$1:$C$513,2,0) -> #N/A | D27: =VLOOKUP($B27,proteine!$A$1:$C$513,3,0) -> #N/A | E27: =VLOOKUP($B27,proteine!$A$1:$D$513,4,0) -> #N/A | G27: =D1*E27-F27 -> #N/A | H27: =VLOOKUP($B27,proteine!$A$1:$E$513,5,0) -> #N/A
B28: =$A$22&" "&7 -> Poisson blanc 7 | C28: =VLOOKUP($B28,proteine!$A$1:$C$513,2,0) -> #N/A | D28: =VLOOKUP($B28,proteine!$A$1:$C$513,3,0) -> #N/A | E28: =VLOOKUP($B28,proteine!$A$1:$D$513,4,0) -> #N/A | G28: =D1*E28-F28 -> #N/A | H28: =VLOOKUP($B28,proteine!$A$1:$E$513,5,0) -> #N/A
A29: sauce poivron vert | B29: =$A$29&" "&1 -> sauce poivron vert 1 | C29: =VLOOKUP($B29,sauce!$A$1:$C$501,2,0) -> poivron vert | D29: =VLOOKUP($B29,sauce!$A$1:$C$501,3,0) -> pons | E29: =VLOOKUP($B29,sauce!$A$1:$D$501,4,0) -> 0.015 | G29: =D1*E29-F29 -> 1.5 | H29: =VLOOKUP($B29,sauce!$A$1:$E$501,5,0) -> KG
B30: =$A$29&" "&2 -> sauce poivron vert 2 | C30: =VLOOKUP($B30,sauce!$A$1:$C$501,2,0) -> Crème liquide(44610) | D30: =VLOOKUP($B30,sauce!$A$1:$C$501,3,0) -> ouest frais | E30: =VLOOKUP($B30,sauce!$A$1:$D$501,4,0) -> 0.01 | G30: =D1*E30-F30 -> 1 | H30: =VLOOKUP($B30,sauce!$A$1:$E$501,5,0) -> litre
B31: =$A$29&" "&3 -> sauce poivron vert 3 | C31: =VLOOKUP($B31,sauce!$A$1:$C$501,2,0) -> Vin blanc | D31: =VLOOKUP($B31,sauce!$A$1:$C$501,3,0) -> cave coop | E31: =VLOOKUP($B31,sauce!$A$1:$D$501,4,0) -> 0.005 | G31: =D1*E31-F31 -> 0.5 | H31: =VLOOKUP($B31,sauce!$A$1:$E$501,5,0) -> LITRE
B32: =$A$29&" "&4 -> sauce poivron vert 4 | C32: =VLOOKUP($B32,sauce!$A$1:$C$501,2,0) -> huile olive | D32: =VLOOKUP($B32,sauce!$A$1:$C$501,3,0) -> ouest frais | E32: =VLOOKUP($B32,sauce!$A$1:$D$501,4,0) -> 0.002 | G32: =D1*E32-F32 -> 0.2 | H32: =VLOOKUP($B32,sauce!$A$1:$E$501,5,0) -> KG
B33: =$A$29&" "&5 -> sauce poivron vert 5 | C33: =VLOOKUP($B33,sauce!$A$1:$C$501,2,0) -> Ail | D33: =VLOOKUP($B33,sauce!$A$1:$C$501,3,0) -> gel cote | E33: =VLOOKUP($B33,sauce!$A$1:$D$501,4,0) -> 0.002 | G33: =D1*E33-F33 -> 0.2 | H33: =VLOOKUP($B33,sauce!$A$1:$E$501,5,0) -> KG
B34: =$A$29&" "&6 -> sauce poivron vert 6 | C34: =VLOOKUP($B34,sauce!$A$1:$C$501,2,0) -> Farine | D34: =VLOOKUP($B34,sauce!$A$1:$C$501,3,0) -> ouest frais | E34: =VLOOKUP($B34,sauce!$A$1:$D$501,4,0) -> 0.003 | G34: =D1*E34-F34 -> 0.3 | H34: =VLOOKUP($B34,sauce!$A$1:$E$501,5,0) -> KG
B35: =$A$29&" "&7 -> sauce poivron vert 7 | C35: =VLOOKUP($B35,sauce!$A$1:$C$501,2,0) -> Fond de veau | D35: =VLOOKUP($B35,sauce!$A$1:$C$501,3,0) -> ouest frais | E35: =VLOOKUP($B35,sauce!$A$1:$D$501,4,0) -> 0.001 | G35: =D1*E35-F35 -> 0.1 | H35: =VLOOKUP($B35,sauce!$A$1:$E$501,5,0) -> KG
B36: =$A$29&" "&8 -> sauce poivron vert 8 | C36: =VLOOKUP($B36,sauce!$A$1:$C$501,2,0) -> #N/A | D36: =VLOOKUP($B36,sauce!$A$1:$C$501,3,0) -> #N/A | E36: =VLOOKUP($B36,sauce!$A$1:$D$501,4,0) -> #N/A | G36: =D1*E36-F36 -> #N/A | H36: =VLOOKUP($B36,sauce!$A$1:$E$501,5,0) -> #N/A
B37: =$A$29&" "&9 -> sauce poivron vert 9 | C37: =VLOOKUP($B37,sauce!$A$1:$C$501,2,0) -> #N/A | D37: =VLOOKUP($B37,sauce!$A$1:$C$501,3,0) -> #N/A | E37: =VLOOKUP($B37,sauce!$A$1:$D$501,4,0) -> #N/A | G37: =D1*E37-F37 -> #N/A | H37: =VLOOKUP($B37,sauce!$A$1:$E$501,5,0) -> #N/A
A38: dipping fries | B38: =$A$38&" "&1 -> dipping fries 1 | C38: =VLOOKUP($B38,accompagnement!$A$1:$C$505,2,0) -> dipping fries | D38: =VLOOKUP($B38,accompagnement!$A$1:$C$505,3,0) -> sirf | E38: =VLOOKUP($B38,accompagnement!$A$1:$D$505,4,0) -> 0.2 | G38: =D1*E38-F38 -> 20 | H38: =VLOOKUP($B38,accompagnement!$A$1:$E$505,5,0) -> kg
B39: =$A$38&" "&2 -> dipping fries 2 | C39: =VLOOKUP($B39,accompagnement!$A$1:$C$505,2,0) -> MESCLUN | D39: =VLOOKUP($B39,accompagnement!$A$1:$C$505,3,0) -> PONS | E39: =VLOOKUP($B39,accompagnement!$A$1:$D$505,4,0) -> 0.02 | G39: =D1*E39-F39 -> 2 | H39: =VLOOKUP($B39,accompagnement!$A$1:$E$505,5,0) -> KG
B40: =$A$38&" "&3 -> dipping fries 3 | C40: =VLOOKUP($B40,accompagnement!$A$1:$C$505,2,0) -> VINAIGRETTE | D40: =VLOOKUP($B40,accompagnement!$A$1:$C$505,3,0) -> 0 | E40: =VLOOKUP($B40,accompagnement!$A$1:$D$505,4,0) -> 0.005 | F40: 0 | G40: =D1*E40-F40 -> 0.5 | H40: =VLOOKUP($B40,accompagnement!$A$1:$E$505,5,0) -> LITRE
B41: =$A$38&" "&4 -> dipping fries 4 | C41: =VLOOKUP($B41,accompagnement!$A$1:$C$505,2,0) -> #N/A | D41: =VLOOKUP($B41,accompagnement!$A$1:$C$505,3,0) -> #N/A | E41: =VLOOKUP($B41,accompagnement!$A$1:$D$505,4,0) -> #N/A | G41: =D1*E41-F41 -> #N/A | H41: =VLOOKUP($B41,accompagnement!$A$1:$E$505,5,0) -> #N/A
B42: =$A$38&" "&5 -> dipping fries 5 | C42: =VLOOKUP($B42,accompagnement!$A$1:$C$505,2,0) -> #N/A | D42: =VLOOKUP($B42,accompagnement!$A$1:$C$505,3,0) -> #N/A | E42: =VLOOKUP($B42,accompagnement!$A$1:$D$505,4,0) -> #N/A | G42: =D1*E42-F42 -> #N/A | H42: =VLOOKUP($B42,accompagnement!$A$1:$E$505,5,0) -> #N/A
B43: =$A$38&" "&6 -> dipping fries 6 | C43: =VLOOKUP($B43,accompagnement!$A$1:$C$505,2,0) -> #N/A | D43: =VLOOKUP($B43,accompagnement!$A$1:$C$505,3,0) -> #N/A | E43: =VLOOKUP($B43,accompagnement!$A$1:$D$505,4,0) -> #N/A | G43: =D1*E43-F43 -> #N/A | H43: =VLOOKUP($B43,accompagnement!$A$1:$E$505,5,0) -> #N/A
B44: =$A$38&" "&7 -> dipping fries 7 | C44: =VLOOKUP($B44,accompagnement!$A$1:$C$505,2,0) -> #N/A | D44: =VLOOKUP($B44,accompagnement!$A$1:$C$505,3,0) -> #N/A | E44: =VLOOKUP($B44,accompagnement!$A$1:$D$505,4,0) -> #N/A | G44: =D1*E44-F44 -> #N/A | H44: =VLOOKUP($B44,accompagnement!$A$1:$E$505,5,0) -> #N/A
B45: =$A$38&" "&8 -> dipping fries 8 | C45: =VLOOKUP($B45,accompagnement!$A$1:$C$505,2,0) -> #N/A | D45: =VLOOKUP($B45,accompagnement!$A$1:$C$505,3,0) -> #N/A | E45: =VLOOKUP($B45,accompagnement!$A$1:$D$505,4,0) -> #N/A | G45: =D1*E45-F45 -> #N/A | H45: =VLOOKUP($B45,accompagnement!$A$1:$E$505,5,0) -> #N/A
B46: =$A$38&" "&9 -> dipping fries 9 | C46: =VLOOKUP($B46,accompagnement!$A$1:$C$505,2,0) -> #N/A | D46: =VLOOKUP($B46,accompagnement!$A$1:$C$505,3,0) -> #N/A | E46: =VLOOKUP($B46,accompagnement!$A$1:$D$505,4,0) -> #N/A | G46: =D1*E46-F46 -> #N/A | H46: =VLOOKUP($B46,accompagnement!$A$1:$E$505,5,0) -> #N/A
A47: pdt tournées rissolées | B47: =$A$47&" "&1 -> pdt tournées rissolées 1 | C47: =VLOOKUP($B47,accompagnement!$A$1:$C$505,2,0) -> pomme de terre | D47: =VLOOKUP($B47,accompagnement!$A$1:$C$505,3,0) -> pons | E47: =VLOOKUP($B47,accompagnement!$A$1:$D$505,4,0) -> 0.2 | G47: =D1*E47-F47 -> 20 | H47: =VLOOKUP($B47,accompagnement!$A$1:$E$505,5,0) -> kg
B48: =$A$47&" "&2 -> pdt tournées rissolées 2 | C48: =VLOOKUP($B48,accompagnement!$A$1:$C$505,2,0) -> huile | D48: =VLOOKUP($B48,accompagnement!$A$1:$C$505,3,0) -> ouest frais | E48: =VLOOKUP($B48,accompagnement!$A$1:$D$505,4,0) -> 0.01 | G48: =D1*E48-F48 -> 1 | H48: =VLOOKUP($B48,accompagnement!$A$1:$E$505,5,0) -> litre
B49: =$A$47&" "&3 -> pdt tournées rissolées 3 | C49: =VLOOKUP($B49,accompagnement!$A$1:$C$505,2,0) -> beurre | D49: =VLOOKUP($B49,accompagnement!$A$1:$C$505,3,0) -> ouest frais | E49: =VLOOKUP($B49,accompagnement!$A$1:$D$505,4,0) -> 0.005 | G49: =D1*E49-F49 -> 0.5 | H49: =VLOOKUP($B49,accompagnement!$A$1:$E$505,5,0) -> kg
B50: =$A$47&" "&4 -> pdt tournées rissolées 4 | C50: =VLOOKUP($B50,accompagnement!$A$1:$C$505,2,0) -> #N/A | D50: =VLOOKUP($B50,accompagnement!$A$1:$C$505,3,0) -> #N/A | E50: =VLOOKUP($B50,accompagnement!$A$1:$D$505,4,0) -> #N/A | F50: 0 | G50: =D1*E50-F50 -> #N/A | H50: =VLOOKUP($B50,accompagnement!$A$1:$E$505,5,0) -> #N/A
B51: =$A$47&" "&5 -> pdt tournées rissolées 5 | C51: =VLOOKUP($B51,accompagnement!$A$1:$C$505,2,0) -> #N/A | D51: =VLOOKUP($B51,accompagnement!$A$1:$C$505,3,0) -> #N/A | E51: =VLOOKUP($B51,accompagnement!$A$1:$D$505,4,0) -> #N/A | G51: =D1*E51-F51 -> #N/A | H51: =VLOOKUP($B51,accompagnement!$A$1:$E$505,5,0) -> #N/A
B52: =$A$47&" "&6 -> pdt tournées rissolées 6 | C52: =VLOOKUP($B52,accompagnement!$A$1:$C$505,2,0) -> #N/A | D52: =VLOOKUP($B52,accompagnement!$A$1:$C$505,3,0) -> #N/A | E52: =VLOOKUP($B52,accompagnement!$A$1:$D$505,4,0) -> #N/A | G52: =D1*E52-F52 -> #N/A | H52: =VLOOKUP($B52,accompagnement!$A$1:$E$505,5,0) -> #N/A
B53: =$A$467&" "&7 -> 7 | C53: =VLOOKUP($B53,accompagnement!$A$1:$C$505,2,0) -> #N/A | D53: =VLOOKUP($B53,accompagnement!$A$1:$C$505,3,0) -> #N/A | E53: =VLOOKUP($B53,accompagnement!$A$1:$D$505,4,0) -> #N/A | G53: =D1*E53-F53 -> #N/A | H53: =VLOOKUP($B53,accompagnement!$A$1:$E$505,5,0) -> #N/A
B54: =$A$467&" "&8 -> 8 | C54: =VLOOKUP($B54,accompagnement!$A$1:$C$505,2,0) -> #N/A | D54: =VLOOKUP($B54,accompagnement!$A$1:$C$505,3,0) -> #N/A | E54: =VLOOKUP($B54,accompagnement!$A$1:$D$505,4,0) -> #N/A | G54: =D1*E54-F54 -> #N/A | H54: =VLOOKUP($B54,accompagnement!$A$1:$E$505,5,0) -> #N/A
A55: tartare ananas mangue maison | B55: =$A$55&" "&1 -> tartare ananas mangue maison 1 | C55: =VLOOKUP($B55,dessert!$A$1:$C$493,2,0) -> ananas | D55: =VLOOKUP($B55,dessert!$A$1:$C$493,3,0) -> pons | E55: =VLOOKUP($B55,dessert!$A$1:$D$493,4,0) -> 0.1 | G55: =D1*E55-F55 -> 10 | H55: =VLOOKUP($B55,dessert!$A$1:$E$493,5,0) -> kg
B56: =$A$55&" "&2 -> tartare ananas mangue maison 2 | C56: =VLOOKUP($B56,dessert!$A$1:$C$493,2,0) -> vanille | D56: =VLOOKUP($B56,dessert!$A$1:$C$493,3,0) -> ouest frais | E56: =VLOOKUP($B56,dessert!$A$1:$D$493,4,0) -> 0.001 | G56: =D1*E56-F56 -> 0.1 | H56: =VLOOKUP($B56,dessert!$A$1:$E$493,5,0) -> kg
B57: =$A$55&" "&3 -> tartare ananas mangue maison 3 | C57: =VLOOKUP($B57,dessert!$A$1:$C$493,2,0) -> menthe | D57: =VLOOKUP($B57,dessert!$A$1:$C$493,3,0) -> pons | E57: =VLOOKUP($B57,dessert!$A$1:$D$493,4,0) -> 0.005 | F57: 0 | G57: =D1*E57-F57 -> 0.5 | H57: =VLOOKUP($B57,dessert!$A$1:$E$493,5,0) -> kg
B58: =$A$55&" "&4 -> tartare ananas mangue maison 4 | C58: =VLOOKUP($B58,dessert!$A$1:$C$493,2,0) -> mangue | D58: =VLOOKUP($B58,dessert!$A$1:$C$493,3,0) -> sirf | E58: =VLOOKUP($B58,dessert!$A$1:$D$493,4,0) -> 0.02 | G58: =D1*E58-F58 -> 2 | H58: =VLOOKUP($B58,dessert!$A$1:$E$493,5,0) -> kg
B59: =$A$55&" "&5 -> tartare ananas mangue maison 5 | C59: =VLOOKUP($B59,dessert!$A$1:$C$493,2,0) -> #N/A | D59: =VLOOKUP($B59,dessert!$A$1:$C$493,3,0) -> #N/A | E59: =VLOOKUP($B59,dessert!$A$1:$D$493,4,0) -> #N/A | G59: =D1*E59-F59 -> #N/A | H59: litre

Sheet adddition ingredient

Sheet entrée
A1: ENTREE | F1: liste | J1: vins | L1: pains | N1: JOUR | O1: MOIS | P1: HORAIRE
A2: Kadaif | F2: Clafoutis courgette chèvre | J2: rosé des dunes | L2: Bgt sur sole | N2: LUNDI MIDI | O2: FEVRIER | P2: 12H00
A3: Kadaif 1 | B3: Kadaif (ct24) 12273477 | C3: sysco | D3: 1 | E3: pièce | F3: kadaif | J3: royal | L3: Bgt inter | N3: LUNDI SOIR | O3: MARS | P3: 12H30
A4: Kadaif 2 | B4: Mesclun | C4: pons | D4: 0.01 | E4: kg | F4: Tatin endive | J4: petit sergent | N4: MARDI MIDI | O4: AVRIL | P4: 13H00
A5: Kadaif 3 | B5: betterave rapée | C5: pons | D5: 0.005 | E5: kg | F5: coquille fdm st jacques | J5: brise de mer rosé | N5: MARDI SOIR | O5: MAI | P5: 13H30
A6: Kadaif 4 | B6: cerneau noix | C6: passion froid | D6: 0.003 | E6: kg | F6: Aumonière de gambas | J6: brise de mer blanc | N6: MERCREDI MIDI | O6: JUIN | P6: 19H00
A7: Kadaif 4 | B7: vinaigrette | D7: 0.005 | E7: litre | F7: feuilleté St Jacq Maison | J7: brise de mer rouge | N7: MERCREDI SOIR | O7: JUILLET | P7: 19H30
F8: Pastilla canard | J8: poncerault rosé | N8: JEUDI MIDI | O8: AOÛT | P8: 20H00
A9: Clafoutis courgette chèvre | F9: panier nicois | J9: poncerault blanc | N9: JEUDI SOIR | O9: SEPTEMBRE | P9: 20H30
A10: Clafoutis courgette chèvre 1 | B10: Clafoutis courg/chèv (ct12) 0155320 | C10: passion froid | D10: 1 | E10: pièce | F10: tartare St J maison | J10: poncerault rouge | N10: VENDREDI MIDI | O10: OCTOBRE | P10: 21H00
A11: Clafoutis courgette chèvre 2 | B11: roquette | C11: pons | D11: 0.01 | E11: kg | F11: tartare St J dav | J11: evasion rosé | N11: VENDREDI SOIR | O11: NOVEMBRE | P11: 21H30
A12: Clafoutis courgette chèvre 3 | B12: tomate cerise | C12: pons | D12: 0.005 | E12: litre | F12: quiche sardine | J12: evasion blanc | N12: SAMEDI MIDI
A13: Clafoutis courgette chèvre 3 | B13: vinaigrette | D13: 0.003 | E13: litre | F13: quiche au thon | J13: evasion rouge | N13: SAMEDI SOIR
F14: soufflé fromage | N14: DIMANCHE MIDI
A15: Tatin endive | F15: soufflé St Jacques | N15: DIMANCHE SOIR
A16: Tatin endive 1 | B16: Tatin endive(77768)1€20(ct24) | C16: sysco | D16: 1 | E16: pièce | F16: panier saint Jacques
A17: Tatin endive 2 | B17: Mesclun | C17: pons | D17: 0.01 | E17: kg | F17: paté en croute
A18: Tatin endive 3 | B18: Noix | C18: passion froid | D18: 0.005 | E18: kg | F18: salade compo italienne
A19: Tatin endive 4 | B19: Ricotta | C19: passion froid | D19: 0.015 | E19: kg | F19: salade compo chèvre
A20: Tatin endive 5 | B20: FOURME | C20: passion froid | D20: 0.005 | E20: kg | F20: roulé jambon fromage
A21: Tatin endive 6 | B21: MASCARPONE | C21: passion froid | D21: 0.005 | E21: litre | F21: Saumon byriani
A22: Tatin endive 7 | B22: basilic | C22: passion froid | D22: 0.005 | E22: kg | F22: bun roll
A23: Tatin endive 8 | B23: vinaigrette | D23: 0.003 | E23: litre | F23: salade cesar
F24: buffet crudite uno
A25: Aumonière de gambas | F25: buffet crudite dos
A26: Aumonière de gambas 1 | B26: Aumonière gambas(77678)1€63(ct24 ) | C26: Davigel | D26: 1 | E26: pièce | F26: buffet crudite très
A27: Aumonière de gambas 2 | B27: Choux blanc | C27: pons | D27: 0.035 | E27: pièce | F27: Crudité + taboulé
A28: Aumonière de gambas 3 | B28: Marinade : vinaigre riz ou cidre | C28: ouest frais | D28: 0.003 | E28: LITRE | F28: Crudité + piemontaise
A29: Aumonière de gambas 4 | B29: sucre | C29: ouest frais | D29: 0.002 | E29: KG | F29: Assiette charcut
A30: Aumonière de gambas 5 | B30: Vinaigrette :huile tournesol | C30: ouest frais | D30: 0.003 | E30: LITRE | F30: CRUDITE+Quinoa/légumes
A31: Aumonière de gambas 6 | B31: sauce soja | C31: ouest frais | D31: 0.001 | E31: LITRE | F31: crudité+torti crevette surimi
A32: Aumonière de gambas 7 | B32: nuoc nam | C32: ouest frais | D32: 0.002 | E32: LITRE | F32: Crudité + Riz au thon
A33: Aumonière de gambas 8 | B33: sésame | C33: ouest frais | D33: 0.0005 | E33: KG | F33: crudité+Salade italienne
F34: PIZZA QUATRE FROM
A35: coquille fdm st jacques | F35: tarte tomate
A36: coquille fdm st jacques 1 | B36: coquille fdm st jacques (ct16) 17662 | C36: sirf | D36: 1 | E36: PIECE | F36: salade grecque
A37: coquille fdm st jacques 2 | B37: Roquette | C37: pons | D37: 0.01 | E37: KG | F37: tomate mozza
A38: coquille fdm st jacques 3 | B38: CITRON | C38: pons | D38: 0.015 | E38: KG | F38: assiette crudi asiat
A39: coquille fdm st jacques 4 | B39: Huile olive | C39: ouest frais | D39: 0.007 | E39: litre | F39: salade chèvre chaud
A40: coquille fdm st jacques 5 | B40: jus citron | C40: ouest frais | D40: 0.003 | E40: litre | F40: melon jambon
F41: SALADE ESPANA
A42: Saumon byriani | F42: Brioche au fromage
A43: Saumon byriani 1 | B43: Saumon byriani (2259) (ct 12) | C43: gel cote | D43: 1 | E43: PIECE
A44: Saumon byriani 2 | B44: roquette | C44: pons | D44: 0.01 | E44: KG
A45: Saumon byriani 3 | B45: sésame grille | C45: ouest frais | D45: 0.001 | E45: KG
A46: Saumon byriani 4 | B46: vinaigrette | D46: 0.003 | E46: LITRE
A48: Pastilla canard
A49: Pastilla canard 1 | B49: Effiloché canard confit (sachet 2kg) | C49: sirf | D49: 0.05 | E49: KG
A50: Pastilla canard 2 | B50: Feuille de brick (sachet de 10) | C50: ouest frais | D50: 1 | E50: PIECE
A51: Pastilla canard 3 | B51: Cumin 0.002 | C51: ouest frais | D51: 0.002 | E51: KG
A52: Pastilla canard 4 | B52: noix 0.010 | C52: ouest frais | D52: 0.01 | E52: KG
A53: Pastilla canard 5 | B53: amande effilée | C53: ouest frais | D53: 0.005 | E53: KG
A54: Pastilla canard 6 | B54: Jaune d’œuf pour coller la brick | C54: ouest frais | D54: 0.001 | E54: KG
A55: Pastilla canard 7 | B55: Sucre | C55: ouest frais | D55: 0.005 | E55: KG
A56: Pastilla canard 8 | B56: Beurre | C56: ouest frais | D56: 0.0015 | E56: KG
A57: Pastilla canard 9 | B57: Coriandre | C57: pons | D57: 0.001 | E57: KG
A58: Pastilla canard 10 | B58: Oignon à confire | C58: passion froid | D58: 0.05 | E58: KG
A59: Pastilla canard 11 | B59: St Marcelin (pc de 80 gr) | C59: passion froid | D59: 0.007 | E59: KG
A60: Pastilla canard 12 | B60: Ricotta (pc 1,5kg) | C60: passion froid | D60: 0.013 | E60: KG
A63: feuilleté St Jacq Maison
A64: feuilleté St Jacq Maison 1 | B64: Noix de St Jacques(40/60)(1466) = 2p = 2kg | C64: sirf | D64: 0.036 | E64: KG
A65: feuilleté St Jacq Maison 2 | B65: Noix de St Jacques(20/40)(0612) = 1p = 2kg | C65: sirf | D65: 0.033 | E65: KG
A66: feuilleté St Jacq Maison 3 | B66: Persil 0.001= 0.053 kg | C66: sirf | D66: 0.001 | E66: KG
A67: feuilleté St Jacq Maison 4 | B67: Pâte feuilleté(37x57 2561 14p) 8p/plq 14cmX14cm | C67: gel cote | D67: poid a calcul
A68: feuilleté St Jacq Maison 5 | B68: Ail | C68: gel cote | D68: 0.004 | E68: KG
A69: feuilleté St Jacq Maison 6 | B69: Beurre | C69: ouest frais | D69: 0.005 | E69: KG
A70: feuilleté St Jacq Maison 7 | B70: St Marcelin (pc de 80 gr) | C70: passion froid | D70: 0.007 | E70: KG
A71: feuilleté St Jacq Maison 8 | B71: Ricotta (pc 1,5kg) | C71: passion froid | D71: 0.013 | E71: KG
A72: feuilleté St Jacq Maison 9 | B72: betterave râpé | C72: pons | D72: 0.007 | E72: KG
A73: feuilleté St Jacq Maison 10 | B73: Roquette | C73: pons | D73: 0.007 | E73: KG
A74: feuilleté St Jacq Maison 11 | B74: vinaigrette | D74: 0.003 | E74: litre
A76: panier nicois
A77: panier nicois 1 | B77: panier niçois(77251)1€15(ct36) | C77: sysco | D77: 1 | E77: pièce
A78: panier nicois 2 | B78: Mesclun | C78: pons | D78: 0.007 | E78: kg
A79: panier nicois 3 | B79: celeri rapé | C79: pons | D79: 0.007 | E79: KG
A80: panier nicois 4 | B80: vinaigrette | D80: 0.003 | E80: litre
A81: panier nicois 5
A83: tartare St J maison
A84: tartare St J maison 1 | B84: Noix de St Jacques(612 | C84: sirf | D84: 0.05 | E84: kg
A85: tartare St J maison 2 | B85: mangue | C85: sirf | D85: 0.02 | E85: kg
A86: tartare St J maison 3 | B86: Huile olive | C86: ouest frais | D86: 0.005 | E86: litre
A87: tartare St J maison 4 | B87: Citron vert zeste + jus | C87: pons | D87: 0.002 | E87: litre
A88: tartare St J maison 5 | B88: Echalote 0.005 | C88: passion froid | D88: 0.005 | E88: kg
A89: tartare St J maison 6 | B89: Ciboulette | C89: pons | D89: 0.002 | E89: kg
A91: tartare St J dav
A92: tartare St J dav 1 | B92: tartare St J dav(12073532)(ct32) | C92: sysco | D92: 1 | E92: pièce
A93: tartare St J dav 2 | B93: citron jaune 1/8 rondelle | C93: pons | D93: 0.0125 | E93: kg
A94: tartare St J dav 3 | B94: ciboulette | C94: pons | D94: 0.005 | E94: botte
A95: tartare St J dav 4 | B95: Huile olive | C95: ouest frais | D95: 0.007 | E95: litre
A96: tartare St J dav 5 | B96: jus citron | C96: ouest frais | D96: 0.003 | E96: litre
A98: quiche au thon
A99: quiche au thon 1 | B99: Fond tarte hmd (fond / 12) (ct de ??) | C99: HMD | D99: 0.0833 | E99: pièce
A100: quiche au thon 2 | B100: Crème liquide | C100: ouest frais | D100: 0.028 | E100: litre
A101: quiche au thon 3 | B101: Œuf entier | C101: ouest frais | D101: 0.017 | E101: litre
A102: quiche au thon 4 | B102: Jaune œuf | C102: ouest frais | D102: 0.008 | E102: litre
A103: quiche au thon 5 | B103: Lait | C103: ouest frais | D103: 0.028 | E103: litre
A104: quiche au thon 6 | B104: Fromage râpé italien (66299) | C104: ouest frais | D104: 0.008 | E104: kg
A105: quiche au thon 7 | B105: Thon | C105: ouest frais | D105: 0.035 | E105: kg
A106: quiche au thon 8 | B106: Moutarde ANCIENNE | C106: ouest frais | D106: 0.005 | E106: kg
A107: quiche au thon 9 | B107: Mozza Rapé | C107: ouest frais | D107: 0.008 | E107: kg
...

Sheet accompagnement
A1: accompagnement | F1: liste
A2: Risotto | F2: Risotto
A3: Risotto 1 | B3: Beurre | C3: ouest frais | D3: 0.003 | E3: kg | F3: COURG/CAROTTE
A4: Risotto 2 | B4: Riz risotto | C4: ouest frais | D4: 0.05 | E4: kg | F4: carotte fane
A5: Risotto 3 | B5: Fromage râpé italien | C5: ouest frais | D5: 0.005 | E5: kg | F5: gnochi légumes
A6: Risotto 4 | B6: Crème liquide | C6: ouest frais | D6: 0.015 | E6: LITRE | F6: grenaille/mâche
A7: Risotto 5 | B7: Fond volaille | C7: ouest frais | D7: 0.001 | E7: kg | F7: poele leg vert
A8: Risotto 6 | B8: Vin blanc | C8: cave coop | D8: 0.005 | E8: litre | F8: tag aux légumes
A9: Risotto 7 | B9: Huile tournesol | C9: ouest frais | D9: 0.005 | E9: litre | F9: écrasé PDT
A10: Risotto 8 | B10: Champignon | C10: pons | D10: 0.03 | E10: kg | F10: purée PDT
A11: Risotto 9 | B11: Oignon (26211) | C11: passion froid | D11: 0.01 | E11: kg | F11: Mogette
F12: quinoa risotto
A13: pomme anna | F13: RIZ BASMATI
A14: pomme anna 1 | B14: Pomme anna (60gr ct de 40pc) (6427) | C14: gel cote | D14: 1 | E14: pièce | F14: RIZ PILAF
F15: pomme anna
A16: carotte fane | F16: carotte fane
A17: carotte fane 1 | B17: Carotte fanes (15p/botte)(env750gr)(1€80)5pers/bte | C17: pons | D17: 3 | E17: pièce | F17: purée pois cassé
A18: carotte fane 2 | B18: Sucre | C18: ouest frais | D18: 0.005 | E18: kg | F18: risotto ebly
A19: carotte fane 3 | B19: Beurre | C19: ouest frais | D19: 0.0015 | E19: kg | F19: choux fleur rôti
A20: carotte fane 4 | B20: Jus de citron | C20: ouest frais | D20: 0.001 | E20: litre | F20: fregola sarda
F21: kasha 3céréales
A22: gnochi légumes | F22: pdt quartier frite
A23: gnochi légumes 1 | B23: Gnochi (26626) | C23: passion froid | D23: 0.125 | E23: KG | F23: jardiniere
A24: gnochi légumes 2 | B24: Basilic coupé | C24: passion froid | D24: 0.005 | E24: KG | F24: FRITE CRINKLE ONDULÉE
A25: gnochi légumes 3 | B25: ail | C25: gel cote | D25: 0.005 | E25: KG | F25: BOUCHÉE PDT ROSTI
A26: gnochi légumes 4 | B26: tomate cerise | C26: pons | D26: 0.025 | E26: KG | F26: MESCLUN
A27: gnochi légumes 5 | B27: roquette | C27: pons | D27: 0.005 | E27: KG | F27: PENNE BASILIC
A28: gnochi légumes 6 | B28: beurre | C28: ouest frais | D28: 0.005 | E28: KG | F28: poele leg
A29: gnochi légumes 7 | B29: Haricot plat(5302) | C29: sirf | D29: 0.03 | E29: KG | F29: legume wok dinde
F30: polenta
A31: grenaille/mâche | F31: tomate provencale
A32: grenaille/mâche 1 | B32: Mâche NETTOYEE | C32: pons | D32: 0.02 | E32: KG | F32: POMME QUARTIER A/PEAU
A33: grenaille/mâche 2 | B33: Pdt grenaille | C33: pons | D33: 0.18 | E33: KG | F33: dipping fries
A34: grenaille/mâche 3 | B34: thym | C34: ouest frais | D34: 0.0005 | E34: KG | F34: LEGUME VIETNAMIEN
A35: grenaille/mâche 4 | B35: curcuma | C35: ouest frais | D35: 0.0005 | E35: KG | F35: flan de légume
A36: grenaille/mâche 5 | B36: romarin | C36: pons | D36: 0.001 | E36: KG | F36: pdt tournées rissolées
A37: grenaille/mâche 6 | B37: persil | C37: sirf | D37: 0.005 | E37: KG | F37: conchiglie aux légumes
A38: grenaille/mâche 7 | B38: Ail | C38: gel cote | D38: 0.005 | E38: KG
A39: grenaille/mâche 8 | B39: Oignon | C39: passion froid | D39: 0.025 | E39: KG
A40: grenaille/mâche 9 | B40: huile tournesol | C40: ouest frais | D40: 0.002 | E40: LITRE
A42: poele leg vert
A43: poele leg vert 1 | B43: oignon rouge | C43: pons | D43: 0.01 | E43: KG
A44: poele leg vert 2 | B44: Petit pois | C44: sirf | D44: 0.06 | E44: KG
A45: poele leg vert 3 | B45: Haricot vert | C45: sirf | D45: 0.06 | E45: KG
A46: poele leg vert 4 | B46: pois croquants(7636) | C46: sirf | D46: 0.03 | E46: KG
A47: poele leg vert 5 | B47: persil | C47: sirf | D47: 0.005 | E47: KG
A48: poele leg vert 6 | B48: beurre | C48: ouest frais | D48: 0.005 | E48: KG
A49: poele leg vert 7 | B49: Romanesco(120768) | C49: ouest frais | D49: 0.03 | E49: KG
A51: tag aux légumes
A52: tag aux légumes 1 | B52: tagliatelle | C52: ouest frais | D52: 0.07 | E52: KG
A53: tag aux légumes 2 | B53: gidolive | C53: ouest frais | D53: 0.01 | E53: LITRE
A54: tag aux légumes 3 | B54: carotte en lamelle | C54: pons | D54: 0.02 | E54: KG
A55: tag aux légumes 4 | B55: courgette en lamelle | C55: pons | D55: 0.02 | E55: KG
A56: tag aux légumes 5 | B56: basilic surgelé | C56: passion froid | D56: 0.005 | E56: KG
A58: écrasé PDT
A59: écrasé PDT 1 | B59: PDT (GT) bintje | C59: pons | D59: 0.2 | E59: KG
A60: écrasé PDT 2 | B60: Beurre | C60: ouest frais | D60: 0.01 | E60: KG
A61: écrasé PDT 3 | B61: lait | C61: ouest frais | D61: 0.01 | E61: LITRE
A62: écrasé PDT 4 | B62: Ail | C62: gel cote | D62: 0.005 | E62: KG
A63: écrasé PDT 5 | B63: ciboulette | C63: pons | D63: 0.002 | E63: BOTTE
A65: purée PDT
A66: purée PDT 1 | B66: PDT (GT) bintje | C66: pons | D66: 0.25 | E66: KG
A67: purée PDT 2 | B67: Beurre | C67: ouest frais | D67: 0.01 | E67: KG
A68: purée PDT 3 | B68: lait | C68: ouest frais | D68: 0.05 | E68: LITRE
A69: purée PDT 4 | B69: crème | C69: ouest frais | D69: 0.02 | E69: LITRE
A71: Mogette
A72: Mogette 1 | B72: Mogette | C72: ouest frais | D72: 0.07 | E72: KG
A73: Mogette 2 | B73: Cerfeuil | C73: pons | D73: 0.003 | E73: BOTTE
A74: Mogette 3 | B74: Oignon émincé | C74: passion froid | D74: 0.02 | E74: KG
A75: Mogette 4 | B75: Ail | C75: gel cote | D75: 0.003 | E75: KG
A76: Mogette 5 | B76: tomate concassée | C76: sirf | D76: 0.01 | E76: KG
A77: Mogette 6 | B77: Tomate en cube | C77: ouest frais | D77: 0.015 | E77: KG
A78: Mogette 7 | B78: Carotte ebouté | C78: pons | D78: 0.02 | E78: KG
A80: COURG/CAROTTE
A81: COURG/CAROTTE 1 | B81: Courgette | C81: pons | D81: 0.13 | E81: KG
A82: COURG/CAROTTE 2 | B82: Carotte eboutée | C82: pons | D82: 0.09 | E82: KG
A83: COURG/CAROTTE 3 | B83: Coriandre | C83: pons | D83: 0.003 | E83: BOTTE
A84: COURG/CAROTTE 4 | B84: Amande effilée | C84: ouest frais | D84: 0.005 | E84: KG
A85: COURG/CAROTTE 5 | B85: miel | C85: ouest frais | D85: 0.003 | E85: KG
A87: RIZ PILAF
A88: RIZ PILAF 1 | B88: riz long | C88: ouest frais | D88: 0.07 | E88: KG
A89: RIZ PILAF 2 | B89: Oignon émincé | C89: passion froid | D89: 0.02 | E89: KG
A90: RIZ PILAF 3 | B90: Ail | C90: gel cote | D90: 0.003 | E90: KG
A91: RIZ PILAF 4 | B91: beurre | C91: ouest frais | D91: 0.005 | E91: KG
A93: RIZ BASMATI
A94: RIZ BASMATI 1 | B94: RIZ BASMATI | C94: ouest frais | D94: 0.07 | E94: KG
A95: RIZ BASMATI 2 | B95: beurre | C95: ouest frais | D95: 0.005 | E95: KG
A96: RIZ BASMATI 3 | B96: bouillon volaille | C96: gel cote | D96: 0.001 | E96: KG
A99: purée pois cassé
A100: purée pois cassé 1 | B100: purée pois cassé | C100: ouest frais | D100: 0.06 | E100: KG
A101: purée pois cassé 2 | B101: ail | C101: gel cote | D101: 0.003 | E101: KG
A102: purée pois cassé 3 | B102: gidolive | C102: ouest frais | D102: 0.01 | E102: LITRE
A103: purée pois cassé 4 | B103: bouillon volaille | C103: gel cote | D103: 0.001 | E103: KG
A105: quinoa risotto
A106: quinoa risotto 1 | B106: quinoa (3 vol de liquide) | C106: SYSCO | D106: 0.065 | E106: KG
A107: quinoa risotto 2 | B107: gidolive | C107: ouest frais | D107: 0.01 | E107: LITRE
A108: quinoa risotto 3 | B108: Echalotte | C108: passion froid | D108: 0.01 | E108: KG
A109: quinoa risotto 4 | B109: pois maraicher(gros petit pois) | C109: sirf | D109: 0.03 | E109: KG
A110: quinoa risotto 5 | B110: curcuma | C110: ouest frais | D110: 0.001 | E110: KG
A111: quinoa risotto 6 | B111: Fond volaille | C111: ouest frais | D111: 0.001 | E111: kg
...

Sheet proteine
A1: Proteine | F1: liste
A2: merlu | F2: merlu
A3: merlu 1 | B3: Merlu (3624)(ct3kg) 0.150 10€80 | C3: sirf | D3: 0.15 | E3: KG | F3: merlu OF
A4: merlu 2 | B4: beurre | C4: ouest frais | D4: 0.003 | E4: KG | F4: pavé saumon
F5: Suprême poulet
A6: merlu OF | F6: Filet mignon
A7: merlu OF 1 | B7: Merlu PAVé(9414) 10€40(ct5kg) 0.150 | C7: ouest frais | D7: 0.15 | E7: KG | F7: Roti de dinde
A8: merlu OF 2 | B8: Merlu cœur(4093) 8€32(ct5kg) 0.130 | C8: ouest frais | D8: 0.15 | E8: KG | F8: veau aux olives
A9: merlu OF 3 | B9: beurre | C9: ouest frais | D9: 0.003 | E9: KG | F9: TRANCHE GIGOT
F10: blanquette calamar
A11: Poisson blanc
A12: Poisson blanc 1 | B12: Poisson blanc | C12: mericq | D12: 0.15 | E12: KG | F12: souris d'agneau | I12: pavé saumon)0,150 GR ENVIRON
A13: Poisson blanc 2 | B13: beurre | C13: ouest frais | D13: 0.003 | E13: KG | F13: pavé cabillaud | I13: pavé / dosMerlu 0,150 GR ENVIRON
F14: epaule agneau confit | I14: Filet mignon en frais ou en dur
A15: pavé saumon | F15: Pavé de veau | I15: pavé/dos cabillaud 0,150 GR ENVIRON
A16: pavé saumon 1 | B16: pavé saumon (0818)0,150 5T3KG (17€62) | C16: gel cote | D16: 0.15 | E16: KG | F16: pavé de rumsteak | I16: Saute de veau (ct de 5kg ) (111694)
A17: pavé saumon 2 | B17: huile olive | C17: ouest frais | D17: 0.005 | E17: LITRE | F17: Suprême de pintade | I17: pavé de rumsteak )0,150 GR ENVIRON
A18: pavé saumon 3 | B18: pavé de saumon (9014) ct 3kg | C18: ouest frais | D18: 0.15 | E18: KG | F18: filet st Pierre | I18: escalope dinde 0,150 environ dur ou frais
F19: carbonnade flamande
A20: Suprême poulet | F20: paleron bœuf
A21: Suprême poulet 1 | B21: Suprême poulet (104080)(ct 5kg) (25pc/ct 8€18) | C21: ouest frais | D21: 0.2 | E21: KG | F21: Roti de porc
A22: Suprême poulet 2 | B22: beurre | C22: ouest frais | D22: 0.003 | E22: KG | F22: roti de veau
F23: joue de porc
A24: Filet mignon | F24: dinde wok
A25: Filet mignon 1 | B25: Filet mignon (49690)7€95 | C25: sysco | D25: 0.16 | E25: KG | F25: escalope champi
A26: Filet mignon 2 | B26: beurre | C26: ouest frais | D26: 0.003 | E26: KG | F26: Poisson blanc
F27: filet de julienne
A28: Roti de dinde | F28: PORC VIETNAMIEN
A29: Roti de dinde 1 | B29: Roti de dinde(84042) | C29: ouest frais | D29: 0.17 | E29: KG
A30: Roti de dinde 2 | B30: brunoise(1852) | C30: sirf | D30: 0.01 | E30: KG
A31: Roti de dinde 3 | B31: Pruneau(243907) | C31: ouest frais | D31: 0.02 | E31: KG
A32: Roti de dinde 4 | B32: Ail | C32: gel cote | D32: 0.002 | E32: KG
A33: Roti de dinde 5 | B33: Oignon émincé | C33: passion froid | D33: 0.015 | E33: KG
A34: Roti de dinde 6 | B34: Fond brun | C34: ouest frais | D34: 0.001 | E34: KG
A35: Roti de dinde 7 | B35: Vin blanc | C35: cave coop | D35: 0.008 | E35: LITRE
A38: souris d'agneau
A39: souris d'agneau 1 | B39: souris d'agneau(1566)15€75 | C39: sirf | D39: 0.4 | E39: KG
A40: souris d'agneau 2 | B40: miel | C40: ouest frais | D40: 0.005 | E40: KG
A41: souris d'agneau 3 | B41: ail | C41: gel cote | D41: 0.006 | E41: KG
A42: souris d'agneau 4 | B42: romarin
A43: souris d'agneau 5 | B43: fond de veau | C43: ouest frais | D43: 0.001 | E43: KG
A45: pavé cabillaud
A46: pavé cabillaud 1 | B46: pavé cabillaud (7338)(150gr ct5kg (33 au ct) 16€32 | C46: ouest frais | D46: 0.15 | E46: KG
A47: pavé cabillaud 2 | B47: beurre | C47: ouest frais | D47: 0.003 | E47: KG
A48: pavé cabillaud 4 | B48: OIGNON CIVE | C48: PONS | D48: 0.005 | E48: KG
A50: epaule agneau confit
A51: epaule agneau confit 1 | B51: epaule agneau | C51: sirf | D51: 0.19 | E51: KG
A52: epaule agneau confit 2 | B52: brunoise(1852) | C52: sirf | D52: 0.01 | E52: KG
A53: epaule agneau confit 3 | B53: Ail | C53: gel cote | D53: 0.002 | E53: KG
A54: epaule agneau confit 4 | B54: Oignon émincé | C54: passion froid | D54: 0.015 | E54: KG
A55: epaule agneau confit 5 | B55: Fond brun | C55: ouest frais | D55: 0.001 | E55: KG
A56: epaule agneau confit 6 | B56: Vin blanc | C56: cave coop | D56: 0.008 | E56: LITRE
A57: epaule agneau confit 7 | B57: Huile tournesol | C57: ouest frais | D57: 0.004 | E57: KG
A59: veau aux olives
A60: veau aux olives 1 | B60: Saute de veau (ct de 5kg ) (111694) 11€21 | C60: ouest frais | D60: 0.2 | E60: KG
A61: veau aux olives 2 | B61: Saute de veau (ct de 5kg ) (2804) 11€50 FRAIS | C61: SIRF | D61: 0.2 | E61: KG
A62: veau aux olives 3 | B62: oignon emincé | C62: ouest frais | D62: 0.015 | E62: KG
A63: veau aux olives 4 | B63: ail émincé | C63: ouest frais | D63: 0.005 | E63: KG
A64: veau aux olives 5 | B64: Olive verte | C64: ouest frais | D64: 0.02 | E64: KG
A65: veau aux olives 6 | B65: Tomate concassé | C65: ouest frais | D65: 0.003 | E65: KG
A66: veau aux olives 7 | B66: fond de veau Huile olive | C66: ouest frais | D66: 0.002 | E66: KG
A67: veau aux olives 8 | B67: Laurier thym miel cumin citron confit | C67: ouest frais | E67: KG
A69: TRANCHE GIGOT
A70: TRANCHE GIGOT 1 | B70: TRANCHE GIGOT (132) | C70: sirf | D70: 0.15 | E70: KG
A71: TRANCHE GIGOT 2 | B71: THYM | C71: ouest frais | D71: 0.003 | E71: KG
A72: TRANCHE GIGOT 3 | B72: ROMARIN | C72: ouest frais | D72: 0.003 | E72: KG
A73: TRANCHE GIGOT 4 | B73: AIL | C73: gel cote | D73: 0.005 | E73: KG
A75: blanquette calamar
A76: blanquette calamar 1 | B76: Gigas encornet 8€70 (3293) | C76: sirf | D76: 0.15 | E76: KG
A77: blanquette calamar 2 | B77: champignon | C77: pons | D77: 0.04 | E77: KG
A78: blanquette calamar 3 | B78: BEURRE | C78: ouest frais | D78: 0.0025 | E78: KG
A79: blanquette calamar 4 | B79: Crème liquide | C79: ouest frais | D79: 0.02 | E79: LITRE
A80: blanquette calamar 5 | B80: Oignon | C80: passion froid | D80: 0.025 | E80: KG
A81: blanquette calamar 6 | B81: Ail | C81: gel cote | D81: 0.008 | E81: KG
A82: blanquette calamar 7 | B82: fond de veau | C82: ouest frais | D82: 0.002 | E82: KG
A84: paleron bœuf
A85: paleron bœuf 1 | B85: Paleron bœuf (4148) | C85: gel cote | D85: 0.3 | E85: KG
A86: paleron bœuf 2 | B86: Oignon émincé | C86: passion froid | D86: 0.015 | E86: KG
A87: paleron bœuf 3 | B87: brunoise (3595) | C87: passion froid | D87: 0.015 | E87: KG
A88: paleron bœuf 4 | B88: vin rouge | C88: cave coop | D88: 0.005 | E88: LITRE
A89: paleron bœuf 5 | B89: fond brun | C89: ouest frais | D89: 0.003 | E89: KG
A90: paleron bœuf 6 | B90: Huile tournesol | C90: ouest frais | D90: 0.004 | E90: KG
A92: Pavé de veau
A93: Pavé de veau 1 | B93: Pavé de veau(3644)(ct 5kg, pc 0.160, 31pc/ct) | C93: sirf | D93: 0.15 | E93: KG
A94: Pavé de veau 2 | B94: beurre | C94: ouest frais | D94: 0.003 | E94: KG
A96: pavé de rumsteak
A97: pavé de rumsteak 1 | B97: pavé de rumsteak (102956) (ct 5,4kg, pc 0.170, 30pc/ct) 10€33 | C97: ouest frais | D97: 0.17 | E97: KG
A98: pavé de rumsteak 2 | B98: beurre | C98: ouest frais | D98: 0.003 | E98: KG
A100: filet st Pierre
A101: filet st Pierre 1 | B101: filet st Pierre 2264 (150/200gr)(ct 5kg) | C101: sirf | D101: 0.175 | E101: KG
A102: filet st Pierre 2 | B102: beurre | C102: ouest frais | D102: 0.003 | E102: KG
A104: Suprême de pintade
A105: Suprême de pintade 1 | B105: Suprême de pintade (150/180gr)(1485)(ct6kg)(10€93) | C105: sirf | D105: 0.17 | E105: KG
A106: Suprême de pintade 2 | B106: beurre | C106: ouest frais | D106: 0.003 | E106: KG
A108: carbonnade flamande
A109: carbonnade flamande 1 | B109: Noix de joue de bœuf (0207)(ct 5kg) | C109: sirf | D109: 0.2 | E109: KG
A110: carbonnade flamande 2 | B110: pain d'épice | C110: ouest frais | D110: 0.01 | E110: KG
A111: carbonnade flamande 3 | B111: ail | C111: gel cote | D111: 0.008 | E111: KG
A112: carbonnade flamande 4 | B112: oignon | C112: passion froid | D112: 0.015 | E112: KG
A113: carbonnade flamande 5 | B113: bière | C113: inter | D113: 0.015 | E113: LITRE
...

Sheet sauce
A1: sauce | F1: liste
A2: sauce chorizo | F2: sauce chorizo
A3: sauce chorizo 1 | B3: Chorizo | C3: sirf | D3: 0.005 | E3: kg | F3: sauce beurre nantais
A4: sauce chorizo 2 | B4: échalote | C4: passion froid | D4: 0.003 | E4: kg | F4: sauce gorgonzola
A5: sauce chorizo 3 | B5: Tomate confite | C5: ouest frais | D5: 0.005 | E5: kg | F5: sauce citron confit moutarde
A6: sauce chorizo 4 | B6: Crème liquide(44610) | C6: ouest frais | D6: 0.01 | E6: litre | F6: sauce moutarde ancienne
A7: sauce chorizo 5 | B7: Farine | C7: ouest frais | D7: 0.001 | E7: kg | F7: sauce poivron vert
A8: sauce chorizo 6 | F8: CREME AIL
A9: sauce chorizo 7 | F9: SAUCE PINEAU
F10: sauce estragon
F11: sauce maroilles
A12: sauce beurre nantais | F12: en croute
A13: sauce beurre nantais 1 | B13: Jus de citron | C13: ouest frais | D13: 0.001 | E13: litre | F13: sauce foie gras
A14: sauce beurre nantais 2 | B14: Fond de veau/arête poisson délié | C14: ouest frais | D14: 0.002 | E14: kg | F14: SAUCE POIVRE
A15: sauce beurre nantais 3 | B15: Vinaigre blanc | C15: ouest frais | D15: 0.003 | E15: litre | F15: beurre orange
A16: sauce beurre nantais 4 | B16: Moutarde ancienne | C16: ouest frais | D16: 0.001 | E16: kg | F16: gagnaire tomate
A17: sauce beurre nantais 5 | B17: Curcuma | C17: ouest frais | D17: 0.0005 | E17: kg
A18: sauce beurre nantais 6 | B18: Farine | C18: ouest frais | D18: 0.003 | E18: kg
A19: sauce beurre nantais 7 | B19: Beurre | C19: ouest frais | D19: 0.0035 | E19: litre
A20: sauce beurre nantais 8 | B20: Crème | C20: ouest frais | D20: 0.01 | E20: litre
A21: sauce beurre nantais 9 | B21: Moutarde | C21: ouest frais | D21: 0.001 | E21: kg
A23: sauce gorgonzola
A24: sauce gorgonzola 1 | B24: Creme liquide (7419) | C24: ouest frais | D24: 0.005 | E24: LITRE
A25: sauce gorgonzola 2 | B25: Gorgonzola | C25: passion froid | D25: 0.005 | E25: KG
A26: sauce gorgonzola 3 | B26: Beurre(60249) | C26: ouest frais | D26: 0.001 | E26: KG
A27: sauce gorgonzola 4 | B27: Fond de volaille | C27: ouest frais | D27: 0.001 | E27: KG
A28: sauce gorgonzola 5 | B28: Huile tournesol | C28: ouest frais | D28: 0.001 | E28: LITRE
A29: sauce gorgonzola 6 | B29: Ail (5937) | C29: ouest frais | D29: 0.002 | E29: KG
A30: sauce gorgonzola 7 | B30: Vin blanc | C30: cave coop | D30: 0.0025 | E30: LITRE
A31: sauce gorgonzola 8 | B31: Farine | C31: ouest frais | D31: 0.003 | E31: KG
A34: sauce citron confit moutarde
A35: sauce citron confit moutarde 1 | B35: Beurre | C35: ouest frais | D35: 0.002 | E35: KG
A36: sauce citron confit moutarde 2 | B36: Crème liquide(44610) | C36: ouest frais | D36: 0.01 | E36: LITRE
A37: sauce citron confit moutarde 3 | B37: Citron Confit | C37: pons | D37: 0.007 | E37: KG
A38: sauce citron confit moutarde 4 | B38: Fond de veau | C38: ouest frais | D38: 0.001 | E38: KG
A39: sauce citron confit moutarde 5 | B39: Moutarde | C39: ouest frais | D39: 0.002 | E39: KG
A40: sauce citron confit moutarde 6 | B40: Echalote | C40: passion froid | D40: 0.002 | E40: kg
A41: sauce citron confit moutarde 7 | B41: VIN BLANC | C41: cave coop | D41: 0.003 | E41: LITRE
A43: sauce moutarde ancienne
A44: sauce moutarde ancienne 1 | B44: Fond de volaille | C44: ouest frais | D44: 0.001 | E44: KG
A45: sauce moutarde ancienne 2 | B45: Crème liquide(44610) | C45: ouest frais | D45: 0.01 | E45: LITRE
A46: sauce moutarde ancienne 3 | B46: Ail | C46: gel cote | D46: 0.002 | E46: KG
A47: sauce moutarde ancienne 4 | B47: Moutarde | C47: ouest frais | D47: 0.002 | E47: KG
A48: sauce moutarde ancienne 5 | B48: Moutarde ancienne | C48: ouest frais | D48: 0.002 | E48: KG
A49: sauce moutarde ancienne 6 | B49: Vin blanc | C49: cave coop | D49: 0.005 | E49: LITRE
A50: sauce moutarde ancienne 7 | B50: Cornichon | C50: ouest frais | D50: 0.004 | E50: KG
A51: sauce moutarde ancienne 8 | B51: Farine | C51: ouest frais | D51: 0.003 | E51: KG
A52: sauce moutarde ancienne 9 | B52: Oignon sauce | C52: passion froid | D52: 0.005 | E52: KG
A54: sauce poivron vert
A55: sauce poivron vert 1 | B55: poivron vert | C55: pons | D55: 0.015 | E55: KG
A56: sauce poivron vert 2 | B56: Crème liquide(44610) | C56: ouest frais | D56: 0.01 | E56: litre
A57: sauce poivron vert 3 | B57: Vin blanc | C57: cave coop | D57: 0.005 | E57: LITRE
A58: sauce poivron vert 4 | B58: huile olive | C58: ouest frais | D58: 0.002 | E58: KG
A59: sauce poivron vert 5 | B59: Ail | C59: gel cote | D59: 0.002 | E59: KG
A60: sauce poivron vert 6 | B60: Farine | C60: ouest frais | D60: 0.003 | E60: KG
A61: sauce poivron vert 7 | B61: Fond de veau | C61: ouest frais | D61: 0.001 | E61: KG
A63: CREME AIL
A64: CREME AIL 1 | B64: Crème liquide | C64: ouest frais | D64: 0.05 | E64: LITRE
A65: CREME AIL 2 | B65: Fond de veau | C65: ouest frais | D65: 0.001 | E65: KG
A66: CREME AIL 3 | B66: Ail gousse à blanchir | C66: pons | D66: 0.01 | E66: KG
A67: CREME AIL 4 | B67: beurre | C67: ouest frais | D67: 0.001 | E67: KG
A68: CREME AIL 5 | B68: maizena | C68: ouest frais | D68: 0.002 | E68: KG
A70: sauce pineau
A71: sauce pineau 1 | B71: pineau blanc | C71: cave coop | D71: 0.002 | E71: LITRE
A72: sauce pineau 2 | B72: Echalotte | C72: passion froid | D72: 0.003 | E72: KG
A73: sauce pineau 3 | B73: Crème liquide | C73: ouest frais | D73: 0.008 | E73: LITRE
A74: sauce pineau 4 | B74: Fond de veau | C74: ouest frais | D74: 0.002 | E74: KG
A75: sauce pineau 5 | B75: beurre | C75: ouest frais | D75: 0.001 | E75: KG
A76: sauce pineau 6 | B76: maizena | C76: ouest frais | D76: 0.002 | E76: KG
A78: sauce estragon
A79: sauce estragon 1 | B79: estragon | C79: pons | D79: 0.005 | E79: KG
A80: sauce estragon 2 | B80: Echalotte | C80: passion froid | D80: 0.003 | E80: KG
A81: sauce estragon 3 | B81: beurre | C81: ouest frais | D81: 0.001 | E81: KG
A82: sauce estragon 4 | B82: Crème liquide | C82: ouest frais | D82: 0.05 | E82: LITRE
A83: sauce estragon 5 | B83: maizena | C83: ouest frais | D83: 0.002 | E83: KG
A84: sauce estragon 6 | B84: Fond de veau | C84: ouest frais | D84: 0.002 | E84: KG
A85: sauce estragon 7 | B85: Vin blanc | C85: cave coop | D85: 0.005 | E85: LITRE
A87: sauce maroilles
A88: sauce maroilles 1 | B88: maroilles | C88: ouest frais | D88: 0.005 | E88: KG
A89: sauce maroilles 2 | B89: Echalotte | C89: passion froid | D89: 0.003 | E89: KG
A90: sauce maroilles 3 | B90: beurre | C90: ouest frais | D90: 0.001 | E90: KG
A91: sauce maroilles 4 | B91: Crème liquide | C91: ouest frais | D91: 0.05 | E91: LITRE
A92: sauce maroilles 5 | B92: maizena | C92: ouest frais | D92: 0.002 | E92: KG
A93: sauce maroilles 6 | B93: Fond de veau | C93: ouest frais | D93: 0.002 | E93: KG
A94: sauce maroilles 7 | B94: Vin blanc | C94: cave coop | D94: 0.005 | E94: LITRE
A95: sauce maroilles 8 | B95: persil | C95: sirf | D95: 0.001 | E95: KG
A97: en croute
A98: en croute 1 | B98: chapelure | C98: ouest frais | D98: 0.008 | E98: KG
A99: en croute 2 | B99: huile | C99: ouest frais | D99: 0.002 | E99: LITRE
A100: en croute 3 | B100: Fromage râpé italien | C100: ouest frais | D100: 0.002 | E100: kg
A101: en croute 4 | B101: Ail | C101: gel cote | D101: 0.001 | E101: KG
A102: en croute 5 | B102: Echalotte | C102: passion froid | D102: 0.002 | E102: KG
A103: en croute 6 | B103: persil | C103: sirf | D103: 0.001 | E103: KG
A105: sauce foie gras | F105: https://www.recettesduchef.fr/Recettes/Sauces-Marinades/sauce-cremeuse-au-foie-gras-recette-de-grand-chef.html
A106: sauce foie gras 1 | B106: Pépite foie gras (5102) | C106: gel cote | D106: 0.01 | E106: KG
A107: sauce foie gras 2 | B107: Beurre | C107: ouest frais | D107: 0.001 | E107: KG
A108: sauce foie gras 3 | B108: Orange 1p/20 | C108: pons | D108: 0.005 | E108: KG
A109: sauce foie gras 4 | B109: Gingembre | C109: ouest frais | D109: 0.001 | E109: KG
A110: sauce foie gras 5 | B110: Pineau | C110: cave coop | D110: 0.005 | E110: LITRE
A111: sauce foie gras 6 | B111: Fond brun délié 0.022cl | C111: ouest frais | D111: 0.001 | E111: KG
...

Sheet dessert
A1: dessert | F1: liste | I1: CHOIX:
A2: AGATHE | F2: tourbillon mangue passion | I2: OUI
A3: AGATHE 1 | B3: AGATHE(77830)1€46 (ct12) | C3: sysco | D3: 1 | E3: piece | F3: Moelleux Choco/cara | I3: NON
A4: AGATHE 2 | B4: coulis fruit rouge | C4: ouest frais | D4: 0.005 | E4: litre | F4: dome mangue passion
A5: AGATHE 3 | B5: coulis fruit jaune | C5: ouest frais | D5: 0.005 | E5: litre | F5: tiramisu
A7: CABOSSE | F7: Yaourt et fruit
A8: CABOSSE 1 | B8: CABOSSE(77779)1€49(ct12) | C8: sysco | D8: 1 | E8: piece
A9: CABOSSE 2 | B9: creme anglaise | C9: passion froid | D9: 0.01 | E9: litre | F9: Chocosphère
F10: AGATHE
F11: CABOSSE
A12: FEUILLANTINE | F12: FEUILLANTINE
A13: FEUILLANTINE 1 | B13: FEUILLANTINE | C13: pain marin | D13: 1 | E13: piece | F13: MOUSSE CHOCO
F14: palet glacé caramel
A15: tourbillon mangue passion | F15: palet sablé caramel
A16: tourbillon mangue passion 1 | B16: tourbillon mang/pass(76654)0€76(ct20) | C16: sysco | D16: 1 | E16: piece | F16: Blanc-manger
A17: tourbillon mangue passion 2 | B17: coulis fruit jaune | C17: ouest frais | D17: 0.01 | E17: litre | F17: le Kube
F18: Pavlinova
A19: Moelleux Choco/cara | F19: lapostruf
A20: Moelleux Choco/cara 1 | B20: Moelleux Choco/cara 180124 | C20: ouest frais | D20: 1 | E20: piece | F20: tourbillon poire cara
A21: Moelleux Choco/cara 2 | B21: creme anglaise | C21: passion froid | D21: 0.01 | E21: litre | F21: St Honoré revisité
F22: tartare mange ananas
A23: dome mangue passion | F23: Matsiro litchi
A24: dome mangue passion 1 | B24: dome mangue passion(78059)1€21)(ct14) | C24: sysco | D24: 1 | E24: piece | F24: Sy'tron
A25: dome mangue passion 2 | B25: coulis fruit jaune | C25: passion froid | D25: 0.01 | E25: litre | F25: tourbillon fruit rouge
F26: ecrin choco-noisette
A27: Chocosphère | F27: nougat glacé
A28: Chocosphère 1 | B28: Chocosphère(76653)1€71 (ct12) | C28: sysco | D28: 1 | E28: piece | F28: CRAQUANTE CARA
A29: Chocosphère 2 | B29: Poudre spéculos 0.010 | C29: sysco | D29: 0.005 | E29: KG | F29: assortiment tarte sirf
A30: Chocosphère 3 | B30: coulis chocolat | C30: sysco | D30: 0.0005 | E30: litre | F30: fraise mascarpone
F31: tartare ananas mangue maison
A32: tiramisu | F32: Profiteroles
A33: tiramisu 1 | B33: tiramisu(76622)1€00(ct5) | C33: sysco | D33: 1 | E33: piece
A34: tiramisu 2 | B34: cacao | C34: ouest frais | D34: 0.005 | E34: KG
A36: MOUSSE CHOCO
A37: MOUSSE CHOCO 1 | B37: Chocolat noir | C37: ouest frais | D37: 0.028 | E37: KG
A38: MOUSSE CHOCO 2 | B38: beurre | C38: passion froid | D38: 0.011 | E38: KG
A39: MOUSSE CHOCO 3 | B39: sucre semoule | C39: ouest frais | D39: 0.007 | E39: KG
A40: MOUSSE CHOCO 4 | B40: blanc œuf | C40: ouest frais | D40: 0.034 | E40: litre
A41: MOUSSE CHOCO 5 | B41: jaune œuf | C41: ouest frais | D41: 0.0085 | E41: litre
A42: MOUSSE CHOCO 6 | B42: sel | C42: ouest frais | E42: KG
D43: =SUM(D37:D41) -> 0.0885
A45: nougat glacé
A46: nougat glacé 1 | B46: nougat glacé (9698)1€30(ct16) | C46: gel cote | D46: 1 | E46: piece
A47: nougat glacé 2 | B47: coulis fruit rouge | C47: ouest frais | D47: 0.01 | E47: litre
A49: Blanc-manger
A50: Blanc-manger 1 | B50: Blanc-manger (39235) 1€40(ct16) | C50: sysco | D50: 1 | E50: piece
A51: Blanc-manger 2 | B51: coulis fruit rouge | C51: ouest frais | D51: 0.01 | E51: litre
A53: le Kube
A54: le Kube 1 | B54: le Kube 77914 1€74(ct12) | C54: sysco | D54: 1 | E54: piece
A55: le Kube 2 | B55: coulis chocolat | C55: sysco | D55: 0.0005 | E55: litre
A57: Pavlinova
A58: Pavlinova 1 | B58: Pavlinova(77218)1€32(ct12) | C58: sysco | D58: 1 | E58: piece
A59: Pavlinova 2 | B59: coulis fruit jaune | C59: passion froid | D59: 0.01 | E59: litre
A61: lapostruf
A62: lapostruf 1 | B62: lapostruf(79315)1€58(ct12) | C62: sysco | D62: 1 | E62: piece
A63: lapostruf 2 | B63: coulis chocolat | C63: sysco | D63: 0.0005 | E63: litre
A65: tourbillon poire cara
A66: tourbillon poire cara 1 | B66: tourbillon poire cara(79322)0€69(ct20) | C66: sysco | D66: 1 | E66: piece
A67: tourbillon poire cara 2 | B67: creme anglaise | C67: passion froid | D67: 0.01 | E67: LITRE
A69: St Honoré revisité
A70: St Honoré revisité 1 | B70: St Honoré revisité(73738)1€60(ct14) | C70: sysco | D70: 1 | E70: piece
A71: St Honoré revisité 2 | B71: creme 30% | C71: passion froid | D71: 0.01 | E71: litre
A72: St Honoré revisité 3 | B72: caramel | C72: passion froid | D72: 0.01 | E72: litre
A74: tartare mange ananas
A75: tartare mange ananas 1 | B75: tartare mange ananas(77309)1€30)(ct32) | C75: sysco | D75: 1 | E75: piece
A77: Matsiro litchi
A78: Matsiro litchi 1 | B78: Matsiro litchi(77213)1€88(ct12) | C78: sysco | D78: 1 | E78: piece
A79: Matsiro litchi 2 | B79: coulis fruit rouge | C79: ouest frais | D79: 0.01 | E79: litre
A81: Sy'tron
A82: Sy'tron 1 | B82: Sy'tron(76658)1€75(ct12) | C82: sysco | D82: 1 | E82: piece
A83: Sy'tron 2 | B83: coulis fruit jaune | C83: passion froid | D83: 0.01 | E83: litre
A85: tourbillon fruit rouge
A86: tourbillon fruit rouge 1 | B86: tourbillon rouge(77221)0€76(ct20) | C86: davigel | D86: 1 | E86: piece
A87: tourbillon fruit rouge 2 | B87: coulis fruit jaune | C87: ouest frais | D87: 0.01 | E87: litre
A89: Yaourt et fruit
A90: Yaourt et fruit 1 | B90: Yaourt et fruit | C90: SUR FICHE | D90: 1 | E90: PIECE
A92: palet glacé caramel
A93: palet glacé caramel 1 | B93: palet glacé caramel()1€30(ct) | C93: sysco | D93: 1 | E93: piece
A94: palet glacé caramel 2 | B94: crème anglaise | C94: passion froid | D94: 0.01 | E94: litre
A96: palet sablé caramel
A97: palet sablé caramel 1 | B97: palet sablé caramel (76329)1€30(ct16) | C97: sysco | D97: 1 | E97: piece
A98: palet sablé caramel 2 | B98: crème anglaise | C98: passion froid | D98: 0.01 | E98: litre
A101: ecrin choco-noisette
A102: ecrin choco-noisette 1 | B102: Ecrin choco-noisette76136(ct12)1€84) | C102: sysco | D102: 1 | E102: piece
A103: ecrin choco-noisette 2 | B103: crème anglaise | C103: passion froid | D103: 0.01 | E103: litre
A105: CRAQUANTE CARA
A106: CRAQUANTE CARA 1 | B106: CRAQUANTE CARA 1€09 POMME | C106: GELE COTE | D106: 1 | E106: piece
A107: CRAQUANTE CARA 2 | B107: crème anglaise | C107: passion froid | D107: 0.01 | E107: litre
A109: assortiment tarte sirf
A110: assortiment tarte sirf 1 | B110: assortiment tarte sirf | C110: sirf | D110: 0.125 | E110: pièce
A111: assortiment tarte sirf 2 | B111: crème anglaise | C111: passion froid | D111: 0.01 | E111: litre
A113: fraise mascarpone
A114: fraise mascarpone 1 | B114: fraise | C114: pons | D114: 0.03 | E114: kg | F114: https://cuisine.journaldesfemmes.fr/recette/347878-verrine-fraise-mascarpone-speculos
A115: fraise mascarpone 2 | B115: mascarpone | C115: ouest frais | D115: 0.042 | E115: kg
A116: fraise mascarpone 3 | B116: œuf | C116: ouest frais | D116: 0.4 | E116: piece
A117: fraise mascarpone 4 | B117: poudre speculos | C117: sysco | D117: 0.03 | E117: kg
A118: fraise mascarpone 5 | B118: sucre | C118: ouest frais | D118: 0.01 | E118: kg
A120: tartare ananas mangue maison
A121: tartare ananas mangue maison 1 | B121: ananas | C121: pons | D121: 0.1 | E121: kg
A122: tartare ananas mangue maison 2 | B122: vanille | C122: ouest frais | D122: 0.001 | E122: kg
...
