Workbook

Sheet Feuil1
A1: GROUPE | C1: PAX | D1: 100 | E1: DATE | H1: HORAIRE
A2: Entrée | C2: =A10 -> Brioche au fromage | E2: MARDI SOIR | F2: 12 | G2: MARS | H2: 12H30
A3: Proteine | C3: =A22 -> carbonnade flamande | D3: bouteille/8 | F3: bouteille | H3: carton
A4: sauce | C4: =A29 -> sauce chorizo | D4: royal | F4: =D1/8 -> 12.5 | H4: =F4/6 -> 2.0833333
A5: Accompagnement1 | C5: =A38 -> poele leg | D5: brise de mer rosé | F5: =D1/8 -> 12.5 | H5: =F5/6 -> 2.0833333
A6: Accompagnement2 | C6: =A47 -> pdt tournées rissolées | D6: pain/3,5sole /4INTER | G6: pièce | H6: carton
A7: Fromage | C7: OUI | D7: Bgt sur sole | G7: =D1/3.5 -> 28.571429 | H7: =G7/25 -> 1.1428571
A8: Dessert | C8: =A55 -> nougat glacé | D8: Bgt inter | G8: =D1/4 -> 25
A9: CHOIX | C9: PRODUITS | D9: FOURNISSEUR | E9: COEFF | F9: STOCK | G9: BESOIN
A10: Brioche au fromage | B10: =$A$10&" "&1 -> Brioche au fromage 1 | C10: =VLOOKUP($B10,entrée!$A$1:$C$498,2,0) -> Brioche au fromage 37825 90GR | D10: =VLOOKUP($B10,entrée!$A$1:$C$498,3,0) -> SYSCO | E10: =VLOOKUP($B10,entrée!$A$1:$D$498,4,0) -> 1 | G10: =D1*E10-F10 -> 100 | H10: =VLOOKUP($B10,entrée!$A$1:$E$498,5,0) -> PIECE
B11: =$A$10&" "&2 -> Brioche au fromage 2 | C11: =VLOOKUP($B11,entrée!$A$1:$C$498,2,0) -> carotte rapée | D11: =VLOOKUP($B11,entrée!$A$1:$C$498,3,0) -> pons | E11: =VLOOKUP($B11,entrée!$A$1:$D$498,4,0) -> 0.01 | G11: =D1*E11-F11 -> 1 | H11: =VLOOKUP($B11,entrée!$A$1:$E$498,5,0) -> kg
B12: =$A$10&" "&3 -> Brioche au fromage 3 | C12: =VLOOKUP($B12,entrée!$A$1:$C$498,2,0) -> Mesclun | D12: =VLOOKUP($B12,entrée!$A$1:$C$498,3,0) -> pons | E12: =VLOOKUP($B12,entrée!$A$1:$D$498,4,0) -> 0.01 | G12: =D1*E12-F12 -> 1 | H12: =VLOOKUP($B12,entrée!$A$1:$E$498,5,0) -> kg
B13: =$A$10&" "&4 -> Brioche au fromage 4 | C13: =VLOOKUP($B13,entrée!$A$1:$C$498,2,0) -> vinaigrette | D13: =VLOOKUP($B13,entrée!$A$1:$C$498,3,0) -> 0 | E13: =VLOOKUP($B13,entrée!$A$1:$D$498,4,0) -> 0.005 | G13: =D1*E13-F13 -> 0.5 | H13: =VLOOKUP($B13,entrée!$A$1:$E$498,5,0) -> litre
B14: =$A$10&" "&5 -> Brioche au fromage 5 | C14: =VLOOKUP($B14,entrée!$A$1:$C$498,2,0) -> #N/A | D14: =VLOOKUP($B14,entrée!$A$1:$C$498,3,0) -> #N/A | E14: =VLOOKUP($B14,entrée!$A$1:$D$498,4,0) -> #N/A | G14: =D1*E14-F14 -> #N/A | H14: =VLOOKUP($B14,entrée!$A$1:$E$498,5,0) -> #N/A
B15: =$A$10&" "&6 -> Brioche au fromage 6 | C15: =VLOOKUP($B15,entrée!$A$1:$C$498,2,0) -> #N/A | D15: =VLOOKUP($B15,entrée!$A$1:$C$498,3,0) -> #N/A | E15: =VLOOKUP($B15,entrée!$A$1:$D$498,4,0) -> #N/A | G15: =D1*E15-F15 -> #N/A | H15: =VLOOKUP($B15,entrée!$A$1:$E$498,5,0) -> #N/A
B16: =$A$10&" "&7 -> Brioche au fromage 7 | C16: =VLOOKUP($B16,entrée!$A$1:$C$498,2,0) -> #N/A | D16: =VLOOKUP($B16,entrée!$A$1:$C$498,3,0) -> #N/A | E16: =VLOOKUP($B16,entrée!$A$1:$D$498,4,0) -> #N/A | G16: =D1*E16-F16 -> #N/A | H16: =VLOOKUP($B16,entrée!$A$1:$E$498,5,0) -> #N/A
B17: =$A$10&" "&8 -> Brioche au fromage 8 | C17: =VLOOKUP($B17,entrée!$A$1:$C$498,2,0) -> #N/A | D17: =VLOOKUP($B17,entrée!$A$1:$C$498,3,0) -> #N/A | E17: =VLOOKUP($B17,entrée!$A$1:$D$498,4,0) -> #N/A | G17: =D1*E17-F17 -> #N/A | H17: =VLOOKUP($B17,entrée!$A$1:$E$498,5,0) -> #N/A
B18: =$A$10&" "&9 -> Brioche au fromage 9 | C18: =VLOOKUP($B18,entrée!$A$1:$C$498,2,0) -> #N/A | D18: =VLOOKUP($B18,entrée!$A$1:$C$498,3,0) -> #N/A | E18: =VLOOKUP($B18,entrée!$A$1:$D$498,4,0) -> #N/A | G18: =D1*E18-F18 -> #N/A | H18: =VLOOKUP($B18,entrée!$A$1:$E$498,5,0) -> #N/A
B19: =$A$10&" "&10 -> Brioche au fromage 10 | C19: =VLOOKUP($B19,entrée!$A$1:$C$498,2,0) -> #N/A | D19: =VLOOKUP($B19,entrée!$A$1:$C$498,3,0) -> #N/A | E19: =VLOOKUP($B19,entrée!$A$1:$D$498,4,0) -> #N/A | G19: =D1*E19-F19 -> #N/A | H19: =VLOOKUP($B19,entrée!$A$1:$E$498,5,0) -> #N/A
B20: =$A$10&" "&11 -> Brioche au fromage 11 | C20: =VLOOKUP($B20,entrée!$A$1:$C$498,2,0) -> #N/A | D20: =VLOOKUP($B20,entrée!$A$1:$C$498,3,0) -> #N/A | E20: =VLOOKUP($B20,entrée!$A$1:$D$498,4,0) -> #N/A | G20: =D1*E20-F20 -> #N/A | H20: =VLOOKUP($B20,entrée!$A$1:$E$498,5,0) -> #N/A
B21: =$A$10&" "&12 -> Brioche au fromage 12 | C21: =VLOOKUP($B21,entrée!$A$1:$C$498,2,0) -> #N/A | D21: =VLOOKUP($B21,entrée!$A$1:$C$498,3,0) -> #N/A | E21: =VLOOKUP($B21,entrée!$A$1:$D$498,4,0) -> #N/A | G21: =D1*E21-F21 -> #N/A | H21: =VLOOKUP($B21,entrée!$A$1:$E$498,5,0) -> #N/A
A22: carbonnade flamande | B22: =$A$22&" "&1 -> carbonnade flamande 1 | C22: =VLOOKUP($B22,proteine!$A$1:$C$513,2,0) -> Noix de joue de bœuf (0207)(ct 5kg) | D22: =VLOOKUP($B22,proteine!$A$1:$C$513,3,0) -> sirf | E22: =VLOOKUP($B22,proteine!$A$1:$D$513,4,0) -> 0.2 | G22: =D1*E22-F22 -> 20 | H22: =VLOOKUP($B22,proteine!$A$1:$E$513,5,0) -> KG
B23: =$A$22&" "&2 -> carbonnade flamande 2 | C23: =VLOOKUP($B23,proteine!$A$1:$C$513,2,0) -> pain d'épice | D23: =VLOOKUP($B23,proteine!$A$1:$C$513,3,0) -> ouest frais | E23: =VLOOKUP($B23,proteine!$A$1:$D$513,4,0) -> 0.01 | G23: =D1*E23-F23 -> 1 | H23: =VLOOKUP($B23,proteine!$A$1:$E$513,5,0) -> KG
B24: =$A$22&" "&3 -> carbonnade flamande 3 | C24: =VLOOKUP($B24,proteine!$A$1:$C$513,2,0) -> ail | D24: =VLOOKUP($B24,proteine!$A$1:$C$513,3,0) -> gel cote | E24: =VLOOKUP($B24,proteine!$A$1:$D$513,4,0) -> 0.008 | G24: =D1*E24-F24 -> 0.8 | H24: =VLOOKUP($B24,proteine!$A$1:$E$513,5,0) -> KG
B25: =$A$22&" "&4 -> carbonnade flamande 4 | C25: =VLOOKUP($B25,proteine!$A$1:$C$513,2,0) -> oignon | D25: =VLOOKUP($B25,proteine!$A$1:$C$513,3,0) -> passion froid | E25: =VLOOKUP($B25,proteine!$A$1:$D$513,4,0) -> 0.015 | G25: =D1*E25-F25 -> 1.5 | H25: =VLOOKUP($B25,proteine!$A$1:$E$513,5,0) -> KG
B26: =$A$22&" "&5 -> carbonnade flamande 5 | C26: =VLOOKUP($B26,proteine!$A$1:$C$513,2,0) -> bière | D26: =VLOOKUP($B26,proteine!$A$1:$C$513,3,0) -> inter | E26: =VLOOKUP($B26,proteine!$A$1:$D$513,4,0) -> 0.015 | G26: =D1*E26-F26 -> 1.5 | H26: =VLOOKUP($B26,proteine!$A$1:$E$513,5,0) -> LITRE
B27: =$A$22&" "&6 -> carbonnade flamande 6 | C27: =VLOOKUP($B27,proteine!$A$1:$C$513,2,0) -> fond de veau | D27: =VLOOKUP($B27,proteine!$A$1:$C$513,3,0) -> ouest frais | E27: =VLOOKUP($B27,proteine!$A$1:$D$513,4,0) -> 0.002 | G27: =D1*E27-F27 -> 0.2 | H27: =VLOOKUP($B27,proteine!$A$1:$E$513,5,0) -> KG
B28: =$A$22&" "&7 -> carbonnade flamande 7 | C28: =VLOOKUP($B28,proteine!$A$1:$C$513,2,0) -> moutarde | D28: =VLOOKUP($B28,proteine!$A$1:$C$513,3,0) -> ouest frais | E28: =VLOOKUP($B28,proteine!$A$1:$D$513,4,0) -> 0.005 | G28: =D1*E28-F28 -> 0.5 | H28: =VLOOKUP($B28,proteine!$A$1:$E$513,5,0) -> KG
A29: sauce chorizo | B29: =$A$29&" "&1 -> sauce chorizo 1 | C29: =VLOOKUP($B29,sauce!$A$1:$C$501,2,0) -> Chorizo | D29: =VLOOKUP($B29,sauce!$A$1:$C$501,3,0) -> sirf | E29: =VLOOKUP($B29,sauce!$A$1:$D$501,4,0) -> 0.005 | G29: =D1*E29-F29 -> 0.5 | H29: =VLOOKUP($B29,sauce!$A$1:$E$501,5,0) -> kg
B30: =$A$29&" "&2 -> sauce chorizo 2 | C30: =VLOOKUP($B30,sauce!$A$1:$C$501,2,0) -> échalote | D30: =VLOOKUP($B30,sauce!$A$1:$C$501,3,0) -> passion froid | E30: =VLOOKUP($B30,sauce!$A$1:$D$501,4,0) -> 0.003 | G30: =D1*E30-F30 -> 0.3 | H30: =VLOOKUP($B30,sauce!$A$1:$E$501,5,0) -> kg
B31: =$A$29&" "&3 -> sauce chorizo 3 | C31: =VLOOKUP($B31,sauce!$A$1:$C$501,2,0) -> Tomate confite | D31: =VLOOKUP($B31,sauce!$A$1:$C$501,3,0) -> ouest frais | E31: =VLOOKUP($B31,sauce!$A$1:$D$501,4,0) -> 0.005 | G31: =D1*E31-F31 -> 0.5 | H31: =VLOOKUP($B31,sauce!$A$1:$E$501,5,0) -> kg
B32: =$A$29&" "&4 -> sauce chorizo 4 | C32: =VLOOKUP($B32,sauce!$A$1:$C$501,2,0) -> Crème liquide(44610) | D32: =VLOOKUP($B32,sauce!$A$1:$C$501,3,0) -> ouest frais | E32: =VLOOKUP($B32,sauce!$A$1:$D$501,4,0) -> 0.01 | G32: =D1*E32-F32 -> 1 | H32: =VLOOKUP($B32,sauce!$A$1:$E$501,5,0) -> litre
B33: =$A$29&" "&5 -> sauce chorizo 5 | C33: =VLOOKUP($B33,sauce!$A$1:$C$501,2,0) -> Farine | D33: =VLOOKUP($B33,sauce!$A$1:$C$501,3,0) -> ouest frais | E33: =VLOOKUP($B33,sauce!$A$1:$D$501,4,0) -> 0.001 | G33: =D1*E33-F33 -> 0.1 | H33: =VLOOKUP($B33,sauce!$A$1:$E$501,5,0) -> kg
B34: =$A$29&" "&6 -> sauce chorizo 6 | C34: =VLOOKUP($B34,sauce!$A$1:$C$501,2,0) -> 0 | D34: =VLOOKUP($B34,sauce!$A$1:$C$501,3,0) -> 0 | E34: =VLOOKUP($B34,sauce!$A$1:$D$501,4,0) -> 0 | G34: =D1*E34-F34 -> 0 | H34: =VLOOKUP($B34,sauce!$A$1:$E$501,5,0) -> 0
B35: =$A$29&" "&7 -> sauce chorizo 7 | C35: =VLOOKUP($B35,sauce!$A$1:$C$501,2,0) -> 0 | D35: =VLOOKUP($B35,sauce!$A$1:$C$501,3,0) -> 0 | E35: =VLOOKUP($B35,sauce!$A$1:$D$501,4,0) -> 0 | G35: =D1*E35-F35 -> 0 | H35: =VLOOKUP($B35,sauce!$A$1:$E$501,5,0) -> 0
B36: =$A$29&" "&8 -> sauce chorizo 8 | C36: =VLOOKUP($B36,sauce!$A$1:$C$501,2,0) -> #N/A | D36: =VLOOKUP($B36,sauce!$A$1:$C$501,3,0) -> #N/A | E36: =VLOOKUP($B36,sauce!$A$1:$D$501,4,0) -> #N/A | G36: =D1*E36-F36 -> #N/A | H36: =VLOOKUP($B36,sauce!$A$1:$E$501,5,0) -> #N/A
B37: =$A$29&" "&9 -> sauce chorizo 9 | C37: =VLOOKUP($B37,sauce!$A$1:$C$501,2,0) -> #N/A | D37: =VLOOKUP($B37,sauce!$A$1:$C$501,3,0) -> #N/A | E37: =VLOOKUP($B37,sauce!$A$1:$D$501,4,0) -> #N/A | G37: =D1*E37-F37 -> #N/A | H37: =VLOOKUP($B37,sauce!$A$1:$E$501,5,0) -> #N/A
A38: poele leg | B38: =$A$38&" "&1 -> poele leg 1 | C38: =VLOOKUP($B38,accompagnement!$A$1:$C$505,2,0) -> oignon rouge | D38: =VLOOKUP($B38,accompagnement!$A$1:$C$505,3,0) -> pons | E38: =VLOOKUP($B38,accompagnement!$A$1:$D$505,4,0) -> 0.01 | G38: =D1*E38-F38 -> 1 | H38: =VLOOKUP($B38,accompagnement!$A$1:$E$505,5,0) -> KG
B39: =$A$38&" "&2 -> poele leg 2 | C39: =VLOOKUP($B39,accompagnement!$A$1:$C$505,2,0) -> Petit pois | D39: =VLOOKUP($B39,accompagnement!$A$1:$C$505,3,0) -> sirf | E39: =VLOOKUP($B39,accompagnement!$A$1:$D$505,4,0) -> 0.03 | G39: =D1*E39-F39 -> 3 | H39: =VLOOKUP($B39,accompagnement!$A$1:$E$505,5,0) -> KG
B40: =$A$38&" "&3 -> poele leg 3 | C40: =VLOOKUP($B40,accompagnement!$A$1:$C$505,2,0) -> grenaille | D40: =VLOOKUP($B40,accompagnement!$A$1:$C$505,3,0) -> pons | E40: =VLOOKUP($B40,accompagnement!$A$1:$D$505,4,0) -> 0.15 | F40: 0 | G40: =D1*E40-F40 -> 15 | H40: =VLOOKUP($B40,accompagnement!$A$1:$E$505,5,0) -> KG
...

Sheet Feuil2
A1: GROUPE | C1: PAX | D1: 100 | E1: DATE | H1: HORAIRE
A2: Entrée | C2: =A10 -> tomate mozza | E2: MARDI SOIR | F2: 12 | G2: MARS | H2: 12H30
A3: Proteine | C3: =A22 -> roti de veau | D3: bouteille/8 | F3: bouteille | H3: carton
A4: sauce | C4: =A29 -> sauce chorizo | D4: royal | F4: =D1/8 -> 12.5 | H4: =F4/6 -> 2.0833333
A5: Accompagnement1 | C5: =A38 -> poele leg | D5: brise de mer rosé | F5: =D1/8 -> 12.5 | H5: =F5/6 -> 2.0833333
A6: Accompagnement2 | C6: =A47 -> pdt tournées rissolées | D6: pain/3,5sole /4INTER | G6: pièce | H6: carton
A7: Fromage | C7: OUI | D7: Bgt sur sole | G7: =D1/3.5 -> 28.571429 | H7: =G7/25 -> 1.1428571
A8: Dessert | C8: =A55 -> nougat glacé | D8: Bgt inter | G8: =D1/4 -> 25
A9: CHOIX | C9: PRODUITS | D9: FOURNISSEUR | E9: COEFF | F9: STOCK | G9: BESOIN
A10: tomate mozza | B10: =$A$10&" "&1 -> tomate mozza 1 | C10: =VLOOKUP($B10,entrée!$A$1:$C$498,2,0) -> tomate | D10: =VLOOKUP($B10,entrée!$A$1:$C$498,3,0) -> PONS | E10: =VLOOKUP($B10,entrée!$A$1:$D$498,4,0) -> 0.13 | G10: =D1*E10-F10 -> 13 | H10: =VLOOKUP($B10,entrée!$A$1:$E$498,5,0) -> KG
B11: =$A$10&" "&2 -> tomate mozza 2 | C11: =VLOOKUP($B11,entrée!$A$1:$C$498,2,0) -> roquette | D11: =VLOOKUP($B11,entrée!$A$1:$C$498,3,0) -> PONS | E11: =VLOOKUP($B11,entrée!$A$1:$D$498,4,0) -> 0.01 | G11: =D1*E11-F11 -> 1 | H11: =VLOOKUP($B11,entrée!$A$1:$E$498,5,0) -> KG
B12: =$A$10&" "&3 -> tomate mozza 3 | C12: =VLOOKUP($B12,entrée!$A$1:$C$498,2,0) -> basilic | D12: =VLOOKUP($B12,entrée!$A$1:$C$498,3,0) -> sirf | E12: =VLOOKUP($B12,entrée!$A$1:$D$498,4,0) -> 0.005 | G12: =D1*E12-F12 -> 0.5 | H12: =VLOOKUP($B12,entrée!$A$1:$E$498,5,0) -> KG
B13: =$A$10&" "&4 -> tomate mozza 4 | C13: =VLOOKUP($B13,entrée!$A$1:$C$498,2,0) -> mozzarella | D13: =VLOOKUP($B13,entrée!$A$1:$C$498,3,0) -> OUEST FRAIS | E13: =VLOOKUP($B13,entrée!$A$1:$D$498,4,0) -> 0.05 | G13: =D1*E13-F13 -> 5 | H13: =VLOOKUP($B13,entrée!$A$1:$E$498,5,0) -> KG
B14: =$A$10&" "&5 -> tomate mozza 5 | C14: =VLOOKUP($B14,entrée!$A$1:$C$498,2,0) -> huile olive | D14: =VLOOKUP($B14,entrée!$A$1:$C$498,3,0) -> OUEST FRAIS | E14: =VLOOKUP($B14,entrée!$A$1:$D$498,4,0) -> 0.01 | G14: =D1*E14-F14 -> 1 | H14: =VLOOKUP($B14,entrée!$A$1:$E$498,5,0) -> litre
B15: =$A$10&" "&6 -> tomate mozza 6 | C15: =VLOOKUP($B15,entrée!$A$1:$C$498,2,0) -> #N/A | D15: =VLOOKUP($B15,entrée!$A$1:$C$498,3,0) -> #N/A | E15: =VLOOKUP($B15,entrée!$A$1:$D$498,4,0) -> #N/A | G15: =D1*E15-F15 -> #N/A | H15: =VLOOKUP($B15,entrée!$A$1:$E$498,5,0) -> #N/A
B16: =$A$10&" "&7 -> tomate mozza 7 | C16: =VLOOKUP($B16,entrée!$A$1:$C$498,2,0) -> #N/A | D16: =VLOOKUP($B16,entrée!$A$1:$C$498,3,0) -> #N/A | E16: =VLOOKUP($B16,entrée!$A$1:$D$498,4,0) -> #N/A | G16: =D1*E16-F16 -> #N/A | H16: =VLOOKUP($B16,entrée!$A$1:$E$498,5,0) -> #N/A
B17: =$A$10&" "&8 -> tomate mozza 8 | C17: =VLOOKUP($B17,entrée!$A$1:$C$498,2,0) -> #N/A | D17: =VLOOKUP($B17,entrée!$A$1:$C$498,3,0) -> #N/A | E17: =VLOOKUP($B17,entrée!$A$1:$D$498,4,0) -> #N/A | G17: =D1*E17-F17 -> #N/A | H17: =VLOOKUP($B17,entrée!$A$1:$E$498,5,0) -> #N/A
B18: =$A$10&" "&9 -> tomate mozza 9 | C18: =VLOOKUP($B18,entrée!$A$1:$C$498,2,0) -> #N/A | D18: =VLOOKUP($B18,entrée!$A$1:$C$498,3,0) -> #N/A | E18: =VLOOKUP($B18,entrée!$A$1:$D$498,4,0) -> #N/A | G18: =D1*E18-F18 -> #N/A | H18: =VLOOKUP($B18,entrée!$A$1:$E$498,5,0) -> #N/A
B19: =$A$10&" "&10 -> tomate mozza 10 | C19: =VLOOKUP($B19,entrée!$A$1:$C$498,2,0) -> #N/A | D19: =VLOOKUP($B19,entrée!$A$1:$C$498,3,0) -> #N/A | E19: =VLOOKUP($B19,entrée!$A$1:$D$498,4,0) -> #N/A | G19: =D1*E19-F19 -> #N/A | H19: =VLOOKUP($B19,entrée!$A$1:$E$498,5,0) -> #N/A
B20: =$A$10&" "&11 -> tomate mozza 11 | C20: =VLOOKUP($B20,entrée!$A$1:$C$498,2,0) -> #N/A | D20: =VLOOKUP($B20,entrée!$A$1:$C$498,3,0) -> #N/A | E20: =VLOOKUP($B20,entrée!$A$1:$D$498,4,0) -> #N/A | G20: =D1*E20-F20 -> #N/A | H20: =VLOOKUP($B20,entrée!$A$1:$E$498,5,0) -> #N/A
B21: =$A$10&" "&12 -> tomate mozza 12 | C21: =VLOOKUP($B21,entrée!$A$1:$C$498,2,0) -> #N/A | D21: =VLOOKUP($B21,entrée!$A$1:$C$498,3,0) -> #N/A | E21: =VLOOKUP($B21,entrée!$A$1:$D$498,4,0) -> #N/A | G21: =D1*E21-F21 -> #N/A | H21: =VLOOKUP($B21,entrée!$A$1:$E$498,5,0) -> #N/A
A22: roti de veau | B22: =$A$22&" "&1 -> roti de veau 1 | C22: =VLOOKUP($B22,proteine!$A$1:$C$513,2,0) -> roti de veau (171189) 12€91 | D22: =VLOOKUP($B22,proteine!$A$1:$C$513,3,0) -> passion froid | E22: =VLOOKUP($B22,proteine!$A$1:$D$513,4,0) -> 0.16 | G22: =D1*E22-F22 -> 16 | H22: =VLOOKUP($B22,proteine!$A$1:$E$513,5,0) -> KG
B23: =$A$22&" "&2 -> roti de veau 2 | C23: =VLOOKUP($B23,proteine!$A$1:$C$513,2,0) -> Ail | D23: =VLOOKUP($B23,proteine!$A$1:$C$513,3,0) -> gel cote | E23: =VLOOKUP($B23,proteine!$A$1:$D$513,4,0) -> 0.002 | G23: =D1*E23-F23 -> 0.2 | H23: =VLOOKUP($B23,proteine!$A$1:$E$513,5,0) -> KG
B24: =$A$22&" "&3 -> roti de veau 3 | C24: =VLOOKUP($B24,proteine!$A$1:$C$513,2,0) -> Oignon émincé | D24: =VLOOKUP($B24,proteine!$A$1:$C$513,3,0) -> passion froid | E24: =VLOOKUP($B24,proteine!$A$1:$D$513,4,0) -> 0.015 | G24: =D1*E24-F24 -> 1.5 | H24: =VLOOKUP($B24,proteine!$A$1:$E$513,5,0) -> KG
B25: =$A$22&" "&4 -> roti de veau 4 | C25: =VLOOKUP($B25,proteine!$A$1:$C$513,2,0) -> Fond veau miel | D25: =VLOOKUP($B25,proteine!$A$1:$C$513,3,0) -> ouest frais | E25: =VLOOKUP($B25,proteine!$A$1:$D$513,4,0) -> 0.001 | G25: =D1*E25-F25 -> 0.1 | H25: =VLOOKUP($B25,proteine!$A$1:$E$513,5,0) -> KG
B26: =$A$22&" "&5 -> roti de veau 5 | C26: =VLOOKUP($B26,proteine!$A$1:$C$513,2,0) -> Vin blanc | D26: =VLOOKUP($B26,proteine!$A$1:$C$513,3,0) -> cave coop | E26: =VLOOKUP($B26,proteine!$A$1:$D$513,4,0) -> 0.008 | G26: =D1*E26-F26 -> 0.8 | H26: =VLOOKUP($B26,proteine!$A$1:$E$513,5,0) -> LITRE
B27: =$A$22&" "&6 -> roti de veau 6 | C27: =VLOOKUP($B27,proteine!$A$1:$C$513,2,0) -> champignon | D27: =VLOOKUP($B27,proteine!$A$1:$C$513,3,0) -> pons | E27: =VLOOKUP($B27,proteine!$A$1:$D$513,4,0) -> 0.02 | G27: =D1*E27-F27 -> 2 | H27: =VLOOKUP($B27,proteine!$A$1:$E$513,5,0) -> kg
B28: =$A$22&" "&7 -> roti de veau 7 | C28: =VLOOKUP($B28,proteine!$A$1:$C$513,2,0) -> carotte | D28: =VLOOKUP($B28,proteine!$A$1:$C$513,3,0) -> pons | E28: =VLOOKUP($B28,proteine!$A$1:$D$513,4,0) -> 0.02 | G28: =D1*E28-F28 -> 2 | H28: =VLOOKUP($B28,proteine!$A$1:$E$513,5,0) -> kg
A29: sauce chorizo | B29: =$A$29&" "&1 -> sauce chorizo 1 | C29: =VLOOKUP($B29,sauce!$A$1:$C$501,2,0) -> Chorizo | D29: =VLOOKUP($B29,sauce!$A$1:$C$501,3,0) -> sirf | E29: =VLOOKUP($B29,sauce!$A$1:$D$501,4,0) -> 0.005 | G29: =D1*E29-F29 -> 0.5 | H29: =VLOOKUP($B29,sauce!$A$1:$E$501,5,0) -> kg
B30: =$A$29&" "&2 -> sauce chorizo 2 | C30: =VLOOKUP($B30,sauce!$A$1:$C$501,2,0) -> échalote | D30: =VLOOKUP($B30,sauce!$A$1:$C$501,3,0) -> passion froid | E30: =VLOOKUP($B30,sauce!$A$1:$D$501,4,0) -> 0.003 | G30: =D1*E30-F30 -> 0.3 | H30: =VLOOKUP($B30,sauce!$A$1:$E$501,5,0) -> kg
B31: =$A$29&" "&3 -> sauce chorizo 3 | C31: =VLOOKUP($B31,sauce!$A$1:$C$501,2,0) -> Tomate confite | D31: =VLOOKUP($B31,sauce!$A$1:$C$501,3,0) -> ouest frais | E31: =VLOOKUP($B31,sauce!$A$1:$D$501,4,0) -> 0.005 | G31: =D1*E31-F31 -> 0.5 | H31: =VLOOKUP($B31,sauce!$A$1:$E$501,5,0) -> kg
B32: =$A$29&" "&4 -> sauce chorizo 4 | C32: =VLOOKUP($B32,sauce!$A$1:$C$501,2,0) -> Crème liquide(44610) | D32: =VLOOKUP($B32,sauce!$A$1:$C$501,3,0) -> ouest frais | E32: =VLOOKUP($B32,sauce!$A$1:$D$501,4,0) -> 0.01 | G32: =D1*E32-F32 -> 1 | H32: =VLOOKUP($B32,sauce!$A$1:$E$501,5,0) -> litre
B33: =$A$29&" "&5 -> sauce chorizo 5 | C33: =VLOOKUP($B33,sauce!$A$1:$C$501,2,0) -> Farine | D33: =VLOOKUP($B33,sauce!$A$1:$C$501,3,0) -> ouest frais | E33: =VLOOKUP($B33,sauce!$A$1:$D$501,4,0) -> 0.001 | G33: =D1*E33-F33 -> 0.1 | H33: =VLOOKUP($B33,sauce!$A$1:$E$501,5,0) -> kg
B34: =$A$29&" "&6 -> sauce chorizo 6 | C34: =VLOOKUP($B34,sauce!$A$1:$C$501,2,0) -> 0 | D34: =VLOOKUP($B34,sauce!$A$1:$C$501,3,0) -> 0 | E34: =VLOOKUP($B34,sauce!$A$1:$D$501,4,0) -> 0 | G34: =D1*E34-F34 -> 0 | H34: =VLOOKUP($B34,sauce!$A$1:$E$501,5,0) -> 0
B35: =$A$29&" "&7 -> sauce chorizo 7 | C35: =VLOOKUP($B35,sauce!$A$1:$C$501,2,0) -> 0 | D35: =VLOOKUP($B35,sauce!$A$1:$C$501,3,0) -> 0 | E35: =VLOOKUP($B35,sauce!$A$1:$D$501,4,0) -> 0 | G35: =D1*E35-F35 -> 0 | H35: =VLOOKUP($B35,sauce!$A$1:$E$501,5,0) -> 0
B36: =$A$29&" "&8 -> sauce chorizo 8 | C36: =VLOOKUP($B36,sauce!$A$1:$C$501,2,0) -> #N/A | D36: =VLOOKUP($B36,sauce!$A$1:$C$501,3,0) -> #N/A | E36: =VLOOKUP($B36,sauce!$A$1:$D$501,4,0) -> #N/A | G36: =D1*E36-F36 -> #N/A | H36: =VLOOKUP($B36,sauce!$A$1:$E$501,5,0) -> #N/A
B37: =$A$29&" "&9 -> sauce chorizo 9 | C37: =VLOOKUP($B37,sauce!$A$1:$C$501,2,0) -> #N/A | D37: =VLOOKUP($B37,sauce!$A$1:$C$501,3,0) -> #N/A | E37: =VLOOKUP($B37,sauce!$A$1:$D$501,4,0) -> #N/A | G37: =D1*E37-F37 -> #N/A | H37: =VLOOKUP($B37,sauce!$A$1:$E$501,5,0) -> #N/A
A38: poele leg | B38: =$A$38&" "&1 -> poele leg 1 | C38: =VLOOKUP($B38,accompagnement!$A$1:$C$505,2,0) -> oignon rouge | D38: =VLOOKUP($B38,accompagnement!$A$1:$C$505,3,0) -> pons | E38: =VLOOKUP($B38,accompagnement!$A$1:$D$505,4,0) -> 0.01 | G38: =D1*E38-F38 -> 1 | H38: =VLOOKUP($B38,accompagnement!$A$1:$E$505,5,0) -> KG
B39: =$A$38&" "&2 -> poele leg 2 | C39: =VLOOKUP($B39,accompagnement!$A$1:$C$505,2,0) -> Petit pois | D39: =VLOOKUP($B39,accompagnement!$A$1:$C$505,3,0) -> sirf | E39: =VLOOKUP($B39,accompagnement!$A$1:$D$505,4,0) -> 0.03 | G39: =D1*E39-F39 -> 3 | H39: =VLOOKUP($B39,accompagnement!$A$1:$E$505,5,0) -> KG
B40: =$A$38&" "&3 -> poele leg 3 | C40: =VLOOKUP($B40,accompagnement!$A$1:$C$505,2,0) -> grenaille | D40: =VLOOKUP($B40,accompagnement!$A$1:$C$505,3,0) -> pons | E40: =VLOOKUP($B40,accompagnement!$A$1:$D$505,4,0) -> 0.15 | F40: 0 | G40: =D1*E40-F40 -> 15 | H40: =VLOOKUP($B40,accompagnement!$A$1:$E$505,5,0) -> KG
...

Sheet Feuil3
A1: GROUPE | C1: PAX | D1: 100 | E1: DATE | H1: HORAIRE
A2: Entrée | C2: =A10 -> SALADE ESPANA | E2: MARDI SOIR | F2: 12 | G2: MARS | H2: 12H30
A3: Proteine | C3: =A22 -> Poisson blanc | D3: bouteille/8 | F3: bouteille | H3: carton
A4: sauce | C4: =A29 -> sauce poivron vert | D4: royal | F4: =D1/8 -> 12.5 | H4: =F4/6 -> 2.0833333
A5: Accompagnement1 | C5: =A38 -> dipping fries | D5: brise de mer rosé | F5: =D1/8 -> 12.5 | H5: =F5/6 -> 2.0833333
A6: Accompagnement2 | C6: =A47 -> pdt tournées rissolées | D6: pain/3,5sole /4INTER | G6: pièce | H6: carton
A7: Fromage | C7: OUI | D7: Bgt sur sole | G7: =D1/3.5 -> 28.571429 | H7: =G7/25 -> 1.1428571
A8: Dessert | C8: =A55 -> tartare ananas mangue maison | D8: Bgt inter | G8: =D1/4 -> 25
A9: CHOIX | C9: PRODUITS | D9: FOURNISSEUR | E9: COEFF | F9: STOCK | G9: BESOIN
A10: SALADE ESPANA | B10: =$A$10&" "&1 -> SALADE ESPANA 1 | C10: =VLOOKUP($B10,entrée!$A$1:$C$498,2,0) -> laitue | D10: =VLOOKUP($B10,entrée!$A$1:$C$498,3,0) -> pons | E10: =VLOOKUP($B10,entrée!$A$1:$D$498,4,0) -> 0.03 | G10: =D1*E10-F10 -> 3 | H10: =VLOOKUP($B10,entrée!$A$1:$E$498,5,0) -> KG
B11: =$A$10&" "&2 -> SALADE ESPANA 2 | C11: =VLOOKUP($B11,entrée!$A$1:$C$498,2,0) -> mache | D11: =VLOOKUP($B11,entrée!$A$1:$C$498,3,0) -> pons | E11: =VLOOKUP($B11,entrée!$A$1:$D$498,4,0) -> 0.015 | G11: =D1*E11-F11 -> 1.5 | H11: =VLOOKUP($B11,entrée!$A$1:$E$498,5,0) -> KG
B12: =$A$10&" "&3 -> SALADE ESPANA 3 | C12: =VLOOKUP($B12,entrée!$A$1:$C$498,2,0) -> tomate | D12: =VLOOKUP($B12,entrée!$A$1:$C$498,3,0) -> pons | E12: =VLOOKUP($B12,entrée!$A$1:$D$498,4,0) -> 0.03 | G12: =D1*E12-F12 -> 3 | H12: =VLOOKUP($B12,entrée!$A$1:$E$498,5,0) -> KG
B13: =$A$10&" "&4 -> SALADE ESPANA 4 | C13: =VLOOKUP($B13,entrée!$A$1:$C$498,2,0) -> OIGNON | D13: =VLOOKUP($B13,entrée!$A$1:$C$498,3,0) -> pons | E13: =VLOOKUP($B13,entrée!$A$1:$D$498,4,0) -> 0.008 | G13: =D1*E13-F13 -> 0.8 | H13: =VLOOKUP($B13,entrée!$A$1:$E$498,5,0) -> KG
B14: =$A$10&" "&5 -> SALADE ESPANA 5 | C14: =VLOOKUP($B14,entrée!$A$1:$C$498,2,0) -> OLIVE VERTE | D14: =VLOOKUP($B14,entrée!$A$1:$C$498,3,0) -> ouest frais | E14: =VLOOKUP($B14,entrée!$A$1:$D$498,4,0) -> 0.015 | G14: =D1*E14-F14 -> 1.5 | H14: =VLOOKUP($B14,entrée!$A$1:$E$498,5,0) -> KG
B15: =$A$10&" "&6 -> SALADE ESPANA 6 | C15: =VLOOKUP($B15,entrée!$A$1:$C$498,2,0) -> MANCHEGO OU EMMENTAL(PRIX) | D15: =VLOOKUP($B15,entrée!$A$1:$C$498,3,0) -> ouest frais | E15: =VLOOKUP($B15,entrée!$A$1:$D$498,4,0) -> 0.015 | G15: =D1*E15-F15 -> 1.5 | H15: =VLOOKUP($B15,entrée!$A$1:$E$498,5,0) -> KG
B16: =$A$10&" "&7 -> SALADE ESPANA 7 | C16: =VLOOKUP($B16,entrée!$A$1:$C$498,2,0) -> #N/A | D16: =VLOOKUP($B16,entrée!$A$1:$C$498,3,0) -> #N/A | E16: =VLOOKUP($B16,entrée!$A$1:$D$498,4,0) -> #N/A | G16: =D1*E16-F16 -> #N/A | H16: =VLOOKUP($B16,entrée!$A$1:$E$498,5,0) -> #N/A
B17: =$A$10&" "&8 -> SALADE ESPANA 8 | C17: =VLOOKUP($B17,entrée!$A$1:$C$498,2,0) -> #N/A | D17: =VLOOKUP($B17,entrée!$A$1:$C$498,3,0) -> #N/A | E17: =VLOOKUP($B17,entrée!$A$1:$D$498,4,0) -> #N/A | G17: =D1*E17-F17 -> #N/A | H17: =VLOOKUP($B17,entrée!$A$1:$E$498,5,0) -> #N/A
B18: =$A$10&" "&9 -> SALADE ESPANA 9 | C18: =VLOOKUP($B18,entrée!$A$1:$C$498,2,0) -> #N/A | D18: =VLOOKUP($B18,entrée!$A$1:$C$498,3,0) -> #N/A | E18: =VLOOKUP($B18,entrée!$A$1:$D$498,4,0) -> #N/A | G18: =D1*E18-F18 -> #N/A | H18: =VLOOKUP($B18,entrée!$A$1:$E$498,5,0) -> #N/A
B19: =$A$10&" "&10 -> SALADE ESPANA 10 | C19: =VLOOKUP($B19,entrée!$A$1:$C$498,2,0) -> #N/A | D19: =VLOOKUP($B19,entrée!$A$1:$C$498,3,0) -> #N/A | E19: =VLOOKUP($B19,entrée!$A$1:$D$498,4,0) -> #N/A | G19: =D1*E19-F19 -> #N/A | H19: =VLOOKUP($B19,entrée!$A$1:$E$498,5,0) -> #N/A
B20: =$A$10&" "&11 -> SALADE ESPANA 11 | C20: =VLOOKUP($B20,entrée!$A$1:$C$498,2,0) -> #N/A | D20: =VLOOKUP($B20,entrée!$A$1:$C$498,3,0) -> #N/A | E20: =VLOOKUP($B20,entrée!$A$1:$D$498,4,0) -> #N/A | G20: =D1*E20-F20 -> #N/A | H20: =VLOOKUP($B20,entrée!$A$1:$E$498,5,0) -> #N/A
B21: =$A$10&" "&12 -> SALADE ESPANA 12 | C21: =VLOOKUP($B21,entrée!$A$1:$C$498,2,0) -> #N/A | D21: =VLOOKUP($B21,entrée!$A$1:$C$498,3,0) -> #N/A | E21: =VLOOKUP($B21,entrée!$A$1:$D$498,4,0) -> #N/A | G21: =D1*E21-F21 -> #N/A | H21: =VLOOKUP($B21,entrée!$A$1:$E$498,5,0) -> #N/A
A22: Poisson blanc | B22: =$A$22&" "&1 -> Poisson blanc 1 | C22: =VLOOKUP($B22,proteine!$A$1:$C$513,2,0) -> Poisson blanc | D22: =VLOOKUP($B22,proteine!$A$1:$C$513,3,0) -> mericq | E22: =VLOOKUP($B22,proteine!$A$1:$D$513,4,0) -> 0.15 | G22: =D1*E22-F22 -> 15 | H22: =VLOOKUP($B22,proteine!$A$1:$E$513,5,0) -> KG
B23: =$A$22&" "&2 -> Poisson blanc 2 | C23: =VLOOKUP($B23,proteine!$A$1:$C$513,2,0) -> beurre | D23: =VLOOKUP($B23,proteine!$A$1:$C$513,3,0) -> ouest frais | E23: =VLOOKUP($B23,proteine!$A$1:$D$513,4,0) -> 0.003 | G23: =D1*E23-F23 -> 0.3 | H23: =VLOOKUP($B23,proteine!$A$1:$E$513,5,0) -> KG
B24: =$A$22&" "&3 -> Poisson blanc 3 | C24: =VLOOKUP($B24,proteine!$A$1:$C$513,2,0) -> #N/A | D24: =VLOOKUP($B24,proteine!$A$1:$C$513,3,0) -> #N/A | E24: =VLOOKUP($B24,proteine!$A$1:$D$513,4,0) -> #N/A | G24: =D1*E24-F24 -> #N/A | H24: =VLOOKUP($B24,proteine!$A$1:$E$513,5,0) -> #N/A
B25: =$A$22&" "&4 -> Poisson blanc 4 | C25: =VLOOKUP($B25,proteine!$A$1:$C$513,2,0) -> #N/A | D25: =VLOOKUP($B25,proteine!$A$1:$C$513,3,0) -> #N/A | E25: =VLOOKUP($B25,proteine!$A$1:$D$513,4,0) -> #N/A | G25: =D1*E25-F25 -> #N/A | H25: =VLOOKUP($B25,proteine!$A$1:$E$513,5,0) -> #N/A
B26: =$A$22&" "&5 -> Poisson blanc 5 | C26: =VLOOKUP($B26,proteine!$A$1:$C$513,2,0) -> #N/A | D26: =VLOOKUP($B26,proteine!$A$1:$C$513,3,0) -> #N/A | E26: =VLOOKUP($B26,proteine!$A$1:$D$513,4,0) -> #N/A | G26: =D1*E26-F26 -> #N/A | H26: =VLOOKUP($B26,proteine!$A$1:$E$513,5,0) -> #N/A
B27: =$A$22&" "&6 -> Poisson blanc 6 | C27: =VLOOKUP($B27,proteine!$A$1:$C$513,2,0) -> #N/A | D27: =VLOOKUP($B27,proteine!$A$1:$C$513,3,0) -> #N/A | E27: =VLOOKUP($B27,proteine!$A$1:$D$513,4,0) -> #N/A | G27: =D1*E27-F27 -> #N/A | H27: =VLOOKUP($B27,proteine!$A$1:$E$513,5,0) -> #N/A
B28: =$A$22&" "&7 -> Poisson blanc 7 | C28: =VLOOKUP($B28,proteine!$A$1:$C$513,2,0) -> #N/A | D28: =VLOOKUP($B28,proteine!$A$1:$C$513,3,0) -> #N/A | E28: =VLOOKUP($B28,proteine!$A$1:$D$513,4,0) -> #N/A | G28: =D1*E28-F28 -> #N/A | H28: =VLOOKUP($B28,proteine!$A$1:$E$513,5,0) -> #N/A
A29: sauce poivron vert | B29: =$A$29&" "&1 -> sauce poivron vert 1 | C29: =VLOOKUP($B29,sauce!$A$1:$C$501,2,0) -> poivron vert | D29: =VLOOKUP($B29,sauce!$A$1:$C$501,3,0) -> pons | E29: =VLOOKUP($B29,sauce!$A$1:$D$501,4,0) -> 0.015 | G29: =D1*E29-F29 -> 1.5 | H29: =VLOOKUP($B29,sauce!$A$1:$E$501,5,0) -> KG
B30: =$A$29&" "&2 -> sauce poivron vert 2 | C30: =VLOOKUP($B30,sauce!$A$1:$C$501,2,0) -> Crème liquide(44610) | D30: =VLOOKUP($B30,sauce!$A$1:$C$501,3,0) -> ouest frais | E30: =VLOOKUP($B30,sauce!$A$1:$D$501,4,0) -> 0.01 | G30: =D1*E30-F30 -> 1 | H30: =VLOOKUP($B30,sauce!$A$1:$E$501,5,0) -> litre
B31: =$A$29&" "&3 -> sauce poivron vert 3 | C31: =VLOOKUP($B31,sauce!$A$1:$C$501,2,0) -> Vin blanc | D31: =VLOOKUP($B31,sauce!$A$1:$C$501,3,0) -> cave coop | E31: =VLOOKUP($B31,sauce!$A$1:$D$501,4,0) -> 0.005 | G31: =D1*E31-F31 -> 0.5 | H31: =VLOOKUP($B31,sauce!$A$1:$E$501,5,0) -> LITRE
B32: =$A$29&" "&4 -> sauce poivron vert 4 | C32: =VLOOKUP($B32,sauce!$A$1:$C$501,2,0) -> huile olive | D32: =VLOOKUP($B32,sauce!$A$1:$C$501,3,0) -> ouest frais | E32: =VLOOKUP($B32,sauce!$A$1:$D$501,4,0) -> 0.002 | G32: =D1*E32-F32 -> 0.2 | H32: =VLOOKUP($B32,sauce!$A$1:$E$501,5,0) -> KG
B33: =$A$29&" "&5 -> sauce poivron vert 5 | C33: =VLOOKUP($B33,sauce!$A$1:$C$501,2,0) -> Ail | D33: =VLOOKUP($B33,sauce!$A$1:$C$501,3,0) -> gel cote | E33: =VLOOKUP($B33,sauce!$A$1:$D$501,4,0) -> 0.002 | G33: =D1*E33-F33 -> 0.2 | H33: =VLOOKUP($B33,sauce!$A$1:$E$501,5,0) -> KG
B34: =$A$29&" "&6 -> sauce poivron vert 6 | C34: =VLOOKUP($B34,sauce!$A$1:$C$501,2,0) -> Farine | D34: =VLOOKUP($B34,sauce!$A$1:$C$501,3,0) -> ouest frais | E34: =VLOOKUP($B34,sauce!$A$1:$D$501,4,0) -> 0.003 | G34: =D1*E34-F34 -> 0.3 | H34: =VLOOKUP($B34,sauce!$A$1:$E$501,5,0) -> KG
B35: =$A$29&" "&7 -> sauce poivron vert 7 | C35: =VLOOKUP($B35,sauce!$A$1:$C$501,2,0) -> Fond de veau | D35: =VLOOKUP($B35,sauce!$A$1:$C$501,3,0) -> ouest frais | E35: =VLOOKUP($B35,sauce!$A$1:$D$501,4,0) -> 0.001 | G35: =D1*E35-F35 -> 0.1 | H35: =VLOOKUP($B35,sauce!$A$1:$E$501,5,0) -> KG
B36: =$A$29&" "&8 -> sauce poivron vert 8 | C36: =VLOOKUP($B36,sauce!$A$1:$C$501,2,0) -> #N/A | D36: =VLOOKUP($B36,sauce!$A$1:$C$501,3,0) -> #N/A | E36: =VLOOKUP($B36,sauce!$A$1:$D$501,4,0) -> #N/A | G36: =D1*E36-F36 -> #N/A | H36: =VLOOKUP($B36,sauce!$A$1:$E$501,5,0) -> #N/A
B37: =$A$29&" "&9 -> sauce poivron vert 9 | C37: =VLOOKUP($B37,sauce!$A$1:$C$501,2,0) -> #N/A | D37: =VLOOKUP($B37,sauce!$A$1:$C$501,3,0) -> #N/A | E37: =VLOOKUP($B37,sauce!$A$1:$D$501,4,0) -> #N/A | G37: =D1*E37-F37 -> #N/A | H37: =VLOOKUP($B37,sauce!$A$1:$E$501,5,0) -> #N/A
A38: dipping fries | B38: =$A$38&" "&1 -> dipping fries 1 | C38: =VLOOKUP($B38,accompagnement!$A$1:$C$505,2,0) -> dipping fries | D38: =VLOOKUP($B38,accompagnement!$A$1:$C$505,3,0) -> sirf | E38: =VLOOKUP($B38,accompagnement!$A$1:$D$505,4,0) -> 0.2 | G38: =D1*E38-F38 -> 20 | H38: =VLOOKUP($B38,accompagnement!$A$1:$E$505,5,0) -> kg
B39: =$A$38&" "&2 -> dipping fries 2 | C39: =VLOOKUP($B39,accompagnement!$A$1:$C$505,2,0) -> MESCLUN | D39: =VLOOKUP($B39,accompagnement!$A$1:$C$505,3,0) -> PONS | E39: =VLOOKUP($B39,accompagnement!$A$1:$D$505,4,0) -> 0.02 | G39: =D1*E39-F39 -> 2 | H39: =VLOOKUP($B39,accompagnement!$A$1:$E$505,5,0) -> KG
B40: =$A$38&" "&3 -> dipping fries 3 | C40: =VLOOKUP($B40,accompagnement!$A$1:$C$505,2,0) -> VINAIGRETTE | D40: =VLOOKUP($B40,accompagnement!$A$1:$C$505,3,0) -> 0 | E40: =VLOOKUP($B40,accompagnement!$A$1:$D$505,4,0) -> 0.005 | F40: 0 | G40: =D1*E40-F40 -> 0.5 | H40: =VLOOKUP($B40,accompagnement!$A$1:$E$505,5,0) -> LITRE
...

Sheet adddition ingredient

Sheet entrée
A1: ENTREE | F1: liste | J1: vins | L1: pains | N1: JOUR | O1: MOIS | P1: HORAIRE
A2: Kadaif | F2: Clafoutis courgette chèvre | J2: rosé des dunes | L2: Bgt sur sole | N2: LUNDI MIDI | O2: FEVRIER | P2: 12H00
A3: Kadaif 1 | B3: Kadaif (ct24) 12273477 | C3: sysco | D3: 1 | E3: pièce | F3: kadaif | J3: royal | L3: Bgt inter | N3: LUNDI SOIR | O3: MARS | P3: 12H30
A4: Kadaif 2 | B4: Mesclun | C4: pons | D4: 0.01 | E4: kg | F4: Tatin endive | J4: petit sergent | N4: MARDI MIDI | O4: AVRIL | P4: 13H00
A5: Kadaif 3 | B5: betterave rapée | C5: pons | D5: 0.005 | E5: kg | F5: coquille fdm st jacques | J5: brise de mer rosé | N5: MARDI SOIR | O5: MAI | P5: 13H30
A6: Kadaif 4 | B6: cerneau noix | C6: passion froid | D6: 0.003 | E6: kg | F6: Aumonière de gambas | J6: brise de mer blanc | N6: MERCREDI MIDI | O6: JUIN | P6: 19H00
A7: Kadaif 4 | B7: vinaigrette | D7: 0.005 | E7: litre | F7: feuilleté St Jacq Maison | J7: brise de mer rouge | N7: MERCREDI SOIR | O7: JUILLET | P7: 19H30
F8: Pastilla canard | J8: poncerault rosé | N8: JEUDI MIDI | O8: AOÛT | P8: 20H00
A9: Clafoutis courgette chèvre | F9: panier nicois | J9: poncerault blanc | N9: JEUDI SOIR | O9: SEPTEMBRE | P9: 20H30
A10: Clafoutis courgette chèvre 1 | B10: Clafoutis courg/chèv (ct12) 0155320 | C10: passion froid | D10: 1 | E10: pièce | F10: tartare St J maison | J10: poncerault rouge | N10: VENDREDI MIDI | O10: OCTOBRE | P10: 21H00
A11: Clafoutis courgette chèvre 2 | B11: roquette | C11: pons | D11: 0.01 | E11: kg | F11: tartare St J dav | J11: evasion rosé | N11: VENDREDI SOIR | O11: NOVEMBRE | P11: 21H30
A12: Clafoutis courgette chèvre 3 | B12: tomate cerise | C12: pons | D12: 0.005 | E12: litre | F12: quiche sardine | J12: evasion blanc | N12: SAMEDI MIDI
A13: Clafoutis courgette chèvre 3 | B13: vinaigrette | D13: 0.003 | E13: litre | F13: quiche au thon | J13: evasion rouge | N13: SAMEDI SOIR
F14: soufflé fromage | N14: DIMANCHE MIDI
A15: Tatin endive | F15: soufflé St Jacques | N15: DIMANCHE SOIR
A16: Tatin endive 1 | B16: Tatin endive(77768)1€20(ct24) | C16: sysco | D16: 1 | E16: pièce | F16: panier saint Jacques
A17: Tatin endive 2 | B17: Mesclun | C17: pons | D17: 0.01 | E17: kg | F17: paté en croute
A18: Tatin endive 3 | B18: Noix | C18: passion froid | D18: 0.005 | E18: kg | F18: salade compo italienne
A19: Tatin endive 4 | B19: Ricotta | C19: passion froid | D19: 0.015 | E19: kg | F19: salade compo chèvre
A20: Tatin endive 5 | B20: FOURME | C20: passion froid | D20: 0.005 | E20: kg | F20: roulé jambon fromage
A21: Tatin endive 6 | B21: MASCARPONE | C21: passion froid | D21: 0.005 | E21: litre | F21: Saumon byriani
A22: Tatin endive 7 | B22: basilic | C22: passion froid | D22: 0.005 | E22: kg | F22: bun roll
A23: Tatin endive 8 | B23: vinaigrette | D23: 0.003 | E23: litre | F23: salade cesar
F24: buffet crudite uno
A25: Aumonière de gambas | F25: buffet crudite dos
A26: Aumonière de gambas 1 | B26: Aumonière gambas(77678)1€63(ct24 ) | C26: Davigel | D26: 1 | E26: pièce | F26: buffet crudite très
A27: Aumonière de gambas 2 | B27: Choux blanc | C27: pons | D27: 0.035 | E27: pièce | F27: Crudité + taboulé
A28: Aumonière de gambas 3 | B28: Marinade : vinaigre riz ou cidre | C28: ouest frais | D28: 0.003 | E28: LITRE | F28: Crudité + piemontaise
A29: Aumonière de gambas 4 | B29: sucre | C29: ouest frais | D29: 0.002 | E29: KG | F29: Assiette charcut
A30: Aumonière de gambas 5 | B30: Vinaigrette :huile tournesol | C30: ouest frais | D30: 0.003 | E30: LITRE | F30: CRUDITE+Quinoa/légumes
A31: Aumonière de gambas 6 | B31: sauce soja | C31: ouest frais | D31: 0.001 | E31: LITRE | F31: crudité+torti crevette surimi
A32: Aumonière de gambas 7 | B32: nuoc nam | C32: ouest frais | D32: 0.002 | E32: LITRE | F32: Crudité + Riz au thon
A33: Aumonière de gambas 8 | B33: sésame | C33: ouest frais | D33: 0.0005 | E33: KG | F33: crudité+Salade italienne
F34: PIZZA QUATRE FROM
A35: coquille fdm st jacques | F35: tarte tomate
A36: coquille fdm st jacques 1 | B36: coquille fdm st jacques (ct16) 17662 | C36: sirf | D36: 1 | E36: PIECE | F36: salade grecque
A37: coquille fdm st jacques 2 | B37: Roquette | C37: pons | D37: 0.01 | E37: KG | F37: tomate mozza
A38: coquille fdm st jacques 3 | B38: CITRON | C38: pons | D38: 0.015 | E38: KG | F38: assiette crudi asiat
A39: coquille fdm st jacques 4 | B39: Huile olive | C39: ouest frais | D39: 0.007 | E39: litre | F39: salade chèvre chaud
A40: coquille fdm st jacques 5 | B40: jus citron | C40: ouest frais | D40: 0.003 | E40: litre | F40: melon jambon
...

Sheet accompagnement
A1: accompagnement | F1: liste
A2: Risotto | F2: Risotto
A3: Risotto 1 | B3: Beurre | C3: ouest frais | D3: 0.003 | E3: kg | F3: COURG/CAROTTE
A4: Risotto 2 | B4: Riz risotto | C4: ouest frais | D4: 0.05 | E4: kg | F4: carotte fane
A5: Risotto 3 | B5: Fromage râpé italien | C5: ouest frais | D5: 0.005 | E5: kg | F5: gnochi légumes
A6: Risotto 4 | B6: Crème liquide | C6: ouest frais | D6: 0.015 | E6: LITRE | F6: grenaille/mâche
A7: Risotto 5 | B7: Fond volaille | C7: ouest frais | D7: 0.001 | E7: kg | F7: poele leg vert
A8: Risotto 6 | B8: Vin blanc | C8: cave coop | D8: 0.005 | E8: litre | F8: tag aux légumes
A9: Risotto 7 | B9: Huile tournesol | C9: ouest frais | D9: 0.005 | E9: litre | F9: écrasé PDT
A10: Risotto 8 | B10: Champignon | C10: pons | D10: 0.03 | E10: kg | F10: purée PDT
A11: Risotto 9 | B11: Oignon (26211) | C11: passion froid | D11: 0.01 | E11: kg | F11: Mogette
F12: quinoa risotto
A13: pomme anna | F13: RIZ BASMATI
A14: pomme anna 1 | B14: Pomme anna (60gr ct de 40pc) (6427) | C14: gel cote | D14: 1 | E14: pièce | F14: RIZ PILAF
F15: pomme anna
A16: carotte fane | F16: carotte fane
A17: carotte fane 1 | B17: Carotte fanes (15p/botte)(env750gr)(1€80)5pers/bte | C17: pons | D17: 3 | E17: pièce | F17: purée pois cassé
A18: carotte fane 2 | B18: Sucre | C18: ouest frais | D18: 0.005 | E18: kg | F18: risotto ebly
A19: carotte fane 3 | B19: Beurre | C19: ouest frais | D19: 0.0015 | E19: kg | F19: choux fleur rôti
A20: carotte fane 4 | B20: Jus de citron | C20: ouest frais | D20: 0.001 | E20: litre | F20: fregola sarda
F21: kasha 3céréales
A22: gnochi légumes | F22: pdt quartier frite
A23: gnochi légumes 1 | B23: Gnochi (26626) | C23: passion froid | D23: 0.125 | E23: KG | F23: jardiniere
A24: gnochi légumes 2 | B24: Basilic coupé | C24: passion froid | D24: 0.005 | E24: KG | F24: FRITE CRINKLE ONDULÉE
A25: gnochi légumes 3 | B25: ail | C25: gel cote | D25: 0.005 | E25: KG | F25: BOUCHÉE PDT ROSTI
A26: gnochi légumes 4 | B26: tomate cerise | C26: pons | D26: 0.025 | E26: KG | F26: MESCLUN
A27: gnochi légumes 5 | B27: roquette | C27: pons | D27: 0.005 | E27: KG | F27: PENNE BASILIC
A28: gnochi légumes 6 | B28: beurre | C28: ouest frais | D28: 0.005 | E28: KG | F28: poele leg
A29: gnochi légumes 7 | B29: Haricot plat(5302) | C29: sirf | D29: 0.03 | E29: KG | F29: legume wok dinde
F30: polenta
A31: grenaille/mâche | F31: tomate provencale
A32: grenaille/mâche 1 | B32: Mâche NETTOYEE | C32: pons | D32: 0.02 | E32: KG | F32: POMME QUARTIER A/PEAU
A33: grenaille/mâche 2 | B33: Pdt grenaille | C33: pons | D33: 0.18 | E33: KG | F33: dipping fries
A34: grenaille/mâche 3 | B34: thym | C34: ouest frais | D34: 0.0005 | E34: KG | F34: LEGUME VIETNAMIEN
A35: grenaille/mâche 4 | B35: curcuma | C35: ouest frais | D35: 0.0005 | E35: KG | F35: flan de légume
A36: grenaille/mâche 5 | B36: romarin | C36: pons | D36: 0.001 | E36: KG | F36: pdt tournées rissolées
A37: grenaille/mâche 6 | B37: persil | C37: sirf | D37: 0.005 | E37: KG | F37: conchiglie aux légumes
A38: grenaille/mâche 7 | B38: Ail | C38: gel cote | D38: 0.005 | E38: KG
A39: grenaille/mâche 8 | B39: Oignon | C39: passion froid | D39: 0.025 | E39: KG
A40: grenaille/mâche 9 | B40: huile tournesol | C40: ouest frais | D40: 0.002 | E40: LITRE
...

Sheet proteine
A1: Proteine | F1: liste
A2: merlu | F2: merlu
A3: merlu 1 | B3: Merlu (3624)(ct3kg) 0.150 10€80 | C3: sirf | D3: 0.15 | E3: KG | F3: merlu OF
A4: merlu 2 | B4: beurre | C4: ouest frais | D4: 0.003 | E4: KG | F4: pavé saumon
F5: Suprême poulet
A6: merlu OF | F6: Filet mignon
A7: merlu OF 1 | B7: Merlu PAVé(9414) 10€40(ct5kg) 0.150 | C7: ouest frais | D7: 0.15 | E7: KG | F7: Roti de dinde
A8: merlu OF 2 | B8: Merlu cœur(4093) 8€32(ct5kg) 0.130 | C8: ouest frais | D8: 0.15 | E8: KG | F8: veau aux olives
A9: merlu OF 3 | B9: beurre | C9: ouest frais | D9: 0.003 | E9: KG | F9: TRANCHE GIGOT
F10: blanquette calamar
A11: Poisson blanc
A12: Poisson blanc 1 | B12: Poisson blanc | C12: mericq | D12: 0.15 | E12: KG | F12: souris d'agneau | I12: pavé saumon)0,150 GR ENVIRON
A13: Poisson blanc 2 | B13: beurre | C13: ouest frais | D13: 0.003 | E13: KG | F13: pavé cabillaud | I13: pavé / dosMerlu 0,150 GR ENVIRON
F14: epaule agneau confit | I14: Filet mignon en frais ou en dur
A15: pavé saumon | F15: Pavé de veau | I15: pavé/dos cabillaud 0,150 GR ENVIRON
A16: pavé saumon 1 | B16: pavé saumon (0818)0,150 5T3KG (17€62) | C16: gel cote | D16: 0.15 | E16: KG | F16: pavé de rumsteak | I16: Saute de veau (ct de 5kg ) (111694)
A17: pavé saumon 2 | B17: huile olive | C17: ouest frais | D17: 0.005 | E17: LITRE | F17: Suprême de pintade | I17: pavé de rumsteak )0,150 GR ENVIRON
A18: pavé saumon 3 | B18: pavé de saumon (9014) ct 3kg | C18: ouest frais | D18: 0.15 | E18: KG | F18: filet st Pierre | I18: escalope dinde 0,150 environ dur ou frais
F19: carbonnade flamande
A20: Suprême poulet | F20: paleron bœuf
A21: Suprême poulet 1 | B21: Suprême poulet (104080)(ct 5kg) (25pc/ct 8€18) | C21: ouest frais | D21: 0.2 | E21: KG | F21: Roti de porc
A22: Suprême poulet 2 | B22: beurre | C22: ouest frais | D22: 0.003 | E22: KG | F22: roti de veau
F23: joue de porc
A24: Filet mignon | F24: dinde wok
A25: Filet mignon 1 | B25: Filet mignon (49690)7€95 | C25: sysco | D25: 0.16 | E25: KG | F25: escalope champi
A26: Filet mignon 2 | B26: beurre | C26: ouest frais | D26: 0.003 | E26: KG | F26: Poisson blanc
F27: filet de julienne
A28: Roti de dinde | F28: PORC VIETNAMIEN
A29: Roti de dinde 1 | B29: Roti de dinde(84042) | C29: ouest frais | D29: 0.17 | E29: KG
A30: Roti de dinde 2 | B30: brunoise(1852) | C30: sirf | D30: 0.01 | E30: KG
A31: Roti de dinde 3 | B31: Pruneau(243907) | C31: ouest frais | D31: 0.02 | E31: KG
A32: Roti de dinde 4 | B32: Ail | C32: gel cote | D32: 0.002 | E32: KG
A33: Roti de dinde 5 | B33: Oignon émincé | C33: passion froid | D33: 0.015 | E33: KG
A34: Roti de dinde 6 | B34: Fond brun | C34: ouest frais | D34: 0.001 | E34: KG
A35: Roti de dinde 7 | B35: Vin blanc | C35: cave coop | D35: 0.008 | E35: LITRE
A38: souris d'agneau
A39: souris d'agneau 1 | B39: souris d'agneau(1566)15€75 | C39: sirf | D39: 0.4 | E39: KG
A40: souris d'agneau 2 | B40: miel | C40: ouest frais | D40: 0.005 | E40: KG
A41: souris d'agneau 3 | B41: ail | C41: gel cote | D41: 0.006 | E41: KG
A42: souris d'agneau 4 | B42: romarin
...

Sheet sauce
A1: sauce | F1: liste
A2: sauce chorizo | F2: sauce chorizo
A3: sauce chorizo 1 | B3: Chorizo | C3: sirf | D3: 0.005 | E3: kg | F3: sauce beurre nantais
A4: sauce chorizo 2 | B4: échalote | C4: passion froid | D4: 0.003 | E4: kg | F4: sauce gorgonzola
A5: sauce chorizo 3 | B5: Tomate confite | C5: ouest frais | D5: 0.005 | E5: kg | F5: sauce citron confit moutarde
A6: sauce chorizo 4 | B6: Crème liquide(44610) | C6: ouest frais | D6: 0.01 | E6: litre | F6: sauce moutarde ancienne
A7: sauce chorizo 5 | B7: Farine | C7: ouest frais | D7: 0.001 | E7: kg | F7: sauce poivron vert
A8: sauce chorizo 6 | F8: CREME AIL
A9: sauce chorizo 7 | F9: SAUCE PINEAU
F10: sauce estragon
F11: sauce maroilles
A12: sauce beurre nantais | F12: en croute
A13: sauce beurre nantais 1 | B13: Jus de citron | C13: ouest frais | D13: 0.001 | E13: litre | F13: sauce foie gras
A14: sauce beurre nantais 2 | B14: Fond de veau/arête poisson délié | C14: ouest frais | D14: 0.002 | E14: kg | F14: SAUCE POIVRE
A15: sauce beurre nantais 3 | B15: Vinaigre blanc | C15: ouest frais | D15: 0.003 | E15: litre | F15: beurre orange
A16: sauce beurre nantais 4 | B16: Moutarde ancienne | C16: ouest frais | D16: 0.001 | E16: kg | F16: gagnaire tomate
A17: sauce beurre nantais 5 | B17: Curcuma | C17: ouest frais | D17: 0.0005 | E17: kg
A18: sauce beurre nantais 6 | B18: Farine | C18: ouest frais | D18: 0.003 | E18: kg
A19: sauce beurre nantais 7 | B19: Beurre | C19: ouest frais | D19: 0.0035 | E19: litre
A20: sauce beurre nantais 8 | B20: Crème | C20: ouest frais | D20: 0.01 | E20: litre
A21: sauce beurre nantais 9 | B21: Moutarde | C21: ouest frais | D21: 0.001 | E21: kg
A23: sauce gorgonzola
A24: sauce gorgonzola 1 | B24: Creme liquide (7419) | C24: ouest frais | D24: 0.005 | E24: LITRE
A25: sauce gorgonzola 2 | B25: Gorgonzola | C25: passion froid | D25: 0.005 | E25: KG
A26: sauce gorgonzola 3 | B26: Beurre(60249) | C26: ouest frais | D26: 0.001 | E26: KG
A27: sauce gorgonzola 4 | B27: Fond de volaille | C27: ouest frais | D27: 0.001 | E27: KG
A28: sauce gorgonzola 5 | B28: Huile tournesol | C28: ouest frais | D28: 0.001 | E28: LITRE
A29: sauce gorgonzola 6 | B29: Ail (5937) | C29: ouest frais | D29: 0.002 | E29: KG
A30: sauce gorgonzola 7 | B30: Vin blanc | C30: cave coop | D30: 0.0025 | E30: LITRE
A31: sauce gorgonzola 8 | B31: Farine | C31: ouest frais | D31: 0.003 | E31: KG
A34: sauce citron confit moutarde
A35: sauce citron confit moutarde 1 | B35: Beurre | C35: ouest frais | D35: 0.002 | E35: KG
A36: sauce citron confit moutarde 2 | B36: Crème liquide(44610) | C36: ouest frais | D36: 0.01 | E36: LITRE
A37: sauce citron confit moutarde 3 | B37: Citron Confit | C37: pons | D37: 0.007 | E37: KG
A38: sauce citron confit moutarde 4 | B38: Fond de veau | C38: ouest frais | D38: 0.001 | E38: KG
A39: sauce citron confit moutarde 5 | B39: Moutarde | C39: ouest frais | D39: 0.002 | E39: KG
A40: sauce citron confit moutarde 6 | B40: Echalote | C40: passion froid | D40: 0.002 | E40: kg
A41: sauce citron confit moutarde 7 | B41: VIN BLANC | C41: cave coop | D41: 0.003 | E41: LITRE
A43: sauce moutarde ancienne
A44: sauce moutarde ancienne 1 | B44: Fond de volaille | C44: ouest frais | D44: 0.001 | E44: KG
...

Sheet dessert
A1: dessert | F1: liste | I1: CHOIX:
A2: AGATHE | F2: tourbillon mangue passion | I2: OUI
A3: AGATHE 1 | B3: AGATHE(77830)1€46 (ct12) | C3: sysco | D3: 1 | E3: piece | F3: Moelleux Choco/cara | I3: NON
A4: AGATHE 2 | B4: coulis fruit rouge | C4: ouest frais | D4: 0.005 | E4: litre | F4: dome mangue passion
A5: AGATHE 3 | B5: coulis fruit jaune | C5: ouest frais | D5: 0.005 | E5: litre | F5: tiramisu
A7: CABOSSE | F7: Yaourt et fruit
A8: CABOSSE 1 | B8: CABOSSE(77779)1€49(ct12) | C8: sysco | D8: 1 | E8: piece
A9: CABOSSE 2 | B9: creme anglaise | C9: passion froid | D9: 0.01 | E9: litre | F9: Chocosphère
F10: AGATHE
F11: CABOSSE
A12: FEUILLANTINE | F12: FEUILLANTINE
A13: FEUILLANTINE 1 | B13: FEUILLANTINE | C13: pain marin | D13: 1 | E13: piece | F13: MOUSSE CHOCO
F14: palet glacé caramel
A15: tourbillon mangue passion | F15: palet sablé caramel
A16: tourbillon mangue passion 1 | B16: tourbillon mang/pass(76654)0€76(ct20) | C16: sysco | D16: 1 | E16: piece | F16: Blanc-manger
A17: tourbillon mangue passion 2 | B17: coulis fruit jaune | C17: ouest frais | D17: 0.01 | E17: litre | F17: le Kube
F18: Pavlinova
A19: Moelleux Choco/cara | F19: lapostruf
A20: Moelleux Choco/cara 1 | B20: Moelleux Choco/cara 180124 | C20: ouest frais | D20: 1 | E20: piece | F20: tourbillon poire cara
A21: Moelleux Choco/cara 2 | B21: creme anglaise | C21: passion froid | D21: 0.01 | E21: litre | F21: St Honoré revisité
F22: tartare mange ananas
A23: dome mangue passion | F23: Matsiro litchi
A24: dome mangue passion 1 | B24: dome mangue passion(78059)1€21)(ct14) | C24: sysco | D24: 1 | E24: piece | F24: Sy'tron
A25: dome mangue passion 2 | B25: coulis fruit jaune | C25: passion froid | D25: 0.01 | E25: litre | F25: tourbillon fruit rouge
F26: ecrin choco-noisette
A27: Chocosphère | F27: nougat glacé
A28: Chocosphère 1 | B28: Chocosphère(76653)1€71 (ct12) | C28: sysco | D28: 1 | E28: piece | F28: CRAQUANTE CARA
A29: Chocosphère 2 | B29: Poudre spéculos 0.010 | C29: sysco | D29: 0.005 | E29: KG | F29: assortiment tarte sirf
A30: Chocosphère 3 | B30: coulis chocolat | C30: sysco | D30: 0.0005 | E30: litre | F30: fraise mascarpone
F31: tartare ananas mangue maison
A32: tiramisu | F32: Profiteroles
A33: tiramisu 1 | B33: tiramisu(76622)1€00(ct5) | C33: sysco | D33: 1 | E33: piece
A34: tiramisu 2 | B34: cacao | C34: ouest frais | D34: 0.005 | E34: KG
A36: MOUSSE CHOCO
A37: MOUSSE CHOCO 1 | B37: Chocolat noir | C37: ouest frais | D37: 0.028 | E37: KG
A38: MOUSSE CHOCO 2 | B38: beurre | C38: passion froid | D38: 0.011 | E38: KG
A39: MOUSSE CHOCO 3 | B39: sucre semoule | C39: ouest frais | D39: 0.007 | E39: KG
A40: MOUSSE CHOCO 4 | B40: blanc œuf | C40: ouest frais | D40: 0.034 | E40: litre
A41: MOUSSE CHOCO 5 | B41: jaune œuf | C41: ouest frais | D41: 0.0085 | E41: litre
A42: MOUSSE CHOCO 6 | B42: sel | C42: ouest frais | E42: KG
...
