Workbook
Name COMBOPRESTA: TAB_LISTEPRESTA[]
Name COMBOSALARIES: TAB_LISTESALARIES[Selectionagents]
Name MODALITES: TAB_MODALITES[Modalités]

Sheet Suivi PDC
G1: FORMATIONS | M1: IMPORT | P1: SUIVI BUDGET
A2: Matr | B2: Salarié | C2: Sv | D2: Dir | E2: Sexe | F2: Niv | G2: Besoin de formation | H2: Prestataire | I2: Modalités | J2: Code formation | K2: Date début | L2: Date fin | M2: Libellé de la formation2 | N2: Conc | O2: Prestataire2 | P2: Coût | Q2: Commentaire
A3: =IF(TAB_PDC[[#This Row],[Salarié]]="","",IFERROR(INDEX('Base salariés'!E:E,MATCH(B3,'Base salariés'!A:A,0)),"???")) -> 7 | B3: LYDIA | C3: =IFERROR(INDEX(TAB_BASESALARIES[Service],MATCH(TAB_PDC[[#This Row],[Matr]],TAB_BASESALARIES[Matr],0)),"") -> Atelier 2 | D3: =IFERROR(INDEX(TAB_BASESALARIES[Dir],MATCH(TAB_PDC[[#This Row],[Matr]],TAB_BASESALARIES[Matr],0)),"") -> Production | E3: =IFERROR(INDEX(TAB_BASESALARIES[Sexe],MATCH(TAB_PDC[[#This Row],[Matr]],TAB_BASESALARIES[Matr],0)),"") -> F | F3: =IFERROR(INDEX(TAB_BASESALARIES[Niv],MATCH(TAB_PDC[[#This Row],[Matr]],TAB_BASESALARIES[Matr],0)),"") -> 5 | G3: Besoin 1 | H3: PRESTA 37 | I3: Présentiel inter | J3: 6 | K3: 44581 | L3: 44581 | M3: =IFERROR(INDEX(TAB_SUIVIREALISE[LIBELLE FORMATION],MATCH(TAB_PDC[[#This Row],[Conc]],TAB_SUIVIREALISE[Concat],0)),"") -> XXX6 | N3: =TAB_PDC[[#This Row],[Code formation]]&" "&TAB_PDC[[#This Row],[Matr]] -> 6 7 | O3: =IFERROR(INDEX(TAB_SUIVIREALISE[PRESTATAIRE],MATCH(TAB_PDC[[#This Row],[Conc]],TAB_SUIVIREALISE[Concat],0)),"") -> PRESTA 37 | P3: 1000
A4: =IF(TAB_PDC[[#This Row],[Salarié]]="","",IFERROR(INDEX('Base salariés'!E:E,MATCH(B4,'Base salariés'!A:A,0)),"???")) -> 16 | B4: JOHANNE | C4: =IFERROR(INDEX(TAB_BASESALARIES[Service],MATCH(TAB_PDC[[#This Row],[Matr]],TAB_BASESALARIES[Matr],0)),"") -> Maintenance bâtiments | D4: =IFERROR(INDEX(TAB_BASESALARIES[Dir],MATCH(TAB_PDC[[#This Row],[Matr]],TAB_BASESALARIES[Matr],0)),"") -> Logistique | E4: =IFERROR(INDEX(TAB_BASESALARIES[Sexe],MATCH(TAB_PDC[[#This Row],[Matr]],TAB_BASESALARIES[Matr],0)),"") -> F | F4: =IFERROR(INDEX(TAB_BASESALARIES[Niv],MATCH(TAB_PDC[[#This Row],[Matr]],TAB_BASESALARIES[Matr],0)),"") -> 4 | G4: Besoin 2 | H4: PRESTA 48 | I4: Distanciel | J4: 37 | K4: 44720 | L4: 44720 | M4: =IFERROR(INDEX(TAB_SUIVIREALISE[LIBELLE FORMATION],MATCH(TAB_PDC[[#This Row],[Conc]],TAB_SUIVIREALISE[Concat],0)),"") -> XXX37 | N4: =TAB_PDC[[#This Row],[Code formation]]&" "&TAB_PDC[[#This Row],[Matr]] -> 37 16 | O4: =IFERROR(INDEX(TAB_SUIVIREALISE[PRESTATAIRE],MATCH(TAB_PDC[[#This Row],[Conc]],TAB_SUIVIREALISE[Concat],0)),"") -> PRESTA 48
A5: =IF(TAB_PDC[[#This Row],[Salarié]]="","",IFERROR(INDEX('Base salariés'!E:E,MATCH(B5,'Base salariés'!A:A,0)),"???")) -> 44 | B5: STEPHANE | C5: =IFERROR(INDEX(TAB_BASESALARIES[Service],MATCH(TAB_PDC[[#This Row],[Matr]],TAB_BASESALARIES[Matr],0)),"") -> Supports | D5: =IFERROR(INDEX(TAB_BASESALARIES[Dir],MATCH(TAB_PDC[[#This Row],[Matr]],TAB_BASESALARIES[Matr],0)),"") -> Marketing | E5: =IFERROR(INDEX(TAB_BASESALARIES[Sexe],MATCH(TAB_PDC[[#This Row],[Matr]],TAB_BASESALARIES[Matr],0)),"") -> H | F5: =IFERROR(INDEX(TAB_BASESALARIES[Niv],MATCH(TAB_PDC[[#This Row],[Matr]],TAB_BASESALARIES[Matr],0)),"") -> 7 | G5: Besoin 3 | H5: PRESTA 19 | I5: Présentiel intra | J5: 103 | K5: 44732 | L5: 44749 | M5: =IFERROR(INDEX(TAB_SUIVIREALISE[LIBELLE FORMATION],MATCH(TAB_PDC[[#This Row],[Conc]],TAB_SUIVIREALISE[Concat],0)),"") -> XXX103 | N5: =TAB_PDC[[#This Row],[Code formation]]&" "&TAB_PDC[[#This Row],[Matr]] -> 103 44 | O5: =IFERROR(INDEX(TAB_SUIVIREALISE[PRESTATAIRE],MATCH(TAB_PDC[[#This Row],[Conc]],TAB_SUIVIREALISE[Concat],0)),"") -> PRESTA 19
A6: =IF(TAB_PDC[[#This Row],[Salarié]]="","",IFERROR(INDEX('Base salariés'!E:E,MATCH(B6,'Base salariés'!A:A,0)),"???")) -> 53 | B6: OLIVIER | C6: =IFERROR(INDEX(TAB_BASESALARIES[Service],MATCH(TAB_PDC[[#This Row],[Matr]],TAB_BASESALARIES[Matr],0)),"") -> Budget | D6: =IFERROR(INDEX(TAB_BASESALARIES[Dir],MATCH(TAB_PDC[[#This Row],[Matr]],TAB_BASESALARIES[Matr],0)),"") -> Finances | E6: =IFERROR(INDEX(TAB_BASESALARIES[Sexe],MATCH(TAB_PDC[[#This Row],[Matr]],TAB_BASESALARIES[Matr],0)),"") -> H | F6: =IFERROR(INDEX(TAB_BASESALARIES[Niv],MATCH(TAB_PDC[[#This Row],[Matr]],TAB_BASESALARIES[Matr],0)),"") -> 6 | G6: Besoin 4 | H6: PRESTA 8 | I6: Distanciel | J6: 22 | K6: 44861 | L6: 44861 | M6: =IFERROR(INDEX(TAB_SUIVIREALISE[LIBELLE FORMATION],MATCH(TAB_PDC[[#This Row],[Conc]],TAB_SUIVIREALISE[Concat],0)),"") -> XXX22 | N6: =TAB_PDC[[#This Row],[Code formation]]&" "&TAB_PDC[[#This Row],[Matr]] -> 22 53 | O6: =IFERROR(INDEX(TAB_SUIVIREALISE[PRESTATAIRE],MATCH(TAB_PDC[[#This Row],[Conc]],TAB_SUIVIREALISE[Concat],0)),"") -> PRESTA 8
A7: =IF(TAB_PDC[[#This Row],[Salarié]]="","",IFERROR(INDEX('Base salariés'!E:E,MATCH(B7,'Base salariés'!A:A,0)),"???")) -> 11 | B7: CAROLE | C7: =IFERROR(INDEX(TAB_BASESALARIES[Service],MATCH(TAB_PDC[[#This Row],[Matr]],TAB_BASESALARIES[Matr],0)),"") -> Publicité | D7: =IFERROR(INDEX(TAB_BASESALARIES[Dir],MATCH(TAB_PDC[[#This Row],[Matr]],TAB_BASESALARIES[Matr],0)),"") -> Marketing | E7: =IFERROR(INDEX(TAB_BASESALARIES[Sexe],MATCH(TAB_PDC[[#This Row],[Matr]],TAB_BASESALARIES[Matr],0)),"") -> F | F7: =IFERROR(INDEX(TAB_BASESALARIES[Niv],MATCH(TAB_PDC[[#This Row],[Matr]],TAB_BASESALARIES[Matr],0)),"") -> 6 | G7: Besoin 5 | H7: PRESTA 22 | I7: Distanciel | J7: 78 | K7: 44812 | L7: 44813 | M7: =IFERROR(INDEX(TAB_SUIVIREALISE[LIBELLE FORMATION],MATCH(TAB_PDC[[#This Row],[Conc]],TAB_SUIVIREALISE[Concat],0)),"") -> XXX78 | N7: =TAB_PDC[[#This Row],[Code formation]]&" "&TAB_PDC[[#This Row],[Matr]] -> 78 11 | O7: =IFERROR(INDEX(TAB_SUIVIREALISE[PRESTATAIRE],MATCH(TAB_PDC[[#This Row],[Conc]],TAB_SUIVIREALISE[Concat],0)),"") -> PRESTA 22
A8: =IF(TAB_PDC[[#This Row],[Salarié]]="","",IFERROR(INDEX('Base salariés'!E:E,MATCH(B8,'Base salariés'!A:A,0)),"???")) -> 2 | B8: LAURENT | C8: =IFERROR(INDEX(TAB_BASESALARIES[Service],MATCH(TAB_PDC[[#This Row],[Matr]],TAB_BASESALARIES[Matr],0)),"") -> Maintenance bâtiments | D8: =IFERROR(INDEX(TAB_BASESALARIES[Dir],MATCH(TAB_PDC[[#This Row],[Matr]],TAB_BASESALARIES[Matr],0)),"") -> Logistique | E8: =IFERROR(INDEX(TAB_BASESALARIES[Sexe],MATCH(TAB_PDC[[#This Row],[Matr]],TAB_BASESALARIES[Matr],0)),"") -> H | F8: =IFERROR(INDEX(TAB_BASESALARIES[Niv],MATCH(TAB_PDC[[#This Row],[Matr]],TAB_BASESALARIES[Matr],0)),"") -> 5 | G8: Besoin 6 | H8: PRESTA 37 | I8: Présentiel inter | J8: 142 | K8: 44742 | L8: 44742 | M8: =IFERROR(INDEX(TAB_SUIVIREALISE[LIBELLE FORMATION],MATCH(TAB_PDC[[#This Row],[Conc]],TAB_SUIVIREALISE[Concat],0)),"") -> XXX142 | N8: =TAB_PDC[[#This Row],[Code formation]]&" "&TAB_PDC[[#This Row],[Matr]] -> 142 2 | O8: =IFERROR(INDEX(TAB_SUIVIREALISE[PRESTATAIRE],MATCH(TAB_PDC[[#This Row],[Conc]],TAB_SUIVIREALISE[Concat],0)),"") -> PRESTA 37
A9: =IF(TAB_PDC[[#This Row],[Salarié]]="","",IFERROR(INDEX('Base salariés'!E:E,MATCH(B9,'Base salariés'!A:A,0)),"???")) -> 81 | B9: DELPHINE | C9: =IFERROR(INDEX(TAB_BASESALARIES[Service],MATCH(TAB_PDC[[#This Row],[Matr]],TAB_BASESALARIES[Matr],0)),"") -> Assistance utilisateurs | D9: =IFERROR(INDEX(TAB_BASESALARIES[Dir],MATCH(TAB_PDC[[#This Row],[Matr]],TAB_BASESALARIES[Matr],0)),"") -> Informatique | E9: =IFERROR(INDEX(TAB_BASESALARIES[Sexe],MATCH(TAB_PDC[[#This Row],[Matr]],TAB_BASESALARIES[Matr],0)),"") -> F | F9: =IFERROR(INDEX(TAB_BASESALARIES[Niv],MATCH(TAB_PDC[[#This Row],[Matr]],TAB_BASESALARIES[Matr],0)),"") -> 3 | G9: Besoin 7 | H9: PRESTA 37 | I9: Présentiel inter | J9: 111 | K9: 44649 | L9: 44649 | M9: =IFERROR(INDEX(TAB_SUIVIREALISE[LIBELLE FORMATION],MATCH(TAB_PDC[[#This Row],[Conc]],TAB_SUIVIREALISE[Concat],0)),"") -> XXX111 | N9: =TAB_PDC[[#This Row],[Code formation]]&" "&TAB_PDC[[#This Row],[Matr]] -> 111 81 | O9: =IFERROR(INDEX(TAB_SUIVIREALISE[PRESTATAIRE],MATCH(TAB_PDC[[#This Row],[Conc]],TAB_SUIVIREALISE[Concat],0)),"") -> PRESTA 37
A10: =IF(TAB_PDC[[#This Row],[Salarié]]="","",IFERROR(INDEX('Base salariés'!E:E,MATCH(B10,'Base salariés'!A:A,0)),"???")) -> 75 | B10: MARIE-HELENE | C10: =IFERROR(INDEX(TAB_BASESALARIES[Service],MATCH(TAB_PDC[[#This Row],[Matr]],TAB_BASESALARIES[Matr],0)),"") -> Parc auto | D10: =IFERROR(INDEX(TAB_BASESALARIES[Dir],MATCH(TAB_PDC[[#This Row],[Matr]],TAB_BASESALARIES[Matr],0)),"") -> Logistique | E10: =IFERROR(INDEX(TAB_BASESALARIES[Sexe],MATCH(TAB_PDC[[#This Row],[Matr]],TAB_BASESALARIES[Matr],0)),"") -> F | F10: =IFERROR(INDEX(TAB_BASESALARIES[Niv],MATCH(TAB_PDC[[#This Row],[Matr]],TAB_BASESALARIES[Matr],0)),"") -> 9 | G10: Besoin 8 | H10: PRESTA 22 | I10: Présentiel inter | J10: 19 | K10: 44683 | L10: 44690 | M10: =IFERROR(INDEX(TAB_SUIVIREALISE[LIBELLE FORMATION],MATCH(TAB_PDC[[#This Row],[Conc]],TAB_SUIVIREALISE[Concat],0)),"") -> XXX19 | N10: =TAB_PDC[[#This Row],[Code formation]]&" "&TAB_PDC[[#This Row],[Matr]] -> 19 75 | O10: =IFERROR(INDEX(TAB_SUIVIREALISE[PRESTATAIRE],MATCH(TAB_PDC[[#This Row],[Conc]],TAB_SUIVIREALISE[Concat],0)),"") -> PRESTA 22
A11: =IF(TAB_PDC[[#This Row],[Salarié]]="","",IFERROR(INDEX('Base salariés'!E:E,MATCH(B11,'Base salariés'!A:A,0)),"???")) -> 29 | B11: SYLVIANE | C11: =IFERROR(INDEX(TAB_BASESALARIES[Service],MATCH(TAB_PDC[[#This Row],[Matr]],TAB_BASESALARIES[Matr],0)),"") -> Atelier 3 | D11: =IFERROR(INDEX(TAB_BASESALARIES[Dir],MATCH(TAB_PDC[[#This Row],[Matr]],TAB_BASESALARIES[Matr],0)),"") -> Production | E11: =IFERROR(INDEX(TAB_BASESALARIES[Sexe],MATCH(TAB_PDC[[#This Row],[Matr]],TAB_BASESALARIES[Matr],0)),"") -> F | F11: =IFERROR(INDEX(TAB_BASESALARIES[Niv],MATCH(TAB_PDC[[#This Row],[Matr]],TAB_BASESALARIES[Matr],0)),"") -> 6 | G11: Besoin 9 | H11: PRESTA 12 | I11: Distanciel | J11: 97 | K11: 44581 | L11: 44581 | M11: =IFERROR(INDEX(TAB_SUIVIREALISE[LIBELLE FORMATION],MATCH(TAB_PDC[[#This Row],[Conc]],TAB_SUIVIREALISE[Concat],0)),"") -> XXX97 | N11: =TAB_PDC[[#This Row],[Code formation]]&" "&TAB_PDC[[#This Row],[Matr]] -> 97 29 | O11: =IFERROR(INDEX(TAB_SUIVIREALISE[PRESTATAIRE],MATCH(TAB_PDC[[#This Row],[Conc]],TAB_SUIVIREALISE[Concat],0)),"") -> PRESTA 12
A12: =IF(TAB_PDC[[#This Row],[Salarié]]="","",IFERROR(INDEX('Base salariés'!E:E,MATCH(B12,'Base salariés'!A:A,0)),"???")) -> 79 | B12: RACHIDA | C12: =IFERROR(INDEX(TAB_BASESALARIES[Service],MATCH(TAB_PDC[[#This Row],[Matr]],TAB_BASESALARIES[Matr],0)),"") -> Atelier 3 | D12: =IFERROR(INDEX(TAB_BASESALARIES[Dir],MATCH(TAB_PDC[[#This Row],[Matr]],TAB_BASESALARIES[Matr],0)),"") -> Production | E12: =IFERROR(INDEX(TAB_BASESALARIES[Sexe],MATCH(TAB_PDC[[#This Row],[Matr]],TAB_BASESALARIES[Matr],0)),"") -> F | F12: =IFERROR(INDEX(TAB_BASESALARIES[Niv],MATCH(TAB_PDC[[#This Row],[Matr]],TAB_BASESALARIES[Matr],0)),"") -> 8 | G12: Besoin 10 | H12: PRESTA 41 | I12: Présentiel intra | J12: 103 | K12: 44874 | L12: 44875 | M12: =IFERROR(INDEX(TAB_SUIVIREALISE[LIBELLE FORMATION],MATCH(TAB_PDC[[#This Row],[Conc]],TAB_SUIVIREALISE[Concat],0)),"") -> XXX135 | N12: =TAB_PDC[[#This Row],[Code formation]]&" "&TAB_PDC[[#This Row],[Matr]] -> 103 79 | O12: =IFERROR(INDEX(TAB_SUIVIREALISE[PRESTATAIRE],MATCH(TAB_PDC[[#This Row],[Conc]],TAB_SUIVIREALISE[Concat],0)),"") -> PRESTA 41
C13: =IFERROR(INDEX(TAB_BASESALARIES[Service],MATCH(TAB_PDC[[#This Row],[Matr]],TAB_BASESALARIES[Matr],0)),"") | D13: =IFERROR(INDEX(TAB_BASESALARIES[Dir],MATCH(TAB_PDC[[#This Row],[Matr]],TAB_BASESALARIES[Matr],0)),"") | E13: =IFERROR(INDEX(TAB_BASESALARIES[Sexe],MATCH(TAB_PDC[[#This Row],[Matr]],TAB_BASESALARIES[Matr],0)),"") | F13: =IFERROR(INDEX(TAB_BASESALARIES[Niv],MATCH(TAB_PDC[[#This Row],[Matr]],TAB_BASESALARIES[Matr],0)),"") | M13: =IFERROR(INDEX(TAB_SUIVIREALISE[LIBELLE FORMATION],MATCH(TAB_PDC[[#This Row],[Conc]],TAB_SUIVIREALISE[Concat],0)),"") | O13: =IFERROR(INDEX(TAB_SUIVIREALISE[PRESTATAIRE],MATCH(TAB_PDC[[#This Row],[Conc]],TAB_SUIVIREALISE[Concat],0)),"")

Sheet Base salariés
A1: Agent | B1: Niv | C1: Dir | D1: Service | E1: Matr | F1: Sexe
A2: CAMILLE | B2: 4 | C2: Finances | D2: Achats | E2: 1 | F2: F
A3: LAURENT | B3: 5 | C3: Logistique | D3: Maintenance bâtiments | E3: 2 | F3: H
A4: VALERIE | B4: 6 | C4: Production | D4: Atelier 2 | E4: 3 | F4: F
A5: AUDE | B5: 11 | C5: Logistique | D5: Parc auto | E5: 4 | F5: F
A6: PATRICIA | B6: 4 | C6: Informatique | D6: Assistance utilisateurs | E6: 5 | F6: F
A7: FABRICE | B7: 8 | C7: Logistique | D7: Maintenance bâtiments | E7: 6 | F7: H
A8: LYDIA | B8: 5 | C8: Production | D8: Atelier 2 | E8: 7 | F8: F
A9: SANDRA | B9: 4 | C9: Finances | D9: Compta | E9: 8 | F9: F
A10: CATHERINE | B10: 4 | C10: Informatique | D10: Réseaux | E10: 9 | F10: F
A11: GERARD | B11: 6 | C11: Logistique | D11: Maintenance bâtiments | E11: 10 | F11: H
A12: CAROLE | B12: 6 | C12: Marketing | D12: Publicité | E12: 11 | F12: F
A13: LUDOVIC | B13: 5 | C13: Informatique | D13: Réseaux | E13: 12 | F13: H
... A88: REGINE | B88: 6 | C88: Finances | D88: Compta | E88: 87 | F88: F

Sheet Export_réalisé
A1: Concat | B1: CODE FORMATION | C1: LIBELLE FORMATION | D1: DATE DEBUT | E1: DATE FIN | F1: PRESTATAIRE | G1: NB h:mm | H1: MATRICULE | I1: NOM SALARIE
A2: =TAB_SUIVIREALISE[[#This Row],[CODE FORMATION]]&" "&TAB_SUIVIREALISE[[#This Row],[MATRICULE]] -> 6 7 | B2: 6 | C2: XXX6 | D2: 44581 | E2: 44581 | F2: PRESTA 37 | G2: 3.5 | H2: 7 | I2: LYDIA
A3: =TAB_SUIVIREALISE[[#This Row],[CODE FORMATION]]&" "&TAB_SUIVIREALISE[[#This Row],[MATRICULE]] -> 19 75 | B3: 19 | C3: XXX19 | D3: 44683 | E3: 44690 | F3: PRESTA 22 | G3: 38.5 | H3: 75 | I3: MARIE-HELENE
A4: =TAB_SUIVIREALISE[[#This Row],[CODE FORMATION]]&" "&TAB_SUIVIREALISE[[#This Row],[MATRICULE]] -> 22 53 | B4: 22 | C4: XXX22 | D4: 44861 | E4: 44861 | F4: PRESTA 8 | G4: 1.5 | H4: 53 | I4: OLIVIER
A5: =TAB_SUIVIREALISE[[#This Row],[CODE FORMATION]]&" "&TAB_SUIVIREALISE[[#This Row],[MATRICULE]] -> 37 16 | B5: 37 | C5: XXX37 | D5: 44720 | E5: 44720 | F5: PRESTA 48 | G5: 1 | H5: 16 | I5: JOHANNE
A6: =TAB_SUIVIREALISE[[#This Row],[CODE FORMATION]]&" "&TAB_SUIVIREALISE[[#This Row],[MATRICULE]] -> 78 11 | B6: 78 | C6: XXX78 | D6: 44812 | E6: 44813 | F6: PRESTA 22 | G6: 14 | H6: 11 | I6: CAROLE
A7: =TAB_SUIVIREALISE[[#This Row],[CODE FORMATION]]&" "&TAB_SUIVIREALISE[[#This Row],[MATRICULE]] -> 97 29 | B7: 97 | C7: XXX97 | D7: 44581 | E7: 44581 | F7: PRESTA 12 | G7: 7 | H7: 29 | I7: SYLVIANE
A8: =TAB_SUIVIREALISE[[#This Row],[CODE FORMATION]]&" "&TAB_SUIVIREALISE[[#This Row],[MATRICULE]] -> 103 44 | B8: 103 | C8: XXX103 | D8: 44732 | E8: 44749 | F8: PRESTA 19 | G8: 15 | H8: 44 | I8: STEPHANE
A9: =TAB_SUIVIREALISE[[#This Row],[CODE FORMATION]]&" "&TAB_SUIVIREALISE[[#This Row],[MATRICULE]] -> 111 81 | B9: 111 | C9: XXX111 | D9: 44649 | E9: 44649 | F9: PRESTA 37 | G9: 7 | H9: 81 | I9: DELPHINE
A10: =TAB_SUIVIREALISE[[#This Row],[CODE FORMATION]]&" "&TAB_SUIVIREALISE[[#This Row],[MATRICULE]] -> 103 79 | B10: 103 | C10: XXX135 | D10: 44874 | E10: 44875 | F10: PRESTA 41 | G10: 14 | H10: 79 | I10: RACHIDA
A11: =TAB_SUIVIREALISE[[#This Row],[CODE FORMATION]]&" "&TAB_SUIVIREALISE[[#This Row],[MATRICULE]] -> 142 2 | B11: 142 | C11: XXX142 | D11: 44742 | E11: 44742 | F11: PRESTA 37 | G11: 1.5 | H11: 2 | I11: LAURENT

Sheet Listes
A1: Modalités | C1: Agents | D1: Pos | E1: Selectionagents | G1: Prestataire
A2: Présentiel intra | C2: AMELIE | D2: =IF(Réf!$A$1="",MAX($D$1:$D1)+1,IF(AND(Réf!$A$1<>"",ISERROR(SEARCH(Réf!$A$1,$C2))=FALSE),MAX($D$1:$D1)+1,"")) -> 1 | E2: =IFERROR(INDEX(C:C,MATCH(ROW(E1),D:D,0)),"") -> AMELIE | G2: PRESTA 1
A3: Présentiel inter | C3: ANAIS | D3: =IF(Réf!$A$1="",MAX($D$2:$D2)+1,IF(AND(Réf!$A$1<>"",ISERROR(SEARCH(Réf!$A$1,$C3))=FALSE),MAX($D$2:$D2)+1,"")) -> 2 | E3: =IFERROR(INDEX(C:C,MATCH(ROW(E2),D:D,0)),"") -> ANAIS | G3: PRESTA 2
A4: Distanciel | C4: ANNE | D4: =IF(Réf!$A$1="",MAX($D$2:$D3)+1,IF(AND(Réf!$A$1<>"",ISERROR(SEARCH(Réf!$A$1,$C4))=FALSE),MAX($D$2:$D3)+1,"")) -> 3 | E4: =IFERROR(INDEX(C:C,MATCH(ROW(E3),D:D,0)),"") -> ANNE | G4: PRESTA 3
C5: ANNE-MARIE | D5: =IF(Réf!$A$1="",MAX($D$2:$D4)+1,IF(AND(Réf!$A$1<>"",ISERROR(SEARCH(Réf!$A$1,$C5))=FALSE),MAX($D$2:$D4)+1,"")) -> 4 | E5: =IFERROR(INDEX(C:C,MATCH(ROW(E4),D:D,0)),"") -> ANNE-MARIE | G5: PRESTA 4
C6: AUDE | D6: =IF(Réf!$A$1="",MAX($D$2:$D5)+1,IF(AND(Réf!$A$1<>"",ISERROR(SEARCH(Réf!$A$1,$C6))=FALSE),MAX($D$2:$D5)+1,"")) -> 5 | E6: =IFERROR(INDEX(C:C,MATCH(ROW(E5),D:D,0)),"") -> AUDE | G6: PRESTA 5
C7: AURELIE | D7: =IF(Réf!$A$1="",MAX($D$2:$D6)+1,IF(AND(Réf!$A$1<>"",ISERROR(SEARCH(Réf!$A$1,$C7))=FALSE),MAX($D$2:$D6)+1,"")) -> 6 | E7: =IFERROR(INDEX(C:C,MATCH(ROW(E6),D:D,0)),"") -> AURELIE | G7: PRESTA 6
C8: AZZEDINE | D8: =IF(Réf!$A$1="",MAX($D$2:$D7)+1,IF(AND(Réf!$A$1<>"",ISERROR(SEARCH(Réf!$A$1,$C8))=FALSE),MAX($D$2:$D7)+1,"")) -> 7 | E8: =IFERROR(INDEX(C:C,MATCH(ROW(E7),D:D,0)),"") -> AZZEDINE | G8: PRESTA 7
C9: BEATRICE | D9: =IF(Réf!$A$1="",MAX($D$2:$D8)+1,IF(AND(Réf!$A$1<>"",ISERROR(SEARCH(Réf!$A$1,$C9))=FALSE),MAX($D$2:$D8)+1,"")) -> 8 | E9: =IFERROR(INDEX(C:C,MATCH(ROW(E8),D:D,0)),"") -> BEATRICE | G9: PRESTA 8
C10: BERANGERE | D10: =IF(Réf!$A$1="",MAX($D$2:$D9)+1,IF(AND(Réf!$A$1<>"",ISERROR(SEARCH(Réf!$A$1,$C10))=FALSE),MAX($D$2:$D9)+1,"")) -> 9 | E10: =IFERROR(INDEX(C:C,MATCH(ROW(E9),D:D,0)),"") -> BERANGERE | G10: PRESTA 9
C11: BERNARD | D11: =IF(Réf!$A$1="",MAX($D$2:$D10)+1,IF(AND(Réf!$A$1<>"",ISERROR(SEARCH(Réf!$A$1,$C11))=FALSE),MAX($D$2:$D10)+1,"")) -> 10 | E11: =IFERROR(INDEX(C:C,MATCH(ROW(E10),D:D,0)),"") -> BERNARD | G11: PRESTA 10
C12: BRICE | D12: =IF(Réf!$A$1="",MAX($D$2:$D11)+1,IF(AND(Réf!$A$1<>"",ISERROR(SEARCH(Réf!$A$1,$C12))=FALSE),MAX($D$2:$D11)+1,"")) -> 11 | E12: =IFERROR(INDEX(C:C,MATCH(ROW(E11),D:D,0)),"") -> BRICE | G12: PRESTA 11
C13: CAMILLE | D13: =IF(Réf!$A$1="",MAX($D$2:$D12)+1,IF(AND(Réf!$A$1<>"",ISERROR(SEARCH(Réf!$A$1,$C13))=FALSE),MAX($D$2:$D12)+1,"")) -> 12 | E13: =IFERROR(INDEX(C:C,MATCH(ROW(E12),D:D,0)),"") -> CAMILLE | G13: PRESTA 12
C14: CAROLE | D14: =IF(Réf!$A$1="",MAX($D$2:$D13)+1,IF(AND(Réf!$A$1<>"",ISERROR(SEARCH(Réf!$A$1,$C14))=FALSE),MAX($D$2:$D13)+1,"")) -> 13 | E14: =IFERROR(INDEX(C:C,MATCH(ROW(E13),D:D,0)),"") -> CAROLE | G14: PRESTA 13
C15: CAROLINE | D15: =IF(Réf!$A$1="",MAX($D$2:$D14)+1,IF(AND(Réf!$A$1<>"",ISERROR(SEARCH(Réf!$A$1,$C15))=FALSE),MAX($D$2:$D14)+1,"")) -> 14 | E15: =IFERROR(INDEX(C:C,MATCH(ROW(E14),D:D,0)),"") -> CAROLINE | G15: PRESTA 14
C16: CATHERINE | D16: =IF(Réf!$A$1="",MAX($D$2:$D15)+1,IF(AND(Réf!$A$1<>"",ISERROR(SEARCH(Réf!$A$1,$C16))=FALSE),MAX($D$2:$D15)+1,"")) -> 15 | E16: =IFERROR(INDEX(C:C,MATCH(ROW(E15),D:D,0)),"") -> CATHERINE | G16: PRESTA 15
... C51: KATIA | D51: =IF(Réf!$A$1="",MAX($D$2:$D50)+1,IF(AND(Réf!$A$1<>"",ISERROR(SEARCH(Réf!$A$1,$C51))=FALSE),MAX($D$2:$D50)+1,"")) -> 50 | E51: =IFERROR(INDEX(C:C,MATCH(ROW(E50),D:D,0)),"") -> KATIA | G51: PRESTA 50
C52: KEVIN | D52: =IF(Réf!$A$1="",MAX($D$2:$D51)+1,IF(AND(Réf!$A$1<>"",ISERROR(SEARCH(Réf!$A$1,$C52))=FALSE),MAX($D$2:$D51)+1,"")) -> 51 | E52: =IFERROR(INDEX(C:C,MATCH(ROW(E51),D:D,0)),"") -> KEVIN
C53: LAURA | D53: =IF(Réf!$A$1="",MAX($D$2:$D52)+1,IF(AND(Réf!$A$1<>"",ISERROR(SEARCH(Réf!$A$1,$C53))=FALSE),MAX($D$2:$D52)+1,"")) -> 52 | E53: =IFERROR(INDEX(C:C,MATCH(ROW(E52),D:D,0)),"") -> LAURA
C54: LAURENCE | D54: =IF(Réf!$A$1="",MAX($D$2:$D53)+1,IF(AND(Réf!$A$1<>"",ISERROR(SEARCH(Réf!$A$1,$C54))=FALSE),MAX($D$2:$D53)+1,"")) -> 53 | E54: =IFERROR(INDEX(C:C,MATCH(ROW(E53),D:D,0)),"") -> LAURENCE
C55: LAURENT | D55: =IF(Réf!$A$1="",MAX($D$2:$D54)+1,IF(AND(Réf!$A$1<>"",ISERROR(SEARCH(Réf!$A$1,$C55))=FALSE),MAX($D$2:$D54)+1,"")) -> 54 | E55: =IFERROR(INDEX(C:C,MATCH(ROW(E54),D:D,0)),"") -> LAURENT
C56: LOUIS | D56: =IF(Réf!$A$1="",MAX($D$2:$D55)+1,IF(AND(Réf!$A$1<>"",ISERROR(SEARCH(Réf!$A$1,$C56))=FALSE),MAX($D$2:$D55)+1,"")) -> 55 | E56: =IFERROR(INDEX(C:C,MATCH(ROW(E55),D:D,0)),"") -> LOUIS
C57: LUCILE | D57: =IF(Réf!$A$1="",MAX($D$2:$D56)+1,IF(AND(Réf!$A$1<>"",ISERROR(SEARCH(Réf!$A$1,$C57))=FALSE),MAX($D$2:$D56)+1,"")) -> 56 | E57: =IFERROR(INDEX(C:C,MATCH(ROW(E56),D:D,0)),"") -> LUCILE
C58: LUDOVIC | D58: =IF(Réf!$A$1="",MAX($D$2:$D57)+1,IF(AND(Réf!$A$1<>"",ISERROR(SEARCH(Réf!$A$1,$C58))=FALSE),MAX($D$2:$D57)+1,"")) -> 57 | E58: =IFERROR(INDEX(C:C,MATCH(ROW(E57),D:D,0)),"") -> LUDOVIC
C59: LYDIA | D59: =IF(Réf!$A$1="",MAX($D$2:$D58)+1,IF(AND(Réf!$A$1<>"",ISERROR(SEARCH(Réf!$A$1,$C59))=FALSE),MAX($D$2:$D58)+1,"")) -> 58 | E59: =IFERROR(INDEX(C:C,MATCH(ROW(E58),D:D,0)),"") -> LYDIA
C60: MAGALI | D60: =IF(Réf!$A$1="",MAX($D$2:$D59)+1,IF(AND(Réf!$A$1<>"",ISERROR(SEARCH(Réf!$A$1,$C60))=FALSE),MAX($D$2:$D59)+1,"")) -> 59 | E60: =IFERROR(INDEX(C:C,MATCH(ROW(E59),D:D,0)),"") -> MAGALI
C61: MAGGY | D61: =IF(Réf!$A$1="",MAX($D$2:$D60)+1,IF(AND(Réf!$A$1<>"",ISERROR(SEARCH(Réf!$A$1,$C61))=FALSE),MAX($D$2:$D60)+1,"")) -> 60 | E61: =IFERROR(INDEX(C:C,MATCH(ROW(E60),D:D,0)),"") -> MAGGY
C62: MARIANNE | D62: =IF(Réf!$A$1="",MAX($D$2:$D61)+1,IF(AND(Réf!$A$1<>"",ISERROR(SEARCH(Réf!$A$1,$C62))=FALSE),MAX($D$2:$D61)+1,"")) -> 61 | E62: =IFERROR(INDEX(C:C,MATCH(ROW(E61),D:D,0)),"") -> MARIANNE
C63: MARIE | D63: =IF(Réf!$A$1="",MAX($D$2:$D62)+1,IF(AND(Réf!$A$1<>"",ISERROR(SEARCH(Réf!$A$1,$C63))=FALSE),MAX($D$2:$D62)+1,"")) -> 62 | E63: =IFERROR(INDEX(C:C,MATCH(ROW(E62),D:D,0)),"") -> MARIE
... C88: VALERIE | D88: =IF(Réf!$A$1="",MAX($D$2:$D87)+1,IF(AND(Réf!$A$1<>"",ISERROR(SEARCH(Réf!$A$1,$C88))=FALSE),MAX($D$2:$D87)+1,"")) -> 87 | E88: =IFERROR(INDEX(C:C,MATCH(ROW(E87),D:D,0)),"") -> VALERIE

Sheet Réf
A1: =IF(INDIRECT("'Suivi PDC'!$A"&CELL("ligne"))="???",INDIRECT("'Suivi PDC'!B"&CELL("ligne")),"")
