Workbook

Sheet Feuil1
A1: No de séquence | B1: ISBN | C1: Langue de publication | D1: Pays de publication | E1: Titre/auteur | F1: Type de document | G1: Editeur | H1: Date | I1: Colonne1 | J1: Code-barres | K1: Sous-localisation | L1: Catégorie documentaire | M1: Etat de disponibilité | N1: Cote | O1: Column1
A2: 207418 | B2: 0-7876-8216-0|0-7876-8217-9|0-7876-8218-7|0-7876-8219-5|0-7876-8220-9 | C2: eng | D2: US | E2: Gale directory of publications and broadcast media : an annual guide to publications and broadcasting stations : including newspapers, magazines, journals, radio stations, television stations and cable systems / Kimberly Hunt-Lowrance, project Ed. | F2: ANNUAIRE | G2: Thomson : Gale, | H2: 2006 | J2: 37504004630099 | K2: DEUX | L2: EY | M2: TR | N2: Update
A3: 208231 | B3: 978-3-87856-145-3 | C3: ger | D3: DE | E3: Zeitschriften : Deutschland, Österreich, Schweiz : deutschprachige und ausgewählte internationale wissenschaftliche Zeitschriften Loseblatt-Werke, Jahrbücher, Periodika auf CD-ROM und Online | F3: ANNUAIRE | G3: Banger Verlag GmbH | H3: 2012 | I3: =IFERROR(VLOOKUP(J3,Feuil2!B$2:J$40,9,FALSE),0) -> 0 | J3: 37504100133246 | K3: DEUX | L3: EY | M3: CG | N3: Année 2013
A4: 209348 | B4: 0-7876-8194-6|0-7876-8195-4 | C4: eng | D4: US | E4: Directories in print : a descriptive guide to print and non-print directories, buyer's guides, rosters and other address lists of all kinds / Kim Hunt-Lowrance, project editor | F4: ANNUAIRE | G4: Thomson Gale, | H4: 2007 | I4: =IFERROR(VLOOKUP(J4,Feuil2!B$2:J$40,9,FALSE),0) -> 0 | J4: 37504004630081 | K4: DEUX | L4: EY | M4: TR | N4: Supplément
A5: 959658 | B5: 978-2-7504-2451-0 | C5: fre | D5: FR | E5: Ces êtres étranges : les sigles. 5 / René Budin | F5: LIVRE | G5: Lacour-Ollé, | H5: 2010 | I5: =IFERROR(VLOOKUP(J5,Feuil2!B$2:J$40,9,FALSE),0) -> 0 | J5: 37504100072311 | K5: DEUX | L5: EY | M5: CG
A6: 240913 | C6: fre | D6: FR | E6: Etudes : revue mensuelle fondée en 1856 / par des Pères de la Compagnie de Jésus : tables générales 1979-1990 (tomes 350 à 373) | F6: LIVRE | G6: Assas, | H6: 1991 | I6: =IFERROR(VLOOKUP(J6,Feuil2!B$2:J$40,9,FALSE),0) -> 0 | J6: 37504000021111 | K6: DEUX | L6: EY | M6: DI | N6: 0 ETU
A7: 83251 | B7: 3-598-10828-1 | C7: fre | D7: DE | E7: Guide de bibliographie générale : méthodologie et pratique / Marcelle Beaudiquez | F7: LIVRE | G7: K. G. Saur, | H7: 1989 | I7: =IFERROR(VLOOKUP(J7,Feuil2!B$2:J$40,9,FALSE),0) -> 0 | J7: 37504002995676 | K7: DEUX | L7: EY | M7: DI | N7: 0.011 BEA
A8: 320643 | B8: 1-884718-13-2|1-873040-30-X | C8: eng | D8: GB US | E8: A new introduction to bibliography / Philip Gaskell | F8: LIVRE | G8: Oak Knoll Pr. St Paul's bibliographies, | H8: 1995 | I8: =IFERROR(VLOOKUP(J8,Feuil2!B$2:J$40,9,FALSE),0) -> 0 | J8: 37504001196318 | K8: DEUX | L8: EY | M8: DI | N8: 0.011 GAS
A9: 174191 | C9: fre | E9: Manuel de bibliographie historique / Charles-Victor Langlois | F9: LIVRE | H9: 1891 | I9: =IFERROR(VLOOKUP(J9,Feuil2!B$2:J$40,9,FALSE),0) -> 0 | J9: 37504002995577 | K9: DEUX | L9: EY | M9: DI | N9: 0.011 LAN
A10: 5922 | C10: fre | D10: FR | E10: Les sources du travail bibliographique / Louise-Noëlle Malclès ; préf. de Julien Cain | F10: LIVRE | G10: Minard ; E. Droz, | H10: 1972 | I10: =IFERROR(VLOOKUP(J10,Feuil2!B$2:J$40,9,FALSE),0) -> 0 | J10: 37504002995528 | K10: DEUX | L10: EY | M10: DI | N10: 0.011 MAL vol.1
A11: 5922 | C11: fre | D11: FR | E11: Les sources du travail bibliographique / Louise-Noëlle Malclès ; préf. de Julien Cain | F11: LIVRE | G11: Minard ; E. Droz, | H11: 1972 | I11: =IFERROR(VLOOKUP(J11,Feuil2!B$2:J$40,9,FALSE),0) -> 0 | J11: 37504002995510 | K11: DEUX | L11: EY | M11: DI | N11: 0.011 MAL vol.2
A12: 5922 | C12: fre | D12: FR | E12: Les sources du travail bibliographique / Louise-Noëlle Malclès ; préf. de Julien Cain | F12: LIVRE | G12: Minard ; E. Droz, | H12: 1972 | I12: =IFERROR(VLOOKUP(J12,Feuil2!B$2:J$40,9,FALSE),0) -> 0 | J12: 37504002995502 | K12: DEUX | L12: EY | M12: DI | N12: 0.011 MAL vol.3
A13: 38643 | C13: fre | D13: FR | E13: Manuel de bibliographie / Louise-Noëlle Malclès, Andrée Lhéritier | F13: LIVRE | G13: P. U. F., | H13: 1985 | I13: =IFERROR(VLOOKUP(J13,Feuil2!B$2:J$40,9,FALSE),0) -> 0 | J13: 37504002995544 | K13: DEUX | L13: EY | M13: DI | N13: 0.011 MAL
A14: 125025 | C14: fre | D14: FR | E14: La bibliographie / Louise-Noëlle Malclès | F14: LIVRE | G14: P.U.F., | H14: 1977 | I14: =IFERROR(VLOOKUP(J14,Feuil2!B$2:J$40,9,FALSE),0) -> 0 | J14: 37504002995551 | K14: DEUX | L14: EY | M14: DI | N14: 0.011 MAL
A15: 637369 | B15: 1-85604-495-5 | C15: eng | D15: GB | E15: The New Walford : guide to reference resources. 1, Science, technology and medicine/ / Ray Lester, editor-in-Chief | F15: LIVRE | G15: Facet publ., | H15: 2005 | I15: =IFERROR(VLOOKUP(J15,Feuil2!B$2:J$40,9,FALSE),0) -> 0 | J15: 37504005774508 | K15: DEUX | L15: EY | M15: DI | N15: 0.011 NEW
A16: 820953 | B16: 978-1-85604-498-1 | C16: eng | D16: GB | E16: The new Walford : guide to reference resources. 2, Social sciences / [editor in chief Ray Lester] | F16: LIVRE | G16: Facet Publishing, | H16: 2008 | I16: =IFERROR(VLOOKUP(J16,Feuil2!B$2:J$40,9,FALSE),0) -> 0 | J16: 37504004182760 | K16: DEUX | L16: EY | M16: DI | N16: 0.011 NEW
A17: 268099 | B17: 2-7654-0591-3 | C17: fre | D17: FR | E17: Ouvrages de référence pour les bibliothèques : répertoire bibliographique / sous la dir. de Marcelle Beaudiquez et Annie Béthery ; avec la collab. de Michel Albaric, Yves Alix, Michel Béthery... [et al.] | F17: LIVRE | G17: Éd. du Cercle de la librairie, | H17: 1995 | I17: =IFERROR(VLOOKUP(J17,Feuil2!B$2:J$40,9,FALSE),0) -> 0 | J17: 37504000540268 | K17: DEUX | L17: EY | M17: DI | N17: 0.011 OUV
A18: 667926 | B18: 2-7654-0912-9 | C18: fre | D18: FR | E18: Manuel de bibliographie générale / Marie-Hélène Prévoteau, Jean-Claude Utard | F18: LIVRE | G18: Electre-Ed. du Cercle de la Librairie, | H18: 2005 | I18: =IFERROR(VLOOKUP(J18,Feuil2!B$2:J$40,9,FALSE),0) -> 0 | J18: 37504005937881 | K18: DEUX | L18: EY | M18: DI | N18: 0.011 PRE
A19: 667926 | B19: 2-7654-0912-9 | C19: fre | D19: FR | E19: Manuel de bibliographie générale / Marie-Hélène Prévoteau, Jean-Claude Utard | F19: LIVRE | G19: Electre-Ed. du Cercle de la Librairie, | H19: 2005 | I19: =IFERROR(VLOOKUP(J19,Feuil2!B$2:J$40,9,FALSE),0) -> 0 | J19: 37504005937907 | K19: DEUX | L19: EY | M19: DI | N19: 0.011 PRE
A20: 100367 | B20: 3-598-10905-9|0-85365-539-1|1-85604-300-2 | C20: eng | D20: GB | E20: Walford's guide to reference material / ed. by A. J. Walford, Alan Day & Joan M. Harvey | F20: LIVRE | G20: Library Association, | H20: 1987 | I20: =IFERROR(VLOOKUP(J20,Feuil2!B$2:J$40,9,FALSE),0) -> 0 | J20: 37504000850352 | K20: DEUX | L20: EY | M20: DI | N20: 0.011 WAL vol. 2
A21: 396450 | B21: 1-85604-300-2 | C21: eng | D21: GB | E21: Walford's guide to reference material : generalia, language and literature, the arts / ed. by Anthony Chalcraft, Ray Prytherch and Stephen Willis. 3 | F21: LIVRE | G21: Library association, | H21: 1998 | I21: =IFERROR(VLOOKUP(J21,Feuil2!B$2:J$40,9,FALSE),0) -> 0 | J21: 37504002961421 | K21: DEUX | L21: EY | M21: DI | N21: 0.011 WAL vol. 3
A22: 396451 | B22: 1-85604-369-X | C22: eng | D22: GB | E22: Walford's guide to reference material / [publ. by the Library association]. Volume 2 Social and historical sciences, philosophy and religion / ed. by Alan Day,... and Michael Walsh,... | F22: LIVRE | G22: Library association publ., | H22: 2000 | I22: =IFERROR(VLOOKUP(J22,Feuil2!B$2:J$40,9,FALSE),0) -> 0 | J22: 37504002961413 | K22: DEUX | L22: EY | M22: DI | N22: 0.011 WAL Vol. 2
A23: 20406 | C23: fre | E23: Manuel du libraire et de l'amateur de livres / Jacques-Charles Brunet | F23: LIVRE | H23: 1966 | I23: =IFERROR(VLOOKUP(J23,Feuil2!B$2:J$40,9,FALSE),0) -> 0 | J23: 37504000850360 | K23: DEUX | L23: EY | M23: DI | N23: 0.02 BRU
A24: 20406 | C24: fre | E24: Manuel du libraire et de l'amateur de livres / Jacques-Charles Brunet | F24: LIVRE | H24: 1966 | I24: =IFERROR(VLOOKUP(J24,Feuil2!B$2:J$40,9,FALSE),0) -> 0 | J24: 37504000850378 | K24: DEUX | L24: EY | M24: DI | N24: 0.02 BRU
A25: 20406 | C25: fre | E25: Manuel du libraire et de l'amateur de livres / Jacques-Charles Brunet | F25: LIVRE | H25: 1966 | I25: =IFERROR(VLOOKUP(J25,Feuil2!B$2:J$40,9,FALSE),0) -> 0 | J25: 37504000850386 | K25: DEUX | L25: EY | M25: DI | N25: 0.02 BRU
A26: 20406 | C26: fre | E26: Manuel du libraire et de l'amateur de livres / Jacques-Charles Brunet | F26: LIVRE | H26: 1966 | I26: =IFERROR(VLOOKUP(J26,Feuil2!B$2:J$40,9,FALSE),0) -> 0 | J26: 37504000850535 | K26: DEUX | L26: EY | M26: DI | N26: 0.02 BRU
A27: 20406 | C27: fre | E27: Manuel du libraire et de l'amateur de livres / Jacques-Charles Brunet | F27: LIVRE | H27: 1966 | I27: =IFERROR(VLOOKUP(J27,Feuil2!B$2:J$40,9,FALSE),0) -> 0 | J27: 37504000850543 | K27: DEUX | L27: EY | M27: DI | N27: 0.02 BRU
A28: 20406 | C28: fre | E28: Manuel du libraire et de l'amateur de livres / Jacques-Charles Brunet | F28: LIVRE | H28: 1966 | I28: =IFERROR(VLOOKUP(J28,Feuil2!B$2:J$40,9,FALSE),0) -> 0 | J28: 37504000850394 | K28: DEUX | L28: EY | M28: DI | N28: 0.02 BRU
A29: 20406 | C29: fre | E29: Manuel du libraire et de l'amateur de livres / Jacques-Charles Brunet | F29: LIVRE | H29: 1966 | I29: =IFERROR(VLOOKUP(J29,Feuil2!B$2:J$40,9,FALSE),0) -> 0 | J29: 37504000851798 | K29: DEUX | L29: EY | M29: DI | N29: 0.02 BRU
A30: 314494 | B30: 2-05-101300-4 | C30: fre | D30: CH | E30: Trésor de livres rares et précieux ou nouveau dictionnaire bibliographique... / par Jean George Théodore Graesse | F30: LIVRE | G30: Slatkine Reprints, | H30: 1859 | I30: =IFERROR(VLOOKUP(J30,Feuil2!B$2:J$40,9,FALSE),0) -> 0 | J30: 37504001095296 | K30: DEUX | L30: EY | M30: DI | N30: 0.02 GRA vol. 1
A31: 314494 | B31: 2-05-101300-4 | C31: fre | D31: CH | E31: Trésor de livres rares et précieux ou nouveau dictionnaire bibliographique... / par Jean George Théodore Graesse | F31: LIVRE | G31: Slatkine Reprints, | H31: 1859 | I31: =IFERROR(VLOOKUP(J31,Feuil2!B$2:J$40,9,FALSE),0) -> 0 | J31: 37504001095288 | K31: DEUX | L31: EY | M31: DI | N31: 0.02 GRA vol. 2
A32: 314494 | B32: 2-05-101300-4 | C32: fre | D32: CH | E32: Trésor de livres rares et précieux ou nouveau dictionnaire bibliographique... / par Jean George Théodore Graesse | F32: LIVRE | G32: Slatkine Reprints, | H32: 1859 | I32: =IFERROR(VLOOKUP(J32,Feuil2!B$2:J$40,9,FALSE),0) -> 0 | J32: 37504001095270 | K32: DEUX | L32: EY | M32: DI | N32: 0.02 GRA vol. 3
A33: 314494 | B33: 2-05-101300-4 | C33: fre | D33: CH | E33: Trésor de livres rares et précieux ou nouveau dictionnaire bibliographique... / par Jean George Théodore Graesse | F33: LIVRE | G33: Slatkine Reprints, | H33: 1859 | I33: =IFERROR(VLOOKUP(J33,Feuil2!B$2:J$40,9,FALSE),0) -> 0 | J33: 37504001095262 | K33: DEUX | L33: EY | M33: DI | N33: 0.02 GRA vol. 4
A34: 314494 | B34: 2-05-101300-4 | C34: fre | D34: CH | E34: Trésor de livres rares et précieux ou nouveau dictionnaire bibliographique... / par Jean George Théodore Graesse | F34: LIVRE | G34: Slatkine Reprints, | H34: 1859 | I34: =IFERROR(VLOOKUP(J34,Feuil2!B$2:J$40,9,FALSE),0) -> 0 | J34: 37504001095254 | K34: DEUX | L34: EY | M34: DI | N34: 0.02 GRA vol. 5
A35: 314494 | B35: 2-05-101300-4 | C35: fre | D35: CH | E35: Trésor de livres rares et précieux ou nouveau dictionnaire bibliographique... / par Jean George Théodore Graesse | F35: LIVRE | G35: Slatkine Reprints, | H35: 1859 | I35: =IFERROR(VLOOKUP(J35,Feuil2!B$2:J$40,9,FALSE),0) -> 0 | J35: 37504001095247 | K35: DEUX | L35: EY | M35: DI | N35: 0.02 GRA vol. 6, Par.
A36: 314494 | B36: 2-05-101300-4 | C36: fre | D36: CH | E36: Trésor de livres rares et précieux ou nouveau dictionnaire bibliographique... / par Jean George Théodore Graesse | F36: LIVRE | G36: Slatkine Reprints, | H36: 1859 | I36: =IFERROR(VLOOKUP(J36,Feuil2!B$2:J$40,9,FALSE),0) -> 0 | J36: 37504001095239 | K36: DEUX | L36: EY | M36: DI | N36: 0.02 GRA vol. 6, Par.
A37: 314494 | B37: 2-05-101300-4 | C37: fre | D37: CH | E37: Trésor de livres rares et précieux ou nouveau dictionnaire bibliographique... / par Jean George Théodore Graesse | F37: LIVRE | G37: Slatkine Reprints, | H37: 1859 | I37: =IFERROR(VLOOKUP(J37,Feuil2!B$2:J$40,9,FALSE),0) -> 0 | J37: 37504001095221 | K37: DEUX | L37: EY | M37: DI | N37: 0.02 GRA vol. 7, supp
A38: 1189297 | B38: 978-2-07-014271-2 | C38: fre | D38: FR | E38: L'or des manuscrits : 100 manuscrits pour l'Histoire / Christel Pigeon, Gérard Lhéritier | F38: LIVRE | G38: Gallimard, : Musée des lettres et manuscrits, | H38: 2013 | I38: =IFERROR(VLOOKUP(J38,Feuil2!B$2:J$40,9,FALSE),0) -> 0 | J38: 37504100684479 | K38: DEUX | L38: EY | M38: DI | N38: 0.02 PIG
A39: 136100 | C39: eng | D39: GB | E39: The English catalogue of books : books issued in the United Kingdom of Great britain and Ireland | F39: LIVRE | G39: Kraus reprint, | H39: 1977 | I39: =IFERROR(VLOOKUP(J39,Feuil2!B$2:J$40,9,FALSE),0) -> 0 | J39: 37504002995932 | K39: DEUX | L39: EY | M39: DI | N39: 0.03(410) 2 vol.1
A40: 136100 | C40: eng | D40: GB | E40: The English catalogue of books : books issued in the United Kingdom of Great britain and Ireland | F40: LIVRE | G40: Kraus reprint, | H40: 1977 | I40: =IFERROR(VLOOKUP(J40,Feuil2!B$2:J$40,9,FALSE),0) -> 0 | J40: 37504001847290 | K40: DEUX | L40: EY | M40: DI | N40: 0.03(410) 2
A41: 136100 | C41: eng | D41: GB | E41: The English catalogue of books : books issued in the United Kingdom of Great britain and Ireland | F41: LIVRE | G41: Kraus reprint, | H41: 1977 | I41: =IFERROR(VLOOKUP(J41,Feuil2!B$2:J$40,9,FALSE),0) -> 0 | J41: 37504002995924 | K41: DEUX | L41: EY | M41: DI | N41: 0.03(410) 2 vol.2
A42: 136100 | C42: eng | D42: GB | E42: The English catalogue of books : books issued in the United Kingdom of Great britain and Ireland | F42: LIVRE | G42: Kraus reprint, | H42: 1977 | I42: =IFERROR(VLOOKUP(J42,Feuil2!B$2:J$40,9,FALSE),0) -> 0 | J42: 37504002995916 | K42: DEUX | L42: EY | M42: DI | N42: 0.03(410) 2 vol.3
A43: 136100 | C43: eng | D43: GB | E43: The English catalogue of books : books issued in the United Kingdom of Great britain and Ireland | F43: LIVRE | G43: Kraus reprint, | H43: 1977 | I43: =IFERROR(VLOOKUP(J43,Feuil2!B$2:J$40,9,FALSE),0) -> 0 | J43: 37504002995908 | K43: DEUX | L43: EY | M43: DI | N43: 0.03(410) 2 vol.4
A44: 136100 | C44: eng | D44: GB | E44: The English catalogue of books : books issued in the United Kingdom of Great britain and Ireland | F44: LIVRE | G44: Kraus reprint, | H44: 1977 | I44: =IFERROR(VLOOKUP(J44,Feuil2!B$2:J$40,9,FALSE),0) -> 0 | J44: 37504002995890 | K44: DEUX | L44: EY | M44: DI | N44: 0.03(410) 2 vol.5
A45: 136100 | C45: eng | D45: GB | E45: The English catalogue of books : books issued in the United Kingdom of Great britain and Ireland | F45: LIVRE | G45: Kraus reprint, | H45: 1977 | I45: =IFERROR(VLOOKUP(J45,Feuil2!B$2:J$40,9,FALSE),0) -> 0 | J45: 37504002995791 | K45: DEUX | L45: EY | M45: DI | N45: 0.03(410) 2 vol.6
A46: 136100 | C46: eng | D46: GB | E46: The English catalogue of books : books issued in the United Kingdom of Great britain and Ireland | F46: LIVRE | G46: Kraus reprint, | H46: 1977 | I46: =IFERROR(VLOOKUP(J46,Feuil2!B$2:J$40,9,FALSE),0) -> 0 | J46: 37504003008842 | K46: DEUX | L46: EY | M46: DI | N46: 0.03(410) 2 vol.7
A47: 136100 | C47: eng | D47: GB | E47: The English catalogue of books : books issued in the United Kingdom of Great britain and Ireland | F47: LIVRE | G47: Kraus reprint, | H47: 1977 | I47: =IFERROR(VLOOKUP(J47,Feuil2!B$2:J$40,9,FALSE),0) -> 0 | J47: 37504002995882 | K47: DEUX | L47: EY | M47: DI | N47: 0.03(410) 2 vol.8
A48: 136100 | C48: eng | D48: GB | E48: The English catalogue of books : books issued in the United Kingdom of Great britain and Ireland | F48: LIVRE | G48: Kraus reprint, | H48: 1977 | I48: =IFERROR(VLOOKUP(J48,Feuil2!B$2:J$40,9,FALSE),0) -> 0 | J48: 37504002995874 | K48: DEUX | L48: EY | M48: DI | N48: 0.03(410) 2 vol.8
A49: 136100 | C49: eng | D49: GB | E49: The English catalogue of books : books issued in the United Kingdom of Great britain and Ireland | F49: LIVRE | G49: Kraus reprint, | H49: 1977 | I49: =IFERROR(VLOOKUP(J49,Feuil2!B$2:J$40,9,FALSE),0) -> 0 | J49: 37504003008859 | K49: DEUX | L49: EY | M49: DI | N49: 0.03(410) 2 vol.9
A50: 136100 | C50: eng | D50: GB | E50: The English catalogue of books : books issued in the United Kingdom of Great britain and Ireland | F50: LIVRE | G50: Kraus reprint, | H50: 1977 | I50: =IFERROR(VLOOKUP(J50,Feuil2!B$2:J$40,9,FALSE),0) -> 0 | J50: 37504003008867 | K50: DEUX | L50: EY | M50: DI | N50: 0.03(410) 2 vol.9
... A97: 12709 | C97: fre | D97: LI | E97: Catalogue général de la librairie française : 1840-1925 / [éd. par] Otto Lorenz, Daniel Jordell, Henri Stein | F97: LIVRE | G97: Kraus-Reprint ; H. Champion, | H97: 1891 | I97: =IFERROR(VLOOKUP(J97,Feuil2!B$2:J$40,9,FALSE),0) -> 0 | J97: 37504000850956 | K97: DEUX | L97: EY | M97: DI | N97: 0.03(44) LOR
A98: 295638 | B98: 2-911671-30-9 | C98: fre | D98: FR | E98: Deux mille titres à thème juif parus en français entre 1989 et 1995 : répertoire de références bibliographiques et biographiques / Mickael Parienté ; avec l'assistance d'Elisabeth Wahl | F98: LIVRE | G98: Stavit, | H98: 1996 | I98: =IFERROR(VLOOKUP(J98,Feuil2!B$2:J$40,9,FALSE),0) -> 0 | J98: 37504000827251 | K98: DEUX | L98: EY | M98: DI | N98: 0.04(1-77) PAR
A99: 317305 | B99: 1-85109-302-8 | C99: eng | D99: GB US | E99: Channel Islands / Vince Gardiner | F99: LIVRE | G99: Clio Press, | H99: 1998 | I99: =IFERROR(VLOOKUP(J99,Feuil2!B$2:J$40,9,FALSE),0) -> 0 | J99: 37504001166899 | K99: DEUX | L99: EY | M99: DI | N99: 0.04(418) GAR
A100: 330385 | B100: 2-906039-38-1 | C100: fre | D100: FR | E100: Ouvrages de référence pour un fonds breton / Catherine Jaïn, Sarah Toulouse, Lydie Varéon ; [publ. par la] Bibliothèque municipale de Rennes | F100: LIVRE | G100: Bibliothèque municipale, | H100: 1999 | I100: =IFERROR(VLOOKUP(J100,Feuil2!B$2:J$40,9,FALSE),0) -> 0 | J100: 37504001297744 | K100: DEUX | L100: EY | M100: DI | N100: 0.04(44) BRE
A101: 127387 | B101: 84-313-0464-2 | C101: spa | D101: ES | E101: Manual bibliográfico de estudios españoles / Fernando González Ollé | F101: LIVRE | G101: Universidad de Navarra, | H101: 1976 | I101: =IFERROR(VLOOKUP(J101,Feuil2!B$2:J$40,9,FALSE),0) -> 0 | J101: 37504003025226 | K101: DEUX | L101: EY | M101: DI | N101: 0.04(46) GON
A102: 239636 | B102: 2-252-02864-5 | C102: fre | D102: FR | E102: Répertoire des thèses françaises relatives au monde ibérique et ibéro-américain : des origines à 1980 / Jean-Michel Guittard / préf. de Bernard Lavallé,... | F102: LIVRE | G102: Maison des pays ibériques Klincksieck, | H102: 1993 | I102: =IFERROR(VLOOKUP(J102,Feuil2!B$2:J$40,9,FALSE),0) -> 0 | J102: 37504000097863 | K102: DEUX | L102: EY | M102: DI | N102: 0.04(46) GUI
A103: 465368 | B103: 1-85109-045-2 | C103: eng | D103: GB US | E103: Gibraltar / Graham J. Shields, Compiler | F103: LIVRE | G103: Clio Press, | H103: 1988 | I103: =IFERROR(VLOOKUP(J103,Feuil2!B$2:J$40,9,FALSE),0) -> 0 | J103: 37504002515938 | K103: DEUX | L103: EY | M103: DI | N103: 0.04(468) GIB
A104: 465370 | B104: 1-85109-331-1 | C104: eng | D104: GB US | E104: Portugal / John F. Laidlar, compiler | F104: LIVRE | G104: Clio Press, | H104: 2000 | I104: =IFERROR(VLOOKUP(J104,Feuil2!B$2:J$40,9,FALSE),0) -> 0 | J104: 37504002515953 | K104: DEUX | L104: EY | M104: DI | N104: 0.04(469) POR
A105: 406822 | B105: 2-902892-06-3 | C105: fre | D105: FR | E105: Ukraine : bibliographie des ouvrages en français, XVIIe-XXe siècles / Jacques Chevtchenko ; [publ. par l'] Université libre ukrainienne, Munich | F105: LIVRE | G105: Publications de l'Est européen, | H105: 2000 | I105: =IFERROR(VLOOKUP(J105,Feuil2!B$2:J$40,9,FALSE),0) -> 0 | J105: 37504004968499 | K105: DEUX | L105: EY | M105: DI | N105: 0.04(47) CHE
A106: 208412 | C106: rus | D106: RU | E106: Ežegodnik knigi SSSR : sistematičeskij bibliografičeskij ukazatel' / Vsesojuznaja knižnaja palata (Moskva) | F106: SERIE | G106: Kniga | H106: 1980 | I106: =IFERROR(VLOOKUP(J106,Feuil2!B$2:J$40,9,FALSE),0) -> 0 | J106: 37504004977870 | K106: DEUX | L106: EY | M106: DI | N106: 0.04(47) EZE 1999, T. 2
A107: 299230 | B107: 1-85109-261-7 | C107: eng | D107: GB | E107: Budapest / Mathias Sarközi | F107: LIVRE | G107: Clio Press, | H107: 1997 | I107: =IFERROR(VLOOKUP(J107,Feuil2!B$2:J$40,9,FALSE),0) -> 0 | J107: 37504000846368 | K107: DEUX | L107: EY | M107: DI | N107: 0.04(492) SAR
A108: 465346 | B108: 1-85109-104-1 | C108: eng | D108: GB US | E108: Bulgaria / Richard J. Crampton, Compiler | F108: LIVRE | G108: Clio Press, | H108: 1989 | I108: =IFERROR(VLOOKUP(J108,Feuil2!B$2:J$40,9,FALSE),0) -> 0 | J108: 37504002517884 | K108: DEUX | L108: EY | M108: DI | N108: 0.04(494) BUL
A109: 244240 | B109: 1-85109-076-2 | C109: eng | D109: US GB | E109: Maldives / C.H.B. Reynolds | F109: LIVRE | G109: Clio press, | H109: 1993 | I109: =IFERROR(VLOOKUP(J109,Feuil2!B$2:J$40,9,FALSE),0) -> 0 | J109: 37504000073310 | K109: DEUX | L109: EY | M109: DI | N109: 0.04(544) MAL
A110: 65112 | C110: eng | D110: US GB | E110: Israel / Esther Snyder Mann | F110: LIVRE | G110: Clio Press, | H110: 1985 | I110: =IFERROR(VLOOKUP(J110,Feuil2!B$2:J$40,9,FALSE),0) -> 0 | J110: 37504000854883 | K110: DEUX | L110: EY | M110: DI | N110: 0.04(573) ISR
A111: 465377 | B111: 1-85109-317-6 | C111: eng | D111: GB US | E111: Syria / Neil Quilliam, Compiler | F111: LIVRE | G111: Clio Press, | H111: 1999 | I111: =IFERROR(VLOOKUP(J111,Feuil2!B$2:J$40,9,FALSE),0) -> 0 | J111: 37504002515771 | K111: DEUX | L111: EY | M111: DI | N111: 0.04(577) SYR
A112: 65086 | B112: 0-903450-73-9 | C112: eng | D112: GB US | E112: Iraq / Abdul Abdulrahman Jabbar | F112: LIVRE | G112: Clio Press, | H112: 1984 | I112: =IFERROR(VLOOKUP(J112,Feuil2!B$2:J$40,9,FALSE),0) -> 0 | J112: 37504000852010 | K112: DEUX | L112: EY | M112: DI | N112: 0.04(579) IRA
A113: 522200 | B113: 0-954102916 | C113: eng | D113: GB | E113: The African studies companion : a guide to information sources / compiled and edited by Hans M. Zell | F113: LIVRE | G113: Hans Zell Publishing, | H113: 2003 | I113: =IFERROR(VLOOKUP(J113,Feuil2!B$2:J$40,9,FALSE),0) -> 0 | J113: 37504005985716 | K113: DEUX | L113: EY | M113: DI | N113: 0.04(6) AFR
A114: 227013 | C114: fre | D114: FR | E114: Des livres pour l'Afrique : un choix de 4800 titres pour toutes les bibliothèques / [coordination par Monique Hugon et Josette Vié] | F114: LIVRE | G114: Clef, | H114: 1992 | I114: =IFERROR(VLOOKUP(J114,Feuil2!B$2:J$40,9,FALSE),0) -> 0 | J114: 37504000198208 | K114: DEUX | L114: EY | M114: DI | N114: 0.04(6) LIV
A115: 823983 | B115: 978-0-9541029-3-7 | C115: eng | D115: GB | E115: Africa : a guide to reference material / John McIlwaine | F115: LIVRE | G115: H. Zell, | H115: 2007 | I115: =IFERROR(VLOOKUP(J115,Feuil2!B$2:J$40,9,FALSE),0) -> 0 | J115: 37504004182950 | K115: DEUX | L115: EY | M115: DI | N115: 0.04(6) MCI
A116: 716161 | B116: 2-902804-13-X | C116: fre | D116: FR | E116: Angola, Guinées, Mozambique, Sahara, Timor, etc. : une bibliographie internationale critique, 1990-2005 / René Pélissier,... | F116: LIVRE | G116: Pélissier, | H116: 2006 | I116: =IFERROR(VLOOKUP(J116,Feuil2!B$2:J$40,9,FALSE),0) -> 0 | J116: 37504004120398 | K116: DEUX | L116: EY | M116: DI | N116: 0.04(6) PEL
A117: 465361 | B117: 1-85109-300-1 | C117: eng | D117: GB US | E117: Bolivia / ed. by Valérie Fifer, Compiler | F117: LIVRE | H117: 2000 | I117: =IFERROR(VLOOKUP(J117,Feuil2!B$2:J$40,9,FALSE),0) -> 0 | J117: 37504002515862 | K117: DEUX | L117: EY | M117: DI | N117: 0.04(845) BOL
A118: 336835 | B118: 0810305410 | C118: eng | D118: US | E118: Pseudonyms and nicknames dictionary : a guide to aliases, appellations, assumed names, code names... / Jennifer Mossman, ed. | F118: LIVRE | G118: Gale Research, | H118: 1987 | I118: =IFERROR(VLOOKUP(J118,Feuil2!B$2:J$40,9,FALSE),0) -> 0 | J118: 37504001348059 | K118: DEUX | L118: EY | M118: DI | N118: 0.051 PSE 01
A119: 336835 | B119: 0810305410 | C119: eng | D119: US | E119: Pseudonyms and nicknames dictionary : a guide to aliases, appellations, assumed names, code names... / Jennifer Mossman, ed. | F119: LIVRE | G119: Gale Research, | H119: 1987 | I119: =IFERROR(VLOOKUP(J119,Feuil2!B$2:J$40,9,FALSE),0) -> 0 | J119: 37504001348042 | K119: DEUX | L119: EY | M119: DI | N119: 0.051 PSE 02
A120: 557666 | B120: 0-78-641-658-0 | C120: eng | D120: US | E120: Dictionary of pseudonyms : 11 000 assumed names and their origins / Adrian Room | F120: LIVRE | G120: McFarland and Company, | H120: 2004 | I120: =IFERROR(VLOOKUP(J120,Feuil2!B$2:J$40,9,FALSE),0) -> 0 | J120: 37504006228371 | K120: DEUX | L120: EY | M120: DI | N120: 0.051 ROO
A121: 189237 | B121: 0-8108-0460-3 | C121: eng | D121: US | E121: Handbook of pseudonymes and personal nicknames / compiled by Harold S. Sharp | F121: LIVRE | G121: Scarecrow Press, | H121: 1953 | I121: =IFERROR(VLOOKUP(J121,Feuil2!B$2:J$40,9,FALSE),0) -> 0 | J121: 37504002999264 | K121: DEUX | L121: EY | M121: DI | N121: 0.051 SHA vol. 1
A122: 189237 | B122: 0-8108-0460-3 | C122: eng | D122: US | E122: Handbook of pseudonymes and personal nicknames / compiled by Harold S. Sharp | F122: LIVRE | G122: Scarecrow Press, | H122: 1953 | I122: =IFERROR(VLOOKUP(J122,Feuil2!B$2:J$40,9,FALSE),0) -> 0 | J122: 37504002999256 | K122: DEUX | L122: EY | M122: DI | N122: 0.051 SHA vol. 2
A123: 189237 | B123: 0-8108-0460-3 | C123: eng | D123: US | E123: Handbook of pseudonymes and personal nicknames / compiled by Harold S. Sharp | F123: LIVRE | G123: Scarecrow Press, | H123: 1953 | I123: =IFERROR(VLOOKUP(J123,Feuil2!B$2:J$40,9,FALSE),0) -> 0 | J123: 37504002999231 | K123: DEUX | L123: EY | M123: DI | N123: 0.051 SHA Supplément,
A124: 189237 | B124: 0-8108-0460-3 | C124: eng | D124: US | E124: Handbook of pseudonymes and personal nicknames / compiled by Harold S. Sharp | F124: LIVRE | G124: Scarecrow Press, | H124: 1953 | I124: =IFERROR(VLOOKUP(J124,Feuil2!B$2:J$40,9,FALSE),0) -> 0 | J124: 37504002999249 | K124: DEUX | L124: EY | M124: DI | N124: 0.051 SHA supplément,
A125: 198854 | C125: ger | D125: DE | E125: Deutsches Anonymen-Lexikon : 1501-1926 / aus den Quellen bearbeitet von Michael Holzmann und Hans Bohatta | F125: LIVRE | G125: G. Olmo, | H125: 1961 | I125: =IFERROR(VLOOKUP(J125,Feuil2!B$2:J$40,9,FALSE),0) -> 0 | J125: 37504003020201 | K125: DEUX | L125: EY | M125: DI | N125: 0.051(43) DEU vol. 1
A126: 198854 | C126: ger | D126: DE | E126: Deutsches Anonymen-Lexikon : 1501-1926 / aus den Quellen bearbeitet von Michael Holzmann und Hans Bohatta | F126: LIVRE | G126: G. Olmo, | H126: 1961 | I126: =IFERROR(VLOOKUP(J126,Feuil2!B$2:J$40,9,FALSE),0) -> 0 | J126: 37504003020219 | K126: DEUX | L126: EY | M126: DI | N126: 0.051(43) DEU vol. 2
A127: 198854 | C127: ger | D127: DE | E127: Deutsches Anonymen-Lexikon : 1501-1926 / aus den Quellen bearbeitet von Michael Holzmann und Hans Bohatta | F127: LIVRE | G127: G. Olmo, | H127: 1961 | I127: =IFERROR(VLOOKUP(J127,Feuil2!B$2:J$40,9,FALSE),0) -> 0 | J127: 37504003020227 | K127: DEUX | L127: EY | M127: DI | N127: 0.051(43) DEU vol. 3
A128: 198854 | C128: ger | D128: DE | E128: Deutsches Anonymen-Lexikon : 1501-1926 / aus den Quellen bearbeitet von Michael Holzmann und Hans Bohatta | F128: LIVRE | G128: G. Olmo, | H128: 1961 | I128: =IFERROR(VLOOKUP(J128,Feuil2!B$2:J$40,9,FALSE),0) -> 0 | J128: 37504003020235 | K128: DEUX | L128: EY | M128: DI | N128: 0.051(43) DEU vol. 4
A129: 198854 | C129: ger | D129: DE | E129: Deutsches Anonymen-Lexikon : 1501-1926 / aus den Quellen bearbeitet von Michael Holzmann und Hans Bohatta | F129: LIVRE | G129: G. Olmo, | H129: 1961 | I129: =IFERROR(VLOOKUP(J129,Feuil2!B$2:J$40,9,FALSE),0) -> 0 | J129: 37504002999223 | K129: DEUX | L129: EY | M129: DI | N129: 0.051(43) DEU vol. 5
A130: 198854 | C130: ger | D130: DE | E130: Deutsches Anonymen-Lexikon : 1501-1926 / aus den Quellen bearbeitet von Michael Holzmann und Hans Bohatta | F130: LIVRE | G130: G. Olmo, | H130: 1961 | I130: =IFERROR(VLOOKUP(J130,Feuil2!B$2:J$40,9,FALSE),0) -> 0 | J130: 37504002999215 | K130: DEUX | L130: EY | M130: DI | N130: 0.051(43) DEU vol. 6
A131: 198854 | C131: ger | D131: DE | E131: Deutsches Anonymen-Lexikon : 1501-1926 / aus den Quellen bearbeitet von Michael Holzmann und Hans Bohatta | F131: LIVRE | G131: G. Olmo, | H131: 1961 | I131: =IFERROR(VLOOKUP(J131,Feuil2!B$2:J$40,9,FALSE),0) -> 0 | J131: 37504002999207 | K131: DEUX | L131: EY | M131: DI | N131: 0.051(43) DEU vol. 7
A132: 686813 | C132: ger | D132: DE | E132: Deutsches Pseudonymen-Lexikon / Aus den Quellen bearbeitet von Dr. Michael Holzmann und Dr. Hanns Bohatta | F132: LIVRE | G132: Georg Olms Verlag, | H132: 1970 | I132: =IFERROR(VLOOKUP(J132,Feuil2!B$2:J$40,9,FALSE),0) -> 0 | J132: 37504001056439 | K132: DEUX | L132: EY | M132: DI | N132: 0.051(43) DEU
A133: 277326 | B133: 2-909769-10-0 | C133: fre | D133: FR | E133: Encyclopédie des pseudonymes. Tome I / Emmanuel Ratier ; préf. d'Henry Coston | F133: LIVRE | G133: Faits et documents, | H133: 1993 | I133: =IFERROR(VLOOKUP(J133,Feuil2!B$2:J$40,9,FALSE),0) -> 0 | J133: 37504000085991 | K133: DEUX | L133: EY | M133: DI | N133: 0.051(44) COS vol. 1
A134: 277326 | B134: 2-909769-10-0 | C134: fre | D134: FR | E134: Encyclopédie des pseudonymes. Tome I / Emmanuel Ratier ; préf. d'Henry Coston | F134: LIVRE | G134: Faits et documents, | H134: 1993 | I134: =IFERROR(VLOOKUP(J134,Feuil2!B$2:J$40,9,FALSE),0) -> 0 | J134: 37504000647337 | K134: DEUX | L134: EY | M134: DI | N134: 0.051(44) COS vol. 2
A135: 47581 | C135: fre | D135: IT | E135: Livres perdus et exemplaires uniques / [reprint de l'édition de Bordeaux 1872 par] Joseph-Marie Quérard [et] Gustave Brunet | F135: LIVRE | G135: Arnaldo Forni, | H135: 1984 | I135: =IFERROR(VLOOKUP(J135,Feuil2!B$2:J$40,9,FALSE),0) -> 0 | J135: 37504000850915 | K135: DEUX | L135: EY | M135: DI | N135: 0.051(44) QUE
A136: 177780 | C136: fre | E136: Les supercheries littéraires devoilées / Joseph-Marie Quérard | F136: LIVRE | H136: 1964 | I136: =IFERROR(VLOOKUP(J136,Feuil2!B$2:J$40,9,FALSE),0) -> 0 | J136: 37504000951887 | K136: DEUX | L136: EY | M136: DI | N136: 0.051(44) QUE
A137: 177780 | C137: fre | E137: Les supercheries littéraires devoilées / Joseph-Marie Quérard | F137: LIVRE | H137: 1964 | I137: =IFERROR(VLOOKUP(J137,Feuil2!B$2:J$40,9,FALSE),0) -> 0 | J137: 37504100728706 | K137: DEUX | L137: EY | M137: DI | N137: 0.051(44) QUE
A138: 177780 | C138: fre | E138: Les supercheries littéraires devoilées / Joseph-Marie Quérard | F138: LIVRE | H138: 1964 | I138: =IFERROR(VLOOKUP(J138,Feuil2!B$2:J$40,9,FALSE),0) -> 0 | J138: 37504003025218 | K138: DEUX | L138: EY | M138: DI | N138: 0.051(44) QUE
A139: 124620 | B139: 0-87917-026-3 | C139: spa | D139: US | E139: Diccionario de anónimos y seudónimos hispanoamericanos / apuntaciones reunidas por José Toribio Medina | F139: LIVRE | G139: Blaine Ethridge-books, | H139: 1973 | I139: =IFERROR(VLOOKUP(J139,Feuil2!B$2:J$40,9,FALSE),0) -> 0 | J139: 37504003025499 | K139: DEUX | L139: EY | M139: DI | N139: 0.051(46) VIC
A140: 382584 | B140: 3-598-11400-1 | C140: ger eng | D140: DE | E140: Personennamen des Mittelaters : PMA : Namensformer für 13 000 Personen gemäß den Regeln für die Alphabebetische Katalogisierung (RAK) / redaktionelle Bearbeitung Claudia Fabian | F140: LIVRE | G140: K.G.Saur, | H140: 2000 | I140: =IFERROR(VLOOKUP(J140,Feuil2!B$2:J$40,9,FALSE),0) -> 0 | J140: 37504002253563 | K140: DEUX | L140: EY | M140: DI | N140: 0.056 PER
A141: 669557 | B141: 2-84246-050-2 | C141: fre | D141: FR | E141: Les 3000 de l'an 2000 : 3000 références sur la France contemporaine / [sous la dir. d'Annie Béthery] | F141: LIVRE | G141: Bibliothèque publique d'information-Centre Georges Pompidou, | H141: 2000 | I141: =IFERROR(VLOOKUP(J141,Feuil2!B$2:J$40,9,FALSE),0) -> 0 | J141: 37504001052461 | K141: DEUX | L141: EY | M141: DI | N141: 0.056 TRO
A142: 1189900 | B142: 978-2-84505-076-1 | C142: fre | D142: FR | E142: L'Enfer de la Bibliothèque nationale : bibliographie méthodique et critique de tous les ouvrages composant cette célèbre collection avec une préface, un index des titres et une table des auteurs / par Guillaume Apollinaire, Fernand Fleuret, Louis Perceau | F142: LIVRE | G142: Ressouvenances, | H142: 2009 | I142: =IFERROR(VLOOKUP(J142,Feuil2!B$2:J$40,9,FALSE),0) -> 0 | J142: 37504100728284 | K142: DEUX | L142: EY | M142: DI | N142: 0.12 APO
A143: 45658 | B143: 2-7177-1741-2 | C143: fre | D143: FR | E143: Inventaire des livres imprimés arabes : 1514-1959 / Bibliothèque nationale, Département des livres imprimés, Département des entrées étrangères ; [réd.] par Josée Balagna | F143: LIVRE | G143: Bibliothèque nationale, | H143: 1986 | I143: =IFERROR(VLOOKUP(J143,Feuil2!B$2:J$40,9,FALSE),0) -> 0 | J143: 37504002986436 | K143: DEUX | L143: EY | M143: DI | N143: 0.121(44) BIB
A144: 896369 | B144: 978-0-916685-75-1 | C144: eng | D144: US | E144: The international directory of little magazines and small presses / Len Fulton, editor | F144: LIVRE | G144: Dustbooks, | H144: 2008 | I144: =IFERROR(VLOOKUP(J144,Feuil2!B$2:J$40,9,FALSE),0) -> 0 | J144: 37504004561922 | K144: DEUX | L144: EY | M144: DI | N144: 0.22 INT
A145: 720859 | B145: 9782874490224 | C145: fre | D145: BE | E145: L'homme qui voulait classer le monde : Paul Otlet et le Mundaneum / Françoise Levie ; postface de Benoît Peeters | F145: LIVRE | G145: les Impressions nouvelles, | H145: 2006 | I145: =IFERROR(VLOOKUP(J145,Feuil2!B$2:J$40,9,FALSE),0) -> 0 | J145: 37504005882210 | K145: DEUX | L145: EY | M145: DI | N145: 0.22 LEV
A146: 16259 | B146: 2-7177-1169-4|2-7177-1170-8|2-7177-1171-6 | C146: fre | D146: FR | E146: Répertoire de la presse et des publications périodiques françaises 1966-1971 / Bibliothèque nationale ; sous la direction de Monique Lambert,... ; [préf. de Jean Prinet] | F146: LIVRE | G146: Éditions de la Documentation française : puis Bibliothèque nationale, | H146: 1973 | I146: =IFERROR(VLOOKUP(J146,Feuil2!B$2:J$40,9,FALSE),0) -> 0 | J146: 37504002986576 | K146: DEUX | L146: EY | M146: DI | N146: 0.23(44) BNA
...

Sheet Feuil2
A1: Numéro de notice | B1: Code barre | C1: Cote | D1: Titre | E1: Editeur | F1: Auteur | G1: Date de publication | H1: Sous localisation | I1: Catégorie documentaire | J1: Nombre de consultations
A2: 277326 | B2: 37504000085991 | C2: 0.051(44) COS | D2: Encyclopédie des pseudonymes. Tome I / Emmanuel Ratier ; préf. d'Henry Coston | E2: Paris : Faits et documents, 1993 | F2: Ratier, Emmanuel 1957-2015 070 | G2: 1993 | H2: DEUX | I2: EY | J2: 4
A3: 971674 | B3: 37504004355770 | C3: 046 GRA | D3: Gran Enciclopedia de España | E3: Zaragoza : Enciclopedia de España, 1990-2006 | G3: 2006 | H3: DEUX | I3: EY | J3: 4
A4: 1180301 | B4: 37504100728409 | C4: 0.6 BRU | D4: Petit Larousse illustré des symboles et des signes / Miranda Bruce-Mitford, Philip Wilkinson | E4: Paris : Larousse, 2013 | F4: Bruce-Mitford, Miranda | G4: 2013 | H4: DEUX | I4: EY | J4: 4
A5: 746023 | B5: 37504003989850 | C5: 042 BRI | D5: The new encyclopaedia Britannica / Encyclopædia Britannica, Inc. ; Jacob E. Safra, Jorge Aguilar-Cauz | E5: Chicago London Paris : Encyclopaedia Britannica, cop. 2005-2007 | G5: 2005 | H5: DEUX | I5: EY | J5: 3
A6: 971674 | B6: 37504004355796 | C6: 046 GRA | D6: Gran Enciclopedia de España | E6: Zaragoza : Enciclopedia de España, 1990-2006 | G6: 2006 | H6: DEUX | I6: EY | J6: 3
A7: 277326 | B7: 37504000647337 | C7: 0.051(44) COS | D7: Encyclopédie des pseudonymes. Tome I / Emmanuel Ratier ; préf. d'Henry Coston | E7: Paris : Faits et documents, 1993 | F7: Ratier, Emmanuel 1957-2015 070 | G7: 1993 | H7: DEUX | I7: EY | J7: 2
A8: 323196 | B8: 37504001240587 | C8: 045 NUO | D8: Nuovissima enciclopedia generale De Agostini | E8: Roma : Istituto geografico De Agostini, 1998 | G8: 1998 | H8: DEUX | I8: EY | J8: 2
A9: 781642 | B9: 37504004039929 | C9: 044 LAR | D9: Le grand Larousse encyclopédique : dictionnaire encyclopédique en 2 volumes | E9: Paris : Larousse, 2007 | G9: 2007 | H9: DEUX | I9: EY | J9: 2
A10: 756172 | B10: 37504004630677 | C10: 043 BRO | D10: Brockhaus enzyklopädie : in 30 bänden | E10: Leipzig Mannheim : F.A. Brockhaus, 2006 | G10: 2006 | H10: DEUX | I10: EY | J10: 2
A11: 756172 | B11: 37504004630925 | C11: 043 BRO | D11: Brockhaus enzyklopädie : in 30 bänden | E11: Leipzig Mannheim : F.A. Brockhaus, 2006 | G11: 2006 | H11: DEUX | I11: EY | J11: 2
A12: 1160241 | B12: 37504100728425 | C12: 044 DID | D12: Encyclopédie / Denis Diderot ; présenté et annoté par Jean-Marc Mandosio | E12: Paris : Eclat, 2013 | F12: Diderot, Denis 1713-1784 | G12: 2013 | H12: DEUX | I12: EY | J12: 2
A13: 47581 | B13: 37504000850915 | C13: 0.051(44) QUE | D13: Livres perdus et exemplaires uniques / [reprint de l'édition de Bordeaux 1872 par] Joseph-Marie Quérard [et] Gustave Bru | E13: Bologne : Arnaldo Forni, 1984 | F13: Quérard, Joseph-Marie 1796-1865 | G13: 1984 | H13: DEUX | I13: EY | J13: 1
A14: 314494 | B14: 37504001095270 | C14: 0.02 GRA | D14: Trésor de livres rares et précieux ou nouveau dictionnaire bibliographique... / par Jean George Théodore Graesse | E14: Genève : Slatkine Reprints, 1993 | F14: Graesse, Johann Georg Theodor 1814-1885 | G14: 1859 | H14: DEUX | I14: EY | J14: 1
A15: 314494 | B15: 37504001095288 | C15: 0.02 GRA | D15: Trésor de livres rares et précieux ou nouveau dictionnaire bibliographique... / par Jean George Théodore Graesse | E15: Genève : Slatkine Reprints, 1993 | F15: Graesse, Johann Georg Theodor 1814-1885 | G15: 1859 | H15: DEUX | I15: EY | J15: 1
A16: 314494 | B16: 37504001095296 | C16: 0.02 GRA | D16: Trésor de livres rares et précieux ou nouveau dictionnaire bibliographique... / par Jean George Théodore Graesse | E16: Genève : Slatkine Reprints, 1993 | F16: Graesse, Johann Georg Theodor 1814-1885 | G16: 1859 | H16: DEUX | I16: EY | J16: 1
A17: 323196 | B17: 37504001240538 | C17: 045 NUO | D17: Nuovissima enciclopedia generale De Agostini | E17: Roma : Istituto geografico De Agostini, 1998 | G17: 1998 | H17: DEUX | I17: EY | J17: 1
A18: 323196 | B18: 37504001240553 | C18: 045 NUO | D18: Nuovissima enciclopedia generale De Agostini | E18: Roma : Istituto geografico De Agostini, 1998 | G18: 1998 | H18: DEUX | I18: EY | J18: 1
A19: 323196 | B19: 37504001240561 | C19: 045 NUO | D19: Nuovissima enciclopedia generale De Agostini | E19: Roma : Istituto geografico De Agostini, 1998 | G19: 1998 | H19: DEUX | I19: EY | J19: 1
A20: 323196 | B20: 37504001240611 | C20: 045 NUO | D20: Nuovissima enciclopedia generale De Agostini | E20: Roma : Istituto geografico De Agostini, 1998 | G20: 1998 | H20: DEUX | I20: EY | J20: 1
A21: 323196 | B21: 37504001240629 | C21: 045 NUO | D21: Nuovissima enciclopedia generale De Agostini | E21: Roma : Istituto geografico De Agostini, 1998 | G21: 1998 | H21: DEUX | I21: EY | J21: 1
A22: 746023 | B22: 37504003989645 | C22: 042 BRI | D22: The new encyclopaedia Britannica / Encyclopædia Britannica, Inc. ; Jacob E. Safra, Jorge Aguilar-Cauz | E22: Chicago London Paris : Encyclopaedia Britannica, cop. 2005-2007 | G22: 2005 | H22: DEUX | I22: EY | J22: 1
A23: 746023 | B23: 37504003989678 | C23: 042 BRI | D23: The new encyclopaedia Britannica / Encyclopædia Britannica, Inc. ; Jacob E. Safra, Jorge Aguilar-Cauz | E23: Chicago London Paris : Encyclopaedia Britannica, cop. 2005-2007 | G23: 2005 | H23: DEUX | I23: EY | J23: 1
A24: 746023 | B24: 37504003989694 | C24: 042 BRI | D24: The new encyclopaedia Britannica / Encyclopædia Britannica, Inc. ; Jacob E. Safra, Jorge Aguilar-Cauz | E24: Chicago London Paris : Encyclopaedia Britannica, cop. 2005-2007 | G24: 2005 | H24: DEUX | I24: EY | J24: 1
A25: 746023 | B25: 37504003989785 | C25: 042 BRI | D25: The new encyclopaedia Britannica / Encyclopædia Britannica, Inc. ; Jacob E. Safra, Jorge Aguilar-Cauz | E25: Chicago London Paris : Encyclopaedia Britannica, cop. 2005-2007 | G25: 2005 | H25: DEUX | I25: EY | J25: 1
A26: 746023 | B26: 37504003989793 | C26: 042 BRI | D26: The new encyclopaedia Britannica / Encyclopædia Britannica, Inc. ; Jacob E. Safra, Jorge Aguilar-Cauz | E26: Chicago London Paris : Encyclopaedia Britannica, cop. 2005-2007 | G26: 2005 | H26: DEUX | I26: EY | J26: 1
A27: 716161 | B27: 37504004120398 | C27: 0.04(6) PEL | D27: Angola, Guinées, Mozambique, Sahara, Timor, etc. : une bibliographie internationale critique, 1990-2005 / René Pélissier | E27: Orgeval : Pélissier, DL 2006 | F27: Pélissier, René 1935-.... | G27: 2006 | H27: DEUX | I27: EY | J27: 1
A28: 903389 | B28: 37504004205058 | C28: 0.6 FAU | D28: Dictionnaire des abréviations courantes de la langue française : du mot à l'abréviation et de l'abréviation au mot / Jea | E28: Paris : la Maison du dictionnaire, 2009 | F28: Faudouas, Jean-Claude 1940-2006 | G28: 2009 | H28: DEUX | I28: EY | J28: 1
A29: 971674 | B29: 37504004355788 | C29: 046 GRA | D29: Gran Enciclopedia de España | E29: Zaragoza : Enciclopedia de España, 1990-2006 | G29: 2006 | H29: DEUX | I29: EY | J29: 1
A30: 756172 | B30: 37504004630669 | C30: 043 BRO | D30: Brockhaus enzyklopädie : in 30 bänden | E30: Leipzig Mannheim : F.A. Brockhaus, 2006 | G30: 2006 | H30: DEUX | I30: EY | J30: 1
A31: 756172 | B31: 37504004630693 | C31: 043 BRO | D31: Brockhaus enzyklopädie : in 30 bänden | E31: Leipzig Mannheim : F.A. Brockhaus, 2006 | G31: 2006 | H31: DEUX | I31: EY | J31: 1
A32: 756172 | B32: 37504004630701 | C32: 043 BRO | D32: Brockhaus enzyklopädie : in 30 bänden | E32: Leipzig Mannheim : F.A. Brockhaus, 2006 | G32: 2006 | H32: DEUX | I32: EY | J32: 1
A33: 756172 | B33: 37504004630800 | C33: 043 BRO | D33: Brockhaus enzyklopädie : in 30 bänden | E33: Leipzig Mannheim : F.A. Brockhaus, 2006 | G33: 2006 | H33: DEUX | I33: EY | J33: 1
A34: 756172 | B34: 37504004630867 | C34: 043 BRO | D34: Brockhaus enzyklopädie : in 30 bänden | E34: Leipzig Mannheim : F.A. Brockhaus, 2006 | G34: 2006 | H34: DEUX | I34: EY | J34: 1
A35: 756172 | B35: 37504004630883 | C35: 043 BRO | D35: Brockhaus enzyklopädie : in 30 bänden | E35: Leipzig Mannheim : F.A. Brockhaus, 2006 | G35: 2006 | H35: DEUX | I35: EY | J35: 1
A36: 720859 | B36: 37504005882210 | C36: 0.22 LEV | D36: L'homme qui voulait classer le monde : Paul Otlet et le Mundaneum / Françoise Levie ; postface de Benoît Peeters | E36: Bruxelles : les Impressions nouvelles, impr. 2006 | F36: Levie, Françoise | G36: 2006 | H36: DEUX | I36: EY | J36: 1
A37: 667926 | B37: 37504005937881 | C37: 0.011 PRE | D37: Manuel de bibliographie générale / Marie-Hélène Prévoteau, Jean-Claude Utard | E37: Paris : Electre-Ed. du Cercle de la Librairie, 2005 | F37: Prévoteau, Marie-Hélène | G37: 2005 | H37: DEUX | I37: EY | J37: 1
A38: 1160242 | B38: 37504100728417 | C38: 044 DID | D38: L'Encyclopédie : cinquante articles fondamentaux / par M. Denis Diderot ; édition établie, annotée et postfacée par Jérô | E38: Paris : Mille et une nuits, 2013 | F38: Diderot, Denis 1713-1784 | G38: 2013 | H38: DEUX | I38: EY | J38: 1
A39: 1161837 | B39: 37504100808557 | C39: 044 BRE | D39: Les p'tits bateaux : les plus grands spécialistes répondent aux questions étonnantes de vos enfants / Noëlle Bréham, Mar | E39: Paris : First Editions : France-Inter, 2013 | F39: Bréham, Noëlle 070 | G39: 2013 | H39: DEUX | I39: EY | J39: 1
