Workbook

Sheet Feuil1
A1: No de séquence | B1: ISBN | C1: Langue de publication | D1: Pays de publication | E1: Titre/auteur | F1: Type de document | G1: Editeur | H1: Date | I1: Colonne1 | J1: Code-barres | K1: Sous-localisation | L1: Catégorie documentaire | M1: Etat de disponibilité | N1: Cote | O1: Column1
A2: 207418 | B2: 0-7876-8216-0|0-7876-8217-9|0-7876-8218-7|0-7876-8219-5|0-7876-8220-9 | C2: eng | D2: US | E2: Gale directory of publications and broadcast media : an annual guide to publications and broadcasting stations : including newspapers, magazines, journals, radio stations, television stations and cable systems / Kimberly Hunt-Lowrance, project Ed. | F2: ANNUAIRE | G2: Thomson : Gale, | H2: 2006 | J2: 37504004630099 | K2: DEUX | L2: EY | M2: TR | N2: Update
A3: 208231 | B3: 978-3-87856-145-3 | C3: ger | D3: DE | E3: Zeitschriften : Deutschland, Österreich, Schweiz : deutschprachige und ausgewählte internationale wissenschaftliche Zeitschriften Loseblatt-Werke, Jahrbücher, Periodika auf CD-ROM und Online | F3: ANNUAIRE | G3: Banger Verlag GmbH | H3: 2012 | I3: =IFERROR(VLOOKUP(J3,Feuil2!B$2:J$40,9,FALSE),0) -> 0 | J3: 37504100133246 | K3: DEUX | L3: EY | M3: CG | N3: Année 2013
A4: 209348 | B4: 0-7876-8194-6|0-7876-8195-4 | C4: eng | D4: US | E4: Directories in print : a descriptive guide to print and non-print directories, buyer's guides, rosters and other address lists of all kinds / Kim Hunt-Lowrance, project editor | F4: ANNUAIRE | G4: Thomson Gale, | H4: 2007 | I4: =IFERROR(VLOOKUP(J4,Feuil2!B$2:J$40,9,FALSE),0) -> 0 | J4: 37504004630081 | K4: DEUX | L4: EY | M4: TR | N4: Supplément
A5: 959658 | B5: 978-2-7504-2451-0 | C5: fre | D5: FR | E5: Ces êtres étranges : les sigles. 5 / René Budin | F5: LIVRE | G5: Lacour-Ollé, | H5: 2010 | I5: =IFERROR(VLOOKUP(J5,Feuil2!B$2:J$40,9,FALSE),0) -> 0 | J5: 37504100072311 | K5: DEUX | L5: EY | M5: CG
A6: 240913 | C6: fre | D6: FR | E6: Etudes : revue mensuelle fondée en 1856 / par des Pères de la Compagnie de Jésus : tables générales 1979-1990 (tomes 350 à 373) | F6: LIVRE | G6: Assas, | H6: 1991 | I6: =IFERROR(VLOOKUP(J6,Feuil2!B$2:J$40,9,FALSE),0) -> 0 | J6: 37504000021111 | K6: DEUX | L6: EY | M6: DI | N6: 0 ETU
A7: 83251 | B7: 3-598-10828-1 | C7: fre | D7: DE | E7: Guide de bibliographie générale : méthodologie et pratique / Marcelle Beaudiquez | F7: LIVRE | G7: K. G. Saur, | H7: 1989 | I7: =IFERROR(VLOOKUP(J7,Feuil2!B$2:J$40,9,FALSE),0) -> 0 | J7: 37504002995676 | K7: DEUX | L7: EY | M7: DI | N7: 0.011 BEA
A8: 320643 | B8: 1-884718-13-2|1-873040-30-X | C8: eng | D8: GB US | E8: A new introduction to bibliography / Philip Gaskell | F8: LIVRE | G8: Oak Knoll Pr. St Paul's bibliographies, | H8: 1995 | I8: =IFERROR(VLOOKUP(J8,Feuil2!B$2:J$40,9,FALSE),0) -> 0 | J8: 37504001196318 | K8: DEUX | L8: EY | M8: DI | N8: 0.011 GAS
A9: 174191 | C9: fre | E9: Manuel de bibliographie historique / Charles-Victor Langlois | F9: LIVRE | H9: 1891 | I9: =IFERROR(VLOOKUP(J9,Feuil2!B$2:J$40,9,FALSE),0) -> 0 | J9: 37504002995577 | K9: DEUX | L9: EY | M9: DI | N9: 0.011 LAN
A10: 5922 | C10: fre | D10: FR | E10: Les sources du travail bibliographique / Louise-Noëlle Malclès ; préf. de Julien Cain | F10: LIVRE | G10: Minard ; E. Droz, | H10: 1972 | I10: =IFERROR(VLOOKUP(J10,Feuil2!B$2:J$40,9,FALSE),0) -> 0 | J10: 37504002995528 | K10: DEUX | L10: EY | M10: DI | N10: 0.011 MAL vol.1
A11: 5922 | C11: fre | D11: FR | E11: Les sources du travail bibliographique / Louise-Noëlle Malclès ; préf. de Julien Cain | F11: LIVRE | G11: Minard ; E. Droz, | H11: 1972 | I11: =IFERROR(VLOOKUP(J11,Feuil2!B$2:J$40,9,FALSE),0) -> 0 | J11: 37504002995510 | K11: DEUX | L11: EY | M11: DI | N11: 0.011 MAL vol.2
A12: 5922 | C12: fre | D12: FR | E12: Les sources du travail bibliographique / Louise-Noëlle Malclès ; préf. de Julien Cain | F12: LIVRE | G12: Minard ; E. Droz, | H12: 1972 | I12: =IFERROR(VLOOKUP(J12,Feuil2!B$2:J$40,9,FALSE),0) -> 0 | J12: 37504002995502 | K12: DEUX | L12: EY | M12: DI | N12: 0.011 MAL vol.3
A13: 38643 | C13: fre | D13: FR | E13: Manuel de bibliographie / Louise-Noëlle Malclès, Andrée Lhéritier | F13: LIVRE | G13: P. U. F., | H13: 1985 | I13: =IFERROR(VLOOKUP(J13,Feuil2!B$2:J$40,9,FALSE),0) -> 0 | J13: 37504002995544 | K13: DEUX | L13: EY | M13: DI | N13: 0.011 MAL
A14: 125025 | C14: fre | D14: FR | E14: La bibliographie / Louise-Noëlle Malclès | F14: LIVRE | G14: P.U.F., | H14: 1977 | I14: =IFERROR(VLOOKUP(J14,Feuil2!B$2:J$40,9,FALSE),0) -> 0 | J14: 37504002995551 | K14: DEUX | L14: EY | M14: DI | N14: 0.011 MAL
A15: 637369 | B15: 1-85604-495-5 | C15: eng | D15: GB | E15: The New Walford : guide to reference resources. 1, Science, technology and medicine/ / Ray Lester, editor-in-Chief | F15: LIVRE | G15: Facet publ., | H15: 2005 | I15: =IFERROR(VLOOKUP(J15,Feuil2!B$2:J$40,9,FALSE),0) -> 0 | J15: 37504005774508 | K15: DEUX | L15: EY | M15: DI | N15: 0.011 NEW
A16: 820953 | B16: 978-1-85604-498-1 | C16: eng | D16: GB | E16: The new Walford : guide to reference resources. 2, Social sciences / [editor in chief Ray Lester] | F16: LIVRE | G16: Facet Publishing, | H16: 2008 | I16: =IFERROR(VLOOKUP(J16,Feuil2!B$2:J$40,9,FALSE),0) -> 0 | J16: 37504004182760 | K16: DEUX | L16: EY | M16: DI | N16: 0.011 NEW
A17: 268099 | B17: 2-7654-0591-3 | C17: fre | D17: FR | E17: Ouvrages de référence pour les bibliothèques : répertoire bibliographique / sous la dir. de Marcelle Beaudiquez et Annie Béthery ; avec la collab. de Michel Albaric, Yves Alix, Michel Béthery... [et al.] | F17: LIVRE | G17: Éd. du Cercle de la librairie, | H17: 1995 | I17: =IFERROR(VLOOKUP(J17,Feuil2!B$2:J$40,9,FALSE),0) -> 0 | J17: 37504000540268 | K17: DEUX | L17: EY | M17: DI | N17: 0.011 OUV
A18: 667926 | B18: 2-7654-0912-9 | C18: fre | D18: FR | E18: Manuel de bibliographie générale / Marie-Hélène Prévoteau, Jean-Claude Utard | F18: LIVRE | G18: Electre-Ed. du Cercle de la Librairie, | H18: 2005 | I18: =IFERROR(VLOOKUP(J18,Feuil2!B$2:J$40,9,FALSE),0) -> 0 | J18: 37504005937881 | K18: DEUX | L18: EY | M18: DI | N18: 0.011 PRE
A19: 667926 | B19: 2-7654-0912-9 | C19: fre | D19: FR | E19: Manuel de bibliographie générale / Marie-Hélène Prévoteau, Jean-Claude Utard | F19: LIVRE | G19: Electre-Ed. du Cercle de la Librairie, | H19: 2005 | I19: =IFERROR(VLOOKUP(J19,Feuil2!B$2:J$40,9,FALSE),0) -> 0 | J19: 37504005937907 | K19: DEUX | L19: EY | M19: DI | N19: 0.011 PRE
A20: 100367 | B20: 3-598-10905-9|0-85365-539-1|1-85604-300-2 | C20: eng | D20: GB | E20: Walford's guide to reference material / ed. by A. J. Walford, Alan Day & Joan M. Harvey | F20: LIVRE | G20: Library Association, | H20: 1987 | I20: =IFERROR(VLOOKUP(J20,Feuil2!B$2:J$40,9,FALSE),0) -> 0 | J20: 37504000850352 | K20: DEUX | L20: EY | M20: DI | N20: 0.011 WAL vol. 2
A21: 396450 | B21: 1-85604-300-2 | C21: eng | D21: GB | E21: Walford's guide to reference material : generalia, language and literature, the arts / ed. by Anthony Chalcraft, Ray Prytherch and Stephen Willis. 3 | F21: LIVRE | G21: Library association, | H21: 1998 | I21: =IFERROR(VLOOKUP(J21,Feuil2!B$2:J$40,9,FALSE),0) -> 0 | J21: 37504002961421 | K21: DEUX | L21: EY | M21: DI | N21: 0.011 WAL vol. 3
A22: 396451 | B22: 1-85604-369-X | C22: eng | D22: GB | E22: Walford's guide to reference material / [publ. by the Library association]. Volume 2 Social and historical sciences, philosophy and religion / ed. by Alan Day,... and Michael Walsh,... | F22: LIVRE | G22: Library association publ., | H22: 2000 | I22: =IFERROR(VLOOKUP(J22,Feuil2!B$2:J$40,9,FALSE),0) -> 0 | J22: 37504002961413 | K22: DEUX | L22: EY | M22: DI | N22: 0.011 WAL Vol. 2
A23: 20406 | C23: fre | E23: Manuel du libraire et de l'amateur de livres / Jacques-Charles Brunet | F23: LIVRE | H23: 1966 | I23: =IFERROR(VLOOKUP(J23,Feuil2!B$2:J$40,9,FALSE),0) -> 0 | J23: 37504000850360 | K23: DEUX | L23: EY | M23: DI | N23: 0.02 BRU
A24: 20406 | C24: fre | E24: Manuel du libraire et de l'amateur de livres / Jacques-Charles Brunet | F24: LIVRE | H24: 1966 | I24: =IFERROR(VLOOKUP(J24,Feuil2!B$2:J$40,9,FALSE),0) -> 0 | J24: 37504000850378 | K24: DEUX | L24: EY | M24: DI | N24: 0.02 BRU
A25: 20406 | C25: fre | E25: Manuel du libraire et de l'amateur de livres / Jacques-Charles Brunet | F25: LIVRE | H25: 1966 | I25: =IFERROR(VLOOKUP(J25,Feuil2!B$2:J$40,9,FALSE),0) -> 0 | J25: 37504000850386 | K25: DEUX | L25: EY | M25: DI | N25: 0.02 BRU
A26: 20406 | C26: fre | E26: Manuel du libraire et de l'amateur de livres / Jacques-Charles Brunet | F26: LIVRE | H26: 1966 | I26: =IFERROR(VLOOKUP(J26,Feuil2!B$2:J$40,9,FALSE),0) -> 0 | J26: 37504000850535 | K26: DEUX | L26: EY | M26: DI | N26: 0.02 BRU
A27: 20406 | C27: fre | E27: Manuel du libraire et de l'amateur de livres / Jacques-Charles Brunet | F27: LIVRE | H27: 1966 | I27: =IFERROR(VLOOKUP(J27,Feuil2!B$2:J$40,9,FALSE),0) -> 0 | J27: 37504000850543 | K27: DEUX | L27: EY | M27: DI | N27: 0.02 BRU
A28: 20406 | C28: fre | E28: Manuel du libraire et de l'amateur de livres / Jacques-Charles Brunet | F28: LIVRE | H28: 1966 | I28: =IFERROR(VLOOKUP(J28,Feuil2!B$2:J$40,9,FALSE),0) -> 0 | J28: 37504000850394 | K28: DEUX | L28: EY | M28: DI | N28: 0.02 BRU
A29: 20406 | C29: fre | E29: Manuel du libraire et de l'amateur de livres / Jacques-Charles Brunet | F29: LIVRE | H29: 1966 | I29: =IFERROR(VLOOKUP(J29,Feuil2!B$2:J$40,9,FALSE),0) -> 0 | J29: 37504000851798 | K29: DEUX | L29: EY | M29: DI | N29: 0.02 BRU
A30: 314494 | B30: 2-05-101300-4 | C30: fre | D30: CH | E30: Trésor de livres rares et précieux ou nouveau dictionnaire bibliographique... / par Jean George Théodore Graesse | F30: LIVRE | G30: Slatkine Reprints, | H30: 1859 | I30: =IFERROR(VLOOKUP(J30,Feuil2!B$2:J$40,9,FALSE),0) -> 0 | J30: 37504001095296 | K30: DEUX | L30: EY | M30: DI | N30: 0.02 GRA vol. 1
A31: 314494 | B31: 2-05-101300-4 | C31: fre | D31: CH | E31: Trésor de livres rares et précieux ou nouveau dictionnaire bibliographique... / par Jean George Théodore Graesse | F31: LIVRE | G31: Slatkine Reprints, | H31: 1859 | I31: =IFERROR(VLOOKUP(J31,Feuil2!B$2:J$40,9,FALSE),0) -> 0 | J31: 37504001095288 | K31: DEUX | L31: EY | M31: DI | N31: 0.02 GRA vol. 2
A32: 314494 | B32: 2-05-101300-4 | C32: fre | D32: CH | E32: Trésor de livres rares et précieux ou nouveau dictionnaire bibliographique... / par Jean George Théodore Graesse | F32: LIVRE | G32: Slatkine Reprints, | H32: 1859 | I32: =IFERROR(VLOOKUP(J32,Feuil2!B$2:J$40,9,FALSE),0) -> 0 | J32: 37504001095270 | K32: DEUX | L32: EY | M32: DI | N32: 0.02 GRA vol. 3
A33: 314494 | B33: 2-05-101300-4 | C33: fre | D33: CH | E33: Trésor de livres rares et précieux ou nouveau dictionnaire bibliographique... / par Jean George Théodore Graesse | F33: LIVRE | G33: Slatkine Reprints, | H33: 1859 | I33: =IFERROR(VLOOKUP(J33,Feuil2!B$2:J$40,9,FALSE),0) -> 0 | J33: 37504001095262 | K33: DEUX | L33: EY | M33: DI | N33: 0.02 GRA vol. 4
A34: 314494 | B34: 2-05-101300-4 | C34: fre | D34: CH | E34: Trésor de livres rares et précieux ou nouveau dictionnaire bibliographique... / par Jean George Théodore Graesse | F34: LIVRE | G34: Slatkine Reprints, | H34: 1859 | I34: =IFERROR(VLOOKUP(J34,Feuil2!B$2:J$40,9,FALSE),0) -> 0 | J34: 37504001095254 | K34: DEUX | L34: EY | M34: DI | N34: 0.02 GRA vol. 5
A35: 314494 | B35: 2-05-101300-4 | C35: fre | D35: CH | E35: Trésor de livres rares et précieux ou nouveau dictionnaire bibliographique... / par Jean George Théodore Graesse | F35: LIVRE | G35: Slatkine Reprints, | H35: 1859 | I35: =IFERROR(VLOOKUP(J35,Feuil2!B$2:J$40,9,FALSE),0) -> 0 | J35: 37504001095247 | K35: DEUX | L35: EY | M35: DI | N35: 0.02 GRA vol. 6, Par.
A36: 314494 | B36: 2-05-101300-4 | C36: fre | D36: CH | E36: Trésor de livres rares et précieux ou nouveau dictionnaire bibliographique... / par Jean George Théodore Graesse | F36: LIVRE | G36: Slatkine Reprints, | H36: 1859 | I36: =IFERROR(VLOOKUP(J36,Feuil2!B$2:J$40,9,FALSE),0) -> 0 | J36: 37504001095239 | K36: DEUX | L36: EY | M36: DI | N36: 0.02 GRA vol. 6, Par.
A37: 314494 | B37: 2-05-101300-4 | C37: fre | D37: CH | E37: Trésor de livres rares et précieux ou nouveau dictionnaire bibliographique... / par Jean George Théodore Graesse | F37: LIVRE | G37: Slatkine Reprints, | H37: 1859 | I37: =IFERROR(VLOOKUP(J37,Feuil2!B$2:J$40,9,FALSE),0) -> 0 | J37: 37504001095221 | K37: DEUX | L37: EY | M37: DI | N37: 0.02 GRA vol. 7, supp
A38: 1189297 | B38: 978-2-07-014271-2 | C38: fre | D38: FR | E38: L'or des manuscrits : 100 manuscrits pour l'Histoire / Christel Pigeon, Gérard Lhéritier | F38: LIVRE | G38: Gallimard, : Musée des lettres et manuscrits, | H38: 2013 | I38: =IFERROR(VLOOKUP(J38,Feuil2!B$2:J$40,9,FALSE),0) -> 0 | J38: 37504100684479 | K38: DEUX | L38: EY | M38: DI | N38: 0.02 PIG
A39: 136100 | C39: eng | D39: GB | E39: The English catalogue of books : books issued in the United Kingdom of Great britain and Ireland | F39: LIVRE | G39: Kraus reprint, | H39: 1977 | I39: =IFERROR(VLOOKUP(J39,Feuil2!B$2:J$40,9,FALSE),0) -> 0 | J39: 37504002995932 | K39: DEUX | L39: EY | M39: DI | N39: 0.03(410) 2 vol.1
A40: 136100 | C40: eng | D40: GB | E40: The English catalogue of books : books issued in the United Kingdom of Great britain and Ireland | F40: LIVRE | G40: Kraus reprint, | H40: 1977 | I40: =IFERROR(VLOOKUP(J40,Feuil2!B$2:J$40,9,FALSE),0) -> 0 | J40: 37504001847290 | K40: DEUX | L40: EY | M40: DI | N40: 0.03(410) 2
...

Sheet Feuil2
A1: Numéro de notice | B1: Code barre | C1: Cote | D1: Titre | E1: Editeur | F1: Auteur | G1: Date de publication | H1: Sous localisation | I1: Catégorie documentaire | J1: Nombre de consultations
A2: 277326 | B2: 37504000085991 | C2: 0.051(44) COS | D2: Encyclopédie des pseudonymes. Tome I / Emmanuel Ratier ; préf. d'Henry Coston | E2: Paris : Faits et documents, 1993 | F2: Ratier, Emmanuel 1957-2015 070 | G2: 1993 | H2: DEUX | I2: EY | J2: 4
A3: 971674 | B3: 37504004355770 | C3: 046 GRA | D3: Gran Enciclopedia de España | E3: Zaragoza : Enciclopedia de España, 1990-2006 | G3: 2006 | H3: DEUX | I3: EY | J3: 4
A4: 1180301 | B4: 37504100728409 | C4: 0.6 BRU | D4: Petit Larousse illustré des symboles et des signes / Miranda Bruce-Mitford, Philip Wilkinson | E4: Paris : Larousse, 2013 | F4: Bruce-Mitford, Miranda | G4: 2013 | H4: DEUX | I4: EY | J4: 4
A5: 746023 | B5: 37504003989850 | C5: 042 BRI | D5: The new encyclopaedia Britannica / Encyclopædia Britannica, Inc. ; Jacob E. Safra, Jorge Aguilar-Cauz | E5: Chicago London Paris : Encyclopaedia Britannica, cop. 2005-2007 | G5: 2005 | H5: DEUX | I5: EY | J5: 3
A6: 971674 | B6: 37504004355796 | C6: 046 GRA | D6: Gran Enciclopedia de España | E6: Zaragoza : Enciclopedia de España, 1990-2006 | G6: 2006 | H6: DEUX | I6: EY | J6: 3
A7: 277326 | B7: 37504000647337 | C7: 0.051(44) COS | D7: Encyclopédie des pseudonymes. Tome I / Emmanuel Ratier ; préf. d'Henry Coston | E7: Paris : Faits et documents, 1993 | F7: Ratier, Emmanuel 1957-2015 070 | G7: 1993 | H7: DEUX | I7: EY | J7: 2
A8: 323196 | B8: 37504001240587 | C8: 045 NUO | D8: Nuovissima enciclopedia generale De Agostini | E8: Roma : Istituto geografico De Agostini, 1998 | G8: 1998 | H8: DEUX | I8: EY | J8: 2
A9: 781642 | B9: 37504004039929 | C9: 044 LAR | D9: Le grand Larousse encyclopédique : dictionnaire encyclopédique en 2 volumes | E9: Paris : Larousse, 2007 | G9: 2007 | H9: DEUX | I9: EY | J9: 2
A10: 756172 | B10: 37504004630677 | C10: 043 BRO | D10: Brockhaus enzyklopädie : in 30 bänden | E10: Leipzig Mannheim : F.A. Brockhaus, 2006 | G10: 2006 | H10: DEUX | I10: EY | J10: 2
A11: 756172 | B11: 37504004630925 | C11: 043 BRO | D11: Brockhaus enzyklopädie : in 30 bänden | E11: Leipzig Mannheim : F.A. Brockhaus, 2006 | G11: 2006 | H11: DEUX | I11: EY | J11: 2
A12: 1160241 | B12: 37504100728425 | C12: 044 DID | D12: Encyclopédie / Denis Diderot ; présenté et annoté par Jean-Marc Mandosio | E12: Paris : Eclat, 2013 | F12: Diderot, Denis 1713-1784 | G12: 2013 | H12: DEUX | I12: EY | J12: 2
A13: 47581 | B13: 37504000850915 | C13: 0.051(44) QUE | D13: Livres perdus et exemplaires uniques / [reprint de l'édition de Bordeaux 1872 par] Joseph-Marie Quérard [et] Gustave Bru | E13: Bologne : Arnaldo Forni, 1984 | F13: Quérard, Joseph-Marie 1796-1865 | G13: 1984 | H13: DEUX | I13: EY | J13: 1
A14: 314494 | B14: 37504001095270 | C14: 0.02 GRA | D14: Trésor de livres rares et précieux ou nouveau dictionnaire bibliographique... / par Jean George Théodore Graesse | E14: Genève : Slatkine Reprints, 1993 | F14: Graesse, Johann Georg Theodor 1814-1885 | G14: 1859 | H14: DEUX | I14: EY | J14: 1
A15: 314494 | B15: 37504001095288 | C15: 0.02 GRA | D15: Trésor de livres rares et précieux ou nouveau dictionnaire bibliographique... / par Jean George Théodore Graesse | E15: Genève : Slatkine Reprints, 1993 | F15: Graesse, Johann Georg Theodor 1814-1885 | G15: 1859 | H15: DEUX | I15: EY | J15: 1
A16: 314494 | B16: 37504001095296 | C16: 0.02 GRA | D16: Trésor de livres rares et précieux ou nouveau dictionnaire bibliographique... / par Jean George Théodore Graesse | E16: Genève : Slatkine Reprints, 1993 | F16: Graesse, Johann Georg Theodor 1814-1885 | G16: 1859 | H16: DEUX | I16: EY | J16: 1
A17: 323196 | B17: 37504001240538 | C17: 045 NUO | D17: Nuovissima enciclopedia generale De Agostini | E17: Roma : Istituto geografico De Agostini, 1998 | G17: 1998 | H17: DEUX | I17: EY | J17: 1
A18: 323196 | B18: 37504001240553 | C18: 045 NUO | D18: Nuovissima enciclopedia generale De Agostini | E18: Roma : Istituto geografico De Agostini, 1998 | G18: 1998 | H18: DEUX | I18: EY | J18: 1
A19: 323196 | B19: 37504001240561 | C19: 045 NUO | D19: Nuovissima enciclopedia generale De Agostini | E19: Roma : Istituto geografico De Agostini, 1998 | G19: 1998 | H19: DEUX | I19: EY | J19: 1
A20: 323196 | B20: 37504001240611 | C20: 045 NUO | D20: Nuovissima enciclopedia generale De Agostini | E20: Roma : Istituto geografico De Agostini, 1998 | G20: 1998 | H20: DEUX | I20: EY | J20: 1
A21: 323196 | B21: 37504001240629 | C21: 045 NUO | D21: Nuovissima enciclopedia generale De Agostini | E21: Roma : Istituto geografico De Agostini, 1998 | G21: 1998 | H21: DEUX | I21: EY | J21: 1
A22: 746023 | B22: 37504003989645 | C22: 042 BRI | D22: The new encyclopaedia Britannica / Encyclopædia Britannica, Inc. ; Jacob E. Safra, Jorge Aguilar-Cauz | E22: Chicago London Paris : Encyclopaedia Britannica, cop. 2005-2007 | G22: 2005 | H22: DEUX | I22: EY | J22: 1
A23: 746023 | B23: 37504003989678 | C23: 042 BRI | D23: The new encyclopaedia Britannica / Encyclopædia Britannica, Inc. ; Jacob E. Safra, Jorge Aguilar-Cauz | E23: Chicago London Paris : Encyclopaedia Britannica, cop. 2005-2007 | G23: 2005 | H23: DEUX | I23: EY | J23: 1
A24: 746023 | B24: 37504003989694 | C24: 042 BRI | D24: The new encyclopaedia Britannica / Encyclopædia Britannica, Inc. ; Jacob E. Safra, Jorge Aguilar-Cauz | E24: Chicago London Paris : Encyclopaedia Britannica, cop. 2005-2007 | G24: 2005 | H24: DEUX | I24: EY | J24: 1
A25: 746023 | B25: 37504003989785 | C25: 042 BRI | D25: The new encyclopaedia Britannica / Encyclopædia Britannica, Inc. ; Jacob E. Safra, Jorge Aguilar-Cauz | E25: Chicago London Paris : Encyclopaedia Britannica, cop. 2005-2007 | G25: 2005 | H25: DEUX | I25: EY | J25: 1
A26: 746023 | B26: 37504003989793 | C26: 042 BRI | D26: The new encyclopaedia Britannica / Encyclopædia Britannica, Inc. ; Jacob E. Safra, Jorge Aguilar-Cauz | E26: Chicago London Paris : Encyclopaedia Britannica, cop. 2005-2007 | G26: 2005 | H26: DEUX | I26: EY | J26: 1
A27: 716161 | B27: 37504004120398 | C27: 0.04(6) PEL | D27: Angola, Guinées, Mozambique, Sahara, Timor, etc. : une bibliographie internationale critique, 1990-2005 / René Pélissier | E27: Orgeval : Pélissier, DL 2006 | F27: Pélissier, René 1935-.... | G27: 2006 | H27: DEUX | I27: EY | J27: 1
A28: 903389 | B28: 37504004205058 | C28: 0.6 FAU | D28: Dictionnaire des abréviations courantes de la langue française : du mot à l'abréviation et de l'abréviation au mot / Jea | E28: Paris : la Maison du dictionnaire, 2009 | F28: Faudouas, Jean-Claude 1940-2006 | G28: 2009 | H28: DEUX | I28: EY | J28: 1
A29: 971674 | B29: 37504004355788 | C29: 046 GRA | D29: Gran Enciclopedia de España | E29: Zaragoza : Enciclopedia de España, 1990-2006 | G29: 2006 | H29: DEUX | I29: EY | J29: 1
A30: 756172 | B30: 37504004630669 | C30: 043 BRO | D30: Brockhaus enzyklopädie : in 30 bänden | E30: Leipzig Mannheim : F.A. Brockhaus, 2006 | G30: 2006 | H30: DEUX | I30: EY | J30: 1
A31: 756172 | B31: 37504004630693 | C31: 043 BRO | D31: Brockhaus enzyklopädie : in 30 bänden | E31: Leipzig Mannheim : F.A. Brockhaus, 2006 | G31: 2006 | H31: DEUX | I31: EY | J31: 1
A32: 756172 | B32: 37504004630701 | C32: 043 BRO | D32: Brockhaus enzyklopädie : in 30 bänden | E32: Leipzig Mannheim : F.A. Brockhaus, 2006 | G32: 2006 | H32: DEUX | I32: EY | J32: 1
A33: 756172 | B33: 37504004630800 | C33: 043 BRO | D33: Brockhaus enzyklopädie : in 30 bänden | E33: Leipzig Mannheim : F.A. Brockhaus, 2006 | G33: 2006 | H33: DEUX | I33: EY | J33: 1
A34: 756172 | B34: 37504004630867 | C34: 043 BRO | D34: Brockhaus enzyklopädie : in 30 bänden | E34: Leipzig Mannheim : F.A. Brockhaus, 2006 | G34: 2006 | H34: DEUX | I34: EY | J34: 1
A35: 756172 | B35: 37504004630883 | C35: 043 BRO | D35: Brockhaus enzyklopädie : in 30 bänden | E35: Leipzig Mannheim : F.A. Brockhaus, 2006 | G35: 2006 | H35: DEUX | I35: EY | J35: 1
A36: 720859 | B36: 37504005882210 | C36: 0.22 LEV | D36: L'homme qui voulait classer le monde : Paul Otlet et le Mundaneum / Françoise Levie ; postface de Benoît Peeters | E36: Bruxelles : les Impressions nouvelles, impr. 2006 | F36: Levie, Françoise | G36: 2006 | H36: DEUX | I36: EY | J36: 1
A37: 667926 | B37: 37504005937881 | C37: 0.011 PRE | D37: Manuel de bibliographie générale / Marie-Hélène Prévoteau, Jean-Claude Utard | E37: Paris : Electre-Ed. du Cercle de la Librairie, 2005 | F37: Prévoteau, Marie-Hélène | G37: 2005 | H37: DEUX | I37: EY | J37: 1
A38: 1160242 | B38: 37504100728417 | C38: 044 DID | D38: L'Encyclopédie : cinquante articles fondamentaux / par M. Denis Diderot ; édition établie, annotée et postfacée par Jérô | E38: Paris : Mille et une nuits, 2013 | F38: Diderot, Denis 1713-1784 | G38: 2013 | H38: DEUX | I38: EY | J38: 1
A39: 1161837 | B39: 37504100808557 | C39: 044 BRE | D39: Les p'tits bateaux : les plus grands spécialistes répondent aux questions étonnantes de vos enfants / Noëlle Bréham, Mar | E39: Paris : First Editions : France-Inter, 2013 | F39: Bréham, Noëlle 070 | G39: 2013 | H39: DEUX | I39: EY | J39: 1
