Workbook

Sheet Poètes d'aujourd'hui
A1: No de séquence | B1: ISBN | C1: Langue de publication | D1: Pays de publication | E1: Cote | F1: Titre/auteur | G1: Type de document | H1: Editeur | I1: Date | J1: Collation | K1: Collection | L1: Résumé | M1: Indice CDU | N1: Indexation matière | O1: Auteurs principaux | P1: Auteurs secondaires | Q1: Note du catalogueur | R1: Code sujet | S1: Statut de la notice | T1: Code-barres | U1: Consultation | V1: Fonds | W1: Sous-localisation | X1: Catégorie documentaire | Y1: Etat de disponibilité
A2: 162163 | C2: fre | D2: FR | E2: 820"17" BLAK 5 RO | F2: William Blake / Jean Rousselot [Choix de poèmes trad. par Jean Rousselot, assisté par Anne-Marie Rousselot] | G2: LIVRE | H2: Seghers, | I2: 1975 | J2: 189 p.-pl. ; 16 cm | K2: Poètes d'aujourd'hui ; | M2: 820"17" BLAK | N2: Blake, William 1757-1827 | O2: Rousselot, Jean 1913-2004 | P2: Blake, William 1757-1827|Rousselot, Anne-Marie | S2: ACT | T2: 37504003313663 | U2: =IFERROR(VLOOKUP(T2,RQC!B$2:B$23143,9,FALSE),0) -> 0 | V2: PAPI | W2: TROI | X2: LL | Y2: DI
A3: 26459 | C3: fre | D3: FR | E3: 820"18" BRON.E 5 EA | F3: Emily Brontë / [présentation] par Françoise d'Eaubonne.. | G3: LIVRE | H3: Seghers, | I3: 1964 | J3: 191 p.-pl. ; 16 cm | K3: Poètes d'aujourd'hui ; | M3: 820"18" BRON.E | N3: Brontë, Emily 1818-1848 | O3: Eaubonne, Françoise d' 1920-2005 | P3: Brontë, Emily 1818-1848 | S3: ACT | T3: 37504003390745 | U3: =IFERROR(VLOOKUP(T3,RQC!B$2:B$23143,9,FALSE),0) -> 0 | V3: PAPI | W3: TROI | X3: LL | Y3: DI
A4: 459006 | C4: fre | D4: FR | E4: 820"18" CARR 5 PA | F4: Lewis Carroll / un étude de Henri Parisot avec un choix de textes... | G4: LIVRE | H4: Seghers, | I4: 1972 | J4: 190 p. ; 16 cm | K4: Poètes d'aujourd'hui ; | M4: 820"18" CARR | N4: Carroll, Lewis 1832-1898 | O4: Carroll, Lewis 1832-1898 | P4: Parisot, Henri 1908-1979 | S4: ACT | T4: 37504003514054 | U4: =IFERROR(VLOOKUP(T4,RQC!B$2:B$23143,9,FALSE),0) -> 0 | V4: PAPI | W4: TROI | X4: LL | Y4: DI
A5: 405999 | C5: fre | D5: FR | E5: 821 DICK 2 | F5: Emily Dickinson / présentation par Alain Bosquet... | G5: LIVRE | H5: Seghers, | I5: 1957 | J5: 207 p. ; 16 cm | K5: Poètes d'aujourd'hui ; | M5: 821 DICK | N5: Dickinson, Emily 1830-1886 | O5: Dickinson, Emily 1830-1886 | P5: Bosquet, Alain 1919-1998 | S5: ACT | T5: 37504002260485 | U5: =IFERROR(VLOOKUP(T5,RQC!B$2:B$23143,9,FALSE),0) -> 0 | V5: PAPI | W5: TROI | X5: LL | Y5: DI
A6: 189362 | C6: fre eng | D6: FR | E6: 821 GINS 5 TY | F6: Allen Ginsberg / étude de Christine Tysh ; [trad. par Claude Guillot] | G6: LIVRE | H6: Seghers, | I6: 1974 | J6: 182 p. : ill. ; 16 cm | K6: Poètes d'aujourd'hui ; | M6: 821 GINS | N6: Ginsberg, Allen 1926-1997 | O6: Tysh, Christine | P6: Guillot, Claude 19..-197.? poète | S6: ACT | T6: 37504003888425 | U6: =IFERROR(VLOOKUP(T6,RQC!B$2:B$23143,9,FALSE),0) -> 0 | V6: PAPI | W6: TROI | X6: LL | Y6: DI
A7: 607315 | C7: fre eng | D7: FR | E7: 821 HUGH 5 DO | F7: Langston Hughes/ / présentation par François Dodat, choix de textes, bibliographie, portraits, fac-similés | G7: LIVRE | H7: P. Seghers, | I7: 1967 | J7: 191 p. : ill. ; 16 cm | K7: Poètes d'aujourd'hui | M7: 821 HUGH | N7: Hughes, Langston 1902-1967 | P7: Hughes, Langston 1902-1967|Dodat, François 1908-1996 | S7: ACT | T7: 37504005592439 | U7: =IFERROR(VLOOKUP(T7,RQC!B$2:B$23143,9,FALSE),0) -> 0 | V7: PAPI | W7: TROI | X7: LL | Y7: DI
A8: 607313 | C8: fre | D8: FR | E8: 821 POE. 5 RO | F8: Edgar Allan Poe / une étude de Jean Rousselot avec un choix de textes... | G8: LIVRE | H8: Seghers, | I8: 1973 | J8: 207 p. ; 16 cm | K8: Poètes d'aujourd'hui ; | M8: 821 POE. | N8: Poe, Edgar Allan 1809-1849 | O8: Poe, Edgar Allan 1809-1849 | P8: Rousselot, Jean 1913-2004 | S8: ACT | T8: 37504005592413 | U8: =IFERROR(VLOOKUP(T8,RQC!B$2:B$23143,9,FALSE),0) -> 0 | V8: PAPI | W8: TROI | X8: LL | Y8: DI
A9: 787902 | C9: fre | D9: FR | E9: 821 WHIT 2 | F9: Walt Whitman : une étude / de Paul Jamati, avec un choix de poèmes, des illustrations | G9: LIVRE | H9: Seghers, | I9: 1973 | J9: 223 p. ; 16 cm | K9: Poètes d'aujourd'hui ; | M9: 821 WHIT | N9: Whitman, Walt 1819-1892--Critique et interprétation | O9: Whitman, Walt 1819-1892 | P9: Jamati, Paul 1890-1960 | S9: ACT | T9: 37504005682917 | U9: =IFERROR(VLOOKUP(T9,RQC!B$2:B$23143,9,FALSE),0) -> 0 | V9: PAPI | W9: TROI | X9: LL | Y9: DI
A10: 607314 | C10: fre eng | D10: FR | E10: 821 WILL.C 5 VE | F10: William Carlos Williams / essai de Laurette Veza, bibliographie, illustrations | G10: LIVRE | H10: P. Seghers, | I10: 1974 | J10: 187 p. : ill. ; 16 cm | K10: Poètes d'aujourd'hui ; | M10: 821 WILL.C | N10: Williams, William Carlos 1883-1963 | P10: Veza, Laurette 1924-1988 | S10: ACT | T10: 37504005592421 | U10: =IFERROR(VLOOKUP(T10,RQC!B$2:B$23143,9,FALSE),0) -> 0 | V10: PAPI | W10: TROI | X10: LL | Y10: DI
A11: 33966 | C11: fre ger | D11: FR | E11: 830"17" HOLD 5 JA | F11: Hölderlin / Gilles Jallet, Friedrich Hölderlin | G11: LIVRE | H11: Seghers, | I11: 1985 | J11: 217 p. ; 16 cm | K11: Poètes d'aujourd'hui ; | M11: 830"17" HOLD | N11: Hölderlin, Friedrich 1770-1843--Critique et interprétation | O11: Jallet, Gilles 1956-.... | P11: Hölderlin, Friedrich 1770-1843 | S11: ACT | T11: 37504002836565 | U11: =IFERROR(VLOOKUP(T11,RQC!B$2:B$23143,9,FALSE),0) -> 0 | V11: PAPI | W11: TROI | X11: LL | Y11: DI
A12: 91833 | B12: 2-232-10241-6 | C12: fre | D12: FR | E12: 830"17" NOVA 5 JA | F12: Novalis / Gilles Jallet | G12: LIVRE | H12: Seghers, | I12: 1990 | J12: 175 p. : couv. ill. ; 16 cm | K12: Poètes d'aujourd'hui ; | M12: 830"17" NOVA | N12: Novalis 1772-1801--Critique et interprétation|Novalis 1772-1801 | O12: Jallet, Gilles 1956-.... 070 | S12: ACT | T12: 37504002836763 | U12: =IFERROR(VLOOKUP(T12,RQC!B$2:B$23143,9,FALSE),0) -> 0 | V12: PAPI | W12: TROI | X12: LL | Y12: DI
A13: 72687 | C13: fre | D13: FR | E13: 830"19" BENN 5 LO | F13: Gottfried Benn / une étude de Jean-Charles Lombard ; avec un choix de textes, une bibliogr., des ill. | G13: LIVRE | H13: Seghers, | I13: 1973 | J13: 188 p. : ill. ; 17 cm | K13: Poètes d'aujourd'hui ; | M13: 830"19" BENN | N13: Benn, Gottfried 1886-1956 | O13: Lombard, Jean-Charles 1939-.... | P13: Benn, Gottfried 1886-1956 | S13: ACT | T13: 37504003331871 | U13: =IFERROR(VLOOKUP(T13,RQC!B$2:B$23143,9,FALSE),0) -> 0 | V13: PAPI | W13: TROI | X13: LL | Y13: DI
A14: 72688 | C14: fre | D14: FR | E14: 831 HOFM 5 CO | F14: Hofmannsthal / une étude de Etienne Coche de la Ferté ; avec un choix de textes, une bibliogr., des ill. | G14: LIVRE | H14: Seghers, | I14: 1973 | J14: 189 p. : ill. ; 17 cm | K14: Poètes d'aujourd'hui ; | M14: 831 HOFM | N14: Hofmannsthal, Hugo von 1874-1929 | O14: Coche de La Ferté, Étienne 1909-1988 | P14: Hofmannsthal, Hugo von 1874-1929 | S14: ACT | T14: 37504002489944 | U14: =IFERROR(VLOOKUP(T14,RQC!B$2:B$23143,9,FALSE),0) -> 0 | V14: PAPI | W14: TROI | X14: LL | Y14: DI
A15: 72690 | C15: fre | D15: FR | E15: 831 TRAK 5 RO | F15: Georg Trakl / une étude de Robert Rovini ; avec un choix de textes, une bibliogr., des ill. | G15: LIVRE | H15: Seghers, | I15: 1973 | J15: 190 p. : ill. ; 17 cm | K15: Poètes d'aujourd'hui ; | M15: 831 TRAK | N15: Trakl, Georg 1887-1914 | O15: Rovini, Robert 1925-1968 | P15: Trakl, Georg 1887-1914 | S15: ACT | T15: 37504003517321 | U15: =IFERROR(VLOOKUP(T15,RQC!B$2:B$23143,9,FALSE),0) -> 0 | V15: PAPI | W15: TROI | X15: LL | Y15: DI
A16: 190155 | C16: fre | D16: FR | E16: 839.32 JONC 5 BO | F16: Karel Jonckhere / présentation par Roger Bodart ; choix de textes, trad. par Hugo Richter | G16: LIVRE | H16: Seghers, | I16: 1968 | J16: 191 p. ; 16 cm | K16: Poètes d'aujourd'hui ; | M16: 839.32 JONC | N16: Jonckheere, Karel 1906-.... | O16: Bodart, Roger 1910-1973 | P16: Jonckheere, Karel 1906-....|Richter, Hugo | S16: ACT | T16: 37504003386370 | U16: =IFERROR(VLOOKUP(T16,RQC!B$2:B$23143,9,FALSE),0) -> 0 | V16: PAPI | W16: TROI | X16: LL | Y16: DI
A17: 415669 | B17: 2-232-12176-3 | C17: fre | D17: FR | E17: 840"18" BAUD 5 DE | F17: Charles Baudelaire / présentation et choix de textes par Luc Decaunes | G17: LIVRE | H17: Seghers, | I17: 2001 | J17: 254 p. : ill. ; 16 cm | K17: Poètes d'aujourd'hui | L17: A côté des irremplaçables poèmes de Baudelaire, ce volume propose de larges extraits de son oeuvre critique et réflexive. La lecture d'un poète par un autre. | M17: 840"18" BAUD | N17: Baudelaire, Charles 1821-1867--Critique et interprétation | O17: Decaunes, Luc 1913-2001 | P17: Baudelaire, Charles 1821-1867 | S17: ACT | T17: 37504004983399 | U17: =IFERROR(VLOOKUP(T17,RQC!B$2:B$23143,9,FALSE),0) -> 0 | V17: PAPI | W17: TROI | X17: LL | Y17: DI
A18: 21664 | C18: fre | D18: FR | E18: 840"18" BERT 5 RU | F18: Aloysius Bertrand / Fernand Rude, Aloysius Bertrand | G18: LIVRE | H18: Seghers, | I18: 1970 | J18: 189 p.-pl. ; 17cm | K18: Poètes d'aujourd'hui ; | M18: 840"18" BERT | N18: Bertrand, Aloysius 1807-1841 | O18: Rude, Fernand 1910-1990 | P18: Bertrand, Aloysius 1807-1841 | S18: ACT | T18: 37504003963905 | U18: =IFERROR(VLOOKUP(T18,RQC!B$2:B$23143,9,FALSE),0) -> 0 | V18: PAPI | W18: TROI | X18: LL | Y18: DI
A19: 95301 | C19: fre | D19: FR | E19: 840"18" CORB 5 RO | F19: Tristan Corbière / une étude de Jean Rousselot avec un choix de textes, une bibliographie, des illustrations | G19: LIVRE | H19: Seghers, | I19: 1973 | J19: 210 p.-pl. ; 16 cm | K19: Poètes d'aujourd'hui ; | M19: 840"18" CORB | N19: Corbière, Tristan 1845-1875 | P19: Rousselot, Jean 1913-2004 | S19: ACT | T19: 37504003883699 | U19: =IFERROR(VLOOKUP(T19,RQC!B$2:B$23143,9,FALSE),0) -> 0 | V19: PAPI | W19: TROI | X19: LL | Y19: DI
A20: 643817 | B20: 2-232-10828-7 | C20: fre | D20: FR | E20: 840"18" CROS 5 FO | F20: Charles Cros / Louis Forestier | G20: LIVRE | H20: Seghers, | I20: 1988 | J20: 175 p.-[8] p. de pl. : ill., couv. ill. ; 16 cm | K20: Poètes d'aujourd'hui ; | M20: 840"18" CROS | N20: Cros, Charles 1842-1888 | O20: Forestier, Louis 1931-....|Cros, Charles 1842-1888 | S20: ACT | T20: 37504006067233 | U20: =IFERROR(VLOOKUP(T20,RQC!B$2:B$23143,9,FALSE),0) -> 0 | V20: PAPI | W20: TROI | X20: LL | Y20: DI
A21: 28234 | B21: 2-221-04223-9 | C21: fre | D21: FR | E21: 840"18" DESB 5 MO | F21: Marceline Desbordes-Valmore / Jeanine Moulin | G21: LIVRE | H21: Seghers, | I21: 1983 | J21: 219 p.-[12] p. de pl. : couv. ill. ; 16 cm | K21: Poètes d'aujourd'hui ; | M21: 840"18" DESB | N21: Desbordes-Valmore, Marceline 1786-1859|Desbordes-Valmore, Marceline 1786-1859|Biographie | O21: Moulin, Jeanine 1912-1998 070 | S21: ACT | T21: 37504006307605 | U21: =IFERROR(VLOOKUP(T21,RQC!B$2:B$23143,9,FALSE),0) -> 0 | V21: PAPI | W21: TROI | X21: LL | Y21: DI
A22: 102768 | C22: fre | D22: FR | E22: 840"18" HUGO 5 PE | F22: Victor Hugo : étude, choix de poèmes / éd. de Louis Perche | G22: LIVRE | H22: Seghers, | I22: 1974 | J22: 222 p.-pl. ; 16 cm | K22: Poètes d'aujourd'hui ; | M22: 840"18" HUGO | N22: Hugo, Victor 1802-1885--Critique et interprétation | P22: Perche, Louis 1909-2003 | S22: ACT | T22: 37504003531439 | U22: =IFERROR(VLOOKUP(T22,RQC!B$2:B$23143,9,FALSE),0) -> 0 | V22: PAPI | W22: TROI | X22: LL | Y22: DI
A23: 406863 | C23: fre | D23: FR | E23: 840"18" LAFO 5 DU | F23: Jules Laforgue / une étude de Marie-Jeanne Durry | G23: LIVRE | H23: Seghers, | I23: 1971 | J23: 218 p. : ill. ; 17 cm | K23: Poètes d'aujourd'hui ; | M23: 840"18" LAFO | N23: Laforgue, Jules 1860-1887 | O23: Durry, Marie-Jeanne 1901-1980 | S23: ACT | T23: 37504003565544 | U23: =IFERROR(VLOOKUP(T23,RQC!B$2:B$23143,9,FALSE),0) -> 0 | V23: PAPI | W23: TROI | X23: LL | Y23: DI
A24: 200671 | C24: fre | D24: FR | E24: 840"18" LAUT 3 | F24: Lautréamont / Philippe Soupault, Lautréamont (comte de) | G24: LIVRE | H24: P. Seghers, | I24: 1973 | J24: 191 p. : ill. ; 16 cm | K24: Poètes d'aujourd'hui ; | M24: 840"18" LAUT | N24: Lautréamont 1846-1870 | O24: Soupault, Philippe 1897-1990 | P24: Lautréamont 1846-1870 | S24: ACT | T24: 37504003568597 | U24: =IFERROR(VLOOKUP(T24,RQC!B$2:B$23143,9,FALSE),0) -> 0 | V24: PAPI | W24: TROI | X24: LL | Y24: DI
A25: 459131 | B25: 2-232-12196-8 | C25: fre | D25: FR | E25: 840"18" LAUT 5 MA | F25: Isidore Ducasse : présentation et anthologie/ / par Bernard Marcadé | G25: LIVRE | H25: Seghers, | I25: 2002 | J25: 237 p. ; 17cm | K25: Poètes d'aujourd'hui | L25: Lautréamont est aux sources de la pensée littéraire et artistique du XXe siècle, par la contemporanéité de ses procédures littéraires et artistiques, et par la personnalité de ses principaux commentateurs. Sa poésie est aussi une réflexion sur le monde. | M25: 840"18" LAUT | N25: Lautréamont 1846-1870 | O25: Marcadé, Bernard 1955-.... | P25: Lautréamont 1846-1870 | S25: ACT | T25: 37504002520375 | U25: =IFERROR(VLOOKUP(T25,RQC!B$2:B$23143,9,FALSE),0) -> 0 | V25: PAPI | W25: TROI | X25: LL | Y25: DI
A26: 559330 | B26: 2-232-12222-0 | C26: fre | D26: FR | E26: 840"18" MALL 5 LA | F26: Stéphane Mallarmé / Patrick Laupin | G26: LIVRE | H26: Seghers, | I26: 2004 | J26: 291 p. ; 20 cm | K26: Poètes d'aujourd'hui | L26: P. Laupin, essayiste et poète, propose une analyse de l'oeuvre du poète en s'appuyant sur la lecture des fragments posthumes qui constituent le Livre de Mallarmé. Il révèle un Mallarmé différent, ignoré de l'histoire littéraire, bien loin de l'image du poète ésotérique, au contraire un Mallarmé épris d'absolu et de liberté. Avec une chronologie. | M26: 840"18" MALL | N26: Mallarmé, Stéphane 1842-1898--Critique et interprétation | O26: Laupin, Patrick 1950-.... | S26: ACT | T26: 37504006376873 | U26: =IFERROR(VLOOKUP(T26,RQC!B$2:B$23143,9,FALSE),0) -> 0 | V26: PAPI | W26: TROI | X26: LL | Y26: DI
A27: 94993 | C27: fre | D27: FR | E27: 840"18" MALL 5 WA | F27: Mallarmé / Pierre-Olivier Walzer | G27: LIVRE | H27: Seghers, | I27: 1988 | J27: 256 p.-pl. ; 16 cm | K27: Poètes d'aujourd'hui ; | M27: 840"18" MALL | N27: Mallarmé, Stéphane 1842-1898 | O27: Walzer, Pierre-Olivier 1915-2000 | S27: ACT | T27: 37504003612148 | U27: =IFERROR(VLOOKUP(T27,RQC!B$2:B$23143,9,FALSE),0) -> 0 | V27: PAPI | W27: TROI | X27: LL | Y27: DI
A28: 442113 | B28: 2-232-12190-9 | C28: fre | D28: FR | E28: 840"18" MUSS 5 SO | F28: Alfred de Musset : présentation et anthologie / Philippe Soupault | G28: LIVRE | H28: Seghers, | I28: 2001 | J28: 217 p. ; 17 cm | K28: Poètes d'aujourd'hui | M28: 840"18" MUSS | N28: Musset, Alfred de 1810-1857 | O28: Soupault, Philippe 1897-1990 | S28: ACT | T28: 37504002396693 | U28: =IFERROR(VLOOKUP(T28,RQC!B$2:B$23143,9,FALSE),0) -> 0 | V28: PAPI | W28: TROI | X28: LL | Y28: DI
A29: 1491034 | B29: 9782232121784 | C29: fre | D29: FR | E29: 840"18" RIMB 5 RA | F29: Arthur Rimbaud / Lionel Ray | G29: LIVRE | H29: Seghers, | I29: 2001 | J29: 1 vol. (206 p.) ; 16 x 14 cm | K29: Poètes d'aujourd'hui | M29: 840"18" RIMB | N29: Rimbaud, Arthur 1854-1891 | O29: Ray, Lionel 1935-.... | Q29: Retrait ed abîmée | R29: 840 | S29: ACT | T29: 37504101693461 | U29: =IFERROR(VLOOKUP(T29,RQC!B$2:B$23143,9,FALSE),0) -> 0 | V29: PAPI | W29: TROI | X29: LL | Y29: DI
A30: 497717 | B30: 2-232-12206-9 | C30: fre | D30: FR | E30: 840"19" ARAG 5 RA | F30: Louis Aragon / présentation et choix de textes par Lionel Ray | G30: LIVRE | H30: Seghers, | I30: 2002 | J30: 243 p. ; 17cm | K30: Poètes d'aujourd'hui | L30: Etude sur Louis Aragon, son oeuvre poétique, avec une sélection de ses principaux poèmes et une chronologie. | M30: 840"19" ARAG | N30: Aragon, Louis 1897-1982 | O30: Ray, Lionel 1935-.... | P30: Aragon, Louis 1897-1982 | S30: ACT | T30: 37504100832201 | U30: =IFERROR(VLOOKUP(T30,RQC!B$2:B$23143,9,FALSE),0) -> 0 | V30: PAPI | W30: TROI | X30: LL | Y30: DI
A31: 28559 | C31: fre | D31: FR | E31: 840"19" BENE 5 DE | F31: Mathieu Bénézet / Bernard Delvaille, Mathieu Bénézet | G31: LIVRE | H31: Seghers, | I31: 1984 | J31: 188 p. ; 16 cm | K31: Poètes d'aujourd'hui ; | M31: 840"19" BENE | N31: Bénézet, Mathieu 1946-2013 | O31: Delvaille, Bernard 1931-2006 | P31: Bénézet, Mathieu 1946-2013 | S31: ACT | T31: 37504002848198 | U31: =IFERROR(VLOOKUP(T31,RQC!B$2:B$23143,9,FALSE),0) -> 0 | V31: PAPI | W31: TROI | X31: LL | Y31: DI
A32: 70142 | B32: 2-232-10075-8 | C32: fre | D32: FR | E32: 840"19" BLAN.U 5 PE | F32: Maurice Blanchard / Pierre Peuchmaurd | G32: LIVRE | H32: Seghers, | I32: 1988 | J32: 1 vol. (219 p.) : couv. ill. ; 16 cm | K32: Poètes d'aujourd'hui | M32: 840"19" BLAN.U | N32: Blanchard, Maurice 1890-1960--Critique et interprétation|Blanchard, Maurice 1890-1960 | O32: Peuchmaurd, Pierre 1948-2009 070 | S32: ACT | T32: 37504002833554 | U32: =IFERROR(VLOOKUP(T32,RQC!B$2:B$23143,9,FALSE),0) -> 0 | V32: PAPI | W32: TROI | X32: LL | Y32: DI
A33: 130969 | C33: fre | D33: FR | E33: 840"19" BONN 5 JA | F33: Yves Bonnefoy / par John E. Jackson | G33: LIVRE | H33: Seghers, | I33: 1976 | J33: 190 p.-pl. ; 17 cm | K33: Poètes d'aujourd'hui ; | M33: 840"19" BONN | N33: Bonnefoy, Yves 1923-2016 | P33: Bonnefoy, Yves 1923-2016|Jackson, John Edwin 1945-.... | S33: ACT | T33: 37504003056064 | U33: =IFERROR(VLOOKUP(T33,RQC!B$2:B$23143,9,FALSE),0) -> 0 | V33: PAPI | W33: TROI | X33: LL | Y33: DI
A34: 94995 | C34: fre | D34: FR | E34: 840"19" BORN 5 VI | F34: Alain Borne / étude de Paul Vincensini, choix de textes, biographie, bibliographie | G34: LIVRE | H34: Seghers, | I34: 1974 | J34: 177 p.-pl. ; 16 cm | K34: Poètes d'aujourd'hui ; | M34: 840"19" BORN | N34: Borne, Alain 1915-1962 | O34: Vincensini, Paul | S34: ACT | T34: 37504002895116 | U34: =IFERROR(VLOOKUP(T34,RQC!B$2:B$23143,9,FALSE),0) -> 0 | V34: PAPI | W34: TROI | X34: LL | Y34: DI
A35: 195927 | C35: fre | D35: FR | E35: 840"19" BOUS 5 AN | F35: Joë Bousquet : trois études / Suzanne André, Hubert Juin, Gaston Massat, Joë Bousquet | G35: LIVRE | H35: P. Seghers, | I35: 1972 | J35: 217 p. : ill. ; 16 cm | K35: poètes d'aujourd'hui ; | M35: 840"19" BOUS | N35: Bousquet, Joë 1897-1950 | O35: André, Suzanne | P35: Juin, Hubert 1926-1987|Massat, Gaston 1909-1966|Bousquet, Joë 1897-1950 | S35: ACT | T35: 37504002920112 | U35: =IFERROR(VLOOKUP(T35,RQC!B$2:B$23143,9,FALSE),0) -> 0 | V35: PAPI | W35: TROI | X35: LL | Y35: DI
A36: 184962 | C36: fre | D36: FR | E36: 840"19" BRET 5 BE | F36: André Breton / Jean-Louis Bédouin, André Breton | G36: LIVRE | H36: Seghers, | I36: 1970 | J36: 187 p. : ill. ; 16 cm | K36: Poètes d'aujourd'hui ; | M36: 840"19" BRET | N36: Breton, André 1896-1966 | O36: Bédouin, Jean-Louis 1929-1996 | P36: Breton, André 1896-1966 | S36: ACT | T36: 37504002451670 | U36: =IFERROR(VLOOKUP(T36,RQC!B$2:B$23143,9,FALSE),0) -> 0 | V36: PAPI | W36: TROI | X36: LL | Y36: DI
A37: 21434 | C37: fre | E37: 840"19" CEND 5 PA | F37: Blaise Cendrars / Louis Parrot, Blaise Cendrars | G37: LIVRE | H37: Seghers, | I37: 1971 | J37: 218 p. : ill. ; 16 cm | K37: Poètes d'aujourd'hui ; | M37: 840"19" CEND | N37: Cendrars, Blaise 1887-1961 | O37: Parrot, Louis 1906-1948 | P37: Cendrars, Blaise 1887-1961 | S37: ACT | T37: 37504002467742 | U37: =IFERROR(VLOOKUP(T37,RQC!B$2:B$23143,9,FALSE),0) -> 0 | V37: PAPI | W37: TROI | X37: LL | Y37: DI
A38: 184616 | C38: fre | D38: FR | E38: 840"19" CHAB 5 BL | F38: Philippe Chabaneix : choix de textes, bibliographie / présentation par André Blanchard et Robert Houdelot | G38: LIVRE | H38: Seghers, | I38: 1966 | J38: 189 p. : ill. ; 16 cm | K38: Poètes d'aujourd'hui ; | M38: 840"19" CHAB.H | O38: Blanchard, André 1906-1975 | P38: Houdelot, Robert 1912-1997|Chabaneix, Philippe 1898-1982 | S38: ACT | T38: 37504002468195 | U38: =IFERROR(VLOOKUP(T38,RQC!B$2:B$23143,9,FALSE),0) -> 0 | V38: PAPI | W38: TROI | X38: LL | Y38: DI
A39: 120484 | C39: fre | D39: FR | E39: 840"19" CHAR 5 GU | F39: René Char : choix de textes, bibliographie, portraits, fac-similés / présentation par Pierre Guerre | G39: LIVRE | H39: P. Seghers, | I39: 1971 | J39: 187 p.-pl. ; 16 cm | K39: Poètes d'aujourd'hui ; | M39: 840"19" CHAR | N39: Char, René 1907-1988 | P39: Guerre, Pierre 1910-1978 | S39: ACT | T39: 37504002468773 | U39: =IFERROR(VLOOKUP(T39,RQC!B$2:B$23143,9,FALSE),0) -> 0 | V39: PAPI | W39: TROI | X39: LL | Y39: DI
A40: 184964 | C40: fre | D40: FR | E40: 840"19" CLAN 5 BE | F40: Georges-Emmanuel Clancier / Michel-Georges Bernard | G40: LIVRE | H40: Seghers, | I40: 1967 | J40: 191 p. : ill. ; 16 cm | K40: Poètes d'aujourd'hui ; | M40: 840"19" CLAN | N40: Clancier, Georges-Emmanuel 1914-2018 | O40: Bernard, Michel-Georges 1944-.... | S40: ACT | T40: 37504002493318 | U40: =IFERROR(VLOOKUP(T40,RQC!B$2:B$23143,9,FALSE),0) -> 0 | V40: PAPI | W40: TROI | X40: LL | Y40: DI
...

Sheet RQC
A1: Numéro de séquence | B1: Code barre | C1: Cote | D1: Titre | E1: Editeur | F1: Auteur | G1: Date | H1: Sous localisation | I1: Catégorie documentaire | J1: Consultations
A2: 229573 | B2: 37504000000453 | C2: 830"19" KRUG.M 4 EN | D2: Das Ende des Romans : eine Novelle / Michael Krüger | E2: Salzburg : Residenz, 1990 | F2: Krüger, Michael 1943-.... | G2: 1990 | H2: TROI | I2: LL | J2: 1
A3: 231305 | B3: 37504000003259 | C3: 81-3"04/14" STA | D3: Histoire européenne du roman médiéval : esquisse et perspectives / Michel Stanesco, Michel Zink | E3: Paris : Presses universitaires de France, 1992 | F3: Stanesco, Michel 1942-2008 | G3: 1992 | H3: TROI | I3: LL | J3: 1
A4: 228748 | B4: 37504000003812 | C4: 840"19" PICA.F 4 PO | D4: Poèmes et dessins de la fille née sans mère / Francis Picabia | E4: Paris : Ed. Allia, 1992 | F4: Picabia, Francis 1879-1953 070 | G4: 1992 | H4: TROI | I4: LL | J4: 1
A5: 228750 | B5: 37504000003820 | C5: 840"19" PICA.F 4 UN | D5: Unique eunuque / Francis Picabia ; avec un portrait de l'auteur par lui-même ; et une préf. par Tristan Tzara | E5: Paris : Ed. Allia, 1992 | F5: Picabia, Francis 1879-1953 070 | G5: 1992 | H5: TROI | I5: LL | J5: 1
A6: 231320 | B6: 37504000004257 | C6: 868.3 BORG 6 | D6: L'univers de Borges : Album réalisé à l'occasion de l'exposition "L'univers de Borges", organisée par la BPI au Cent | E6: Paris : Bibliothèque publique d'information/Centre Pompidou, 1992 | F6: Cabannes, Viviane | G6: 1992 | H6: TROI | I6: LL | J6: 1
A7: 230653 | B7: 37504000004406 | C7: 831 RILK 44 | D7: Ein Gespräch in Briefen / Rainer Maria Rilke und Marina Zwetajewa ; hrsg. von Konstantin M. Asadowski ; [aus dem Russisc | E7: Frankfurt am Main : Insel, 1992 | F7: Rilke, Rainer Maria 1875-1926 | G7: 1992 | H7: TROI | I7: LL | J7: 2
A8: 230657 | B8: 37504000004448 | C8: 831 HAND 2 | D8: Die Theaterstücke / Peter Handke | E8: Frankfurt am Main : Suhrkamp, 1992 | F8: Handke, Peter 1942-.... | G8: 1992 | H8: TROI | I8: LL | J8: 1
A9: 230036 | B9: 37504000005676 | C9: 862 BAUC 3 | D9: Obra poètica 1959-1983 / Miquel Bauçà | E9: Barcelona : Empúries, 1987 | F9: Bauçà, Miquel 1940-.... | G9: 1987 | H9: TROI | I9: LL | J9: 1
A10: 231006 | B10: 37504000007045 | C10: 840"19" ISOU 2 | D10: Entretiens avec Isidore Isou / Frédérique Devaux | E10: [Charlieu] : La Bartavelle éd., 1992 | F10: Devaux Yahi, Frédérique 1956-.... | G10: 1992 | H10: TROI | I10: LL | J10: 2
A11: 231314 | B11: 37504000009033 | C11: 81(082) PAT | D11: Patrimoine littéraire européen : anthologie en langue française / sous la dir. de Jean-Claude Polet ; préf. de Claude Pi | E11: Bruxelles : De Boeck-Wesmael, 1992-2000 | G11: 1992 | H11: TROI | I11: LL | J11: 1
A12: 226310 | B12: 37504000009405 | C12: 820"19" PYM. 5 WY | D12: Barbara Pym : a critical biography / Anne M. Wyatt-Brown | E12: Columbia, MO : University of Missouri Press, 1992 | F12: Wyatt-Brown, Anne M. 1939-.... | G12: 1992 | H12: TROI | I12: LL | J12: 1
A13: 219018 | B13: 37504000009629 | C13: 840"19" PROU 44 | D13: Correspondance avec Daniel Halévy / Marcel Proust ; texte établi, présenté et annoté par Anne Borrel et Jean-Pierre | E13: Paris : de Fallois, 1992 | F13: Proust, Marcel 1871-1922 | G13: 1992 | H13: TROI | I13: LL | J13: 2
A14: 235330 | B14: 37504000010601 | C14: 840"17" LOAI 5 GI | D14: L'espace de la douleur chez Loaisel de Tréogate : 1752-1812 / Raphaël Gimenez | E14: Fleury-sur-Orne : Minard, 1993 | F14: Gimenez, Raphaël 070 | G14: 1992 | H14: TROI | I14: LL | J14: 1
A15: 237284 | B15: 37504000011062 | C15: 81.043(082) ANT | D15: Anthologie de l'amour sublime / [publ. par] Benjamin Péret | E15: Paris : A. Michel, 1988 | G15: 1988 | H15: TROI | I15: LL | J15: 1
A16: 237283 | B16: 37504000011070 | C16: 81-4 LEJ | D16: Je est un autre : l'autobiographie, de la littérature aux médias / Philippe Lejeune | E16: Paris : Éditions du Seuil, 1980 | F16: Lejeune, Philippe 1938-.... 070 | G16: 1980 | H16: TROI | I16: LL | J16: 7
A17: 239496 | B17: 37504000011104 | C17: 840"19" GUIL 4 EL | D17: Elle / Guillevic ; [ill. par] Pierre-Yves Gervais | E17: [Paris] : Deyrolle éd., 1993 | F17: Guillevic, Eugène 1907-1997 070 | G17: 1993 | H17: TROI | I17: LL | J17: 1
A18: 236486 | B18: 37504000011112 | C18: 840"19" LEIR 4 EV | D18: L'évasion souterraine / Michel Leiris ; [texte établi et présenté par Catherine Maubon] ; [ill. de Xavier] | E18: [Saint-Clément] : Fata Morgana, 1992 | F18: Leiris, Michel 1901-1990 070 | G18: 1992 | H18: TROI | I18: LL | J18: 2
A19: 236538 | B19: 37504000011153 | C19: 840"19" ARAG 4 LA | D19: Lautréamont et nous / Aragon | E19: Pin-Balma route de l'Eglise, 31130 : Sables, 1992 | F19: Aragon, Louis 1897-1982 | G19: 1992 | H19: TROI | I19: LL | J19: 1
A20: 237245 | B20: 37504000012011 | C20: 840"19" VALE 5 JA | D20: Paul Valéry / par Michel Jarrety | E20: Paris : Hachette supérieur, 1992 | F20: Jarrety, Michel 1953-.... 070 | G20: 1992 | H20: TROI | I20: LL | J20: 3
A21: 237521 | B21: 37504000012193 | C21: 886.1 KIS. 4 CA | D21: La leçon d'anatomie / Danilo Kiš ; trad. du serbo-croate par Pascale Delpech | E21: Paris : Fayard, 1993 | F21: Kiš, Danilo 1935-1989 | G21: 1993 | H21: TROI | I21: LL | J21: 1
A22: 232857 | B22: 37504000012607 | C22: 840"19" GRAI 4 OM | D22: L'ombre de la bête / Patrick Grainville | E22: Paris : Balland, 1993 | F22: Grainville, Patrick 1947-.... | G22: 1993 | H22: TROI | I22: LL | J22: 1
A23: 238164 | B23: 37504000013365 | C23: 830"19" BALL 4 FL | D23: La fuite hors du temps : journal 1913-1921 / Hugo Ball ; préf. de Hermann Hesse ; trad. de l'allemand par Sabine Wolf | E23: Monaco [Paris] : Éd. du Rocher, 1993 | F23: Ball, Hugo 1886-1927 070 | G23: 1993 | H23: TROI | I23: LL | J23: 4
A24: 238238 | B24: 37504000013449 | C24: 81 RAB | D24: La pénultième est morte : spectographies de la modernité... / Jean-Michel Rabat | E24: Seyssel : Champ Vallon, 1993 | F24: Rabaté, Jean-Michel 1949-.... 070 | G24: 1993 | H24: TROI | I24: LL | J24: 3
A25: 238266 | B25: 37504000013613 | C25: 840(03) DIC | D25: Dictionnaire des oeuvres érotiques : domaine français | E25: Paris : Mercure de France, 1971 | G25: 1971 | H25: TROI | I25: LL | J25: 2
A26: 237870 | B26: 37504000013662 | C26: 840"19" COCT 44 | D26: Correspondance / Jacques-Émile Blanche, Jean Cocteau ; éd. établie et présentée par Maryse Renault-Garneau | E26: Paris : la Table ronde, 1993 | F26: Blanche, Jacques-Émile 1861-1942 | G26: 1993 | H26: TROI | I26: LL | J26: 2
A27: 237808 | B27: 37504000013753 | C27: 840"19" AUDI 5 CO | D27: Audiberti, cavalier seul : colloque international / organisé par la Bibliothèque nationale et l'Association des amis de | E27: Paris : Bibliothèque nationale, 1992 | G27: 1992 | H27: TROI | I27: LL | J27: 1
A28: 238248 | B28: 37504000013837 | C28: 840"18" HUGO 6 | D28: Victor Hugo peintre : Venise, Galleria d'Arte Moderna Ca' Pesaro, 13 mars-23 mai 1993 | E28: Milan : Mazzotta, 1993 | G28: 1993 | H28: TROI | I28: LL | J28: 2
A29: 239546 | B29: 37504000014298 | C29: 840"19" PERE.G 4 CH | D29: Les choses : une histoire des années soixante / Georges Perec | E29: Paris : Julliard, 1993 | F29: Perec, Georges 1936-1982 070 | G29: 1993 | H29: TROI | I29: LL | J29: 8
A30: 239616 | B30: 37504000014397 | C30: 840"19" DAUM 5 RE | D30: René Daumal / dossier conçu et dirigé par Pascal Sigoda | E30: Lausanne : Age d'homme, 1993 | G30: 1993 | H30: TROI | I30: LL | J30: 5
A31: 234516 | B31: 37504000015360 | C31: 846.1 COSS 4 VI | D31: La violence et la dérision : roman / Albert Cossery | E31: Paris : J. Losfeld, 1993 | F31: Cossery, Albert 1913-2008 070 | G31: 1993 | H31: TROI | I31: LL | J31: 1
A32: 234519 | B32: 37504000015378 | C32: 840"19" RACH.M 4 MO | D32: Mon étrange plaisir / Rachilde ; préf. de Edith Silve | E32: [Paris] : J. Losfeld, 1993 | F32: Rachilde 1860-1953 070 | G32: 1993 | H32: TROI | I32: LL | J32: 1
A33: 240068 | B33: 37504000016863 | C33: 869 CARV.J 4 AR | D33: Os armários vazios / Maria Judite de Carvalho | E33: Lisboa : Bertrand, 1978 | F33: Carvalho, Maria Judite de 1921-1998 | G33: 1978 | H33: TROI | I33: LL | J33: 1
A34: 238913 | B34: 37504000018406 | C34: 868.47 ARGU 5 JO | D34: José María Arguedas : indigenismo y mestizaje cultural como crisis contemporánea hispanoamericana / José Carlos Rovira ( | E34: Barcelona : Anthropos, 1992 | G34: 1992 | H34: TROI | I34: LL | J34: 1
A35: 239549 | B35: 37504000018935 | C35: 840"19" FOLL 4 AG | D35: Agendas 1926-1971 / Jean Follain ; éd. établie et annot. par Claire Paulhan | E35: Paris : Seghers, 1993 | F35: Follain, Jean 1903-1971 070 | G35: 1993 | H35: TROI | I35: LL | J35: 1
A36: 240133 | B36: 37504000019974 | C36: 820"15" SHAK 4 TW | D36: La Nuit des rois / William Shakespeare ; adapt. de Alexis Curvers. Épiphanie, révoltes et carnavals : postface / [Alex | E36: Paris : Actes Sud - Papiers, 1990 | F36: Shakespeare, William 1564-1616 070 | G36: 1990 | H36: TROI | I36: LL | J36: 1
A37: 230589 | B37: 37504000020634 | C37: 820"17" BLAK 2 | D37: Les chants de l'innocence / Blake ; trad. et postf. de Alain Suied | E37: Paris : Arfuyen, 1992 | F37: Blake, William 1757-1827 070 | G37: 1992 | H37: TROI | I37: LL | J37: 1
A38: 230579 | B38: 37504000020790 | C38: 840(091) GOU | D38: Gens de lettres, écrivains et bohèmes : l'imaginaire littéraire : 1630-1900 / Jean-M. Goulemot et Daniel Oster | E38: Paris : Minerve, 1992 | F38: Goulemot, Jean 1937-2023 070 | G38: 1992 | H38: TROI | I38: LL | J38: 1
A39: 230705 | B39: 37504000020832 | C39: 84.91 LEC | D39: La chair du verbe : histoire et poétique des surréalismes de langue française / Bernard Lecherbonnier | E39: Paris : Publisud, 1992 | F39: Lecherbonnier, Bernard 1942-.... | G39: 1992 | H39: TROI | I39: LL | J39: 2
A40: 231923 | B40: 37504000023349 | C40: 840"18" DAUD 4 EN | D40: L'enterrement d'une étoile ou la Fedor / Alphonse Daudet ; préf. de Laurent Valette | E40: Morsang-sur-Orge : Safrat, 1992 | F40: Daudet, Alphonse 1840-1897 | G40: 1992 | H40: TROI | I40: LL | J40: 2
...
