Workbook

Sheet Base de donnée
B2: Lundi | F2: Mardi | N2: Mercredi | T2: Jeudi | AB2: Vendredi
B4: ='Cardio (sur machine) 11h15-12h'!B3 -> Cardio (sur machine) | C4: ='Cardio (sur machine) 11h15-12h'!C3 -> 11h15-12h00 | D4: ='Marche fractionnée 14h-15h'!B3 -> Marche fractionnée | E4: ='Marche fractionnée 14h-15h'!C3 -> 14h-15h | F4: ='Gym séniors 10h30-11h30'!B3 -> Gym séniors | G4: ='Gym séniors 10h30-11h30'!C3 -> 10h30-11h30 | H4: ='Marche lente 10h30-11h30'!B3 -> Marche lente | I4: ='Marche lente 10h30-11h30'!C3 -> 10h30-11h30 | J4: ='Activité aquatique 16h15-17h'!B3 -> Activité aquatique | K4: ='Activité aquatique 16h15-17h'!C3 -> 16h15-17h00 | L4: ='Cardio+renfo 17h30-18h30'!B3 -> Cardio&renfo | M4: ='Cardio+renfo 17h30-18h30'!C3 -> 17h30-18h30
B6: Nom | C6: Prénom | D6: Nom | E6: Prénom | F6: Nom | G6: Prénom | H6: Nom | I6: Prénom | J6: Nom | K6: Prénom | L6: Nom | M6: Prénom | N6: Nom | O6: Prénom | P6: Nom | Q6: Prénom | R6: Nom | S6: Prénom | T6: Nom | U6: Prénom | V6: Nom | W6: Prénom | X6: Nom | Y6: Prénom | Z6: Nom | AA6: Prénom | AB6: Nom | AC6: Prénom | AD6: Nom | AE6: Prénom
A7: 1 | B7: Blanc | C7: Jean | D7: Mamud | E7: Sylvie
A8: =A7+1 -> 2 | B8: Rouge | C8: Raymond
A9: =A8+1 -> 3 | B9: Noir | C9: Huguette
A10: =A9+1 -> 4 | B10: jaune | C10: George
A11: =A10+1 -> 5 | B11: Violet | C11: Antoinette
A12: =A11+1 -> 6
A13: =A12+1 -> 7
A14: =A13+1 -> 8
A15: =A14+1 -> 9
A16: =A15+1 -> 10
A17: =A16+1 -> 11
A18: =A17+1 -> 12
A19: =A18+1 -> 13
A20: =A19+1 -> 14
A21: =A20+1 -> 15
A22: =A21+1 -> 16
A23: =A22+1 -> 17
... A26: =A25+1 -> 20
A29: Code couleur:
A30: Cardiaque
A31: Cancer
A32: Diabète
A33: Ecole

Sheet Lundi

Sheet Cardio (sur machine) 11h15-12h
C2: Horaire:
A3: Activité: | B3: Cardio (sur machine) | C3: 11h15-12h00
B6: Nom | C6: Prénom | D6: Présence | E6: Absence | F6: Absentéisme(%) | G6: 45355 | H6: =G6+7 -> 45362 | I6: =H6+7 -> 45369 | J6: =I6+7 -> 45376 | K6: =J6+7 -> 45383 | L6: =K6+7 -> 45390 | M6: =L6+7 -> 45397 | N6: =M6+7 -> 45404 | O6: =N6+7 -> 45411 | ... AX6: =AW6+7 -> 45656
A7: 1 | B7: ='Base de donnée'!B7 -> Blanc | C7: ='Base de donnée'!C7 -> Jean | D7: =COUNTIF($G7:$AX7,"Pré") -> 3 | E7: =COUNTIF($G7:$AX7,"Abs") -> 3 | F7: =E7/(D7+E7) -> 0.5 | G7: Pré | H7: Pré | I7: Abs | J7: Abs | K7: Abs | L7: Pré
A8: =A7+1 -> 2 | B8: ='Base de donnée'!B8 -> Rouge | C8: ='Base de donnée'!C8 -> Raymond | D8: =COUNTIF($G8:$AX8,"Pré") -> 2 | E8: =COUNTIF($G8:$AX8,"Abs") -> 0 | F8: =E8/(D8+E8) -> 0 | G8: Pré | H8: Pré
A9: =A8+1 -> 3 | B9: ='Base de donnée'!B9 -> Noir | C9: ='Base de donnée'!C9 -> Huguette | D9: =COUNTIF($G9:$AX9,"Pré") -> 1 | E9: =COUNTIF($G9:$AX9,"Abs") -> 1 | F9: =E9/(D9+E9) -> 0.5 | G9: Pré | H9: Abs
A10: =A9+1 -> 4 | B10: ='Base de donnée'!B10 -> jaune | C10: ='Base de donnée'!C10 -> George | D10: =COUNTIF($G10:$AX10,"Pré") -> 1 | E10: =COUNTIF($G10:$AX10,"Abs") -> 0 | F10: =E10/(D10+E10) -> 0 | G10: Pré
A11: =A10+1 -> 5 | B11: ='Base de donnée'!B11 -> Violet | C11: ='Base de donnée'!C11 -> Antoinette | D11: =COUNTIF($G11:$AX11,"Pré") -> 0 | E11: =COUNTIF($G11:$AX11,"Abs") -> 1 | F11: =E11/(D11+E11) -> 1 | G11: Abs
A12: =A11+1 -> 6 | B12: ='Base de donnée'!B12 -> 0 | C12: ='Base de donnée'!C12 -> 0 | D12: =COUNTIF($G12:$AX12,"Pré") -> 0 | E12: =COUNTIF($G12:$AX12,"Abs") -> 1 | F12: =E12/(D12+E12) -> 1 | G12: Abs
A13: =A12+1 -> 7 | B13: ='Base de donnée'!B13 -> 0 | C13: ='Base de donnée'!C13 -> 0 | D13: =COUNTIF($G13:$AX13,"Pré") -> 0 | E13: =COUNTIF($G13:$AX13,"Abs") -> 1 | F13: =E13/(D13+E13) -> 1 | G13: Abs
A14: =A13+1 -> 8 | B14: ='Base de donnée'!B14 -> 0 | C14: ='Base de donnée'!C14 -> 0 | D14: =COUNTIF($G14:$AX14,"Pré") -> 0 | E14: =COUNTIF($G14:$AX14,"Abs") -> 1 | F14: =E14/(D14+E14) -> 1 | G14: Abs
A15: =A14+1 -> 9 | B15: ='Base de donnée'!B15 -> 0 | C15: ='Base de donnée'!C15 -> 0 | D15: =COUNTIF($G15:$AX15,"Pré") -> 1 | E15: =COUNTIF($G15:$AX15,"Abs") -> 0 | F15: =E15/(D15+E15) -> 0 | G15: Pré
A16: =A15+1 -> 10 | B16: ='Base de donnée'!B16 -> 0 | C16: ='Base de donnée'!C16 -> 0 | D16: =COUNTIF($G16:$AX16,"Pré") -> 1 | E16: =COUNTIF($G16:$AX16,"Abs") -> 0 | F16: =E16/(D16+E16) -> 0 | G16: Pré
A17: =A16+1 -> 11 | B17: ='Base de donnée'!B17 -> 0 | C17: ='Base de donnée'!C17 -> 0 | D17: =COUNTIF($G17:$AX17,"Pré") -> 1 | E17: =COUNTIF($G17:$AX17,"Abs") -> 0 | F17: =E17/(D17+E17) -> 0 | G17: Pré
A18: =A17+1 -> 12 | B18: ='Base de donnée'!B18 -> 0 | C18: ='Base de donnée'!C18 -> 0 | D18: =COUNTIF($G18:$AX18,"Pré") -> 1 | E18: =COUNTIF($G18:$AX18,"Abs") -> 0 | F18: =E18/(D18+E18) -> 0 | G18: Pré
A19: =A18+1 -> 13 | B19: ='Base de donnée'!B19 -> 0 | C19: ='Base de donnée'!C19 -> 0 | D19: =COUNTIF($G19:$AX19,"Pré") -> 1 | E19: =COUNTIF($G19:$AX19,"Abs") -> 0 | F19: =E19/(D19+E19) -> 0 | G19: Pré
A20: =A19+1 -> 14 | B20: ='Base de donnée'!B20 -> 0 | C20: ='Base de donnée'!C20 -> 0 | D20: =COUNTIF($G20:$AX20,"Pré") -> 0 | E20: =COUNTIF($G20:$AX20,"Abs") -> 0 | F20: =E20/(D20+E20) -> #DIV/0!
A21: =A20+1 -> 15 | B21: ='Base de donnée'!B21 -> 0 | C21: ='Base de donnée'!C21 -> 0 | D21: =COUNTIF($G21:$AX21,"Pré") -> 0 | E21: =COUNTIF($G21:$AX21,"Abs") -> 0 | F21: =E21/(D21+E21) -> #DIV/0!
A22: =A21+1 -> 16 | B22: ='Base de donnée'!B22 -> 0 | C22: ='Base de donnée'!C22 -> 0 | D22: =COUNTIF($G22:$AX22,"Pré") -> 0 | E22: =COUNTIF($G22:$AX22,"Abs") -> 0 | F22: =E22/(D22+E22) -> #DIV/0!
A23: =A22+1 -> 17 | B23: ='Base de donnée'!B23 -> 0 | C23: ='Base de donnée'!C23 -> 0 | D23: =COUNTIF($G23:$AX23,"Pré") -> 0 | E23: =COUNTIF($G23:$AX23,"Abs") -> 0 | F23: =E23/(D23+E23) -> #DIV/0!
A24: =A23+1 -> 18 | B24: ='Base de donnée'!B24 -> 0 | C24: ='Base de donnée'!C24 -> 0 | D24: =COUNTIF($G24:$AX24,"Pré") -> 0 | E24: =COUNTIF($G24:$AX24,"Abs") -> 0 | F24: =E24/(D24+E24) -> #DIV/0!
A25: =A24+1 -> 19 | B25: ='Base de donnée'!B25 -> 0 | C25: ='Base de donnée'!C25 -> 0 | D25: =COUNTIF($G25:$AX25,"Pré") -> 0 | E25: =COUNTIF($G25:$AX25,"Abs") -> 0 | F25: =E25/(D25+E25) -> #DIV/0!
A26: =A25+1 -> 20 | B26: ='Base de donnée'!B26 -> 0 | C26: ='Base de donnée'!C26 -> 0 | D26: =COUNTIF($G26:$AX26,"Pré") -> 0 | E26: =COUNTIF($G26:$AX26,"Abs") -> 0 | F26: =E26/(D26+E26) -> #DIV/0!
A28: Code couleur:
B29: Cardiaque
B30: Cancer
B31: Diabète
B32: Epnak

Sheet Marche fractionnée 14h-15h
C2: Horaire:
A3: Activité: | B3: Marche fractionnée | C3: 14h-15h
B6: Nom | C6: Prénom | D6: Présence | E6: Absence | F6: Absentéisme(%) | G6: 45355 | H6: =G6+7 -> 45362 | I6: =H6+7 -> 45369 | J6: =I6+7 -> 45376 | K6: =J6+7 -> 45383 | L6: =K6+7 -> 45390 | M6: =L6+7 -> 45397 | N6: =M6+7 -> 45404 | O6: =N6+7 -> 45411 | ... AX6: =AW6+7 -> 45656
A7: 1 | B7: ='Base de donnée'!D7 -> Mamud | C7: ='Base de donnée'!E7 -> Sylvie | D7: =COUNTIF($G7:$AX7,"Pré") -> 1 | E7: =COUNTIF($G7:$AX7,"Abs") -> 0 | F7: =E7/(D7+E7) -> 0 | G7: Pré
A8: =A7+1 -> 2 | B8: ='Base de donnée'!D8 -> 0 | C8: ='Base de donnée'!E8 -> 0 | D8: =COUNTIF($G8:$AX8,"Pré") -> 1 | E8: =COUNTIF($G8:$AX8,"Abs") -> 0 | F8: =E8/(D8+E8) -> 0 | G8: Pré
A9: =A8+1 -> 3 | B9: ='Base de donnée'!D9 -> 0 | C9: ='Base de donnée'!E9 -> 0 | D9: =COUNTIF($G9:$AX9,"Pré") -> 1 | E9: =COUNTIF($G9:$AX9,"Abs") -> 0 | F9: =E9/(D9+E9) -> 0 | G9: Pré
A10: =A9+1 -> 4 | B10: ='Base de donnée'!D10 -> 0 | C10: ='Base de donnée'!E10 -> 0 | D10: =COUNTIF($G10:$AX10,"Pré") -> 1 | E10: =COUNTIF($G10:$AX10,"Abs") -> 0 | F10: =E10/(D10+E10) -> 0 | G10: Pré
A11: =A10+1 -> 5 | B11: ='Base de donnée'!D11 -> 0 | C11: ='Base de donnée'!E11 -> 0 | D11: =COUNTIF($G11:$AX11,"Pré") -> 0 | E11: =COUNTIF($G11:$AX11,"Abs") -> 1 | F11: =E11/(D11+E11) -> 1 | G11: Abs
A12: =A11+1 -> 6 | B12: ='Base de donnée'!D12 -> 0 | C12: ='Base de donnée'!E12 -> 0 | D12: =COUNTIF($G12:$AX12,"Pré") -> 0 | E12: =COUNTIF($G12:$AX12,"Abs") -> 1 | F12: =E12/(D12+E12) -> 1 | G12: Abs
A13: =A12+1 -> 7 | B13: ='Base de donnée'!D13 -> 0 | C13: ='Base de donnée'!E13 -> 0 | D13: =COUNTIF($G13:$AX13,"Pré") -> 1 | E13: =COUNTIF($G13:$AX13,"Abs") -> 0 | F13: =E13/(D13+E13) -> 0 | G13: Pré
A14: =A13+1 -> 8 | B14: ='Base de donnée'!D14 -> 0 | C14: ='Base de donnée'!E14 -> 0 | D14: =COUNTIF($G14:$AX14,"Pré") -> 1 | E14: =COUNTIF($G14:$AX14,"Abs") -> 0 | F14: =E14/(D14+E14) -> 0 | G14: Pré
A15: =A14+1 -> 9 | B15: ='Base de donnée'!D15 -> 0 | C15: ='Base de donnée'!E15 -> 0 | D15: =COUNTIF($G15:$AX15,"Pré") -> 0 | E15: =COUNTIF($G15:$AX15,"Abs") -> 0 | F15: =E15/(D15+E15) -> #DIV/0!
A16: =A15+1 -> 10 | B16: ='Base de donnée'!D16 -> 0 | C16: ='Base de donnée'!E16 -> 0 | D16: =COUNTIF($G16:$AX16,"Pré") -> 0 | E16: =COUNTIF($G16:$AX16,"Abs") -> 0 | F16: =E16/(D16+E16) -> #DIV/0!
A17: =A16+1 -> 11 | B17: ='Base de donnée'!D17 -> 0 | C17: ='Base de donnée'!E17 -> 0 | D17: =COUNTIF($G17:$AX17,"Pré") -> 0 | E17: =COUNTIF($G17:$AX17,"Abs") -> 0 | F17: =E17/(D17+E17) -> #DIV/0!
A18: =A17+1 -> 12 | B18: ='Base de donnée'!D18 -> 0 | C18: ='Base de donnée'!E18 -> 0 | D18: =COUNTIF($G18:$AX18,"Pré") -> 0 | E18: =COUNTIF($G18:$AX18,"Abs") -> 0 | F18: =E18/(D18+E18) -> #DIV/0!
A19: =A18+1 -> 13 | B19: ='Base de donnée'!D19 -> 0 | C19: ='Base de donnée'!E19 -> 0 | D19: =COUNTIF($G19:$AX19,"Pré") -> 0 | E19: =COUNTIF($G19:$AX19,"Abs") -> 0 | F19: =E19/(D19+E19) -> #DIV/0!
A20: =A19+1 -> 14 | B20: ='Base de donnée'!D20 -> 0 | C20: ='Base de donnée'!E20 -> 0 | D20: =COUNTIF($G20:$AX20,"Pré") -> 0 | E20: =COUNTIF($G20:$AX20,"Abs") -> 0 | F20: =E20/(D20+E20) -> #DIV/0!
A21: =A20+1 -> 15 | B21: ='Base de donnée'!D21 -> 0 | C21: ='Base de donnée'!E21 -> 0 | D21: =COUNTIF($G21:$AX21,"Pré") -> 0 | E21: =COUNTIF($G21:$AX21,"Abs") -> 0 | F21: =E21/(D21+E21) -> #DIV/0!
A22: =A21+1 -> 16 | B22: ='Base de donnée'!D22 -> 0 | C22: ='Base de donnée'!E22 -> 0 | D22: =COUNTIF($G22:$AX22,"Pré") -> 0 | E22: =COUNTIF($G22:$AX22,"Abs") -> 0 | F22: =E22/(D22+E22) -> #DIV/0!
A23: =A22+1 -> 17 | B23: ='Base de donnée'!D23 -> 0 | C23: ='Base de donnée'!E23 -> 0 | D23: =COUNTIF($G23:$AX23,"Pré") -> 0 | E23: =COUNTIF($G23:$AX23,"Abs") -> 0 | F23: =E23/(D23+E23) -> #DIV/0!
A24: =A23+1 -> 18 | B24: ='Base de donnée'!D24 -> 0 | C24: ='Base de donnée'!E24 -> 0 | D24: =COUNTIF($G24:$AX24,"Pré") -> 0 | E24: =COUNTIF($G24:$AX24,"Abs") -> 0 | F24: =E24/(D24+E24) -> #DIV/0!
A25: =A24+1 -> 19 | B25: ='Base de donnée'!D25 -> 0 | C25: ='Base de donnée'!E25 -> 0 | D25: =COUNTIF($G25:$AX25,"Pré") -> 0 | E25: =COUNTIF($G25:$AX25,"Abs") -> 0 | F25: =E25/(D25+E25) -> #DIV/0!
A26: =A25+1 -> 20 | B26: ='Base de donnée'!D26 -> 0 | C26: ='Base de donnée'!E26 -> 0 | D26: =COUNTIF($G26:$AX26,"Pré") -> 0 | E26: =COUNTIF($G26:$AX26,"Abs") -> 0 | F26: =E26/(D26+E26) -> #DIV/0!
A28: Code couleur:
B29: Cardiaque
B30: Cancer
B31: Diabète
B32: Epnak

Sheet Mardi

Sheet Gym séniors 10h30-11h30
C2: Horaire:
A3: Activité: | B3: Gym séniors | C3: 10h30-11h30
B6: Nom | C6: Prénom | D6: Présence | E6: Absence | F6: Absentéisme(%) | G6: 45355 | H6: =G6+7 -> 45362 | I6: =H6+7 -> 45369 | J6: =I6+7 -> 45376 | K6: =J6+7 -> 45383 | L6: =K6+7 -> 45390 | M6: =L6+7 -> 45397 | N6: =M6+7 -> 45404 | O6: =N6+7 -> 45411 | ... AX6: =AW6+7 -> 45656
A7: 1 | D7: =COUNTIF($G7:$AX7,"Pré") -> 1 | E7: =COUNTIF($G7:$AX7,"Abs") -> 0 | F7: =E7/(D7+E7) -> 0 | G7: Pré
A8: =A7+1 -> 2 | D8: =COUNTIF($G8:$AX8,"Pré") -> 1 | E8: =COUNTIF($G8:$AX8,"Abs") -> 0 | F8: =E8/(D8+E8) -> 0 | G8: Pré
A9: =A8+1 -> 3 | D9: =COUNTIF($G9:$AX9,"Pré") -> 0 | E9: =COUNTIF($G9:$AX9,"Abs") -> 1 | F9: =E9/(D9+E9) -> 1 | G9: Abs
A10: =A9+1 -> 4 | D10: =COUNTIF($G10:$AX10,"Pré") -> 1 | E10: =COUNTIF($G10:$AX10,"Abs") -> 0 | F10: =E10/(D10+E10) -> 0 | G10: Pré
A11: =A10+1 -> 5 | D11: =COUNTIF($G11:$AX11,"Pré") -> 1 | E11: =COUNTIF($G11:$AX11,"Abs") -> 0 | F11: =E11/(D11+E11) -> 0 | G11: Pré
A12: =A11+1 -> 6 | D12: =COUNTIF($G12:$AX12,"Pré") -> 1 | E12: =COUNTIF($G12:$AX12,"Abs") -> 0 | F12: =E12/(D12+E12) -> 0 | G12: Pré
A13: =A12+1 -> 7 | D13: =COUNTIF($G13:$AX13,"Pré") -> 1 | E13: =COUNTIF($G13:$AX13,"Abs") -> 0 | F13: =E13/(D13+E13) -> 0 | G13: Pré
A14: =A13+1 -> 8 | D14: =COUNTIF($G14:$AX14,"Pré") -> 1 | E14: =COUNTIF($G14:$AX14,"Abs") -> 0 | F14: =E14/(D14+E14) -> 0 | G14: Pré
A15: =A14+1 -> 9 | D15: =COUNTIF($G15:$AX15,"Pré") -> 1 | E15: =COUNTIF($G15:$AX15,"Abs") -> 0 | F15: =E15/(D15+E15) -> 0 | G15: Pré
A16: =A15+1 -> 10 | D16: =COUNTIF($G16:$AX16,"Pré") -> 0 | E16: =COUNTIF($G16:$AX16,"Abs") -> 1 | F16: =E16/(D16+E16) -> 1 | G16: Abs
A17: =A16+1 -> 11 | D17: =COUNTIF($G17:$AX17,"Pré") -> 1 | E17: =COUNTIF($G17:$AX17,"Abs") -> 0 | F17: =E17/(D17+E17) -> 0 | G17: Pré
A18: =A17+1 -> 12 | D18: =COUNTIF($G18:$AX18,"Pré") -> 1 | E18: =COUNTIF($G18:$AX18,"Abs") -> 0 | F18: =E18/(D18+E18) -> 0 | G18: Pré
A19: =A18+1 -> 13 | D19: =COUNTIF($G19:$AX19,"Pré") -> 0 | E19: =COUNTIF($G19:$AX19,"Abs") -> 0 | F19: =E19/(D19+E19) -> #DIV/0!
A20: =A19+1 -> 14 | D20: =COUNTIF($G20:$AX20,"Pré") -> 0 | E20: =COUNTIF($G20:$AX20,"Abs") -> 0 | F20: =E20/(D20+E20) -> #DIV/0!
A21: =A20+1 -> 15 | D21: =COUNTIF($G21:$AX21,"Pré") -> 0 | E21: =COUNTIF($G21:$AX21,"Abs") -> 0 | F21: =E21/(D21+E21) -> #DIV/0!
A22: =A21+1 -> 16 | D22: =COUNTIF($G22:$AX22,"Pré") -> 0 | E22: =COUNTIF($G22:$AX22,"Abs") -> 0 | F22: =E22/(D22+E22) -> #DIV/0!
A23: =A22+1 -> 17 | D23: =COUNTIF($G23:$AX23,"Pré") -> 0 | E23: =COUNTIF($G23:$AX23,"Abs") -> 0 | F23: =E23/(D23+E23) -> #DIV/0!
A24: =A23+1 -> 18 | D24: =COUNTIF($G24:$AX24,"Pré") -> 0 | E24: =COUNTIF($G24:$AX24,"Abs") -> 0 | F24: =E24/(D24+E24) -> #DIV/0!
A25: =A24+1 -> 19 | D25: =COUNTIF($G25:$AX25,"Pré") -> 0 | E25: =COUNTIF($G25:$AX25,"Abs") -> 0 | F25: =E25/(D25+E25) -> #DIV/0!
A26: =A25+1 -> 20 | D26: =COUNTIF($G26:$AX26,"Pré") -> 0 | E26: =COUNTIF($G26:$AX26,"Abs") -> 0 | F26: =E26/(D26+E26) -> #DIV/0!
A28: Code couleur:
B29: Cardiaque
B30: Cancer
B31: Diabète
B32: Epnak

Sheet Marche lente 10h30-11h30
C2: Horaire:
A3: Activité: | B3: Marche lente | C3: 10h30-11h30
B6: Nom | C6: Prénom | D6: Présence | E6: Absence | F6: Absentéisme(%) | G6: 45355 | H6: =G6+7 -> 45362 | I6: =H6+7 -> 45369 | J6: =I6+7 -> 45376 | K6: =J6+7 -> 45383 | L6: =K6+7 -> 45390 | M6: =L6+7 -> 45397 | N6: =M6+7 -> 45404 | O6: =N6+7 -> 45411 | ... AX6: =AW6+7 -> 45656
A7: 1 | D7: =COUNTIF($G7:$AX7,"Pré") -> 0 | E7: =COUNTIF($G7:$AX7,"Abs") -> 0 | F7: =E7/(D7+E7) -> #DIV/0!
A8: =A7+1 -> 2 | D8: =COUNTIF($G8:$AX8,"Pré") -> 0 | E8: =COUNTIF($G8:$AX8,"Abs") -> 0 | F8: =E8/(D8+E8) -> #DIV/0!
A9: =A8+1 -> 3 | D9: =COUNTIF($G9:$AX9,"Pré") -> 0 | E9: =COUNTIF($G9:$AX9,"Abs") -> 0 | F9: =E9/(D9+E9) -> #DIV/0!
A10: =A9+1 -> 4 | D10: =COUNTIF($G10:$AX10,"Pré") -> 0 | E10: =COUNTIF($G10:$AX10,"Abs") -> 0 | F10: =E10/(D10+E10) -> #DIV/0!
A11: =A10+1 -> 5 | D11: =COUNTIF($G11:$AX11,"Pré") -> 0 | E11: =COUNTIF($G11:$AX11,"Abs") -> 0 | F11: =E11/(D11+E11) -> #DIV/0!
A12: =A11+1 -> 6 | D12: =COUNTIF($G12:$AX12,"Pré") -> 0 | E12: =COUNTIF($G12:$AX12,"Abs") -> 0 | F12: =E12/(D12+E12) -> #DIV/0!
A13: =A12+1 -> 7 | D13: =COUNTIF($G13:$AX13,"Pré") -> 0 | E13: =COUNTIF($G13:$AX13,"Abs") -> 0 | F13: =E13/(D13+E13) -> #DIV/0!
A14: =A13+1 -> 8 | D14: =COUNTIF($G14:$AX14,"Pré") -> 0 | E14: =COUNTIF($G14:$AX14,"Abs") -> 0 | F14: =E14/(D14+E14) -> #DIV/0!
A15: =A14+1 -> 9 | D15: =COUNTIF($G15:$AX15,"Pré") -> 0 | E15: =COUNTIF($G15:$AX15,"Abs") -> 0 | F15: =E15/(D15+E15) -> #DIV/0!
A16: =A15+1 -> 10 | D16: =COUNTIF($G16:$AX16,"Pré") -> 0 | E16: =COUNTIF($G16:$AX16,"Abs") -> 0 | F16: =E16/(D16+E16) -> #DIV/0!
A17: =A16+1 -> 11 | D17: =COUNTIF($G17:$AX17,"Pré") -> 0 | E17: =COUNTIF($G17:$AX17,"Abs") -> 0 | F17: =E17/(D17+E17) -> #DIV/0!
A18: =A17+1 -> 12 | D18: =COUNTIF($G18:$AX18,"Pré") -> 0 | E18: =COUNTIF($G18:$AX18,"Abs") -> 0 | F18: =E18/(D18+E18) -> #DIV/0!
A19: =A18+1 -> 13 | D19: =COUNTIF($G19:$AX19,"Pré") -> 0 | E19: =COUNTIF($G19:$AX19,"Abs") -> 0 | F19: =E19/(D19+E19) -> #DIV/0!
... A26: =A25+1 -> 20 | D26: =COUNTIF($G26:$AX26,"Pré") -> 0 | E26: =COUNTIF($G26:$AX26,"Abs") -> 0 | F26: =E26/(D26+E26) -> #DIV/0!
A28: Code couleur:
B29: Cardiaque
B30: Cancer
B31: Diabète
B32: Epnak

Sheet Activité aquatique 16h15-17h
C2: Horaire:
A3: Activité: | B3: Activité aquatique | C3: 16h15-17h00
B6: Nom | C6: Prénom | D6: Présence | E6: Absence | F6: Absentéisme(%) | G6: 45355 | H6: =G6+7 -> 45362 | I6: =H6+7 -> 45369 | J6: =I6+7 -> 45376 | K6: =J6+7 -> 45383 | L6: =K6+7 -> 45390 | M6: =L6+7 -> 45397 | N6: =M6+7 -> 45404 | O6: =N6+7 -> 45411 | ... AX6: =AW6+7 -> 45656
A7: 1 | D7: =COUNTIF($G7:$AX7,"Pré") -> 1 | E7: =COUNTIF($G7:$AX7,"Abs") -> 0 | F7: =E7/(D7+E7) -> 0 | G7: Pré
A8: =A7+1 -> 2 | D8: =COUNTIF($G8:$AX8,"Pré") -> 1 | E8: =COUNTIF($G8:$AX8,"Abs") -> 0 | F8: =E8/(D8+E8) -> 0 | G8: Pré
A9: =A8+1 -> 3 | D9: =COUNTIF($G9:$AX9,"Pré") -> 1 | E9: =COUNTIF($G9:$AX9,"Abs") -> 0 | F9: =E9/(D9+E9) -> 0 | G9: Pré
A10: =A9+1 -> 4 | D10: =COUNTIF($G10:$AX10,"Pré") -> 1 | E10: =COUNTIF($G10:$AX10,"Abs") -> 0 | F10: =E10/(D10+E10) -> 0 | G10: Pré
A11: =A10+1 -> 5 | D11: =COUNTIF($G11:$AX11,"Pré") -> 0 | E11: =COUNTIF($G11:$AX11,"Abs") -> 1 | F11: =E11/(D11+E11) -> 1 | G11: Abs
A12: =A11+1 -> 6 | D12: =COUNTIF($G12:$AX12,"Pré") -> 0 | E12: =COUNTIF($G12:$AX12,"Abs") -> 1 | F12: =E12/(D12+E12) -> 1 | G12: Abs
A13: =A12+1 -> 7 | D13: =COUNTIF($G13:$AX13,"Pré") -> 1 | E13: =COUNTIF($G13:$AX13,"Abs") -> 0 | F13: =E13/(D13+E13) -> 0 | G13: Pré
A14: =A13+1 -> 8 | D14: =COUNTIF($G14:$AX14,"Pré") -> 1 | E14: =COUNTIF($G14:$AX14,"Abs") -> 0 | F14: =E14/(D14+E14) -> 0 | G14: Pré
A15: =A14+1 -> 9 | D15: =COUNTIF($G15:$AX15,"Pré") -> 0 | E15: =COUNTIF($G15:$AX15,"Abs") -> 0 | F15: =E15/(D15+E15) -> #DIV/0!
A16: =A15+1 -> 10 | D16: =COUNTIF($G16:$AX16,"Pré") -> 0 | E16: =COUNTIF($G16:$AX16,"Abs") -> 0 | F16: =E16/(D16+E16) -> #DIV/0!
A17: =A16+1 -> 11 | D17: =COUNTIF($G17:$AX17,"Pré") -> 0 | E17: =COUNTIF($G17:$AX17,"Abs") -> 0 | F17: =E17/(D17+E17) -> #DIV/0!
A18: =A17+1 -> 12 | D18: =COUNTIF($G18:$AX18,"Pré") -> 0 | E18: =COUNTIF($G18:$AX18,"Abs") -> 0 | F18: =E18/(D18+E18) -> #DIV/0!
A19: =A18+1 -> 13 | D19: =COUNTIF($G19:$AX19,"Pré") -> 0 | E19: =COUNTIF($G19:$AX19,"Abs") -> 0 | F19: =E19/(D19+E19) -> #DIV/0!
A20: =A19+1 -> 14 | D20: =COUNTIF($G20:$AX20,"Pré") -> 0 | E20: =COUNTIF($G20:$AX20,"Abs") -> 0 | F20: =E20/(D20+E20) -> #DIV/0!
A21: =A20+1 -> 15 | D21: =COUNTIF($G21:$AX21,"Pré") -> 0 | E21: =COUNTIF($G21:$AX21,"Abs") -> 0 | F21: =E21/(D21+E21) -> #DIV/0!
A22: =A21+1 -> 16 | D22: =COUNTIF($G22:$AX22,"Pré") -> 0 | E22: =COUNTIF($G22:$AX22,"Abs") -> 0 | F22: =E22/(D22+E22) -> #DIV/0!
A23: =A22+1 -> 17 | D23: =COUNTIF($G23:$AX23,"Pré") -> 0 | E23: =COUNTIF($G23:$AX23,"Abs") -> 0 | F23: =E23/(D23+E23) -> #DIV/0!
A24: =A23+1 -> 18 | D24: =COUNTIF($G24:$AX24,"Pré") -> 0 | E24: =COUNTIF($G24:$AX24,"Abs") -> 0 | F24: =E24/(D24+E24) -> #DIV/0!
A25: =A24+1 -> 19 | D25: =COUNTIF($G25:$AX25,"Pré") -> 0 | E25: =COUNTIF($G25:$AX25,"Abs") -> 0 | F25: =E25/(D25+E25) -> #DIV/0!
A26: =A25+1 -> 20 | D26: =COUNTIF($G26:$AX26,"Pré") -> 0 | E26: =COUNTIF($G26:$AX26,"Abs") -> 0 | F26: =E26/(D26+E26) -> #DIV/0!
A28: Code couleur:
B29: Cardiaque
B30: Cancer
B31: Diabète
B32: Epnak

Sheet Cardio+renfo 17h30-18h30
C2: Horaire:
A3: Activité: | B3: Cardio&renfo | C3: 17h30-18h30
B6: Nom | C6: Prénom | D6: Présence | E6: Absence | F6: Absentéisme(%) | G6: 45355 | H6: =G6+7 -> 45362 | I6: =H6+7 -> 45369 | J6: =I6+7 -> 45376 | K6: =J6+7 -> 45383 | L6: =K6+7 -> 45390 | M6: =L6+7 -> 45397 | N6: =M6+7 -> 45404 | O6: =N6+7 -> 45411 | ... AX6: =AW6+7 -> 45656
A7: 1 | D7: =COUNTIF($G7:$AX7,"Pré") -> 1 | E7: =COUNTIF($G7:$AX7,"Abs") -> 0 | F7: =E7/(D7+E7) -> 0 | G7: Pré
A8: =A7+1 -> 2 | D8: =COUNTIF($G8:$AX8,"Pré") -> 1 | E8: =COUNTIF($G8:$AX8,"Abs") -> 0 | F8: =E8/(D8+E8) -> 0 | G8: Pré
A9: =A8+1 -> 3 | D9: =COUNTIF($G9:$AX9,"Pré") -> 1 | E9: =COUNTIF($G9:$AX9,"Abs") -> 0 | F9: =E9/(D9+E9) -> 0 | G9: Pré
A10: =A9+1 -> 4 | D10: =COUNTIF($G10:$AX10,"Pré") -> 1 | E10: =COUNTIF($G10:$AX10,"Abs") -> 0 | F10: =E10/(D10+E10) -> 0 | G10: Pré
A11: =A10+1 -> 5 | D11: =COUNTIF($G11:$AX11,"Pré") -> 1 | E11: =COUNTIF($G11:$AX11,"Abs") -> 0 | F11: =E11/(D11+E11) -> 0 | G11: Pré
A12: =A11+1 -> 6 | D12: =COUNTIF($G12:$AX12,"Pré") -> 0 | E12: =COUNTIF($G12:$AX12,"Abs") -> 0 | F12: =E12/(D12+E12) -> #DIV/0!
A13: =A12+1 -> 7 | D13: =COUNTIF($G13:$AX13,"Pré") -> 0 | E13: =COUNTIF($G13:$AX13,"Abs") -> 0 | F13: =E13/(D13+E13) -> #DIV/0!
A14: =A13+1 -> 8 | D14: =COUNTIF($G14:$AX14,"Pré") -> 0 | E14: =COUNTIF($G14:$AX14,"Abs") -> 0 | F14: =E14/(D14+E14) -> #DIV/0!
A15: =A14+1 -> 9 | D15: =COUNTIF($G15:$AX15,"Pré") -> 0 | E15: =COUNTIF($G15:$AX15,"Abs") -> 0 | F15: =E15/(D15+E15) -> #DIV/0!
A16: =A15+1 -> 10 | D16: =COUNTIF($G16:$AX16,"Pré") -> 0 | E16: =COUNTIF($G16:$AX16,"Abs") -> 0 | F16: =E16/(D16+E16) -> #DIV/0!
A17: =A16+1 -> 11 | D17: =COUNTIF($G17:$AX17,"Pré") -> 0 | E17: =COUNTIF($G17:$AX17,"Abs") -> 0 | F17: =E17/(D17+E17) -> #DIV/0!
A18: =A17+1 -> 12 | D18: =COUNTIF($G18:$AX18,"Pré") -> 0 | E18: =COUNTIF($G18:$AX18,"Abs") -> 0 | F18: =E18/(D18+E18) -> #DIV/0!
A19: =A18+1 -> 13 | D19: =COUNTIF($G19:$AX19,"Pré") -> 0 | E19: =COUNTIF($G19:$AX19,"Abs") -> 0 | F19: =E19/(D19+E19) -> #DIV/0!
A20: =A19+1 -> 14 | D20: =COUNTIF($G20:$AX20,"Pré") -> 0 | E20: =COUNTIF($G20:$AX20,"Abs") -> 0 | F20: =E20/(D20+E20) -> #DIV/0!
A21: =A20+1 -> 15 | D21: =COUNTIF($G21:$AX21,"Pré") -> 0 | E21: =COUNTIF($G21:$AX21,"Abs") -> 0 | F21: =E21/(D21+E21) -> #DIV/0!
A22: =A21+1 -> 16 | D22: =COUNTIF($G22:$AX22,"Pré") -> 0 | E22: =COUNTIF($G22:$AX22,"Abs") -> 0 | F22: =E22/(D22+E22) -> #DIV/0!
A23: =A22+1 -> 17 | D23: =COUNTIF($G23:$AX23,"Pré") -> 0 | E23: =COUNTIF($G23:$AX23,"Abs") -> 0 | F23: =E23/(D23+E23) -> #DIV/0!
... A26: =A25+1 -> 20 | D26: =COUNTIF($G26:$AX26,"Pré") -> 0 | E26: =COUNTIF($G26:$AX26,"Abs") -> 0 | F26: =E26/(D26+E26) -> #DIV/0!
A28: Code couleur:
B29: Cardiaque
B30: Cancer
B31: Diabète
B32: Epnak

Sheet Mercredi

Sheet Réveil musculaire 9h30-10h30
C2: Horaire:
A3: Activité: | B3: Réveil musculaire | C3: 9h30-10h30
B6: Nom | C6: Prénom | D6: Présence | E6: Absence | F6: Absentéisme(%) | G6: 45355 | H6: =G6+7 -> 45362 | I6: =H6+7 -> 45369 | J6: =I6+7 -> 45376 | K6: =J6+7 -> 45383 | L6: =K6+7 -> 45390 | M6: =L6+7 -> 45397 | N6: =M6+7 -> 45404 | O6: =N6+7 -> 45411 | ... AX6: =AW6+7 -> 45656
A7: 1 | D7: =COUNTIF($G7:$AX7,"Pré") -> 0 | E7: =COUNTIF($G7:$AX7,"Abs") -> 0 | F7: =E7/(D7+E7) -> #DIV/0!
A8: =A7+1 -> 2 | D8: =COUNTIF($G8:$AX8,"Pré") -> 0 | E8: =COUNTIF($G8:$AX8,"Abs") -> 0 | F8: =E8/(D8+E8) -> #DIV/0!
A9: =A8+1 -> 3 | D9: =COUNTIF($G9:$AX9,"Pré") -> 0 | E9: =COUNTIF($G9:$AX9,"Abs") -> 0 | F9: =E9/(D9+E9) -> #DIV/0!
A10: =A9+1 -> 4 | D10: =COUNTIF($G10:$AX10,"Pré") -> 0 | E10: =COUNTIF($G10:$AX10,"Abs") -> 0 | F10: =E10/(D10+E10) -> #DIV/0!
A11: =A10+1 -> 5 | D11: =COUNTIF($G11:$AX11,"Pré") -> 0 | E11: =COUNTIF($G11:$AX11,"Abs") -> 0 | F11: =E11/(D11+E11) -> #DIV/0!
A12: =A11+1 -> 6 | D12: =COUNTIF($G12:$AX12,"Pré") -> 0 | E12: =COUNTIF($G12:$AX12,"Abs") -> 0 | F12: =E12/(D12+E12) -> #DIV/0!
A13: =A12+1 -> 7 | D13: =COUNTIF($G13:$AX13,"Pré") -> 0 | E13: =COUNTIF($G13:$AX13,"Abs") -> 0 | F13: =E13/(D13+E13) -> #DIV/0!
A14: =A13+1 -> 8 | D14: =COUNTIF($G14:$AX14,"Pré") -> 0 | E14: =COUNTIF($G14:$AX14,"Abs") -> 0 | F14: =E14/(D14+E14) -> #DIV/0!
A15: =A14+1 -> 9 | D15: =COUNTIF($G15:$AX15,"Pré") -> 0 | E15: =COUNTIF($G15:$AX15,"Abs") -> 0 | F15: =E15/(D15+E15) -> #DIV/0!
A16: =A15+1 -> 10 | D16: =COUNTIF($G16:$AX16,"Pré") -> 0 | E16: =COUNTIF($G16:$AX16,"Abs") -> 0 | F16: =E16/(D16+E16) -> #DIV/0!
A17: =A16+1 -> 11 | D17: =COUNTIF($G17:$AX17,"Pré") -> 0 | E17: =COUNTIF($G17:$AX17,"Abs") -> 0 | F17: =E17/(D17+E17) -> #DIV/0!
A18: =A17+1 -> 12 | D18: =COUNTIF($G18:$AX18,"Pré") -> 0 | E18: =COUNTIF($G18:$AX18,"Abs") -> 0 | F18: =E18/(D18+E18) -> #DIV/0!
A19: =A18+1 -> 13 | D19: =COUNTIF($G19:$AX19,"Pré") -> 0 | E19: =COUNTIF($G19:$AX19,"Abs") -> 0 | F19: =E19/(D19+E19) -> #DIV/0!
... A26: =A25+1 -> 20 | D26: =COUNTIF($G26:$AX26,"Pré") -> 0 | E26: =COUNTIF($G26:$AX26,"Abs") -> 0 | F26: =E26/(D26+E26) -> #DIV/0!
A28: Code couleur:
B29: Cardiaque
B30: Cancer
B31: Diabète
B32: Epnak

Sheet Pilates initiation 11h-12h
C2: Horaire:
A3: Activité: | B3: Pilates initiation | C3: 11h-12h
B6: Nom | C6: Prénom | D6: Présence | E6: Absence | F6: Absentéisme(%) | G6: 45355 | H6: =G6+7 -> 45362 | I6: =H6+7 -> 45369 | J6: =I6+7 -> 45376 | K6: =J6+7 -> 45383 | L6: =K6+7 -> 45390 | M6: =L6+7 -> 45397 | N6: =M6+7 -> 45404 | O6: =N6+7 -> 45411 | ... AX6: =AW6+7 -> 45656
A7: 1 | D7: =COUNTIF($G7:$AX7,"Pré") -> 0 | E7: =COUNTIF($G7:$AX7,"Abs") -> 0 | F7: =E7/(D7+E7) -> #DIV/0!
A8: =A7+1 -> 2 | D8: =COUNTIF($G8:$AX8,"Pré") -> 0 | E8: =COUNTIF($G8:$AX8,"Abs") -> 0 | F8: =E8/(D8+E8) -> #DIV/0!
A9: =A8+1 -> 3 | D9: =COUNTIF($G9:$AX9,"Pré") -> 0 | E9: =COUNTIF($G9:$AX9,"Abs") -> 0 | F9: =E9/(D9+E9) -> #DIV/0!
A10: =A9+1 -> 4 | D10: =COUNTIF($G10:$AX10,"Pré") -> 0 | E10: =COUNTIF($G10:$AX10,"Abs") -> 0 | F10: =E10/(D10+E10) -> #DIV/0!
A11: =A10+1 -> 5 | D11: =COUNTIF($G11:$AX11,"Pré") -> 0 | E11: =COUNTIF($G11:$AX11,"Abs") -> 0 | F11: =E11/(D11+E11) -> #DIV/0!
A12: =A11+1 -> 6 | D12: =COUNTIF($G12:$AX12,"Pré") -> 0 | E12: =COUNTIF($G12:$AX12,"Abs") -> 0 | F12: =E12/(D12+E12) -> #DIV/0!
A13: =A12+1 -> 7 | D13: =COUNTIF($G13:$AX13,"Pré") -> 0 | E13: =COUNTIF($G13:$AX13,"Abs") -> 0 | F13: =E13/(D13+E13) -> #DIV/0!
A14: =A13+1 -> 8 | D14: =COUNTIF($G14:$AX14,"Pré") -> 0 | E14: =COUNTIF($G14:$AX14,"Abs") -> 0 | F14: =E14/(D14+E14) -> #DIV/0!
A15: =A14+1 -> 9 | D15: =COUNTIF($G15:$AX15,"Pré") -> 0 | E15: =COUNTIF($G15:$AX15,"Abs") -> 0 | F15: =E15/(D15+E15) -> #DIV/0!
A16: =A15+1 -> 10 | D16: =COUNTIF($G16:$AX16,"Pré") -> 0 | E16: =COUNTIF($G16:$AX16,"Abs") -> 0 | F16: =E16/(D16+E16) -> #DIV/0!
A17: =A16+1 -> 11 | D17: =COUNTIF($G17:$AX17,"Pré") -> 0 | E17: =COUNTIF($G17:$AX17,"Abs") -> 0 | F17: =E17/(D17+E17) -> #DIV/0!
A18: =A17+1 -> 12 | D18: =COUNTIF($G18:$AX18,"Pré") -> 0 | E18: =COUNTIF($G18:$AX18,"Abs") -> 0 | F18: =E18/(D18+E18) -> #DIV/0!
A19: =A18+1 -> 13 | D19: =COUNTIF($G19:$AX19,"Pré") -> 0 | E19: =COUNTIF($G19:$AX19,"Abs") -> 0 | F19: =E19/(D19+E19) -> #DIV/0!
... A26: =A25+1 -> 20 | D26: =COUNTIF($G26:$AX26,"Pré") -> 0 | E26: =COUNTIF($G26:$AX26,"Abs") -> 0 | F26: =E26/(D26+E26) -> #DIV/0!
A28: Code couleur:
B29: Cardiaque
B30: Cancer
B31: Diabète
B32: Epnak

Sheet Activité aquatique 12h15-13h
C2: Horaire:
A3: Activité: | B3: Activité aquatique | C3: 12h15-13h
B6: Nom | C6: Prénom | D6: Présence | E6: Absence | F6: Absentéisme(%) | G6: 45355 | H6: =G6+7 -> 45362 | I6: =H6+7 -> 45369 | J6: =I6+7 -> 45376 | K6: =J6+7 -> 45383 | L6: =K6+7 -> 45390 | M6: =L6+7 -> 45397 | N6: =M6+7 -> 45404 | O6: =N6+7 -> 45411 | ... AX6: =AW6+7 -> 45656
A7: 1 | D7: =COUNTIF($G7:$AX7,"Pré") -> 0 | E7: =COUNTIF($G7:$AX7,"Abs") -> 0 | F7: =E7/(D7+E7) -> #DIV/0!
A8: =A7+1 -> 2 | D8: =COUNTIF($G8:$AX8,"Pré") -> 0 | E8: =COUNTIF($G8:$AX8,"Abs") -> 0 | F8: =E8/(D8+E8) -> #DIV/0!
A9: =A8+1 -> 3 | D9: =COUNTIF($G9:$AX9,"Pré") -> 0 | E9: =COUNTIF($G9:$AX9,"Abs") -> 0 | F9: =E9/(D9+E9) -> #DIV/0!
A10: =A9+1 -> 4 | D10: =COUNTIF($G10:$AX10,"Pré") -> 0 | E10: =COUNTIF($G10:$AX10,"Abs") -> 0 | F10: =E10/(D10+E10) -> #DIV/0!
A11: =A10+1 -> 5 | D11: =COUNTIF($G11:$AX11,"Pré") -> 0 | E11: =COUNTIF($G11:$AX11,"Abs") -> 0 | F11: =E11/(D11+E11) -> #DIV/0!
A12: =A11+1 -> 6 | D12: =COUNTIF($G12:$AX12,"Pré") -> 0 | E12: =COUNTIF($G12:$AX12,"Abs") -> 0 | F12: =E12/(D12+E12) -> #DIV/0!
A13: =A12+1 -> 7 | D13: =COUNTIF($G13:$AX13,"Pré") -> 0 | E13: =COUNTIF($G13:$AX13,"Abs") -> 0 | F13: =E13/(D13+E13) -> #DIV/0!
A14: =A13+1 -> 8 | D14: =COUNTIF($G14:$AX14,"Pré") -> 0 | E14: =COUNTIF($G14:$AX14,"Abs") -> 0 | F14: =E14/(D14+E14) -> #DIV/0!
A15: =A14+1 -> 9 | D15: =COUNTIF($G15:$AX15,"Pré") -> 0 | E15: =COUNTIF($G15:$AX15,"Abs") -> 0 | F15: =E15/(D15+E15) -> #DIV/0!
A16: =A15+1 -> 10 | D16: =COUNTIF($G16:$AX16,"Pré") -> 0 | E16: =COUNTIF($G16:$AX16,"Abs") -> 0 | F16: =E16/(D16+E16) -> #DIV/0!
A17: =A16+1 -> 11 | D17: =COUNTIF($G17:$AX17,"Pré") -> 0 | E17: =COUNTIF($G17:$AX17,"Abs") -> 0 | F17: =E17/(D17+E17) -> #DIV/0!
A18: =A17+1 -> 12 | D18: =COUNTIF($G18:$AX18,"Pré") -> 0 | E18: =COUNTIF($G18:$AX18,"Abs") -> 0 | F18: =E18/(D18+E18) -> #DIV/0!
A19: =A18+1 -> 13 | D19: =COUNTIF($G19:$AX19,"Pré") -> 0 | E19: =COUNTIF($G19:$AX19,"Abs") -> 0 | F19: =E19/(D19+E19) -> #DIV/0!
... A26: =A25+1 -> 20 | D26: =COUNTIF($G26:$AX26,"Pré") -> 0 | E26: =COUNTIF($G26:$AX26,"Abs") -> 0 | F26: =E26/(D26+E26) -> #DIV/0!
A28: Code couleur:
B29: Cardiaque
B30: Cancer
B31: Diabète
B32: Epnak

Sheet Cardio&Renfo 17h30-18h30
C2: Horaire:
A3: Activité: | B3: Cardio&renfo | C3: 17h30-18h30
B6: Nom | C6: Prénom | D6: Présence | E6: Absence | F6: Absentéisme(%) | G6: 45355 | H6: =G6+7 -> 45362 | I6: =H6+7 -> 45369 | J6: =I6+7 -> 45376 | K6: =J6+7 -> 45383 | L6: =K6+7 -> 45390 | M6: =L6+7 -> 45397 | N6: =M6+7 -> 45404 | O6: =N6+7 -> 45411 | ... AX6: =AW6+7 -> 45656
A7: 1 | D7: =COUNTIF($G7:$AX7,"Pré") -> 0 | E7: =COUNTIF($G7:$AX7,"Abs") -> 0 | F7: =E7/(D7+E7) -> #DIV/0!
A8: =A7+1 -> 2 | D8: =COUNTIF($G8:$AX8,"Pré") -> 0 | E8: =COUNTIF($G8:$AX8,"Abs") -> 0 | F8: =E8/(D8+E8) -> #DIV/0!
A9: =A8+1 -> 3 | D9: =COUNTIF($G9:$AX9,"Pré") -> 0 | E9: =COUNTIF($G9:$AX9,"Abs") -> 0 | F9: =E9/(D9+E9) -> #DIV/0!
A10: =A9+1 -> 4 | D10: =COUNTIF($G10:$AX10,"Pré") -> 0 | E10: =COUNTIF($G10:$AX10,"Abs") -> 0 | F10: =E10/(D10+E10) -> #DIV/0!
A11: =A10+1 -> 5 | D11: =COUNTIF($G11:$AX11,"Pré") -> 0 | E11: =COUNTIF($G11:$AX11,"Abs") -> 0 | F11: =E11/(D11+E11) -> #DIV/0!
A12: =A11+1 -> 6 | D12: =COUNTIF($G12:$AX12,"Pré") -> 0 | E12: =COUNTIF($G12:$AX12,"Abs") -> 0 | F12: =E12/(D12+E12) -> #DIV/0!
A13: =A12+1 -> 7 | D13: =COUNTIF($G13:$AX13,"Pré") -> 0 | E13: =COUNTIF($G13:$AX13,"Abs") -> 0 | F13: =E13/(D13+E13) -> #DIV/0!
A14: =A13+1 -> 8 | D14: =COUNTIF($G14:$AX14,"Pré") -> 0 | E14: =COUNTIF($G14:$AX14,"Abs") -> 0 | F14: =E14/(D14+E14) -> #DIV/0!
A15: =A14+1 -> 9 | D15: =COUNTIF($G15:$AX15,"Pré") -> 0 | E15: =COUNTIF($G15:$AX15,"Abs") -> 0 | F15: =E15/(D15+E15) -> #DIV/0!
A16: =A15+1 -> 10 | D16: =COUNTIF($G16:$AX16,"Pré") -> 0 | E16: =COUNTIF($G16:$AX16,"Abs") -> 0 | F16: =E16/(D16+E16) -> #DIV/0!
A17: =A16+1 -> 11 | D17: =COUNTIF($G17:$AX17,"Pré") -> 0 | E17: =COUNTIF($G17:$AX17,"Abs") -> 0 | F17: =E17/(D17+E17) -> #DIV/0!
A18: =A17+1 -> 12 | D18: =COUNTIF($G18:$AX18,"Pré") -> 0 | E18: =COUNTIF($G18:$AX18,"Abs") -> 0 | F18: =E18/(D18+E18) -> #DIV/0!
A19: =A18+1 -> 13 | D19: =COUNTIF($G19:$AX19,"Pré") -> 0 | E19: =COUNTIF($G19:$AX19,"Abs") -> 0 | F19: =E19/(D19+E19) -> #DIV/0!
... A26: =A25+1 -> 20 | D26: =COUNTIF($G26:$AX26,"Pré") -> 0 | E26: =COUNTIF($G26:$AX26,"Abs") -> 0 | F26: =E26/(D26+E26) -> #DIV/0!
A28: Code couleur:
B29: Cardiaque
B30: Cancer
B31: Diabète
B32: Epnak

Sheet Jeudi

Sheet Marche inter 10h-11h
C2: Horaire:
A3: Activité: | B3: Marche intermédiaire | C3: 10h-11h
B6: Nom | C6: Prénom | D6: Présence | E6: Absence | F6: Absentéisme(%) | G6: 45355 | H6: =G6+7 -> 45362 | I6: =H6+7 -> 45369 | J6: =I6+7 -> 45376 | K6: =J6+7 -> 45383 | L6: =K6+7 -> 45390 | M6: =L6+7 -> 45397 | N6: =M6+7 -> 45404 | O6: =N6+7 -> 45411 | ... AX6: =AW6+7 -> 45656
A7: 1 | D7: =COUNTIF($G7:$AX7,"Pré") -> 0 | E7: =COUNTIF($G7:$AX7,"Abs") -> 0 | F7: =E7/(D7+E7) -> #DIV/0!
A8: =A7+1 -> 2 | D8: =COUNTIF($G8:$AX8,"Pré") -> 0 | E8: =COUNTIF($G8:$AX8,"Abs") -> 0 | F8: =E8/(D8+E8) -> #DIV/0!
A9: =A8+1 -> 3 | D9: =COUNTIF($G9:$AX9,"Pré") -> 0 | E9: =COUNTIF($G9:$AX9,"Abs") -> 0 | F9: =E9/(D9+E9) -> #DIV/0!
A10: =A9+1 -> 4 | D10: =COUNTIF($G10:$AX10,"Pré") -> 0 | E10: =COUNTIF($G10:$AX10,"Abs") -> 0 | F10: =E10/(D10+E10) -> #DIV/0!
A11: =A10+1 -> 5 | D11: =COUNTIF($G11:$AX11,"Pré") -> 0 | E11: =COUNTIF($G11:$AX11,"Abs") -> 0 | F11: =E11/(D11+E11) -> #DIV/0!
A12: =A11+1 -> 6 | D12: =COUNTIF($G12:$AX12,"Pré") -> 0 | E12: =COUNTIF($G12:$AX12,"Abs") -> 0 | F12: =E12/(D12+E12) -> #DIV/0!
A13: =A12+1 -> 7 | D13: =COUNTIF($G13:$AX13,"Pré") -> 0 | E13: =COUNTIF($G13:$AX13,"Abs") -> 0 | F13: =E13/(D13+E13) -> #DIV/0!
A14: =A13+1 -> 8 | D14: =COUNTIF($G14:$AX14,"Pré") -> 0 | E14: =COUNTIF($G14:$AX14,"Abs") -> 0 | F14: =E14/(D14+E14) -> #DIV/0!
A15: =A14+1 -> 9 | D15: =COUNTIF($G15:$AX15,"Pré") -> 0 | E15: =COUNTIF($G15:$AX15,"Abs") -> 0 | F15: =E15/(D15+E15) -> #DIV/0!
A16: =A15+1 -> 10 | D16: =COUNTIF($G16:$AX16,"Pré") -> 0 | E16: =COUNTIF($G16:$AX16,"Abs") -> 0 | F16: =E16/(D16+E16) -> #DIV/0!
A17: =A16+1 -> 11 | D17: =COUNTIF($G17:$AX17,"Pré") -> 0 | E17: =COUNTIF($G17:$AX17,"Abs") -> 0 | F17: =E17/(D17+E17) -> #DIV/0!
A18: =A17+1 -> 12 | D18: =COUNTIF($G18:$AX18,"Pré") -> 0 | E18: =COUNTIF($G18:$AX18,"Abs") -> 0 | F18: =E18/(D18+E18) -> #DIV/0!
A19: =A18+1 -> 13 | D19: =COUNTIF($G19:$AX19,"Pré") -> 0 | E19: =COUNTIF($G19:$AX19,"Abs") -> 0 | F19: =E19/(D19+E19) -> #DIV/0!
... A26: =A25+1 -> 20 | D26: =COUNTIF($G26:$AX26,"Pré") -> 0 | E26: =COUNTIF($G26:$AX26,"Abs") -> 0 | F26: =E26/(D26+E26) -> #DIV/0!
A28: Code couleur:
B29: Cardiaque
B30: Cancer
B31: Diabète
B32: Epnak

Sheet Aquagym Corbeil 12h15-13h
C2: Horaire:
A3: Activité: | B3: Aquagym | C3: 12h15-13h
B6: Nom | C6: Prénom | D6: Présence | E6: Absence | F6: Absentéisme(%) | G6: 45355 | H6: =G6+7 -> 45362 | I6: =H6+7 -> 45369 | J6: =I6+7 -> 45376 | K6: =J6+7 -> 45383 | L6: =K6+7 -> 45390 | M6: =L6+7 -> 45397 | N6: =M6+7 -> 45404 | O6: =N6+7 -> 45411 | ... AX6: =AW6+7 -> 45656
A7: 1 | D7: =COUNTIF($G7:$AX7,"Pré") -> 0 | E7: =COUNTIF($G7:$AX7,"Abs") -> 0 | F7: =E7/(D7+E7) -> #DIV/0!
A8: =A7+1 -> 2 | D8: =COUNTIF($G8:$AX8,"Pré") -> 0 | E8: =COUNTIF($G8:$AX8,"Abs") -> 0 | F8: =E8/(D8+E8) -> #DIV/0!
A9: =A8+1 -> 3 | D9: =COUNTIF($G9:$AX9,"Pré") -> 0 | E9: =COUNTIF($G9:$AX9,"Abs") -> 0 | F9: =E9/(D9+E9) -> #DIV/0!
A10: =A9+1 -> 4 | D10: =COUNTIF($G10:$AX10,"Pré") -> 0 | E10: =COUNTIF($G10:$AX10,"Abs") -> 0 | F10: =E10/(D10+E10) -> #DIV/0!
A11: =A10+1 -> 5 | D11: =COUNTIF($G11:$AX11,"Pré") -> 0 | E11: =COUNTIF($G11:$AX11,"Abs") -> 0 | F11: =E11/(D11+E11) -> #DIV/0!
A12: =A11+1 -> 6 | D12: =COUNTIF($G12:$AX12,"Pré") -> 0 | E12: =COUNTIF($G12:$AX12,"Abs") -> 0 | F12: =E12/(D12+E12) -> #DIV/0!
A13: =A12+1 -> 7 | D13: =COUNTIF($G13:$AX13,"Pré") -> 0 | E13: =COUNTIF($G13:$AX13,"Abs") -> 0 | F13: =E13/(D13+E13) -> #DIV/0!
A14: =A13+1 -> 8 | D14: =COUNTIF($G14:$AX14,"Pré") -> 0 | E14: =COUNTIF($G14:$AX14,"Abs") -> 0 | F14: =E14/(D14+E14) -> #DIV/0!
A15: =A14+1 -> 9 | D15: =COUNTIF($G15:$AX15,"Pré") -> 0 | E15: =COUNTIF($G15:$AX15,"Abs") -> 0 | F15: =E15/(D15+E15) -> #DIV/0!
A16: =A15+1 -> 10 | D16: =COUNTIF($G16:$AX16,"Pré") -> 0 | E16: =COUNTIF($G16:$AX16,"Abs") -> 0 | F16: =E16/(D16+E16) -> #DIV/0!
A17: =A16+1 -> 11 | D17: =COUNTIF($G17:$AX17,"Pré") -> 0 | E17: =COUNTIF($G17:$AX17,"Abs") -> 0 | F17: =E17/(D17+E17) -> #DIV/0!
A18: =A17+1 -> 12 | D18: =COUNTIF($G18:$AX18,"Pré") -> 0 | E18: =COUNTIF($G18:$AX18,"Abs") -> 0 | F18: =E18/(D18+E18) -> #DIV/0!
A19: =A18+1 -> 13 | D19: =COUNTIF($G19:$AX19,"Pré") -> 0 | E19: =COUNTIF($G19:$AX19,"Abs") -> 0 | F19: =E19/(D19+E19) -> #DIV/0!
... A26: =A25+1 -> 20 | D26: =COUNTIF($G26:$AX26,"Pré") -> 0 | E26: =COUNTIF($G26:$AX26,"Abs") -> 0 | F26: =E26/(D26+E26) -> #DIV/0!
A28: Code couleur:
B29: Cardiaque
B30: Cancer
B31: Diabète
B32: Epnak

Sheet Renfo abdo-fessiers 15h-15h45
C2: Horaire:
A3: Activité: | B3: Renfo abdo-fessiers | C3: 15h-15h45
B6: Nom | C6: Prénom | D6: Présence | E6: Absence | F6: Absentéisme(%) | G6: 45355 | H6: =G6+7 -> 45362 | I6: =H6+7 -> 45369 | J6: =I6+7 -> 45376 | K6: =J6+7 -> 45383 | L6: =K6+7 -> 45390 | M6: =L6+7 -> 45397 | N6: =M6+7 -> 45404 | O6: =N6+7 -> 45411 | ... AX6: =AW6+7 -> 45656
A7: 1 | D7: =COUNTIF($G7:$AX7,"Pré") -> 0 | E7: =COUNTIF($G7:$AX7,"Abs") -> 0 | F7: =E7/(D7+E7) -> #DIV/0!
A8: =A7+1 -> 2 | D8: =COUNTIF($G8:$AX8,"Pré") -> 0 | E8: =COUNTIF($G8:$AX8,"Abs") -> 0 | F8: =E8/(D8+E8) -> #DIV/0!
A9: =A8+1 -> 3 | D9: =COUNTIF($G9:$AX9,"Pré") -> 0 | E9: =COUNTIF($G9:$AX9,"Abs") -> 0 | F9: =E9/(D9+E9) -> #DIV/0!
A10: =A9+1 -> 4 | D10: =COUNTIF($G10:$AX10,"Pré") -> 0 | E10: =COUNTIF($G10:$AX10,"Abs") -> 0 | F10: =E10/(D10+E10) -> #DIV/0!
A11: =A10+1 -> 5 | D11: =COUNTIF($G11:$AX11,"Pré") -> 0 | E11: =COUNTIF($G11:$AX11,"Abs") -> 0 | F11: =E11/(D11+E11) -> #DIV/0!
A12: =A11+1 -> 6 | D12: =COUNTIF($G12:$AX12,"Pré") -> 0 | E12: =COUNTIF($G12:$AX12,"Abs") -> 0 | F12: =E12/(D12+E12) -> #DIV/0!
A13: =A12+1 -> 7 | D13: =COUNTIF($G13:$AX13,"Pré") -> 0 | E13: =COUNTIF($G13:$AX13,"Abs") -> 0 | F13: =E13/(D13+E13) -> #DIV/0!
A14: =A13+1 -> 8 | D14: =COUNTIF($G14:$AX14,"Pré") -> 0 | E14: =COUNTIF($G14:$AX14,"Abs") -> 0 | F14: =E14/(D14+E14) -> #DIV/0!
A15: =A14+1 -> 9 | D15: =COUNTIF($G15:$AX15,"Pré") -> 0 | E15: =COUNTIF($G15:$AX15,"Abs") -> 0 | F15: =E15/(D15+E15) -> #DIV/0!
A16: =A15+1 -> 10 | D16: =COUNTIF($G16:$AX16,"Pré") -> 0 | E16: =COUNTIF($G16:$AX16,"Abs") -> 0 | F16: =E16/(D16+E16) -> #DIV/0!
A17: =A16+1 -> 11 | D17: =COUNTIF($G17:$AX17,"Pré") -> 0 | E17: =COUNTIF($G17:$AX17,"Abs") -> 0 | F17: =E17/(D17+E17) -> #DIV/0!
A18: =A17+1 -> 12 | D18: =COUNTIF($G18:$AX18,"Pré") -> 0 | E18: =COUNTIF($G18:$AX18,"Abs") -> 0 | F18: =E18/(D18+E18) -> #DIV/0!
A19: =A18+1 -> 13 | D19: =COUNTIF($G19:$AX19,"Pré") -> 0 | E19: =COUNTIF($G19:$AX19,"Abs") -> 0 | F19: =E19/(D19+E19) -> #DIV/0!
... A26: =A25+1 -> 20 | D26: =COUNTIF($G26:$AX26,"Pré") -> 0 | E26: =COUNTIF($G26:$AX26,"Abs") -> 0 | F26: =E26/(D26+E26) -> #DIV/0!
A28: Code couleur:
B29: Cardiaque
B30: Cancer
B31: Diabète
B32: Epnak

Sheet Actvité aquatique 16h-16h45
C2: Horaire:
A3: Activité: | B3: Activité aquatique | C3: 16h-16h45
B6: Nom | C6: Prénom | D6: Présence | E6: Absence | F6: Absentéisme(%) | G6: 45355 | H6: =G6+7 -> 45362 | I6: =H6+7 -> 45369 | J6: =I6+7 -> 45376 | K6: =J6+7 -> 45383 | L6: =K6+7 -> 45390 | M6: =L6+7 -> 45397 | N6: =M6+7 -> 45404 | O6: =N6+7 -> 45411 | ... AX6: =AW6+7 -> 45656
A7: 1 | D7: =COUNTIF($G7:$AX7,"Pré") -> 0 | E7: =COUNTIF($G7:$AX7,"Abs") -> 0 | F7: =E7/(D7+E7) -> #DIV/0!
A8: =A7+1 -> 2 | D8: =COUNTIF($G8:$AX8,"Pré") -> 0 | E8: =COUNTIF($G8:$AX8,"Abs") -> 0 | F8: =E8/(D8+E8) -> #DIV/0!
A9: =A8+1 -> 3 | D9: =COUNTIF($G9:$AX9,"Pré") -> 0 | E9: =COUNTIF($G9:$AX9,"Abs") -> 0 | F9: =E9/(D9+E9) -> #DIV/0!
A10: =A9+1 -> 4 | D10: =COUNTIF($G10:$AX10,"Pré") -> 0 | E10: =COUNTIF($G10:$AX10,"Abs") -> 0 | F10: =E10/(D10+E10) -> #DIV/0!
A11: =A10+1 -> 5 | D11: =COUNTIF($G11:$AX11,"Pré") -> 0 | E11: =COUNTIF($G11:$AX11,"Abs") -> 0 | F11: =E11/(D11+E11) -> #DIV/0!
A12: =A11+1 -> 6 | D12: =COUNTIF($G12:$AX12,"Pré") -> 0 | E12: =COUNTIF($G12:$AX12,"Abs") -> 0 | F12: =E12/(D12+E12) -> #DIV/0!
A13: =A12+1 -> 7 | D13: =COUNTIF($G13:$AX13,"Pré") -> 0 | E13: =COUNTIF($G13:$AX13,"Abs") -> 0 | F13: =E13/(D13+E13) -> #DIV/0!
A14: =A13+1 -> 8 | D14: =COUNTIF($G14:$AX14,"Pré") -> 0 | E14: =COUNTIF($G14:$AX14,"Abs") -> 0 | F14: =E14/(D14+E14) -> #DIV/0!
A15: =A14+1 -> 9 | D15: =COUNTIF($G15:$AX15,"Pré") -> 0 | E15: =COUNTIF($G15:$AX15,"Abs") -> 0 | F15: =E15/(D15+E15) -> #DIV/0!
A16: =A15+1 -> 10 | D16: =COUNTIF($G16:$AX16,"Pré") -> 0 | E16: =COUNTIF($G16:$AX16,"Abs") -> 0 | F16: =E16/(D16+E16) -> #DIV/0!
A17: =A16+1 -> 11 | D17: =COUNTIF($G17:$AX17,"Pré") -> 0 | E17: =COUNTIF($G17:$AX17,"Abs") -> 0 | F17: =E17/(D17+E17) -> #DIV/0!
A18: =A17+1 -> 12 | D18: =COUNTIF($G18:$AX18,"Pré") -> 0 | E18: =COUNTIF($G18:$AX18,"Abs") -> 0 | F18: =E18/(D18+E18) -> #DIV/0!
A19: =A18+1 -> 13 | D19: =COUNTIF($G19:$AX19,"Pré") -> 0 | E19: =COUNTIF($G19:$AX19,"Abs") -> 0 | F19: =E19/(D19+E19) -> #DIV/0!
... A26: =A25+1 -> 20 | D26: =COUNTIF($G26:$AX26,"Pré") -> 0 | E26: =COUNTIF($G26:$AX26,"Abs") -> 0 | F26: =E26/(D26+E26) -> #DIV/0!
A28: Code couleur:
B29: Cardiaque
B30: Cancer
B31: Diabète
B32: Epnak

Sheet Vendredi

Sheet Renfo sangle-abdo 11h-12h
C2: Horaire:
A3: Activité: | B3: Renfo sangle-abdo | C3: 11h-12h
B6: Nom | C6: Prénom | D6: Présence | E6: Absence | F6: Absentéisme(%) | G6: 45355 | H6: =G6+7 -> 45362 | I6: =H6+7 -> 45369 | J6: =I6+7 -> 45376 | K6: =J6+7 -> 45383 | L6: =K6+7 -> 45390 | M6: =L6+7 -> 45397 | N6: =M6+7 -> 45404 | O6: =N6+7 -> 45411 | ... AX6: =AW6+7 -> 45656
A7: 1 | D7: =COUNTIF($G7:$AX7,"Pré") -> 0 | E7: =COUNTIF($G7:$AX7,"Abs") -> 0 | F7: =E7/(D7+E7) -> #DIV/0!
A8: =A7+1 -> 2 | D8: =COUNTIF($G8:$AX8,"Pré") -> 0 | E8: =COUNTIF($G8:$AX8,"Abs") -> 0 | F8: =E8/(D8+E8) -> #DIV/0!
A9: =A8+1 -> 3 | D9: =COUNTIF($G9:$AX9,"Pré") -> 0 | E9: =COUNTIF($G9:$AX9,"Abs") -> 0 | F9: =E9/(D9+E9) -> #DIV/0!
A10: =A9+1 -> 4 | D10: =COUNTIF($G10:$AX10,"Pré") -> 0 | E10: =COUNTIF($G10:$AX10,"Abs") -> 0 | F10: =E10/(D10+E10) -> #DIV/0!
A11: =A10+1 -> 5 | D11: =COUNTIF($G11:$AX11,"Pré") -> 0 | E11: =COUNTIF($G11:$AX11,"Abs") -> 0 | F11: =E11/(D11+E11) -> #DIV/0!
A12: =A11+1 -> 6 | D12: =COUNTIF($G12:$AX12,"Pré") -> 0 | E12: =COUNTIF($G12:$AX12,"Abs") -> 0 | F12: =E12/(D12+E12) -> #DIV/0!
A13: =A12+1 -> 7 | D13: =COUNTIF($G13:$AX13,"Pré") -> 0 | E13: =COUNTIF($G13:$AX13,"Abs") -> 0 | F13: =E13/(D13+E13) -> #DIV/0!
A14: =A13+1 -> 8 | D14: =COUNTIF($G14:$AX14,"Pré") -> 0 | E14: =COUNTIF($G14:$AX14,"Abs") -> 0 | F14: =E14/(D14+E14) -> #DIV/0!
A15: =A14+1 -> 9 | D15: =COUNTIF($G15:$AX15,"Pré") -> 0 | E15: =COUNTIF($G15:$AX15,"Abs") -> 0 | F15: =E15/(D15+E15) -> #DIV/0!
A16: =A15+1 -> 10 | D16: =COUNTIF($G16:$AX16,"Pré") -> 0 | E16: =COUNTIF($G16:$AX16,"Abs") -> 0 | F16: =E16/(D16+E16) -> #DIV/0!
A17: =A16+1 -> 11 | D17: =COUNTIF($G17:$AX17,"Pré") -> 0 | E17: =COUNTIF($G17:$AX17,"Abs") -> 0 | F17: =E17/(D17+E17) -> #DIV/0!
A18: =A17+1 -> 12 | D18: =COUNTIF($G18:$AX18,"Pré") -> 0 | E18: =COUNTIF($G18:$AX18,"Abs") -> 0 | F18: =E18/(D18+E18) -> #DIV/0!
A19: =A18+1 -> 13 | D19: =COUNTIF($G19:$AX19,"Pré") -> 0 | E19: =COUNTIF($G19:$AX19,"Abs") -> 0 | F19: =E19/(D19+E19) -> #DIV/0!
... A26: =A25+1 -> 20 | D26: =COUNTIF($G26:$AX26,"Pré") -> 0 | E26: =COUNTIF($G26:$AX26,"Abs") -> 0 | F26: =E26/(D26+E26) -> #DIV/0!
A28: Code couleur:
B29: Cardiaque
B30: Cancer
B31: Diabète
B32: Epnak

Sheet Stretching 15h-16h
C2: Horaire:
A3: Activité: | B3: Stretching | C3: 15h-16h
B6: Nom | C6: Prénom | D6: Présence | E6: Absence | F6: Absentéisme(%) | G6: 45355 | H6: =G6+7 -> 45362 | I6: =H6+7 -> 45369 | J6: =I6+7 -> 45376 | K6: =J6+7 -> 45383 | L6: =K6+7 -> 45390 | M6: =L6+7 -> 45397 | N6: =M6+7 -> 45404 | O6: =N6+7 -> 45411 | ... AX6: =AW6+7 -> 45656
A7: 1 | D7: =COUNTIF($G7:$AX7,"Pré") -> 0 | E7: =COUNTIF($G7:$AX7,"Abs") -> 0 | F7: =E7/(D7+E7) -> #DIV/0!
A8: =A7+1 -> 2 | D8: =COUNTIF($G8:$AX8,"Pré") -> 0 | E8: =COUNTIF($G8:$AX8,"Abs") -> 0 | F8: =E8/(D8+E8) -> #DIV/0!
A9: =A8+1 -> 3 | D9: =COUNTIF($G9:$AX9,"Pré") -> 0 | E9: =COUNTIF($G9:$AX9,"Abs") -> 0 | F9: =E9/(D9+E9) -> #DIV/0!
A10: =A9+1 -> 4 | D10: =COUNTIF($G10:$AX10,"Pré") -> 0 | E10: =COUNTIF($G10:$AX10,"Abs") -> 0 | F10: =E10/(D10+E10) -> #DIV/0!
A11: =A10+1 -> 5 | D11: =COUNTIF($G11:$AX11,"Pré") -> 0 | E11: =COUNTIF($G11:$AX11,"Abs") -> 0 | F11: =E11/(D11+E11) -> #DIV/0!
A12: =A11+1 -> 6 | D12: =COUNTIF($G12:$AX12,"Pré") -> 0 | E12: =COUNTIF($G12:$AX12,"Abs") -> 0 | F12: =E12/(D12+E12) -> #DIV/0!
A13: =A12+1 -> 7 | D13: =COUNTIF($G13:$AX13,"Pré") -> 0 | E13: =COUNTIF($G13:$AX13,"Abs") -> 0 | F13: =E13/(D13+E13) -> #DIV/0!
A14: =A13+1 -> 8 | D14: =COUNTIF($G14:$AX14,"Pré") -> 0 | E14: =COUNTIF($G14:$AX14,"Abs") -> 0 | F14: =E14/(D14+E14) -> #DIV/0!
A15: =A14+1 -> 9 | D15: =COUNTIF($G15:$AX15,"Pré") -> 0 | E15: =COUNTIF($G15:$AX15,"Abs") -> 0 | F15: =E15/(D15+E15) -> #DIV/0!
A16: =A15+1 -> 10 | D16: =COUNTIF($G16:$AX16,"Pré") -> 0 | E16: =COUNTIF($G16:$AX16,"Abs") -> 0 | F16: =E16/(D16+E16) -> #DIV/0!
A17: =A16+1 -> 11 | D17: =COUNTIF($G17:$AX17,"Pré") -> 0 | E17: =COUNTIF($G17:$AX17,"Abs") -> 0 | F17: =E17/(D17+E17) -> #DIV/0!
A18: =A17+1 -> 12 | D18: =COUNTIF($G18:$AX18,"Pré") -> 0 | E18: =COUNTIF($G18:$AX18,"Abs") -> 0 | F18: =E18/(D18+E18) -> #DIV/0!
A19: =A18+1 -> 13 | D19: =COUNTIF($G19:$AX19,"Pré") -> 0 | E19: =COUNTIF($G19:$AX19,"Abs") -> 0 | F19: =E19/(D19+E19) -> #DIV/0!
... A26: =A25+1 -> 20 | D26: =COUNTIF($G26:$AX26,"Pré") -> 0 | E26: =COUNTIF($G26:$AX26,"Abs") -> 0 | F26: =E26/(D26+E26) -> #DIV/0!
A28: Code couleur:
B29: Cardiaque
B30: Cancer
B31: Diabète
B32: Epnak
