Workbook

Sheet Synthèse
B2: Nom du Train | C2: Nombres de Tours
B3: Train 1 | C3: ='Train 1'!C51 -> 5
B4: Train 2 | C4: {=+'Train 2'!C51:D51} -> 34 | D4: 0
B5: Train 3 | C5: ='Train 3'!C51 -> 10
B6: Train 4 | C6: {=+'Train 4'!C51:D51} -> 25 | D6: 0
B7: Train 5 | C7: =+'Train 5'!C51 -> 61
B8: Train 6 | C8: ='Train 6'!C51 -> 20
B9: Train 7 | C9: ='Train 7'!C51 -> 17
B10: Train 8 | C10: ='Train 8'!C51 -> 27
B11: Train 9 | C11: ='Train 9'!C51 -> 25
B12: Train 10 | C12: ='Train 10'!C51 -> 2
B13: Train 11 | C13: ='Train 11'!C51 -> 5
B14: Train 12 | C14: ='Train 12'!C51 -> 47
B15: Train 13 | C15: ='Train 13'!C51 -> 42
B16: Train 14 | C16: ='Train 14'!C51 -> 61
B17: Train 15 | C17: ='Train 15'!C51 -> 29
B18: Train 16
B19: Train 17
B20: Train 18
B21: Train 19
B22: Train 20

Sheet Train 1
B1: Train 1
B2: Tour A ou B | C2: Plus | D2: Moins | F2: Reste pour Revision | G2: =SUM(C3:C49)-SUM(D3:D49) -> 5
C3: 0
C4: 8
D5: 3
B51: Total | C51: =C3+C4+C5+C6+C7+C8+C9+C10+C11+C12+C13+C14+C15+C16+C17+C18+C19+C20+C21+C22+C23+C24+C25+C27+C26+C28+C29+C30+C31+C32+C33+C34+C35+C36+C37+C38+C39+C40+C41+C42+C43+C44+C45+C46+C47+C48+C49+C50-D3-D4-D5-D6-D7-D8-D9-D10-D11-D12-D13-D14-D15-D16-D17-D18-D19-D20-D21-D22-D23-D24-D25-D26-D27-D28-D29-D30-D31-D32-D33-D34-D35-D36-D37-D38-D39-D40-D41-D42-D43-D44-D45-D46-D47-D48-D49-D50 -> 5

Sheet Train 2
B1: Train 2
B2: Tour A ou B | C2: Plus | D2: Moins | F2: Reste pour Revision | G2: =SUM(C3:C49)-SUM(D3:D49) -> 34
C3: 54
D4: 6
D5: 9
D6: 5
B51: Total | C51: =C3+C4+C5+C6+C7+C8+C9+C10+C11+C12+C13+C14+C15+C16+C17+C18+C19+C20+C21+C22+C23+C24+C25+C27+C26+C28+C29+C30+C31+C32+C33+C34+C35+C36+C37+C38+C39+C40+C41+C42+C43+C44+C45+C46+C47+C48+C49+C50-D3-D4-D5-D6-D7-D8-D9-D10-D11-D12-D13-D14-D15-D16-D17-D18-D19-D20-D21-D22-D23-D24-D25-D26-D27-D28-D29-D30-D31-D32-D33-D34-D35-D36-D37-D38-D39-D40-D41-D42-D43-D44-D45-D46-D47-D48-D49-D50 -> 34

Sheet Train 3
B1: Train 3
B2: Tour A ou B | C2: Plus | D2: Moins | F2: Reste pour Revision | G2: =SUM(C3:C49)-SUM(D3:D49) -> 10
C3: 13
D4: 3
B51: Total | C51: =C3+C4+C5+C6+C7+C8+C9+C10+C11+C12+C13+C14+C15+C16+C17+C18+C19+C20+C21+C22+C23+C24+C25+C27+C26+C28+C29+C30+C31+C32+C33+C34+C35+C36+C37+C38+C39+C40+C41+C42+C43+C44+C45+C46+C47+C48+C49+C50-D3-D4-D5-D6-D7-D8-D9-D10-D11-D12-D13-D14-D15-D16-D17-D18-D19-D20-D21-D22-D23-D24-D25-D26-D27-D28-D29-D30-D31-D32-D33-D34-D35-D36-D37-D38-D39-D40-D41-D42-D43-D44-D45-D46-D47-D48-D49-D50 -> 10

Sheet Train 4
B1: Train 4
B2: Tour A ou B | C2: Plus | D2: Moins | F2: Reste pour Revision | G2: =SUM(C3:C49)-SUM(D3:D49) -> 25
C3: 25
B51: Total | C51: =C3+C4+C5+C6+C7+C8+C9+C10+C11+C12+C13+C14+C15+C16+C17+C18+C19+C20+C21+C22+C23+C24+C25+C27+C26+C28+C29+C30+C31+C32+C33+C34+C35+C36+C37+C38+C39+C40+C41+C42+C43+C44+C45+C46+C47+C48+C49+C50-D3-D4-D5-D6-D7-D8-D9-D10-D11-D12-D13-D14-D15-D16-D17-D18-D19-D20-D21-D22-D23-D24-D25-D26-D27-D28-D29-D30-D31-D32-D33-D34-D35-D36-D37-D38-D39-D40-D41-D42-D43-D44-D45-D46-D47-D48-D49-D50 -> 25

Sheet Train 5
B1: Train 5
B2: Tour A ou B | C2: Plus | D2: Moins | F2: Reste pour Revision | G2: =SUM(C3:C49)-SUM(D3:D49) -> 61
C3: 61
B51: Total | C51: =C3+C4+C5+C6+C7+C8+C9+C10+C11+C12+C13+C14+C15+C16+C17+C18+C19+C20+C21+C22+C23+C24+C25+C27+C26+C28+C29+C30+C31+C32+C33+C34+C35+C36+C37+C38+C39+C40+C41+C42+C43+C44+C45+C46+C47+C48+C49+C50-D3-D4-D5-D6-D7-D8-D9-D10-D11-D12-D13-D14-D15-D16-D17-D18-D19-D20-D21-D22-D23-D24-D25-D26-D27-D28-D29-D30-D31-D32-D33-D34-D35-D36-D37-D38-D39-D40-D41-D42-D43-D44-D45-D46-D47-D48-D49-D50 -> 61

Sheet Train 6
B1: Train 6
B2: Tour A ou B | C2: Plus | D2: Moins | F2: Reste pour Revision | G2: =SUM(C3:C49)-SUM(D3:D49) -> 20
C3: 21
D4: 1
B51: Total | C51: =C3+C4+C5+C6+C7+C8+C9+C10+C11+C12+C13+C14+C15+C16+C17+C18+C19+C20+C21+C22+C23+C24+C25+C27+C26+C28+C29+C30+C31+C32+C33+C34+C35+C36+C37+C38+C39+C40+C41+C42+C43+C44+C45+C46+C47+C48+C49+C50-D3-D4-D5-D6-D7-D8-D9-D10-D11-D12-D13-D14-D15-D16-D17-D18-D19-D20-D21-D22-D23-D24-D25-D26-D27-D28-D29-D30-D31-D32-D33-D34-D35-D36-D37-D38-D39-D40-D41-D42-D43-D44-D45-D46-D47-D48-D49-D50 -> 20

Sheet Train 7
B1: Train 7
B2: Tour A ou B | C2: Plus | D2: Moins | F2: Reste pour Revision | G2: =SUM(C3:C49)-SUM(D3:D49) -> 17
C3: 17
B51: Total | C51: =C3+C4+C5+C6+C7+C8+C9+C10+C11+C12+C13+C14+C15+C16+C17+C18+C19+C20+C21+C22+C23+C24+C25+C27+C26+C28+C29+C30+C31+C32+C33+C34+C35+C36+C37+C38+C39+C40+C41+C42+C43+C44+C45+C46+C47+C48+C49+C50-D3-D4-D5-D6-D7-D8-D9-D10-D11-D12-D13-D14-D15-D16-D17-D18-D19-D20-D21-D22-D23-D24-D25-D26-D27-D28-D29-D30-D31-D32-D33-D34-D35-D36-D37-D38-D39-D40-D41-D42-D43-D44-D45-D46-D47-D48-D49-D50 -> 17

Sheet Train 8
B1: Train 8
B2: Tour A ou B | C2: Plus | D2: Moins | F2: Reste pour Revision | G2: =SUM(C3:C49)-SUM(D3:D49) -> 27
C3: 26
C4: 1
B51: Total | C51: =C3+C4+C5+C6+C7+C8+C9+C10+C11+C12+C13+C14+C15+C16+C17+C18+C19+C20+C21+C22+C23+C24+C25+C27+C26+C28+C29+C30+C31+C32+C33+C34+C35+C36+C37+C38+C39+C40+C41+C42+C43+C44+C45+C46+C47+C48+C49+C50-D3-D4-D5-D6-D7-D8-D9-D10-D11-D12-D13-D14-D15-D16-D17-D18-D19-D20-D21-D22-D23-D24-D25-D26-D27-D28-D29-D30-D31-D32-D33-D34-D35-D36-D37-D38-D39-D40-D41-D42-D43-D44-D45-D46-D47-D48-D49-D50 -> 27

Sheet Train 9
B1: Train 9
B2: Tour A ou B | C2: Plus | D2: Moins | F2: Reste pour Revision | G2: =SUM(C3:C49)-SUM(D3:D49) -> 25
C3: 24
C4: 1
B51: Total | C51: =C3+C4+C5+C6+C7+C8+C9+C10+C11+C12+C13+C14+C15+C16+C17+C18+C19+C20+C21+C22+C23+C24+C25+C27+C26+C28+C29+C30+C31+C32+C33+C34+C35+C36+C37+C38+C39+C40+C41+C42+C43+C44+C45+C46+C47+C48+C49+C50-D3-D4-D5-D6-D7-D8-D9-D10-D11-D12-D13-D14-D15-D16-D17-D18-D19-D20-D21-D22-D23-D24-D25-D26-D27-D28-D29-D30-D31-D32-D33-D34-D35-D36-D37-D38-D39-D40-D41-D42-D43-D44-D45-D46-D47-D48-D49-D50 -> 25

Sheet Train 10
B1: Train 10
B2: Tour A ou B | C2: Plus | D2: Moins | F2: Reste pour Revision | G2: =SUM(C3:C49)-SUM(D3:D49) -> 2
C3: 2
B51: Total | C51: =C3+C4+C5+C6+C7+C8+C9+C10+C11+C12+C13+C14+C15+C16+C17+C18+C19+C20+C21+C22+C23+C24+C25+C27+C26+C28+C29+C30+C31+C32+C33+C34+C35+C36+C37+C38+C39+C40+C41+C42+C43+C44+C45+C46+C47+C48+C49+C50-D3-D4-D5-D6-D7-D8-D9-D10-D11-D12-D13-D14-D15-D16-D17-D18-D19-D20-D21-D22-D23-D24-D25-D26-D27-D28-D29-D30-D31-D32-D33-D34-D35-D36-D37-D38-D39-D40-D41-D42-D43-D44-D45-D46-D47-D48-D49-D50 -> 2

Sheet Train 11
B1: Train 11
B2: Tour A ou B | C2: Plus | D2: Moins | F2: Reste pour Revision | G2: =SUM(C3:C49)-SUM(D3:D49) -> 5
C3: 7
D4: 1
D5: 1
B51: Total | C51: =C3+C4+C5+C6+C7+C8+C9+C10+C11+C12+C13+C14+C15+C16+C17+C18+C19+C20+C21+C22+C23+C24+C25+C27+C26+C28+C29+C30+C31+C32+C33+C34+C35+C36+C37+C38+C39+C40+C41+C42+C43+C44+C45+C46+C47+C48+C49+C50-D3-D4-D5-D6-D7-D8-D9-D10-D11-D12-D13-D14-D15-D16-D17-D18-D19-D20-D21-D22-D23-D24-D25-D26-D27-D28-D29-D30-D31-D32-D33-D34-D35-D36-D37-D38-D39-D40-D41-D42-D43-D44-D45-D46-D47-D48-D49-D50 -> 5

Sheet Train 12
B1: Train 12
B2: Tour A ou B | C2: Plus | D2: Moins | F2: Reste pour Revision | G2: =SUM(C3:C49)-SUM(D3:D49) -> 47
C3: 47
B51: Total | C51: =C3+C4+C5+C6+C7+C8+C9+C10+C11+C12+C13+C14+C15+C16+C17+C18+C19+C20+C21+C22+C23+C24+C25+C27+C26+C28+C29+C30+C31+C32+C33+C34+C35+C36+C37+C38+C39+C40+C41+C42+C43+C44+C45+C46+C47+C48+C49+C50-D3-D4-D5-D6-D7-D8-D9-D10-D11-D12-D13-D14-D15-D16-D17-D18-D19-D20-D21-D22-D23-D24-D25-D26-D27-D28-D29-D30-D31-D32-D33-D34-D35-D36-D37-D38-D39-D40-D41-D42-D43-D44-D45-D46-D47-D48-D49-D50 -> 47

Sheet Train 13
B1: Train 13
B2: Tour A ou B | C2: Plus | D2: Moins | F2: Reste pour Revision | G2: =SUM(C3:C49)-SUM(D3:D49) -> 42
C3: 45
D4: 1
D5: 1
D6: 1
B51: Total | C51: =C3+C4+C5+C6+C7+C8+C9+C10+C11+C12+C13+C14+C15+C16+C17+C18+C19+C20+C21+C22+C23+C24+C25+C27+C26+C28+C29+C30+C31+C32+C33+C34+C35+C36+C37+C38+C39+C40+C41+C42+C43+C44+C45+C46+C47+C48+C49+C50-D3-D4-D5-D6-D7-D8-D9-D10-D11-D12-D13-D14-D15-D16-D17-D18-D19-D20-D21-D22-D23-D24-D25-D26-D27-D28-D29-D30-D31-D32-D33-D34-D35-D36-D37-D38-D39-D40-D41-D42-D43-D44-D45-D46-D47-D48-D49-D50 -> 42

Sheet Train 14
B1: Train 14
B2: Tour A ou B | C2: Plus | D2: Moins | F2: Reste pour Revision | G2: =SUM(C3:C49)-SUM(D3:D49) -> 61
C3: 61
B51: Total | C51: =C3+C4+C5+C6+C7+C8+C9+C10+C11+C12+C13+C14+C15+C16+C17+C18+C19+C20+C21+C22+C23+C24+C25+C27+C26+C28+C29+C30+C31+C32+C33+C34+C35+C36+C37+C38+C39+C40+C41+C42+C43+C44+C45+C46+C47+C48+C49+C50-D3-D4-D5-D6-D7-D8-D9-D10-D11-D12-D13-D14-D15-D16-D17-D18-D19-D20-D21-D22-D23-D24-D25-D26-D27-D28-D29-D30-D31-D32-D33-D34-D35-D36-D37-D38-D39-D40-D41-D42-D43-D44-D45-D46-D47-D48-D49-D50 -> 61

Sheet Train 15
B1: Train 15
B2: Tour A ou B | C2: Plus | D2: Moins | F2: Reste pour Revision | G2: =SUM(C3:C49)-SUM(D3:D49) -> 29
C3: 32
D4: 3
B51: Total | C51: =C3+C4+C5+C6+C7+C8+C9+C10+C11+C12+C13+C14+C15+C16+C17+C18+C19+C20+C21+C22+C23+C24+C25+C27+C26+C28+C29+C30+C31+C32+C33+C34+C35+C36+C37+C38+C39+C40+C41+C42+C43+C44+C45+C46+C47+C48+C49+C50-D3-D4-D5-D6-D7-D8-D9-D10-D11-D12-D13-D14-D15-D16-D17-D18-D19-D20-D21-D22-D23-D24-D25-D26-D27-D28-D29-D30-D31-D32-D33-D34-D35-D36-D37-D38-D39-D40-D41-D42-D43-D44-D45-D46-D47-D48-D49-D50 -> 29
