Workbook

Sheet stock à jour
A1: STOCK A JOUR - BASE COMMANDE
A4: NE SAISIR QUE DANS LE BLEU
A6: Articles | B6: Stock initial | C6: Entrée | D6: Sortie | E6: Stock final | F6: Seuil minimal | G6: Alerte ? | H6: Quantité à acheter
A7: Ramette papier A4 | B7: 50 | C7: =IF(A7="","",SUMIF('entrée stock'!$A$5:$A$17,'stock à jour'!A7,'entrée stock'!$B$5:$B$17)) -> 45 | D7: =IF(A7="","",SUMIF('sortie stock'!$A$5:$A$17,'stock à jour'!A7,'sortie stock'!$B$5:$B$17)) -> 18 | E7: =IF(A7="","",B7+C7-D7) -> 77 | F7: 15 | G7: =IF(ISBLANK(B7),"",IF(E7<F7,"Alerte !","stock OK")) -> stock OK | H7: =IF(A7="","",I7) | I7: =IF(F7-E7<0,"",F7-E7)
A8: Souris Tipex | B8: 50 | C8: =IF(A8="","",SUMIF('entrée stock'!$A$5:$A$17,'stock à jour'!A8,'entrée stock'!$B$5:$B$17)) -> 22 | D8: =IF(A8="","",SUMIF('sortie stock'!$A$5:$A$17,'stock à jour'!A8,'sortie stock'!$B$5:$B$17)) -> 5 | E8: =IF(A8="","",B8+C8-D8) -> 67 | F8: 6 | G8: =IF(ISBLANK(B8),"",IF(E8<F8,"Alerte !","stock OK")) -> stock OK | H8: =IF(A8="","",I8) | I8: =IF(F8-E8<0,"",F8-E8)
A9: Stylo Bic Noir | B9: 50 | C9: =IF(A9="","",SUMIF('entrée stock'!$A$5:$A$17,'stock à jour'!A9,'entrée stock'!$B$5:$B$17)) -> 52 | D9: =IF(A9="","",SUMIF('sortie stock'!$A$5:$A$17,'stock à jour'!A9,'sortie stock'!$B$5:$B$17)) -> 14 | E9: =IF(A9="","",B9+C9-D9) -> 88 | F9: 2 | G9: =IF(ISBLANK(B9),"",IF(E9<F9,"Alerte !","stock OK")) -> stock OK | H9: =IF(A9="","",I9) | I9: =IF(F9-E9<0,"",F9-E9)
A10: Stylo Bic Rouge | B10: 50 | C10: =IF(A10="","",SUMIF('entrée stock'!$A$5:$A$17,'stock à jour'!A10,'entrée stock'!$B$5:$B$17)) -> 4 | D10: =IF(A10="","",SUMIF('sortie stock'!$A$5:$A$17,'stock à jour'!A10,'sortie stock'!$B$5:$B$17)) -> 8 | E10: =IF(A10="","",B10+C10-D10) -> 46 | F10: 6 | G10: =IF(ISBLANK(B10),"",IF(E10<F10,"Alerte !","stock OK")) -> stock OK | H10: =IF(A10="","",I10) | I10: =IF(F10-E10<0,"",F10-E10)
A11: Rouleau post it | B11: 50 | C11: =IF(A11="","",SUMIF('entrée stock'!$A$5:$A$17,'stock à jour'!A11,'entrée stock'!$B$5:$B$17)) -> 8 | D11: =IF(A11="","",SUMIF('sortie stock'!$A$5:$A$17,'stock à jour'!A11,'sortie stock'!$B$5:$B$17)) -> 15 | E11: =IF(A11="","",B11+C11-D11) -> 43 | F11: 7 | G11: =IF(ISBLANK(B11),"",IF(E11<F11,"Alerte !","stock OK")) -> stock OK | H11: =IF(A11="","",I11) | I11: =IF(F11-E11<0,"",F11-E11)
A12: Classeur A4 | B12: 50 | C12: =IF(A12="","",SUMIF('entrée stock'!$A$5:$A$17,'stock à jour'!A12,'entrée stock'!$B$5:$B$17)) -> 18 | D12: =IF(A12="","",SUMIF('sortie stock'!$A$5:$A$17,'stock à jour'!A12,'sortie stock'!$B$5:$B$17)) -> 8 | E12: =IF(A12="","",B12+C12-D12) -> 60 | F12: 20 | G12: =IF(ISBLANK(B12),"",IF(E12<F12,"Alerte !","stock OK")) -> stock OK | H12: =IF(A12="","",I12) | I12: =IF(F12-E12<0,"",F12-E12)
A13: Stylo Bic Vert | B13: 0 | C13: =IF(A13="","",SUMIF('entrée stock'!$A$5:$A$17,'stock à jour'!A13,'entrée stock'!$B$5:$B$17)) -> 50 | D13: =IF(A13="","",SUMIF('sortie stock'!$A$5:$A$17,'stock à jour'!A13,'sortie stock'!$B$5:$B$17)) -> 10 | E13: =IF(A13="","",B13+C13-D13) -> 40 | F13: 50 | G13: =IF(ISBLANK(B13),"",IF(E13<F13,"Alerte !","stock OK")) -> Alerte ! | H13: =IF(A13="","",I13) -> 10 | I13: =IF(F13-E13<0,"",F13-E13) -> 10
C14: =IF(A14="","",SUMIF('entrée stock'!$A$5:$A$17,'stock à jour'!A14,'entrée stock'!$B$5:$B$17)) | D14: =IF(A14="","",SUMIF('sortie stock'!$A$5:$A$17,'stock à jour'!A14,'sortie stock'!$B$5:$B$17)) | E14: =IF(A14="","",B14+C14-D14) | G14: =IF(ISBLANK(B14),"",IF(E14<F14,"Alerte !","stock OK")) | H14: =IF(A14="","",I14) | I14: =IF(F14-E14<0,"",F14-E14) -> #VALUE!
C15: =IF(A15="","",SUMIF('entrée stock'!$A$5:$A$17,'stock à jour'!A15,'entrée stock'!$B$5:$B$17)) | D15: =IF(A15="","",SUMIF('sortie stock'!$A$5:$A$17,'stock à jour'!A15,'sortie stock'!$B$5:$B$17)) | E15: =IF(A15="","",B15+C15-D15) | G15: =IF(ISBLANK(B15),"",IF(E15<F15,"Alerte !","stock OK")) | H15: =IF(A15="","",I15) | I15: =IF(F15-E15<0,"",F15-E15) -> #VALUE!
C16: =IF(A16="","",SUMIF('entrée stock'!$A$5:$A$17,'stock à jour'!A16,'entrée stock'!$B$5:$B$17)) | D16: =IF(A16="","",SUMIF('sortie stock'!$A$5:$A$17,'stock à jour'!A16,'sortie stock'!$B$5:$B$17)) | E16: =IF(A16="","",B16+C16-D16) | G16: =IF(ISBLANK(B16),"",IF(E16<F16,"Alerte !","stock OK")) | H16: =IF(A16="","",I16) | I16: =IF(F16-E16<0,"",F16-E16) -> #VALUE!
C17: =IF(A17="","",SUMIF('entrée stock'!$A$5:$A$17,'stock à jour'!A17,'entrée stock'!$B$5:$B$17)) | D17: =IF(A17="","",SUMIF('sortie stock'!$A$5:$A$17,'stock à jour'!A17,'sortie stock'!$B$5:$B$17)) | E17: =IF(A17="","",B17+C17-D17) | G17: =IF(ISBLANK(B17),"",IF(E17<F17,"Alerte !","stock OK")) | H17: =IF(A17="","",I17) | I17: =IF(F17-E17<0,"",F17-E17) -> #VALUE!
C18: =IF(A18="","",SUMIF('entrée stock'!$A$5:$A$17,'stock à jour'!A18,'entrée stock'!$B$5:$B$17)) | D18: =IF(A18="","",SUMIF('sortie stock'!$A$5:$A$17,'stock à jour'!A18,'sortie stock'!$B$5:$B$17)) | E18: =IF(A18="","",B18+C18-D18) | G18: =IF(ISBLANK(B18),"",IF(E18<F18,"Alerte !","stock OK")) | H18: =IF(A18="","",I18) | I18: =IF(F18-E18<0,"",F18-E18) -> #VALUE!
C19: =IF(A19="","",SUMIF('entrée stock'!$A$5:$A$17,'stock à jour'!A19,'entrée stock'!$B$5:$B$17)) | D19: =IF(A19="","",SUMIF('sortie stock'!$A$5:$A$17,'stock à jour'!A19,'sortie stock'!$B$5:$B$17)) | E19: =IF(A19="","",B19+C19-D19) | G19: =IF(ISBLANK(B19),"",IF(E19<F19,"Alerte !","stock OK")) | H19: =IF(A19="","",I19) | I19: =IF(F19-E19<0,"",F19-E19) -> #VALUE!
A20: vérification | B20: =SUM(B7:B19) -> 300 | C20: =SUM(C7:C19) -> 199 | D20: =SUM(D7:D19) -> 78 | E20: =SUM(E7:E19) -> 421
E21: =B20+'entrée stock'!B18-'sortie stock'!B18 -> 421

Sheet entrée stock
A1: ENTREE STOCK - RECEPTION COMMANDES
A4: Articles | B4: Quantité | C4: Date | D4: Saisi par
A5: Ramette papier A4 | B5: 10 | C5: 45361 | D5: Nathalie
A6: Souris Tipex | B6: 5 | C6: 45361 | D6: Nathalie
A7: Stylo Bic Noir | B7: 9 | C7: 45361 | D7: Nathalie
A8: Stylo Bic Rouge | B8: 4 | C8: 45361 | D8: Nathalie
A9: Rouleau post it | B9: 8 | C9: 45361 | D9: Nathalie
A10: Classeur A4 | B10: 18 | C10: 45361 | D10: Nathalie
A11: Ramette papier A4 | B11: 35 | C11: 45363 | D11: Nathalie
A12: Souris Tipex | B12: 17 | C12: 45363 | D12: Nathalie
A13: Stylo Bic Noir | B13: 43 | C13: 45363 | D13: Nathalie
A14: Stylo Bic Vert | B14: 50 | C14: 45363 | D14: Jules
A18: vérification | B18: =SUM(B5:B17) -> 199

Sheet sortie stock
A1: SORTIES STOCK - SERVICES
A4: Articles | B4: Quantité | C4: Date | D4: Service | E4: Personne
A5: Ramette papier A4 | B5: 10 | C5: 45362 | D5: Action Sociale | E5: Elise
A6: Souris Tipex | B6: 5 | C6: 45362 | D6: Action Sociale | E6: Elise
A7: Stylo Bic Noir | B7: 4 | C7: 45362 | D7: Action Sociale | E7: Audrey
A8: Stylo Bic Rouge | B8: 6 | C8: 45362 | D8: Maison France Service | E8: Joëlle
A9: Rouleau post it | B9: 7 | C9: 45362 | D9: Assainissement | E9: Christelle
A10: Classeur A4 | B10: 8 | C10: 45362 | D10: OM | E10: Emine
A11: Stylo Bic Noir | B11: 2 | C11: 45363 | D11: Assainissement | E11: Christelle
A12: Ramette papier A4 | B12: 8 | C12: 45363 | D12: Maison France Service | E12: Joëlle
A13: Stylo Bic Noir | B13: 8 | C13: 45363 | D13: Assainissement | E13: Mégane
A14: Stylo Bic Rouge | B14: 2 | C14: 45363 | D14: OM | E14: Alexandre
A15: Rouleau post it | B15: 8 | C15: 45363 | D15: OM | E15: Alexandre
A16: Stylo Bic Vert | B16: 10 | C16: 45335 | D16: Archives | E16: Jules
A18: vérification | B18: =SUM(B5:B17) -> 78
