Workbook

Sheet Feuil1
E6: Type de fluide | F6: CO2-R744 | G6: T(°C) cond | I6: Vmax aspi(m/s) | J6: 12 | K6: ∆P max (Pa) | L6: 1.5
E7: Type de tube | G7: Sous ref (K) | I7: Vmin aspi(m/s) | J7: 6 | K7: ∆T max(K) | L7: 1
E8: T(°C) LT | G8: PS (bar) | H8: 60 | I8: Vmax liq(m/s) | K8: T° bouteille liquide
E9: T(°C) MT | G9: PS(bar) gaz-cooler | I9: Vmin liq(m/s)
E10: Surchauffe utile (°C)
E11: Sous-ref utile (°C)
C16: POSTES POSITIFS
B17: J/N | C17: Postes | D17: ind | E17: L(m) | F17: Puissance (w) | G17: Ø LIQ | H17: V liq(m/s) | I17: ∆P liq( bar) | J17: ∆T liq( K) | K17: Ø ASPI | L17: V aspi (m/s) | M17: ∆T aspi( bar) | N17: ∆T aspi( K)
C18: ='[1]Bilan_thermique_CF(+)'!C15 -> CF1- Produit finis | D18: 5 | E18: 2 | F18: ='[1]Bilan_thermique_CF(+)'!M15 -> 3858.8 | G18: Cu 3/8 | K18: Cu 1/2
C19: ='[1]Bilan_thermique_CF(+)'!C16 -> CF2- Boucherie | D19: 9 | E19: 5 | F19: ='[1]Bilan_thermique_CF(+)'!M16 -> 8673 | G19: Cu 5/8
C20: ='[1]Bilan_thermique_CF(+)'!C17 -> CF3 - Déchets boucherie | D20: 11 | E20: 8 | F20: ='[1]Bilan_thermique_CF(+)'!M17 -> 1396.98
C21: ='[1]Bilan_thermique_CF(+)'!C18 -> CF4 - Economat boucherie | D21: 13 | E21: 6 | F21: ='[1]Bilan_thermique_CF(+)'!M18 -> 3455
C22: ='[1]Bilan_thermique_CF(+)'!C19 -> CF5 - Labo boucherie | D22: 8 | E22: 4 | F22: ='[1]Bilan_thermique_CF(+)'!M19 -> 7212
C23: ='[1]Bilan_thermique_CF(+)'!C20 -> CF5 - Labo boucherie | D23: 8 | E23: 4 | F23: ='[1]Bilan_thermique_CF(+)'!M20 -> 7212
C24: ='[1]Bilan_thermique_CF(+)'!C21 -> CF6 - Local emballage | D24: 14 | E24: 4 | F24: ='[1]Bilan_thermique_CF(+)'!M21 -> 7840
C25: ='[1]Bilan_thermique_CF(+)'!C22 -> CF7 - Déchets poissonnerie | D25: 21 | E25: 3 | F25: ='[1]Bilan_thermique_CF(+)'!M22 -> 1397
C26: ='[1]Bilan_thermique_CF(+)'!C23 -> CF8 - Sushi | D26: 21 | E26: 3 | F26: ='[1]Bilan_thermique_CF(+)'!M23 -> 1397
C27: ='[1]Bilan_thermique_CF(+)'!C24 -> CF9 - Poissonnerie | D27: 17 | E27: 6 | F27: ='[1]Bilan_thermique_CF(+)'!M24 -> 6141
C28: ='[1]Bilan_thermique_CF(+)'!C25 -> CF10 - Labo Poissonnerie | D28: 16 | E28: 2 | F28: ='[1]Bilan_thermique_CF(+)'!M25 -> 8517
C29: ='[1]Bilan_thermique_CF(+)'!C26 -> CF11 - SAS Frais 1 | D29: 32 | E29: 3 | F29: ='[1]Bilan_thermique_CF(+)'!M26 -> 7348.5
C30: ='[1]Bilan_thermique_CF(+)'!C27 -> CF11 - SAS Frais 2 | D30: 39 | E30: 3 | F30: ='[1]Bilan_thermique_CF(+)'!M27 -> 7348.5
C31: ='[1]Bilan_thermique_CF(+)'!C28 -> CF12 - SAS Frais hiver | D31: 41 | E31: 2 | F31: ='[1]Bilan_thermique_CF(+)'!M28 -> 6953
... C55: ='[1]Bilan_thermique_CF(+)'!C52 -> CF33 - Local technique froid | D55: 1 | E55: 6 | F55: ='[1]Bilan_thermique_CF(+)'!M52 -> 7000
C56: ='[1]Bilan_thermique_CF(+)'!C53 -> 0 | F56: ='[1]Bilan_thermique_CF(+)'!M58
C57: ='[1]Bilan_thermique_CF(+)'!C54 -> 0 | F57: ='[1]Bilan_thermique_CF(+)'!M59
C58: ='[1]Bilan_thermique_CF(+)'!C60 -> 0 | F58: ='[1]Bilan_thermique_CF(+)'!M60
C59: ='[1]Bilan_thermique_CF(+)'!C61 -> 0 | F59: ='[1]Bilan_thermique_CF(+)'!M61
C60: ='[1]Bilan_thermique_CF(+)'!C62 -> 0 | F60: ='[1]Bilan_thermique_CF(+)'!M62
C61: ='[1]Bilan_thermique_CF(+)'!C63 -> 0 | F61: ='[1]Bilan_thermique_CF(+)'!M63
C62: ='[1]Bilan_thermique_CF(+)'!C64 -> 0 | F62: ='[1]Bilan_thermique_CF(+)'!M64
C63: ='[1]Bilan_thermique_CF(+)'!C65 -> 0 | F63: ='[1]Bilan_thermique_CF(+)'!M65
C64: ='[1]Bilan_thermique_CF(+)'!C66 -> 0 | F64: ='[1]Bilan_thermique_CF(+)'!M66 -> 0
C65: ='[1]Bilan_thermique_CF(+)'!C67 -> 0 | F65: ='[1]Bilan_thermique_CF(+)'!M67 -> 0
C66: ='[1]Bilan_thermique_CF(+)'!C68 -> 0 | F66: ='[1]Bilan_thermique_CF(+)'!M68 -> 0
C67: ='[1]Bilan_thermique_CF(+)'!C69 -> 0 | F67: ='[1]Bilan_thermique_CF(+)'!M69 -> 0
C68: ='[1]Bilan_thermique_CF(+)'!C70 -> 0 | F68: ='[1]Bilan_thermique_CF(+)'!M70 -> 0
C69: ='[1]Bilan_thermique_CF(+)'!C71 -> 0 | F69: ='[1]Bilan_thermique_CF(+)'!M71 -> 0
... C97: ='[1]Bilan_thermique_CF(+)'!C99 -> 0 | F97: ='[1]Bilan_thermique_CF(+)'!M99 -> 0
C99: VITRINES POSITIVES
B100: J/N | C100: Vitrines | D100: ind | E100: L(m) | F100: Puissance (w) | G100: Ø LIQ | H100: Ø ASPI | I100: V liq(m/s) | J100: V aspi (m/s) | K100: ∆P aspi( bar) | L100: ∆P liq( bar) | M100: ∆T aspi( K) | N100: ∆T liq( K)
...
