Workbook

Sheet Feuil1
E6: Type de fluide | F6: CO2-R744 | G6: T(°C) cond | I6: Vmax aspi(m/s) | J6: 12 | K6: ∆P max (Pa) | L6: 1.5
E7: Type de tube | G7: Sous ref (K) | I7: Vmin aspi(m/s) | J7: 6 | K7: ∆T max(K) | L7: 1
E8: T(°C) LT | G8: PS (bar) | H8: 60 | I8: Vmax liq(m/s) | K8: T° bouteille liquide
E9: T(°C) MT | G9: PS(bar) gaz-cooler | I9: Vmin liq(m/s)
E10: Surchauffe utile (°C)
E11: Sous-ref utile (°C)
C16: POSTES POSITIFS
B17: J/N | C17: Postes | D17: ind | E17: L(m) | F17: Puissance (w) | G17: Ø LIQ | H17: V liq(m/s) | I17: ∆P liq( bar) | J17: ∆T liq( K) | K17: Ø ASPI | L17: V aspi (m/s) | M17: ∆T aspi( bar) | N17: ∆T aspi( K)
C18: ='[1]Bilan_thermique_CF(+)'!C15 -> CF1- Produit finis | D18: 5 | E18: 2 | F18: ='[1]Bilan_thermique_CF(+)'!M15 -> 3858.8 | G18: Cu 3/8 | K18: Cu 1/2
C19: ='[1]Bilan_thermique_CF(+)'!C16 -> CF2- Boucherie | D19: 9 | E19: 5 | F19: ='[1]Bilan_thermique_CF(+)'!M16 -> 8673 | G19: Cu 5/8
C20: ='[1]Bilan_thermique_CF(+)'!C17 -> CF3 - Déchets boucherie | D20: 11 | E20: 8 | F20: ='[1]Bilan_thermique_CF(+)'!M17 -> 1396.98
C21: ='[1]Bilan_thermique_CF(+)'!C18 -> CF4 - Economat boucherie | D21: 13 | E21: 6 | F21: ='[1]Bilan_thermique_CF(+)'!M18 -> 3455
C22: ='[1]Bilan_thermique_CF(+)'!C19 -> CF5 - Labo boucherie | D22: 8 | E22: 4 | F22: ='[1]Bilan_thermique_CF(+)'!M19 -> 7212
C23: ='[1]Bilan_thermique_CF(+)'!C20 -> CF5 - Labo boucherie | D23: 8 | E23: 4 | F23: ='[1]Bilan_thermique_CF(+)'!M20 -> 7212
C24: ='[1]Bilan_thermique_CF(+)'!C21 -> CF6 - Local emballage | D24: 14 | E24: 4 | F24: ='[1]Bilan_thermique_CF(+)'!M21 -> 7840
C25: ='[1]Bilan_thermique_CF(+)'!C22 -> CF7 - Déchets poissonnerie | D25: 21 | E25: 3 | F25: ='[1]Bilan_thermique_CF(+)'!M22 -> 1397
C26: ='[1]Bilan_thermique_CF(+)'!C23 -> CF8 - Sushi | D26: 21 | E26: 3 | F26: ='[1]Bilan_thermique_CF(+)'!M23 -> 1397
C27: ='[1]Bilan_thermique_CF(+)'!C24 -> CF9 - Poissonnerie | D27: 17 | E27: 6 | F27: ='[1]Bilan_thermique_CF(+)'!M24 -> 6141
C28: ='[1]Bilan_thermique_CF(+)'!C25 -> CF10 - Labo Poissonnerie | D28: 16 | E28: 2 | F28: ='[1]Bilan_thermique_CF(+)'!M25 -> 8517
C29: ='[1]Bilan_thermique_CF(+)'!C26 -> CF11 - SAS Frais 1 | D29: 32 | E29: 3 | F29: ='[1]Bilan_thermique_CF(+)'!M26 -> 7348.5
C30: ='[1]Bilan_thermique_CF(+)'!C27 -> CF11 - SAS Frais 2 | D30: 39 | E30: 3 | F30: ='[1]Bilan_thermique_CF(+)'!M27 -> 7348.5
C31: ='[1]Bilan_thermique_CF(+)'!C28 -> CF12 - SAS Frais hiver | D31: 41 | E31: 2 | F31: ='[1]Bilan_thermique_CF(+)'!M28 -> 6953
... C55: ='[1]Bilan_thermique_CF(+)'!C52 -> CF33 - Local technique froid | D55: 1 | E55: 6 | F55: ='[1]Bilan_thermique_CF(+)'!M52 -> 7000
C56: ='[1]Bilan_thermique_CF(+)'!C53 -> 0 | F56: ='[1]Bilan_thermique_CF(+)'!M58
C57: ='[1]Bilan_thermique_CF(+)'!C54 -> 0 | F57: ='[1]Bilan_thermique_CF(+)'!M59
C58: ='[1]Bilan_thermique_CF(+)'!C60 -> 0 | F58: ='[1]Bilan_thermique_CF(+)'!M60
C59: ='[1]Bilan_thermique_CF(+)'!C61 -> 0 | F59: ='[1]Bilan_thermique_CF(+)'!M61
C60: ='[1]Bilan_thermique_CF(+)'!C62 -> 0 | F60: ='[1]Bilan_thermique_CF(+)'!M62
C61: ='[1]Bilan_thermique_CF(+)'!C63 -> 0 | F61: ='[1]Bilan_thermique_CF(+)'!M63
C62: ='[1]Bilan_thermique_CF(+)'!C64 -> 0 | F62: ='[1]Bilan_thermique_CF(+)'!M64
C63: ='[1]Bilan_thermique_CF(+)'!C65 -> 0 | F63: ='[1]Bilan_thermique_CF(+)'!M65
C64: ='[1]Bilan_thermique_CF(+)'!C66 -> 0 | F64: ='[1]Bilan_thermique_CF(+)'!M66 -> 0
C65: ='[1]Bilan_thermique_CF(+)'!C67 -> 0 | F65: ='[1]Bilan_thermique_CF(+)'!M67 -> 0
C66: ='[1]Bilan_thermique_CF(+)'!C68 -> 0 | F66: ='[1]Bilan_thermique_CF(+)'!M68 -> 0
C67: ='[1]Bilan_thermique_CF(+)'!C69 -> 0 | F67: ='[1]Bilan_thermique_CF(+)'!M69 -> 0
C68: ='[1]Bilan_thermique_CF(+)'!C70 -> 0 | F68: ='[1]Bilan_thermique_CF(+)'!M70 -> 0
C69: ='[1]Bilan_thermique_CF(+)'!C71 -> 0 | F69: ='[1]Bilan_thermique_CF(+)'!M71 -> 0
... C97: ='[1]Bilan_thermique_CF(+)'!C99 -> 0 | F97: ='[1]Bilan_thermique_CF(+)'!M99 -> 0
C99: VITRINES POSITIVES
B100: J/N | C100: Vitrines | D100: ind | E100: L(m) | F100: Puissance (w) | G100: Ø LIQ | H100: Ø ASPI | I100: V liq(m/s) | J100: V aspi (m/s) | K100: ∆P aspi( bar) | L100: ∆P liq( bar) | M100: ∆T aspi( K) | N100: ∆T liq( K)
C101: =[1]Bilan_des_puissances!C52 -> Concept Apéro + Boissons fraiches | D101: 20 | E101: 3 | F101: =[1]Vitrines_positives!H10 -> 5500
C102: =[1]Bilan_des_puissances!C53 -> Boissons fraiches | D102: 19 | E102: 3 | F102: =[1]Vitrines_positives!H11 -> 825
C103: =[1]Bilan_des_puissances!C54 -> Vins vitrine | D103: 18 | E103: 15 | F103: =[1]Vitrines_positives!H12 -> 2063
C104: =[1]Bilan_des_puissances!C55 -> Bac poissonnerie LS | D104: 26 | E104: 3 | F104: =[1]Vitrines_positives!H13 -> 2375
C105: =[1]Bilan_des_puissances!C56 -> TG Bac poisson LS | D105: 26 | E105: 1 | F105: =[1]Vitrines_positives!H14 -> 1225
C106: =[1]Bilan_des_puissances!C57 -> Bac poissonnerie LS | D106: 25 | E106: 3 | F106: =[1]Vitrines_positives!H15 -> 2375
C107: =[1]Bilan_des_puissances!C58 -> TG Bac poisson LS | D107: 25 | E107: 1 | F107: =[1]Vitrines_positives!H16 -> 1225
C108: =[1]Bilan_des_puissances!C59 -> Bac poissonnerie LS | D108: 24 | E108: 3 | F108: =[1]Vitrines_positives!H17 -> 2375
C109: =[1]Bilan_des_puissances!C60 -> TG Bac poisson LS | D109: 24 | E109: 1 | F109: =[1]Vitrines_positives!H18 -> 1225
C110: =[1]Bilan_des_puissances!C61 -> Etal Réfrigéré | D110: 22 | E110: 10 | F110: =[1]Vitrines_positives!H19 -> 7500
C111: =[1]Bilan_des_puissances!C62 -> Volaille LS | D111: 28 | E111: 3 | F111: =[1]Vitrines_positives!H20 -> 4813
C112: =[1]Bilan_des_puissances!C63 -> Boucherie UVCI | D112: 28 | E112: 3 | F112: =[1]Vitrines_positives!H21 -> 1375
C113: =[1]Bilan_des_puissances!C64 -> Boucherie Trad | D113: 31 | E113: 3 | F113: =[1]Vitrines_positives!H22 -> 1750
... C157: =[1]Bilan_des_puissances!C108 -> Patisserie snack | D157: 66a | E157: 3 | F157: =[1]Vitrines_positives!H66 -> 403
C158: =[1]Bilan_des_puissances!C109 -> 0
C159: =[1]Bilan_des_puissances!C110 -> 0
C160: =[1]Bilan_des_puissances!C111 -> 0
C161: =[1]Bilan_des_puissances!C112 -> 0
C162: =[1]Bilan_des_puissances!C113 -> 0
C163: =[1]Bilan_des_puissances!C114 -> 0
C164: =[1]Bilan_des_puissances!C115 -> 0
C165: =[1]Bilan_des_puissances!C116 -> 0
C166: =[1]Bilan_des_puissances!C117 -> 0
C167: =[1]Bilan_des_puissances!C118 -> 0
C168: =[1]Bilan_des_puissances!C119 -> 0
C169: =[1]Bilan_des_puissances!C120 -> 0
... C199: =[1]Bilan_des_puissances!C150 -> 0
C201: POSTES NEGATIFS
B202: J/N | C202: Postes | D202: ind | E202: L(m) | F202: Puissance (w) | G202: Ø LIQ | H202: Ø ASPI | I202: V liq(m/s) | J202: V aspi (m/s) | K202: ∆P aspi( bar) | L202: ∆P liq( bar) | M202: ∆T aspi( K) | N202: ∆T liq( K)
C203: ='[1]Bilan_thermique_CF(-)'!C13 -> CF Surgélés | D203: N9 | E203: 16 | F203: ='[1]Bilan_thermique_CF(-)'!M13 -> 8112
C204: ='[1]Bilan_thermique_CF(-)'!C14 -> CF Surgélés BVP | D204: N10 | E204: 10 | F204: ='[1]Bilan_thermique_CF(-)'!M14 -> 8027.5
C205: ='[1]Bilan_thermique_CF(-)'!C15 -> CF Surgélés patisserie | D205: N11 | E205: 12 | F205: ='[1]Bilan_thermique_CF(-)'!M15 -> 1674.1123
A206: 4 | C206: ='[1]Bilan_thermique_CF(-)'!C16 -> 0
A207: 5 | C207: ='[1]Bilan_thermique_CF(-)'!C17 -> 0
A208: 6 | C208: ='[1]Bilan_thermique_CF(-)'!C18 -> 0
A209: 7 | C209: ='[1]Bilan_thermique_CF(-)'!C19 -> 0
A210: 8 | C210: ='[1]Bilan_thermique_CF(-)'!C20 -> 0
A211: 9 | C211: ='[1]Bilan_thermique_CF(-)'!C21 -> 0
A212: 10 | C212: ='[1]Bilan_thermique_CF(-)'!C22 -> 0
A213: 11 | C213: ='[1]Bilan_thermique_CF(-)'!C23 -> 0
A214: 12 | C214: ='[1]Bilan_thermique_CF(-)'!C24 -> 0
A215: 13 | C215: ='[1]Bilan_thermique_CF(-)'!C25 -> 0
A216: 14 | C216: ='[1]Bilan_thermique_CF(-)'!C26 -> 0
A217: 15 | C217: ='[1]Bilan_thermique_CF(-)'!C27 -> 0
... A220: 18 | C220: ='[1]Bilan_thermique_CF(-)'!C30 -> 0
C222: VITRINES NEGATIVES
B223: J/N | C223: VITRINES | D223: ind | E223: L(m) | F223: Puissance (w) | G223: Ø LIQ | H223: Ø ASPI | I223: V liq(m/s) | J223: V aspi (m/s) | K223: ∆P aspi( bar) | L223: ∆P liq( bar) | M223: ∆T aspi( K) | N223: ∆T liq( K)
C224: =[1]Vitrines_négatives!D12 -> Surgelés BAC | D224: N8 | E224: 2 | F224: =[1]Vitrines_négatives!H12 -> 2813
C225: =[1]Vitrines_négatives!D13 -> TG Surgelés BAC | D225: N8 | E225: 4 | F225: =[1]Vitrines_négatives!H13 -> 357
C226: =[1]Vitrines_négatives!D14 -> Surgelés BAC | D226: N7 | E226: 2 | F226: =[1]Vitrines_négatives!H14 -> 2813
C227: =[1]Vitrines_négatives!D15 -> TG Surgelés BAC | D227: N7 | E227: 4 | F227: =[1]Vitrines_négatives!H15 -> 357
C228: =[1]Vitrines_négatives!D16 -> Surgelés BAC | D228: N6 | E228: 2 | F228: =[1]Vitrines_négatives!H16 -> 2813
C229: =[1]Vitrines_négatives!D17 -> TG Surgelés BAC | D229: N6 | E229: 4 | F229: =[1]Vitrines_négatives!H17 -> 357
C230: =[1]Vitrines_négatives!D18 -> Armoire surgelés | D230: N4 | E230: 8 | F230: =[1]Vitrines_négatives!H18 -> 8190
C231: =[1]Vitrines_négatives!D19 -> Armoire surgelés drive | D231: N12 | E231: 2 | F231: =[1]Vitrines_négatives!H19 -> 1750
C232: =[1]Vitrines_négatives!D20 -> Armoire surgelés drive | D232: N12 | E232: 5 | F232: =[1]Vitrines_négatives!H20 -> 1750
C233: =[1]Vitrines_négatives!D21 -> Armoire surgelés drive | D233: N13 | E233: 5 | F233: =[1]Vitrines_négatives!H21 -> 1750
C234: =[1]Vitrines_négatives!D22 -> Armoire surgelés drive | D234: N13 | E234: 2 | F234: =[1]Vitrines_négatives!H22 -> 1750
C235: =[1]Vitrines_négatives!D23 -> 0 | F235: =[1]Vitrines_négatives!H23 -> 0
C236: =[1]Vitrines_négatives!D24 -> 0 | F236: =[1]Vitrines_négatives!H24 -> 0
...
