Workbook

Sheet Feuil1
A1: Essence | B1: D 2011 | C1: D 2012 | D1: D 2013 | E1: D 2014 | F1: D 2015 | G1: C 2011 | H1: C 2012 | I1: C 2013 | J1: C 2014 | K1: C 2015 | L1: Accroissement annuel total (cm/an) | M1: Accroissement annuel 1ère classe (cm/an)2 | N1: Accroissement annuel 2e classe(cm/an) si nécessaire
A2: Sapelli | B2: 54 | C2: 55 | D2: 56 | E2: 57 | F2: 58 | G2: =ROUNDDOWN(Feuil1!$B2/10,0) -> 5 | H2: =ROUNDDOWN(Feuil1!$C2/10,0) -> 5 | I2: =ROUNDDOWN(Feuil1!$D2/10,0) -> 5 | J2: =ROUNDDOWN(Feuil1!$E2/10,0) -> 5 | K2: =ROUNDDOWN(Feuil1!$F2/10,0) -> 5 | L2: =(F2-B2)/5 -> 0.8 | M2: =(F2-B2)/5 -> 0.8
A3: Sapelli | B3: 75 | C3: 78 | D3: 82 | E3: 85 | F3: 86 | G3: =ROUNDDOWN(Feuil1!$B3/10,0) -> 7 | H3: =ROUNDDOWN(Feuil1!$C3/10,0) -> 7 | I3: =ROUNDDOWN(Feuil1!$D3/10,0) -> 8 | J3: =ROUNDDOWN(Feuil1!$E3/10,0) -> 8 | K3: =ROUNDDOWN(Feuil1!$F3/10,0) -> 8 | L3: =(F3-B3)/5 -> 2.2 | M3: =(C3-B3)/2 -> 1.5 | N3: =(F3-D3)/3 -> 1.3333333
A4: Sapelli | B4: 24 | C4: 25 | D4: 28 | E4: 28 | F4: 29 | G4: =ROUNDDOWN(Feuil1!$B4/10,0) -> 2 | H4: =ROUNDDOWN(Feuil1!$C4/10,0) -> 2 | I4: =ROUNDDOWN(Feuil1!$D4/10,0) -> 2 | J4: =ROUNDDOWN(Feuil1!$E4/10,0) -> 2 | K4: =ROUNDDOWN(Feuil1!$F4/10,0) -> 2 | L4: =(F4-B4)/5 -> 1 | M4: =(F4-B4)/5 -> 1
A5: Kosipo | B5: 47 | C5: 49 | D5: 54 | E5: 56 | F5: 58 | G5: =ROUNDDOWN(Feuil1!$B5/10,0) -> 4 | H5: =ROUNDDOWN(Feuil1!$C5/10,0) -> 4 | I5: =ROUNDDOWN(Feuil1!$D5/10,0) -> 5 | J5: =ROUNDDOWN(Feuil1!$E5/10,0) -> 5 | K5: =ROUNDDOWN(Feuil1!$F5/10,0) -> 5 | L5: =(F5-B5)/5 -> 2.2 | M5: =(C5-B5)/2 -> 1 | N5: =(F5-D5)/3 -> 1.3333333
A6: Kosipo | B6: 21 | C6: 25 | D6: 25 | E6: 26 | F6: 28 | G6: =ROUNDDOWN(Feuil1!$B6/10,0) -> 2 | H6: =ROUNDDOWN(Feuil1!$C6/10,0) -> 2 | I6: =ROUNDDOWN(Feuil1!$D6/10,0) -> 2 | J6: =ROUNDDOWN(Feuil1!$E6/10,0) -> 2 | K6: =ROUNDDOWN(Feuil1!$F6/10,0) -> 2 | L6: =(F6-B6)/5 -> 1.4 | M6: =(F6-B6)/5 -> 1.4
A7: Padouk | B7: 45 | C7: 48 | D7: 49 | E7: 52 | F7: 53 | G7: =ROUNDDOWN(Feuil1!$B7/10,0) -> 4 | H7: =ROUNDDOWN(Feuil1!$C7/10,0) -> 4 | I7: =ROUNDDOWN(Feuil1!$D7/10,0) -> 4 | J7: =ROUNDDOWN(Feuil1!$E7/10,0) -> 5 | K7: =ROUNDDOWN(Feuil1!$F7/10,0) -> 5 | L7: =(F7-B7)/5 -> 1.6 | M7: =(D7-B7)/3 -> 1.3333333 | N7: =(F7-E7)/2 -> 0.5
A9: Remarques:
A10: D = diamètre
A11: C = classe de diamètre
A13: Classe 1 | B13: 10<= <20
A14: Classe 2 | B14: 20<= <30
A15: Classe 3 | B15: 30<= <40
A16: Classe 4 | B16: 40<= <50
A17: Classe 5 | B17: 50<= <60
A18: etc jusque classe 25

Sheet TCD
A3: Moyenne de Accroissement annuel brut (cm/an) | B3: Étiquettes de colonnes
A4: Étiquettes de lignes | B4: 2 | C4: 5 | D4: 8 | E4: Total général
A5: Kosipo | B5: 1.4 | C5: 1.8 | E5: 1.6
A6: Padouk | C6: 1.6 | E6: 1.6
A7: Sapelli | B7: 1 | C7: 0.8 | D7: 1.6 | E7: 1.1333333
A8: Total général | B8: 1.2 | C8: 1.4 | D8: 1.6 | E8: 1.3666667
A11: Le tableau ci-dessus donne les accroissements moyens par classe en fonction de la classe dans laquelle se situait l'arbres en 2011
A12: Je souhaiterais également avoir l'accroissement par classe au cas où cette classe aurait changé entre 2011 et 2015.
A14: Je souhaiterais donc arriver à : (après compilation manuelle pour toutes les années)
A16: Étiquettes de lignes | B16: 2 | C16: 4 | D16: 5 | E16: 7 | F16: 8
A17: Kosipo | B17: 1.4 | C17: 1.8 | D17: 1.8
A18: Padouk | C18: 1.6 | D18: 1.6
A19: Sapelli | B19: 1 | D19: 0.8 | E19: 1.6 | F19: 1.6
A22: En réalité, il y a 11 années de suivi sur plus de 1.200 arbres, il est donc indispensable d'automatiser le calcul.

Sheet Feuil2

Sheet Feuil3
