Workbook
Name bddBT: #REF!
Name RaisonSociale: #REF!

Sheet bddBT
A1: place | B1: id | C1: n° client | D1: n° BT | E1: TYPE DE bt | F1: equipement | G1: facturer | H1: avoir | I1: date de verif | J1: date de cloture | K1: RAISON SOCIAL | L1: adresse | M1: vf réaliser
A2: =ROW() -> 2 | B2: 144 | C2: 1013532 | D2: 20510273 | E2: BTV | F2: BAES | I2: 45462 | J2: 45462 | K2: A | L2: LANMODEZ | M2: 29
A3: =ROW() -> 3 | B3: 143 | C3: 1013532 | D3: 20510274 | E3: BTV | F3: EXTINCTEUR | I3: 45462 | J3: 45462 | K3: A | L3: LANMODEZ | M3: 14
A4: =ROW() -> 4 | B4: 142 | C4: 1013532 | D4: 20510271 | E4: BTV | F4: BAES | I4: 45461 | J4: 45462 | K4: B | L4: LANMODEZ | M4: 23
A5: =ROW() -> 5 | B5: 141 | C5: 1013532 | D5: 20510272 | E5: BTV | F5: EXTINCTEUR | I5: 45461 | J5: 45462 | K5: B | L5: LANMODEZ | M5: 11
A6: =ROW() -> 6 | B6: 140 | C6: 1013532 | D6: 20510275 | E6: BTV | F6: ALARME | I6: 45461 | J6: 45462 | K6: C | L6: LANMODEZ | M6: 11
A7: =ROW() -> 7 | B7: 139 | C7: 3881793 | D7: 20197570 | E7: BTV | F7: BAES | I7: 45370 | J7: 45460 | K7: D | L7: BEGARD | M7: 3
A8: =ROW() -> 8 | B8: 138 | C8: 3881793 | D8: 20197451 | E8: BTV | F8: EXTINCTEUR | I8: 45370 | J8: 45460 | K8: D | L8: BEGARD | M8: 4
A9: =ROW() -> 9 | B9: 137 | C9: 957900 | D9: 20593033 | E9: BTV | F9: EXTINCTEUR | I9: 45460 | J9: 45460 | K9: E | L9: LANNION | M9: 4
A10: 14 | B10: 132 | C10: 1055358 | D10: 20510452 | E10: BTV | F10: RIA | G10: 0 | H10: 0 | I10: 45457 | J10: 0 | K10: K | L10: LANNION | M10: 2
A11: 15 | B11: 131 | C11: 1055358 | D11: 20510451 | E11: BTV | F11: BAES | G11: 0 | H11: 0 | I11: 45457 | J11: 0 | K11: K | L11: LANNION | M11: 40
A12: 16 | B12: 130 | C12: 1055358 | D12: 20510452 | E12: BTV | F12: RIA | G12: 0 | H12: 0 | I12: 45456 | J12: 0 | K12: K | L12: LANNION | M12: 9
A13: 17 | B13: 129 | C13: 1055358 | D13: 20510451 | E13: BTV | F13: BAES | G13: 0 | H13: 0 | I13: 45456 | J13: 0 | K13: K | L13: LANNION | M13: 53
A14: 255 | B14: 852 | C14: 1055358 | D14: 20169947 | E14: BTV | F14: EXTINCTEUR | G14: 0 | H14: 0 | I14: 45334 | J14: 45334 | K14: K | L14: LANNION | M14: 0
A15: 256 | B15: 851 | C15: 1055358 | D15: 20169186 | E15: BTV | F15: EXTINCTEUR | G15: 0 | H15: 0 | I15: 45334 | J15: 45334 | K15: K | L15: LANNION | M15: 0
A16: 337 | B16: 770 | C16: 1055358 | D16: 20169186 | E16: BTV | F16: EXTINCTEUR | G16: 0 | H16: 0 | I16: 45301 | J16: 45334 | K16: K | L16: LANNION | M16: 39
A17: 338 | B17: 769 | C17: 1055358 | D17: 20169947 | E17: BTV | F17: EXTINCTEUR | G17: 0 | H17: 0 | I17: 45301 | J17: 45334 | K17: K | L17: LANNION | M17: 1
A18: 340 | B18: 767 | C18: 1055358 | D18: 20169186 | E18: BTV | F18: EXTINCTEUR | G18: 0 | H18: 0 | I18: 45300 | J18: 45334 | K18: K | L18: LANNION | M18: 45
A19: 341 | B19: 766 | C19: 1055358 | D19: 20169947 | E19: BTV | F19: EXTINCTEUR | G19: 0 | H19: 0 | I19: 45300 | J19: 45334 | K19: K | L19: LANNION | M19: 12
A20: 342 | B20: 765 | C20: 1055358 | D20: 20169947 | E20: BTV | F20: EXTINCTEUR | G20: 0 | H20: 0 | I20: 45299 | J20: 45334 | K20: K | L20: LANNION | M20: 10
A21: 343 | B21: 764 | C21: 1055358 | D21: 20169186 | E21: BTV | F21: EXTINCTEUR | G21: 0 | H21: 0 | I21: 45299 | J21: 45334 | K21: K | L21: LANNION | M21: 31
A22: 712 | B22: 395 | C22: 1055358 | D22: 19404374 | E22: BTP | F22: EXTINCTEUR | G22: 0 | H22: 0 | I22: 45148 | J22: 45188 | K22: K | L22: LANNION | M22: 0
A23: 803 | B23: 304 | C23: 1055358 | D23: 19251015 | E23: BTP | F23: EXTINCTEUR | G23: POSE | H23: 0 | I23: 45093 | J23: 45093 | K23: K | L23: LANNION | M23: 0
A24: 808 | B24: 299 | C24: 1055358 | D24: 18992170 | E24: BTV | F24: BAES | G24: OUI | H24: 0 | I24: 45091 | J24: 45091 | K24: K | L24: LANNION | M24: 41
A25: 809 | B25: 298 | C25: 1055358 | D25: 18992171 | E25: BTV | F25: RIA | G25: OUI | H25: 0 | I25: 45091 | J25: 45091 | K25: K | L25: LANNION | M25: 2
A26: 905 | B26: 202 | C26: 1055358 | D26: 19099936 | E26: BTP | F26: EXTINCTEUR | G26: OUI | H26: 0 | I26: 45037 | J26: 45037 | K26: K | L26: LANNION | M26: 0
A27: 922 | B27: 185 | C27: 1055358 | D27: 17713138 | E27: BTP | F27: EXTINCTEUR | G27: OUI | H27: 0 | I27: 45033 | J27: 45033 | K27: K | L27: lannion | M27: 0

Sheet Proposition
C2: RS ----> | D2: K | E2: =D5 -> 17713138 | F2: =D6 -> 18992170 | G2: =D7 -> 18992171 | H2: =D8 -> 19099936 | I2: =D9 -> 19251015 | J2: =D10 -> 19404374 | K2: =D11 -> 20169186 | L2: =D12 | M2: =D13 | N2: =D14 | O2: =D15 -> 20169947 | P2: =D16 | Q2: =D17 | R2: =D18 | S2: =D19 -> 20510451 | T2: =D20 | U2: =D21 -> 20510452 | V2: =D22 | W2: =D23 -> 0
A4: {=bddBT1[#Headers]} -> place | B4: id | C4: n° client | D4: n° BT | E4: TYPE DE bt | F4: equipement | G4: facturer | H4: avoir | I4: date de verif | J4: date de cloture | K4: RAISON SOCIAL | L4: adresse | M4: vf réaliser | O4: {=_xlfn._xlws.FILTER(Proposition!$A$5:$M$22,$D$5:$D$22=E$2,"aucun resultat")} -> 922 | P4: 185 | Q4: 1055358 | R4: 17713138 | S4: BTP | T4: EXTINCTEUR | U4: OUI | V4: 0 | W4: 45033 | X4: 45033 | Y4: K | Z4: lannion | AA4: 0
A5: {=_xlfn.LET( _xlpm._tb,_xlfn._xlws.SORT(_xlfn._xlws.FILTER(bddBT1[],bddBT1[RAISON SOCIAL]=D2),4,1), _xlpm._bt,_xlfn.LET(_xlpm.bt,INDEX(_xlpm._tb,,4),_xlpm.e,_xlfn.XMATCH(_xlpm.bt,_xlpm.bt),_xlpm.f,FREQUENCY(_xlpm.e,_xlpm.e),IF(_xlpm.f,_xlpm.bt,"")), CHOOSE({1,2,3,4,5,6,7,8,9,10,11,12,13},INDEX(_xlpm._tb,,1),INDEX(_xlpm._tb,,2),INDEX(_xlpm._tb,,3),INDEX(_xlpm._bt,_xlfn.SEQUENCE(ROWS(_xlpm._bt)-1)),INDEX(_xlpm._tb,,5),INDEX(_xlpm._tb,,6),INDEX(_xlpm._tb,,7),INDEX(_xlpm._tb,,8),INDEX(_xlpm._tb,,9),INDEX(_xlpm._tb,,10),INDEX(_xlpm._tb,,11),INDEX(_xlpm._tb,,12),,INDEX(_xlpm._tb,,13)) )} -> 922 | B5: 185 | C5: 1055358 | D5: 17713138 | E5: BTP | F5: EXTINCTEUR | G5: OUI | H5: 0 | I5: 45033 | J5: 45033 | K5: K | L5: lannion | M5: 0 | O5: {=_xlfn._xlws.FILTER(Proposition!$A$5:$M$22,$D$5:$D$22=F$2,"aucun resultat")} -> 808 | P5: 299 | Q5: 1055358 | R5: 18992170 | S5: BTV | T5: BAES | U5: OUI | V5: 0 | W5: 45091 | X5: 45091 | Y5: K | Z5: LANNION | AA5: 0
A6: 808 | B6: 299 | C6: 1055358 | D6: 18992170 | E6: BTV | F6: BAES | G6: OUI | H6: 0 | I6: 45091 | J6: 45091 | K6: K | L6: LANNION | M6: 0 | O6: {=_xlfn._xlws.FILTER(Proposition!$A$5:$M$22,$D$5:$D$22=G$2,"aucun resultat")} -> 809 | P6: 298 | Q6: 1055358 | R6: 18992171 | S6: BTV | T6: RIA | U6: OUI | V6: 0 | W6: 45091 | X6: 45091 | Y6: K | Z6: LANNION | AA6: 0
A7: 809 | B7: 298 | C7: 1055358 | D7: 18992171 | E7: BTV | F7: RIA | G7: OUI | H7: 0 | I7: 45091 | J7: 45091 | K7: K | L7: LANNION | M7: 0 | O7: {=_xlfn._xlws.FILTER(Proposition!$A$5:$M$22,$D$5:$D$22=H$2,"aucun resultat")} -> 905 | P7: 202 | Q7: 1055358 | R7: 19099936 | S7: BTP | T7: EXTINCTEUR | U7: OUI | V7: 0 | W7: 45037 | X7: 45037 | Y7: K | Z7: LANNION | AA7: 0
A8: 905 | B8: 202 | C8: 1055358 | D8: 19099936 | E8: BTP | F8: EXTINCTEUR | G8: OUI | H8: 0 | I8: 45037 | J8: 45037 | K8: K | L8: LANNION | M8: 0 | O8: {=_xlfn._xlws.FILTER(Proposition!$A$5:$M$22,$D$5:$D$22=I$2,"aucun resultat")} -> 803 | P8: 304 | Q8: 1055358 | R8: 19251015 | S8: BTP | T8: EXTINCTEUR | U8: POSE | V8: 0 | W8: 45093 | X8: 45093 | Y8: K | Z8: LANNION | AA8: 0
A9: 803 | B9: 304 | C9: 1055358 | D9: 19251015 | E9: BTP | F9: EXTINCTEUR | G9: POSE | H9: 0 | I9: 45093 | J9: 45093 | K9: K | L9: LANNION | M9: 0 | O9: {=_xlfn._xlws.FILTER(Proposition!$A$5:$M$22,$D$5:$D$22=J$2,"aucun resultat")} -> 712 | P9: 395 | Q9: 1055358 | R9: 19404374 | S9: BTP | T9: EXTINCTEUR | U9: 0 | V9: 0 | W9: 45148 | X9: 45188 | Y9: K | Z9: LANNION | AA9: 0
A10: 712 | B10: 395 | C10: 1055358 | D10: 19404374 | E10: BTP | F10: EXTINCTEUR | G10: 0 | H10: 0 | I10: 45148 | J10: 45188 | K10: K | L10: LANNION | M10: 0 | O10: {=_xlfn._xlws.FILTER(Proposition!$A$5:$M$22,$D$5:$D$22=K$2,"aucun resultat")} -> 256 | P10: 851 | Q10: 1055358 | R10: 20169186 | S10: BTV | T10: EXTINCTEUR | U10: 0 | V10: 0 | W10: 45334 | X10: 45334 | Y10: K | Z10: LANNION | AA10: 0
A11: 256 | B11: 851 | C11: 1055358 | D11: 20169186 | E11: BTV | F11: EXTINCTEUR | G11: 0 | H11: 0 | I11: 45334 | J11: 45334 | K11: K | L11: LANNION | M11: 0 | O11: {=_xlfn._xlws.FILTER(Proposition!$A$5:$M$22,$D$5:$D$22=L$2,"aucun resultat")} -> #VALUE!
A12: 337 | B12: 770 | C12: 1055358 | E12: BTV | F12: EXTINCTEUR | G12: 0 | H12: 0 | I12: 45301 | J12: 45334 | K12: K | L12: LANNION | M12: 0 | O12: {=_xlfn._xlws.FILTER(Proposition!$A$5:$M$22,$D$5:$D$22=M$2,"aucun resultat")} -> #VALUE!
A13: 340 | B13: 767 | C13: 1055358 | E13: BTV | F13: EXTINCTEUR | G13: 0 | H13: 0 | I13: 45300 | J13: 45334 | K13: K | L13: LANNION | M13: 0 | O13: {=_xlfn._xlws.FILTER(Proposition!$A$5:$M$22,$D$5:$D$22=N$2,"aucun resultat")} -> #VALUE!
A14: 343 | B14: 764 | C14: 1055358 | E14: BTV | F14: EXTINCTEUR | G14: 0 | H14: 0 | I14: 45299 | J14: 45334 | K14: K | L14: LANNION | M14: 0 | O14: {=_xlfn._xlws.FILTER(Proposition!$A$5:$M$22,$D$5:$D$22=O$2,"aucun resultat")} -> 255 | P14: 852 | Q14: 1055358 | R14: 20169947 | S14: BTV | T14: EXTINCTEUR | U14: 0 | V14: 0 | W14: 45334 | X14: 45334 | Y14: K | Z14: LANNION | AA14: 0
A15: 255 | B15: 852 | C15: 1055358 | D15: 20169947 | E15: BTV | F15: EXTINCTEUR | G15: 0 | H15: 0 | I15: 45334 | J15: 45334 | K15: K | L15: LANNION | M15: 0 | O15: {=_xlfn._xlws.FILTER(Proposition!$A$5:$M$22,$D$5:$D$22=P$2,"aucun resultat")} -> #VALUE!
A16: 338 | B16: 769 | C16: 1055358 | E16: BTV | F16: EXTINCTEUR | G16: 0 | H16: 0 | I16: 45301 | J16: 45334 | K16: K | L16: LANNION | M16: 0 | O16: {=_xlfn._xlws.FILTER(Proposition!$A$5:$M$22,$D$5:$D$22=Q$2,"aucun resultat")} -> #VALUE!
A17: 341 | B17: 766 | C17: 1055358 | E17: BTV | F17: EXTINCTEUR | G17: 0 | H17: 0 | I17: 45300 | J17: 45334 | K17: K | L17: LANNION | M17: 0 | O17: {=_xlfn._xlws.FILTER(Proposition!$A$5:$M$22,$D$5:$D$22=R$2,"aucun resultat")} -> #VALUE!
A18: 342 | B18: 765 | C18: 1055358 | E18: BTV | F18: EXTINCTEUR | G18: 0 | H18: 0 | I18: 45299 | J18: 45334 | K18: K | L18: LANNION | M18: 0 | O18: {=_xlfn._xlws.FILTER(Proposition!$A$5:$M$22,$D$5:$D$22=S$2,"aucun resultat")} -> 15 | P18: 131 | Q18: 1055358 | R18: 20510451 | S18: BTV | T18: BAES | U18: 0 | V18: 0 | W18: 45457 | X18: 0 | Y18: K | Z18: LANNION | AA18: 0
A19: 15 | B19: 131 | C19: 1055358 | D19: 20510451 | E19: BTV | F19: BAES | G19: 0 | H19: 0 | I19: 45457 | J19: 0 | K19: K | L19: LANNION | M19: 0 | O19: {=_xlfn._xlws.FILTER(Proposition!$A$5:$M$22,$D$5:$D$22=T$2,"aucun resultat")} -> #VALUE!
A20: 17 | B20: 129 | C20: 1055358 | E20: BTV | F20: BAES | G20: 0 | H20: 0 | I20: 45456 | J20: 0 | K20: K | L20: LANNION | M20: 0 | O20: {=_xlfn._xlws.FILTER(Proposition!$A$5:$M$22,$D$5:$D$22=U$2,"aucun resultat")} -> 14 | P20: 132 | Q20: 1055358 | R20: 20510452 | S20: BTV | T20: RIA | U20: 0 | V20: 0 | W20: 45457 | X20: 0 | Y20: K | Z20: LANNION | AA20: 0
A21: 14 | B21: 132 | C21: 1055358 | D21: 20510452 | E21: BTV | F21: RIA | G21: 0 | H21: 0 | I21: 45457 | J21: 0 | K21: K | L21: LANNION | M21: 0 | O21: {=_xlfn._xlws.FILTER(Proposition!$A$5:$M$22,$D$5:$D$22=V$2,"aucun resultat")} -> #VALUE!
A22: 16 | B22: 130 | C22: 1055358 | E22: BTV | F22: RIA | G22: 0 | H22: 0 | I22: 45456 | J22: 0 | K22: K | L22: LANNION | M22: 0 | O22: {=_xlfn._xlws.FILTER(Proposition!$A$5:$M$22,$D$5:$D$22=O$2,"aucun resultat")} -> 255 | P22: 852 | Q22: 1055358 | R22: 20169947 | S22: BTV | T22: EXTINCTEUR | U22: 0 | V22: 0 | W22: 45334 | X22: 45334 | Y22: K | Z22: LANNION | AA22: 0
