Workbook
Name ANNEE: Feuil1!$G$2

Sheet Feuil1
B1: TEST
G2: 2024 | I2: =DATE($G$2,1,1) -> 45292 | Q2: =DATE($G$2,2,1) -> 45323 | Y2: =DATE($G$2,3,1) -> 45352 | AG2: JOURS FÉRIÉS
B3: J. ouvrés | C3: CP | D3: Jours travaillés | E3: Tickets | I3: L | J3: M | K3: M | L3: J | M3: V | N3: S | O3: D | Q3: L | R3: M | S3: M | T3: J | U3: V | V3: S | W3: D | Y3: L | Z3: M | AA3: M | AB3: J | AC3: V | AD3: S | AE3: D | AG3: Jour de l'An | AH3: =+DATE(ANNEE,1,1) -> 45292
A4: 45292 | B4: =[1]Réglages!E1-[1]Réglages!F1 -> 22 | D4: {=IFERROR(_xlfn.IFS(A4<[1]Réglages!A1,B4-C4),0)} -> 22 | E4: =D4-Calendrier!C2-C4 -> 18 | I4: =DATE($G$2,MONTH(I2),1-MOD(6+WEEKDAY(I2)-1,7)) -> 45292 | J4: =+I4+1 -> 45293 | K4: =+J4+1 -> 45294 | L4: =+K4+1 -> 45295 | M4: =+L4+1 -> 45296 | N4: =+M4+1 -> 45297 | O4: =+N4+1 -> 45298 | Q4: =DATE($G$2,MONTH(Q2),1-MOD(6+WEEKDAY(Q2)-1,7)) -> 45320 | R4: =+Q4+1 -> 45321 | S4: =+R4+1 -> 45322 | T4: =+S4+1 -> 45323 | U4: =+T4+1 -> 45324 | V4: =+U4+1 -> 45325 | W4: =+V4+1 -> 45326 | Y4: =DATE($G$2,MONTH(Y2),1-MOD(6+WEEKDAY(Y2)-1,7)) -> 45348 | Z4: =+Y4+1 -> 45349 | AA4: =+Z4+1 -> 45350 | AB4: =+AA4+1 -> 45351 | AC4: =+AB4+1 -> 45352 | AD4: =+AC4+1 -> 45353 | AE4: =+AD4+1 -> 45354 | AG4: Lundi de Pâques | AH4: =+DATE(ANNEE,3,1)+(28+(((QUOTIENT(MOD((19*MOD(ANNEE,19)+QUOTIENT(ANNEE,100)-QUOTIENT(QUOTIENT(ANNEE,100),4)-QUOTIENT((8*QUOTIENT(ANNEE,100)+13),25)+15),30),28))*(QUOTIENT(29,MOD((19*MOD(ANNEE,19)+QUOTIENT(ANNEE,100)-QUOTIENT(QUOTIENT(ANNEE,100),4)-QUOTIENT((8*QUOTIENT(ANNEE,100)+13),25)+15),30)+1))*(QUOTIENT((21-MOD(ANNEE,19)),11))-1)*(QUOTIENT(MOD((19*MOD(ANNEE,19)+QUOTIENT(ANNEE,100)-QUOTIENT(QUOTIENT(ANNEE,100),4)-QUOTIENT((8*QUOTIENT(ANNEE,100)+13),25)+15),30),28))+(MOD((19*MOD(ANNEE,19)+QUOTIENT(ANNEE,100)-QUOTIENT(QUOTIENT(ANNEE,100),4)-QUOTIENT((8*QUOTIENT(ANNEE,100)+13),25)+15),30)))-(MOD((QUOTIENT(ANNEE,4)+ANNEE+((QUOTIENT(MOD((19*MOD(ANNEE,19)+QUOTIENT(ANNEE,100)-QUOTIENT(QUOTIENT(ANNEE,100),4)-QUOTIENT((8*QUOTIENT(ANNEE,100)+13),25)+15),30),28))*(QUOTIENT(29,MOD((19*MOD(ANNEE,19)+QUOTIENT(ANNEE,100)-QUOTIENT(QUOTIENT(ANNEE,100),4)-QUOTIENT((8*QUOTIENT(ANNEE,100)+13),25)+15),30)+1))*(QUOTIENT((21-MOD(ANNEE,19)),11))-1)*(QUOTIENT(MOD((19*MOD(ANNEE,19)+QUOTIENT(ANNEE,100)-QUOTIENT(QUOTIENT(ANNEE,100),4)-QUOTIENT((8*QUOTIENT(ANNEE,100)+13),25)+15),30),28))+(MOD((19*MOD(ANNEE,19)+QUOTIENT(ANNEE,100)-QUOTIENT(QUOTIENT(ANNEE,100),4)-QUOTIENT((8*QUOTIENT(ANNEE,100)+13),25)+15),30))+2+QUOTIENT(QUOTIENT(ANNEE,100),4)-QUOTIENT(ANNEE,100)),7)))-1+1 -> 45383
A5: 45323 | B5: =[1]Réglages!E2-[1]Réglages!F2 -> 21 | D5: {=IFERROR(_xlfn.IFS(A5<[1]Réglages!A2,B5-C5),0)} -> 21 | I5: =+O4+1 -> 45299 | J5: =+I5+1 -> 45300 | K5: =+J5+1 -> 45301 | L5: =+K5+1 -> 45302 | M5: =+L5+1 -> 45303 | N5: =+M5+1 -> 45304 | O5: =+N5+1 -> 45305 | Q5: =+W4+1 -> 45327 | R5: =+Q5+1 -> 45328 | S5: =+R5+1 -> 45329 | T5: =+S5+1 -> 45330 | U5: =+T5+1 -> 45331 | V5: =+U5+1 -> 45332 | W5: =+V5+1 -> 45333 | Y5: =+AE4+1 -> 45355 | Z5: =+Y5+1 -> 45356 | AA5: =+Z5+1 -> 45357 | AB5: =+AA5+1 -> 45358 | AC5: =+AB5+1 -> 45359 | AD5: =+AC5+1 -> 45360 | AE5: =+AD5+1 -> 45361 | AG5: Fête du travail | AH5: =+DATE(ANNEE,5,1) -> 45413
A6: 45352 | B6: =[1]Réglages!E3-[1]Réglages!F3 -> 21 | D6: {=IFERROR(_xlfn.IFS(A6<[1]Réglages!A3,B6-C6),0)} -> 21 | I6: =+O5+1 -> 45306 | J6: =+I6+1 -> 45307 | K6: =+J6+1 -> 45308 | L6: =+K6+1 -> 45309 | M6: =+L6+1 -> 45310 | N6: =+M6+1 -> 45311 | O6: =+N6+1 -> 45312 | Q6: =+W5+1 -> 45334 | R6: =+Q6+1 -> 45335 | S6: =+R6+1 -> 45336 | T6: =+S6+1 -> 45337 | U6: =+T6+1 -> 45338 | V6: =+U6+1 -> 45339 | W6: =+V6+1 -> 45340 | Y6: =+AE5+1 -> 45362 | Z6: =+Y6+1 -> 45363 | AA6: =+Z6+1 -> 45364 | AB6: =+AA6+1 -> 45365 | AC6: =+AB6+1 -> 45366 | AD6: =+AC6+1 -> 45367 | AE6: =+AD6+1 -> 45368 | AG6: Victoire des Alliés (F) | AH6: =+DATE(ANNEE,5,8) -> 45420
A7: 45383 | B7: =[1]Réglages!E4-[1]Réglages!F4 -> 21 | D7: {=IFERROR(_xlfn.IFS(A7<[1]Réglages!A4,B7-C7),0)} -> 21 | I7: =+O6+1 -> 45313 | J7: =+I7+1 -> 45314 | K7: =+J7+1 -> 45315 | L7: =+K7+1 -> 45316 | M7: =+L7+1 -> 45317 | N7: =+M7+1 -> 45318 | O7: =+N7+1 -> 45319 | Q7: =+W6+1 -> 45341 | R7: =+Q7+1 -> 45342 | S7: =+R7+1 -> 45343 | T7: =+S7+1 -> 45344 | U7: =+T7+1 -> 45345 | V7: =+U7+1 -> 45346 | W7: =+V7+1 -> 45347 | Y7: =+AE6+1 -> 45369 | Z7: =+Y7+1 -> 45370 | AA7: =+Z7+1 -> 45371 | AB7: =+AA7+1 -> 45372 | AC7: =+AB7+1 -> 45373 | AD7: =+AC7+1 -> 45374 | AE7: =+AD7+1 -> 45375 | AG7: Ascension | AH7: =+DATE(ANNEE,3,1)+(28+(((QUOTIENT(MOD((19*MOD(ANNEE,19)+QUOTIENT(ANNEE,100)-QUOTIENT(QUOTIENT(ANNEE,100),4)-QUOTIENT((8*QUOTIENT(ANNEE,100)+13),25)+15),30),28))*(QUOTIENT(29,MOD((19*MOD(ANNEE,19)+QUOTIENT(ANNEE,100)-QUOTIENT(QUOTIENT(ANNEE,100),4)-QUOTIENT((8*QUOTIENT(ANNEE,100)+13),25)+15),30)+1))*(QUOTIENT((21-MOD(ANNEE,19)),11))-1)*(QUOTIENT(MOD((19*MOD(ANNEE,19)+QUOTIENT(ANNEE,100)-QUOTIENT(QUOTIENT(ANNEE,100),4)-QUOTIENT((8*QUOTIENT(ANNEE,100)+13),25)+15),30),28))+(MOD((19*MOD(ANNEE,19)+QUOTIENT(ANNEE,100)-QUOTIENT(QUOTIENT(ANNEE,100),4)-QUOTIENT((8*QUOTIENT(ANNEE,100)+13),25)+15),30)))-(MOD((QUOTIENT(ANNEE,4)+ANNEE+((QUOTIENT(MOD((19*MOD(ANNEE,19)+QUOTIENT(ANNEE,100)-QUOTIENT(QUOTIENT(ANNEE,100),4)-QUOTIENT((8*QUOTIENT(ANNEE,100)+13),25)+15),30),28))*(QUOTIENT(29,MOD((19*MOD(ANNEE,19)+QUOTIENT(ANNEE,100)-QUOTIENT(QUOTIENT(ANNEE,100),4)-QUOTIENT((8*QUOTIENT(ANNEE,100)+13),25)+15),30)+1))*(QUOTIENT((21-MOD(ANNEE,19)),11))-1)*(QUOTIENT(MOD((19*MOD(ANNEE,19)+QUOTIENT(ANNEE,100)-QUOTIENT(QUOTIENT(ANNEE,100),4)-QUOTIENT((8*QUOTIENT(ANNEE,100)+13),25)+15),30),28))+(MOD((19*MOD(ANNEE,19)+QUOTIENT(ANNEE,100)-QUOTIENT(QUOTIENT(ANNEE,100),4)-QUOTIENT((8*QUOTIENT(ANNEE,100)+13),25)+15),30))+2+QUOTIENT(QUOTIENT(ANNEE,100),4)-QUOTIENT(ANNEE,100)),7)))-1+39 -> 45421
A8: 45413 | B8: =[1]Réglages!E5-[1]Réglages!F5 -> 19 | D8: {=IFERROR(_xlfn.IFS(A8<[1]Réglages!A5,B8-C8),0)} -> 19 | I8: =+O7+1 -> 45320 | J8: =+I8+1 -> 45321 | K8: =+J8+1 -> 45322 | L8: =+K8+1 -> 45323 | M8: =+L8+1 -> 45324 | N8: =+M8+1 -> 45325 | O8: =+N8+1 -> 45326 | Q8: =+W7+1 -> 45348 | R8: =+Q8+1 -> 45349 | S8: =+R8+1 -> 45350 | T8: =+S8+1 -> 45351 | U8: =+T8+1 -> 45352 | V8: =+U8+1 -> 45353 | W8: =+V8+1 -> 45354 | Y8: =+AE7+1 -> 45376 | Z8: =+Y8+1 -> 45377 | AA8: =+Z8+1 -> 45378 | AB8: =+AA8+1 -> 45379 | AC8: =+AB8+1 -> 45380 | AD8: =+AC8+1 -> 45381 | AE8: =+AD8+1 -> 45382 | AG8: Lundi de Pentecôte | AH8: =+DATE(ANNEE,3,1)+(28+(((QUOTIENT(MOD((19*MOD(ANNEE,19)+QUOTIENT(ANNEE,100)-QUOTIENT(QUOTIENT(ANNEE,100),4)-QUOTIENT((8*QUOTIENT(ANNEE,100)+13),25)+15),30),28))*(QUOTIENT(29,MOD((19*MOD(ANNEE,19)+QUOTIENT(ANNEE,100)-QUOTIENT(QUOTIENT(ANNEE,100),4)-QUOTIENT((8*QUOTIENT(ANNEE,100)+13),25)+15),30)+1))*(QUOTIENT((21-MOD(ANNEE,19)),11))-1)*(QUOTIENT(MOD((19*MOD(ANNEE,19)+QUOTIENT(ANNEE,100)-QUOTIENT(QUOTIENT(ANNEE,100),4)-QUOTIENT((8*QUOTIENT(ANNEE,100)+13),25)+15),30),28))+(MOD((19*MOD(ANNEE,19)+QUOTIENT(ANNEE,100)-QUOTIENT(QUOTIENT(ANNEE,100),4)-QUOTIENT((8*QUOTIENT(ANNEE,100)+13),25)+15),30)))-(MOD((QUOTIENT(ANNEE,4)+ANNEE+((QUOTIENT(MOD((19*MOD(ANNEE,19)+QUOTIENT(ANNEE,100)-QUOTIENT(QUOTIENT(ANNEE,100),4)-QUOTIENT((8*QUOTIENT(ANNEE,100)+13),25)+15),30),28))*(QUOTIENT(29,MOD((19*MOD(ANNEE,19)+QUOTIENT(ANNEE,100)-QUOTIENT(QUOTIENT(ANNEE,100),4)-QUOTIENT((8*QUOTIENT(ANNEE,100)+13),25)+15),30)+1))*(QUOTIENT((21-MOD(ANNEE,19)),11))-1)*(QUOTIENT(MOD((19*MOD(ANNEE,19)+QUOTIENT(ANNEE,100)-QUOTIENT(QUOTIENT(ANNEE,100),4)-QUOTIENT((8*QUOTIENT(ANNEE,100)+13),25)+15),30),28))+(MOD((19*MOD(ANNEE,19)+QUOTIENT(ANNEE,100)-QUOTIENT(QUOTIENT(ANNEE,100),4)-QUOTIENT((8*QUOTIENT(ANNEE,100)+13),25)+15),30))+2+QUOTIENT(QUOTIENT(ANNEE,100),4)-QUOTIENT(ANNEE,100)),7)))-1+50 -> 45432
A9: 45444 | B9: =[1]Réglages!E6-[1]Réglages!F6 -> 20 | D9: {=IFERROR(_xlfn.IFS(A9<[1]Réglages!A6,B9-C9),0)} -> 0 | I9: =+O8+1 -> 45327 | J9: =+I9+1 -> 45328 | K9: =+J9+1 -> 45329 | L9: =+K9+1 -> 45330 | M9: =+L9+1 -> 45331 | N9: =+M9+1 -> 45332 | O9: =+N9+1 -> 45333 | Q9: =+W8+1 -> 45355 | R9: =+Q9+1 -> 45356 | S9: =+R9+1 -> 45357 | T9: =+S9+1 -> 45358 | U9: =+T9+1 -> 45359 | V9: =+U9+1 -> 45360 | W9: =+V9+1 -> 45361 | Y9: =+AE8+1 -> 45383 | Z9: =+Y9+1 -> 45384 | AA9: =+Z9+1 -> 45385 | AB9: =+AA9+1 -> 45386 | AC9: =+AB9+1 -> 45387 | AD9: =+AC9+1 -> 45388 | AE9: =+AD9+1 -> 45389 | AG9: Fête Nationale (F) | AH9: =+DATE(ANNEE,7,14) -> 45487
A10: 45474 | B10: =[1]Réglages!E7-[1]Réglages!F7 -> 22 | D10: {=IFERROR(_xlfn.IFS(A10<[1]Réglages!A7,B10-C10),0)} -> 0 | AG10: Assomption | AH10: =+DATE(ANNEE,8,15) -> 45519
A11: 45505 | B11: =[1]Réglages!E8-[1]Réglages!F8 -> 21 | D11: {=IFERROR(_xlfn.IFS(A11<[1]Réglages!A8,B11-C11),0)} -> 0 | I11: =DATE($G$2,4,1) -> 45383 | Q11: =DATE($G$2,5,1) -> 45413 | Y11: =DATE($G$2,6,1) -> 45444 | AG11: Toussaint | AH11: =+DATE(ANNEE,11,1) -> 45597
A12: 45536 | B12: =[1]Réglages!E9-[1]Réglages!F9 -> 21 | D12: {=IFERROR(_xlfn.IFS(A12<[1]Réglages!A9,B12-C12),0)} -> 0 | I12: L | J12: M | K12: M | L12: J | M12: V | N12: S | O12: D | Q12: L | R12: M | S12: M | T12: J | U12: V | V12: S | W12: D | Y12: L | Z12: M | AA12: M | AB12: J | AC12: V | AD12: S | AE12: D | AG12: Armistice (F) | AH12: =+DATE(ANNEE,11,11) -> 45607
A13: 45566 | B13: =[1]Réglages!E10-[1]Réglages!F10 -> 23 | D13: {=IFERROR(_xlfn.IFS(A13<[1]Réglages!A10,B13-C13),0)} -> 0 | I13: =DATE($G$2,MONTH(I11),1-MOD(6+WEEKDAY(I11)-1,7)) -> 45383 | J13: =+I13+1 -> 45384 | K13: =+J13+1 -> 45385 | L13: =+K13+1 -> 45386 | M13: =+L13+1 -> 45387 | N13: =+M13+1 -> 45388 | O13: =+N13+1 -> 45389 | Q13: =DATE($G$2,MONTH(Q11),1-MOD(6+WEEKDAY(Q11)-1,7)) -> 45411 | R13: =+Q13+1 -> 45412 | S13: =+R13+1 -> 45413 | T13: =+S13+1 -> 45414 | U13: =+T13+1 -> 45415 | V13: =+U13+1 -> 45416 | W13: =+V13+1 -> 45417 | Y13: =DATE($G$2,MONTH(Y11),1-MOD(6+WEEKDAY(Y11)-1,7)) -> 45439 | Z13: =+Y13+1 -> 45440 | AA13: =+Z13+1 -> 45441 | AB13: =+AA13+1 -> 45442 | AC13: =+AB13+1 -> 45443 | AD13: =+AC13+1 -> 45444 | AE13: =+AD13+1 -> 45445 | AG13: Noël | AH13: =+DATE(ANNEE,12,25) -> 45651
A14: 45597 | B14: =[1]Réglages!E11-[1]Réglages!F11 -> 20 | D14: {=IFERROR(_xlfn.IFS(A14<[1]Réglages!A11,B14-C14),0)} -> 0 | I14: =+O13+1 -> 45390 | J14: =+I14+1 -> 45391 | K14: =+J14+1 -> 45392 | L14: =+K14+1 -> 45393 | M14: =+L14+1 -> 45394 | N14: =+M14+1 -> 45395 | O14: =+N14+1 -> 45396 | Q14: =+W13+1 -> 45418 | R14: =+Q14+1 -> 45419 | S14: =+R14+1 -> 45420 | T14: =+S14+1 -> 45421 | U14: =+T14+1 -> 45422 | V14: =+U14+1 -> 45423 | W14: =+V14+1 -> 45424 | Y14: =+AE13+1 -> 45446 | Z14: =+Y14+1 -> 45447 | AA14: =+Z14+1 -> 45448 | AB14: =+AA14+1 -> 45449 | AC14: =+AB14+1 -> 45450 | AD14: =+AC14+1 -> 45451 | AE14: =+AD14+1 -> 45452
A15: 45627 | B15: =[1]Réglages!E12-[1]Réglages!F12 -> 21 | D15: {=IFERROR(_xlfn.IFS(A15<[1]Réglages!A12,B15-C15),0)} -> 0 | I15: =+O14+1 -> 45397 | J15: =+I15+1 -> 45398 | K15: =+J15+1 -> 45399 | L15: =+K15+1 -> 45400 | M15: =+L15+1 -> 45401 | N15: =+M15+1 -> 45402 | O15: =+N15+1 -> 45403 | Q15: =+W14+1 -> 45425 | R15: =+Q15+1 -> 45426 | S15: =+R15+1 -> 45427 | T15: =+S15+1 -> 45428 | U15: =+T15+1 -> 45429 | V15: =+U15+1 -> 45430 | W15: =+V15+1 -> 45431 | Y15: =+AE14+1 -> 45453 | Z15: =+Y15+1 -> 45454 | AA15: =+Z15+1 -> 45455 | AB15: =+AA15+1 -> 45456 | AC15: =+AB15+1 -> 45457 | AD15: =+AC15+1 -> 45458 | AE15: =+AD15+1 -> 45459
I16: =+O15+1 -> 45404 | J16: =+I16+1 -> 45405 | K16: =+J16+1 -> 45406 | L16: =+K16+1 -> 45407 | M16: =+L16+1 -> 45408 | N16: =+M16+1 -> 45409 | O16: =+N16+1 -> 45410 | Q16: =+W15+1 -> 45432 | R16: =+Q16+1 -> 45433 | S16: =+R16+1 -> 45434 | T16: =+S16+1 -> 45435 | U16: =+T16+1 -> 45436 | V16: =+U16+1 -> 45437 | W16: =+V16+1 -> 45438 | Y16: =+AE15+1 -> 45460 | Z16: =+Y16+1 -> 45461 | AA16: =+Z16+1 -> 45462 | AB16: =+AA16+1 -> 45463 | AC16: =+AB16+1 -> 45464 | AD16: =+AC16+1 -> 45465 | AE16: =+AD16+1 -> 45466
I17: =+O16+1 -> 45411 | J17: =+I17+1 -> 45412 | K17: =+J17+1 -> 45413 | L17: =+K17+1 -> 45414 | M17: =+L17+1 -> 45415 | N17: =+M17+1 -> 45416 | O17: =+N17+1 -> 45417 | Q17: =+W16+1 -> 45439 | R17: =+Q17+1 -> 45440 | S17: =+R17+1 -> 45441 | T17: =+S17+1 -> 45442 | U17: =+T17+1 -> 45443 | V17: =+U17+1 -> 45444 | W17: =+V17+1 -> 45445 | Y17: =+AE16+1 -> 45467 | Z17: =+Y17+1 -> 45468 | AA17: =+Z17+1 -> 45469 | AB17: =+AA17+1 -> 45470 | AC17: =+AB17+1 -> 45471 | AD17: =+AC17+1 -> 45472 | AE17: =+AD17+1 -> 45473
I18: =+O17+1 -> 45418 | J18: =+I18+1 -> 45419 | K18: =+J18+1 -> 45420 | L18: =+K18+1 -> 45421 | M18: =+L18+1 -> 45422 | N18: =+M18+1 -> 45423 | O18: =+N18+1 -> 45424 | Q18: =+W17+1 -> 45446 | R18: =+Q18+1 -> 45447 | S18: =+R18+1 -> 45448 | T18: =+S18+1 -> 45449 | U18: =+T18+1 -> 45450 | V18: =+U18+1 -> 45451 | W18: =+V18+1 -> 45452 | Y18: =+AE17+1 -> 45474 | Z18: =+Y18+1 -> 45475 | AA18: =+Z18+1 -> 45476 | AB18: =+AA18+1 -> 45477 | AC18: =+AB18+1 -> 45478 | AD18: =+AC18+1 -> 45479 | AE18: =+AD18+1 -> 45480
I20: =DATE($G$2,7,1) -> 45474 | Q20: =DATE($G$2,8,1) -> 45505 | Y20: =DATE($G$2,9,1) -> 45536
I21: L | J21: M | K21: M | L21: J | M21: V | N21: S | O21: D | Q21: L | R21: M | S21: M | T21: J | U21: V | V21: S | W21: D | Y21: L | Z21: M | AA21: M | AB21: J | AC21: V | AD21: S | AE21: D
I22: =DATE($G$2,MONTH(I20),1-MOD(6+WEEKDAY(I20)-1,7)) -> 45474 | J22: =+I22+1 -> 45475 | K22: =+J22+1 -> 45476 | L22: =+K22+1 -> 45477 | M22: =+L22+1 -> 45478 | N22: =+M22+1 -> 45479 | O22: =+N22+1 -> 45480 | Q22: =DATE($G$2,MONTH(Q20),1-MOD(6+WEEKDAY(Q20)-1,7)) -> 45502 | R22: =+Q22+1 -> 45503 | S22: =+R22+1 -> 45504 | T22: =+S22+1 -> 45505 | U22: =+T22+1 -> 45506 | V22: =+U22+1 -> 45507 | W22: =+V22+1 -> 45508 | Y22: =DATE($G$2,MONTH(Y20),1-MOD(6+WEEKDAY(Y20)-1,7)) -> 45530 | Z22: =+Y22+1 -> 45531 | AA22: =+Z22+1 -> 45532 | AB22: =+AA22+1 -> 45533 | AC22: =+AB22+1 -> 45534 | AD22: =+AC22+1 -> 45535 | AE22: =+AD22+1 -> 45536
I23: =+O22+1 -> 45481 | J23: =+I23+1 -> 45482 | K23: =+J23+1 -> 45483 | L23: =+K23+1 -> 45484 | M23: =+L23+1 -> 45485 | N23: =+M23+1 -> 45486 | O23: =+N23+1 -> 45487 | Q23: =+W22+1 -> 45509 | R23: =+Q23+1 -> 45510 | S23: =+R23+1 -> 45511 | T23: =+S23+1 -> 45512 | U23: =+T23+1 -> 45513 | V23: =+U23+1 -> 45514 | W23: =+V23+1 -> 45515 | Y23: =+AE22+1 -> 45537 | Z23: =+Y23+1 -> 45538 | AA23: =+Z23+1 -> 45539 | AB23: =+AA23+1 -> 45540 | AC23: =+AB23+1 -> 45541 | AD23: =+AC23+1 -> 45542 | AE23: =+AD23+1 -> 45543
I24: =+O23+1 -> 45488 | J24: =+I24+1 -> 45489 | K24: =+J24+1 -> 45490 | L24: =+K24+1 -> 45491 | M24: =+L24+1 -> 45492 | N24: =+M24+1 -> 45493 | O24: =+N24+1 -> 45494 | Q24: =+W23+1 -> 45516 | R24: =+Q24+1 -> 45517 | S24: =+R24+1 -> 45518 | T24: =+S24+1 -> 45519 | U24: =+T24+1 -> 45520 | V24: =+U24+1 -> 45521 | W24: =+V24+1 -> 45522 | Y24: =+AE23+1 -> 45544 | Z24: =+Y24+1 -> 45545 | AA24: =+Z24+1 -> 45546 | AB24: =+AA24+1 -> 45547 | AC24: =+AB24+1 -> 45548 | AD24: =+AC24+1 -> 45549 | AE24: =+AD24+1 -> 45550
I25: =+O24+1 -> 45495 | J25: =+I25+1 -> 45496 | K25: =+J25+1 -> 45497 | L25: =+K25+1 -> 45498 | M25: =+L25+1 -> 45499 | N25: =+M25+1 -> 45500 | O25: =+N25+1 -> 45501 | Q25: =+W24+1 -> 45523 | R25: =+Q25+1 -> 45524 | S25: =+R25+1 -> 45525 | T25: =+S25+1 -> 45526 | U25: =+T25+1 -> 45527 | V25: =+U25+1 -> 45528 | W25: =+V25+1 -> 45529 | Y25: =+AE24+1 -> 45551 | Z25: =+Y25+1 -> 45552 | AA25: =+Z25+1 -> 45553 | AB25: =+AA25+1 -> 45554 | AC25: =+AB25+1 -> 45555 | AD25: =+AC25+1 -> 45556 | AE25: =+AD25+1 -> 45557 | AG25: PÉRIODES DE VACANCES
I26: =+O25+1 -> 45502 | J26: =+I26+1 -> 45503 | K26: =+J26+1 -> 45504 | L26: =+K26+1 -> 45505 | M26: =+L26+1 -> 45506 | N26: =+M26+1 -> 45507 | O26: =+N26+1 -> 45508 | Q26: =+W25+1 -> 45530 | R26: =+Q26+1 -> 45531 | S26: =+R26+1 -> 45532 | T26: =+S26+1 -> 45533 | U26: =+T26+1 -> 45534 | V26: =+U26+1 -> 45535 | W26: =+V26+1 -> 45536 | Y26: =+AE25+1 -> 45558 | Z26: =+Y26+1 -> 45559 | AA26: =+Z26+1 -> 45560 | AB26: =+AA26+1 -> 45561 | AC26: =+AB26+1 -> 45562 | AD26: =+AC26+1 -> 45563 | AE26: =+AD26+1 -> 45564 | AH26: Du | AI26: Au | AJ26: Total
I27: =+O26+1 -> 45509 | J27: =+I27+1 -> 45510 | K27: =+J27+1 -> 45511 | L27: =+K27+1 -> 45512 | M27: =+L27+1 -> 45513 | N27: =+M27+1 -> 45514 | O27: =+N27+1 -> 45515 | Q27: =+W26+1 -> 45537 | R27: =+Q27+1 -> 45538 | S27: =+R27+1 -> 45539 | T27: =+S27+1 -> 45540 | U27: =+T27+1 -> 45541 | V27: =+U27+1 -> 45542 | W27: =+V27+1 -> 45543 | Y27: =+AE26+1 -> 45565 | Z27: =+Y27+1 -> 45566 | AA27: =+Z27+1 -> 45567 | AB27: =+AA27+1 -> 45568 | AC27: =+AB27+1 -> 45569 | AD27: =+AC27+1 -> 45570 | AE27: =+AD27+1 -> 45571 | AH27: 45292 | AI27: 45301 | AJ27: =NETWORKDAYS(AH27,AI27,AH3:AH13) -> 7
AH28: 45311 | AI28: 45337 | AJ28: =NETWORKDAYS(AH28,AI28,AH4:AH14) -> 19
I29: =DATE($G$2,10,1) -> 45566 | Q29: =DATE($G$2,11,1) -> 45597 | Y29: =DATE($G$2,12,1) -> 45627 | AJ29: =NETWORKDAYS(AH29,AI29,AH5:AH15) -> 0
I30: L | J30: M | K30: M | L30: J | M30: V | N30: S | O30: D | Q30: L | R30: M | S30: M | T30: J | U30: V | V30: S | W30: D | Y30: L | Z30: M | AA30: M | AB30: J | AC30: V | AD30: S | AE30: D | AJ30: =NETWORKDAYS(AH30,AI30,AH6:AH16) -> 0
I31: =DATE($G$2,MONTH(I29),1-MOD(6+WEEKDAY(I29)-1,7)) -> 45565 | J31: =+I31+1 -> 45566 | K31: =+J31+1 -> 45567 | L31: =+K31+1 -> 45568 | M31: =+L31+1 -> 45569 | N31: =+M31+1 -> 45570 | O31: =+N31+1 -> 45571 | Q31: =DATE($G$2,MONTH(Q29),1-MOD(6+WEEKDAY(Q29)-1,7)) -> 45593 | R31: =+Q31+1 -> 45594 | S31: =+R31+1 -> 45595 | T31: =+S31+1 -> 45596 | U31: =+T31+1 -> 45597 | V31: =+U31+1 -> 45598 | W31: =+V31+1 -> 45599 | Y31: =DATE($G$2,MONTH(Y29),1-MOD(6+WEEKDAY(Y29)-1,7)) -> 45621 | Z31: =+Y31+1 -> 45622 | AA31: =+Z31+1 -> 45623 | AB31: =+AA31+1 -> 45624 | AC31: =+AB31+1 -> 45625 | AD31: =+AC31+1 -> 45626 | AE31: =+AD31+1 -> 45627 | AJ31: =NETWORKDAYS(AH31,AI31,AH7:AH17) -> 0
I32: =+O31+1 -> 45572 | J32: =+I32+1 -> 45573 | K32: =+J32+1 -> 45574 | L32: =+K32+1 -> 45575 | M32: =+L32+1 -> 45576 | N32: =+M32+1 -> 45577 | O32: =+N32+1 -> 45578 | Q32: =+W31+1 -> 45600 | R32: =+Q32+1 -> 45601 | S32: =+R32+1 -> 45602 | T32: =+S32+1 -> 45603 | U32: =+T32+1 -> 45604 | V32: =+U32+1 -> 45605 | W32: =+V32+1 -> 45606 | Y32: =+AE31+1 -> 45628 | Z32: =+Y32+1 -> 45629 | AA32: =+Z32+1 -> 45630 | AB32: =+AA32+1 -> 45631 | AC32: =+AB32+1 -> 45632 | AD32: =+AC32+1 -> 45633 | AE32: =+AD32+1 -> 45634 | AJ32: =NETWORKDAYS(AH32,AI32,AH8:AH18) -> 0
I33: =+O32+1 -> 45579 | J33: =+I33+1 -> 45580 | K33: =+J33+1 -> 45581 | L33: =+K33+1 -> 45582 | M33: =+L33+1 -> 45583 | N33: =+M33+1 -> 45584 | O33: =+N33+1 -> 45585 | Q33: =+W32+1 -> 45607 | R33: =+Q33+1 -> 45608 | S33: =+R33+1 -> 45609 | T33: =+S33+1 -> 45610 | U33: =+T33+1 -> 45611 | V33: =+U33+1 -> 45612 | W33: =+V33+1 -> 45613 | Y33: =+AE32+1 -> 45635 | Z33: =+Y33+1 -> 45636 | AA33: =+Z33+1 -> 45637 | AB33: =+AA33+1 -> 45638 | AC33: =+AB33+1 -> 45639 | AD33: =+AC33+1 -> 45640 | AE33: =+AD33+1 -> 45641 | AJ33: =NETWORKDAYS(AH33,AI33,AH9:AH19) -> 0
I34: =+O33+1 -> 45586 | J34: =+I34+1 -> 45587 | K34: =+J34+1 -> 45588 | L34: =+K34+1 -> 45589 | M34: =+L34+1 -> 45590 | N34: =+M34+1 -> 45591 | O34: =+N34+1 -> 45592 | Q34: =+W33+1 -> 45614 | R34: =+Q34+1 -> 45615 | S34: =+R34+1 -> 45616 | T34: =+S34+1 -> 45617 | U34: =+T34+1 -> 45618 | V34: =+U34+1 -> 45619 | W34: =+V34+1 -> 45620 | Y34: =+AE33+1 -> 45642 | Z34: =+Y34+1 -> 45643 | AA34: =+Z34+1 -> 45644 | AB34: =+AA34+1 -> 45645 | AC34: =+AB34+1 -> 45646 | AD34: =+AC34+1 -> 45647 | AE34: =+AD34+1 -> 45648 | AJ34: =NETWORKDAYS(AH34,AI34,AH10:AH20) -> 0
I35: =+O34+1 -> 45593 | J35: =+I35+1 -> 45594 | K35: =+J35+1 -> 45595 | L35: =+K35+1 -> 45596 | M35: =+L35+1 -> 45597 | N35: =+M35+1 -> 45598 | O35: =+N35+1 -> 45599 | Q35: =+W34+1 -> 45621 | R35: =+Q35+1 -> 45622 | S35: =+R35+1 -> 45623 | T35: =+S35+1 -> 45624 | U35: =+T35+1 -> 45625 | V35: =+U35+1 -> 45626 | W35: =+V35+1 -> 45627 | Y35: =+AE34+1 -> 45649 | Z35: =+Y35+1 -> 45650 | AA35: =+Z35+1 -> 45651 | AB35: =+AA35+1 -> 45652 | AC35: =+AB35+1 -> 45653 | AD35: =+AC35+1 -> 45654 | AE35: =+AD35+1 -> 45655 | AJ35: =NETWORKDAYS(AH35,AI35,AH11:AH21) -> 0
Y36: =+AE35+1 -> 45656 | Z36: =+Y36+1 -> 45657 | AJ36: =NETWORKDAYS(AH36,AI36,AH12:AH22) -> 0

Sheet Calendrier
A1: JANVIER | C1: Total | E1: FÉVRIER | G1: Total | I1: MARS | K1: Total | M1: AVRIL | O1: Total | Q1: MAI | S1: Total | U1: JUIN | W1: Total
A2: 45292 | B2: {=WEEKDAY(A2:A32,2 )} -> 1 | C2: =COUNTIF(B2:B32,"5") -> 4 | E2: 45323 | F2: {=WEEKDAY(E2:E30,2 )} -> 4 | G2: =COUNTIF(F2:F30,"5") -> 4 | I2: 45352 | J2: {=WEEKDAY(I2:I32,2 )} -> 5 | K2: =COUNTIF(J2:J32,"5") -> 5 | M2: 45383 | N2: {=WEEKDAY(M2:M31,2 )} -> 1 | O2: =COUNTIF(N2:N31,"5") -> 4 | Q2: 45413 | R2: {=WEEKDAY(Q2:Q32,2 )} -> 3 | S2: =COUNTIF(R2:R31,"5") -> 4 | U2: 45444 | V2: {=WEEKDAY(U2:U31,2 )} -> 6 | W2: =COUNTIF(V2:V31,"5") -> 4
A3: 45293 | B3: 2 | E3: 45324 | F3: 5 | I3: 45353 | J3: 6 | M3: 45384 | N3: 2 | Q3: 45414 | R3: 4 | U3: 45445 | V3: 7
A4: 45294 | B4: 3 | E4: 45325 | F4: 6 | I4: 45354 | J4: 7 | M4: 45385 | N4: 3 | Q4: 45415 | R4: 5 | U4: 45446 | V4: 1
A5: 45295 | B5: 4 | E5: 45326 | F5: 7 | I5: 45355 | J5: 1 | M5: 45386 | N5: 4 | Q5: 45416 | R5: 6 | U5: 45447 | V5: 2
A6: 45296 | B6: 5 | E6: 45327 | F6: 1 | I6: 45356 | J6: 2 | M6: 45387 | N6: 5 | Q6: 45417 | R6: 7 | U6: 45448 | V6: 3
A7: 45297 | B7: 6 | E7: 45328 | F7: 2 | I7: 45357 | J7: 3 | M7: 45388 | N7: 6 | Q7: 45418 | R7: 1 | U7: 45449 | V7: 4
A8: 45298 | B8: 7 | E8: 45329 | F8: 3 | I8: 45358 | J8: 4 | M8: 45389 | N8: 7 | Q8: 45419 | R8: 2 | U8: 45450 | V8: 5
A9: 45299 | B9: 1 | E9: 45330 | F9: 4 | I9: 45359 | J9: 5 | M9: 45390 | N9: 1 | Q9: 45420 | R9: 3 | U9: 45451 | V9: 6
A10: 45300 | B10: 2 | E10: 45331 | F10: 5 | I10: 45360 | J10: 6 | M10: 45391 | N10: 2 | Q10: 45421 | R10: 4 | U10: 45452 | V10: 7
A11: 45301 | B11: 3 | E11: 45332 | F11: 6 | I11: 45361 | J11: 7 | M11: 45392 | N11: 3 | Q11: 45422 | R11: 5 | U11: 45453 | V11: 1
A12: 45302 | B12: 4 | E12: 45333 | F12: 7 | I12: 45362 | J12: 1 | M12: 45393 | N12: 4 | Q12: 45423 | R12: 6 | U12: 45454 | V12: 2
A13: 45303 | B13: 5 | E13: 45334 | F13: 1 | I13: 45363 | J13: 2 | M13: 45394 | N13: 5 | Q13: 45424 | R13: 7 | U13: 45455 | V13: 3
A14: 45304 | B14: 6 | E14: 45335 | F14: 2 | I14: 45364 | J14: 3 | M14: 45395 | N14: 6 | Q14: 45425 | R14: 1 | U14: 45456 | V14: 4
... A30: 45320 | B30: 1 | E30: 45351 | F30: 4 | I30: 45380 | J30: 5 | M30: 45411 | N30: 1 | Q30: 45441 | R30: 3 | U30: 45472 | V30: 6
A31: 45321 | B31: 2 | I31: 45381 | J31: 6 | M31: 45412 | N31: 2 | Q31: 45442 | R31: 4 | U31: 45473 | V31: 7
A32: 45322 | B32: 3 | I32: 45382 | J32: 7 | Q32: 45443 | R32: 5
A34: JUILLET | C34: Total | E34: AOUT | G34: Total | I34: SEPTEMBRE | K34: Total | M34: OCTOBRE | O34: Total | Q34: NOVEMBRE | S34: Total | U34: DÉCEMBRE | W34: Total
A35: 45474 | B35: {=WEEKDAY(A35:A65,2 )} -> 1 | C35: =COUNTIF(B35:B65,"5") -> 4 | E35: 45505 | F35: {=WEEKDAY(E35:E65,2 )} -> 4 | G35: =COUNTIF(F35:F65,"5") -> 5 | I35: 45536 | J35: {=WEEKDAY(I35:I64,2 )} -> 7 | K35: =COUNTIF(J35:J64,"5") -> 4 | M35: 45566 | N35: {=WEEKDAY(M35:M65,2 )} -> 2 | O35: =COUNTIF(N35:N65,"5") -> 4 | Q35: 45597 | R35: {=WEEKDAY(Q35:Q64,2 )} -> 5 | S35: =COUNTIF(R35:R64,"5") -> 5 | U35: 45627 | V35: {=WEEKDAY(U35:U65,2 )} -> 7 | W35: =COUNTIF(V35:V65,"5") -> 4
A36: 45475 | B36: 2 | E36: 45506 | F36: 5 | I36: 45537 | J36: 1 | M36: 45567 | N36: 3 | Q36: 45598 | R36: 6 | U36: 45628 | V36: 1
A37: 45476 | B37: 3 | E37: 45507 | F37: 6 | I37: 45538 | J37: 2 | M37: 45568 | N37: 4 | Q37: 45599 | R37: 7 | U37: 45629 | V37: 2
A38: 45477 | B38: 4 | E38: 45508 | F38: 7 | I38: 45539 | J38: 3 | M38: 45569 | N38: 5 | Q38: 45600 | R38: 1 | U38: 45630 | V38: 3
A39: 45478 | B39: 5 | E39: 45509 | F39: 1 | I39: 45540 | J39: 4 | M39: 45570 | N39: 6 | Q39: 45601 | R39: 2 | U39: 45631 | V39: 4
A40: 45479 | B40: 6 | E40: 45510 | F40: 2 | I40: 45541 | J40: 5 | M40: 45571 | N40: 7 | Q40: 45602 | R40: 3 | U40: 45632 | V40: 5
A41: 45480 | B41: 7 | E41: 45511 | F41: 3 | I41: 45542 | J41: 6 | M41: 45572 | N41: 1 | Q41: 45603 | R41: 4 | U41: 45633 | V41: 6
A42: 45481 | B42: 1 | E42: 45512 | F42: 4 | I42: 45543 | J42: 7 | M42: 45573 | N42: 2 | Q42: 45604 | R42: 5 | U42: 45634 | V42: 7
A43: 45482 | B43: 2 | E43: 45513 | F43: 5 | I43: 45544 | J43: 1 | M43: 45574 | N43: 3 | Q43: 45605 | R43: 6 | U43: 45635 | V43: 1
A44: 45483 | B44: 3 | E44: 45514 | F44: 6 | I44: 45545 | J44: 2 | M44: 45575 | N44: 4 | Q44: 45606 | R44: 7 | U44: 45636 | V44: 2
A45: 45484 | B45: 4 | E45: 45515 | F45: 7 | I45: 45546 | J45: 3 | M45: 45576 | N45: 5 | Q45: 45607 | R45: 1 | U45: 45637 | V45: 3
A46: 45485 | B46: 5 | E46: 45516 | F46: 1 | I46: 45547 | J46: 4 | M46: 45577 | N46: 6 | Q46: 45608 | R46: 2 | U46: 45638 | V46: 4
A47: 45486 | B47: 6 | E47: 45517 | F47: 2 | I47: 45548 | J47: 5 | M47: 45578 | N47: 7 | Q47: 45609 | R47: 3 | U47: 45639 | V47: 5
... A64: 45503 | B64: 2 | E64: 45534 | F64: 5 | I64: 45565 | J64: 1 | M64: 45595 | N64: 3 | Q64: 45626 | R64: 6 | U64: 45656 | V64: 1
A65: 45504 | B65: 3 | E65: 45535 | F65: 6 | M65: 45596 | N65: 4 | U65: 45657 | V65: 2

Sheet Vendredis
A1: vendredis de l'année
A2: 45296
A3: =A2+7 -> 45303
A4: =A3+7 -> 45310
A5: =A4+7 -> 45317
A6: =A5+7 -> 45324
A7: =A6+7 -> 45331
A8: =A7+7 -> 45338
A9: =A8+7 -> 45345
A10: =A9+7 -> 45352
A11: =A10+7 -> 45359
A12: =A11+7 -> 45366
A13: =A12+7 -> 45373
A14: =A13+7 -> 45380
... A53: =A52+7 -> 45653
