Workbook

Sheet FACTURE
C9: no_facture
C10: DATE | D10: =TODAY() -> 40578
B13: CODE.ART | C13: DESIGNATION | D13: QTITE | E13: PUTTC | F13: PTOTAL
B14: 12 | C14: =IF(B14="","",VLOOKUP(B14,PRODUIT!B4:C16,2,0)) -> KLK
B15: 3 | C15: =IF(B15="","",VLOOKUP(B15,PRODUIT!B5:C17,2,0)) -> FAUTEUIL
B16: 8 | C16: =IF(B16="","",VLOOKUP(B16,PRODUIT!B5:C16,2,0)) -> KJKJ | D16: 3000 | E16: 18.66 | F16: =D16*E16 -> 55980
B17: 5 | C17: =IF(B17="","",VLOOKUP(B17,PRODUIT!B5:C16,2,0)) -> PORTE | D17: 2500 | E17: 12.2 | F17: =D17*E17 -> 30500
B18: 6 | C18: =IF(B18="","",VLOOKUP(B18,PRODUIT!B5:C16,2,0)) -> CHAISE ROULANT | F18: =D18*E18 -> 0
B19: 5 | C19: =IF(B19="","",VLOOKUP(B19,PRODUIT!B5:C16,2,0)) -> PORTE | F19: =D19*E19 -> 0
B20: 4 | C20: =IF(B20="","",VLOOKUP(B20,PRODUIT!B5:C16,2,0)) -> TABLEAU | F20: =D20*E20 -> 0
B21: 9 | C21: =IF(B21="","",VLOOKUP(B21,PRODUIT!B5:C16,2,0)) -> YUYT | F21: =D21*E21 -> 0
B22: 8 | C22: =IF(B22="","",VLOOKUP(B22,PRODUIT!B5:C16,2,0)) -> KJKJ | F22: =D22*E22 -> 0
B23: 12 | C23: =IF(B23="","",VLOOKUP(B23,PRODUIT!B5:C16,2,0)) -> KLK | F23: =D23*E23 -> 0
B24: 12 | C24: =IF(B24="","",VLOOKUP(B24,PRODUIT!B7:C18,2,0)) -> KLK | F24: =D24*E24 -> 0
B25: 12 | C25: =IF(B25="","",VLOOKUP(B25,PRODUIT!B5:C16,2,0)) -> KLK | F25: =D25*E25 -> 0
B26: 9 | C26: =IF(B26="","",VLOOKUP(B26,PRODUIT!B5:C16,2,0)) -> YUYT | F26: =D26*E26 -> 0
B27: 1 | C27: =IF(B27="","",VLOOKUP(B27,PRODUIT!B5:C16,2,0)) -> TABLE | F27: =D27*E27 -> 0
B28: 12 | C28: =IF(B28="","",VLOOKUP(B28,PRODUIT!B5:C16,2,0)) -> KLK | F28: =D28*E28 -> 0
B29: 12 | C29: =IF(B29="","",VLOOKUP(B29,PRODUIT!B5:C16,2,0)) -> KLK | F29: =D29*E29 -> 0
B30: 1 | C30: =IF(B30="","",VLOOKUP(B30,PRODUIT!B5:C16,2,0)) -> TABLE
D31: TOTAL HT | F31: =F35/1.18 -> 73288.136
D33: TVA(18%) | F33: =F31*18% -> 13191.864
D35: TOTAL TTC | F35: =SUM(F14:F29) -> 86480
C40: =_xll.NBTEXTE(F35,6,0,"millimes","dinars") -> Quatre-vingt-six mille quatre cent quatre-vingts dinars

Sheet PRODUIT
B4: COD PROD | C4: PROD
B5: 1 | C5: TABLE
B6: 2 | C6: CHAISE
B7: 3 | C7: FAUTEUIL
B8: 4 | C8: TABLEAU
B9: 5 | C9: PORTE
B10: 6 | C10: CHAISE ROULANT
B11: 7 | C11: JHJ
B12: 8 | C12: KJKJ
B13: 9 | C13: YUYT
B14: 10 | C14: JHJH
B15: 11 | C15: OOI
B16: 12 | C16: KLK

Sheet Feuil3
