Workbook

Sheet BSC ENVOYES
A3: NOM | B3: ADRESSE 1 | C3: ADRESSE 2 | D3: CODE POSTAL | E3: VILLE | F3: AGENT | G3: DATE D'ENVOI | H3: SEMAINE | I3: TYPE | J3: TITRE | K3: QUANTITE | L3: TITRE | M3: QUANTITE
A4: DUBOIS JEAN MARIE | H4: =WEEKNUM(G4) -> 0 | I4: BSC | J4: 10 V | K4: 1
A5: MAURICE LEPERVIER | H5: =WEEKNUM(G5) -> 0 | I5: BSC | J5: 1 V | K5: 1
A6: JEANNE LAFORET | H6: =WEEKNUM(G6) -> 0 | I6: BSC | J6: 10 V | K6: 1
A7: ISABELLE LAPORTE | H7: =WEEKNUM(G7) -> 0 | I7: BSC | J7: 10 V | K7: 1
A8: BEATRICE VIDAL | H8: =WEEKNUM(G8) -> 0 | I8: BSC | J8: 7 jrs | K8: 1
H9: =WEEKNUM(G9) -> 0
H10: =WEEKNUM(G10) -> 0
H11: =WEEKNUM(G11) -> 0
H12: =WEEKNUM(G12) -> 0
H13: =WEEKNUM(G13) -> 0
H14: =WEEKNUM(G14) -> 0
H15: =WEEKNUM(G15) -> 0
H16: =WEEKNUM(G16) -> 0
H17: =WEEKNUM(G17) -> 0
H18: =WEEKNUM(G18) -> 0
H19: =WEEKNUM(G19) -> 0
H20: =WEEKNUM(G20) -> 0
... H36: =WEEKNUM(G36) -> 0

Sheet RECAP
B2: Semaine | C2: =WEEKNUM(C3) -> 24
B3: Date d'envoi | C3: 45453
E6: TYPE | F6: QUANTITE | H6: NOM | I6: TITRE | J6: QUANT. | K6: REF RECLA | L6: TYPE
E7: 1 V | F7: =SUMIFS('BSC ENVOYES'!$K$4:$K$8515,'BSC ENVOYES'!$H$4:$H$8515,$C$2,'BSC ENVOYES'!$J$4:$J$8515,$E7) -> 0 | H7: {=_xlfn._xlws.FILTER('BSC ENVOYES'!A$4:A$8497,'BSC ENVOYES'!$H$4:$H$8497=$C$2)} -> #VALUE! | I7: {=_xlfn._xlws.FILTER('BSC ENVOYES'!J$4:J$8497,'BSC ENVOYES'!$H$4:$H$8497=$C$2)} -> #VALUE! | J7: {=_xlfn._xlws.FILTER('BSC ENVOYES'!K$4:K$8497,'BSC ENVOYES'!$H$4:$H$8497=$C$2)} -> #VALUE! | K7: {=_xlfn._xlws.FILTER('BSC ENVOYES'!#REF!,'BSC ENVOYES'!$H$4:$H$8497=$C$2)} -> #REF! | L7: {=_xlfn._xlws.FILTER('BSC ENVOYES'!I$4:I$8497,'BSC ENVOYES'!$H$4:$H$8497=$C$2)} -> #VALUE!
E8: 2 V | F8: =SUMIFS('BSC ENVOYES'!$K$4:$K$8515,'BSC ENVOYES'!$H$4:$H$8515,$C$2,'BSC ENVOYES'!$J$4:$J$8515,$E8) -> 0
E9: 3 V | F9: =SUMIFS('BSC ENVOYES'!$K$4:$K$8515,'BSC ENVOYES'!$H$4:$H$8515,$C$2,'BSC ENVOYES'!$J$4:$J$8515,$E9) -> 0
E10: 4 V | F10: =SUMIFS('BSC ENVOYES'!$K$4:$K$8515,'BSC ENVOYES'!$H$4:$H$8515,$C$2,'BSC ENVOYES'!$J$4:$J$8515,$E10) -> 0
E11: 5 V | F11: =SUMIFS('BSC ENVOYES'!$K$4:$K$8515,'BSC ENVOYES'!$H$4:$H$8515,$C$2,'BSC ENVOYES'!$J$4:$J$8515,$E11) -> 0
E12: 6 V | F12: =SUMIFS('BSC ENVOYES'!$K$4:$K$8515,'BSC ENVOYES'!$H$4:$H$8515,$C$2,'BSC ENVOYES'!$J$4:$J$8515,$E12) -> 0
E13: 7 V | F13: =SUMIFS('BSC ENVOYES'!$K$4:$K$8515,'BSC ENVOYES'!$H$4:$H$8515,$C$2,'BSC ENVOYES'!$J$4:$J$8515,$E13) -> 0
E14: 8 V | F14: =SUMIFS('BSC ENVOYES'!$K$4:$K$8515,'BSC ENVOYES'!$H$4:$H$8515,$C$2,'BSC ENVOYES'!$J$4:$J$8515,$E14) -> 0
E15: 9 V | F15: =SUMIFS('BSC ENVOYES'!$K$4:$K$8515,'BSC ENVOYES'!$H$4:$H$8515,$C$2,'BSC ENVOYES'!$J$4:$J$8515,$E15) -> 0
E16: 10 V | F16: =SUMIFS('BSC ENVOYES'!$K$4:$K$8515,'BSC ENVOYES'!$H$4:$H$8515,$C$2,'BSC ENVOYES'!$J$4:$J$8515,$E16) -> 0
E17: 24 H | F17: =SUMIFS('BSC ENVOYES'!$K$4:$K$8515,'BSC ENVOYES'!$H$4:$H$8515,$C$2,'BSC ENVOYES'!$J$4:$J$8515,$E17) -> 0
E18: 48 H | F18: =SUMIFS('BSC ENVOYES'!$K$4:$K$8515,'BSC ENVOYES'!$H$4:$H$8515,$C$2,'BSC ENVOYES'!$J$4:$J$8515,$E18) -> 0
E19: 72 H | F19: =SUMIFS('BSC ENVOYES'!$K$4:$K$8515,'BSC ENVOYES'!$H$4:$H$8515,$C$2,'BSC ENVOYES'!$J$4:$J$8515,$E19) -> 0
E20: P+R | F20: =SUMIFS('BSC ENVOYES'!$K$4:$K$8515,'BSC ENVOYES'!$H$4:$H$8515,$C$2,'BSC ENVOYES'!$J$4:$J$8515,$E20) -> 0
E21: TOTAL | F21: =SUM(F7:F20) -> 0

Sheet PUBLIPOSTAGE
A1: NOM | B1: ADRESSE 1 | C1: ADRESSE 2 | D1: CODE POSTAL | E1: VILLE
A2: {=_xlfn._xlws.FILTER('BSC ENVOYES'!A$4:A$8497,'BSC ENVOYES'!$H$4:$H$8497=RECAP!$C$2)} -> #VALUE! | B2: {=_xlfn._xlws.FILTER('BSC ENVOYES'!B$4:B$8497,'BSC ENVOYES'!$H$4:$H$8497=RECAP!$C$2)} -> #VALUE! | C2: {=_xlfn._xlws.FILTER('BSC ENVOYES'!C$4:C$8497,'BSC ENVOYES'!$H$4:$H$8497=RECAP!$C$2)} -> #VALUE! | D2: {=_xlfn._xlws.FILTER('BSC ENVOYES'!D$4:D$8497,'BSC ENVOYES'!$H$4:$H$8497=RECAP!$C$2)} -> #VALUE! | E2: {=_xlfn._xlws.FILTER('BSC ENVOYES'!E$4:E$8497,'BSC ENVOYES'!$H$4:$H$8497=RECAP!$C$2)} -> #VALUE! | F2: 1
F3: 2 | M3: METTRE EN PLaCE UN FILTRE (formule) qui permette que seuls les BSC soient pris en considération -SN
F4: 3
F5: 4
F6: 5
F7: 6
F8: 7
F9: 8
F10: 9
F11: 10
F12: 11
F13: 12
F14: 13
F15: 14
... F61: 60

Sheet Menu déroulant
D3: TITRES
B4: TYPE | D4: 1 V
B5: BSC | D5: 2 V
B6: M-TICKET | D6: 3 V
D7: 4 V
D8: 5 V
D9: 6 V
D10: 7 V
D11: 8 V
D12: 9 V
D13: 10 V
D14: 24 H
D15: 48 H
D16: 72 H
D17: 7 jrs
D18: P+R
