Workbook

Sheet Base
B1: Coupé < 3 M | E1: XPO < 3 MP | H1: MP > 3MP
A2: Dépt | B2: 1,2 à 1,7 | C2: 1,8 à 2,4 | D2: 2,5 à 2,9 | E2: 1.2 | F2: 1.8 | G2: 2.4 | H2: 3 | I2: 3.6 | J2: 4.2 | K2: 4.8 | L2: 5.4 | M2: 6 | N2: 6.6 | O2: 7.2 | P2: 7.8 | Q2: 8.4 | R2: 9 | S2: 9.6 | T2: 10.2 | U2: 10.8 | V2: 11.4 | W2: 12 | X2: 12.6 | Y2: 13.2
A3: 1 | B3: 255.5533 | C3: 371.0987 | D3: 397.79 | E3: 246.51 | F3: 289.27 | G3: 332.65 | H3: =IF(XPO!F2<COUPE!E2,"XPO","COUPE") -> XPO | I3: =IF(XPO!G2<COUPE!F2,"XPO","COUPE") -> XPO | J3: =IF(XPO!H2<COUPE!G2,"XPO","COUPE") -> XPO | K3: =IF(XPO!I2<COUPE!H2,"XPO","COUPE") -> XPO | L3: =IF(XPO!J2<COUPE!I2,"XPO","COUPE") -> XPO | M3: =IF(XPO!K2<COUPE!J2,"XPO","COUPE") -> XPO | N3: =IF(XPO!L2<COUPE!K2,"XPO","COUPE") -> XPO | O3: =IF(XPO!M2<COUPE!L2,"XPO","COUPE") -> XPO | ... Y3: =IF(XPO!W2<COUPE!V2,"XPO","COUPE") -> XPO
A4: 2 | B4: 145.58612 | C4: 204.12 | D4: 225.37 | E4: 179.92 | F4: 184.85 | G4: 189.77 | H4: =IF(XPO!F3<COUPE!E3,"XPO","COUPE") -> XPO | I4: =IF(XPO!G3<COUPE!F3,"XPO","COUPE") -> XPO | J4: =IF(XPO!H3<COUPE!G3,"XPO","COUPE") -> XPO | K4: =IF(XPO!I3<COUPE!H3,"XPO","COUPE") -> XPO | L4: =IF(XPO!J3<COUPE!I3,"XPO","COUPE") -> XPO | M4: =IF(XPO!K3<COUPE!J3,"XPO","COUPE") -> XPO | N4: =IF(XPO!L3<COUPE!K3,"XPO","COUPE") -> XPO | O4: =IF(XPO!M3<COUPE!L3,"XPO","COUPE") -> XPO | ... Y4: =IF(XPO!W3<COUPE!V3,"XPO","COUPE") -> COUPE
A5: 3 | B5: 267.4498 | C5: 362.66 | D5: 362.66 | E5: 256.25 | F5: 279.03 | G5: 320.88 | H5: =IF(XPO!F4<COUPE!E4,"XPO","COUPE") -> COUPE | I5: =IF(XPO!G4<COUPE!F4,"XPO","COUPE") -> COUPE | J5: =IF(XPO!H4<COUPE!G4,"XPO","COUPE") -> XPO | K5: =IF(XPO!I4<COUPE!H4,"XPO","COUPE") -> XPO | L5: =IF(XPO!J4<COUPE!I4,"XPO","COUPE") -> XPO | M5: =IF(XPO!K4<COUPE!J4,"XPO","COUPE") -> COUPE | N5: =IF(XPO!L4<COUPE!K4,"XPO","COUPE") -> COUPE | O5: =IF(XPO!M4<COUPE!L4,"XPO","COUPE") -> COUPE | ... Y5: =IF(XPO!W4<COUPE!V4,"XPO","COUPE") -> COUPE
A6: 4 | B6: 359.4082 | C6: 504.1747 | D6: 658.74 | E6: 339.62 | F6: 399.88 | G6: 459.87 | H6: =IF(XPO!F5<COUPE!E5,"XPO","COUPE") -> XPO | I6: =IF(XPO!G5<COUPE!F5,"XPO","COUPE") -> XPO | J6: =IF(XPO!H5<COUPE!G5,"XPO","COUPE") -> XPO | K6: =IF(XPO!I5<COUPE!H5,"XPO","COUPE") -> XPO | L6: =IF(XPO!J5<COUPE!I5,"XPO","COUPE") -> XPO | M6: =IF(XPO!K5<COUPE!J5,"XPO","COUPE") -> XPO | N6: =IF(XPO!L5<COUPE!K5,"XPO","COUPE") -> XPO | O6: =IF(XPO!M5<COUPE!L5,"XPO","COUPE") -> XPO | ... Y6: =IF(XPO!W5<COUPE!V5,"XPO","COUPE") -> XPO
A7: 5 | B7: 359.4082 | C7: 504.1747 | D7: 658.74 | E7: 327.08 | F7: 374.82 | G7: 431.02 | H7: =IF(XPO!F6<COUPE!E6,"XPO","COUPE") -> XPO | I7: =IF(XPO!G6<COUPE!F6,"XPO","COUPE") -> XPO | J7: =IF(XPO!H6<COUPE!G6,"XPO","COUPE") -> XPO | K7: =IF(XPO!I6<COUPE!H6,"XPO","COUPE") -> XPO | L7: =IF(XPO!J6<COUPE!I6,"XPO","COUPE") -> XPO | M7: =IF(XPO!K6<COUPE!J6,"XPO","COUPE") -> XPO | N7: =IF(XPO!L6<COUPE!K6,"XPO","COUPE") -> XPO | O7: =IF(XPO!M6<COUPE!L6,"XPO","COUPE") -> XPO | ... Y7: =IF(XPO!W6<COUPE!V6,"XPO","COUPE") -> XPO
A8: 6 | B8: 401.6073 | C8: 577.7476 | D8: 651.93 | E8: 355.76 | F8: 438.2 | G8: 503.93 | H8: =IF(XPO!F7<COUPE!E7,"XPO","COUPE") -> XPO | I8: =IF(XPO!G7<COUPE!F7,"XPO","COUPE") -> XPO | J8: =IF(XPO!H7<COUPE!G7,"XPO","COUPE") -> XPO | K8: =IF(XPO!I7<COUPE!H7,"XPO","COUPE") -> XPO | L8: =IF(XPO!J7<COUPE!I7,"XPO","COUPE") -> XPO | M8: =IF(XPO!K7<COUPE!J7,"XPO","COUPE") -> XPO | N8: =IF(XPO!L7<COUPE!K7,"XPO","COUPE") -> XPO | O8: =IF(XPO!M7<COUPE!L7,"XPO","COUPE") -> XPO | ... Y8: =IF(XPO!W7<COUPE!V7,"XPO","COUPE") -> XPO
A9: 7 | B9: 289.0901 | C9: 408.9615 | D9: 540 | E9: 286.12 | F9: 345.91 | G9: 397.79 | H9: =IF(XPO!F8<COUPE!E8,"XPO","COUPE") -> XPO | I9: =IF(XPO!G8<COUPE!F8,"XPO","COUPE") -> XPO | J9: =IF(XPO!H8<COUPE!G8,"XPO","COUPE") -> XPO | K9: =IF(XPO!I8<COUPE!H8,"XPO","COUPE") -> XPO | L9: =IF(XPO!J8<COUPE!I8,"XPO","COUPE") -> XPO | M9: =IF(XPO!K8<COUPE!J8,"XPO","COUPE") -> XPO | N9: =IF(XPO!L8<COUPE!K8,"XPO","COUPE") -> XPO | O9: =IF(XPO!M8<COUPE!L8,"XPO","COUPE") -> XPO | ... Y9: =IF(XPO!W8<COUPE!V8,"XPO","COUPE") -> XPO
A10: 8 | B10: 243.6465 | C10: 248.69 | D10: 248.69 | E10: 204.56 | F10: 209.92 | G10: 215.28 | H10: =IF(XPO!F9<COUPE!E9,"XPO","COUPE") -> XPO | I10: =IF(XPO!G9<COUPE!F9,"XPO","COUPE") -> XPO | J10: =IF(XPO!H9<COUPE!G9,"XPO","COUPE") -> XPO | K10: =IF(XPO!I9<COUPE!H9,"XPO","COUPE") -> XPO | L10: =IF(XPO!J9<COUPE!I9,"XPO","COUPE") -> XPO | M10: =IF(XPO!K9<COUPE!J9,"XPO","COUPE") -> COUPE | N10: =IF(XPO!L9<COUPE!K9,"XPO","COUPE") -> COUPE | O10: =IF(XPO!M9<COUPE!L9,"XPO","COUPE") -> COUPE | ... Y10: =IF(XPO!W9<COUPE!V9,"XPO","COUPE") -> COUPE
A11: 9 | B11: 381.0485 | C11: 544.2005 | D11: 636.03 | E11: 352.99 | F11: 430.78 | G11: 495.4 | H11: =IF(XPO!F10<COUPE!E10,"XPO","COUPE") -> XPO | I11: =IF(XPO!G10<COUPE!F10,"XPO","COUPE") -> XPO | J11: =IF(XPO!H10<COUPE!G10,"XPO","COUPE") -> XPO | K11: =IF(XPO!I10<COUPE!H10,"XPO","COUPE") -> XPO | L11: =IF(XPO!J10<COUPE!I10,"XPO","COUPE") -> XPO | M11: =IF(XPO!K10<COUPE!J10,"XPO","COUPE") -> XPO | N11: =IF(XPO!L10<COUPE!K10,"XPO","COUPE") -> XPO | O11: =IF(XPO!M10<COUPE!L10,"XPO","COUPE") -> XPO | ... Y11: =IF(XPO!W10<COUPE!V10,"XPO","COUPE") -> XPO
A12: 10 | B12: 220.9247 | C12: 274.68 | D12: 274.68 | E12: 165.9 | F12: 198.68 | G12: 228.49 | H12: =IF(XPO!F11<COUPE!E11,"XPO","COUPE") -> XPO | I12: =IF(XPO!G11<COUPE!F11,"XPO","COUPE") -> COUPE | J12: =IF(XPO!H11<COUPE!G11,"XPO","COUPE") -> XPO | K12: =IF(XPO!I11<COUPE!H11,"XPO","COUPE") -> XPO | L12: =IF(XPO!J11<COUPE!I11,"XPO","COUPE") -> XPO | M12: =IF(XPO!K11<COUPE!J11,"XPO","COUPE") -> COUPE | N12: =IF(XPO!L11<COUPE!K11,"XPO","COUPE") -> COUPE | O12: =IF(XPO!M11<COUPE!L11,"XPO","COUPE") -> COUPE | ... Y12: =IF(XPO!W11<COUPE!V11,"XPO","COUPE") -> COUPE
A13: 11 | B13: 444.8879 | C13: 582.63 | D13: 582.63 | E13: 341.53 | F13: 407.89 | G13: 469.06 | H13: =IF(XPO!F12<COUPE!E12,"XPO","COUPE") -> XPO | I13: =IF(XPO!G12<COUPE!F12,"XPO","COUPE") -> XPO | J13: =IF(XPO!H12<COUPE!G12,"XPO","COUPE") -> XPO | K13: =IF(XPO!I12<COUPE!H12,"XPO","COUPE") -> XPO | L13: =IF(XPO!J12<COUPE!I12,"XPO","COUPE") -> XPO | M13: =IF(XPO!K12<COUPE!J12,"XPO","COUPE") -> XPO | N13: =IF(XPO!L12<COUPE!K12,"XPO","COUPE") -> XPO | O13: =IF(XPO!M12<COUPE!L12,"XPO","COUPE") -> XPO | ... Y13: =IF(XPO!W12<COUPE!V12,"XPO","COUPE") -> XPO
A14: 12 | B14: 344.2672 | C14: 460.85 | D14: 482.1 | E14: 342.21 | F14: 385.99 | G14: 443.88 | H14: =IF(XPO!F13<COUPE!E13,"XPO","COUPE") -> COUPE | I14: =IF(XPO!G13<COUPE!F13,"XPO","COUPE") -> COUPE | J14: =IF(XPO!H13<COUPE!G13,"XPO","COUPE") -> XPO | K14: =IF(XPO!I13<COUPE!H13,"XPO","COUPE") -> XPO | L14: =IF(XPO!J13<COUPE!I13,"XPO","COUPE") -> XPO | M14: =IF(XPO!K13<COUPE!J13,"XPO","COUPE") -> XPO | N14: =IF(XPO!L13<COUPE!K13,"XPO","COUPE") -> XPO | O14: =IF(XPO!M13<COUPE!L13,"XPO","COUPE") -> XPO | ... Y14: =IF(XPO!W13<COUPE!V13,"XPO","COUPE") -> XPO
... A97: 95 | B97: 204.7022 | C97: 211.854 | D97: 220.82 | E97: 221.18 | F97: 229.53 | G97: 237.9 | H97: =IF(XPO!F96<COUPE!E96,"XPO","COUPE") -> COUPE | I97: =IF(XPO!G96<COUPE!F96,"XPO","COUPE") -> COUPE | J97: =IF(XPO!H96<COUPE!G96,"XPO","COUPE") -> XPO | K97: =IF(XPO!I96<COUPE!H96,"XPO","COUPE") -> XPO | L97: =IF(XPO!J96<COUPE!I96,"XPO","COUPE") -> XPO | M97: =IF(XPO!K96<COUPE!J96,"XPO","COUPE") -> COUPE | N97: =IF(XPO!L96<COUPE!K96,"XPO","COUPE") -> COUPE | O97: =IF(XPO!M96<COUPE!L96,"XPO","COUPE") -> COUPE | ... Y97: =IF(XPO!W96<COUPE!V96,"XPO","COUPE") -> COUPE

Sheet Matrice
A2: Commande | B2: Date | C2: Code | D2: Client | E2: Adresse | F2: Ville | G2: Pays | H2: Code postal | I2: Colis | J2: Poids | K2: Volume M3 | L2: Palettes | M2: MP | N2: Commentaires | O2: Code transporteur | P2: Transporteur Cible
A3: 32980 | B3: 45660 | C3: CLI-000444 | D3: CADAUMA CALMONT | E3: CADAUMA ROUTE DE MARVEJOLS | F3: NASBINALS | G3: FR | H3: 1 | I3: 104 | J3: 5399.5 | K3: 6.1 | L3: 8 | M3: 1 | N3: LIVRAISON UNIQUEMENT LE MATIN | O3: XPO AFF | P3: =IFERROR(INDEX(Base!$A$3:$Y$97,MATCH(LEFT(H3,2)*1,Base!$A$3:$A$97,0),MATCH(ROUND(_xlfn.CEILING.MATH(M3,0.6),1),Base!$A$2:$Y$2,1)),"N/A") -> 246.51
P4: =IFERROR(INDEX(Base!$A$3:$Y$97,MATCH(LEFT(H4,2)*1,Base!$A$3:$A$97,0),MATCH(ROUND(_xlfn.CEILING.MATH(M4,0.6),1),Base!$A$2:$Y$2,1)),"N/A") -> N/A
P5: =IFERROR(INDEX(Base!$A$3:$Y$97,MATCH(LEFT(H5,2)*1,Base!$A$3:$A$97,0),MATCH(ROUND(_xlfn.CEILING.MATH(M5,0.6),1),Base!$A$2:$Y$2,1)),"N/A") -> N/A
P6: =IFERROR(INDEX(Base!$A$3:$Y$97,MATCH(LEFT(H6,2)*1,Base!$A$3:$A$97,0),MATCH(ROUND(_xlfn.CEILING.MATH(M6,0.6),1),Base!$A$2:$Y$2,1)),"N/A") -> N/A
P7: =IFERROR(INDEX(Base!$A$3:$Y$97,MATCH(LEFT(H7,2)*1,Base!$A$3:$A$97,0),MATCH(ROUND(_xlfn.CEILING.MATH(M7,0.6),1),Base!$A$2:$Y$2,1)),"N/A") -> N/A
P8: =IFERROR(INDEX(Base!$A$3:$Y$97,MATCH(LEFT(H8,2)*1,Base!$A$3:$A$97,0),MATCH(ROUND(_xlfn.CEILING.MATH(M8,0.6),1),Base!$A$2:$Y$2,1)),"N/A") -> N/A
P9: =IFERROR(INDEX(Base!$A$3:$Y$97,MATCH(LEFT(H9,2)*1,Base!$A$3:$A$97,0),MATCH(ROUND(_xlfn.CEILING.MATH(M9,0.6),1),Base!$A$2:$Y$2,1)),"N/A") -> N/A
P10: =IFERROR(INDEX(Base!$A$3:$Y$97,MATCH(LEFT(H10,2)*1,Base!$A$3:$A$97,0),MATCH(ROUND(_xlfn.CEILING.MATH(M10,0.6),1),Base!$A$2:$Y$2,1)),"N/A") -> N/A
P11: =IFERROR(INDEX(Base!$A$3:$Y$97,MATCH(LEFT(H11,2)*1,Base!$A$3:$A$97,0),MATCH(ROUND(_xlfn.CEILING.MATH(M11,0.6),1),Base!$A$2:$Y$2,1)),"N/A") -> N/A
P12: =IFERROR(INDEX(Base!$A$3:$Y$97,MATCH(LEFT(H12,2)*1,Base!$A$3:$A$97,0),MATCH(ROUND(_xlfn.CEILING.MATH(M12,0.6),1),Base!$A$2:$Y$2,1)),"N/A") -> N/A
P13: =IFERROR(INDEX(Base!$A$3:$Y$97,MATCH(LEFT(H13,2)*1,Base!$A$3:$A$97,0),MATCH(ROUND(_xlfn.CEILING.MATH(M13,0.6),1),Base!$A$2:$Y$2,1)),"N/A") -> N/A
P14: =IFERROR(INDEX(Base!$A$3:$Y$97,MATCH(LEFT(H14,2)*1,Base!$A$3:$A$97,0),MATCH(ROUND(_xlfn.CEILING.MATH(M14,0.6),1),Base!$A$2:$Y$2,1)),"N/A") -> N/A
P15: =IFERROR(INDEX(Base!$A$3:$Y$97,MATCH(LEFT(H15,2)*1,Base!$A$3:$A$97,0),MATCH(ROUND(_xlfn.CEILING.MATH(M15,0.6),1),Base!$A$2:$Y$2,1)),"N/A") -> N/A
... P86: =IFERROR(INDEX(Base!$A$3:$Y$97,MATCH(LEFT(H86,2)*1,Base!$A$3:$A$97,0),MATCH(ROUND(_xlfn.CEILING.MATH(M86,0.6),1),Base!$A$2:$Y$2,1)),"N/A") -> N/A

Sheet XPO
A1: A | B1: 0.6 | C1: 1.2 | D1: 1.8 | E1: 2.4 | F1: 3 | G1: 3.6 | H1: 4.2 | I1: 4.8 | J1: 5.4 | K1: 6 | L1: 6.6 | M1: 7.2 | N1: 7.8 | O1: 8.4 | P1: 9 | Q1: 9.6 | R1: 10.2 | S1: 10.8 | T1: 11.4 | U1: 12 | V1: 12.6 | W1: 13.2
A2: 01 AIN | B2: 203.74 | C2: 246.51 | D2: 289.27 | E2: 332.65 | F2: 399.19 | G2: 438.68 | H2: 448.32 | I2: 467.93 | J2: 506.41 | K2: 579.66 | L2: 621.86 | M2: 666.27 | N2: 710.68 | O2: 716.7 | P2: 768.83 | Q2: 868.45 | R2: 911.88 | S2: 955.3 | T2: 1013.94 | U2: 1022.75 | V2: 1031.58 | W2: 1031.58
A3: 02 AISNE | B3: 167.59 | C3: 179.92 | D3: 184.85 | E3: 189.77 | F3: 199.6 | G3: 219.36 | H3: 224.5 | I3: 234.67 | J3: 253.73 | K3: 290.21 | L3: 310.93 | M3: 333.13 | N3: 355.34 | O3: 358.69 | P3: 385.16 | Q3: 435.88 | R3: 457.67 | S3: 479.47 | T3: 508.88 | U3: 513.32 | V3: 517.74 | W3: 517.74
A4: 03 ALLIER | B4: 233.45 | C4: 256.25 | D4: 279.03 | E4: 320.88 | F4: 385.06 | G4: 422.9 | H4: 431.88 | I4: 450.44 | J4: 487.69 | K4: 558.45 | L4: 599.37 | M4: 642.18 | N4: 685 | O4: 690.79 | P4: 741.05 | Q4: 837.09 | R4: 878.95 | S4: 920.8 | T4: 977.32 | U4: 985.82 | V4: 994.31 | W4: 994.31
A5: 04 ALPES HTE PROVENCE | B5: 279.36 | C5: 339.62 | D5: 399.88 | E5: 459.87 | F5: 551.83 | G5: 606.37 | H5: 618.99 | I5: 645.33 | J5: 698.61 | K5: 799.9 | L5: 858.47 | M5: 919.79 | N5: 981.12 | O5: 989.34 | P5: 1061.27 | Q5: 1198.67 | R5: 1258.6 | S5: 1318.52 | T5: 1399.47 | U5: 1411.62 | V5: 1423.8 | W5: 1423.8
A6: 05 ALPES HAUTES | B6: 279.36 | C6: 327.08 | D6: 374.82 | E6: 431.02 | F6: 517.21 | G6: 568.7 | H6: 580.66 | I6: 605.52 | J6: 655.31 | K6: 750.12 | L6: 804.69 | M6: 862.18 | N6: 919.65 | O6: 927.19 | P6: 994.41 | Q6: 1122.71 | R6: 1178.85 | S6: 1234.99 | T6: 1310.78 | U6: 1322.18 | V6: 1333.57 | W6: 1333.57
A7: 06 ALPES MARITIMES | B7: 273.32 | C7: 355.76 | D7: 438.2 | E7: 503.93 | F7: 604.72 | G7: 664.37 | H7: 678.35 | I7: 707.39 | J7: 765.41 | K7: 875.99 | L7: 939.46 | M7: 1006.56 | N7: 1073.66 | O7: 1083.08 | P7: 1162.21 | Q7: 1313.57 | R7: 1379.25 | S7: 1444.92 | T7: 1533.62 | U7: 1546.96 | V7: 1560.28 | W7: 1560.28
A8: 07 ARDECHE | B8: 226.35 | C8: 286.12 | D8: 345.91 | E8: 397.79 | F8: 477.35 | G8: 524.92 | H8: 536.11 | I8: 559.2 | J8: 604.9 | K8: 692.12 | L8: 742 | M8: 795 | N8: 848 | O8: 855.41 | P8: 917.89 | Q8: 1037.39 | R8: 1089.26 | S8: 1141.13 | T8: 1211.17 | U8: 1221.7 | V8: 1232.23 | W8: 1232.23
A9: 08 ARDENNES | B9: 190.85 | C9: 204.56 | D9: 209.92 | E9: 215.28 | F9: 226.01 | G9: 249.1 | H9: 254.08 | I9: 264.7 | J9: 286.52 | K9: 328.02 | L9: 351.99 | M9: 377.14 | N9: 402.28 | O9: 405.42 | P9: 434.64 | Q9: 490.37 | R9: 514.88 | S9: 539.4 | T9: 572.51 | U9: 577.49 | V9: 582.47 | W9: 582.47
A10: 09 ARIEGE | B10: 275.18 | C10: 352.99 | D10: 430.78 | E10: 495.4 | F10: 594.48 | G10: 653.21 | H10: 666.49 | I10: 694.54 | J10: 751.8 | K10: 860.68 | L10: 923.52 | M10: 989.49 | N10: 1055.43 | O10: 1064.78 | P10: 1142.66 | Q10: 1291.68 | R10: 1356.26 | S10: 1420.85 | T10: 1508.05 | U10: 1521.18 | V10: 1534.29 | W10: 1534.29
A11: 10 AUBE | B11: 133.12 | C11: 165.9 | D11: 198.68 | E11: 228.49 | F11: 274.19 | G11: 301.74 | H11: 308.52 | I11: 322.15 | J11: 348.46 | K11: 398.68 | L11: 427.38 | M11: 457.9 | N11: 488.43 | O11: 492.66 | P11: 528.6 | Q11: 597.3 | R11: 627.16 | S11: 657.02 | T11: 697.36 | U11: 703.41 | V11: 709.5 | W11: 709.5
A12: 11 AUDE | B12: 275.18 | C12: 341.53 | D12: 407.89 | E12: 469.06 | F12: 562.88 | G12: 618.5 | H12: 631.35 | I12: 658.22 | J12: 712.58 | K12: 815.88 | L12: 875.65 | M12: 938.18 | N12: 1000.73 | O12: 1009.14 | P12: 1082.5 | Q12: 1222.63 | R12: 1283.77 | S12: 1344.91 | T12: 1427.44 | U12: 1439.87 | V12: 1452.28 | W12: 1452.28
... A96: 95 VAL D'OISE | B96: 205.38 | C96: 221.18 | D96: 229.53 | E96: 237.9 | F96: 254.6 | G96: 279.98 | H96: 285.68 | I96: 297.69 | J96: 322.3 | K96: 369.04 | L96: 396.12 | M96: 424.4 | N96: 452.68 | O96: 456.53 | P96: 489.74 | Q96: 553.17 | R96: 580.83 | S96: 608.48 | T96: 645.84 | U96: 651.45 | V96: 657.07 | W96: 657.07

Sheet COUPE
B1: 1,2 à 1,7 | C1: 1,8 à 2,4 | D1: 2,5 à 2,9 | E1: 3 | F1: 3.6 | G1: 4.2 | H1: 4.8 | I1: 5.4 | J1: 6 | K1: 6.6 | L1: 7.2 | M1: 7.8 | N1: 8.4 | O1: 9 | P1: 9.6 | Q1: 10.2 | R1: 10.8 | S1: 11.4 | T1: 12 | U1: 12.6 | V1: 13.2
A2: 1 | B2: 255.5533 | C2: 371.0987 | D2: 397.79 | E2: 409.03852 | F2: 455.39865 | G2: 512.47508 | H2: 542.18745 | I2: 575.48295 | J2: 605.20635 | K2: 634.94078 | L2: 694.38758 | M2: 733.62555 | N2: 763.34895 | O2: 808.54043 | P2: 852.53017 | Q2: 921.48053 | R2: 951.21495 | S2: 959.53883 | T2: 985.69012 | U2: 1017.8059 | V2: 1048.7311
A3: 2 | B3: 145.58612 | C3: 204.12 | D3: 225.37 | E3: 236.61855 | F3: 244.9314 | G3: 263.96055 | H3: 273.4641 | I3: 300.82815 | J3: 321.03698 | K3: 341.25682 | L3: 349.5807 | M3: 378.1134 | N3: 387.62797 | O3: 397.13153 | P3: 416.16068 | Q3: 420.91245 | R3: 430.42703 | S3: 443.5137 | T3: 455.39865 | U3: 467.29463 | V3: 479.17958
A4: 3 | B4: 267.4498 | C4: 362.66 | D4: 362.66 | E4: 362.65635 | F4: 399.51293 | G4: 449.44515 | H4: 475.59645 | I4: 518.41755 | J4: 545.77058 | K4: 571.92188 | L4: 624.2355 | M4: 662.28278 | N4: 688.45613 | O4: 718.1685 | P4: 766.92105 | Q4: 802.58693 | R4: 828.74925 | S4: 859.66335 | T4: 883.44428 | U4: 915.54908 | V4: 946.45215
A5: 4 | B5: 359.4082 | C5: 504.1747 | D5: 658.74 | E5: 669.98925 | F5: 755.15738 | G5: 870.98603 | H5: 931.1715 | I5: 999.306 | J5: 1037.9155 | K5: 1110.5924 | L5: 1216.2008 | M5: 1286.6065 | N5: 1345.6564 | O5: 1352.4698 | P5: 1523.9417 | Q5: 1558.0089 | R5: 1617.0588 | S5: 1713.5827 | T5: 1773.7681 | U5: 1837.3603 | V5: 1900.9526
A6: 5 | B6: 359.4082 | C6: 504.1747 | D6: 658.74 | E6: 669.98925 | F6: 755.15738 | G6: 870.98603 | H6: 931.1715 | I6: 999.306 | J6: 1037.9155 | K6: 1110.5924 | L6: 1216.2008 | M6: 1286.6065 | N6: 1345.6564 | O6: 1352.4698 | P6: 1523.9417 | Q6: 1558.0089 | R6: 1617.0588 | S6: 1713.5827 | T6: 1773.7681 | U6: 1837.3603 | V6: 1900.9526
A7: 6 | B7: 401.6073 | C7: 577.7476 | D7: 651.93 | E7: 663.1758 | F7: 746.07278 | G7: 859.63028 | H7: 916.40903 | I7: 985.6791 | J7: 1025.4242 | K7: 1098.101 | L7: 1198.0316 | M7: 1277.5219 | N7: 1335.4362 | O7: 1427.4178 | P7: 1508.0436 | Q7: 1621.6011 | R7: 1678.3799 | S7: 1770.3614 | T7: 1828.2758 | U7: 1889.5968 | V7: 1950.9179
A8: 7 | B8: 289.0901 | C8: 408.9615 | D8: 540 | E8: 551.25 | F8: 624.75 | G8: 726.6 | H8: 777 | I8: 845.25 | J8: 939.75 | K8: 987 | L8: 1047.9 | M8: 1092 | N8: 1149.75 | O8: 1228.5 | P8: 1302 | Q8: 1386 | R8: 1464.75 | S8: 1522.5 | T8: 1569.75 | U8: 1606.5 | V8: 1638
A9: 8 | B9: 243.6465 | C9: 248.69 | D9: 248.69 | E9: 248.69093 | F9: 262.31783 | G9: 286.1649 | H9: 297.52065 | I9: 310.01198 | J9: 325.91003 | K9: 340.6725 | L9: 359.97728 | M9: 378.14648 | N9: 389.50223 | O9: 416.75603 | P9: 423.56948 | Q9: 456.50115 | R9: 466.72133 | S9: 500.78858 | T9: 513.2799 | U9: 523.50008 | V9: 533.72025
A10: 9 | B10: 381.0485 | C10: 544.2005 | D10: 636.03 | E10: 647.27775 | F10: 729.03915 | G10: 841.46108 | H10: 899.3754 | I10: 965.23875 | J10: 1002.7127 | K10: 1073.1184 | L10: 1175.3201 | M10: 1243.4546 | N10: 1300.2334 | O10: 1319.5382 | P10: 1472.8408 | Q10: 1518.2638 | R10: 1575.0425 | S10: 1660.2106 | T10: 1724.9384 | U10: 1786.2595 | V10: 1847.5805
A11: 10 | B11: 220.9247 | C11: 274.68 | D11: 274.68 | E11: 274.67685 | F11: 290.12288 | G11: 317.48693 | H11: 331.73123 | I11: 350.76038 | J11: 365.02672 | K11: 386.43728 | L11: 407.82578 | M11: 438.7509 | N11: 453.02828 | O11: 469.665 | P11: 495.82733 | Q11: 533.86358 | R11: 548.12993 | S11: 560.03693 | T11: 573.11257 | U11: 592.1307 | V11: 609.95812
A12: 11 | B12: 444.8879 | C12: 582.63 | D12: 582.63 | E12: 582.62715 | F12: 650.39782 | G12: 757.40648 | H12: 812.09048 | I12: 885.82568 | J12: 932.19683 | K12: 1001.1582 | L12: 1096.2709 | M12: 1172.3654 | N12: 1227.0715 | O12: 1310.2992 | P12: 1391.1566 | Q12: 1499.3449 | R12: 1554.0509 | S12: 1634.8973 | T12: 1686.0202 | U12: 1733.5931 | V12: 1781.1549
A13: 12 | B13: 344.2672 | C13: 460.85 | D13: 482.1 | E13: 493.5 | F13: 556.5 | G13: 651 | H13: 693 | I13: 766.5 | J13: 837.9 | K13: 903 | L13: 976.5 | M13: 1092 | N13: 1134 | O13: 1207.5 | P13: 1265.25 | Q13: 1396.5 | R13: 1449 | S13: 1533 | T13: 1585.5 | U13: 1617 | V13: 1643.25
... A96: 95 | B96: 204.7022 | C96: 211.854 | D96: 220.82 | E96: 220.8234 | F96: 253.953 | G96: 287.07245 | H96: 309.1487 | I96: 325.7135 | J96: 342.2783 | K96: 353.3215 | L96: 375.39775 | M96: 386.44095 | N96: 397.48415 | O96: 414.0388 | P96: 425.09215 | Q96: 447.1684 | R96: 463.7332 | S96: 480.28785 | T96: 496.85265 | U96: 518.93905 | V96: 552.0585
