Workbook

Sheet Données
A1: Date de début : | B1: 45323
A2: Date de fin : | B2: =EOMONTH(B1,0) -> 45351
A3: Mois de : | B3: =TEXT(B1,"mmmm aaaa") -> février 2024

Sheet EDTglobal
A1: =TEXT(Données!B1,"mmmm aaaa") -> février 2024 | B1: Affectation des salariés intermittents
B2: DEN | C2: REMI | D2: MEH | E2: ETIE | F2: TOJ | G2: TOC | H2: J.V. | I2: JUST | J2: DEB | K2: LAUR | L2: CALI | M2: CAM | N2: OLIV | O2: GEN | P2: FEL | Q2: FRA | R2: PAUL | S2: THIB | T2: ARNO | U2: MATC | V2: MAL | W2: MANU | X2: ERIC | Y2: PIER | Z2: JUL
A3: =Données!B1 -> 45323 | B3: csl
B4: csl
B5: csl
A6: =IFERROR(IF(A3+1>Données!$B$2,"",A3+1),"") -> 45324 | B6: jouv
B7: csl
A9: =IFERROR(IF(A6+1>Données!$B$2,"",A6+1),"") -> 45325 | B9: jouv
A12: =IFERROR(IF(A9+1>Données!$B$2,"",A9+1),"") -> 45326
A15: =IFERROR(IF(A12+1>Données!$B$2,"",A12+1),"") -> 45327
A18: =IFERROR(IF(A15+1>Données!$B$2,"",A15+1),"") -> 45328
A21: =IFERROR(IF(A18+1>Données!$B$2,"",A18+1),"") -> 45329
A24: =IFERROR(IF(A21+1>Données!$B$2,"",A21+1),"") -> 45330
A27: =IFERROR(IF(A24+1>Données!$B$2,"",A24+1),"") -> 45331
A30: =IFERROR(IF(A27+1>Données!$B$2,"",A27+1),"") -> 45332
A33: =IFERROR(IF(A30+1>Données!$B$2,"",A30+1),"") -> 45333
A36: =IFERROR(IF(A33+1>Données!$B$2,"",A33+1),"") -> 45334
A39: =IFERROR(IF(A36+1>Données!$B$2,"",A36+1),"") -> 45335
A42: =IFERROR(IF(A39+1>Données!$B$2,"",A39+1),"") -> 45336
A45: =IFERROR(IF(A42+1>Données!$B$2,"",A42+1),"") -> 45337
... A96: =IFERROR(IF(A93+1>Données!$B$2,"",A93+1),"")

Sheet DEN
A1: =Données!B3 -> février 2024 | B1: L'Étincelle
B4: Services | D4: Nbre services : | E4: =COUNT(B6:B6) -> 1
A5: =EDTglobal!$A$3 -> 45323 | B5: =COUNTIF(EDTglobal!B3:B5,"*") -> 3
A6: =IFERROR(IF(A5+1>Données!$B$2,"",A5+1),"") -> 45324 | B6: =COUNTIF(OFFSET(EDTglobal!$B3:$B5,((ROW()-3)*3)+3,0),"*") -> 0
A7: =IFERROR(IF(A6+1>Données!$B$2,"",A6+1),"") -> 45325 | B7: =COUNTIF(OFFSET(EDTglobal!$B6:$B8,3,0),"*") -> 1
A8: =IFERROR(IF(A7+1>Données!$B$2,"",A7+1),"") -> 45326 | B8: =COUNTIF(OFFSET(EDTglobal!$B5:$B7,3,0),"*") -> 1
A9: =IFERROR(IF(A8+1>Données!$B$2,"",A8+1),"") -> 45327 | B9: =COUNTIF(OFFSET(EDTglobal!$B8:$B10,3,0),"*") -> 0
A10: =IFERROR(IF(A9+1>Données!$B$2,"",A9+1),"") -> 45328 | B10: =COUNTIF(OFFSET(EDTglobal!$B7:$B9,3,0),"*") -> 0
A11: =IFERROR(IF(A10+1>Données!$B$2,"",A10+1),"") -> 45329 | B11: =COUNTIF(OFFSET(EDTglobal!$B10:$B12,3,0),"*") -> 0
A12: =IFERROR(IF(A11+1>Données!$B$2,"",A11+1),"") -> 45330 | B12: =COUNTIF(OFFSET(EDTglobal!$B9:$B11,3,0),"*") -> 0
A13: =IFERROR(IF(A12+1>Données!$B$2,"",A12+1),"") -> 45331 | B13: =COUNTIF(OFFSET(EDTglobal!$B12:$B14,3,0),"*") -> 0
A14: =IFERROR(IF(A13+1>Données!$B$2,"",A13+1),"") -> 45332 | B14: =COUNTIF(OFFSET(EDTglobal!$B11:$B13,3,0),"*") -> 0
A15: =IFERROR(IF(A14+1>Données!$B$2,"",A14+1),"") -> 45333 | B15: =COUNTIF(OFFSET(EDTglobal!$B14:$B16,3,0),"*") -> 0
A16: =IFERROR(IF(A15+1>Données!$B$2,"",A15+1),"") -> 45334 | B16: =COUNTIF(OFFSET(EDTglobal!$B13:$B15,3,0),"*") -> 0
A17: =IFERROR(IF(A16+1>Données!$B$2,"",A16+1),"") -> 45335 | B17: =COUNTIF(OFFSET(EDTglobal!$B14:$B16,3,0),"*") -> 0
A18: =IFERROR(IF(A17+1>Données!$B$2,"",A17+1),"") -> 45336 | B18: =COUNTIF(EDTglobal!B16:B18,"*") -> 0
A19: =IFERROR(IF(A18+1>Données!$B$2,"",A18+1),"") -> 45337 | B19: =COUNTIF(EDTglobal!B17:B19,"*") -> 0
A20: =IFERROR(IF(A19+1>Données!$B$2,"",A19+1),"") -> 45338 | B20: =COUNTIF(EDTglobal!B18:B20,"*") -> 0
A21: =IFERROR(IF(A20+1>Données!$B$2,"",A20+1),"") -> 45339 | B21: =COUNTIF(EDTglobal!B19:B21,"*") -> 0
A22: =IFERROR(IF(A21+1>Données!$B$2,"",A21+1),"") -> 45340 | B22: =COUNTIF(EDTglobal!B20:B22,"*") -> 0
A23: =IFERROR(IF(A22+1>Données!$B$2,"",A22+1),"") -> 45341 | B23: =COUNTIF(EDTglobal!B21:B23,"*") -> 0
A24: =IFERROR(IF(A23+1>Données!$B$2,"",A23+1),"") -> 45342 | B24: =COUNTIF(EDTglobal!B22:B24,"*") -> 0
A25: =IFERROR(IF(A24+1>Données!$B$2,"",A24+1),"") -> 45343 | B25: =COUNTIF(EDTglobal!B23:B25,"*") -> 0
A26: =IFERROR(IF(A25+1>Données!$B$2,"",A25+1),"") -> 45344
A27: =IFERROR(IF(A26+1>Données!$B$2,"",A26+1),"") -> 45345
A28: =IFERROR(IF(A27+1>Données!$B$2,"",A27+1),"") -> 45346
A29: =IFERROR(IF(A28+1>Données!$B$2,"",A28+1),"") -> 45347
A30: =IFERROR(IF(A29+1>Données!$B$2,"",A29+1),"") -> 45348
A31: =IFERROR(IF(A30+1>Données!$B$2,"",A30+1),"") -> 45349
A32: =IFERROR(IF(A31+1>Données!$B$2,"",A31+1),"") -> 45350
A33: =IFERROR(IF(A32+1>Données!$B$2,"",A32+1),"") -> 45351
A34: =IFERROR(IF(A33+1>Données!$B$2,"",A33+1),"")
A35: =IFERROR(IF(A34+1>Données!$B$2,"",A34+1),"")
A36: =IFERROR(IF(A35+1>Données!$B$2,"",A35+1),"")
A37: =IFERROR(IF(A36+1>Données!$B$2,"",A36+1),"")
... A97: =IFERROR(IF(A96+1>Données!$B$2,"",A96+1),"")
A98: =IFERROR(IF(A95+1>Données!$B$2,"",A95+1),"")
A101: =IFERROR(IF(A98+1>Données!$B$2,"",A98+1),"")
A104: =IFERROR(IF(A101+1>Données!$B$2,"",A101+1),"")
