Workbook

Sheet TOTAL
A1: 43313
A2: TOTAL ACCOUNTS | B2: A - PM Swing Trading | C2: B - SLINGSHOT | D2: C - SFE | E2: D - Strive | F2: E - Pepperstone | G2: F - VOL Portfolio | H2: G - Atlas | I2: H - Scorpion | J2: I - YRL CAPITAL | K2: TOTAL PIPS | L2: TRADES | M2: TOTAL MONTANT
A3: 43313 | B3: =A!D2 -> 0 | C3: ='B '!E2 -> 206.1 | D3: ='C '!G2 -> 74.2 | E3: =D!D2 -> 0 | F3: ='E '!D2 -> 0 | G3: ='F '!D2 -> 0 | H3: =G!F2 -> #VALUE! | I3: =H!E2 -> #VALUE! | J3: ='I '!#REF! -> #REF! | K3: =SUM(B3:J3) -> #VALUE! | L3: =A!E2+'B '!F2+'C '!H2+D!E2+'E '!E2+'F '!E2+G!G2+H!F2 -> 8 | M3: =A!F2+'B '!G2+'C '!I2+D!F2+'E '!F2+'F '!F2+G!H2+H!G2 -> #VALUE!
A4: 43314 | B4: =A!D3 -> 0 | C4: ='B '!E3 -> 0 | D4: ='C '!G3 -> -100.2 | E4: =D!D3 -> 0 | F4: ='E '!D3 -> 0 | G4: ='F '!D3 -> 0 | H4: =G!F3 -> #VALUE! | I4: =H!E3 -> #VALUE! | J4: ='I '!#REF! -> #REF! | K4: =SUM(B4:J4) -> #VALUE! | L4: =A!E3+'B '!F3+'C '!H3+D!E3+'E '!E3+'F '!E3+G!G3+H!F3 -> 20 | M4: =A!F3+'B '!G3+'C '!I3+D!F3+'E '!F3+'F '!F3+G!H3+H!G3 -> #VALUE!
A5: 43315 | B5: =A!D4 -> 0 | C5: ='B '!E4 -> 0 | D5: ='C '!G4 -> 12.2 | E5: =D!D4 -> 0 | F5: ='E '!D4 -> 0 | G5: ='F '!D4 -> 0 | H5: =G!F4 -> #VALUE! | I5: =H!E4 -> #VALUE! | J5: ='I '!#REF! -> #REF! | K5: =SUM(B5:J5) -> #VALUE! | L5: =A!E4+'B '!F4+'C '!H4+D!E4+'E '!E4+'F '!E4+G!G4+H!F4 -> 8 | M5: =A!F4+'B '!G4+'C '!I4+D!F4+'E '!F4+'F '!F4+G!H4+H!G4 -> #VALUE!
A6: 43318 | B6: =A!D5 -> 0 | C6: ='B '!E5 -> 0 | D6: ='C '!G5 -> -20.7 | E6: =D!D5 -> 0 | F6: ='E '!D5 -> 0 | G6: ='F '!D5 -> 0 | H6: =G!F5 -> #VALUE! | I6: =H!E5 -> #VALUE! | J6: ='I '!#REF! -> #REF! | K6: =SUM(B6:J6) -> #VALUE! | L6: =A!E5+'B '!F5+'C '!H5+D!E5+'E '!E5+'F '!E5+G!G5+H!F5 -> 4 | M6: =A!F5+'B '!G5+'C '!I5+D!F5+'E '!F5+'F '!F5+G!H5+H!G5 -> #VALUE!
A7: 43319 | B7: =A!D6 -> 0 | C7: ='B '!E6 -> 0 | D7: ='C '!G6 -> 5.5 | E7: =D!D6 -> 0 | F7: ='E '!D6 -> 0 | G7: ='F '!D6 -> 0 | H7: =G!F6 -> #VALUE! | I7: =H!E6 -> #VALUE! | J7: ='I '!#REF! -> #REF! | K7: =SUM(B7:J7) -> #VALUE! | L7: =A!E6+'B '!F6+'C '!H6+D!E6+'E '!E6+'F '!E6+G!G6+H!F6 -> 1 | M7: =A!F6+'B '!G6+'C '!I6+D!F6+'E '!F6+'F '!F6+G!H6+H!G6 -> #VALUE!
A8: 43320 | B8: =A!D7 -> 0 | C8: ='B '!E7 -> -42.3 | D8: ='C '!G7 -> 363.7 | E8: =D!D7 -> 37.9 | F8: ='E '!D7 -> 0 | G8: ='F '!D7 -> 0 | H8: =G!F7 -> #VALUE! | I8: =H!E7 -> #VALUE! | J8: ='I '!#REF! -> #REF! | K8: =SUM(B8:J8) -> #VALUE! | L8: =A!E7+'B '!F7+'C '!H7+D!E7+'E '!E7+'F '!E7+G!G7+H!F7 -> 10 | M8: =A!F7+'B '!G7+'C '!I7+D!F7+'E '!F7+'F '!F7+G!H7+H!G7 -> #VALUE!
A9: 43321 | B9: =A!D8 -> 0 | C9: ='B '!E8 -> -34.7 | D9: ='C '!G8 -> 356.9 | E9: =D!D8 -> 0 | F9: ='E '!D8 -> 0 | G9: ='F '!D8 -> 0 | H9: =G!F8 -> #VALUE! | I9: =H!E8 -> #VALUE! | J9: ='I '!#REF! -> #REF! | K9: =SUM(B9:J9) -> #VALUE! | L9: =A!E8+'B '!F8+'C '!H8+D!E8+'E '!E8+'F '!E8+G!G8+H!F8 -> 6 | M9: =A!F8+'B '!G8+'C '!I8+D!F8+'E '!F8+'F '!F8+G!H8+H!G8 -> #VALUE!
A10: 43322 | B10: =A!D9 -> 0 | C10: ='B '!E9 -> 0 | D10: ='C '!G9 -> -72.7 | E10: =D!D9 -> 0 | F10: ='E '!D9 -> 0 | G10: ='F '!D9 -> 0 | H10: =G!F9 -> #VALUE! | I10: =H!E9 -> #VALUE! | J10: ='I '!#REF! -> #REF! | K10: =SUM(B10:J10) -> #VALUE! | L10: =A!E9+'B '!F9+'C '!H9+D!E9+'E '!E9+'F '!E9+G!G9+H!F9 -> 15 | M10: =A!F9+'B '!G9+'C '!I9+D!F9+'E '!F9+'F '!F9+G!H9+H!G9 -> #VALUE!
A11: 43325 | B11: =A!D10 -> 0 | C11: ='B '!E10 -> 0 | D11: ='C '!G10 -> 0 | E11: =D!D10 -> -61.5 | F11: ='E '!D10 -> 0 | G11: ='F '!D10 -> 0 | H11: =G!F10 -> #VALUE! | I11: =H!E10 -> #VALUE! | J11: ='I '!#REF! -> #REF! | K11: =SUM(B11:J11) -> #VALUE! | L11: =A!E10+'B '!F10+'C '!H10+D!E10+'E '!E10+'F '!E10+G!G10+H!F10 -> 0 | M11: =A!F10+'B '!G10+'C '!I10+D!F10+'E '!F10+'F '!F10+G!H10+H!G10 -> #VALUE!
A12: 43326 | B12: =A!D11 -> 0 | C12: ='B '!E11 -> 0 | D12: ='C '!G11 -> 0 | E12: =D!D11 -> 36.3 | F12: ='E '!D11 -> 0 | G12: ='F '!D11 -> 0 | H12: =G!F11 -> #VALUE! | I12: =H!E11 -> #VALUE! | J12: ='I '!#REF! -> #REF! | K12: =SUM(B12:J12) -> #VALUE! | L12: =A!E11+'B '!F11+'C '!H11+D!E11+'E '!E11+'F '!E11+G!G11+H!F11 -> 0 | M12: =A!F11+'B '!G11+'C '!I11+D!F11+'E '!F11+'F '!F11+G!H11+H!G11 -> #VALUE!
A13: 43327 | B13: =A!D12 -> 0 | C13: ='B '!E12 -> 0 | D13: ='C '!G12 -> 0 | E13: =D!D12 -> 63.8 | F13: ='E '!D12 -> 0 | G13: ='F '!D12 -> 0 | H13: =G!F12 -> #VALUE! | I13: =H!E12 -> #VALUE! | J13: ='I '!#REF! -> #REF! | K13: =SUM(B13:J13) -> #VALUE! | L13: =A!E12+'B '!F12+'C '!H12+D!E12+'E '!E12+'F '!E12+G!G12+H!F12 -> 0 | M13: =A!F12+'B '!G12+'C '!I12+D!F12+'E '!F12+'F '!F12+G!H12+H!G12 -> #VALUE!
A14: 43328 | B14: =A!D13 -> 0 | C14: ='B '!E13 -> 0 | D14: ='C '!G13 -> -102.9 | E14: =D!D13 -> 8.4 | F14: ='E '!D13 -> 0 | G14: ='F '!D13 -> 0 | H14: =G!F13 -> #VALUE! | I14: =H!E13 -> #VALUE! | J14: ='I '!#REF! -> #REF! | K14: =SUM(B14:J14) -> #VALUE! | L14: =A!E13+'B '!F13+'C '!H13+D!E13+'E '!E13+'F '!E13+G!G13+H!F13 -> 7 | M14: =A!F13+'B '!G13+'C '!I13+D!F13+'E '!F13+'F '!F13+G!H13+H!G13 -> #VALUE!
... A16: 43332 | B16: =A!D15 -> 0 | C16: ='B '!E15 -> -58 | D16: ='C '!G15 -> 0 | E16: =D!D15 -> -28.3 | F16: ='E '!D15 -> 0 | G16: ='F '!D15 -> 0 | H16: =G!F15 -> #VALUE! | I16: =H!E15 -> #VALUE! | J16: ='I '!#REF! -> #REF! | K16: =SUM(B16:J16) -> #VALUE! | L16: =A!E15+'B '!F15+'C '!H15+D!E15+'E '!E15+'F '!E15+G!G15+H!F15 -> 2 | M16: =A!F15+'B '!G15+'C '!I15+D!F15+'E '!F15+'F '!F15+G!H15+H!G15 -> #VALUE!
A17: 43333 | B17: =A!D16 -> 0 | C17: ='B '!E16 -> 0 | D17: ='C '!G16 -> -82.3 | E17: Arret | F17: ='E '!D16 -> 0 | G17: ='F '!D16 -> 0 | H17: =G!F16 -> #VALUE! | I17: =H!E16 -> #VALUE! | J17: ='I '!#REF! -> #REF! | K17: =SUM(B17:J17) -> #VALUE! | L17: =A!E16+'B '!F16+'C '!H16+D!E16+'E '!E16+'F '!E16+G!G16+H!F16 -> 6 | M17: =A!F16+'B '!G16+'C '!I16+D!F16+'E '!F16+'F '!F16+G!H16+H!G16 -> #VALUE!
A18: 43334 | B18: =A!D17 -> 0 | C18: ='B '!E17 -> 0 | D18: ='C '!G17 -> 0 | E18: Arret | F18: ='E '!D17 -> 0 | G18: ='F '!D17 -> 0 | H18: =G!F17 -> #VALUE! | I18: =H!E17 -> #VALUE! | J18: ='I '!#REF! -> #REF! | K18: =SUM(B18:J18) -> #VALUE! | L18: =A!E17+'B '!F17+'C '!H17+D!E17+'E '!E17+'F '!E17+G!G17+H!F17 -> 0 | M18: =A!F17+'B '!G17+'C '!I17+D!F17+'E '!F17+'F '!F17+G!H17+H!G17+'I '!#REF! -> #VALUE!
A19: 43335 | B19: =A!D18 -> 0 | C19: ='B '!E18 -> 0 | D19: ='C '!G18 -> 2.3 | E19: Arret | F19: ='E '!D18 -> 0 | G19: ='F '!D18 -> 0 | H19: =G!F18 -> #VALUE! | I19: =H!E18 -> #VALUE! | J19: ='I '!#REF! -> #REF! | K19: =SUM(B19:J19) -> #VALUE! | L19: =A!E18+'B '!F18+'C '!H18+D!E18+'E '!E18+'F '!E18+G!G18+H!F18 -> 4 | M19: =A!F18+'B '!G18+'C '!I18+D!F18+'E '!F18+'F '!F18+G!H18+H!G18 -> #VALUE!
A20: 43336 | B20: =A!D19 -> 0 | C20: ='B '!E19 -> 265.7 | D20: ='C '!G19 -> -43.4 | E20: Arret | F20: ='E '!D19 -> 0 | G20: ='F '!D19 -> 0 | H20: =G!F19 -> #VALUE! | I20: =H!E19 -> #VALUE! | J20: ='I '!#REF! -> #REF! | K20: =SUM(B20:J20) -> #VALUE! | L20: =A!E19+'B '!F19+'C '!H19+D!E19+'E '!E19+'F '!E19+G!G19+H!F19 -> 15 | M20: =A!F19+'B '!G19+'C '!I19+D!F19+'E '!F19+'F '!F19+G!H19+H!G19 -> #VALUE!
A21: 43339 | B21: =A!D20 -> 0 | C21: ='B '!E20 -> 0 | D21: ='C '!G20 -> 0 | E21: Arret | F21: ='E '!D20 -> 0 | G21: ='F '!D20 -> 0 | H21: =G!F20 -> #VALUE! | I21: =H!E20 -> #VALUE! | J21: ='I '!#REF! -> #REF! | K21: =SUM(B21:J21) -> #VALUE! | L21: =A!E20+'B '!F20+'C '!H20+D!E20+'E '!E20+'F '!E20+G!G20+H!F20 -> 0 | M21: =A!F20+'B '!G20+'C '!I20+D!F20+'E '!F20+'F '!F20+G!H20+H!G20 -> #VALUE!
A22: 43340 | B22: =A!D21 -> 0 | C22: ='B '!E21 -> 0 | D22: ='C '!G21 -> 0 | E22: Arret | F22: ='E '!D21 -> 0 | G22: ='F '!D21 -> 0 | H22: =G!F21 -> #VALUE! | I22: =H!E21 -> #VALUE! | J22: ='I '!#REF! -> #REF! | K22: =SUM(B22:J22) -> #VALUE! | L22: =A!E21+'B '!F21+'C '!H21+D!E21+'E '!E21+'F '!E21+G!G21+H!F21 -> 0 | M22: =A!F21+'B '!G21+'C '!I21+D!F21+'E '!F21+'F '!F21+G!H21+H!G21 -> #VALUE!
A23: 43341 | B23: =A!D22 -> 0 | C23: ='B '!E22 -> 0 | D23: ='C '!G22 -> 0 | E23: Arret | F23: ='E '!D22 -> 0 | G23: ='F '!D22 -> 0 | H23: =G!F22 -> #VALUE! | I23: =H!E22 -> #VALUE! | J23: ='I '!#REF! -> #REF! | K23: =SUM(B23:J23) -> #VALUE! | L23: =A!E22+'B '!F22+'C '!H22+D!E22+'E '!E22+'F '!E22+G!G22+H!F22 -> 0 | M23: =A!F22+'B '!G22+'C '!I22+D!F22+'E '!F22+'F '!F22+G!H22+H!G22 -> #VALUE!
A24: 43342 | B24: =A!D23 -> 0 | C24: ='B '!E23 -> 0 | D24: ='C '!G23 -> 0 | E24: Arret | F24: ='E '!D23 -> 0 | G24: ='F '!D23 -> 0 | H24: =G!F23 -> #VALUE! | I24: =H!E23 -> #VALUE! | J24: ='I '!#REF! -> #REF! | K24: =SUM(B24:J24) -> #VALUE! | L24: =A!E23+'B '!F23+'C '!H23+D!E23+'E '!E23+'F '!E23+G!G23+H!F23 -> 0 | M24: =A!F23+'B '!G23+'C '!I23+D!F23+'E '!F23+'F '!F23+G!H23+H!G23 -> #VALUE!
A25: 43343 | B25: =A!D24 -> 0 | C25: ='B '!E24 -> 0 | D25: ='C '!G24 -> 0 | E25: Arret | F25: ='E '!D24 -> 0 | G25: ='F '!D24 -> 0 | H25: =G!F24 -> #VALUE! | I25: =H!E24 -> #VALUE! | J25: ='I '!#REF! -> #REF! | K25: =SUM(B25:J25) -> #VALUE! | L25: =A!E24+'B '!F24+'C '!H24+D!E24+'E '!E24+'F '!E24+G!G24+H!F24 -> 0 | M25: =A!F24+'B '!G24+'C '!I24+D!F24+'E '!F24+'F '!F24+G!H24+H!G24 -> #VALUE!
A26: TOTAL | B26: =A!D25 -> 0 | C26: ='B '!E25 -> 305.6 | D26: ='C '!G25 -> 384.5 | E26: =D!D25 -> 186.7 | F26: ='E '!D25 -> 0 | G26: ='F '!D25 -> 0 | H26: =G!F25 -> #VALUE! | I26: =H!E25 -> #VALUE! | J26: ='I '!#REF! -> #REF! | K26: =SUM(B26:J26) -> #VALUE! | L26: =SUM(L3:L25) -> 114
A27: TOTAL TRADES | B27: =A!E25 -> 0 | C27: ='B '!F25 -> 25 | D27: ='C '!H25 -> 89 | E27: =D!E25 -> 0 | F27: ='E '!E25 -> 0 | G27: ='F '!E25 -> 0 | H27: =G!G25 -> 0 | I27: =H!F25 -> 0 | J27: ='I '!#REF! -> #REF! | L27: =SUM(B27:J27) -> #REF!
A28: TOTAL MONTANT | B28: =A!F25 -> 0 | E28: =D!F25 -> 1086.77 | F28: ='E '!F25 -> 0 | G28: ='F '!F25 -> 0 | H28: =G!H25 -> #VALUE! | I28: =H!G25 -> #VALUE! | J28: ='I '!#REF! -> #REF! | K28: =SUM(B28:J28) -> #VALUE! | M28: =SUM(M3:M25) -> #VALUE!
A30: YRL_CAPITAL / SC GAM
A31: TOTAL ACCOUNTS | B31: A - PM Swing Trading | C31: B - SLINGSHOT | D31: C - SFE | E31: D - Strive | F31: E - Pepperstone | G31: F - VOL Portfolio | H31: G - Atlas | I31: H - Scorpion | J31: TOTAL PIPS | K31: TOTAL MONTANT | L31: TRADES | M31: SLIPAGE ICM
A32: Brokers | B32: Admiral Markets | C32: Darwinex | D32: IC Markets | E32: IC Markets | F32: Pepperstone | G32: FXDD | H32: Tickmill | I32: IC Markets
A33: 43313 | B33: =A!#REF! -> #REF! | C33: ='B '!#REF! -> #REF! | D33: ='C '!#REF! -> #REF! | E33: =D!#REF! -> #REF! | F33: ='E '!#REF! -> #REF! | G33: ='F '!#REF! -> #REF! | H33: =G!#REF! -> #REF! | I33: =H!#REF! -> #REF! | J33: =SUM(B33:I33) -> #REF! | K33: =#REF!+#REF! -> #REF! | L33: =#REF!+#REF! -> #REF! | M33: =J33-K3 -> #REF!
A34: 43314 | B34: =A!#REF! -> #REF! | C34: ='B '!#REF! -> #REF! | D34: ='C '!#REF! -> #REF! | E34: =D!#REF! -> #REF! | F34: ='E '!#REF! -> #REF! | G34: ='F '!#REF! -> #REF! | H34: =G!#REF! -> #REF! | I34: =H!#REF! -> #REF! | J34: =SUM(B34:I34) -> #REF! | K34: =#REF!+#REF! -> #REF! | L34: =#REF!+#REF! -> #REF! | M34: =J34-K4 -> #REF!
A35: 43315 | B35: =A!#REF! -> #REF! | C35: ='B '!#REF! -> #REF! | D35: ='C '!#REF! -> #REF! | E35: =D!#REF! -> #REF! | F35: ='E '!#REF! -> #REF! | G35: ='F '!#REF! -> #REF! | H35: =G!#REF! -> #REF! | I35: =H!#REF! -> #REF! | J35: =SUM(B35:I35) -> #REF! | K35: =#REF!+#REF! -> #REF! | L35: =#REF!+#REF! -> #REF! | M35: =J35-K5 -> #REF!
A36: 43318 | B36: =A!#REF! -> #REF! | C36: ='B '!#REF! -> #REF! | D36: ='C '!#REF! -> #REF! | E36: =D!#REF! -> #REF! | F36: ='E '!#REF! -> #REF! | G36: ='F '!#REF! -> #REF! | H36: =G!#REF! -> #REF! | I36: =H!#REF! -> #REF! | J36: =SUM(B36:I36) -> #REF! | K36: =#REF!+#REF! -> #REF! | L36: =#REF!+#REF! -> #REF! | M36: =J36-K6 -> #REF!
A37: 43319 | B37: =A!#REF! -> #REF! | C37: ='B '!#REF! -> #REF! | D37: ='C '!#REF! -> #REF! | E37: =D!#REF! -> #REF! | F37: ='E '!#REF! -> #REF! | G37: ='F '!#REF! -> #REF! | H37: =G!#REF! -> #REF! | I37: =H!#REF! -> #REF! | J37: =SUM(B37:I37) -> #REF! | K37: =#REF!+#REF! -> #REF! | L37: =#REF!+#REF! -> #REF! | M37: =J37-K7 -> #REF!
A38: 43320 | B38: =A!#REF! -> #REF! | C38: ='B '!#REF! -> #REF! | D38: ='C '!#REF! -> #REF! | E38: =D!#REF! -> #REF! | F38: ='E '!#REF! -> #REF! | G38: ='F '!#REF! -> #REF! | H38: =G!#REF! -> #REF! | I38: =H!#REF! -> #REF! | J38: =SUM(B38:I38) -> #REF! | K38: =#REF!+#REF! -> #REF! | L38: =#REF!+#REF! -> #REF! | M38: =J38-K8 -> #REF!
A39: 43321 | B39: =A!#REF! -> #REF! | C39: ='B '!#REF! -> #REF! | D39: ='C '!#REF! -> #REF! | E39: =D!#REF! -> #REF! | F39: ='E '!#REF! -> #REF! | G39: ='F '!#REF! -> #REF! | H39: =G!#REF! -> #REF! | I39: =H!#REF! -> #REF! | J39: =SUM(B39:I39) -> #REF! | K39: =#REF!+#REF! -> #REF! | L39: =#REF!+#REF! -> #REF! | M39: =J39-K9 -> #REF!
A40: 43322 | B40: =A!#REF! -> #REF! | C40: ='B '!#REF! -> #REF! | D40: ='C '!#REF! -> #REF! | E40: =D!#REF! -> #REF! | F40: ='E '!#REF! -> #REF! | G40: ='F '!#REF! -> #REF! | H40: =G!#REF! -> #REF! | I40: =H!#REF! -> #REF! | J40: =SUM(B40:I40) -> #REF! | K40: =#REF!+#REF! -> #REF! | L40: =#REF!+#REF! -> #REF! | M40: =J40-K10 -> #REF!
A41: 43325 | B41: =A!#REF! -> #REF! | C41: ='B '!#REF! -> #REF! | D41: ='C '!#REF! -> #REF! | E41: =D!#REF! -> #REF! | F41: ='E '!#REF! -> #REF! | G41: ='F '!#REF! -> #REF! | H41: =G!#REF! -> #REF! | I41: =H!#REF! -> #REF! | J41: =SUM(B41:I41) -> #REF! | K41: =#REF!+#REF! -> #REF! | L41: =#REF!+#REF! -> #REF! | M41: =J41-K11 -> #REF!
A42: 43326 | B42: =A!#REF! -> #REF! | C42: ='B '!#REF! -> #REF! | D42: ='C '!#REF! -> #REF! | E42: =D!#REF! -> #REF! | F42: ='E '!#REF! -> #REF! | G42: ='F '!#REF! -> #REF! | H42: =G!#REF! -> #REF! | I42: =H!#REF! -> #REF! | J42: =SUM(B42:I42) -> #REF! | K42: =#REF!+#REF! -> #REF! | L42: =#REF!+#REF! -> #REF! | M42: =J42-K12 -> #REF!
A43: 43327 | B43: =A!#REF! -> #REF! | C43: ='B '!#REF! -> #REF! | D43: ='C '!#REF! -> #REF! | E43: =D!#REF! -> #REF! | F43: ='E '!#REF! -> #REF! | G43: ='F '!#REF! -> #REF! | H43: =G!#REF! -> #REF! | I43: =H!#REF! -> #REF! | J43: =SUM(B43:I43) -> #REF! | K43: =#REF!+#REF! -> #REF! | L43: =#REF!+#REF! -> #REF! | M43: =J43-K13 -> #REF!
A44: 43328 | B44: =A!#REF! -> #REF! | C44: ='B '!#REF! -> #REF! | D44: ='C '!#REF! -> #REF! | E44: =D!#REF! -> #REF! | F44: ='E '!#REF! -> #REF! | G44: ='F '!#REF! -> #REF! | H44: =G!#REF! -> #REF! | I44: =H!#REF! -> #REF! | J44: =SUM(B44:I44) -> #REF! | K44: =#REF!+#REF! -> #REF! | L44: =#REF!+#REF! -> #REF! | M44: =J44-K14 -> #REF!
... A54: 43342 | B54: =A!#REF! -> #REF! | C54: ='B '!#REF! -> #REF! | D54: ='C '!#REF! -> #REF! | E54: =D!#REF! -> #REF! | F54: ='E '!#REF! -> #REF! | G54: ='F '!#REF! -> #REF! | H54: =G!#REF! -> #REF! | I54: =H!#REF! -> #REF! | J54: =SUM(B54:I54) -> #REF! | K54: =#REF!+#REF! -> #REF! | L54: =#REF!+#REF! -> #REF! | M54: =J54-K24 -> #REF!
A55: 43343 | B55: =A!#REF! -> #REF! | C55: ='B '!#REF! -> #REF! | D55: ='C '!#REF! -> #REF! | E55: =D!#REF! -> #REF! | F55: ='E '!#REF! -> #REF! | G55: ='F '!#REF! -> #REF! | H55: =G!#REF! -> #REF! | I55: =H!#REF! -> #REF! | J55: =SUM(B55:I55) -> #REF! | K55: =#REF!+#REF! -> #REF! | L55: =#REF!+#REF! -> #REF! | M55: =J55-K26 -> #REF!
A56: TOTAL | B56: =SUM(B33:B53) -> #REF! | C56: =SUM(C33:C53) -> #REF! | D56: =SUM(D33:D53) -> #REF! | E56: =SUM(E33:E53) -> #REF! | F56: =SUM(F33:F53) -> #REF! | G56: =SUM(G33:G53) -> #REF! | H56: =SUM(H33:H53) -> #REF! | I56: =SUM(I33:I53) -> #REF! | J56: =SUM(J33:J53) -> #REF! | K56: =SUM(K33:K54) -> #REF! | L56: =SUM(L33:L54) -> #REF! | M56: =SUM(M33:M54) -> #REF!
A57: TOTAL TRADES | L57: =SUM(B57:I57) -> 0
A59: YRL_CAPITAL / SC GAM
A60: TOTAL ACCOUNTS | B60: EURUSD | C60: GBPUSD | D60: USDJPY | E60: AUDUSD | F60: EURAUD | G60: EURGBP | H60: USDCAD | I60: GBPJPY | J60: TOTAL MONTANT | K60: TOTAL PIPS | L60: TRADES
A61: 43313 | B61: =#REF!+#REF! -> #REF! | C61: =#REF!+#REF! -> #REF! | D61: =#REF! -> #REF! | E61: =#REF! -> #REF! | F61: =#REF!+#REF! -> #REF! | G61: =#REF!+#REF! -> #REF! | H61: =#REF! -> #REF! | I61: =#REF!+#REF! -> #REF! | J61: =#REF!+#REF! -> #REF! | K61: =#REF!+#REF! -> #REF!
A62: 43314 | B62: =#REF!+#REF! -> #REF! | C62: =#REF!+#REF! -> #REF! | D62: =#REF! -> #REF! | E62: =#REF! -> #REF! | F62: =#REF!+#REF! -> #REF! | G62: =#REF!+#REF! -> #REF! | H62: =#REF! -> #REF! | I62: =#REF!+#REF! -> #REF! | J62: =#REF!+#REF! -> #REF! | K62: =#REF!+#REF! -> #REF!
A63: 43315 | B63: =#REF!+#REF! -> #REF! | C63: =#REF!+#REF! -> #REF! | D63: =#REF! -> #REF! | E63: =#REF! -> #REF! | F63: =#REF!+#REF! -> #REF! | G63: =#REF!+#REF! -> #REF! | H63: =#REF! -> #REF! | I63: =#REF!+#REF! -> #REF! | J63: =#REF!+#REF! -> #REF! | K63: =#REF!+#REF! -> #REF!
A64: 43318 | B64: =#REF!+#REF! -> #REF! | C64: =#REF!+#REF! -> #REF! | D64: =#REF! -> #REF! | E64: =#REF! -> #REF! | F64: =#REF!+#REF! -> #REF! | G64: =#REF!+#REF! -> #REF! | H64: =#REF! -> #REF! | I64: =#REF!+#REF! -> #REF! | J64: =#REF!+#REF! -> #REF! | K64: =#REF!+#REF! -> #REF!
A65: 43319 | B65: =#REF!+#REF! -> #REF! | C65: =#REF!+#REF! -> #REF! | D65: =#REF! -> #REF! | E65: =#REF! -> #REF! | F65: =#REF!+#REF! -> #REF! | G65: =#REF!+#REF! -> #REF! | H65: =#REF! -> #REF! | I65: =#REF!+#REF! -> #REF! | J65: =#REF!+#REF! -> #REF! | K65: =#REF!+#REF! -> #REF!
A66: 43320 | B66: =#REF!+#REF! -> #REF! | C66: =#REF!+#REF! -> #REF! | D66: =#REF! -> #REF! | E66: =#REF! -> #REF! | F66: =#REF!+#REF! -> #REF! | G66: =#REF!+#REF! -> #REF! | H66: =#REF! -> #REF! | I66: =#REF!+#REF! -> #REF! | J66: =#REF!+#REF! -> #REF! | K66: =#REF!+#REF! -> #REF!
A67: 43321 | B67: =#REF!+#REF! -> #REF! | C67: =#REF!+#REF! -> #REF! | D67: =#REF! -> #REF! | E67: =#REF! -> #REF! | F67: =#REF!+#REF! -> #REF! | G67: =#REF!+#REF! -> #REF! | H67: =#REF! -> #REF! | I67: =#REF!+#REF! -> #REF! | J67: =#REF!+#REF! -> #REF! | K67: =#REF!+#REF! -> #REF!
A68: 43322 | B68: =#REF!+#REF! -> #REF! | C68: =#REF!+#REF! -> #REF! | D68: =#REF! -> #REF! | E68: =#REF! -> #REF! | F68: =#REF!+#REF! -> #REF! | G68: =#REF!+#REF! -> #REF! | H68: =#REF! -> #REF! | I68: =#REF!+#REF! -> #REF! | J68: =#REF!+#REF! -> #REF! | K68: =#REF!+#REF! -> #REF!
A69: 43325 | B69: =#REF!+#REF! -> #REF! | C69: =#REF!+#REF! -> #REF! | D69: =#REF! -> #REF! | E69: =#REF! -> #REF! | F69: =#REF!+#REF! -> #REF! | G69: =#REF!+#REF! -> #REF! | H69: =#REF! -> #REF! | I69: =#REF!+#REF! -> #REF! | J69: =#REF!+#REF! -> #REF! | K69: =#REF!+#REF! -> #REF!
A70: 43326 | B70: =#REF!+#REF! -> #REF! | C70: =#REF!+#REF! -> #REF! | D70: =#REF! -> #REF! | E70: =#REF! -> #REF! | F70: =#REF!+#REF! -> #REF! | G70: =#REF!+#REF! -> #REF! | H70: =#REF! -> #REF! | I70: =#REF!+#REF! -> #REF! | J70: =#REF!+#REF! -> #REF! | K70: =#REF!+#REF! -> #REF!
A71: 43327 | B71: =#REF!+#REF! -> #REF! | C71: =#REF!+#REF! -> #REF! | D71: =#REF! -> #REF! | E71: =#REF! -> #REF! | F71: =#REF!+#REF! -> #REF! | G71: =#REF!+#REF! -> #REF! | H71: =#REF! -> #REF! | I71: =#REF!+#REF! -> #REF! | J71: =#REF!+#REF! -> #REF! | K71: =#REF!+#REF! -> #REF!
A72: 43328 | B72: =#REF!+#REF! -> #REF! | C72: =#REF!+#REF! -> #REF! | D72: =#REF! -> #REF! | E72: =#REF! -> #REF! | F72: =#REF!+#REF! -> #REF! | G72: =#REF!+#REF! -> #REF! | H72: =#REF! -> #REF! | I72: =#REF!+#REF! -> #REF! | J72: =#REF!+#REF! -> #REF! | K72: =#REF!+#REF! -> #REF!
... A83: 43343 | B83: =#REF!+#REF! -> #REF! | C83: =#REF!+#REF! -> #REF! | D83: =#REF! -> #REF! | E83: =#REF! -> #REF! | F83: =#REF!+#REF! -> #REF! | G83: =#REF!+#REF! -> #REF! | H83: =#REF! -> #REF! | I83: =#REF!+#REF! -> #REF! | J83: =#REF!+#REF! -> #REF! | K83: =#REF!+#REF! -> #REF!
A84: TOTAL | B84: =SUM(B61:B82) -> #REF! | C84: =SUM(C61:C82) -> #REF! | D84: =SUM(D61:D82) -> #REF! | E84: =SUM(E61:E82) -> #REF! | F84: =SUM(F61:F82) -> #REF! | G84: =SUM(G61:G82) -> #REF! | H84: =SUM(H61:H82) -> #REF! | I84: =SUM(I61:I82) -> #REF! | ... L84: =SUM(L61:L82) -> 0
A85: TOTAL MONTANT | B85: =(B84*8.54) -> #REF! | C85: =(C84*8.5) -> #REF! | D85: =(D84*7.86) -> #REF! | E85: =(E84*8.55) -> #REF! | F85: =(F84*6) -> #REF! | G85: =(G84*11.42) -> #REF! | H85: =H84*6.3 -> #REF! | I85: =I84*7.8 -> #REF! | J85: =SUM(B85:I85) -> #REF!
A86: TOTAL TRADES
A89: 43313
A90: SC GAM_FXPRO | B90: PIPS | C90: TRADES | D90: TOTAL MONTANT | E90: SLIPAGE FxPRO
A91: 43313 | B91: 31.2 | C91: 11 | D91: -93.11 | E91: =B91-K3 -> #VALUE!
A92: 43314 | B92: 50.4 | C92: 27 | D92: 565.2 | E92: =B92-K4 -> #VALUE!
A93: 43315 | B93: -243.5 | C93: 33 | D93: -2038.59 | E93: =B93-K5 -> #VALUE!
A94: 43318 | B94: 20.9 | C94: 11 | D94: -28.81 | E94: =B94-K6 -> #VALUE!
A95: 43319 | B95: 8.7 | C95: 6 | D95: 83.77 | E95: =B95-K7 -> #VALUE!
A96: 43320 | B96: -68.3 | C96: 26 | D96: -707.06 | E96: =B96-K8 -> #VALUE!
A97: 43321 | B97: -185.6 | C97: 12 | D97: -1501.42 | E97: =B97-K9 -> #VALUE!
A98: 43322 | B98: 442.3 | C98: 40 | D98: 3969.78 | E98: =B98-K10 -> #VALUE!
A99: 43325 | B99: 241 | C99: 15 | D99: 2011.64 | E99: =B99-K11 -> #VALUE!
A100: 43326 | B100: -36 | C100: 12 | D100: -319.8 | E100: =B100-K12 -> #VALUE!
A101: 43327 | B101: 110.4 | C101: 19 | D101: 989.75 | E101: =B101-K13 -> #VALUE!
A102: 43328 | B102: -231.6 | C102: 17 | D102: -1679.22 | E102: =B102-K14 -> #VALUE!
... A112: 43342 | B112: 0 | C112: 0 | D112: 0 | E112: =B112-K24 -> #VALUE!
A113: 43343 | B113: 0 | C113: 0 | D113: 0 | E113: =B113-K26 -> #VALUE!
A114: TOTAL | B114: =SUM(B91:B113) -> -563.9 | C114: =SUM(C91:C113) -> 312 | D114: =SUM(D91:D113) -> -4456.29 | E114: =SUM(E91:E112) -> #VALUE!
A115: MOYENNE | E115: =AVERAGE(E91:E98) -> #VALUE!
A119: Open Date | B119: Close Date | C119: Symbol | D119: Action | E119: Lots | F119: SL | G119: TP | H119: Open Price | I119: Close Price | J119: Commission | K119: Swap | L119: Pips | M119: Profit | N119: Gain | O119: Magic Number | P119: Duration (DD:HH:MM:SS)

Sheet A
A1: A - PM Swing Trading | B1: EURJPY | C1: USDCAD | D1: TOTAL PIPS | E1: TRADES | F1: TOTAL MONTANT | G1: VOLUME
A2: 43313 | D2: =SUM(B2:C2) -> 0 | F2: =G2*((B2*7.75)+(C2*6.62)) -> 0
A3: 43314 | D3: =SUM(B3:C3) -> 0 | F3: =G3*((B3*7.75)+(C3*6.62)) -> 0
A4: 43315 | D4: =SUM(B4:C4) -> 0 | F4: =G4*((B4*7.75)+(C4*6.62)) -> 0
A5: 43318 | D5: =SUM(B5:C5) -> 0 | F5: =G5*((B5*7.75)+(C5*6.62)) -> 0
A6: 43319 | D6: =SUM(B6:C6) -> 0 | F6: =G6*((B6*7.75)+(C6*6.62)) -> 0
A7: 43320 | D7: =SUM(B7:C7) -> 0 | F7: =G7*((B7*7.75)+(C7*6.62)) -> 0
A8: 43321 | D8: =SUM(B8:C8) -> 0 | F8: =G8*((B8*7.75)+(C8*6.62)) -> 0
A9: 43322 | D9: =SUM(B9:C9) -> 0 | F9: =G9*((B9*7.75)+(C9*6.62)) -> 0
A10: 43325 | D10: =SUM(B10:C10) -> 0 | F10: =G10*((B10*7.75)+(C10*6.62)) -> 0
A11: 43326 | D11: =SUM(B11:C11) -> 0 | F11: =G11*((B11*7.75)+(C11*6.62)) -> 0
A12: 43327 | D12: =SUM(B12:C12) -> 0 | F12: =G12*((B12*7.75)+(C12*6.62)) -> 0
A13: 43328 | D13: =SUM(B13:C13) -> 0 | F13: =G13*((B13*7.75)+(C13*6.62)) -> 0
... A23: 43342 | D23: =SUM(B23:C23) -> 0 | F23: =G23*((B23*7.75)+(C23*6.62)) -> 0
A24: 43343 | D24: =SUM(B24:C24) -> 0 | F24: =G24*((B24*7.75)+(C24*6.62)) -> 0 | G24: 1
A25: TOTAL | B25: =SUM(B2:B24) -> 0 | C25: =SUM(C2:C24) -> 0 | D25: =SUM(D2:D24) -> 0 | E25: =SUM(E2:E24) -> 0 | F25: =SUM(F2:F24) -> 0
A26: TOTAL TRADES | B26: 2 | C26: 6 | E26: =SUM(B26:C26) -> 8
A27: TOTAL MONTANT | B27: =(B25*8.54) -> 0 | C27: =(C25*8.5) -> 0
A29: Open Date | B29: Close Date | C29: Symbol | D29: Action | E29: SL | F29: TP | G29: Lots | H29: Open Price | I29: Close Price | J29: Commission | K29: Swap | L29: Pips | M29: Profit | N29: Gain | O29: Duration (DD:HH:MM:SS) | P29: Profitable(%) | Q29: Profitable(time duration) | R29: Drawdown | S29: Risk:Reward | T29: Max(pips) | U29: Max(USD) | V29: Min(pips) | W29: Min(USD) | X29: Entry Accuracy(%) | Y29: Exit Accuracy(%) | Z29: ProfitMissed(pips) | AA29: ProfitMissed(USD)

Sheet B 
A1: B - SLINGHSOT | B1: EURAUD | C1: EURJPY | D1: GBPJPY | E1: TOTAL PIPS | F1: TRADES | G1: TOTAL MONTANT | H1: VOLUME
A2: 43313 | B2: 0 | C2: 0 | D2: 206.1 | E2: =SUM(B2:D2) -> 206.1 | F2: 6 | G2: =H2*((B2*6.4)+(C2*7.75)+(D2*7.77)) -> 1601.397 | H2: 1
A3: 43314 | B3: 0 | C3: 0 | D3: 0 | E3: =SUM(B3:D3) -> 0 | F3: 0 | G3: =H3*((B3*6.4)+(C3*7.75)+(D3*7.77)) -> 0 | H3: 1
A4: 43315 | B4: 0 | C4: 0 | D4: 0 | E4: =SUM(B4:D4) -> 0 | F4: 0 | G4: =H4*((B4*6.4)+(C4*7.75)+(D4*7.77)) -> 0 | H4: 1
A5: 43318 | B5: 0 | C5: 0 | D5: 0 | E5: =SUM(B5:D5) -> 0 | F5: 0 | G5: =H5*((B5*6.4)+(C5*7.75)+(D5*7.77)) -> 0 | H5: 1
A6: 43319 | B6: 0 | C6: 0 | D6: 0 | E6: =SUM(B6:D6) -> 0 | F6: 0 | G6: =H6*((B6*6.4)+(C6*7.75)+(D6*7.77)) -> 0 | H6: 1
A7: 43320 | B7: 0 | C7: -42.3 | D7: 0 | E7: =SUM(B7:D7) -> -42.3 | F7: 2 | G7: =H7*((B7*6.4)+(C7*7.75)+(D7*7.77)) -> -327.825 | H7: 1
A8: 43321 | B8: -34.7 | C8: 0 | D8: 0 | E8: =SUM(B8:D8) -> -34.7 | F8: 2 | G8: =H8*((B8*6.4)+(C8*7.75)+(D8*7.77)) -> -222.08 | H8: 1
A9: 43322 | B9: 0 | C9: 0 | D9: 0 | E9: =SUM(B9:D9) -> 0 | F9: 0 | G9: =H9*((B9*6.4)+(C9*7.75)+(D9*7.77)) -> 0 | H9: 1
A10: 43325 | B10: 0 | C10: 0 | D10: 0 | E10: =SUM(B10:D10) -> 0 | F10: 0 | G10: =H10*((B10*6.4)+(C10*7.75)+(D10*7.77)) -> 0 | H10: 1
A11: 43326 | B11: 0 | C11: 0 | D11: 0 | E11: =SUM(B11:D11) -> 0 | F11: 0 | G11: =H11*((B11*6.4)+(C11*7.75)+(D11*7.77)) -> 0 | H11: 1
A12: 43327 | B12: 0 | C12: 0 | D12: 0 | E12: =SUM(B12:D12) -> 0 | F12: 0 | G12: =H12*((B12*6.4)+(C12*7.75)+(D12*7.77)) -> 0 | H12: 1
A13: 43328 | B13: 0 | C13: 0 | D13: 0 | E13: =SUM(B13:D13) -> 0 | F13: 0 | G13: =H13*((B13*6.4)+(C13*7.75)+(D13*7.77)) -> 0 | H13: 1
... A24: 43343 | B24: 0 | C24: 0 | D24: 0 | E24: =SUM(B24:D24) -> 0 | F24: 0 | G24: =H24*((B24*6.4)+(C24*7.75)+(D24*7.77)) -> 0 | H24: 1
A25: TOTAL | B25: =SUM(B2:B24) -> -92.7 | C25: =SUM(C2:C24) -> 223.4 | D25: =SUM(D2:D24) -> 174.9 | E25: =SUM(E2:E24) -> 305.6 | F25: =SUM(F2:F24) -> 25 | G25: =SUM(G2:G24) -> 2497.043
A26: TOTAL TRADES | B26: 4 | C26: 13 | D26: 8 | F26: =SUM(B26:D26) -> 25
A27: TOTAL MONTANT | B27: =(B25*8.6) -> -797.22 | C27: =(C25*8.6) -> 1921.24 | D27: =(D25*8.6) -> 1504.14
A29: Open Date | B29: Close Date | C29: Symbol | D29: Action | E29: SL | F29: TP | G29: Lots | H29: Open Price | I29: Close Price | J29: Commission | K29: Swap | L29: Pips | M29: Profit | N29: Gain | O29: Duration (DD:HH:MM:SS) | P29: Profitable(%) | Q29: Profitable(time duration) | R29: Drawdown | S29: Risk:Reward | T29: Max(pips) | U29: Max(USD) | V29: Min(pips) | W29: Min(USD) | X29: Entry Accuracy(%) | Y29: Exit Accuracy(%) | Z29: ProfitMissed(pips) | AA29: ProfitMissed(USD)
A30: 43320.576 | B30: 43320.91 | C30: EURJPY | D30: Sell | E30: 129.099 | F30: 126.901 | G30: 0.12 | H30: 128.731 | I30: 128.943 | J30: -0.7 | K30: 0 | L30: -21.2 | M30: -23.62 | N30: -0.3 | O30: 00:07:59:55 | P30: 39.2 | Q30: 3h 8m | R30: 34.3 | S30: 1.62 | T30: 13.1 | U30: 14.148 | V30: -21.2 | W30: -22.896 | X30: 38.2 | Y30: 0 | Z30: -34.3 | AA30: -37.04
A31: 43320.576 | B31: 43320.91 | C31: EURJPY | D31: Sell | E31: 129.099 | F31: 126.901 | G31: 0.24 | H31: 128.733 | I31: 128.944 | J31: -1.39 | K31: 0 | L31: -21.1 | M31: -47.03 | N31: -0.59 | O31: 00:07:59:51 | P31: 40.6 | Q31: 3h 14m | R31: 34.4 | S31: 1.59 | T31: 13.3 | U31: 28.728 | V31: -21.1 | W31: -45.576 | X31: 38.7 | Y31: 0 | Z31: -34.4 | AA31: -74.3
A32: 07/31/2018 16:05 | B32: 43108.781 | C32: GBPJPY | D32: Buy | E32: 146.284 | F32: 148.051 | G32: 0.03 | H32: 146.638 | I32: 146.591 | J32: -0.19 | K32: -0.06 | L32: -4.7 | M32: -1.51 | N32: -0.02 | O32: 01:02:39:47 | P32: 78.4 | Q32: 20h 54m | R32: 75.4 | S32: 0.59 | T32: 47.4 | U32: 12.798 | V32: -28 | W32: -7.56 | X32: 62.9 | Y32: 30.9 | Z32: -52.1 | AA32: -14.07
A33: 07/31/2018 16:05 | B33: 43108.434 | C33: GBPJPY | D33: Buy | E33: 146.284 | F33: 148.051 | G33: 0.01 | H33: 146.638 | I33: 147.093 | J33: -0.07 | K33: -0.02 | L33: 45.5 | M33: 3.97 | N33: 0.05 | O33: 00:18:19:47 | P33: 87.7 | Q33: 16h 4m | R33: 31.4 | S33: 0.12 | T33: 47.4 | U33: 4.266 | V33: -5.8 | W33: -0.522 | X33: 89.1 | Y33: 96.4 | Z33: -1.9 | AA33: -0.17
A34: 07/31/2018 16:05 | B34: 43108.431 | C34: GBPJPY | D34: Buy | E34: 146.284 | F34: 148.051 | G34: 0.01 | H34: 146.638 | I34: 147.1 | J34: -0.06 | K34: -0.02 | L34: 46.2 | M34: 4.04 | N34: 0.05 | O34: 00:18:14:48 | P34: 87.7 | Q34: 16h 0m | R34: 31.4 | S34: 0.12 | T34: 47.4 | U34: 4.266 | V34: -5.8 | W34: -0.522 | X34: 89.1 | Y34: 97.7 | Z34: -1.2 | AA34: -0.11
A35: 07/31/2018 16:05 | B35: 43108.427 | C35: GBPJPY | D35: Buy | E35: 146.284 | F35: 148.051 | G35: 0.01 | H35: 146.638 | I35: 147.07 | J35: -0.07 | K35: -0.02 | L35: 43.2 | M35: 3.77 | N35: 0.05 | O35: 00:18:09:47 | P35: 87.5 | Q35: 15h 53m | R35: 31.4 | S35: 0.12 | T35: 47.4 | U35: 4.266 | V35: -5.8 | W35: -0.522 | X35: 89.1 | Y35: 92.1 | Z35: -4.2 | AA35: -0.38
A36: 07/31/2018 16:05 | B36: 43108.42 | C36: GBPJPY | D36: Buy | E36: 146.284 | F36: 148.051 | G36: 0.02 | H36: 146.638 | I36: 146.989 | J36: -0.13 | K36: -0.04 | L36: 35.1 | M36: 6.09 | N36: 0.08 | O36: 00:17:59:47 | P36: 87.5 | Q36: 15h 44m | R36: 31.4 | S36: 0.12 | T36: 47.4 | U36: 8.532 | V36: -5.8 | W36: -1.044 | X36: 89.1 | Y36: 76.9 | Z36: -12.3 | AA36: -2.21
A37: 07/31/2018 16:05 | B37: 43108.417 | C37: GBPJPY | D37: Buy | E37: 146.284 | F37: 148.051 | G37: 0.03 | H37: 146.638 | I37: 147.046 | J37: -0.2 | K37: -0.06 | L37: 40.8 | M37: 10.66 | N37: 0.13 | O37: 00:17:54:47 | P37: 87.4 | Q37: 15h 39m | R37: 31.4 | S37: 0.12 | T37: 47.4 | U37: 12.798 | V37: -5.8 | W37: -1.566 | X37: 89.1 | Y37: 87.6 | Z37: -6.6 | AA37: -1.78

Sheet C 
A1: C - SFE | B1: EURUSD | C1: GBPUSD | D1: EURAUD | E1: GBPJPY | F1: EURGBP | G1: TOTAL PIPS | H1: TRADES | I1: TOTAL MONTANT
A2: 43313 | B2: 0 | C2: 0 | D2: 0 | E2: 74.2 | F2: 0 | G2: =SUM(B2:F2) -> 74.2 | H2: 2 | I2: =(B2*8.6)+(C2*8.6)+(D2*6)+(E2*7.8)+(F2*11.42) -> 578.76
A3: 43314 | B3: 0 | C3: -78.8 | D3: 0 | E3: 0 | F3: -21.4 | G3: =SUM(B3:F3) -> -100.2 | H3: 20 | I3: =(B3*8.6)+(C3*8.6)+(D3*6)+(E3*7.8)+(F3*11.42) -> -922.068
A4: 43315 | B4: -25.4 | C4: 80.5 | D4: 0 | E4: 0 | F4: -42.9 | G4: =SUM(B4:F4) -> 12.2 | H4: 8 | I4: =(B4*8.6)+(C4*8.6)+(D4*6)+(E4*7.8)+(F4*11.42) -> -16.058
A5: 43318 | B5: 0 | C5: 0 | D5: 0 | E5: 0 | F5: -20.7 | G5: =SUM(B5:F5) -> -20.7 | H5: 4 | I5: =(B5*8.6)+(C5*8.6)+(D5*6)+(E5*7.8)+(F5*11.42) -> -236.394
A6: 43319 | B6: 0 | C6: 0 | D6: 0 | E6: 0 | F6: 5.5 | G6: =SUM(B6:F6) -> 5.5 | H6: 1 | I6: =(B6*8.6)+(C6*8.6)+(D6*6)+(E6*7.8)+(F6*11.42) -> 62.81
A7: 43320 | B7: 0 | C7: 0 | D7: 0 | E7: 363.7 | F7: 0 | G7: =SUM(B7:F7) -> 363.7 | H7: 8 | I7: =(B7*8.6)+(C7*8.6)+(D7*6)+(E7*7.8)+(F7*11.42) -> 2836.86
A8: 43321 | B8: 0 | C8: 0 | D8: 0 | E8: 356.9 | F8: 0 | G8: =SUM(B8:F8) -> 356.9 | H8: 4 | I8: =(B8*8.6)+(C8*8.6)+(D8*6)+(E8*7.8)+(F8*11.42) -> 2783.82
A9: 43322 | B9: 67 | C9: 0 | D9: -93.2 | E9: -46.5 | F9: 0 | G9: =SUM(B9:F9) -> -72.7 | H9: 15 | I9: =(B9*8.6)+(C9*8.6)+(D9*6)+(E9*7.8)+(F9*11.42) -> -345.7
A10: 43325 | B10: 0 | C10: 0 | D10: 0 | E10: 0 | F10: 0 | G10: =SUM(B10:F10) -> 0 | H10: 0 | I10: =(B10*8.6)+(C10*8.6)+(D10*6)+(E10*7.8)+(F10*11.42) -> 0
A11: 43326 | B11: 0 | C11: 0 | D11: 0 | E11: 0 | F11: 0 | G11: =SUM(B11:F11) -> 0 | H11: 0 | I11: =(B11*8.6)+(C11*8.6)+(D11*6)+(E11*7.8)+(F11*11.42) -> 0
A12: 43327 | B12: 0 | C12: 0 | D12: 0 | E12: 0 | F12: 0 | G12: =SUM(B12:F12) -> 0 | H12: 0 | I12: =(B12*8.6)+(C12*8.6)+(D12*6)+(E12*7.8)+(F12*11.42) -> 0
A13: 43328 | B13: 0 | C13: 0 | D13: -102.9 | E13: 0 | F13: 0 | G13: =SUM(B13:F13) -> -102.9 | H13: 7 | I13: =(B13*8.6)+(C13*8.6)+(D13*6)+(E13*7.8)+(F13*11.42) -> -617.4
... A19: 43336 | B19: -45.4 | C19: 2 | D19: 0 | E19: 0 | F19: 0 | G19: =SUM(B19:F19) -> -43.4 | H19: 4 | I19: =(B19*8.6)+(C19*8.6)+(D19*6)+(E19*7.8)+(F19*11.42) -> -373.24
A20: 43339 | B20: 0 | C20: 0 | D20: 0 | E20: 0 | F20: 0 | G20: =SUM(B20:F20) -> 0 | I20: =(B20*8.6)+(C20*8.6)+(D20*6)+(E20*7.8)+(F20*11.42) -> 0
A21: 43340 | B21: 0 | C21: 0 | D21: 0 | E21: 0 | F21: 0 | G21: =SUM(B21:F21) -> 0 | I21: =(B21*8.6)+(C21*8.6)+(D21*6)+(E21*7.8)+(F21*11.42) -> 0
A22: 43341 | B22: 0 | C22: 0 | D22: 0 | E22: 0 | F22: 0 | G22: =SUM(B22:F22) -> 0 | I22: =(B22*8.6)+(C22*8.6)+(D22*6)+(E22*7.8)+(F22*11.42) -> 0
A23: 43342 | B23: 0 | C23: 0 | D23: 0 | E23: 0 | F23: 0 | G23: =SUM(B23:F23) -> 0 | I23: =(B23*8.6)+(C23*8.6)+(D23*6)+(E23*7.8)+(F23*11.42) -> 0
A24: 43343 | B24: 0 | C24: 0 | D24: 0 | E24: 0 | F24: 0 | G24: =SUM(B24:F24) -> 0 | I24: =(B24*8.6)+(C24*8.6)+(D24*6)+(E24*7.8)+(F24*11.42) -> 0
A25: TOTAL | B25: =SUM(B2:B22) -> -94.2 | C25: =SUM(C2:C22) -> 6 | D25: =SUM(D2:D22) -> -196.1 | E25: =SUM(E2:E22) -> 748.3 | F25: =SUM(F2:F22) -> -79.5 | G25: =SUM(G2:G24) -> 384.5 | H25: =SUM(H2:H24) -> 89 | I25: =SUM(I2:I22) -> 2993.73
A26: TOTAL TRADES | B26: 22 | C26: 17 | D26: 15 | E26: 16 | F26: 19 | H26: =SUM(B26:F26) -> 89
A27: TOTAL MONTANT | B27: =(B25*8.6) -> -810.12 | C27: =(C25*8.6) -> 51.6 | D27: =(D25*6) -> -1176.6 | E27: =(E25*7.8) -> 5836.74 | F27: =(F25*11.42) -> -907.89
A29: Open Date | B29: Close Date | C29: Symbol | D29: Action | E29: Lots | F29: SL | G29: TP | H29: Open Price | I29: Close Price | J29: Commission | K29: Swap | L29: Pips | M29: Comptes

Sheet D
A1: D - Strive | B1: EURUSD | C1: USDJPY | D1: TOTAL PIPS | E1: TRADES | F1: TOTAL MONTANT
A2: 43313 | B2: =SUMPRODUCT((VALUE(TEXT($A$30:$A$96,"JJ/MM/AAAA"))=VALUE(TEXT(A2,"JJ/MM/AAAA")))*($C$30:$C$96=$B$1),$L$30:$L$96) -> 0 | C2: =SUMPRODUCT((VALUE(TEXT($A$30:$A$96,"JJ/MM/AAAA"))=VALUE(TEXT(A2,"JJ/MM/AAAA")))*($C$30:$C$96=$C$1),$L$30:$L$96) -> 0 | D2: =SUM(B2:C2) -> 0 | F2: =(B2*8.6)+(C2*7.86) -> 0
A3: 43314 | B3: =SUMPRODUCT((VALUE(TEXT($A$30:$A$96,"JJ/MM/AAAA"))=VALUE(TEXT(A3,"JJ/MM/AAAA")))*($C$30:$C$96=$B$1),$L$30:$L$96) -> 0 | C3: =SUMPRODUCT((VALUE(TEXT($A$30:$A$96,"JJ/MM/AAAA"))=VALUE(TEXT(A3,"JJ/MM/AAAA")))*($C$30:$C$96=$C$1),$L$30:$L$96) -> 0 | D3: =SUM(B3:C3) -> 0 | F3: =(B3*8.54)+(C3*7.86) -> 0
A4: 43315 | B4: =SUMPRODUCT((VALUE(TEXT($A$30:$A$96,"JJ/MM/AAAA"))=VALUE(TEXT(A4,"JJ/MM/AAAA")))*($C$30:$C$96=$B$1),$L$30:$L$96) -> 0 | C4: =SUMPRODUCT((VALUE(TEXT($A$30:$A$96,"JJ/MM/AAAA"))=VALUE(TEXT(A4,"JJ/MM/AAAA")))*($C$30:$C$96=$C$1),$L$30:$L$96) -> 0 | D4: =SUM(B4:C4) -> 0 | F4: =(B4*8.54)+(C4*7.86) -> 0
A5: 43318 | B5: =SUMPRODUCT((VALUE(TEXT($A$30:$A$96,"JJ/MM/AAAA"))=VALUE(TEXT(A5,"JJ/MM/AAAA")))*($C$30:$C$96=$B$1),$L$30:$L$96) -> 0 | C5: =SUMPRODUCT((VALUE(TEXT($A$30:$A$96,"JJ/MM/AAAA"))=VALUE(TEXT(A5,"JJ/MM/AAAA")))*($C$30:$C$96=$C$1),$L$30:$L$96) -> 0 | D5: =SUM(B5:C5) -> 0 | F5: =(B5*8.54)+(C5*7.86) -> 0
A6: 43319 | B6: =SUMPRODUCT((VALUE(TEXT($A$30:$A$96,"JJ/MM/AAAA"))=VALUE(TEXT(A6,"JJ/MM/AAAA")))*($C$30:$C$96=$B$1),$L$30:$L$96) -> 0 | C6: =SUMPRODUCT((VALUE(TEXT($A$30:$A$96,"JJ/MM/AAAA"))=VALUE(TEXT(A6,"JJ/MM/AAAA")))*($C$30:$C$96=$C$1),$L$30:$L$96) -> 0 | D6: =SUM(B6:C6) -> 0 | F6: =(B6*8.54)+(C6*7.86) -> 0
A7: 43320 | B7: =SUMPRODUCT((VALUE(TEXT($A$30:$A$96,"JJ/MM/AAAA"))=VALUE(TEXT(A7,"JJ/MM/AAAA")))*($C$30:$C$96=$B$1),$L$30:$L$96) -> 1.8 | C7: =SUMPRODUCT((VALUE(TEXT($A$30:$A$96,"JJ/MM/AAAA"))=VALUE(TEXT(A7,"JJ/MM/AAAA")))*($C$30:$C$96=$C$1),$L$30:$L$96) -> 36.1 | D7: =SUM(B7:C7) -> 37.9 | F7: =(B7*8.54)+(C7*7.86) -> 299.118
A8: 43321 | B8: =SUMPRODUCT((VALUE(TEXT($A$30:$A$96,"JJ/MM/AAAA"))=VALUE(TEXT(A8,"JJ/MM/AAAA")))*($C$30:$C$96=$B$1),$L$30:$L$96) -> 0 | C8: =SUMPRODUCT((VALUE(TEXT($A$30:$A$96,"JJ/MM/AAAA"))=VALUE(TEXT(A8,"JJ/MM/AAAA")))*($C$30:$C$96=$C$1),$L$30:$L$96) -> 0 | D8: =SUM(B8:C8) -> 0 | F8: =(B8*8.54)+(C8*7.86) -> 0
A9: 43322 | B9: =SUMPRODUCT((VALUE(TEXT($A$30:$A$96,"JJ/MM/AAAA"))=VALUE(TEXT(A9,"JJ/MM/AAAA")))*($C$30:$C$96=$B$1),$L$30:$L$96) -> 0 | C9: =SUMPRODUCT((VALUE(TEXT($A$30:$A$96,"JJ/MM/AAAA"))=VALUE(TEXT(A9,"JJ/MM/AAAA")))*($C$30:$C$96=$C$1),$L$30:$L$96) -> 0 | D9: =SUM(B9:C9) -> 0 | F9: =(B9*8.54)+(C9*7.86) -> 0
A10: 43325 | B10: =SUMPRODUCT((VALUE(TEXT($A$30:$A$96,"JJ/MM/AAAA"))=VALUE(TEXT(A10,"JJ/MM/AAAA")))*($C$30:$C$96=$B$1),$L$30:$L$96) -> -30.9 | C10: =SUMPRODUCT((VALUE(TEXT($A$30:$A$96,"JJ/MM/AAAA"))=VALUE(TEXT(A10,"JJ/MM/AAAA")))*($C$30:$C$96=$C$1),$L$30:$L$96) -> -30.6 | D10: =SUM(B10:C10) -> -61.5 | F10: =(B10*8.54)+(C10*7.86) -> -504.402
A11: 43326 | B11: =SUMPRODUCT((VALUE(TEXT($A$30:$A$96,"JJ/MM/AAAA"))=VALUE(TEXT(A11,"JJ/MM/AAAA")))*($C$30:$C$96=$B$1),$L$30:$L$96) -> 35.6 | C11: =SUMPRODUCT((VALUE(TEXT($A$30:$A$96,"JJ/MM/AAAA"))=VALUE(TEXT(A11,"JJ/MM/AAAA")))*($C$30:$C$96=$C$1),$L$30:$L$96) -> 0.7 | D11: =SUM(B11:C11) -> 36.3 | F11: =(B11*8.54)+(C11*7.86) -> 309.526
A12: 43327 | B12: =SUMPRODUCT((VALUE(TEXT($A$30:$A$96,"JJ/MM/AAAA"))=VALUE(TEXT(A12,"JJ/MM/AAAA")))*($C$30:$C$96=$B$1),$L$30:$L$96) -> 9.8 | C12: =SUMPRODUCT((VALUE(TEXT($A$30:$A$96,"JJ/MM/AAAA"))=VALUE(TEXT(A12,"JJ/MM/AAAA")))*($C$30:$C$96=$C$1),$L$30:$L$96) -> 54 | D12: =SUM(B12:C12) -> 63.8 | F12: =(B12*8.54)+(C12*7.86) -> 508.132
A13: 43328 | B13: =SUMPRODUCT((VALUE(TEXT($A$30:$A$96,"JJ/MM/AAAA"))=VALUE(TEXT(A13,"JJ/MM/AAAA")))*($C$30:$C$96=$B$1),$L$30:$L$96) -> 13.2 | C13: =SUMPRODUCT((VALUE(TEXT($A$30:$A$96,"JJ/MM/AAAA"))=VALUE(TEXT(A13,"JJ/MM/AAAA")))*($C$30:$C$96=$C$1),$L$30:$L$96) -> -4.8 | D13: =SUM(B13:C13) -> 8.4 | F13: =(B13*8.54)+(C13*7.86) -> 75
A14: 43329 | B14: =SUMPRODUCT((VALUE(TEXT($A$30:$A$96,"JJ/MM/AAAA"))=VALUE(TEXT(A14,"JJ/MM/AAAA")))*($C$30:$C$96=$B$1),$L$30:$L$96) -> -26.6 | C14: =SUMPRODUCT((VALUE(TEXT($A$30:$A$96,"JJ/MM/AAAA"))=VALUE(TEXT(A14,"JJ/MM/AAAA")))*($C$30:$C$96=$C$1),$L$30:$L$96) -> 36.2 | D14: =SUM(B14:C14) -> 9.6 | F14: =(B14*8.54)+(C14*7.86) -> 57.368
... A24: 43343 | B24: =SUMPRODUCT((VALUE(TEXT($A$30:$A$96,"JJ/MM/AAAA"))=VALUE(TEXT(A24,"JJ/MM/AAAA")))*($C$30:$C$96=$B$1),$L$30:$L$96) -> 0 | C24: =SUMPRODUCT((VALUE(TEXT($A$30:$A$96,"JJ/MM/AAAA"))=VALUE(TEXT(A24,"JJ/MM/AAAA")))*($C$30:$C$96=$C$1),$L$30:$L$96) -> 0 | D24: =SUM(B24:C24) -> 0 | F24: =(B24*8.54)+(C24*7.86) -> 0
A25: TOTAL | B25: =SUM(B2:B22) -> 18.1 | C25: =SUM(C2:C22) -> 118.6 | D25: =SUM(D2:D23) -> 186.7 | E25: =SUM(E2:E22) -> 0 | F25: =SUM(F2:F22) -> 1086.77
A26: TOTAL TRADES | B26: 23 | C26: 20 | E26: =SUM(B26:C26) -> 43
A27: TOTAL MONTANT | B27: =(B25*8.54) -> 154.574 | C27: =(C25*7.86) -> 932.196
A29: Open Date | B29: Close Date | C29: Symbol | D29: Action | E29: Lots | F29: SL | G29: TP | H29: Open Price | I29: Close Price | J29: Commission | K29: Swap | L29: Pips | M29: Comptes
A30: 30/08/2018 | B30: 30/08/2018 | C30: EURUSD | D30: Sell | E30: 0.04 | F30: 1.17184 | G30: 0 | H30: 1.16967 | I30: 1.16467 | J30: -0.22 | K30: 0 | L30: 50 | M30: 19.78 | N30: 1 | O30: 3 | P30: 00:07:25:32 | Q30: 100 | R30: 7h 25m | S30: 23.1 | T30: 0.02 | U30: 53.4 | V30: 21.36 | W30: 0 | X30: 0 | Y30: 100 | Z30: 93.6 | AA30: -3.4 | AB30: -1.36
A31: 29/08/2018 | B31: 29/08/2018 | C31: EURUSD | D31: Buy | E31: 0.04 | F31: 1.16656 | G31: 0 | H31: 1.16866 | I31: 1.16955 | J31: -0.22 | K31: 0 | L31: 8.9 | M31: 3.34 | N31: 0.17 | O31: 3 | P31: 00:01:32:11 | Q31: 1.1 | R31: 1m | S31: 0 | T31: 0.11 | U31: 8.9 | V31: 3.56 | W31: 0 | X31: 0 | Y31: 100 | Z31: 100 | AA31: 0 | AB31: 0
A32: 29/08/2018 | B32: 29/08/2018 | C32: EURUSD | D32: Sell | E32: 0.04 | F32: 1.16866 | G32: 0 | H32: 1.16657 | I32: 1.16866 | J32: -0.22 | K32: 0 | L32: -20.9 | M32: -8.58 | N32: -0.43 | O32: 3 | P32: 00:05:57:48 | Q32: 30.9 | R32: 1h 50m | S32: 32.6 | T32: 1.79 | U32: 11.7 | V32: 4.68 | W32: -20.9 | X32: -8.36 | Y32: 35.9 | Z32: 0 | AA32: -32.6 | AB32: -13.04
A33: 29/08/2018 | B33: 29/08/2018 | C33: USDJPY | D33: Sell | E33: 0.07 | F33: 111.276 | G33: 0 | H33: 111.133 | I33: 111.276 | J33: -0.39 | K33: 0 | L33: -14.3 | M33: -9.39 | N33: -0.47 | O33: 4 | P33: 00:05:45:17 | Q33: 0 | R33: 0s | S33: 14.3 | T33: 14.31 | U33: 0 | V33: 0 | W33: -14.3 | X33: -9.009 | Y33: 0 | Z33: 0 | AA33: -14.3 | AB33: -9.01
A34: 29/08/2018 | B34: 29/08/2018 | C34: USDJPY | D34: Buy | E34: 0.07 | F34: 111.133 | G34: 0 | H34: 111.275 | I34: 111.133 | J34: -0.39 | K34: 0 | L34: -14.2 | M34: -9.33 | N34: -0.47 | O34: 4 | P34: 00:04:43:00 | Q34: 0 | R34: 0s | S34: 14.3 | T34: 14.31 | U34: 0 | V34: 0 | W34: -14.3 | X34: -9.009 | Y34: 0 | Z34: 0.7 | AA34: -14.2 | AB34: -8.95
A35: 28/08/2018 | B35: 28/08/2018 | C35: EURUSD | D35: Buy | E35: 0.04 | F35: 1.16792 | G35: 0 | H35: 1.16999 | I35: 1.17157 | J35: -0.22 | K35: 0 | L35: 15.8 | M35: 6.1 | N35: 0.31 | O35: 3 | P35: 00:06:41:40 | Q35: 100 | R35: 6h 41m | S35: 28.7 | T35: 0.03 | U35: 32.1 | V35: 12.84 | W35: 0 | X35: 0 | Y35: 100 | Z35: 49.2 | AA35: -16.3 | AB35: -6.52
A36: 28/08/2018 | B36: 28/08/2018 | C36: USDJPY | D36: Sell | E36: 0.1 | F36: 111.231 | G36: 0 | H36: 111.122 | I36: 111.134 | J36: -0.55 | K36: 0 | L36: -1.2 | M36: -1.63 | N36: -0.08 | O36: 4 | P36: 00:08:17:39 | Q36: 52.7 | R36: 4h 22m | S36: 16.9 | T36: 0.34 | U36: 12.6 | V36: 11.34 | W36: -4.3 | X36: -3.87 | Y36: 74.6 | Z36: 18.3 | AA36: -13.8 | AB36: -12.42
A37: 28/08/2018 | B37: 28/08/2018 | C37: USDJPY | D37: Buy | E37: 0.1 | F37: 111.123 | G37: 0 | H37: 111.232 | I37: 111.123 | J37: -0.55 | K37: 0 | L37: -10.9 | M37: -10.36 | N37: -0.52 | O37: 4 | P37: 00:06:10:17 | Q37: 25.7 | R37: 1h 35m | S37: 21 | T37: 1.19 | U37: 9.6 | V37: 8.64 | W37: -11.4 | X37: -10.26 | Y37: 45.7 | Z37: 2.4 | AA37: -20.5 | AB37: -18.45
A38: 27/08/2018 | B38: 27/08/2018 | C38: USDJPY | D38: Sell | E38: 0.07 | F38: 111.343 | G38: 0 | H38: 111.189 | I38: 111.064 | J38: -0.39 | K38: 0 | L38: 12.5 | M38: 7.49 | N38: 0.38 | O38: 4 | P38: 00:14:27:58 | Q38: 99.4 | R38: 14h 22m | S38: 17.4 | T38: 0.02 | U38: 23.9 | V38: 15.057 | W38: -0.5 | X38: -0.315 | Y38: 98 | Z38: 53.3 | AA38: -11.4 | AB38: -7.18
A39: 27/08/2018 | B39: 27/08/2018 | C39: EURUSD | D39: Buy | E39: 0.06 | F39: 1.15965 | G39: 0 | H39: 1.16116 | I39: 1.16715 | J39: -0.33 | K39: 0 | L39: 59.9 | M39: 35.61 | N39: 1.82 | O39: 3 | P39: 00:07:23:07 | Q39: 100 | R39: 7h 23m | S39: 9.4 | T39: 0.01 | U39: 67.4 | V39: 40.44 | W39: 0 | X39: 0 | Y39: 100 | Z39: 88.9 | AA39: -7.5 | AB39: -4.5
A40: 24/08/2018 | B40: 24/08/2018 | C40: EURUSD | D40: Buy | E40: 0.05 | F40: 1.15553 | G40: 0 | H40: 1.15744 | I40: 1.16214 | J40: -0.28 | K40: 0 | L40: 47 | M40: 23.22 | N40: 1.2 | O40: 3 | P40: 00:05:19:59 | Q40: 100 | R40: 5h 19m | S40: 33.1 | T40: 0.02 | U40: 63.3 | V40: 31.65 | W40: 0 | X40: 0 | Y40: 100 | Z40: 74.2 | AA40: -16.3 | AB40: -8.15
A41: 24/08/2018 | B41: 24/08/2018 | C41: EURUSD | D41: Sell | E41: 0.05 | F41: 1.15742 | G41: 0 | H41: 1.15553 | I41: 1.1574 | J41: -0.28 | K41: 0 | L41: -18.7 | M41: -9.63 | N41: -0.5 | O41: 3 | P41: 00:01:55:51 | Q41: 0 | R41: 0s | S41: 18.7 | T41: 18.73 | U41: 0 | V41: 0 | W41: -18.7 | X41: -9.35 | Y41: 0 | Z41: 0 | AA41: -18.7 | AB41: -9.35
... A73: 13/08/2018 | B73: 13/08/2018 | C73: EURUSD | D73: Sell | E73: 0.03 | F73: 1.13985 | G73: 0 | H73: 1.13662 | I73: 1.13986 | J73: -0.17 | K73: 0 | L73: -32.4 | M73: -9.89 | N73: -0.51 | O73: 3 | P73: 00:03:43:07 | Q73: 0 | R73: 0s | S73: 32.4 | T73: 32.47 | U73: 0 | V73: 0 | W73: -32.4 | X73: -9.72 | Y73: 0 | Z73: 0 | AA73: -32.4 | AB73: -9.72
A74: 43381.51 | B74: 43381.628 | C74: EURUSD | D74: Buy | E74: 0.04 | F74: 1.14492 | G74: 0 | H74: 1.14722 | I74: 1.14491 | J74: -0.22 | K74: 0 | L74: -23.1 | M74: -9.46 | N74: -0.49 | O74: 3 | P74: 00:02:50:15 | Q74: 0 | R74: 0s | S74: 23.1 | T74: 23.15 | U74: 0 | V74: 0 | W74: -23.1 | X74: -9.24 | Y74: 0 | Z74: 0 | AA74: -23.1 | AB74: -9.24
A75: 43381.473 | B75: 43381.51 | C75: EURUSD | D75: Sell | E75: 0.04 | F75: 1.14718 | G75: 0 | H75: 1.1449 | I75: 1.1472 | J75: -0.22 | K75: 0 | L75: -23 | M75: -9.42 | N75: -0.48 | O75: 3 | P75: 00:00:53:29 | Q75: 0 | R75: 0s | S75: 23 | T75: 23.04 | U75: 0 | V75: 0 | W75: -23 | X75: -9.2 | Y75: 0 | Z75: 0 | AA75: -23 | AB75: -9.2
A76: 43381.403 | B76: 43381.425 | C76: USDJPY | D76: Buy | E76: 0.04 | F76: 110.847 | G76: 0 | H76: 111.118 | I76: 110.843 | J76: -0.22 | K76: 0 | L76: -27.5 | M76: -10.14 | N76: -0.52 | O76: 4 | P76: 00:00:31:51 | Q76: 0 | R76: 0s | S76: 27.5 | T76: 27.55 | U76: 0 | V76: 0 | W76: -27.5 | X76: -9.9 | Y76: 0 | Z76: 0 | AA76: -27.5 | AB76: -9.9
A77: 43381.305 | B77: 43381.403 | C77: USDJPY | D77: Sell | E77: 0.04 | F77: 111.103 | G77: 0 | H77: 110.838 | I77: 111.103 | J77: -0.22 | K77: 0 | L77: -26.5 | M77: -9.76 | N77: -0.5 | O77: 4 | P77: 00:02:21:41 | Q77: 0 | R77: 0s | S77: 26.5 | T77: 26.53 | U77: 0 | V77: 0 | W77: -26.5 | X77: -9.54 | Y77: 0 | Z77: 0 | AA77: -26.5 | AB77: -9.54
A78: 43351.748 | B78: 43351.79 | C78: EURUSD | D78: Sell | E78: 0.03 | F78: 1.16046 | G78: 0 | H78: 1.1576 | I78: 1.15664 | J78: -0.17 | K78: 0 | L78: 9.6 | M78: 2.71 | N78: 0.14 | O78: 3 | P78: 00:00:59:38 | Q78: 1.7 | R78: 1m | S78: 0 | T78: 0.1 | U78: 9.6 | V78: 2.88 | W78: 0 | X78: 0 | Y78: 100 | Z78: 100 | AA78: 0 | AB78: 0
A79: 43351.333 | B79: 43351.775 | C79: USDJPY | D79: Buy | E79: 0.08 | F79: 110.778 | G79: 0 | H79: 110.914 | I79: 110.921 | J79: -0.44 | K79: 0 | L79: 0.7 | M79: 0.06 | N79: 0 | O79: 4 | P79: 00:10:36:10 | Q79: 95.6 | R79: 10h 8m | S79: 32.3 | T79: 0.21 | U79: 26.7 | V79: 18.957 | W79: -5.6 | X79: -3.976 | Y79: 82.7 | Z79: 19.5 | AA79: -26 | AB79: -18.46
A80: 43351.554 | B80: 43351.748 | C80: EURUSD | D80: Buy | E80: 0.03 | F80: 1.1576 | G80: 0 | H80: 1.16048 | I80: 1.1576 | J80: -0.17 | K80: 0 | L80: -28.8 | M80: -8.81 | N80: -0.45 | O80: 3 | P80: 00:04:38:46 | Q80: 0 | R80: 0s | S80: 29 | T80: 29.07 | U80: 0 | V80: 0 | W80: -29 | X80: -8.7 | Y80: 0 | Z80: 0.7 | AA80: -28.8 | AB80: -8.64
A81: 43351.182 | B81: 43351.333 | C81: USDJPY | D81: Sell | E81: 0.08 | F81: 110.911 | G81: 0 | H81: 110.776 | I81: 110.912 | J81: -0.44 | K81: 0 | L81: -13.6 | M81: -10.25 | N81: -0.52 | O81: 4 | P81: 00:03:37:43 | Q81: 1.9 | R81: 4m | S81: 17 | T81: 7.1 | U81: 2.1 | V81: 1.512 | W81: -14.9 | X81: -10.728 | Y81: 12.4 | Z81: 7.6 | AA81: -15.7 | AB81: -11.3
A82: 43320.322 | B82: 43320.783 | C82: USDJPY | D82: Sell | E82: 0.07 | F82: 111.44 | G82: 0 | H82: 111.302 | I82: 110.941 | J82: -0.39 | K82: 0 | L82: 36.1 | M82: 22.39 | N82: 1.14 | O82: 4 | P82: 00:11:03:04 | Q82: 100 | R82: 11h 3m | S82: 27.6 | T82: 0.02 | U82: 41.4 | V82: 26.082 | W82: 0 | X82: 0 | Y82: 100 | Z82: 87.2 | AA82: -5.3 | AB82: -3.34
A83: 43320.46 | B83: 43320.778 | C83: EURUSD | D83: Sell | E83: 0.05 | F83: 1.16246 | G83: 0 | H83: 1.16054 | I83: 1.16036 | J83: -0.28 | K83: 0 | L83: 1.8 | M83: 0.62 | N83: 0.03 | O83: 3 | P83: 00:07:37:04 | Q83: 97.4 | R83: 7h 25m | S83: 34.4 | T83: 0.11 | U83: 31 | V83: 15.5 | W83: -3.4 | X83: -1.7 | Y83: 90.1 | Z83: 15.1 | AA83: -29.2 | AB83: -14.6
A84: 43289.522 | B84: 43289.791 | C84: USDJPY | D84: Sell | E84: 0.08 | F84: 111.365 | G84: 0 | H84: 111.232 | I84: 111.192 | J84: -0.44 | K84: 0 | L84: 4 | M84: 2.44 | N84: 0.12 | O84: 4 | P84: 00:06:26:28 | Q84: 99.5 | R84: 6h 24m | S84: 24.2 | T84: 0.03 | U84: 23.5 | V84: 16.92 | W84: -0.7 | X84: -0.504 | Y84: 97.1 | Z84: 19.4 | AA84: -19.5 | AB84: -14.04
A85: 43289.471 | B85: 43289.785 | C85: EURUSD | D85: Buy | E85: 0.08 | F85: 1.15691 | G85: 0 | H85: 1.15806 | I85: 1.1595 | J85: -0.44 | K85: 0 | L85: 14.4 | M85: 11.08 | N85: 0.57 | O85: 3 | P85: 00:07:32:58 | Q85: 100 | R85: 7h 32m | S85: 21.5 | T85: 0.04 | U85: 27.1 | V85: 21.68 | W85: 0 | X85: 0 | Y85: 100 | Z85: 53.1 | AA85: -12.7 | AB85: -10.16
... A95: 43108.197 | B95: 43108.233 | C95: USDJPY | D95: Sell | E95: 0.12 | F95: 111.872 | G95: 0 | H95: 111.784 | I95: 111.872 | J95: -0.66 | K95: 0 | L95: -8.8 | M95: -10.1 | N95: -0.51 | O95: 4 | P95: 00:00:52:28 | Q95: 0 | R95: 0s | S95: 19.3 | T95: 19.31 | U95: 0 | V95: 0 | W95: -19.3 | X95: -20.651 | Y95: 0 | Z95: 54.4 | AA95: -8.8 | AB95: -9.42
A96: 43108.189 | B96: 43108.197 | C96: USDJPY | D96: Buy | E96: 0.12 | F96: 111.786 | G96: 0 | H96: 111.872 | I96: 111.784 | J96: -0.66 | K96: 0 | L96: -8.8 | M96: -10.11 | N96: -0.51 | O96: 4 | P96: 00:00:11:20

Sheet E 
A1: E - Pepperstone | B1: EURUSD | C1: USDJPY | D1: TOTAL PIPS | E1: TRADES | F1: TOTAL MONTANT
A2: 43313 | B2: 0 | C2: 0 | D2: =SUM(B2:C2) -> 0 | E2: 0 | F2: =(B2*8.54)+(C2*7.86) -> 0
A3: 43314 | B3: 0 | C3: 0 | D3: =SUM(B3:C3) -> 0 | E3: 0 | F3: =(B3*8.54)+(C3*7.86) -> 0
A4: 43315 | B4: 0 | C4: 0 | D4: =SUM(B4:C4) -> 0 | E4: 0 | F4: =(B4*8.54)+(C4*7.86) -> 0
A5: 43318 | B5: 0 | C5: 0 | D5: =SUM(B5:C5) -> 0 | E5: 0 | F5: =(B5*8.54)+(C5*7.86) -> 0
A6: 43319 | B6: 0 | C6: 0 | D6: =SUM(B6:C6) -> 0 | E6: 0 | F6: =(B6*8.54)+(C6*7.86) -> 0
A7: 43320 | B7: 0 | C7: 0 | D7: =SUM(B7:C7) -> 0 | E7: 0 | F7: =(B7*8.54)+(C7*7.86) -> 0
A8: 43321 | B8: 0 | C8: 0 | D8: =SUM(B8:C8) -> 0 | E8: 0 | F8: =(B8*8.54)+(C8*7.86) -> 0
A9: 43322 | B9: 0 | C9: 0 | D9: =SUM(B9:C9) -> 0 | E9: 0 | F9: =(B9*8.54)+(C9*7.86) -> 0
A10: 43325 | B10: 0 | C10: 0 | D10: =SUM(B10:C10) -> 0 | E10: 0 | F10: =(B10*8.54)+(C10*7.86) -> 0
A11: 43326 | B11: 0 | C11: 0 | D11: =SUM(B11:C11) -> 0 | E11: 0 | F11: =(B11*8.54)+(C11*7.86) -> 0
A12: 43327 | B12: 0 | C12: 0 | D12: =SUM(B12:C12) -> 0 | E12: 0 | F12: =(B12*8.54)+(C12*7.86) -> 0
A13: 43328 | B13: 0 | C13: 0 | D13: =SUM(B13:C13) -> 0 | E13: 0 | F13: =(B13*8.54)+(C13*7.86) -> 0
... A24: 43343 | B24: 0 | C24: 0 | D24: =SUM(B24:C24) -> 0 | E24: 0 | F24: =(B24*8.54)+(C24*7.86) -> 0
A25: TOTAL | B25: =SUM(B2:B22) -> 0 | C25: =SUM(C2:C22) -> 0 | D25: =SUM(D2:D22) -> 0 | E25: =SUM(E2:E22) -> 0 | F25: =SUM(F2:F22) -> 0
A26: TOTAL MONTANT | B26: =(B25*8.6) -> 0 | C26: =(C25*7.86) -> 0
A27: TOTAL TRADES | E27: =SUM(B27:C27) -> 0
A29: Open Date | B29: Close Date | C29: Symbol | D29: Action | E29: Lots | F29: SL | G29: TP | H29: Open Price | I29: Close Price | J29: Commission | K29: Swap | L29: Pips | M29: Comptes

Sheet F 
A1: F - VOL Portfolio | B1: EURUSD | C1: GBPUSD | D1: TOTAL PIPS | E1: TRADES | F1: TOTAL MONTANT
A2: 43313 | D2: =SUM(B2:C2) -> 0 | F2: =(B2*8.6)+(C2*8.6) -> 0
A3: 43314 | D3: =SUM(B3:C3) -> 0 | F3: =(B3*8.6)+(C3*8.6) -> 0
A4: 43315 | D4: =SUM(B4:C4) -> 0 | F4: =(B4*8.6)+(C4*8.6) -> 0
A5: 43318 | D5: =SUM(B5:C5) -> 0 | F5: =(B5*8.6)+(C5*8.6) -> 0
A6: 43319 | D6: =SUM(B6:C6) -> 0 | F6: =(B6*8.6)+(C6*8.6) -> 0
A7: 43320 | D7: =SUM(B7:C7) -> 0 | F7: =(B7*8.6)+(C7*8.6) -> 0
A8: 43321 | D8: =SUM(B8:C8) -> 0 | F8: =(B8*8.6)+(C8*8.6) -> 0
A9: 43322 | D9: =SUM(B9:C9) -> 0 | F9: =(B9*8.6)+(C9*8.6) -> 0
A10: 43325 | D10: =SUM(B10:C10) -> 0 | F10: =(B10*8.6)+(C10*8.6) -> 0
A11: 43326 | D11: =SUM(B11:C11) -> 0 | F11: =(B11*8.6)+(C11*8.6) -> 0
A12: 43327 | D12: =SUM(B12:C12) -> 0 | F12: =(B12*8.6)+(C12*8.6) -> 0
A13: 43328 | D13: =SUM(B13:C13) -> 0 | F13: =(B13*8.6)+(C13*8.6) -> 0
... A24: 43343 | D24: =SUM(B24:C24) -> 0 | F24: =(B24*8.6)+(C24*8.6) -> 0
A25: TOTAL | B25: =SUM(B2:B24) -> 0 | C25: =SUM(C2:C24) -> 0 | D25: =SUM(D2:D24) -> 0 | E25: =SUM(E2:E24) -> 0 | F25: =SUM(F2:F22) -> 0
A26: TOTAL TRADES | B26: 64 | C26: 6 | E26: =SUM(B26:D26) -> 70
A27: TOTAL MONTANT | B27: =(B25*8.6) -> 0 | C27: =(C25*8.6) -> 0
A29: Open Date | B29: Close Date | C29: Symbol | D29: Action | E29: Lots | F29: SL | G29: TP | H29: Open Price | I29: Close Price | J29: Commission | K29: Swap | L29: Pips | M29: Comptes
A30: 08/31/2018 18:30 | B30: 08/31/2018 19:30 | C30: EURUSD | D30: Sell | E30: 0.01 | F30: 0 | G30: 0 | H30: 1.16078 | I30: 1.15878 | J30: -0.06 | K30: 0 | L30: 20 | M30: F - VOL Portfolio
A31: 08/30/2018 16:45 | B31: 08/31/2018 08:05 | C31: EURUSD | D31: Sell | E31: 0.01 | F31: 0 | G31: 0 | H31: 1.16558 | I31: 1.16863 | J31: -0.06 | K31: 0.05 | L31: -30.5 | M31: F - VOL Portfolio
A32: 08/30/2018 16:35 | B32: 08/30/2018 23:00 | C32: EURUSD | D32: Sell | E32: 0.01 | F32: 0 | G32: 0 | H32: 1.16446 | I32: 1.16765 | J32: -0.06 | K32: 0 | L32: -31.9 | M32: F - VOL Portfolio
A33: 08/30/2018 16:30 | B33: 08/30/2018 22:55 | C33: EURUSD | D33: Sell | E33: 0.01 | F33: 0 | G33: 0 | H33: 1.16593 | I33: 1.16741 | J33: -0.06 | K33: 0 | L33: -14.8 | M33: F - VOL Portfolio
A34: 08/30/2018 16:35 | B34: 08/30/2018 21:00 | C34: EURUSD | D34: Sell | E34: 0.01 | F34: 0 | G34: 0 | H34: 1.16445 | I34: 1.16686 | J34: -0.06 | K34: 0 | L34: -24.1 | M34: F - VOL Portfolio
A35: 08/30/2018 16:25 | B35: 08/30/2018 17:15 | C35: EURUSD | D35: Sell | E35: 0.01 | F35: 0 | G35: 0 | H35: 1.16623 | I35: 1.16628 | J35: -0.06 | K35: 0 | L35: -0.5 | M35: F - VOL Portfolio
A36: 08/30/2018 11:45 | B36: 08/30/2018 12:45 | C36: EURUSD | D36: Sell | E36: 0.01 | F36: 0 | G36: 0 | H36: 1.16807 | I36: 1.16915 | J36: -0.06 | K36: 0 | L36: -10.8 | M36: F - VOL Portfolio
A37: 08/30/2018 11:30 | B37: 08/30/2018 12:00 | C37: EURUSD | D37: Sell | E37: 0.01 | F37: 0 | G37: 0 | H37: 1.16756 | I37: 1.16867 | J37: -0.06 | K37: 0 | L37: -11.1 | M37: F - VOL Portfolio
A38: 08/30/2018 11:30 | B38: 08/30/2018 12:00 | C38: EURUSD | D38: Sell | E38: 0.01 | F38: 0 | G38: 0 | H38: 1.16755 | I38: 1.16867 | J38: -0.06 | K38: 0 | L38: -11.2 | M38: F - VOL Portfolio
A39: 08/29/2018 17:30 | B39: 08/30/2018 08:30 | C39: EURUSD | D39: Buy | E39: 0.01 | F39: 0 | G39: 0 | H39: 1.16995 | I39: 1.16913 | J39: -0.06 | K39: -0.32 | L39: -8.2 | M39: F - VOL Portfolio
A40: 08/29/2018 19:25 | B40: 08/29/2018 19:40 | C40: GBPUSD | D40: Buy | E40: 0.02 | F40: 0 | G40: 0 | H40: 1.29759 | I40: 1.3 | J40: -0.12 | K40: 0 | L40: 24.1 | M40: F - VOL Portfolio
A41: 08/29/2018 17:10 | B41: 08/29/2018 17:45 | C41: GBPUSD | D41: Buy | E41: 0.02 | F41: 0 | G41: 0 | H41: 1.29508 | I41: 1.30027 | J41: -0.12 | K41: 0 | L41: 51.9 | M41: F - VOL Portfolio
... A73: 08/14/2018 09:30 | B73: 08/14/2018 10:15 | C73: EURUSD | D73: Buy | E73: 0.01 | F73: 0 | G73: 0 | H73: 1.14269 | I73: 1.14149 | J73: -0.06 | K73: 0 | L73: -12 | M73: F - VOL Portfolio
A74: 43381.347 | B74: 43381.788 | C74: EURUSD | D74: Sell | E74: 0.01 | F74: 0 | G74: 0 | H74: 1.14625 | I74: 1.1406 | J74: -0.06 | K74: 0 | L74: 56.5 | M74: F - VOL Portfolio
A75: 43381.344 | B75: 43381.785 | C75: EURUSD | D75: Sell | E75: 0.01 | F75: 0 | G75: 0 | H75: 1.14645 | I75: 1.14117 | J75: -0.06 | K75: 0 | L75: 52.8 | M75: F - VOL Portfolio
A76: 43381.562 | B76: 43381.688 | C76: EURUSD | D76: Sell | E76: 0.01 | F76: 0 | G76: 0 | H76: 1.14767 | I76: 1.14163 | J76: -0.06 | K76: 0 | L76: 60.4 | M76: F - VOL Portfolio
A77: 43381.365 | B77: 43381.688 | C77: EURUSD | D77: Sell | E77: 0.01 | F77: 0 | G77: 0 | H77: 1.14517 | I77: 1.14161 | J77: -0.06 | K77: 0 | L77: 35.6 | M77: F - VOL Portfolio
A78: 43381.354 | B78: 43381.688 | C78: EURUSD | D78: Sell | E78: 0.01 | F78: 0 | G78: 0 | H78: 1.14462 | I78: 1.1416 | J78: -0.06 | K78: 0 | L78: 30.2 | M78: F - VOL Portfolio
A79: 43381.344 | B79: 43381.681 | C79: EURUSD | D79: Sell | E79: 0.01 | F79: 0 | G79: 0 | H79: 1.14645 | I79: 1.14203 | J79: -0.06 | K79: 0 | L79: 44.2 | M79: F - VOL Portfolio
A80: 43381.34 | B80: 43381.677 | C80: EURUSD | D80: Sell | E80: 0.01 | F80: 0 | G80: 0 | H80: 1.14818 | I80: 1.14326 | J80: -0.06 | K80: 0 | L80: 49.2 | M80: F - VOL Portfolio
A81: 43381.34 | B81: 43381.677 | C81: EURUSD | D81: Sell | E81: 0.01 | F81: 0 | G81: 0 | H81: 1.14818 | I81: 1.14327 | J81: -0.06 | K81: 0 | L81: 49.1 | M81: F - VOL Portfolio
A82: 43381.351 | B82: 43381.399 | C82: EURUSD | D82: Sell | E82: 0.01 | F82: 0 | G82: 0 | H82: 1.14591 | I82: 1.14701 | J82: -0.06 | K82: 0 | L82: -11 | M82: F - VOL Portfolio
A83: 43381.34 | B83: 43381.385 | C83: EURUSD | D83: Sell | E83: 0.01 | F83: 0 | G83: 0 | H83: 1.14818 | I83: 1.14419 | J83: -0.06 | K83: 0 | L83: 39.9 | M83: F - VOL Portfolio
A84: 43381.344 | B84: 43381.385 | C84: EURUSD | D84: Sell | E84: 0.01 | F84: 0 | G84: 0 | H84: 1.14645 | I84: 1.14419 | J84: -0.06 | K84: 0 | L84: 22.6 | M84: F - VOL Portfolio
A85: 43381.347 | B85: 43381.385 | C85: EURUSD | D85: Sell | E85: 0.01 | F85: 0 | G85: 0 | H85: 1.14625 | I85: 1.1442 | J85: -0.06 | K85: 0 | L85: 20.5 | M85: F - VOL Portfolio
... A111: 43139.59 | B111: 43139.597 | C111: GBPUSD | D111: Buy | E111: 0.02 | F111: 0 | G111: 0 | H111: 1.31157 | I111: 1.3092 | J111: -0.12 | K111: 0 | L111: -23.7 | M111: F - VOL Portfolio
A112: 07/31/2018 16:30 | B112: 43108.118 | C112: EURUSD | D112: Sell | E112: 0.01 | F112: 0 | G112: 0 | H112: 1.17149 | I112: 1.16889 | J112: -0.06 | K112: 0.06 | L112: 26 | M112: F - VOL Portfolio
A113: 07/31/2018 16:20 | B113: 43108.118 | C113: EURUSD | D113: Sell | E113: 0.01 | F113: 0 | G113: 0 | H113: 1.17128 | I113: 1.16889 | J113: -0.06 | K113: 0.06 | L113: 23.9 | M113: F - VOL Portfolio
A114: 07/31/2018 16:15 | B114: 43108.118 | C114: EURUSD | D114: Sell | E114: 0.01 | F114: 0 | G114: 0 | H114: 1.17109 | I114: 1.16889 | J114: -0.06 | K114: 0.06 | L114: 22 | M114: F - VOL Portfolio

Sheet G
A1: G - Atlas | B1: EURUSD | C1: GBPUSD | D1: USDJPY | E1: AUDUSD | F1: TOTAL PIPS | G1: TRADES | H1: TOTAL MONTANT
A2: 43313 | B2: =SUMPRODUCT((VALUE(TEXT($B$30:$B$105,"JJ/MM/AAAA"))=VALUE(TEXT(A2,"JJ/MM/AAAA")))*($C$30:$C$105=$B$1),$L$30:$L$105) -> #VALUE! | C2: =SUMPRODUCT((VALUE(TEXT($B$30:$B$105,"JJ/MM/AAAA"))=VALUE(TEXT(A2,"JJ/MM/AAAA")))*($C$30:$C$105=$C$1),$L$30:$L$105) -> #VALUE! | D2: =SUMPRODUCT((VALUE(TEXT($B$30:$B$105,"JJ/MM/AAAA"))=VALUE(TEXT(A2,"JJ/MM/AAAA")))*($C$30:$C$105=$D$1),$L$30:$L$105) -> #VALUE! | E2: =SUMPRODUCT((VALUE(TEXT($B$30:$B$105,"JJ/MM/AAAA"))=VALUE(TEXT(A2,"JJ/MM/AAAA")))*($C$30:$C$105=$E$1),$L$30:$L$105) -> #VALUE! | F2: =SUM(B2:E2) -> #VALUE! | H2: =(B2*8.6)+(C2*8.6)+(D2*7.6)+(E2*8.3) -> #VALUE!
A3: 43314 | B3: =SUMPRODUCT((VALUE(TEXT($B$30:$B$105,"JJ/MM/AAAA"))=VALUE(TEXT(A3,"JJ/MM/AAAA")))*($C$30:$C$105=$B$1),$L$30:$L$105) -> #VALUE! | C3: =SUMPRODUCT((VALUE(TEXT($B$30:$B$105,"JJ/MM/AAAA"))=VALUE(TEXT(A3,"JJ/MM/AAAA")))*($C$30:$C$105=$C$1),$L$30:$L$105) -> #VALUE! | D3: =SUMPRODUCT((VALUE(TEXT($B$30:$B$105,"JJ/MM/AAAA"))=VALUE(TEXT(A3,"JJ/MM/AAAA")))*($C$30:$C$105=$D$1),$L$30:$L$105) -> #VALUE! | E3: =SUMPRODUCT((VALUE(TEXT($B$30:$B$105,"JJ/MM/AAAA"))=VALUE(TEXT(A3,"JJ/MM/AAAA")))*($C$30:$C$105=$E$1),$L$30:$L$105) -> #VALUE! | F3: =SUM(B3:E3) -> #VALUE! | H3: =(B3*8.6)+(C3*8.6)+(D3*7.6)+(E3*8.3) -> #VALUE!
A4: 43315 | B4: =SUMPRODUCT((VALUE(TEXT($B$30:$B$105,"JJ/MM/AAAA"))=VALUE(TEXT(A4,"JJ/MM/AAAA")))*($C$30:$C$105=$B$1),$L$30:$L$105) -> #VALUE! | C4: =SUMPRODUCT((VALUE(TEXT($B$30:$B$105,"JJ/MM/AAAA"))=VALUE(TEXT(A4,"JJ/MM/AAAA")))*($C$30:$C$105=$C$1),$L$30:$L$105) -> #VALUE! | D4: =SUMPRODUCT((VALUE(TEXT($B$30:$B$105,"JJ/MM/AAAA"))=VALUE(TEXT(A4,"JJ/MM/AAAA")))*($C$30:$C$105=$D$1),$L$30:$L$105) -> #VALUE! | E4: =SUMPRODUCT((VALUE(TEXT($B$30:$B$105,"JJ/MM/AAAA"))=VALUE(TEXT(A4,"JJ/MM/AAAA")))*($C$30:$C$105=$E$1),$L$30:$L$105) -> #VALUE! | F4: =SUM(B4:E4) -> #VALUE! | H4: =(B4*8.6)+(C4*8.6)+(D4*7.6)+(E4*8.3) -> #VALUE!
A5: 43318 | B5: =SUMPRODUCT((VALUE(TEXT($B$30:$B$105,"JJ/MM/AAAA"))=VALUE(TEXT(A5,"JJ/MM/AAAA")))*($C$30:$C$105=$B$1),$L$30:$L$105) -> #VALUE! | C5: =SUMPRODUCT((VALUE(TEXT($B$30:$B$105,"JJ/MM/AAAA"))=VALUE(TEXT(A5,"JJ/MM/AAAA")))*($C$30:$C$105=$C$1),$L$30:$L$105) -> #VALUE! | D5: =SUMPRODUCT((VALUE(TEXT($B$30:$B$105,"JJ/MM/AAAA"))=VALUE(TEXT(A5,"JJ/MM/AAAA")))*($C$30:$C$105=$D$1),$L$30:$L$105) -> #VALUE! | E5: =SUMPRODUCT((VALUE(TEXT($B$30:$B$105,"JJ/MM/AAAA"))=VALUE(TEXT(A5,"JJ/MM/AAAA")))*($C$30:$C$105=$E$1),$L$30:$L$105) -> #VALUE! | F5: =SUM(B5:E5) -> #VALUE! | H5: =(B5*8.6)+(C5*8.6)+(D5*7.6)+(E5*8.3) -> #VALUE!
A6: 43319 | B6: =SUMPRODUCT((VALUE(TEXT($B$30:$B$105,"JJ/MM/AAAA"))=VALUE(TEXT(A6,"JJ/MM/AAAA")))*($C$30:$C$105=$B$1),$L$30:$L$105) -> #VALUE! | C6: =SUMPRODUCT((VALUE(TEXT($B$30:$B$105,"JJ/MM/AAAA"))=VALUE(TEXT(A6,"JJ/MM/AAAA")))*($C$30:$C$105=$C$1),$L$30:$L$105) -> #VALUE! | D6: =SUMPRODUCT((VALUE(TEXT($B$30:$B$105,"JJ/MM/AAAA"))=VALUE(TEXT(A6,"JJ/MM/AAAA")))*($C$30:$C$105=$D$1),$L$30:$L$105) -> #VALUE! | E6: =SUMPRODUCT((VALUE(TEXT($B$30:$B$105,"JJ/MM/AAAA"))=VALUE(TEXT(A6,"JJ/MM/AAAA")))*($C$30:$C$105=$E$1),$L$30:$L$105) -> #VALUE! | F6: =SUM(B6:E6) -> #VALUE! | H6: =(B6*8.6)+(C6*8.6)+(D6*7.6)+(E6*8.3) -> #VALUE!
A7: 43320 | B7: =SUMPRODUCT((VALUE(TEXT($B$30:$B$105,"JJ/MM/AAAA"))=VALUE(TEXT(A7,"JJ/MM/AAAA")))*($C$30:$C$105=$B$1),$L$30:$L$105) -> #VALUE! | C7: =SUMPRODUCT((VALUE(TEXT($B$30:$B$105,"JJ/MM/AAAA"))=VALUE(TEXT(A7,"JJ/MM/AAAA")))*($C$30:$C$105=$C$1),$L$30:$L$105) -> #VALUE! | D7: =SUMPRODUCT((VALUE(TEXT($B$30:$B$105,"JJ/MM/AAAA"))=VALUE(TEXT(A7,"JJ/MM/AAAA")))*($C$30:$C$105=$D$1),$L$30:$L$105) -> #VALUE! | E7: =SUMPRODUCT((VALUE(TEXT($B$30:$B$105,"JJ/MM/AAAA"))=VALUE(TEXT(A7,"JJ/MM/AAAA")))*($C$30:$C$105=$E$1),$L$30:$L$105) -> #VALUE! | F7: =SUM(B7:E7) -> #VALUE! | H7: =(B7*8.6)+(C7*8.6)+(D7*7.6)+(E7*8.3) -> #VALUE!
A8: 43321 | B8: =SUMPRODUCT((VALUE(TEXT($B$30:$B$105,"JJ/MM/AAAA"))=VALUE(TEXT(A8,"JJ/MM/AAAA")))*($C$30:$C$105=$B$1),$L$30:$L$105) -> #VALUE! | C8: =SUMPRODUCT((VALUE(TEXT($B$30:$B$105,"JJ/MM/AAAA"))=VALUE(TEXT(A8,"JJ/MM/AAAA")))*($C$30:$C$105=$C$1),$L$30:$L$105) -> #VALUE! | D8: =SUMPRODUCT((VALUE(TEXT($B$30:$B$105,"JJ/MM/AAAA"))=VALUE(TEXT(A8,"JJ/MM/AAAA")))*($C$30:$C$105=$D$1),$L$30:$L$105) -> #VALUE! | E8: =SUMPRODUCT((VALUE(TEXT($B$30:$B$105,"JJ/MM/AAAA"))=VALUE(TEXT(A8,"JJ/MM/AAAA")))*($C$30:$C$105=$E$1),$L$30:$L$105) -> #VALUE! | F8: =SUM(B8:E8) -> #VALUE! | H8: =(B8*8.6)+(C8*8.6)+(D8*7.6)+(E8*8.3) -> #VALUE!
A9: 43322 | B9: =SUMPRODUCT((VALUE(TEXT($B$30:$B$105,"JJ/MM/AAAA"))=VALUE(TEXT(A9,"JJ/MM/AAAA")))*($C$30:$C$105=$B$1),$L$30:$L$105) -> #VALUE! | C9: =SUMPRODUCT((VALUE(TEXT($B$30:$B$105,"JJ/MM/AAAA"))=VALUE(TEXT(A9,"JJ/MM/AAAA")))*($C$30:$C$105=$C$1),$L$30:$L$105) -> #VALUE! | D9: =SUMPRODUCT((VALUE(TEXT($B$30:$B$105,"JJ/MM/AAAA"))=VALUE(TEXT(A9,"JJ/MM/AAAA")))*($C$30:$C$105=$D$1),$L$30:$L$105) -> #VALUE! | E9: =SUMPRODUCT((VALUE(TEXT($B$30:$B$105,"JJ/MM/AAAA"))=VALUE(TEXT(A9,"JJ/MM/AAAA")))*($C$30:$C$105=$E$1),$L$30:$L$105) -> #VALUE! | F9: =SUM(B9:E9) -> #VALUE! | H9: =(B9*8.6)+(C9*8.6)+(D9*7.6)+(E9*8.3) -> #VALUE!
A10: 43325 | B10: =SUMPRODUCT((VALUE(TEXT($B$30:$B$105,"JJ/MM/AAAA"))=VALUE(TEXT(A10,"JJ/MM/AAAA")))*($C$30:$C$105=$B$1),$L$30:$L$105) -> #VALUE! | C10: =SUMPRODUCT((VALUE(TEXT($B$30:$B$105,"JJ/MM/AAAA"))=VALUE(TEXT(A10,"JJ/MM/AAAA")))*($C$30:$C$105=$C$1),$L$30:$L$105) -> #VALUE! | D10: =SUMPRODUCT((VALUE(TEXT($B$30:$B$105,"JJ/MM/AAAA"))=VALUE(TEXT(A10,"JJ/MM/AAAA")))*($C$30:$C$105=$D$1),$L$30:$L$105) -> #VALUE! | E10: =SUMPRODUCT((VALUE(TEXT($B$30:$B$105,"JJ/MM/AAAA"))=VALUE(TEXT(A10,"JJ/MM/AAAA")))*($C$30:$C$105=$E$1),$L$30:$L$105) -> #VALUE! | F10: =SUM(B10:E10) -> #VALUE! | H10: =(B10*8.6)+(C10*8.6)+(D10*7.6)+(E10*8.3) -> #VALUE!
A11: 43326 | B11: =SUMPRODUCT((VALUE(TEXT($B$30:$B$105,"JJ/MM/AAAA"))=VALUE(TEXT(A11,"JJ/MM/AAAA")))*($C$30:$C$105=$B$1),$L$30:$L$105) -> #VALUE! | C11: =SUMPRODUCT((VALUE(TEXT($B$30:$B$105,"JJ/MM/AAAA"))=VALUE(TEXT(A11,"JJ/MM/AAAA")))*($C$30:$C$105=$C$1),$L$30:$L$105) -> #VALUE! | D11: =SUMPRODUCT((VALUE(TEXT($B$30:$B$105,"JJ/MM/AAAA"))=VALUE(TEXT(A11,"JJ/MM/AAAA")))*($C$30:$C$105=$D$1),$L$30:$L$105) -> #VALUE! | E11: =SUMPRODUCT((VALUE(TEXT($B$30:$B$105,"JJ/MM/AAAA"))=VALUE(TEXT(A11,"JJ/MM/AAAA")))*($C$30:$C$105=$E$1),$L$30:$L$105) -> #VALUE! | F11: =SUM(B11:E11) -> #VALUE! | H11: =(B11*8.6)+(C11*8.6)+(D11*7.6)+(E11*8.3) -> #VALUE!
A12: 43327 | B12: =SUMPRODUCT((VALUE(TEXT($B$30:$B$105,"JJ/MM/AAAA"))=VALUE(TEXT(A12,"JJ/MM/AAAA")))*($C$30:$C$105=$B$1),$L$30:$L$105) -> #VALUE! | C12: =SUMPRODUCT((VALUE(TEXT($B$30:$B$105,"JJ/MM/AAAA"))=VALUE(TEXT(A12,"JJ/MM/AAAA")))*($C$30:$C$105=$C$1),$L$30:$L$105) -> #VALUE! | D12: =SUMPRODUCT((VALUE(TEXT($B$30:$B$105,"JJ/MM/AAAA"))=VALUE(TEXT(A12,"JJ/MM/AAAA")))*($C$30:$C$105=$D$1),$L$30:$L$105) -> #VALUE! | E12: =SUMPRODUCT((VALUE(TEXT($B$30:$B$105,"JJ/MM/AAAA"))=VALUE(TEXT(A12,"JJ/MM/AAAA")))*($C$30:$C$105=$E$1),$L$30:$L$105) -> #VALUE! | F12: =SUM(B12:E12) -> #VALUE! | H12: =(B12*8.6)+(C12*8.6)+(D12*7.6)+(E12*8.3) -> #VALUE!
A13: 43328 | B13: =SUMPRODUCT((VALUE(TEXT($B$30:$B$105,"JJ/MM/AAAA"))=VALUE(TEXT(A13,"JJ/MM/AAAA")))*($C$30:$C$105=$B$1),$L$30:$L$105) -> #VALUE! | C13: =SUMPRODUCT((VALUE(TEXT($B$30:$B$105,"JJ/MM/AAAA"))=VALUE(TEXT(A13,"JJ/MM/AAAA")))*($C$30:$C$105=$C$1),$L$30:$L$105) -> #VALUE! | D13: =SUMPRODUCT((VALUE(TEXT($B$30:$B$105,"JJ/MM/AAAA"))=VALUE(TEXT(A13,"JJ/MM/AAAA")))*($C$30:$C$105=$D$1),$L$30:$L$105) -> #VALUE! | E13: =SUMPRODUCT((VALUE(TEXT($B$30:$B$105,"JJ/MM/AAAA"))=VALUE(TEXT(A13,"JJ/MM/AAAA")))*($C$30:$C$105=$E$1),$L$30:$L$105) -> #VALUE! | F13: =SUM(B13:E13) -> #VALUE! | H13: =(B13*8.6)+(C13*8.6)+(D13*7.6)+(E13*8.3) -> #VALUE!
... A24: 43343 | B24: =SUMPRODUCT((VALUE(TEXT($B$30:$B$105,"JJ/MM/AAAA"))=VALUE(TEXT(A24,"JJ/MM/AAAA")))*($C$30:$C$105=$B$1),$L$30:$L$105) -> #VALUE! | C24: =SUMPRODUCT((VALUE(TEXT($B$30:$B$105,"JJ/MM/AAAA"))=VALUE(TEXT(A24,"JJ/MM/AAAA")))*($C$30:$C$105=$C$1),$L$30:$L$105) -> #VALUE! | D24: =SUMPRODUCT((VALUE(TEXT($B$30:$B$105,"JJ/MM/AAAA"))=VALUE(TEXT(A24,"JJ/MM/AAAA")))*($C$30:$C$105=$D$1),$L$30:$L$105) -> #VALUE! | E24: =SUMPRODUCT((VALUE(TEXT($B$30:$B$105,"JJ/MM/AAAA"))=VALUE(TEXT(A24,"JJ/MM/AAAA")))*($C$30:$C$105=$E$1),$L$30:$L$105) -> #VALUE! | F24: =SUM(B24:E24) -> #VALUE! | H24: =(B24*8.6)+(C24*8.6)+(D24*7.6)+(E24*8.3) -> #VALUE!
A25: TOTAL | B25: =SUM(B2:B22) -> #VALUE! | C25: =SUM(C2:C22) -> #VALUE! | D25: =SUM(D2:D22) -> #VALUE! | E25: =SUM(E2:E22) -> #VALUE! | F25: =SUM(F2:F22) -> #VALUE! | G25: =SUM(G2:G23) -> 0 | H25: =SUM(H2:H22) -> #VALUE!
A26: TOTAL TRADES | B26: 27 | C26: 23 | D26: 5 | E26: 5 | G26: =SUM(B26:E26) -> 60
A27: TOTAL MONTANT | B27: =(B25*8.6) -> #VALUE! | C27: =(C25*8.6) -> #VALUE! | D27: =(D25*7.86) -> #VALUE! | E27: =(E25*8.3) -> #VALUE! | F27: =SUM(B27:E27) -> #VALUE!
A29: Open Date | B29: Close Date | C29: Symbol | D29: Action | E29: Lots | F29: SL | G29: TP | H29: Open Price | I29: Close Price | J29: Commission | K29: Swap | L29: Pips | M29: Comptes
A30: 08/31/2018 21:55 | B30: 08/31/2018 22:30 | C30: EURUSD | D30: Sell | E30: 0.3 | F30: 1.16556 | G30: 1.14596 | H30: 1.16086 | I30: 1.1599 | J30: -1.14 | K30: 0 | L30: 9.6 | M30: G - Atlas
A31: 08/31/2018 10:30 | B31: 08/31/2018 19:58 | C31: USDJPY | D31: Sell | E31: 0.06 | F31: 111.087 | G31: 110.013 | H31: 110.716 | I31: 111.087 | J31: -0.2 | K31: 0 | L31: -37.1 | M31: G - Atlas
A32: 08/30/2018 19:00 | B32: 08/31/2018 16:08 | C32: EURUSD | D32: Buy | E32: 0.3 | F32: 1.16103 | G32: 1.25463 | H32: 1.16463 | I32: 1.16282 | J32: -1.14 | K32: -1.85 | L32: -18.1 | M32: G - Atlas
A33: 08/29/2018 12:00 | B33: 08/31/2018 16:08 | C33: EURUSD | D33: Buy | E33: 0.3 | F33: 1.16306 | G33: 1.25666 | H33: 1.16666 | I33: 1.16293 | J33: -1.14 | K33: -7.39 | L33: -37.3 | M33: G - Atlas
A34: 08/30/2018 09:00 | B34: 08/31/2018 05:00 | C34: GBPUSD | D34: Buy | E34: 0.3 | F34: 1.2963 | G34: 1.4022 | H34: 1.3022 | I34: 1.30142 | J34: -1.27 | K34: -2.13 | L34: -7.8 | M34: G - Atlas
A35: 08/29/2018 18:15 | B35: 08/30/2018 14:45 | C35: USDJPY | D35: Buy | E35: 0.06 | F35: 111.421 | G35: 112.257 | H35: 111.71 | I35: 111.459 | J35: -0.19 | K35: 0.46 | L35: -25.1 | M35: G - Atlas
A36: 08/30/2018 08:22 | B36: 08/30/2018 09:19 | C36: GBPUSD | D36: Buy | E36: 0.3 | F36: 1.2966 | G36: 1.3122 | H36: 1.3022 | I36: 1.30296 | J36: -1.27 | K36: 0 | L36: 7.6 | M36: G - Atlas
A37: 08/30/2018 08:30 | B37: 08/30/2018 08:35 | C37: GBPUSD | D37: Buy | E37: 0.3 | F37: 1.29589 | G37: 1.32759 | H37: 1.30159 | I37: 1.30279 | J37: -1.27 | K37: 0 | L37: 12 | M37: G - Atlas
A38: 08/29/2018 17:45 | B38: 08/30/2018 03:30 | C38: GBPUSD | D38: Buy | E38: 0.06 | F38: 1.28747 | G38: 1.32496 | H38: 1.30048 | I38: 1.30291 | J38: -0.25 | K38: -1.28 | L38: 24.3 | M38: G - Atlas
A39: 08/29/2018 21:24 | B39: 08/29/2018 21:35 | C39: EURUSD | D39: Buy | E39: 0.3 | F39: 1.16484 | G39: 1.18924 | H39: 1.16924 | I39: 1.16998 | J39: -1.14 | K39: 0 | L39: 7.4 | M39: G - Atlas
A40: 08/29/2018 17:30 | B40: 08/29/2018 19:32 | C40: GBPUSD | D40: Buy | E40: 0.06 | F40: 1.28683 | G40: 1.32265 | H40: 1.29937 | I40: 1.2994 | J40: -0.25 | K40: 0 | L40: 0.3 | M40: G - Atlas
A41: 08/29/2018 17:00 | B41: 08/29/2018 18:27 | C41: GBPUSD | D41: Buy | E41: 0.06 | F41: 1.28719 | G41: 1.31505 | H41: 1.29695 | I41: 1.30097 | J41: -0.25 | K41: 0 | L41: 40.2 | M41: G - Atlas
... A49: 08/24/2018 04:00 | B49: 08/24/2018 15:30 | C49: AUDUSD | D49: Sell | E49: 0.3 | F49: 0.73153 | G49: 0.70953 | H49: 0.72553 | I49: 0.73073 | J49: -0.72 | K49: 0 | L49: -52 | M49: G - Atlas
A50: 43381.396 | B50: 08/24/2018 06:00 | C50: AUDUSD | D50: Sell | E50: 0.06 | F50: 0.74077 | G50: 0.71139 | H50: 0.73086 | I50: 0.7284 | J50: -0.15 | K50: -1.25 | L50: 24.6 | M50: G - Atlas
A51: 08/23/2018 14:00 | B51: 08/23/2018 15:00 | C51: GBPUSD | D51: Buy | E51: 0.06 | F51: 1.28544 | G51: 1.30125 | H51: 1.29094 | I51: 1.28835 | J51: -0.25 | K51: 0 | L51: -25.9 | M51: G - Atlas
A52: 08/23/2018 04:00 | B52: 08/23/2018 13:55 | C52: EURUSD | D52: Buy | E52: 0.3 | F52: 1.15676 | G52: 1.16576 | H52: 1.15666 | I52: 1.15888 | J52: -1.14 | K52: 0 | L52: 22.2 | M52: G - Atlas
A53: 08/23/2018 09:08 | B53: 08/23/2018 10:16 | C53: AUDUSD | D53: Sell | E53: 0.3 | F53: 0.73269 | G53: 0.72399 | H53: 0.72969 | I53: 0.7292 | J53: -0.72 | K53: 0 | L53: 4.9 | M53: G - Atlas
A54: 08/22/2018 10:30 | B54: 08/22/2018 15:15 | C54: GBPUSD | D54: Buy | E54: 0.3 | F54: 1.28362 | G54: 1.31532 | H54: 1.28932 | I54: 1.29161 | J54: -1.27 | K54: 0 | L54: 22.9 | M54: G - Atlas
A55: 08/22/2018 00:05 | B55: 08/22/2018 12:12 | C55: EURUSD | D55: Buy | E55: 0.3 | F55: 1.15257 | G55: 1.17197 | H55: 1.15707 | I55: 1.15876 | J55: -1.14 | K55: 0 | L55: 16.9 | M55: G - Atlas
A56: 08/22/2018 09:20 | B56: 08/22/2018 12:12 | C56: EURUSD | D56: Buy | E56: 0.3 | F56: 1.15667 | G56: 1.17156 | H56: 1.15666 | I56: 1.15879 | J56: -1.14 | K56: 0 | L56: 21.3 | M56: G - Atlas
A57: 08/21/2018 15:15 | B57: 08/21/2018 15:55 | C57: GBPUSD | D57: Buy | E57: 0.3 | F57: 1.28244 | G57: 1.30172 | H57: 1.28172 | I57: 1.28328 | J57: -1.27 | K57: 0 | L57: 15.6 | M57: G - Atlas
A58: 08/21/2018 10:35 | B58: 08/21/2018 13:40 | C58: GBPUSD | D58: Buy | E58: 0.3 | F58: 1.27725 | G58: 1.30745 | H58: 1.28245 | I58: 1.28348 | J58: -1.27 | K58: 0 | L58: 10.3 | M58: G - Atlas
A59: 08/21/2018 10:02 | B59: 08/21/2018 11:50 | C59: EURUSD | D59: Buy | E59: 0.3 | F59: 1.14654 | G59: 1.16614 | H59: 1.15124 | I59: 1.15338 | J59: -1.14 | K59: 0 | L59: 21.4 | M59: G - Atlas
A60: 08/21/2018 09:35 | B60: 08/21/2018 11:45 | C60: EURUSD | D60: Buy | E60: 0.3 | F60: 1.14746 | G60: 1.16706 | H60: 1.15216 | I60: 1.153 | J60: -1.14 | K60: 0 | L60: 8.4 | M60: G - Atlas
A61: 08/20/2018 20:00 | B61: 08/21/2018 09:25 | C61: GBPUSD | D61: Sell | E61: 0.3 | F61: 1.28464 | G61: 1.12864 | H61: 1.27864 | I61: 1.28465 | J61: -1.27 | K61: 0.44 | L61: -60.1 | M61: G - Atlas
A62: 08/17/2018 12:45 | B62: 08/20/2018 20:42 | C62: USDJPY | D62: Sell | E62: 0.06 | F62: 110.778 | G62: 110.138 | H62: 110.557 | I62: 110.25 | J62: -0.2 | K62: -0.58 | L62: 30.7 | M62: G - Atlas
... A74: 08/13/2018 02:15 | B74: 08/13/2018 02:45 | C74: GBPUSD | D74: Sell | E74: 0.3 | F74: 1.27779 | G74: 1.25781 | H74: 1.27781 | I74: 1.27643 | J74: -1.28 | K74: 0 | L74: 13.8 | M74: G - Atlas
A75: 43381.935 | B75: 08/13/2018 00:05 | C75: EURUSD | D75: Sell | E75: 0.3 | F75: 1.14011 | G75: 1.12703 | H75: 1.14193 | I75: 1.13798 | J75: -1.14 | K75: 1.29 | L75: 39.5 | M75: G - Atlas
A76: 43381.931 | B76: 08/13/2018 00:05 | C76: EURUSD | D76: Sell | E76: 0.3 | F76: 1.14543 | G76: 1.12603 | H76: 1.14093 | I76: 1.13798 | J76: -1.14 | K76: 1.29 | L76: 29.5 | M76: G - Atlas
A77: 43381.931 | B77: 43381.958 | C77: EURUSD | D77: Sell | E77: 0.3 | F77: 1.14565 | G77: 1.12125 | H77: 1.14125 | I77: 1.14023 | J77: -1.14 | K77: 0 | L77: 10.2 | M77: G - Atlas
A78: 43381.354 | B78: 43381.785 | C78: EURUSD | D78: Sell | E78: 0.09 | F78: 1.14302 | G78: 1.12381 | H78: 1.14458 | I78: 1.14101 | J78: -0.34 | K78: 0 | L78: 35.7 | M78: G - Atlas
A79: 43381.771 | B79: 43381.778 | C79: GBPUSD | D79: Sell | E79: 0.3 | F79: 1.28412 | G79: 1.25842 | H79: 1.27842 | I79: 1.27747 | J79: -1.28 | K79: 0 | L79: 9.5 | M79: G - Atlas
A80: 43381.365 | B80: 43381.687 | C80: EURUSD | D80: Sell | E80: 0.09 | F80: 1.14983 | G80: 1.12439 | H80: 1.14516 | I80: 1.14169 | J80: -0.34 | K80: 0 | L80: 34.7 | M80: G - Atlas
A81: 43381.344 | B81: 43381.677 | C81: EURUSD | D81: Sell | E81: 0.09 | F81: 1.15048 | G81: 1.12863 | H81: 1.14656 | I81: 1.14281 | J81: -0.34 | K81: 0 | L81: 37.5 | M81: G - Atlas
A82: 43381.51 | B82: 43381.608 | C82: EURUSD | D82: Sell | E82: 0.3 | F82: 1.15166 | G82: 1.13226 | H82: 1.14716 | I82: 1.14578 | J82: -1.14 | K82: 0 | L82: 13.8 | M82: G - Atlas
A83: 43381.271 | B83: 43381.34 | C83: GBPUSD | D83: Sell | E83: 0.3 | F83: 1.28247 | G83: 1.26354 | H83: 1.28354 | I83: 1.28179 | J83: -1.27 | K83: 0 | L83: 17.5 | M83: G - Atlas
A84: 43381.162 | B84: 43381.321 | C84: EURUSD | D84: Sell | E84: 0.3 | F84: 1.15761 | G84: 1.13321 | H84: 1.15321 | I84: 1.15259 | J84: -1.14 | K84: 0 | L84: 6.2 | M84: G - Atlas
A85: 43381.242 | B85: 43381.303 | C85: GBPUSD | D85: Sell | E85: 0.3 | F85: 1.28914 | G85: 1.27354 | H85: 1.28354 | I85: 1.28296 | J85: -1.27 | K85: 0 | L85: 5.8 | M85: G - Atlas
A86: 43320.885 | B86: 43351.115 | C86: GBPUSD | D86: Sell | E86: 0.3 | F86: 1.28929 | G86: 1.26929 | H86: 1.28929 | I86: 1.28806 | J86: -1.27 | K86: 1.05 | L86: 12.3 | M86: G - Atlas
A87: 43320.753 | B87: 43320.806 | C87: GBPUSD | D87: Sell | E87: 0.3 | F87: 1.29396 | G87: 1.26376 | H87: 1.28876 | I87: 1.28775 | J87: -1.27 | K87: 0 | L87: 10.1 | M87: G - Atlas
A88: 43320.583 | B88: 43320.76 | C88: GBPUSD | D88: Sell | E88: 0.06 | F88: 1.2943 | G88: 1.27124 | H88: 1.28627 | I88: 1.28954 | J88: -0.25 | K88: 0 | L88: -32.7 | M88: G - Atlas
... A103: 43139.625 | B103: 43139.656 | C103: GBPUSD | D103: Sell | E103: 0.06 | F103: 1.31249 | G103: 1.28944 | H103: 1.30447 | I103: 1.30417 | J103: -0.26 | K103: 0 | L103: 3 | M103: G - Atlas
A104: 07/26/2018 04:00 | B104: 43139.418 | C104: GBPUSD | D104: Sell | E104: 0.3 | F104: 1.32599 | G104: 1.17049 | H104: 1.32049 | I104: 1.30761 | J104: -1.28 | K104: 3.51 | L104: 128.8 | M104: G - Atlas
A105: 07/30/2018 11:00 | B105: 43139.418 | C105: GBPUSD | D105: Sell | E105: 0.3 | F105: 1.31892 | G105: 1.16292 | H105: 1.31292 | I105: 1.30761 | J105: -1.28 | K105: 2.51 | L105: 53.1 | M105: G - Atlas

Sheet H
A1: H - Scorpion | B1: EURUSD | C1: GBPUSD | D1: USDJPY | E1: TOTAL PIPS | F1: TRADES | G1: TOTAL MONTANT
A2: 43313 | B2: =SUMPRODUCT((VALUE(TEXT($B$30:$B$140,"JJ/MM/AAAA"))=VALUE(TEXT(A2,"JJ/MM/AAAA")))*($C$30:$C$140=$B$1),$L$30:$L$140) -> #VALUE! | C2: =SUMPRODUCT((VALUE(TEXT($B$30:$B$140,"JJ/MM/AAAA"))=VALUE(TEXT(A2,"JJ/MM/AAAA")))*($C$30:$C$140=$C$1),$L$30:$L$140) -> #VALUE! | D2: =SUMPRODUCT((VALUE(TEXT($B$30:$B$140,"JJ/MM/AAAA"))=VALUE(TEXT(A2,"JJ/MM/AAAA")))*($C$30:$C$140=$D$1),$L$30:$L$140) -> #VALUE! | E2: =SUM(B2:D2) -> #VALUE! | G2: =(B2*8.6)+(C2*8.6)+(D2*7.86) -> #VALUE!
A3: 43314 | B3: =SUMPRODUCT((VALUE(TEXT($B$30:$B$140,"JJ/MM/AAAA"))=VALUE(TEXT(A3,"JJ/MM/AAAA")))*($C$30:$C$140=$B$1),$L$30:$L$140) -> #VALUE! | C3: =SUMPRODUCT((VALUE(TEXT($B$30:$B$140,"JJ/MM/AAAA"))=VALUE(TEXT(A3,"JJ/MM/AAAA")))*($C$30:$C$140=$C$1),$L$30:$L$140) -> #VALUE! | D3: =SUMPRODUCT((VALUE(TEXT($B$30:$B$140,"JJ/MM/AAAA"))=VALUE(TEXT(A3,"JJ/MM/AAAA")))*($C$30:$C$140=$D$1),$L$30:$L$140) -> #VALUE! | E3: =SUM(B3:D3) -> #VALUE! | G3: =(B3*8.6)+(C3*8.6)+(D3*7.86) -> #VALUE!
A4: 43315 | B4: =SUMPRODUCT((VALUE(TEXT($B$30:$B$140,"JJ/MM/AAAA"))=VALUE(TEXT(A4,"JJ/MM/AAAA")))*($C$30:$C$140=$B$1),$L$30:$L$140) -> #VALUE! | C4: =SUMPRODUCT((VALUE(TEXT($B$30:$B$140,"JJ/MM/AAAA"))=VALUE(TEXT(A4,"JJ/MM/AAAA")))*($C$30:$C$140=$C$1),$L$30:$L$140) -> #VALUE! | D4: =SUMPRODUCT((VALUE(TEXT($B$30:$B$140,"JJ/MM/AAAA"))=VALUE(TEXT(A4,"JJ/MM/AAAA")))*($C$30:$C$140=$D$1),$L$30:$L$140) -> #VALUE! | E4: =SUM(B4:D4) -> #VALUE! | G4: =(B4*8.6)+(C4*8.6)+(D4*7.86) -> #VALUE!
A5: 43318 | B5: =SUMPRODUCT((VALUE(TEXT($B$30:$B$140,"JJ/MM/AAAA"))=VALUE(TEXT(A5,"JJ/MM/AAAA")))*($C$30:$C$140=$B$1),$L$30:$L$140) -> #VALUE! | C5: =SUMPRODUCT((VALUE(TEXT($B$30:$B$140,"JJ/MM/AAAA"))=VALUE(TEXT(A5,"JJ/MM/AAAA")))*($C$30:$C$140=$C$1),$L$30:$L$140) -> #VALUE! | D5: =SUMPRODUCT((VALUE(TEXT($B$30:$B$140,"JJ/MM/AAAA"))=VALUE(TEXT(A5,"JJ/MM/AAAA")))*($C$30:$C$140=$D$1),$L$30:$L$140) -> #VALUE! | E5: =SUM(B5:D5) -> #VALUE! | G5: =(B5*8.6)+(C5*8.6)+(D5*7.86) -> #VALUE!
A6: 43319 | B6: =SUMPRODUCT((VALUE(TEXT($B$30:$B$140,"JJ/MM/AAAA"))=VALUE(TEXT(A6,"JJ/MM/AAAA")))*($C$30:$C$140=$B$1),$L$30:$L$140) -> #VALUE! | C6: =SUMPRODUCT((VALUE(TEXT($B$30:$B$140,"JJ/MM/AAAA"))=VALUE(TEXT(A6,"JJ/MM/AAAA")))*($C$30:$C$140=$C$1),$L$30:$L$140) -> #VALUE! | D6: =SUMPRODUCT((VALUE(TEXT($B$30:$B$140,"JJ/MM/AAAA"))=VALUE(TEXT(A6,"JJ/MM/AAAA")))*($C$30:$C$140=$D$1),$L$30:$L$140) -> #VALUE! | E6: =SUM(B6:D6) -> #VALUE! | G6: =(B6*8.6)+(C6*8.6)+(D6*7.86) -> #VALUE!
A7: 43320 | B7: =SUMPRODUCT((VALUE(TEXT($B$30:$B$140,"JJ/MM/AAAA"))=VALUE(TEXT(A7,"JJ/MM/AAAA")))*($C$30:$C$140=$B$1),$L$30:$L$140) -> #VALUE! | C7: =SUMPRODUCT((VALUE(TEXT($B$30:$B$140,"JJ/MM/AAAA"))=VALUE(TEXT(A7,"JJ/MM/AAAA")))*($C$30:$C$140=$C$1),$L$30:$L$140) -> #VALUE! | D7: =SUMPRODUCT((VALUE(TEXT($B$30:$B$140,"JJ/MM/AAAA"))=VALUE(TEXT(A7,"JJ/MM/AAAA")))*($C$30:$C$140=$D$1),$L$30:$L$140) -> #VALUE! | E7: =SUM(B7:D7) -> #VALUE! | G7: =(B7*8.6)+(C7*8.6)+(D7*7.86) -> #VALUE!
A8: 43321 | B8: =SUMPRODUCT((VALUE(TEXT($B$30:$B$140,"JJ/MM/AAAA"))=VALUE(TEXT(A8,"JJ/MM/AAAA")))*($C$30:$C$140=$B$1),$L$30:$L$140) -> #VALUE! | C8: =SUMPRODUCT((VALUE(TEXT($B$30:$B$140,"JJ/MM/AAAA"))=VALUE(TEXT(A8,"JJ/MM/AAAA")))*($C$30:$C$140=$C$1),$L$30:$L$140) -> #VALUE! | D8: =SUMPRODUCT((VALUE(TEXT($B$30:$B$140,"JJ/MM/AAAA"))=VALUE(TEXT(A8,"JJ/MM/AAAA")))*($C$30:$C$140=$D$1),$L$30:$L$140) -> #VALUE! | E8: =SUM(B8:D8) -> #VALUE! | G8: =(B8*8.6)+(C8*8.6)+(D8*7.86) -> #VALUE!
A9: 43322 | B9: =SUMPRODUCT((VALUE(TEXT($B$30:$B$140,"JJ/MM/AAAA"))=VALUE(TEXT(A9,"JJ/MM/AAAA")))*($C$30:$C$140=$B$1),$L$30:$L$140) -> #VALUE! | C9: =SUMPRODUCT((VALUE(TEXT($B$30:$B$140,"JJ/MM/AAAA"))=VALUE(TEXT(A9,"JJ/MM/AAAA")))*($C$30:$C$140=$C$1),$L$30:$L$140) -> #VALUE! | D9: =SUMPRODUCT((VALUE(TEXT($B$30:$B$140,"JJ/MM/AAAA"))=VALUE(TEXT(A9,"JJ/MM/AAAA")))*($C$30:$C$140=$D$1),$L$30:$L$140) -> #VALUE! | E9: =SUM(B9:D9) -> #VALUE! | G9: =(B9*8.6)+(C9*8.6)+(D9*7.86) -> #VALUE!
A10: 43325 | B10: =SUMPRODUCT((VALUE(TEXT($B$30:$B$140,"JJ/MM/AAAA"))=VALUE(TEXT(A10,"JJ/MM/AAAA")))*($C$30:$C$140=$B$1),$L$30:$L$140) -> #VALUE! | C10: =SUMPRODUCT((VALUE(TEXT($B$30:$B$140,"JJ/MM/AAAA"))=VALUE(TEXT(A10,"JJ/MM/AAAA")))*($C$30:$C$140=$C$1),$L$30:$L$140) -> #VALUE! | D10: =SUMPRODUCT((VALUE(TEXT($B$30:$B$140,"JJ/MM/AAAA"))=VALUE(TEXT(A10,"JJ/MM/AAAA")))*($C$30:$C$140=$D$1),$L$30:$L$140) -> #VALUE! | E10: =SUM(B10:D10) -> #VALUE! | G10: =(B10*8.6)+(C10*8.6)+(D10*7.86) -> #VALUE!
A11: 43326 | B11: =SUMPRODUCT((VALUE(TEXT($B$30:$B$140,"JJ/MM/AAAA"))=VALUE(TEXT(A11,"JJ/MM/AAAA")))*($C$30:$C$140=$B$1),$L$30:$L$140) -> #VALUE! | C11: =SUMPRODUCT((VALUE(TEXT($B$30:$B$140,"JJ/MM/AAAA"))=VALUE(TEXT(A11,"JJ/MM/AAAA")))*($C$30:$C$140=$C$1),$L$30:$L$140) -> #VALUE! | D11: =SUMPRODUCT((VALUE(TEXT($B$30:$B$140,"JJ/MM/AAAA"))=VALUE(TEXT(A11,"JJ/MM/AAAA")))*($C$30:$C$140=$D$1),$L$30:$L$140) -> #VALUE! | E11: =SUM(B11:D11) -> #VALUE! | G11: =(B11*8.6)+(C11*8.6)+(D11*7.86) -> #VALUE!
A12: 43327 | B12: =SUMPRODUCT((VALUE(TEXT($B$30:$B$140,"JJ/MM/AAAA"))=VALUE(TEXT(A12,"JJ/MM/AAAA")))*($C$30:$C$140=$B$1),$L$30:$L$140) -> #VALUE! | C12: =SUMPRODUCT((VALUE(TEXT($B$30:$B$140,"JJ/MM/AAAA"))=VALUE(TEXT(A12,"JJ/MM/AAAA")))*($C$30:$C$140=$C$1),$L$30:$L$140) -> #VALUE! | D12: =SUMPRODUCT((VALUE(TEXT($B$30:$B$140,"JJ/MM/AAAA"))=VALUE(TEXT(A12,"JJ/MM/AAAA")))*($C$30:$C$140=$D$1),$L$30:$L$140) -> #VALUE! | E12: =SUM(B12:D12) -> #VALUE! | G12: =(B12*8.6)+(C12*8.6)+(D12*7.86) -> #VALUE!
A13: 43328 | B13: =SUMPRODUCT((VALUE(TEXT($B$30:$B$140,"JJ/MM/AAAA"))=VALUE(TEXT(A13,"JJ/MM/AAAA")))*($C$30:$C$140=$B$1),$L$30:$L$140) -> #VALUE! | C13: =SUMPRODUCT((VALUE(TEXT($B$30:$B$140,"JJ/MM/AAAA"))=VALUE(TEXT(A13,"JJ/MM/AAAA")))*($C$30:$C$140=$C$1),$L$30:$L$140) -> #VALUE! | D13: =SUMPRODUCT((VALUE(TEXT($B$30:$B$140,"JJ/MM/AAAA"))=VALUE(TEXT(A13,"JJ/MM/AAAA")))*($C$30:$C$140=$D$1),$L$30:$L$140) -> #VALUE! | E13: =SUM(B13:D13) -> #VALUE! | G13: =(B13*8.6)+(C13*8.6)+(D13*7.86) -> #VALUE!
... A24: 43343 | B24: =SUMPRODUCT((VALUE(TEXT($B$30:$B$140,"JJ/MM/AAAA"))=VALUE(TEXT(A24,"JJ/MM/AAAA")))*($C$30:$C$140=$B$1),$L$30:$L$140) -> #VALUE! | C24: =SUMPRODUCT((VALUE(TEXT($B$30:$B$140,"JJ/MM/AAAA"))=VALUE(TEXT(A24,"JJ/MM/AAAA")))*($C$30:$C$140=$C$1),$L$30:$L$140) -> #VALUE! | D24: =SUMPRODUCT((VALUE(TEXT($B$30:$B$140,"JJ/MM/AAAA"))=VALUE(TEXT(A24,"JJ/MM/AAAA")))*($C$30:$C$140=$D$1),$L$30:$L$140) -> #VALUE! | E24: =SUM(B24:D24) -> #VALUE! | G24: =(B24*8.6)+(C24*8.6)+(D24*7.86) -> #VALUE!
A25: TOTAL | B25: =SUM(B2:B22) -> #VALUE! | C25: =SUM(C2:C22) -> #VALUE! | D25: =SUM(D2:D22) -> #VALUE! | E25: =SUM(E2:E22) -> #VALUE! | F25: =SUM(F2:F22) -> 0 | G25: =SUM(G2:G22) -> #VALUE!
A26: TOTAL TRADES | B26: 47 | C26: 22 | D26: 12 | F26: =SUM(B26:D26) -> 81
A27: TOTAL MONTANT | B27: =(B25*8.6) -> #VALUE! | C27: =(C25*8.6) -> #VALUE! | D27: =(D25*7.86) -> #VALUE!
A29: Open Date | B29: Close Date | C29: Symbol | D29: Action | E29: Lots | F29: SL | G29: TP | H29: Open Price | I29: Close Price | J29: Commission | K29: Swap | L29: Pips | M29: Comptes
A30: 08/30/2018 08:26 | B30: 08/31/2018 04:15 | C30: GBPUSD | D30: Buy | E30: 0.01 | F30: 1.29042 | G30: 0 | H30: 1.30162 | I30: 1.30232 | J30: -0.06 | K30: -0.07 | L30: 7 | M30: 0.57 | N30: 0.04 | O30: 00:19:49:49 | P30: 27.8 | Q30: 5h 30m | R30: 43.2 | S30: 2.38 | T30: 12.8 | U30: 1.28 | V30: -30.4 | W30: -3.04 | X30: 29.6 | Y30: 86.6 | Z30: -5.8 | AA30: -0.58
A31: 08/30/2018 08:00 | B31: 08/30/2018 15:15 | C31: GBPUSD | D31: Buy | E31: 0.03 | F31: 1.29713 | G31: 1.31243 | H31: 1.30283 | I31: 1.30269 | J31: -0.17 | K31: 0 | L31: -1.4 | M31: -0.59 | N31: -0.05 | O31: 00:07:15:00 | P31: 1 | Q31: 4m | R31: 38.9 | S31: 43.29 | T31: 0.9 | U31: 0.27 | V31: -38.9 | W31: -11.67 | X31: 2.3 | Y31: 94.2 | Z31: -2.3 | AA31: -0.69
A32: 08/30/2018 11:41 | B32: 08/30/2018 12:39 | C32: GBPUSD | D32: Buy | E32: 0.01 | F32: 1.2893 | G32: 1.3142 | H32: 1.2995 | I32: 1.30162 | J32: -0.06 | K32: 0 | L32: 21.2 | M32: 2.06 | N32: 0.16 | O32: 00:00:57:57 | P32: 1.8 | Q32: 1m | R32: 0 | S32: 0.05 | T32: 21.2 | U32: 2.12 | V32: 0 | W32: 0 | X32: 100 | Y32: 100 | Z32: 0 | AA32: 0
A33: 08/30/2018 01:02 | B33: 08/30/2018 11:30 | C33: GBPUSD | D33: Sell | E33: 0.01 | F33: 1.33646 | G33: 0 | H33: 1.30316 | I33: 1.29983 | J33: -0.06 | K33: 0 | L33: 33.3 | M33: 3.27 | N33: 0.25 | O33: 00:10:28:27 | P33: 81.1 | Q33: 8h 29m | R33: 26.6 | S33: 0.23 | T33: 42.2 | U33: 4.22 | V33: -9.8 | W33: -0.98 | X33: 81.2 | Y33: 82.9 | Z33: -8.9 | AA33: -0.89
A34: 08/29/2018 17:31 | B34: 08/30/2018 11:30 | C34: GBPUSD | D34: Buy | E34: 0.01 | F34: 1.29488 | G34: 0 | H34: 1.29878 | I34: 1.29907 | J34: -0.06 | K34: -0.2 | L34: 2.9 | M34: 0.03 | N34: 0 | O34: 00:17:58:53 | P34: 100 | Q34: 17h 58m | R34: 52 | S34: 0.02 | T34: 53.6 | U34: 5.36 | V34: 0 | W34: 0 | X34: 100 | Y34: 5.4 | Z34: -50.7 | AA34: -5.07
A35: 08/30/2018 08:30 | B35: 08/30/2018 10:10 | C35: GBPUSD | D35: Buy | E35: 0.03 | F35: 1.30336 | G35: 1.31233 | H35: 1.30156 | I35: 1.30412 | J35: -0.17 | K35: 0 | L35: 25.6 | M35: 7.51 | N35: 0.59 | O35: 00:01:40:00 | P35: 1 | Q35: 1m | R35: 0 | S35: 0.04 | T35: 25.6 | U35: 7.68 | V35: 0 | W35: 0 | X35: 100 | Y35: 100 | Z35: 0 | AA35: 0
A36: 08/30/2018 04:46 | B36: 08/30/2018 10:04 | C36: EURUSD | D36: Buy | E36: 0.01 | F36: 1.1602 | G36: 1.1875 | H36: 1.1699 | I36: 1.17133 | J36: -0.06 | K36: 0 | L36: 14.3 | M36: 1.37 | N36: 0.11 | O36: 00:05:18:14 | P36: 67.4 | Q36: 3h 34m | R36: 17 | S36: 0.92 | T36: 14.3 | U36: 1.43 | V36: -13.2 | W36: -1.32 | X36: 52 | Y36: 100 | Z36: 0 | AA36: 0
A37: 08/29/2018 17:31 | B37: 08/29/2018 22:57 | C37: GBPUSD | D37: Buy | E37: 0.01 | F37: 1.29088 | G37: 0 | H37: 1.29868 | I37: 1.30263 | J37: -0.06 | K37: 0 | L37: 39.5 | M37: 3.89 | N37: 0.31 | O37: 00:05:25:52 | P37: 100 | Q37: 5h 25m | R37: 8.4 | S37: 0.02 | T37: 40.5 | U37: 4.05 | V37: 0 | W37: 0 | X37: 100 | Y37: 97.5 | Z37: -1 | AA37: -0.1
A38: 08/29/2018 17:31 | B38: 08/29/2018 21:54 | C38: GBPUSD | D38: Buy | E38: 0.01 | F38: 1.30221 | G38: 0 | H38: 1.29891 | I38: 1.30221 | J38: -0.06 | K38: 0 | L38: 33 | M38: 3.24 | N38: 0.26 | O38: 00:04:23:49 | P38: 100 | Q38: 4h 23m | R38: 8.4 | S38: 0.03 | T38: 33 | U38: 3.3 | V38: 0 | W38: 0 | X38: 100 | Y38: 100 | Z38: 0 | AA38: 0
A39: 08/29/2018 17:01 | B39: 08/29/2018 18:43 | C39: GBPUSD | D39: Buy | E39: 0.01 | F39: 1.28996 | G39: 0 | H39: 1.29536 | I39: 1.30087 | J39: -0.06 | K39: 0 | L39: 55.1 | M39: 5.45 | N39: 0.43 | O39: 00:01:41:59 | P39: 1 | Q39: 1m | R39: 0 | S39: 0.02 | T39: 55.1 | U39: 5.51 | V39: 0 | W39: 0 | X39: 100 | Y39: 100 | Z39: 0 | AA39: 0
A40: 08/27/2018 05:50 | B40: 08/29/2018 17:57 | C40: USDJPY | D40: Sell | E40: 0.01 | F40: 111.58 | G40: 0 | H40: 110.97 | I40: 111.58 | J40: -0.06 | K40: -0.12 | L40: -61 | M40: -5.65 | N40: -0.45 | O40: 02:12:06:42 | P40: 0.5 | Q40: 18m | R40: 64.1 | S40: 48.31 | T40: 1.3 | U40: 0.117 | V40: -62.8 | W40: -5.652 | X40: 2 | Y40: 2.8 | Z40: -62.3 | AA40: -5.61
A41: 08/28/2018 17:52 | B41: 08/29/2018 16:59 | C41: GBPUSD | D41: Sell | E41: 0.01 | F41: 1.29536 | G41: 0 | H41: 1.28756 | I41: 1.29537 | J41: -0.06 | K41: 0.03 | L41: -78.1 | M41: -7.84 | N41: -0.61 | O41: 00:23:07:23 | P41: 66.5 | Q41: 15h 22m | R41: 106.4 | S41: 2.76 | T41: 28.3 | U41: 2.83 | V41: -78.1 | W41: -7.81 | X41: 26.6 | Y41: 0 | Z41: -106.4 | AA41: -10.64
... A115: 08/13/2018 08:19 | B115: 08/13/2018 10:33 | C115: EURUSD | D115: Sell | E115: 0.01 | F115: 1.1486 | G115: 1.1213 | H115: 1.1389 | I115: 1.1372 | J115: -0.06 | K115: 0 | L115: 17 | M115: 1.64 | N115: 0.13 | O115: 00:02:14:53 | P115: 0.8 | Q115: 1m | R115: 0 | S115: 0.06 | T115: 17 | U115: 1.7 | V115: 0 | W115: 0 | X115: 100 | Y115: 100 | Z115: 0 | AA115: 0
A116: 43320.435 | B116: 08/13/2018 06:01 | C116: USDJPY | D116: Sell | E116: 0.01 | F116: 110.138 | G116: 0 | H116: 110.858 | I116: 110.138 | J116: -0.06 | K116: -0.29 | L116: 72 | M116: 6.19 | N116: 0.48 | O116: 04:19:35:00 | P116: 61.5 | Q116: 2d 23h | R116: 46.1 | S116: 0.45 | T116: 72 | U116: 6.48 | V116: -32.1 | W116: -2.889 | X116: 69.2 | Y116: 100 | Z116: 0 | AA116: 0
A117: 43320.435 | B117: 43381.763 | C117: USDJPY | D117: Sell | E117: 0.01 | F117: 111.467 | G117: 0 | H117: 110.857 | I117: 110.524 | J117: -0.06 | K117: -0.23 | L117: 33.3 | M117: 2.72 | N117: 0.21 | O117: 02:07:52:57 | P117: 21.4 | Q117: 11h 57m | R117: 46.2 | S117: 0.97 | T117: 33.5 | U117: 3.015 | V117: -32.4 | W117: -2.916 | X117: 50.8 | Y117: 99.7 | Z117: -0.2 | AA117: -0.02
A118: 43320.574 | B118: 43381.072 | C118: GBPUSD | D118: Sell | E118: 0.01 | F118: 1.294 | G118: 0 | H118: 1.2862 | I118: 1.28227 | J118: -0.06 | K118: 0.12 | L118: 39.3 | M118: 3.99 | N118: 0.31 | O118: 01:11:58:05 | P118: 32.1 | Q118: 11h 32m | R118: 64.7 | S118: 1.11 | T118: 41 | U118: 4.1 | V118: -45.6 | W118: -4.56 | X118: 47.3 | Y118: 98 | Z118: -1.7 | AA118: -0.17
A119: 43320.574 | B119: 43351.558 | C119: GBPUSD | D119: Sell | E119: 0.01 | F119: 1.29101 | G119: 0 | H119: 1.28621 | I119: 1.29105 | J119: -0.06 | K119: 0.09 | L119: -48.4 | M119: -4.81 | N119: -0.37 | O119: 00:23:37:47 | P119: 7.8 | Q119: 1h 50m | R119: 67.6 | S119: 2.52 | T119: 19.2 | U119: 1.92 | V119: -48.4 | W119: -4.84 | X119: 28.4 | Y119: 0 | Z119: -67.6 | AA119: -6.76
A120: 43320.622 | B120: 43351.558 | C120: GBPUSD | D120: Sell | E120: 0.01 | F120: 1.29092 | G120: 0 | H120: 1.28552 | I120: 1.29092 | J120: -0.06 | K120: 0.09 | L120: -54 | M120: -5.37 | N120: -0.41 | O120: 00:22:28:33 | P120: 3.8 | Q120: 51m | R120: 66.3 | S120: 4.39 | T120: 12.3 | U120: 1.23 | V120: -54 | W120: -5.4 | X120: 18.6 | Y120: 0 | Z120: -66.3 | AA120: -6.63
A121: 43320.574 | B121: 43351.554 | C121: GBPUSD | D121: Sell | E121: 0.01 | F121: 1.2901 | G121: 0 | H121: 1.2862 | I121: 1.29011 | J121: -0.06 | K121: 0.09 | L121: -39.1 | M121: -3.88 | N121: -0.3 | O121: 00:23:32:10 | P121: 7.9 | Q121: 1h 51m | R121: 59.5 | S121: 2.12 | T121: 19.1 | U121: 1.91 | V121: -40.4 | W121: -4.04 | X121: 32.1 | Y121: 2.2 | Z121: -58.2 | AA121: -5.82
A122: 43351.031 | B122: 43351.229 | C122: EURUSD | D122: Buy | E122: 0.01 | F122: 1.13949 | G122: 1.16929 | H122: 1.16119 | I122: 1.16115 | J122: -0.06 | K122: 0 | L122: -0.4 | M122: -0.1 | N122: -0.01 | O122: 00:04:44:57 | P122: 63.4 | Q122: 3h 0m | R122: 10.4 | S122: 11.56 | T122: 0.9 | U122: 0.09 | V122: -10.4 | W122: -1.04 | X122: 8 | Y122: 88.5 | Z122: -1.3 | AA122: -0.13
A123: 43320.756 | B123: 43351.185 | C123: GBPUSD | D123: Sell | E123: 0.01 | F123: 1.30003 | G123: 0 | H123: 1.28883 | I123: 1.28646 | J123: -0.06 | K123: 0.09 | L123: 23.7 | M123: 2.4 | N123: 0.19 | O123: 00:10:18:45 | P123: 88.6 | Q123: 9h 8m | R123: 12.9 | S123: 0.17 | T123: 34.3 | U123: 3.43 | V123: -5.7 | W123: -0.57 | X123: 85.7 | Y123: 73.5 | Z123: -10.6 | AA123: -1.06
A124: 43320.689 | B124: 43320.969 | C124: GBPUSD | D124: Sell | E124: 0.03 | F124: 1.29282 | G124: 1.27752 | H124: 1.28712 | I124: 1.28847 | J124: -0.17 | K124: 0 | L124: -13.5 | M124: -4.22 | N124: -0.33 | O124: 00:06:42:57 | P124: 0 | Q124: 0s | R124: 22.8 | S124: 22.83 | T124: 0 | U124: 0 | V124: -22.8 | W124: -6.84 | X124: 0 | Y124: 40.8 | Z124: -13.5 | AA124: -4.05
A125: 43289.17 | B125: 43320.456 | C125: EURUSD | D125: Sell | E125: 0.01 | F125: 1.16597 | G125: 1.13867 | H125: 1.15627 | I125: 1.16115 | J125: -0.06 | K125: 0.06 | L125: -48.8 | M125: -4.88 | N125: -0.37 | O125: 01:06:52:47 | P125: 6.5 | Q125: 2h 0m | R125: 75.6 | S125: 5.69 | T125: 11.3 | U125: 1.13 | V125: -64.3 | W125: -6.43 | X125: 14.9 | Y125: 20.5 | Z125: -60.1 | AA125: -6.01
A126: 43320.012 | B126: 43320.177 | C126: GBPUSD | D126: Sell | E126: 0.01 | F126: 1.31374 | G126: 1.28254 | H126: 1.29394 | I126: 1.29357 | J126: -0.06 | K126: 0 | L126: 3.7 | M126: 0.31 | N126: 0.02 | O126: 00:03:58:01 | P126: 86.2 | Q126: 3h 25m | R126: 4.3 | S126: 0.84 | T126: 5.1 | U126: 0.51 | V126: -4.3 | W126: -0.43 | X126: 54.3 | Y126: 85.1 | Z126: -1.4 | AA126: -0.14
A127: 43289.169 | B127: 43289.689 | C127: GBPUSD | D127: Sell | E127: 0.01 | F127: 1.31643 | G127: 1.28643 | H127: 1.29483 | I127: 1.29491 | J127: -0.06 | K127: 0 | L127: -0.8 | M127: -0.14 | N127: -0.01 | O127: 00:12:28:18 | P127: 39.7 | Q127: 4h 57m | R127: 32.8 | S127: 3 | T127: 8.2 | U127: 0.82 | V127: -24.6 | W127: -2.46 | X127: 25 | Y127: 72.6 | Z127: -9 | AA127: -0.9
A128: 43259.938 | B128: 43289.156 | C128: GBPUSD | D128: Sell | E128: 0.01 | F128: 1.32367 | G128: 1.27427 | H128: 1.29447 | I128: 1.29391 | J128: -0.06 | K128: 0.04 | L128: 5.6 | M128: 0.54 | N128: 0.04 | O128: 00:05:14:00 | P128: 93.7 | Q128: 4h 54m | R128: 4.1 | S128: 0.21 | T128: 6.3 | U128: 0.63 | V128: -1.3 | W128: -0.13 | X128: 82.9 | Y128: 90.8 | Z128: -0.7 | AA128: -0.07
... A138: 43108.552 | B138: 43108.883 | C138: USDJPY | D138: Buy | E138: 0.02 | F138: 111.483 | G138: 113.763 | H138: 111.943 | I138: 111.479 | J138: -0.11 | K138: 0 | L138: -46.4 | M138: -8.43 | N138: -0.65 | O138: 00:07:56:43 | P138: 7.4 | Q138: 35m | R138: 57.2 | S138: 12.32 | T138: 4.3 | U138: 0.774 | V138: -52.9 | W138: -9.522 | X138: 7.5 | Y138: 11.4 | Z138: -50.7 | AA138: -9.13
A139: 07/31/2018 20:32 | B139: 43108.271 | C139: USDJPY | D139: Buy | E139: 0.02 | F139: 111 | G139: 112.45 | H139: 111.81 | I139: 111.903 | J139: -0.11 | K139: 0.08 | L139: 9.3 | M139: 1.63 | N139: 0.12 | O139: 00:09:57:54 | P139: 82.5 | Q139: 8h 13m | R139: 19.6 | S139: 0.22 | T139: 28.9 | U139: 5.202 | V139: -6.3 | W139: -1.134 | X139: 82.1 | Y139: 44.3 | Z139: -19.6 | AA139: -3.53
A140: 07/31/2018 22:31 | B140: 43108.052 | C140: USDJPY | D140: Buy | E140: 0.02 | F140: 111.103 | G140: 112.363 | H140: 111.793 | I140: 111.877 | J140: -0.11 | K140: 0.08 | L140: 8.4 | M140: 1.47 | N140: 0.11 | O140: 00:02:44:01 | P140: 72.8 | Q140: 1h 59m | R140: 4.6 | S140: 0.55 | T140: 8.4 | U140: 1.512 | V140: -4.6 | W140: -0.828 | X140: 64.6 | Y140: 100 | Z140: 0 | AA140: 0

Sheet I 
A1: C - Scrptx Portfolio | B1: EURUSD | C1: GBPUSD | D1: USDJPY | E1: GBPJPY | F1: AUDUSD | G1: EURJPY | H1: TOTAL PIPS | I1: TRADES | J1: TOTAL MONTANT
A2: 43313 | B2: =SUMPRODUCT((VALUE(TEXT($B$30:$B$67,"JJ/MM/AAAA"))=VALUE(TEXT(A2,"JJ/MM/AAAA")))*($C$30:$C$67=$B$1),$L$30:$L$67) -> #VALUE! | C2: =SUMPRODUCT((VALUE(TEXT($B$30:$B$67,"JJ/MM/AAAA"))=VALUE(TEXT(A2,"JJ/MM/AAAA")))*($C$30:$C$67=$C$1),$L$30:$L$67) -> #VALUE! | D2: =SUMPRODUCT((VALUE(TEXT($B$30:$B$67,"JJ/MM/AAAA"))=VALUE(TEXT(A2,"JJ/MM/AAAA")))*($C$30:$C$67=$D$1),$L$30:$L$67) -> #VALUE! | E2: =SUMPRODUCT((VALUE(TEXT($B$30:$B$67,"JJ/MM/AAAA"))=VALUE(TEXT(A2,"JJ/MM/AAAA")))*($C$30:$C$67=$E$1),$L$30:$L$67) -> #VALUE! | F2: =SUMPRODUCT((VALUE(TEXT($B$30:$B$67,"JJ/MM/AAAA"))=VALUE(TEXT(A2,"JJ/MM/AAAA")))*($C$30:$C$67=$F$1),$L$30:$L$67) -> #VALUE! | G2: =SUMPRODUCT((VALUE(TEXT($B$30:$B$67,"JJ/MM/AAAA"))=VALUE(TEXT(A2,"JJ/MM/AAAA")))*($C$30:$C$67=$G$1),$L$30:$L$67) -> #VALUE! | H2: =SUM(B2:G2) -> #VALUE! | J2: =(B2*8.6)+(C2*8.6)+(D2*7.7)+(E2*7.8)+(F2*8.68)+(G2*7.6) -> #VALUE!
A3: 43314 | B3: =SUMPRODUCT((VALUE(TEXT($B$30:$B$67,"JJ/MM/AAAA"))=VALUE(TEXT(A3,"JJ/MM/AAAA")))*($C$30:$C$67=$B$1),$L$30:$L$67) -> #VALUE! | C3: =SUMPRODUCT((VALUE(TEXT($B$30:$B$67,"JJ/MM/AAAA"))=VALUE(TEXT(A3,"JJ/MM/AAAA")))*($C$30:$C$67=$C$1),$L$30:$L$67) -> #VALUE! | D3: =SUMPRODUCT((VALUE(TEXT($B$30:$B$67,"JJ/MM/AAAA"))=VALUE(TEXT(A3,"JJ/MM/AAAA")))*($C$30:$C$67=$D$1),$L$30:$L$67) -> #VALUE! | E3: =SUMPRODUCT((VALUE(TEXT($B$30:$B$67,"JJ/MM/AAAA"))=VALUE(TEXT(A3,"JJ/MM/AAAA")))*($C$30:$C$67=$E$1),$L$30:$L$67) -> #VALUE! | F3: =SUMPRODUCT((VALUE(TEXT($B$30:$B$67,"JJ/MM/AAAA"))=VALUE(TEXT(A3,"JJ/MM/AAAA")))*($C$30:$C$67=$F$1),$L$30:$L$67) -> #VALUE! | G3: =SUMPRODUCT((VALUE(TEXT($B$30:$B$67,"JJ/MM/AAAA"))=VALUE(TEXT(A3,"JJ/MM/AAAA")))*($C$30:$C$67=$G$1),$L$30:$L$67) -> #VALUE! | H3: =SUM(B3:G3) -> #VALUE! | J3: =(B3*8.6)+(C3*8.6)+(D3*7.7)+(E3*7.8)+(F3*8.68)+(G3*7.6) -> #VALUE!
A4: 43315 | B4: =SUMPRODUCT((VALUE(TEXT($B$30:$B$67,"JJ/MM/AAAA"))=VALUE(TEXT(A4,"JJ/MM/AAAA")))*($C$30:$C$67=$B$1),$L$30:$L$67) -> #VALUE! | C4: =SUMPRODUCT((VALUE(TEXT($B$30:$B$67,"JJ/MM/AAAA"))=VALUE(TEXT(A4,"JJ/MM/AAAA")))*($C$30:$C$67=$C$1),$L$30:$L$67) -> #VALUE! | D4: =SUMPRODUCT((VALUE(TEXT($B$30:$B$67,"JJ/MM/AAAA"))=VALUE(TEXT(A4,"JJ/MM/AAAA")))*($C$30:$C$67=$D$1),$L$30:$L$67) -> #VALUE! | E4: =SUMPRODUCT((VALUE(TEXT($B$30:$B$67,"JJ/MM/AAAA"))=VALUE(TEXT(A4,"JJ/MM/AAAA")))*($C$30:$C$67=$E$1),$L$30:$L$67) -> #VALUE! | F4: =SUMPRODUCT((VALUE(TEXT($B$30:$B$67,"JJ/MM/AAAA"))=VALUE(TEXT(A4,"JJ/MM/AAAA")))*($C$30:$C$67=$F$1),$L$30:$L$67) -> #VALUE! | G4: =SUMPRODUCT((VALUE(TEXT($B$30:$B$67,"JJ/MM/AAAA"))=VALUE(TEXT(A4,"JJ/MM/AAAA")))*($C$30:$C$67=$G$1),$L$30:$L$67) -> #VALUE! | H4: =SUM(B4:G4) -> #VALUE! | J4: =(B4*8.6)+(C4*8.6)+(D4*7.7)+(E4*7.8)+(F4*8.68)+(G4*7.6) -> #VALUE!
A5: 43318 | B5: =SUMPRODUCT((VALUE(TEXT($B$30:$B$67,"JJ/MM/AAAA"))=VALUE(TEXT(A5,"JJ/MM/AAAA")))*($C$30:$C$67=$B$1),$L$30:$L$67) -> #VALUE! | C5: =SUMPRODUCT((VALUE(TEXT($B$30:$B$67,"JJ/MM/AAAA"))=VALUE(TEXT(A5,"JJ/MM/AAAA")))*($C$30:$C$67=$C$1),$L$30:$L$67) -> #VALUE! | D5: =SUMPRODUCT((VALUE(TEXT($B$30:$B$67,"JJ/MM/AAAA"))=VALUE(TEXT(A5,"JJ/MM/AAAA")))*($C$30:$C$67=$D$1),$L$30:$L$67) -> #VALUE! | E5: =SUMPRODUCT((VALUE(TEXT($B$30:$B$67,"JJ/MM/AAAA"))=VALUE(TEXT(A5,"JJ/MM/AAAA")))*($C$30:$C$67=$E$1),$L$30:$L$67) -> #VALUE! | F5: =SUMPRODUCT((VALUE(TEXT($B$30:$B$67,"JJ/MM/AAAA"))=VALUE(TEXT(A5,"JJ/MM/AAAA")))*($C$30:$C$67=$F$1),$L$30:$L$67) -> #VALUE! | G5: =SUMPRODUCT((VALUE(TEXT($B$30:$B$67,"JJ/MM/AAAA"))=VALUE(TEXT(A5,"JJ/MM/AAAA")))*($C$30:$C$67=$G$1),$L$30:$L$67) -> #VALUE! | H5: =SUM(B5:G5) -> #VALUE! | J5: =(B5*8.6)+(C5*8.6)+(D5*7.7)+(E5*7.8)+(F5*8.68)+(G5*7.6) -> #VALUE!
A6: 43319 | B6: =SUMPRODUCT((VALUE(TEXT($B$30:$B$67,"JJ/MM/AAAA"))=VALUE(TEXT(A6,"JJ/MM/AAAA")))*($C$30:$C$67=$B$1),$L$30:$L$67) -> #VALUE! | C6: =SUMPRODUCT((VALUE(TEXT($B$30:$B$67,"JJ/MM/AAAA"))=VALUE(TEXT(A6,"JJ/MM/AAAA")))*($C$30:$C$67=$C$1),$L$30:$L$67) -> #VALUE! | D6: =SUMPRODUCT((VALUE(TEXT($B$30:$B$67,"JJ/MM/AAAA"))=VALUE(TEXT(A6,"JJ/MM/AAAA")))*($C$30:$C$67=$D$1),$L$30:$L$67) -> #VALUE! | E6: =SUMPRODUCT((VALUE(TEXT($B$30:$B$67,"JJ/MM/AAAA"))=VALUE(TEXT(A6,"JJ/MM/AAAA")))*($C$30:$C$67=$E$1),$L$30:$L$67) -> #VALUE! | F6: =SUMPRODUCT((VALUE(TEXT($B$30:$B$67,"JJ/MM/AAAA"))=VALUE(TEXT(A6,"JJ/MM/AAAA")))*($C$30:$C$67=$F$1),$L$30:$L$67) -> #VALUE! | G6: =SUMPRODUCT((VALUE(TEXT($B$30:$B$67,"JJ/MM/AAAA"))=VALUE(TEXT(A6,"JJ/MM/AAAA")))*($C$30:$C$67=$G$1),$L$30:$L$67) -> #VALUE! | H6: =SUM(B6:G6) -> #VALUE! | J6: =(B6*8.6)+(C6*8.6)+(D6*7.7)+(E6*7.8)+(F6*8.68)+(G6*7.6) -> #VALUE!
A7: 43320 | B7: =SUMPRODUCT((VALUE(TEXT($B$30:$B$67,"JJ/MM/AAAA"))=VALUE(TEXT(A7,"JJ/MM/AAAA")))*($C$30:$C$67=$B$1),$L$30:$L$67) -> #VALUE! | C7: =SUMPRODUCT((VALUE(TEXT($B$30:$B$67,"JJ/MM/AAAA"))=VALUE(TEXT(A7,"JJ/MM/AAAA")))*($C$30:$C$67=$C$1),$L$30:$L$67) -> #VALUE! | D7: =SUMPRODUCT((VALUE(TEXT($B$30:$B$67,"JJ/MM/AAAA"))=VALUE(TEXT(A7,"JJ/MM/AAAA")))*($C$30:$C$67=$D$1),$L$30:$L$67) -> #VALUE! | E7: =SUMPRODUCT((VALUE(TEXT($B$30:$B$67,"JJ/MM/AAAA"))=VALUE(TEXT(A7,"JJ/MM/AAAA")))*($C$30:$C$67=$E$1),$L$30:$L$67) -> #VALUE! | F7: =SUMPRODUCT((VALUE(TEXT($B$30:$B$67,"JJ/MM/AAAA"))=VALUE(TEXT(A7,"JJ/MM/AAAA")))*($C$30:$C$67=$F$1),$L$30:$L$67) -> #VALUE! | G7: =SUMPRODUCT((VALUE(TEXT($B$30:$B$67,"JJ/MM/AAAA"))=VALUE(TEXT(A7,"JJ/MM/AAAA")))*($C$30:$C$67=$G$1),$L$30:$L$67) -> #VALUE! | H7: =SUM(B7:G7) -> #VALUE! | J7: =(B7*8.6)+(C7*8.6)+(D7*7.7)+(E7*7.8)+(F7*8.68)+(G7*7.6) -> #VALUE!
A8: 43321 | B8: =SUMPRODUCT((VALUE(TEXT($B$30:$B$67,"JJ/MM/AAAA"))=VALUE(TEXT(A8,"JJ/MM/AAAA")))*($C$30:$C$67=$B$1),$L$30:$L$67) -> #VALUE! | C8: =SUMPRODUCT((VALUE(TEXT($B$30:$B$67,"JJ/MM/AAAA"))=VALUE(TEXT(A8,"JJ/MM/AAAA")))*($C$30:$C$67=$C$1),$L$30:$L$67) -> #VALUE! | D8: =SUMPRODUCT((VALUE(TEXT($B$30:$B$67,"JJ/MM/AAAA"))=VALUE(TEXT(A8,"JJ/MM/AAAA")))*($C$30:$C$67=$D$1),$L$30:$L$67) -> #VALUE! | E8: =SUMPRODUCT((VALUE(TEXT($B$30:$B$67,"JJ/MM/AAAA"))=VALUE(TEXT(A8,"JJ/MM/AAAA")))*($C$30:$C$67=$E$1),$L$30:$L$67) -> #VALUE! | F8: =SUMPRODUCT((VALUE(TEXT($B$30:$B$67,"JJ/MM/AAAA"))=VALUE(TEXT(A8,"JJ/MM/AAAA")))*($C$30:$C$67=$F$1),$L$30:$L$67) -> #VALUE! | G8: =SUMPRODUCT((VALUE(TEXT($B$30:$B$67,"JJ/MM/AAAA"))=VALUE(TEXT(A8,"JJ/MM/AAAA")))*($C$30:$C$67=$G$1),$L$30:$L$67) -> #VALUE! | H8: =SUM(B8:G8) -> #VALUE! | J8: =(B8*8.6)+(C8*8.6)+(D8*7.7)+(E8*7.8)+(F8*8.68)+(G8*7.6) -> #VALUE!
A9: 43322 | B9: =SUMPRODUCT((VALUE(TEXT($B$30:$B$67,"JJ/MM/AAAA"))=VALUE(TEXT(A9,"JJ/MM/AAAA")))*($C$30:$C$67=$B$1),$L$30:$L$67) -> #VALUE! | C9: =SUMPRODUCT((VALUE(TEXT($B$30:$B$67,"JJ/MM/AAAA"))=VALUE(TEXT(A9,"JJ/MM/AAAA")))*($C$30:$C$67=$C$1),$L$30:$L$67) -> #VALUE! | D9: =SUMPRODUCT((VALUE(TEXT($B$30:$B$67,"JJ/MM/AAAA"))=VALUE(TEXT(A9,"JJ/MM/AAAA")))*($C$30:$C$67=$D$1),$L$30:$L$67) -> #VALUE! | E9: =SUMPRODUCT((VALUE(TEXT($B$30:$B$67,"JJ/MM/AAAA"))=VALUE(TEXT(A9,"JJ/MM/AAAA")))*($C$30:$C$67=$E$1),$L$30:$L$67) -> #VALUE! | F9: =SUMPRODUCT((VALUE(TEXT($B$30:$B$67,"JJ/MM/AAAA"))=VALUE(TEXT(A9,"JJ/MM/AAAA")))*($C$30:$C$67=$F$1),$L$30:$L$67) -> #VALUE! | G9: =SUMPRODUCT((VALUE(TEXT($B$30:$B$67,"JJ/MM/AAAA"))=VALUE(TEXT(A9,"JJ/MM/AAAA")))*($C$30:$C$67=$G$1),$L$30:$L$67) -> #VALUE! | H9: =SUM(B9:G9) -> #VALUE! | J9: =(B9*8.6)+(C9*8.6)+(D9*7.7)+(E9*7.8)+(F9*8.68)+(G9*7.6) -> #VALUE!
A10: 43325 | B10: =SUMPRODUCT((VALUE(TEXT($B$30:$B$67,"JJ/MM/AAAA"))=VALUE(TEXT(A10,"JJ/MM/AAAA")))*($C$30:$C$67=$B$1),$L$30:$L$67) -> #VALUE! | C10: =SUMPRODUCT((VALUE(TEXT($B$30:$B$67,"JJ/MM/AAAA"))=VALUE(TEXT(A10,"JJ/MM/AAAA")))*($C$30:$C$67=$C$1),$L$30:$L$67) -> #VALUE! | D10: =SUMPRODUCT((VALUE(TEXT($B$30:$B$67,"JJ/MM/AAAA"))=VALUE(TEXT(A10,"JJ/MM/AAAA")))*($C$30:$C$67=$D$1),$L$30:$L$67) -> #VALUE! | E10: =SUMPRODUCT((VALUE(TEXT($B$30:$B$67,"JJ/MM/AAAA"))=VALUE(TEXT(A10,"JJ/MM/AAAA")))*($C$30:$C$67=$E$1),$L$30:$L$67) -> #VALUE! | F10: =SUMPRODUCT((VALUE(TEXT($B$30:$B$67,"JJ/MM/AAAA"))=VALUE(TEXT(A10,"JJ/MM/AAAA")))*($C$30:$C$67=$F$1),$L$30:$L$67) -> #VALUE! | G10: =SUMPRODUCT((VALUE(TEXT($B$30:$B$67,"JJ/MM/AAAA"))=VALUE(TEXT(A10,"JJ/MM/AAAA")))*($C$30:$C$67=$G$1),$L$30:$L$67) -> #VALUE! | H10: =SUM(B10:G10) -> #VALUE! | J10: =(B10*8.6)+(C10*8.6)+(D10*7.7)+(E10*7.8)+(F10*8.68)+(G10*7.6) -> #VALUE!
A11: 43326 | B11: =SUMPRODUCT((VALUE(TEXT($B$30:$B$67,"JJ/MM/AAAA"))=VALUE(TEXT(A11,"JJ/MM/AAAA")))*($C$30:$C$67=$B$1),$L$30:$L$67) -> #VALUE! | C11: =SUMPRODUCT((VALUE(TEXT($B$30:$B$67,"JJ/MM/AAAA"))=VALUE(TEXT(A11,"JJ/MM/AAAA")))*($C$30:$C$67=$C$1),$L$30:$L$67) -> #VALUE! | D11: =SUMPRODUCT((VALUE(TEXT($B$30:$B$67,"JJ/MM/AAAA"))=VALUE(TEXT(A11,"JJ/MM/AAAA")))*($C$30:$C$67=$D$1),$L$30:$L$67) -> #VALUE! | E11: =SUMPRODUCT((VALUE(TEXT($B$30:$B$67,"JJ/MM/AAAA"))=VALUE(TEXT(A11,"JJ/MM/AAAA")))*($C$30:$C$67=$E$1),$L$30:$L$67) -> #VALUE! | F11: =SUMPRODUCT((VALUE(TEXT($B$30:$B$67,"JJ/MM/AAAA"))=VALUE(TEXT(A11,"JJ/MM/AAAA")))*($C$30:$C$67=$F$1),$L$30:$L$67) -> #VALUE! | G11: =SUMPRODUCT((VALUE(TEXT($B$30:$B$67,"JJ/MM/AAAA"))=VALUE(TEXT(A11,"JJ/MM/AAAA")))*($C$30:$C$67=$G$1),$L$30:$L$67) -> #VALUE! | H11: =SUM(B11:G11) -> #VALUE! | J11: =(B11*8.6)+(C11*8.6)+(D11*7.7)+(E11*7.8)+(F11*8.68)+(G11*7.6) -> #VALUE!
A12: 43327 | B12: =SUMPRODUCT((VALUE(TEXT($B$30:$B$67,"JJ/MM/AAAA"))=VALUE(TEXT(A12,"JJ/MM/AAAA")))*($C$30:$C$67=$B$1),$L$30:$L$67) -> #VALUE! | C12: =SUMPRODUCT((VALUE(TEXT($B$30:$B$67,"JJ/MM/AAAA"))=VALUE(TEXT(A12,"JJ/MM/AAAA")))*($C$30:$C$67=$C$1),$L$30:$L$67) -> #VALUE! | D12: =SUMPRODUCT((VALUE(TEXT($B$30:$B$67,"JJ/MM/AAAA"))=VALUE(TEXT(A12,"JJ/MM/AAAA")))*($C$30:$C$67=$D$1),$L$30:$L$67) -> #VALUE! | E12: =SUMPRODUCT((VALUE(TEXT($B$30:$B$67,"JJ/MM/AAAA"))=VALUE(TEXT(A12,"JJ/MM/AAAA")))*($C$30:$C$67=$E$1),$L$30:$L$67) -> #VALUE! | F12: =SUMPRODUCT((VALUE(TEXT($B$30:$B$67,"JJ/MM/AAAA"))=VALUE(TEXT(A12,"JJ/MM/AAAA")))*($C$30:$C$67=$F$1),$L$30:$L$67) -> #VALUE! | G12: =SUMPRODUCT((VALUE(TEXT($B$30:$B$67,"JJ/MM/AAAA"))=VALUE(TEXT(A12,"JJ/MM/AAAA")))*($C$30:$C$67=$G$1),$L$30:$L$67) -> #VALUE! | H12: =SUM(B12:G12) -> #VALUE! | J12: =(B12*8.6)+(C12*8.6)+(D12*7.7)+(E12*7.8)+(F12*8.68)+(G12*7.6) -> #VALUE!
A13: 43328 | B13: =SUMPRODUCT((VALUE(TEXT($B$30:$B$67,"JJ/MM/AAAA"))=VALUE(TEXT(A13,"JJ/MM/AAAA")))*($C$30:$C$67=$B$1),$L$30:$L$67) -> #VALUE! | C13: =SUMPRODUCT((VALUE(TEXT($B$30:$B$67,"JJ/MM/AAAA"))=VALUE(TEXT(A13,"JJ/MM/AAAA")))*($C$30:$C$67=$C$1),$L$30:$L$67) -> #VALUE! | D13: =SUMPRODUCT((VALUE(TEXT($B$30:$B$67,"JJ/MM/AAAA"))=VALUE(TEXT(A13,"JJ/MM/AAAA")))*($C$30:$C$67=$D$1),$L$30:$L$67) -> #VALUE! | E13: =SUMPRODUCT((VALUE(TEXT($B$30:$B$67,"JJ/MM/AAAA"))=VALUE(TEXT(A13,"JJ/MM/AAAA")))*($C$30:$C$67=$E$1),$L$30:$L$67) -> #VALUE! | F13: =SUMPRODUCT((VALUE(TEXT($B$30:$B$67,"JJ/MM/AAAA"))=VALUE(TEXT(A13,"JJ/MM/AAAA")))*($C$30:$C$67=$F$1),$L$30:$L$67) -> #VALUE! | G13: =SUMPRODUCT((VALUE(TEXT($B$30:$B$67,"JJ/MM/AAAA"))=VALUE(TEXT(A13,"JJ/MM/AAAA")))*($C$30:$C$67=$G$1),$L$30:$L$67) -> #VALUE! | H13: =SUM(B13:G13) -> #VALUE! | J13: =(B13*8.6)+(C13*8.6)+(D13*7.7)+(E13*7.8)+(F13*8.68)+(G13*7.6) -> #VALUE!
... A24: 43343 | B24: =SUMPRODUCT((VALUE(TEXT($B$30:$B$67,"JJ/MM/AAAA"))=VALUE(TEXT(A24,"JJ/MM/AAAA")))*($C$30:$C$67=$B$1),$L$30:$L$67) -> #VALUE! | C24: =SUMPRODUCT((VALUE(TEXT($B$30:$B$67,"JJ/MM/AAAA"))=VALUE(TEXT(A24,"JJ/MM/AAAA")))*($C$30:$C$67=$C$1),$L$30:$L$67) -> #VALUE! | D24: =SUMPRODUCT((VALUE(TEXT($B$30:$B$67,"JJ/MM/AAAA"))=VALUE(TEXT(A24,"JJ/MM/AAAA")))*($C$30:$C$67=$D$1),$L$30:$L$67) -> #VALUE! | E24: =SUMPRODUCT((VALUE(TEXT($B$30:$B$67,"JJ/MM/AAAA"))=VALUE(TEXT(A24,"JJ/MM/AAAA")))*($C$30:$C$67=$E$1),$L$30:$L$67) -> #VALUE! | F24: =SUMPRODUCT((VALUE(TEXT($B$30:$B$67,"JJ/MM/AAAA"))=VALUE(TEXT(A24,"JJ/MM/AAAA")))*($C$30:$C$67=$F$1),$L$30:$L$67) -> #VALUE! | G24: =SUMPRODUCT((VALUE(TEXT($B$30:$B$67,"JJ/MM/AAAA"))=VALUE(TEXT(A24,"JJ/MM/AAAA")))*($C$30:$C$67=$G$1),$L$30:$L$67) -> #VALUE! | H24: =SUM(B24:G24) -> #VALUE! | J24: =(B24*8.6)+(C24*8.6)+(D24*7.7)+(E24*7.8)+(F24*8.68)+(G24*7.6) -> #VALUE!
A25: TOTAL | B25: =SUM(B2:B24) -> #VALUE! | C25: =SUM(C2:C24) -> #VALUE! | D25: =SUM(D2:D24) -> #VALUE! | E25: =SUM(E2:E24) -> #VALUE! | F25: =SUM(F2:F24) -> #VALUE! | G25: =SUM(G2:G24) -> #VALUE! | H25: =SUM(H2:H24) -> #VALUE! | I25: =SUM(I2:I24) -> 0 | J25: =SUM(J2:J24) -> #VALUE!
A26: TOTAL TRADES | I26: =SUM(B26:F26) -> 0
A27: TOTAL MONTANT | B27: =(B25*8.6) -> #VALUE! | C27: =(C25*8.6) -> #VALUE! | D27: =(D25*6) -> #VALUE! | E27: =(E25*7.8) -> #VALUE! | F27: =(F25*11.42) -> #VALUE! | G27: =(G25*11.42) -> #VALUE!
A29: Open Date | B29: Close Date | C29: Symbol | D29: Action | E29: Lots | F29: SL | G29: TP | H29: Open Price | I29: Close Price | J29: Commission | K29: Swap | L29: Pips | M29: Comptes
A30: 08/29/2018 21:59 | B30: 08/31/2018 15:18 | C30: GBPJPY | D30: Buy | E30: 0.04 | F30: 144.164 | G30: 146.405 | H30: 144.164 | I30: 144.15 | J30: -0.32 | K30: 0.16 | L30: -1.4 | M30: -0.66 | N30: 0 | O30: 01:17:19:20 | P30: 73 | Q30: 1d 6h | R30: 157 | S30: 0.12 | T30: 140.3 | U30: 50.508 | V30: -16.7 | W30: -6.012 | X30: 89.4 | Y30: 9.7 | Z30: -141.7 | AA30: -51.01
A31: 08/30/2018 21:31 | B31: 08/31/2018 05:05 | C31: EURUSD | D31: Sell | E31: 0.1 | F31: 1.16838 | G31: 1.15953 | H31: 1.16516 | I31: 1.1669 | J31: -0.8 | K31: 0 | L31: -17.4 | M31: -18.2 | N31: -0.13 | O31: 00:07:33:41 | P31: 0 | Q31: 0s | R31: 17.4 | S31: 17.42 | T31: 0 | U31: 0 | V31: -17.4 | W31: -17.4 | X31: 0 | Y31: 0 | Z31: -17.4 | AA31: -17.4
A32: 08/29/2018 22:57 | B32: 08/30/2018 21:16 | C32: USDJPY | D32: Buy | E32: 0.11 | F32: 111.334 | G32: 112.069 | H32: 111.655 | I32: 111.34 | J32: -0.88 | K32: 1.29 | L32: -31.5 | M32: -30.71 | N32: -0.21 | O32: 00:22:18:21 | P32: 8.7 | Q32: 1h 56m | R32: 37.1 | S32: 5.63 | T32: 5.6 | U32: 5.544 | V32: -31.5 | W32: -31.185 | X32: 15.1 | Y32: 0 | Z32: -37.1 | AA32: -36.73
A33: 08/29/2018 22:00 | B33: 08/30/2018 19:59 | C33: USDJPY | D33: Buy | E33: 0.11 | F33: 111.227 | G33: 111.905 | H33: 111.551 | I33: 111.434 | J33: -0.88 | K33: 1.29 | L33: -11.7 | M33: -11.14 | N33: -0.08 | O33: 00:21:59:17 | P33: 42.9 | Q33: 9h 25m | R33: 31.7 | S33: 0.79 | T33: 17.7 | U33: 17.523 | V33: -14 | W33: -13.86 | X33: 55.8 | Y33: 7.3 | Z33: -29.4 | AA33: -29.11
A34: 08/29/2018 21:59 | B34: 08/30/2018 14:59 | C34: EURJPY | D34: Buy | E34: 0.08 | F34: 130.271 | G34: 131.006 | H34: 130.271 | I34: 130.692 | J34: -0.64 | K34: -0.47 | L34: 42.1 | M34: 29.05 | N34: 0.2 | O34: 00:17:00:31 | P34: 100 | Q34: 17h 0m | R34: 32.4 | S34: 0.02 | T34: 53.3 | U34: 38.376 | V34: 0 | W34: 0 | X34: 100 | Y34: 79 | Z34: -11.2 | AA34: -8.06
A35: 08/23/2018 13:42 | B35: 08/30/2018 03:05 | C35: GBPUSD | D35: Buy | E35: 0.03 | F35: 1.28755 | G35: 1.30239 | H35: 1.28755 | I35: 1.30239 | J35: -0.24 | K35: -0.84 | L35: 148.4 | M35: 43.44 | N35: 0.3 | O35: 06:13:23:25 | P35: 29.9 | Q35: 1d 23h | R35: 79.5 | S35: 0.5 | T35: 148.4 | U35: 44.52 | V35: -74.3 | W35: -22.29 | X35: 66.6 | Y35: 100 | Z35: 0 | AA35: 0
A36: 08/28/2018 15:28 | B36: 08/28/2018 22:55 | C36: GBPUSD | D36: Buy | E36: 0.09 | F36: 1.28713 | G36: 1.30298 | H36: 1.2903 | I36: 1.28711 | J36: -0.72 | K36: 0 | L36: -31.9 | M36: -29.43 | N36: -0.2 | O36: 00:07:26:41 | P36: 0 | Q36: 0s | R36: 31.9 | S36: 31.95 | T36: 0 | U36: 0 | V36: -31.9 | W36: -28.71 | X36: 0 | Y36: 0 | Z36: -31.9 | AA36: -28.71
A37: 08/27/2018 23:15 | B37: 08/28/2018 10:59 | C37: EURJPY | D37: Buy | E37: 0.06 | F37: 129.118 | G37: 130.521 | H37: 129.678 | I37: 129.996 | J37: -0.48 | K37: -0.12 | L37: 31.8 | M37: 16.54 | N37: 0.11 | O37: 00:11:44:03 | P37: 100 | Q37: 11h 44m | R37: 5.1 | S37: 0.03 | T37: 32.1 | U37: 17.334 | V37: 0 | W37: 0 | X37: 100 | Y37: 99.1 | Z37: -0.3 | AA37: -0.16
A38: 08/24/2018 19:40 | B38: 08/24/2018 22:59 | C38: EURUSD | D38: Buy | E38: 0.1 | F38: 1.15656 | G38: 1.16671 | H38: 1.15954 | I38: 1.16275 | J38: -0.8 | K38: 0 | L38: 32.1 | M38: 31.3 | N38: 0.22 | O38: 00:03:19:31 | P38: 0.6 | Q38: 1m | R38: 0 | S38: 1 | T38: 0 | U38: 0 | V38: 0 | W38: 0 | X38: 0 | Y38: 0 | Z38: 32.1 | AA38: 32.1
A39: 08/24/2018 19:17 | B39: 08/24/2018 22:03 | C39: AUDUSD | D39: Buy | E39: 0.07 | F39: 0.72598 | G39: 0.73379 | H39: 0.72996 | I39: 0.73379 | J39: -0.56 | K39: 0 | L39: 38.3 | M39: 26.25 | N39: 0.18 | O39: 00:02:46:40 | P39: 0.7 | Q39: 1m | R39: 0 | S39: 1 | T39: 0 | U39: 0 | V39: 0 | W39: 0 | X39: 0 | Y39: 0 | Z39: 38.3 | AA39: 26.81
A40: 08/21/2018 13:22 | B40: 08/22/2018 00:55 | C40: EURJPY | D40: Buy | E40: 0.04 | F40: 126.196 | G40: 127.558 | H40: 126.95 | I40: 127.558 | J40: -0.32 | K40: 0 | L40: 60.8 | M40: 21.71 | N40: 0.15 | O40: 00:11:33:16 | P40: 100 | Q40: 11h 33m | R40: 42.1 | S40: 0.01 | T40: 102.9 | U40: 37.044 | V40: 0 | W40: 0 | X40: 100 | Y40: 59.1 | Z40: -42.1 | AA40: -15.16
A41: 08/21/2018 07:12 | B41: 08/21/2018 16:00 | C41: EURUSD | D41: Buy | E41: 0.09 | F41: 1.14631 | G41: 1.15567 | H41: 1.14929 | I41: 1.15142 | J41: -0.72 | K41: 0 | L41: 21.3 | M41: 18.45 | N41: 0.13 | O41: 00:08:47:40 | P41: 0.2 | Q41: 1m | R41: 0 | S41: 0.05 | T41: 21.3 | U41: 19.17 | V41: 0 | W41: 0 | X41: 100 | Y41: 100 | Z41: 0 | AA41: 0
... A48: 08/15/2018 00:04 | B48: 08/15/2018 09:00 | C48: EURUSD | D48: Sell | E48: 0.09 | F48: 1.13757 | G48: 1.12618 | H48: 1.13419 | I48: 1.13358 | J48: -0.72 | K48: 0.49 | L48: 6.1 | M48: 5.26 | N48: 0.04 | O48: 00:08:55:37 | P48: 98.9 | Q48: 8h 49m | R48: 28 | S48: 0.11 | T48: 32.1 | U48: 28.89 | V48: -3.5 | W48: -3.15 | X48: 90.2 | Y48: 27 | Z48: -26 | AA48: -23.4
A49: 43381.548 | B49: 08/15/2018 05:05 | C49: EURUSD | D49: Sell | E49: 0.07 | F49: 1.1553 | G49: 1.12394 | H49: 1.15054 | I49: 1.1345 | J49: -0.56 | K49: 0.76 | L49: 160.4 | M49: 112.48 | N49: 0.79 | O49: 04:15:55:41 | P49: 100 | Q49: 4d 15h | R49: 63.4 | S49: 0.01 | T49: 186.7 | U49: 130.69 | V49: 0 | W49: 0 | X49: 100 | Y49: 85.9 | Z49: -26.3 | AA49: -18.41
A50: 43381.553 | B50: 43381.769 | C50: EURUSD | D50: Sell | E50: 0.1 | F50: 1.14794 | G50: 1.14022 | H50: 1.14474 | I50: 1.1478 | J50: -0.8 | K50: 0 | L50: -30.6 | M50: -31.4 | N50: -0.22 | O50: 00:05:11:36 | P50: 98.4 | Q50: 5h 6m | R50: 106 | S50: 0.41 | T50: 75.4 | U50: 75.4 | V50: -30.6 | W50: -30.6 | X50: 71.1 | Y50: 0 | Z50: -106 | AA50: -106
A51: 43320.097 | B51: 43381.595 | C51: GBPUSD | D51: Sell | E51: 0.03 | F51: 1.29278 | G51: 1.27863 | H51: 1.29278 | I51: 1.27844 | J51: -0.24 | K51: 0.51 | L51: 143.4 | M51: 43.29 | N51: 0.3 | O51: 02:11:56:40 | P51: 96.7 | Q51: 2d 9h | R51: 59.4 | S51: 0.12 | T51: 202.6 | U51: 60.78 | V51: -23.8 | W51: -7.14 | X51: 89.5 | Y51: 73.9 | Z51: -59.2 | AA51: -17.76
A52: 43381.156 | B52: 43381.548 | C52: EURUSD | D52: Sell | E52: 0.09 | F52: 1.15278 | G52: 1.14978 | H52: 1.15278 | I52: 1.1497 | J52: -0.72 | K52: 0.49 | L52: 30.8 | M52: 27.49 | N52: 0.19 | O52: 00:09:24:46 | P52: 100 | Q52: 9h 24m | R52: 99.4 | S52: 0.01 | T52: 130.2 | U52: 117.18 | V52: 0 | W52: 0 | X52: 100 | Y52: 23.7 | Z52: -99.4 | AA52: -89.46
A53: 43381.043 | B53: 43381.417 | C53: EURUSD | D53: Sell | E53: 0.1 | F53: 1.15854 | G53: 1.15064 | H53: 1.15554 | I53: 1.15315 | J53: -0.8 | K53: 0.54 | L53: 23.9 | M53: 23.64 | N53: 0.17 | O53: 00:08:57:14 | P53: 100 | Q53: 8h 57m | R53: 91.3 | S53: 0.01 | T53: 115.2 | U53: 115.2 | V53: 0 | W53: 0 | X53: 100 | Y53: 20.7 | Z53: -91.3 | AA53: -91.3
A54: 43351.392 | B54: 43351.594 | C54: EURJPY | D54: Sell | E54: 0.08 | F54: 128.93 | G54: 127.855 | H54: 128.499 | I54: 128.922 | J54: -0.64 | K54: 0 | L54: -42.3 | M54: -31.13 | N54: -0.22 | O54: 00:04:52:17 | P54: 65 | Q54: 3h 9m | R54: 70 | S54: 1.53 | T54: 27.7 | U54: 19.944 | V54: -42.3 | W54: -30.456 | X54: 39.6 | Y54: 0 | Z54: -70 | AA54: -50.4
A55: 43320.849 | B55: 43351.063 | C55: AUDUSD | D55: Sell | E55: 0.1 | F55: 0.74319 | G55: 0.73719 | H55: 0.74017 | I55: 0.74315 | J55: -0.8 | K55: 0 | L55: -29.8 | M55: -30.6 | N55: -0.21 | O55: 00:05:08:03 | P55: 0 | Q55: 0s | R55: 47.5 | S55: 47.62 | T55: 0 | U55: 0 | V55: -47.5 | W55: -47.5 | X55: 0 | Y55: 37.3 | Z55: -29.8 | AA55: -29.8
A56: 43289.789 | B56: 43320.125 | C56: EURUSD | D56: Buy | E56: 0.1 | F56: 1.1567 | G56: 1.1647 | H56: 1.15974 | I56: 1.15941 | J56: -0.8 | K56: 0 | L56: -3.3 | M56: -4.1 | N56: -0.03 | O56: 00:08:03:22 | P56: 0 | Q56: 0s | R56: 3.3 | S56: 3.3 | T56: 0 | U56: 0 | V56: -3.3 | W56: -3.3 | X56: 0 | Y56: 0 | Z56: -3.3 | AA56: -3.3
A57: 43167.799 | B57: 43289.292 | C57: AUDUSD | D57: Buy | E57: 0.09 | F57: 0.73511 | G57: 0.7412 | H57: 0.73823 | I57: 0.73856 | J57: -0.72 | K57: -0.02 | L57: 3.3 | M57: 2.23 | N57: 0.02 | O57: 03:11:48:40 | P57: 42.8 | Q57: 1d 11h | R57: 28.9 | S57: 0.34 | T57: 21.5 | U57: 19.35 | V57: -7.4 | W57: -6.66 | X57: 74.4 | Y57: 37 | Z57: -18.2 | AA57: -16.38
A58: 43167.879 | B58: 43259.379 | C58: EURJPY | D58: Sell | E58: 0.05 | F58: 129.13 | G58: 128.552 | H58: 129.13 | I58: 128.552 | J58: -0.4 | K58: 0.02 | L58: 57.8 | M58: 25.61 | N58: 0.18 | O58: 02:11:59:57 | P58: 25.3 | Q58: 15h 11m | R58: 17.2 | S58: 0.72 | T58: 60.5 | U58: 27.225 | V58: 43.3 | W58: 19.485 | X58: 351.7 | Y58: 84.3 | Z58: -2.7 | AA58: -1.22
A59: 43139.669 | B59: 43167.667 | C59: EURJPY | D59: Sell | E59: 0.08 | F59: 130.15 | G59: 128.818 | H59: 129.756 | I59: 129.262 | J59: -0.64 | K59: 0.03 | L59: 49.4 | M59: 34.74 | N59: 0.25 | O59: 00:23:55:31 | P59: 100 | Q59: 23h 55m | R59: 25.2 | S59: 0.02 | T59: 53.6 | U59: 38.592 | V59: 0 | W59: 0 | X59: 100 | Y59: 92.2 | Z59: -4.2 | AA59: -3.02
A60: 43139.824 | B60: 43167.664 | C60: GBPUSD | D60: Sell | E60: 0.05 | F60: 1.30436 | G60: 1.29809 | H60: 1.30436 | I60: 1.2981 | J60: -0.4 | K60: 0.17 | L60: 62.6 | M60: 31.07 | N60: 0.22 | O60: 00:20:08:22 | P60: 100 | Q60: 20h 8m | R60: 20.3 | S60: 0.01 | T60: 67.7 | U60: 33.85 | V60: 0 | W60: 0 | X60: 100 | Y60: 92.5 | Z60: -5.1 | AA60: -2.55
A61: 43167.09 | B61: 43167.458 | C61: EURUSD | D61: Sell | E61: 0.09 | F61: 1.1627 | G61: 1.15531 | H61: 1.15964 | I61: 1.1588 | J61: -0.72 | K61: 0.49 | L61: 8.4 | M61: 7.33 | N61: 0.05 | O61: 00:08:50:46 | P61: 0.2 | Q61: 1m | R61: 0 | S61: 0.12 | T61: 8.4 | U61: 7.56 | V61: 0 | W61: 0 | X61: 100 | Y61: 100 | Z61: 0 | AA61: 0
... A64: 43108.337 | B64: 43139.496 | C64: AUDUSD | D64: Buy | E64: 0.09 | F64: 0.73877 | G64: 0.74543 | H64: 0.74206 | I64: 0.73879 | J64: -0.72 | K64: -0.03 | L64: -32.7 | M64: -30.18 | N64: -0.21 | O64: 01:03:49:16 | P64: 0 | Q64: 0s | R64: 40.6 | S64: 40.65 | T64: 0 | U64: 0 | V64: -40.6 | W64: -36.54 | X64: 0 | Y64: 19.5 | Z64: -32.7 | AA64: -29.43
A65: 07/31/2018 18:41 | B65: 43139.167 | C65: EURJPY | D65: Buy | E65: 0.02 | F65: 129.464 | G65: 131.324 | H65: 130.858 | I65: 130.186 | J65: -0.16 | K65: -0.04 | L65: -67.2 | M65: -12.24 | N65: -0.09 | O65: 01:09:19:09 | P65: 8.5 | Q65: 2h 49m | R65: 103.2 | S65: 3.32 | T65: 23.9 | U65: 4.302 | V65: -79.3 | W65: -14.274 | X65: 23.2 | Y65: 11.7 | Z65: -91.1 | AA65: -16.4
A66: 43108.854 | B66: 43139.002 | C66: GBPUSD | D66: Buy | E66: 0.09 | F66: 1.31104 | G66: 1.32787 | H66: 1.31435 | I66: 1.31104 | J66: -0.72 | K66: 0 | L66: -33.1 | M66: -30.51 | N66: -0.21 | O66: 00:03:33:53 | P66: 0 | Q66: 0s | R66: 33.1 | S66: 33.11 | T66: 0 | U66: 0 | V66: -33.1 | W66: -29.79 | X66: 0 | Y66: 0 | Z66: -33.1 | AA66: -29.79
A67: 07/31/2018 22:52 | B67: 43108.75 | C67: GBPUSD | D67: Sell | E67: 0.04 | F67: 1.31627 | G67: 1.30292 | H67: 1.3095 | I67: 1.31226 | J67: -0.32 | K67: 0.14 | L67: -27.6 | M67: -11.22 | N67: -0.08 | O67: 00:19:07:47 | P67: 0 | Q67: 0s | R67: 30.8 | S67: 30.86 | T67: 0 | U67: 0 | V67: -30.8 | W67: -12.32 | X67: 0 | Y67: 10.4 | Z67: -27.6 | AA67: -11.04
