Workbook

Sheet TOTAL
A1: 43313
A2: TOTAL ACCOUNTS | B2: A - PM Swing Trading | C2: B - SLINGSHOT | D2: C - SFE | E2: D - Strive | F2: E - Pepperstone | G2: F - VOL Portfolio | H2: G - Atlas | I2: H - Scorpion | J2: I - YRL CAPITAL | K2: TOTAL PIPS | L2: TRADES | M2: TOTAL MONTANT
A3: 43313 | B3: =A!D2 -> 0 | C3: ='B '!E2 -> 206.1 | D3: ='C '!G2 -> 74.2 | E3: =D!D2 -> 0 | F3: ='E '!D2 -> 0 | G3: ='F '!D2 -> 0 | H3: =G!F2 -> #VALUE! | I3: =H!E2 -> #VALUE! | J3: ='I '!#REF! -> #REF! | K3: =SUM(B3:J3) -> #VALUE! | L3: =A!E2+'B '!F2+'C '!H2+D!E2+'E '!E2+'F '!E2+G!G2+H!F2 -> 8 | M3: =A!F2+'B '!G2+'C '!I2+D!F2+'E '!F2+'F '!F2+G!H2+H!G2 -> #VALUE!
A4: 43314 | B4: =A!D3 -> 0 | C4: ='B '!E3 -> 0 | D4: ='C '!G3 -> -100.2 | E4: =D!D3 -> 0 | F4: ='E '!D3 -> 0 | G4: ='F '!D3 -> 0 | H4: =G!F3 -> #VALUE! | I4: =H!E3 -> #VALUE! | J4: ='I '!#REF! -> #REF! | K4: =SUM(B4:J4) -> #VALUE! | L4: =A!E3+'B '!F3+'C '!H3+D!E3+'E '!E3+'F '!E3+G!G3+H!F3 -> 20 | M4: =A!F3+'B '!G3+'C '!I3+D!F3+'E '!F3+'F '!F3+G!H3+H!G3 -> #VALUE!
A5: 43315 | B5: =A!D4 -> 0 | C5: ='B '!E4 -> 0 | D5: ='C '!G4 -> 12.2 | E5: =D!D4 -> 0 | F5: ='E '!D4 -> 0 | G5: ='F '!D4 -> 0 | H5: =G!F4 -> #VALUE! | I5: =H!E4 -> #VALUE! | J5: ='I '!#REF! -> #REF! | K5: =SUM(B5:J5) -> #VALUE! | L5: =A!E4+'B '!F4+'C '!H4+D!E4+'E '!E4+'F '!E4+G!G4+H!F4 -> 8 | M5: =A!F4+'B '!G4+'C '!I4+D!F4+'E '!F4+'F '!F4+G!H4+H!G4 -> #VALUE!
A6: 43318 | B6: =A!D5 -> 0 | C6: ='B '!E5 -> 0 | D6: ='C '!G5 -> -20.7 | E6: =D!D5 -> 0 | F6: ='E '!D5 -> 0 | G6: ='F '!D5 -> 0 | H6: =G!F5 -> #VALUE! | I6: =H!E5 -> #VALUE! | J6: ='I '!#REF! -> #REF! | K6: =SUM(B6:J6) -> #VALUE! | L6: =A!E5+'B '!F5+'C '!H5+D!E5+'E '!E5+'F '!E5+G!G5+H!F5 -> 4 | M6: =A!F5+'B '!G5+'C '!I5+D!F5+'E '!F5+'F '!F5+G!H5+H!G5 -> #VALUE!
A7: 43319 | B7: =A!D6 -> 0 | C7: ='B '!E6 -> 0 | D7: ='C '!G6 -> 5.5 | E7: =D!D6 -> 0 | F7: ='E '!D6 -> 0 | G7: ='F '!D6 -> 0 | H7: =G!F6 -> #VALUE! | I7: =H!E6 -> #VALUE! | J7: ='I '!#REF! -> #REF! | K7: =SUM(B7:J7) -> #VALUE! | L7: =A!E6+'B '!F6+'C '!H6+D!E6+'E '!E6+'F '!E6+G!G6+H!F6 -> 1 | M7: =A!F6+'B '!G6+'C '!I6+D!F6+'E '!F6+'F '!F6+G!H6+H!G6 -> #VALUE!
A8: 43320 | B8: =A!D7 -> 0 | C8: ='B '!E7 -> -42.3 | D8: ='C '!G7 -> 363.7 | E8: =D!D7 -> 37.9 | F8: ='E '!D7 -> 0 | G8: ='F '!D7 -> 0 | H8: =G!F7 -> #VALUE! | I8: =H!E7 -> #VALUE! | J8: ='I '!#REF! -> #REF! | K8: =SUM(B8:J8) -> #VALUE! | L8: =A!E7+'B '!F7+'C '!H7+D!E7+'E '!E7+'F '!E7+G!G7+H!F7 -> 10 | M8: =A!F7+'B '!G7+'C '!I7+D!F7+'E '!F7+'F '!F7+G!H7+H!G7 -> #VALUE!
A9: 43321 | B9: =A!D8 -> 0 | C9: ='B '!E8 -> -34.7 | D9: ='C '!G8 -> 356.9 | E9: =D!D8 -> 0 | F9: ='E '!D8 -> 0 | G9: ='F '!D8 -> 0 | H9: =G!F8 -> #VALUE! | I9: =H!E8 -> #VALUE! | J9: ='I '!#REF! -> #REF! | K9: =SUM(B9:J9) -> #VALUE! | L9: =A!E8+'B '!F8+'C '!H8+D!E8+'E '!E8+'F '!E8+G!G8+H!F8 -> 6 | M9: =A!F8+'B '!G8+'C '!I8+D!F8+'E '!F8+'F '!F8+G!H8+H!G8 -> #VALUE!
A10: 43322 | B10: =A!D9 -> 0 | C10: ='B '!E9 -> 0 | D10: ='C '!G9 -> -72.7 | E10: =D!D9 -> 0 | F10: ='E '!D9 -> 0 | G10: ='F '!D9 -> 0 | H10: =G!F9 -> #VALUE! | I10: =H!E9 -> #VALUE! | J10: ='I '!#REF! -> #REF! | K10: =SUM(B10:J10) -> #VALUE! | L10: =A!E9+'B '!F9+'C '!H9+D!E9+'E '!E9+'F '!E9+G!G9+H!F9 -> 15 | M10: =A!F9+'B '!G9+'C '!I9+D!F9+'E '!F9+'F '!F9+G!H9+H!G9 -> #VALUE!
A11: 43325 | B11: =A!D10 -> 0 | C11: ='B '!E10 -> 0 | D11: ='C '!G10 -> 0 | E11: =D!D10 -> -61.5 | F11: ='E '!D10 -> 0 | G11: ='F '!D10 -> 0 | H11: =G!F10 -> #VALUE! | I11: =H!E10 -> #VALUE! | J11: ='I '!#REF! -> #REF! | K11: =SUM(B11:J11) -> #VALUE! | L11: =A!E10+'B '!F10+'C '!H10+D!E10+'E '!E10+'F '!E10+G!G10+H!F10 -> 0 | M11: =A!F10+'B '!G10+'C '!I10+D!F10+'E '!F10+'F '!F10+G!H10+H!G10 -> #VALUE!
A12: 43326 | B12: =A!D11 -> 0 | C12: ='B '!E11 -> 0 | D12: ='C '!G11 -> 0 | E12: =D!D11 -> 36.3 | F12: ='E '!D11 -> 0 | G12: ='F '!D11 -> 0 | H12: =G!F11 -> #VALUE! | I12: =H!E11 -> #VALUE! | J12: ='I '!#REF! -> #REF! | K12: =SUM(B12:J12) -> #VALUE! | L12: =A!E11+'B '!F11+'C '!H11+D!E11+'E '!E11+'F '!E11+G!G11+H!F11 -> 0 | M12: =A!F11+'B '!G11+'C '!I11+D!F11+'E '!F11+'F '!F11+G!H11+H!G11 -> #VALUE!
A13: 43327 | B13: =A!D12 -> 0 | C13: ='B '!E12 -> 0 | D13: ='C '!G12 -> 0 | E13: =D!D12 -> 63.8 | F13: ='E '!D12 -> 0 | G13: ='F '!D12 -> 0 | H13: =G!F12 -> #VALUE! | I13: =H!E12 -> #VALUE! | J13: ='I '!#REF! -> #REF! | K13: =SUM(B13:J13) -> #VALUE! | L13: =A!E12+'B '!F12+'C '!H12+D!E12+'E '!E12+'F '!E12+G!G12+H!F12 -> 0 | M13: =A!F12+'B '!G12+'C '!I12+D!F12+'E '!F12+'F '!F12+G!H12+H!G12 -> #VALUE!
A14: 43328 | B14: =A!D13 -> 0 | C14: ='B '!E13 -> 0 | D14: ='C '!G13 -> -102.9 | E14: =D!D13 -> 8.4 | F14: ='E '!D13 -> 0 | G14: ='F '!D13 -> 0 | H14: =G!F13 -> #VALUE! | I14: =H!E13 -> #VALUE! | J14: ='I '!#REF! -> #REF! | K14: =SUM(B14:J14) -> #VALUE! | L14: =A!E13+'B '!F13+'C '!H13+D!E13+'E '!E13+'F '!E13+G!G13+H!F13 -> 7 | M14: =A!F13+'B '!G13+'C '!I13+D!F13+'E '!F13+'F '!F13+G!H13+H!G13 -> #VALUE!
... A16: 43332 | B16: =A!D15 -> 0 | C16: ='B '!E15 -> -58 | D16: ='C '!G15 -> 0 | E16: =D!D15 -> -28.3 | F16: ='E '!D15 -> 0 | G16: ='F '!D15 -> 0 | H16: =G!F15 -> #VALUE! | I16: =H!E15 -> #VALUE! | J16: ='I '!#REF! -> #REF! | K16: =SUM(B16:J16) -> #VALUE! | L16: =A!E15+'B '!F15+'C '!H15+D!E15+'E '!E15+'F '!E15+G!G15+H!F15 -> 2 | M16: =A!F15+'B '!G15+'C '!I15+D!F15+'E '!F15+'F '!F15+G!H15+H!G15 -> #VALUE!
A17: 43333 | B17: =A!D16 -> 0 | C17: ='B '!E16 -> 0 | D17: ='C '!G16 -> -82.3 | E17: Arret | F17: ='E '!D16 -> 0 | G17: ='F '!D16 -> 0 | H17: =G!F16 -> #VALUE! | I17: =H!E16 -> #VALUE! | J17: ='I '!#REF! -> #REF! | K17: =SUM(B17:J17) -> #VALUE! | L17: =A!E16+'B '!F16+'C '!H16+D!E16+'E '!E16+'F '!E16+G!G16+H!F16 -> 6 | M17: =A!F16+'B '!G16+'C '!I16+D!F16+'E '!F16+'F '!F16+G!H16+H!G16 -> #VALUE!
A18: 43334 | B18: =A!D17 -> 0 | C18: ='B '!E17 -> 0 | D18: ='C '!G17 -> 0 | E18: Arret | F18: ='E '!D17 -> 0 | G18: ='F '!D17 -> 0 | H18: =G!F17 -> #VALUE! | I18: =H!E17 -> #VALUE! | J18: ='I '!#REF! -> #REF! | K18: =SUM(B18:J18) -> #VALUE! | L18: =A!E17+'B '!F17+'C '!H17+D!E17+'E '!E17+'F '!E17+G!G17+H!F17 -> 0 | M18: =A!F17+'B '!G17+'C '!I17+D!F17+'E '!F17+'F '!F17+G!H17+H!G17+'I '!#REF! -> #VALUE!
A19: 43335 | B19: =A!D18 -> 0 | C19: ='B '!E18 -> 0 | D19: ='C '!G18 -> 2.3 | E19: Arret | F19: ='E '!D18 -> 0 | G19: ='F '!D18 -> 0 | H19: =G!F18 -> #VALUE! | I19: =H!E18 -> #VALUE! | J19: ='I '!#REF! -> #REF! | K19: =SUM(B19:J19) -> #VALUE! | L19: =A!E18+'B '!F18+'C '!H18+D!E18+'E '!E18+'F '!E18+G!G18+H!F18 -> 4 | M19: =A!F18+'B '!G18+'C '!I18+D!F18+'E '!F18+'F '!F18+G!H18+H!G18 -> #VALUE!
A20: 43336 | B20: =A!D19 -> 0 | C20: ='B '!E19 -> 265.7 | D20: ='C '!G19 -> -43.4 | E20: Arret | F20: ='E '!D19 -> 0 | G20: ='F '!D19 -> 0 | H20: =G!F19 -> #VALUE! | I20: =H!E19 -> #VALUE! | J20: ='I '!#REF! -> #REF! | K20: =SUM(B20:J20) -> #VALUE! | L20: =A!E19+'B '!F19+'C '!H19+D!E19+'E '!E19+'F '!E19+G!G19+H!F19 -> 15 | M20: =A!F19+'B '!G19+'C '!I19+D!F19+'E '!F19+'F '!F19+G!H19+H!G19 -> #VALUE!
A21: 43339 | B21: =A!D20 -> 0 | C21: ='B '!E20 -> 0 | D21: ='C '!G20 -> 0 | E21: Arret | F21: ='E '!D20 -> 0 | G21: ='F '!D20 -> 0 | H21: =G!F20 -> #VALUE! | I21: =H!E20 -> #VALUE! | J21: ='I '!#REF! -> #REF! | K21: =SUM(B21:J21) -> #VALUE! | L21: =A!E20+'B '!F20+'C '!H20+D!E20+'E '!E20+'F '!E20+G!G20+H!F20 -> 0 | M21: =A!F20+'B '!G20+'C '!I20+D!F20+'E '!F20+'F '!F20+G!H20+H!G20 -> #VALUE!
A22: 43340 | B22: =A!D21 -> 0 | C22: ='B '!E21 -> 0 | D22: ='C '!G21 -> 0 | E22: Arret | F22: ='E '!D21 -> 0 | G22: ='F '!D21 -> 0 | H22: =G!F21 -> #VALUE! | I22: =H!E21 -> #VALUE! | J22: ='I '!#REF! -> #REF! | K22: =SUM(B22:J22) -> #VALUE! | L22: =A!E21+'B '!F21+'C '!H21+D!E21+'E '!E21+'F '!E21+G!G21+H!F21 -> 0 | M22: =A!F21+'B '!G21+'C '!I21+D!F21+'E '!F21+'F '!F21+G!H21+H!G21 -> #VALUE!
A23: 43341 | B23: =A!D22 -> 0 | C23: ='B '!E22 -> 0 | D23: ='C '!G22 -> 0 | E23: Arret | F23: ='E '!D22 -> 0 | G23: ='F '!D22 -> 0 | H23: =G!F22 -> #VALUE! | I23: =H!E22 -> #VALUE! | J23: ='I '!#REF! -> #REF! | K23: =SUM(B23:J23) -> #VALUE! | L23: =A!E22+'B '!F22+'C '!H22+D!E22+'E '!E22+'F '!E22+G!G22+H!F22 -> 0 | M23: =A!F22+'B '!G22+'C '!I22+D!F22+'E '!F22+'F '!F22+G!H22+H!G22 -> #VALUE!
A24: 43342 | B24: =A!D23 -> 0 | C24: ='B '!E23 -> 0 | D24: ='C '!G23 -> 0 | E24: Arret | F24: ='E '!D23 -> 0 | G24: ='F '!D23 -> 0 | H24: =G!F23 -> #VALUE! | I24: =H!E23 -> #VALUE! | J24: ='I '!#REF! -> #REF! | K24: =SUM(B24:J24) -> #VALUE! | L24: =A!E23+'B '!F23+'C '!H23+D!E23+'E '!E23+'F '!E23+G!G23+H!F23 -> 0 | M24: =A!F23+'B '!G23+'C '!I23+D!F23+'E '!F23+'F '!F23+G!H23+H!G23 -> #VALUE!
A25: 43343 | B25: =A!D24 -> 0 | C25: ='B '!E24 -> 0 | D25: ='C '!G24 -> 0 | E25: Arret | F25: ='E '!D24 -> 0 | G25: ='F '!D24 -> 0 | H25: =G!F24 -> #VALUE! | I25: =H!E24 -> #VALUE! | J25: ='I '!#REF! -> #REF! | K25: =SUM(B25:J25) -> #VALUE! | L25: =A!E24+'B '!F24+'C '!H24+D!E24+'E '!E24+'F '!E24+G!G24+H!F24 -> 0 | M25: =A!F24+'B '!G24+'C '!I24+D!F24+'E '!F24+'F '!F24+G!H24+H!G24 -> #VALUE!
A26: TOTAL | B26: =A!D25 -> 0 | C26: ='B '!E25 -> 305.6 | D26: ='C '!G25 -> 384.5 | E26: =D!D25 -> 186.7 | F26: ='E '!D25 -> 0 | G26: ='F '!D25 -> 0 | H26: =G!F25 -> #VALUE! | I26: =H!E25 -> #VALUE! | J26: ='I '!#REF! -> #REF! | K26: =SUM(B26:J26) -> #VALUE! | L26: =SUM(L3:L25) -> 114
A27: TOTAL TRADES | B27: =A!E25 -> 0 | C27: ='B '!F25 -> 25 | D27: ='C '!H25 -> 89 | E27: =D!E25 -> 0 | F27: ='E '!E25 -> 0 | G27: ='F '!E25 -> 0 | H27: =G!G25 -> 0 | I27: =H!F25 -> 0 | J27: ='I '!#REF! -> #REF! | L27: =SUM(B27:J27) -> #REF!
A28: TOTAL MONTANT | B28: =A!F25 -> 0 | E28: =D!F25 -> 1086.77 | F28: ='E '!F25 -> 0 | G28: ='F '!F25 -> 0 | H28: =G!H25 -> #VALUE! | I28: =H!G25 -> #VALUE! | J28: ='I '!#REF! -> #REF! | K28: =SUM(B28:J28) -> #VALUE! | M28: =SUM(M3:M25) -> #VALUE!
A30: YRL_CAPITAL / SC GAM
A31: TOTAL ACCOUNTS | B31: A - PM Swing Trading | C31: B - SLINGSHOT | D31: C - SFE | E31: D - Strive | F31: E - Pepperstone | G31: F - VOL Portfolio | H31: G - Atlas | I31: H - Scorpion | J31: TOTAL PIPS | K31: TOTAL MONTANT | L31: TRADES | M31: SLIPAGE ICM
A32: Brokers | B32: Admiral Markets | C32: Darwinex | D32: IC Markets | E32: IC Markets | F32: Pepperstone | G32: FXDD | H32: Tickmill | I32: IC Markets
A33: 43313 | B33: =A!#REF! -> #REF! | C33: ='B '!#REF! -> #REF! | D33: ='C '!#REF! -> #REF! | E33: =D!#REF! -> #REF! | F33: ='E '!#REF! -> #REF! | G33: ='F '!#REF! -> #REF! | H33: =G!#REF! -> #REF! | I33: =H!#REF! -> #REF! | J33: =SUM(B33:I33) -> #REF! | K33: =#REF!+#REF! -> #REF! | L33: =#REF!+#REF! -> #REF! | M33: =J33-K3 -> #REF!
A34: 43314 | B34: =A!#REF! -> #REF! | C34: ='B '!#REF! -> #REF! | D34: ='C '!#REF! -> #REF! | E34: =D!#REF! -> #REF! | F34: ='E '!#REF! -> #REF! | G34: ='F '!#REF! -> #REF! | H34: =G!#REF! -> #REF! | I34: =H!#REF! -> #REF! | J34: =SUM(B34:I34) -> #REF! | K34: =#REF!+#REF! -> #REF! | L34: =#REF!+#REF! -> #REF! | M34: =J34-K4 -> #REF!
A35: 43315 | B35: =A!#REF! -> #REF! | C35: ='B '!#REF! -> #REF! | D35: ='C '!#REF! -> #REF! | E35: =D!#REF! -> #REF! | F35: ='E '!#REF! -> #REF! | G35: ='F '!#REF! -> #REF! | H35: =G!#REF! -> #REF! | I35: =H!#REF! -> #REF! | J35: =SUM(B35:I35) -> #REF! | K35: =#REF!+#REF! -> #REF! | L35: =#REF!+#REF! -> #REF! | M35: =J35-K5 -> #REF!
A36: 43318 | B36: =A!#REF! -> #REF! | C36: ='B '!#REF! -> #REF! | D36: ='C '!#REF! -> #REF! | E36: =D!#REF! -> #REF! | F36: ='E '!#REF! -> #REF! | G36: ='F '!#REF! -> #REF! | H36: =G!#REF! -> #REF! | I36: =H!#REF! -> #REF! | J36: =SUM(B36:I36) -> #REF! | K36: =#REF!+#REF! -> #REF! | L36: =#REF!+#REF! -> #REF! | M36: =J36-K6 -> #REF!
A37: 43319 | B37: =A!#REF! -> #REF! | C37: ='B '!#REF! -> #REF! | D37: ='C '!#REF! -> #REF! | E37: =D!#REF! -> #REF! | F37: ='E '!#REF! -> #REF! | G37: ='F '!#REF! -> #REF! | H37: =G!#REF! -> #REF! | I37: =H!#REF! -> #REF! | J37: =SUM(B37:I37) -> #REF! | K37: =#REF!+#REF! -> #REF! | L37: =#REF!+#REF! -> #REF! | M37: =J37-K7 -> #REF!
A38: 43320 | B38: =A!#REF! -> #REF! | C38: ='B '!#REF! -> #REF! | D38: ='C '!#REF! -> #REF! | E38: =D!#REF! -> #REF! | F38: ='E '!#REF! -> #REF! | G38: ='F '!#REF! -> #REF! | H38: =G!#REF! -> #REF! | I38: =H!#REF! -> #REF! | J38: =SUM(B38:I38) -> #REF! | K38: =#REF!+#REF! -> #REF! | L38: =#REF!+#REF! -> #REF! | M38: =J38-K8 -> #REF!
A39: 43321 | B39: =A!#REF! -> #REF! | C39: ='B '!#REF! -> #REF! | D39: ='C '!#REF! -> #REF! | E39: =D!#REF! -> #REF! | F39: ='E '!#REF! -> #REF! | G39: ='F '!#REF! -> #REF! | H39: =G!#REF! -> #REF! | I39: =H!#REF! -> #REF! | J39: =SUM(B39:I39) -> #REF! | K39: =#REF!+#REF! -> #REF! | L39: =#REF!+#REF! -> #REF! | M39: =J39-K9 -> #REF!
A40: 43322 | B40: =A!#REF! -> #REF! | C40: ='B '!#REF! -> #REF! | D40: ='C '!#REF! -> #REF! | E40: =D!#REF! -> #REF! | F40: ='E '!#REF! -> #REF! | G40: ='F '!#REF! -> #REF! | H40: =G!#REF! -> #REF! | I40: =H!#REF! -> #REF! | J40: =SUM(B40:I40) -> #REF! | K40: =#REF!+#REF! -> #REF! | L40: =#REF!+#REF! -> #REF! | M40: =J40-K10 -> #REF!
A41: 43325 | B41: =A!#REF! -> #REF! | C41: ='B '!#REF! -> #REF! | D41: ='C '!#REF! -> #REF! | E41: =D!#REF! -> #REF! | F41: ='E '!#REF! -> #REF! | G41: ='F '!#REF! -> #REF! | H41: =G!#REF! -> #REF! | I41: =H!#REF! -> #REF! | J41: =SUM(B41:I41) -> #REF! | K41: =#REF!+#REF! -> #REF! | L41: =#REF!+#REF! -> #REF! | M41: =J41-K11 -> #REF!
A42: 43326 | B42: =A!#REF! -> #REF! | C42: ='B '!#REF! -> #REF! | D42: ='C '!#REF! -> #REF! | E42: =D!#REF! -> #REF! | F42: ='E '!#REF! -> #REF! | G42: ='F '!#REF! -> #REF! | H42: =G!#REF! -> #REF! | I42: =H!#REF! -> #REF! | J42: =SUM(B42:I42) -> #REF! | K42: =#REF!+#REF! -> #REF! | L42: =#REF!+#REF! -> #REF! | M42: =J42-K12 -> #REF!
...

Sheet A
A1: A - PM Swing Trading | B1: EURJPY | C1: USDCAD | D1: TOTAL PIPS | E1: TRADES | F1: TOTAL MONTANT | G1: VOLUME
A2: 43313 | D2: =SUM(B2:C2) -> 0 | F2: =G2*((B2*7.75)+(C2*6.62)) -> 0
A3: 43314 | D3: =SUM(B3:C3) -> 0 | F3: =G3*((B3*7.75)+(C3*6.62)) -> 0
A4: 43315 | D4: =SUM(B4:C4) -> 0 | F4: =G4*((B4*7.75)+(C4*6.62)) -> 0
A5: 43318 | D5: =SUM(B5:C5) -> 0 | F5: =G5*((B5*7.75)+(C5*6.62)) -> 0
A6: 43319 | D6: =SUM(B6:C6) -> 0 | F6: =G6*((B6*7.75)+(C6*6.62)) -> 0
A7: 43320 | D7: =SUM(B7:C7) -> 0 | F7: =G7*((B7*7.75)+(C7*6.62)) -> 0
A8: 43321 | D8: =SUM(B8:C8) -> 0 | F8: =G8*((B8*7.75)+(C8*6.62)) -> 0
A9: 43322 | D9: =SUM(B9:C9) -> 0 | F9: =G9*((B9*7.75)+(C9*6.62)) -> 0
A10: 43325 | D10: =SUM(B10:C10) -> 0 | F10: =G10*((B10*7.75)+(C10*6.62)) -> 0
A11: 43326 | D11: =SUM(B11:C11) -> 0 | F11: =G11*((B11*7.75)+(C11*6.62)) -> 0
A12: 43327 | D12: =SUM(B12:C12) -> 0 | F12: =G12*((B12*7.75)+(C12*6.62)) -> 0
A13: 43328 | D13: =SUM(B13:C13) -> 0 | F13: =G13*((B13*7.75)+(C13*6.62)) -> 0
... A23: 43342 | D23: =SUM(B23:C23) -> 0 | F23: =G23*((B23*7.75)+(C23*6.62)) -> 0
A24: 43343 | D24: =SUM(B24:C24) -> 0 | F24: =G24*((B24*7.75)+(C24*6.62)) -> 0 | G24: 1
A25: TOTAL | B25: =SUM(B2:B24) -> 0 | C25: =SUM(C2:C24) -> 0 | D25: =SUM(D2:D24) -> 0 | E25: =SUM(E2:E24) -> 0 | F25: =SUM(F2:F24) -> 0
A26: TOTAL TRADES | B26: 2 | C26: 6 | E26: =SUM(B26:C26) -> 8
A27: TOTAL MONTANT | B27: =(B25*8.54) -> 0 | C27: =(C25*8.5) -> 0
A29: Open Date | B29: Close Date | C29: Symbol | D29: Action | E29: SL | F29: TP | G29: Lots | H29: Open Price | I29: Close Price | J29: Commission | K29: Swap | L29: Pips | M29: Profit | N29: Gain | O29: Duration (DD:HH:MM:SS) | P29: Profitable(%) | Q29: Profitable(time duration) | R29: Drawdown | S29: Risk:Reward | T29: Max(pips) | U29: Max(USD) | V29: Min(pips) | W29: Min(USD) | X29: Entry Accuracy(%) | Y29: Exit Accuracy(%) | Z29: ProfitMissed(pips) | AA29: ProfitMissed(USD)

Sheet B 
A1: B - SLINGHSOT | B1: EURAUD | C1: EURJPY | D1: GBPJPY | E1: TOTAL PIPS | F1: TRADES | G1: TOTAL MONTANT | H1: VOLUME
A2: 43313 | B2: 0 | C2: 0 | D2: 206.1 | E2: =SUM(B2:D2) -> 206.1 | F2: 6 | G2: =H2*((B2*6.4)+(C2*7.75)+(D2*7.77)) -> 1601.397 | H2: 1
A3: 43314 | B3: 0 | C3: 0 | D3: 0 | E3: =SUM(B3:D3) -> 0 | F3: 0 | G3: =H3*((B3*6.4)+(C3*7.75)+(D3*7.77)) -> 0 | H3: 1
A4: 43315 | B4: 0 | C4: 0 | D4: 0 | E4: =SUM(B4:D4) -> 0 | F4: 0 | G4: =H4*((B4*6.4)+(C4*7.75)+(D4*7.77)) -> 0 | H4: 1
A5: 43318 | B5: 0 | C5: 0 | D5: 0 | E5: =SUM(B5:D5) -> 0 | F5: 0 | G5: =H5*((B5*6.4)+(C5*7.75)+(D5*7.77)) -> 0 | H5: 1
A6: 43319 | B6: 0 | C6: 0 | D6: 0 | E6: =SUM(B6:D6) -> 0 | F6: 0 | G6: =H6*((B6*6.4)+(C6*7.75)+(D6*7.77)) -> 0 | H6: 1
A7: 43320 | B7: 0 | C7: -42.3 | D7: 0 | E7: =SUM(B7:D7) -> -42.3 | F7: 2 | G7: =H7*((B7*6.4)+(C7*7.75)+(D7*7.77)) -> -327.825 | H7: 1
A8: 43321 | B8: -34.7 | C8: 0 | D8: 0 | E8: =SUM(B8:D8) -> -34.7 | F8: 2 | G8: =H8*((B8*6.4)+(C8*7.75)+(D8*7.77)) -> -222.08 | H8: 1
A9: 43322 | B9: 0 | C9: 0 | D9: 0 | E9: =SUM(B9:D9) -> 0 | F9: 0 | G9: =H9*((B9*6.4)+(C9*7.75)+(D9*7.77)) -> 0 | H9: 1
A10: 43325 | B10: 0 | C10: 0 | D10: 0 | E10: =SUM(B10:D10) -> 0 | F10: 0 | G10: =H10*((B10*6.4)+(C10*7.75)+(D10*7.77)) -> 0 | H10: 1
A11: 43326 | B11: 0 | C11: 0 | D11: 0 | E11: =SUM(B11:D11) -> 0 | F11: 0 | G11: =H11*((B11*6.4)+(C11*7.75)+(D11*7.77)) -> 0 | H11: 1
A12: 43327 | B12: 0 | C12: 0 | D12: 0 | E12: =SUM(B12:D12) -> 0 | F12: 0 | G12: =H12*((B12*6.4)+(C12*7.75)+(D12*7.77)) -> 0 | H12: 1
A13: 43328 | B13: 0 | C13: 0 | D13: 0 | E13: =SUM(B13:D13) -> 0 | F13: 0 | G13: =H13*((B13*6.4)+(C13*7.75)+(D13*7.77)) -> 0 | H13: 1
... A24: 43343 | B24: 0 | C24: 0 | D24: 0 | E24: =SUM(B24:D24) -> 0 | F24: 0 | G24: =H24*((B24*6.4)+(C24*7.75)+(D24*7.77)) -> 0 | H24: 1
A25: TOTAL | B25: =SUM(B2:B24) -> -92.7 | C25: =SUM(C2:C24) -> 223.4 | D25: =SUM(D2:D24) -> 174.9 | E25: =SUM(E2:E24) -> 305.6 | F25: =SUM(F2:F24) -> 25 | G25: =SUM(G2:G24) -> 2497.043
A26: TOTAL TRADES | B26: 4 | C26: 13 | D26: 8 | F26: =SUM(B26:D26) -> 25
A27: TOTAL MONTANT | B27: =(B25*8.6) -> -797.22 | C27: =(C25*8.6) -> 1921.24 | D27: =(D25*8.6) -> 1504.14
A29: Open Date | B29: Close Date | C29: Symbol | D29: Action | E29: SL | F29: TP | G29: Lots | H29: Open Price | I29: Close Price | J29: Commission | K29: Swap | L29: Pips | M29: Profit | N29: Gain | O29: Duration (DD:HH:MM:SS) | P29: Profitable(%) | Q29: Profitable(time duration) | R29: Drawdown | S29: Risk:Reward | T29: Max(pips) | U29: Max(USD) | V29: Min(pips) | W29: Min(USD) | X29: Entry Accuracy(%) | Y29: Exit Accuracy(%) | Z29: ProfitMissed(pips) | AA29: ProfitMissed(USD)
A30: 43320.576 | B30: 43320.91 | C30: EURJPY | D30: Sell | E30: 129.099 | F30: 126.901 | G30: 0.12 | H30: 128.731 | I30: 128.943 | J30: -0.7 | K30: 0 | L30: -21.2 | M30: -23.62 | N30: -0.3 | O30: 00:07:59:55 | P30: 39.2 | Q30: 3h 8m | R30: 34.3 | S30: 1.62 | T30: 13.1 | U30: 14.148 | V30: -21.2 | W30: -22.896 | X30: 38.2 | Y30: 0 | Z30: -34.3 | AA30: -37.04
A31: 43320.576 | B31: 43320.91 | C31: EURJPY | D31: Sell | E31: 129.099 | F31: 126.901 | G31: 0.24 | H31: 128.733 | I31: 128.944 | J31: -1.39 | K31: 0 | L31: -21.1 | M31: -47.03 | N31: -0.59 | O31: 00:07:59:51 | P31: 40.6 | Q31: 3h 14m | R31: 34.4 | S31: 1.59 | T31: 13.3 | U31: 28.728 | V31: -21.1 | W31: -45.576 | X31: 38.7 | Y31: 0 | Z31: -34.4 | AA31: -74.3
A32: 07/31/2018 16:05 | B32: 43108.781 | C32: GBPJPY | D32: Buy | E32: 146.284 | F32: 148.051 | G32: 0.03 | H32: 146.638 | I32: 146.591 | J32: -0.19 | K32: -0.06 | L32: -4.7 | M32: -1.51 | N32: -0.02 | O32: 01:02:39:47 | P32: 78.4 | Q32: 20h 54m | R32: 75.4 | S32: 0.59 | T32: 47.4 | U32: 12.798 | V32: -28 | W32: -7.56 | X32: 62.9 | Y32: 30.9 | Z32: -52.1 | AA32: -14.07
A33: 07/31/2018 16:05 | B33: 43108.434 | C33: GBPJPY | D33: Buy | E33: 146.284 | F33: 148.051 | G33: 0.01 | H33: 146.638 | I33: 147.093 | J33: -0.07 | K33: -0.02 | L33: 45.5 | M33: 3.97 | N33: 0.05 | O33: 00:18:19:47 | P33: 87.7 | Q33: 16h 4m | R33: 31.4 | S33: 0.12 | T33: 47.4 | U33: 4.266 | V33: -5.8 | W33: -0.522 | X33: 89.1 | Y33: 96.4 | Z33: -1.9 | AA33: -0.17
A34: 07/31/2018 16:05 | B34: 43108.431 | C34: GBPJPY | D34: Buy | E34: 146.284 | F34: 148.051 | G34: 0.01 | H34: 146.638 | I34: 147.1 | J34: -0.06 | K34: -0.02 | L34: 46.2 | M34: 4.04 | N34: 0.05 | O34: 00:18:14:48 | P34: 87.7 | Q34: 16h 0m | R34: 31.4 | S34: 0.12 | T34: 47.4 | U34: 4.266 | V34: -5.8 | W34: -0.522 | X34: 89.1 | Y34: 97.7 | Z34: -1.2 | AA34: -0.11
A35: 07/31/2018 16:05 | B35: 43108.427 | C35: GBPJPY | D35: Buy | E35: 146.284 | F35: 148.051 | G35: 0.01 | H35: 146.638 | I35: 147.07 | J35: -0.07 | K35: -0.02 | L35: 43.2 | M35: 3.77 | N35: 0.05 | O35: 00:18:09:47 | P35: 87.5 | Q35: 15h 53m | R35: 31.4 | S35: 0.12 | T35: 47.4 | U35: 4.266 | V35: -5.8 | W35: -0.522 | X35: 89.1 | Y35: 92.1 | Z35: -4.2 | AA35: -0.38
A36: 07/31/2018 16:05 | B36: 43108.42 | C36: GBPJPY | D36: Buy | E36: 146.284 | F36: 148.051 | G36: 0.02 | H36: 146.638 | I36: 146.989 | J36: -0.13 | K36: -0.04 | L36: 35.1 | M36: 6.09 | N36: 0.08 | O36: 00:17:59:47 | P36: 87.5 | Q36: 15h 44m | R36: 31.4 | S36: 0.12 | T36: 47.4 | U36: 8.532 | V36: -5.8 | W36: -1.044 | X36: 89.1 | Y36: 76.9 | Z36: -12.3 | AA36: -2.21
A37: 07/31/2018 16:05 | B37: 43108.417 | C37: GBPJPY | D37: Buy | E37: 146.284 | F37: 148.051 | G37: 0.03 | H37: 146.638 | I37: 147.046 | J37: -0.2 | K37: -0.06 | L37: 40.8 | M37: 10.66 | N37: 0.13 | O37: 00:17:54:47 | P37: 87.4 | Q37: 15h 39m | R37: 31.4 | S37: 0.12 | T37: 47.4 | U37: 12.798 | V37: -5.8 | W37: -1.566 | X37: 89.1 | Y37: 87.6 | Z37: -6.6 | AA37: -1.78

Sheet C 
A1: C - SFE | B1: EURUSD | C1: GBPUSD | D1: EURAUD | E1: GBPJPY | F1: EURGBP | G1: TOTAL PIPS | H1: TRADES | I1: TOTAL MONTANT
A2: 43313 | B2: 0 | C2: 0 | D2: 0 | E2: 74.2 | F2: 0 | G2: =SUM(B2:F2) -> 74.2 | H2: 2 | I2: =(B2*8.6)+(C2*8.6)+(D2*6)+(E2*7.8)+(F2*11.42) -> 578.76
A3: 43314 | B3: 0 | C3: -78.8 | D3: 0 | E3: 0 | F3: -21.4 | G3: =SUM(B3:F3) -> -100.2 | H3: 20 | I3: =(B3*8.6)+(C3*8.6)+(D3*6)+(E3*7.8)+(F3*11.42) -> -922.068
A4: 43315 | B4: -25.4 | C4: 80.5 | D4: 0 | E4: 0 | F4: -42.9 | G4: =SUM(B4:F4) -> 12.2 | H4: 8 | I4: =(B4*8.6)+(C4*8.6)+(D4*6)+(E4*7.8)+(F4*11.42) -> -16.058
A5: 43318 | B5: 0 | C5: 0 | D5: 0 | E5: 0 | F5: -20.7 | G5: =SUM(B5:F5) -> -20.7 | H5: 4 | I5: =(B5*8.6)+(C5*8.6)+(D5*6)+(E5*7.8)+(F5*11.42) -> -236.394
A6: 43319 | B6: 0 | C6: 0 | D6: 0 | E6: 0 | F6: 5.5 | G6: =SUM(B6:F6) -> 5.5 | H6: 1 | I6: =(B6*8.6)+(C6*8.6)+(D6*6)+(E6*7.8)+(F6*11.42) -> 62.81
A7: 43320 | B7: 0 | C7: 0 | D7: 0 | E7: 363.7 | F7: 0 | G7: =SUM(B7:F7) -> 363.7 | H7: 8 | I7: =(B7*8.6)+(C7*8.6)+(D7*6)+(E7*7.8)+(F7*11.42) -> 2836.86
A8: 43321 | B8: 0 | C8: 0 | D8: 0 | E8: 356.9 | F8: 0 | G8: =SUM(B8:F8) -> 356.9 | H8: 4 | I8: =(B8*8.6)+(C8*8.6)+(D8*6)+(E8*7.8)+(F8*11.42) -> 2783.82
A9: 43322 | B9: 67 | C9: 0 | D9: -93.2 | E9: -46.5 | F9: 0 | G9: =SUM(B9:F9) -> -72.7 | H9: 15 | I9: =(B9*8.6)+(C9*8.6)+(D9*6)+(E9*7.8)+(F9*11.42) -> -345.7
A10: 43325 | B10: 0 | C10: 0 | D10: 0 | E10: 0 | F10: 0 | G10: =SUM(B10:F10) -> 0 | H10: 0 | I10: =(B10*8.6)+(C10*8.6)+(D10*6)+(E10*7.8)+(F10*11.42) -> 0
A11: 43326 | B11: 0 | C11: 0 | D11: 0 | E11: 0 | F11: 0 | G11: =SUM(B11:F11) -> 0 | H11: 0 | I11: =(B11*8.6)+(C11*8.6)+(D11*6)+(E11*7.8)+(F11*11.42) -> 0
A12: 43327 | B12: 0 | C12: 0 | D12: 0 | E12: 0 | F12: 0 | G12: =SUM(B12:F12) -> 0 | H12: 0 | I12: =(B12*8.6)+(C12*8.6)+(D12*6)+(E12*7.8)+(F12*11.42) -> 0
A13: 43328 | B13: 0 | C13: 0 | D13: -102.9 | E13: 0 | F13: 0 | G13: =SUM(B13:F13) -> -102.9 | H13: 7 | I13: =(B13*8.6)+(C13*8.6)+(D13*6)+(E13*7.8)+(F13*11.42) -> -617.4
... A19: 43336 | B19: -45.4 | C19: 2 | D19: 0 | E19: 0 | F19: 0 | G19: =SUM(B19:F19) -> -43.4 | H19: 4 | I19: =(B19*8.6)+(C19*8.6)+(D19*6)+(E19*7.8)+(F19*11.42) -> -373.24
A20: 43339 | B20: 0 | C20: 0 | D20: 0 | E20: 0 | F20: 0 | G20: =SUM(B20:F20) -> 0 | I20: =(B20*8.6)+(C20*8.6)+(D20*6)+(E20*7.8)+(F20*11.42) -> 0
A21: 43340 | B21: 0 | C21: 0 | D21: 0 | E21: 0 | F21: 0 | G21: =SUM(B21:F21) -> 0 | I21: =(B21*8.6)+(C21*8.6)+(D21*6)+(E21*7.8)+(F21*11.42) -> 0
A22: 43341 | B22: 0 | C22: 0 | D22: 0 | E22: 0 | F22: 0 | G22: =SUM(B22:F22) -> 0 | I22: =(B22*8.6)+(C22*8.6)+(D22*6)+(E22*7.8)+(F22*11.42) -> 0
A23: 43342 | B23: 0 | C23: 0 | D23: 0 | E23: 0 | F23: 0 | G23: =SUM(B23:F23) -> 0 | I23: =(B23*8.6)+(C23*8.6)+(D23*6)+(E23*7.8)+(F23*11.42) -> 0
A24: 43343 | B24: 0 | C24: 0 | D24: 0 | E24: 0 | F24: 0 | G24: =SUM(B24:F24) -> 0 | I24: =(B24*8.6)+(C24*8.6)+(D24*6)+(E24*7.8)+(F24*11.42) -> 0
A25: TOTAL | B25: =SUM(B2:B22) -> -94.2 | C25: =SUM(C2:C22) -> 6 | D25: =SUM(D2:D22) -> -196.1 | E25: =SUM(E2:E22) -> 748.3 | F25: =SUM(F2:F22) -> -79.5 | G25: =SUM(G2:G24) -> 384.5 | H25: =SUM(H2:H24) -> 89 | I25: =SUM(I2:I22) -> 2993.73
A26: TOTAL TRADES | B26: 22 | C26: 17 | D26: 15 | E26: 16 | F26: 19 | H26: =SUM(B26:F26) -> 89
A27: TOTAL MONTANT | B27: =(B25*8.6) -> -810.12 | C27: =(C25*8.6) -> 51.6 | D27: =(D25*6) -> -1176.6 | E27: =(E25*7.8) -> 5836.74 | F27: =(F25*11.42) -> -907.89
A29: Open Date | B29: Close Date | C29: Symbol | D29: Action | E29: Lots | F29: SL | G29: TP | H29: Open Price | I29: Close Price | J29: Commission | K29: Swap | L29: Pips | M29: Comptes

Sheet D
A1: D - Strive | B1: EURUSD | C1: USDJPY | D1: TOTAL PIPS | E1: TRADES | F1: TOTAL MONTANT
A2: 43313 | B2: =SUMPRODUCT((VALUE(TEXT($A$30:$A$96,"JJ/MM/AAAA"))=VALUE(TEXT(A2,"JJ/MM/AAAA")))*($C$30:$C$96=$B$1),$L$30:$L$96) -> 0 | C2: =SUMPRODUCT((VALUE(TEXT($A$30:$A$96,"JJ/MM/AAAA"))=VALUE(TEXT(A2,"JJ/MM/AAAA")))*($C$30:$C$96=$C$1),$L$30:$L$96) -> 0 | D2: =SUM(B2:C2) -> 0 | F2: =(B2*8.6)+(C2*7.86) -> 0
A3: 43314 | B3: =SUMPRODUCT((VALUE(TEXT($A$30:$A$96,"JJ/MM/AAAA"))=VALUE(TEXT(A3,"JJ/MM/AAAA")))*($C$30:$C$96=$B$1),$L$30:$L$96) -> 0 | C3: =SUMPRODUCT((VALUE(TEXT($A$30:$A$96,"JJ/MM/AAAA"))=VALUE(TEXT(A3,"JJ/MM/AAAA")))*($C$30:$C$96=$C$1),$L$30:$L$96) -> 0 | D3: =SUM(B3:C3) -> 0 | F3: =(B3*8.54)+(C3*7.86) -> 0
A4: 43315 | B4: =SUMPRODUCT((VALUE(TEXT($A$30:$A$96,"JJ/MM/AAAA"))=VALUE(TEXT(A4,"JJ/MM/AAAA")))*($C$30:$C$96=$B$1),$L$30:$L$96) -> 0 | C4: =SUMPRODUCT((VALUE(TEXT($A$30:$A$96,"JJ/MM/AAAA"))=VALUE(TEXT(A4,"JJ/MM/AAAA")))*($C$30:$C$96=$C$1),$L$30:$L$96) -> 0 | D4: =SUM(B4:C4) -> 0 | F4: =(B4*8.54)+(C4*7.86) -> 0
A5: 43318 | B5: =SUMPRODUCT((VALUE(TEXT($A$30:$A$96,"JJ/MM/AAAA"))=VALUE(TEXT(A5,"JJ/MM/AAAA")))*($C$30:$C$96=$B$1),$L$30:$L$96) -> 0 | C5: =SUMPRODUCT((VALUE(TEXT($A$30:$A$96,"JJ/MM/AAAA"))=VALUE(TEXT(A5,"JJ/MM/AAAA")))*($C$30:$C$96=$C$1),$L$30:$L$96) -> 0 | D5: =SUM(B5:C5) -> 0 | F5: =(B5*8.54)+(C5*7.86) -> 0
A6: 43319 | B6: =SUMPRODUCT((VALUE(TEXT($A$30:$A$96,"JJ/MM/AAAA"))=VALUE(TEXT(A6,"JJ/MM/AAAA")))*($C$30:$C$96=$B$1),$L$30:$L$96) -> 0 | C6: =SUMPRODUCT((VALUE(TEXT($A$30:$A$96,"JJ/MM/AAAA"))=VALUE(TEXT(A6,"JJ/MM/AAAA")))*($C$30:$C$96=$C$1),$L$30:$L$96) -> 0 | D6: =SUM(B6:C6) -> 0 | F6: =(B6*8.54)+(C6*7.86) -> 0
A7: 43320 | B7: =SUMPRODUCT((VALUE(TEXT($A$30:$A$96,"JJ/MM/AAAA"))=VALUE(TEXT(A7,"JJ/MM/AAAA")))*($C$30:$C$96=$B$1),$L$30:$L$96) -> 1.8 | C7: =SUMPRODUCT((VALUE(TEXT($A$30:$A$96,"JJ/MM/AAAA"))=VALUE(TEXT(A7,"JJ/MM/AAAA")))*($C$30:$C$96=$C$1),$L$30:$L$96) -> 36.1 | D7: =SUM(B7:C7) -> 37.9 | F7: =(B7*8.54)+(C7*7.86) -> 299.118
A8: 43321 | B8: =SUMPRODUCT((VALUE(TEXT($A$30:$A$96,"JJ/MM/AAAA"))=VALUE(TEXT(A8,"JJ/MM/AAAA")))*($C$30:$C$96=$B$1),$L$30:$L$96) -> 0 | C8: =SUMPRODUCT((VALUE(TEXT($A$30:$A$96,"JJ/MM/AAAA"))=VALUE(TEXT(A8,"JJ/MM/AAAA")))*($C$30:$C$96=$C$1),$L$30:$L$96) -> 0 | D8: =SUM(B8:C8) -> 0 | F8: =(B8*8.54)+(C8*7.86) -> 0
A9: 43322 | B9: =SUMPRODUCT((VALUE(TEXT($A$30:$A$96,"JJ/MM/AAAA"))=VALUE(TEXT(A9,"JJ/MM/AAAA")))*($C$30:$C$96=$B$1),$L$30:$L$96) -> 0 | C9: =SUMPRODUCT((VALUE(TEXT($A$30:$A$96,"JJ/MM/AAAA"))=VALUE(TEXT(A9,"JJ/MM/AAAA")))*($C$30:$C$96=$C$1),$L$30:$L$96) -> 0 | D9: =SUM(B9:C9) -> 0 | F9: =(B9*8.54)+(C9*7.86) -> 0
A10: 43325 | B10: =SUMPRODUCT((VALUE(TEXT($A$30:$A$96,"JJ/MM/AAAA"))=VALUE(TEXT(A10,"JJ/MM/AAAA")))*($C$30:$C$96=$B$1),$L$30:$L$96) -> -30.9 | C10: =SUMPRODUCT((VALUE(TEXT($A$30:$A$96,"JJ/MM/AAAA"))=VALUE(TEXT(A10,"JJ/MM/AAAA")))*($C$30:$C$96=$C$1),$L$30:$L$96) -> -30.6 | D10: =SUM(B10:C10) -> -61.5 | F10: =(B10*8.54)+(C10*7.86) -> -504.402
A11: 43326 | B11: =SUMPRODUCT((VALUE(TEXT($A$30:$A$96,"JJ/MM/AAAA"))=VALUE(TEXT(A11,"JJ/MM/AAAA")))*($C$30:$C$96=$B$1),$L$30:$L$96) -> 35.6 | C11: =SUMPRODUCT((VALUE(TEXT($A$30:$A$96,"JJ/MM/AAAA"))=VALUE(TEXT(A11,"JJ/MM/AAAA")))*($C$30:$C$96=$C$1),$L$30:$L$96) -> 0.7 | D11: =SUM(B11:C11) -> 36.3 | F11: =(B11*8.54)+(C11*7.86) -> 309.526
A12: 43327 | B12: =SUMPRODUCT((VALUE(TEXT($A$30:$A$96,"JJ/MM/AAAA"))=VALUE(TEXT(A12,"JJ/MM/AAAA")))*($C$30:$C$96=$B$1),$L$30:$L$96) -> 9.8 | C12: =SUMPRODUCT((VALUE(TEXT($A$30:$A$96,"JJ/MM/AAAA"))=VALUE(TEXT(A12,"JJ/MM/AAAA")))*($C$30:$C$96=$C$1),$L$30:$L$96) -> 54 | D12: =SUM(B12:C12) -> 63.8 | F12: =(B12*8.54)+(C12*7.86) -> 508.132
A13: 43328 | B13: =SUMPRODUCT((VALUE(TEXT($A$30:$A$96,"JJ/MM/AAAA"))=VALUE(TEXT(A13,"JJ/MM/AAAA")))*($C$30:$C$96=$B$1),$L$30:$L$96) -> 13.2 | C13: =SUMPRODUCT((VALUE(TEXT($A$30:$A$96,"JJ/MM/AAAA"))=VALUE(TEXT(A13,"JJ/MM/AAAA")))*($C$30:$C$96=$C$1),$L$30:$L$96) -> -4.8 | D13: =SUM(B13:C13) -> 8.4 | F13: =(B13*8.54)+(C13*7.86) -> 75
A14: 43329 | B14: =SUMPRODUCT((VALUE(TEXT($A$30:$A$96,"JJ/MM/AAAA"))=VALUE(TEXT(A14,"JJ/MM/AAAA")))*($C$30:$C$96=$B$1),$L$30:$L$96) -> -26.6 | C14: =SUMPRODUCT((VALUE(TEXT($A$30:$A$96,"JJ/MM/AAAA"))=VALUE(TEXT(A14,"JJ/MM/AAAA")))*($C$30:$C$96=$C$1),$L$30:$L$96) -> 36.2 | D14: =SUM(B14:C14) -> 9.6 | F14: =(B14*8.54)+(C14*7.86) -> 57.368
... A24: 43343 | B24: =SUMPRODUCT((VALUE(TEXT($A$30:$A$96,"JJ/MM/AAAA"))=VALUE(TEXT(A24,"JJ/MM/AAAA")))*($C$30:$C$96=$B$1),$L$30:$L$96) -> 0 | C24: =SUMPRODUCT((VALUE(TEXT($A$30:$A$96,"JJ/MM/AAAA"))=VALUE(TEXT(A24,"JJ/MM/AAAA")))*($C$30:$C$96=$C$1),$L$30:$L$96) -> 0 | D24: =SUM(B24:C24) -> 0 | F24: =(B24*8.54)+(C24*7.86) -> 0
A25: TOTAL | B25: =SUM(B2:B22) -> 18.1 | C25: =SUM(C2:C22) -> 118.6 | D25: =SUM(D2:D23) -> 186.7 | E25: =SUM(E2:E22) -> 0 | F25: =SUM(F2:F22) -> 1086.77
A26: TOTAL TRADES | B26: 23 | C26: 20 | E26: =SUM(B26:C26) -> 43
A27: TOTAL MONTANT | B27: =(B25*8.54) -> 154.574 | C27: =(C25*7.86) -> 932.196
A29: Open Date | B29: Close Date | C29: Symbol | D29: Action | E29: Lots | F29: SL | G29: TP | H29: Open Price | I29: Close Price | J29: Commission | K29: Swap | L29: Pips | M29: Comptes
A30: 30/08/2018 | B30: 30/08/2018 | C30: EURUSD | D30: Sell | E30: 0.04 | F30: 1.17184 | G30: 0 | H30: 1.16967 | I30: 1.16467 | J30: -0.22 | K30: 0 | L30: 50 | M30: 19.78 | N30: 1 | O30: 3 | P30: 00:07:25:32 | Q30: 100 | R30: 7h 25m | S30: 23.1 | T30: 0.02 | U30: 53.4 | V30: 21.36 | W30: 0 | X30: 0 | Y30: 100 | Z30: 93.6 | AA30: -3.4 | AB30: -1.36
A31: 29/08/2018 | B31: 29/08/2018 | C31: EURUSD | D31: Buy | E31: 0.04 | F31: 1.16656 | G31: 0 | H31: 1.16866 | I31: 1.16955 | J31: -0.22 | K31: 0 | L31: 8.9 | M31: 3.34 | N31: 0.17 | O31: 3 | P31: 00:01:32:11 | Q31: 1.1 | R31: 1m | S31: 0 | T31: 0.11 | U31: 8.9 | V31: 3.56 | W31: 0 | X31: 0 | Y31: 100 | Z31: 100 | AA31: 0 | AB31: 0
A32: 29/08/2018 | B32: 29/08/2018 | C32: EURUSD | D32: Sell | E32: 0.04 | F32: 1.16866 | G32: 0 | H32: 1.16657 | I32: 1.16866 | J32: -0.22 | K32: 0 | L32: -20.9 | M32: -8.58 | N32: -0.43 | O32: 3 | P32: 00:05:57:48 | Q32: 30.9 | R32: 1h 50m | S32: 32.6 | T32: 1.79 | U32: 11.7 | V32: 4.68 | W32: -20.9 | X32: -8.36 | Y32: 35.9 | Z32: 0 | AA32: -32.6 | AB32: -13.04
A33: 29/08/2018 | B33: 29/08/2018 | C33: USDJPY | D33: Sell | E33: 0.07 | F33: 111.276 | G33: 0 | H33: 111.133 | I33: 111.276 | J33: -0.39 | K33: 0 | L33: -14.3 | M33: -9.39 | N33: -0.47 | O33: 4 | P33: 00:05:45:17 | Q33: 0 | R33: 0s | S33: 14.3 | T33: 14.31 | U33: 0 | V33: 0 | W33: -14.3 | X33: -9.009 | Y33: 0 | Z33: 0 | AA33: -14.3 | AB33: -9.01
A34: 29/08/2018 | B34: 29/08/2018 | C34: USDJPY | D34: Buy | E34: 0.07 | F34: 111.133 | G34: 0 | H34: 111.275 | I34: 111.133 | J34: -0.39 | K34: 0 | L34: -14.2 | M34: -9.33 | N34: -0.47 | O34: 4 | P34: 00:04:43:00 | Q34: 0 | R34: 0s | S34: 14.3 | T34: 14.31 | U34: 0 | V34: 0 | W34: -14.3 | X34: -9.009 | Y34: 0 | Z34: 0.7 | AA34: -14.2 | AB34: -8.95
A35: 28/08/2018 | B35: 28/08/2018 | C35: EURUSD | D35: Buy | E35: 0.04 | F35: 1.16792 | G35: 0 | H35: 1.16999 | I35: 1.17157 | J35: -0.22 | K35: 0 | L35: 15.8 | M35: 6.1 | N35: 0.31 | O35: 3 | P35: 00:06:41:40 | Q35: 100 | R35: 6h 41m | S35: 28.7 | T35: 0.03 | U35: 32.1 | V35: 12.84 | W35: 0 | X35: 0 | Y35: 100 | Z35: 49.2 | AA35: -16.3 | AB35: -6.52
A36: 28/08/2018 | B36: 28/08/2018 | C36: USDJPY | D36: Sell | E36: 0.1 | F36: 111.231 | G36: 0 | H36: 111.122 | I36: 111.134 | J36: -0.55 | K36: 0 | L36: -1.2 | M36: -1.63 | N36: -0.08 | O36: 4 | P36: 00:08:17:39 | Q36: 52.7 | R36: 4h 22m | S36: 16.9 | T36: 0.34 | U36: 12.6 | V36: 11.34 | W36: -4.3 | X36: -3.87 | Y36: 74.6 | Z36: 18.3 | AA36: -13.8 | AB36: -12.42
A37: 28/08/2018 | B37: 28/08/2018 | C37: USDJPY | D37: Buy | E37: 0.1 | F37: 111.123 | G37: 0 | H37: 111.232 | I37: 111.123 | J37: -0.55 | K37: 0 | L37: -10.9 | M37: -10.36 | N37: -0.52 | O37: 4 | P37: 00:06:10:17 | Q37: 25.7 | R37: 1h 35m | S37: 21 | T37: 1.19 | U37: 9.6 | V37: 8.64 | W37: -11.4 | X37: -10.26 | Y37: 45.7 | Z37: 2.4 | AA37: -20.5 | AB37: -18.45
A38: 27/08/2018 | B38: 27/08/2018 | C38: USDJPY | D38: Sell | E38: 0.07 | F38: 111.343 | G38: 0 | H38: 111.189 | I38: 111.064 | J38: -0.39 | K38: 0 | L38: 12.5 | M38: 7.49 | N38: 0.38 | O38: 4 | P38: 00:14:27:58 | Q38: 99.4 | R38: 14h 22m | S38: 17.4 | T38: 0.02 | U38: 23.9 | V38: 15.057 | W38: -0.5 | X38: -0.315 | Y38: 98 | Z38: 53.3 | AA38: -11.4 | AB38: -7.18
A39: 27/08/2018 | B39: 27/08/2018 | C39: EURUSD | D39: Buy | E39: 0.06 | F39: 1.15965 | G39: 0 | H39: 1.16116 | I39: 1.16715 | J39: -0.33 | K39: 0 | L39: 59.9 | M39: 35.61 | N39: 1.82 | O39: 3 | P39: 00:07:23:07 | Q39: 100 | R39: 7h 23m | S39: 9.4 | T39: 0.01 | U39: 67.4 | V39: 40.44 | W39: 0 | X39: 0 | Y39: 100 | Z39: 88.9 | AA39: -7.5 | AB39: -4.5
A40: 24/08/2018 | B40: 24/08/2018 | C40: EURUSD | D40: Buy | E40: 0.05 | F40: 1.15553 | G40: 0 | H40: 1.15744 | I40: 1.16214 | J40: -0.28 | K40: 0 | L40: 47 | M40: 23.22 | N40: 1.2 | O40: 3 | P40: 00:05:19:59 | Q40: 100 | R40: 5h 19m | S40: 33.1 | T40: 0.02 | U40: 63.3 | V40: 31.65 | W40: 0 | X40: 0 | Y40: 100 | Z40: 74.2 | AA40: -16.3 | AB40: -8.15
A41: 24/08/2018 | B41: 24/08/2018 | C41: EURUSD | D41: Sell | E41: 0.05 | F41: 1.15742 | G41: 0 | H41: 1.15553 | I41: 1.1574 | J41: -0.28 | K41: 0 | L41: -18.7 | M41: -9.63 | N41: -0.5 | O41: 3 | P41: 00:01:55:51 | Q41: 0 | R41: 0s | S41: 18.7 | T41: 18.73 | U41: 0 | V41: 0 | W41: -18.7 | X41: -9.35 | Y41: 0 | Z41: 0 | AA41: -18.7 | AB41: -9.35
... A73: 13/08/2018 | B73: 13/08/2018 | C73: EURUSD | D73: Sell | E73: 0.03 | F73: 1.13985 | G73: 0 | H73: 1.13662 | I73: 1.13986 | J73: -0.17 | K73: 0 | L73: -32.4 | M73: -9.89 | N73: -0.51 | O73: 3 | P73: 00:03:43:07 | Q73: 0 | R73: 0s | S73: 32.4 | T73: 32.47 | U73: 0 | V73: 0 | W73: -32.4 | X73: -9.72 | Y73: 0 | Z73: 0 | AA73: -32.4 | AB73: -9.72
A74: 43381.51 | B74: 43381.628 | C74: EURUSD | D74: Buy | E74: 0.04 | F74: 1.14492 | G74: 0 | H74: 1.14722 | I74: 1.14491 | J74: -0.22 | K74: 0 | L74: -23.1 | M74: -9.46 | N74: -0.49 | O74: 3 | P74: 00:02:50:15 | Q74: 0 | R74: 0s | S74: 23.1 | T74: 23.15 | U74: 0 | V74: 0 | W74: -23.1 | X74: -9.24 | Y74: 0 | Z74: 0 | AA74: -23.1 | AB74: -9.24
A75: 43381.473 | B75: 43381.51 | C75: EURUSD | D75: Sell | E75: 0.04 | F75: 1.14718 | G75: 0 | H75: 1.1449 | I75: 1.1472 | J75: -0.22 | K75: 0 | L75: -23 | M75: -9.42 | N75: -0.48 | O75: 3 | P75: 00:00:53:29 | Q75: 0 | R75: 0s | S75: 23 | T75: 23.04 | U75: 0 | V75: 0 | W75: -23 | X75: -9.2 | Y75: 0 | Z75: 0 | AA75: -23 | AB75: -9.2
A76: 43381.403 | B76: 43381.425 | C76: USDJPY | D76: Buy | E76: 0.04 | F76: 110.847 | G76: 0 | H76: 111.118 | I76: 110.843 | J76: -0.22 | K76: 0 | L76: -27.5 | M76: -10.14 | N76: -0.52 | O76: 4 | P76: 00:00:31:51 | Q76: 0 | R76: 0s | S76: 27.5 | T76: 27.55 | U76: 0 | V76: 0 | W76: -27.5 | X76: -9.9 | Y76: 0 | Z76: 0 | AA76: -27.5 | AB76: -9.9
A77: 43381.305 | B77: 43381.403 | C77: USDJPY | D77: Sell | E77: 0.04 | F77: 111.103 | G77: 0 | H77: 110.838 | I77: 111.103 | J77: -0.22 | K77: 0 | L77: -26.5 | M77: -9.76 | N77: -0.5 | O77: 4 | P77: 00:02:21:41 | Q77: 0 | R77: 0s | S77: 26.5 | T77: 26.53 | U77: 0 | V77: 0 | W77: -26.5 | X77: -9.54 | Y77: 0 | Z77: 0 | AA77: -26.5 | AB77: -9.54
A78: 43351.748 | B78: 43351.79 | C78: EURUSD | D78: Sell | E78: 0.03 | F78: 1.16046 | G78: 0 | H78: 1.1576 | I78: 1.15664 | J78: -0.17 | K78: 0 | L78: 9.6 | M78: 2.71 | N78: 0.14 | O78: 3 | P78: 00:00:59:38 | Q78: 1.7 | R78: 1m | S78: 0 | T78: 0.1 | U78: 9.6 | V78: 2.88 | W78: 0 | X78: 0 | Y78: 100 | Z78: 100 | AA78: 0 | AB78: 0
A79: 43351.333 | B79: 43351.775 | C79: USDJPY | D79: Buy | E79: 0.08 | F79: 110.778 | G79: 0 | H79: 110.914 | I79: 110.921 | J79: -0.44 | K79: 0 | L79: 0.7 | M79: 0.06 | N79: 0 | O79: 4 | P79: 00:10:36:10 | Q79: 95.6 | R79: 10h 8m | S79: 32.3 | T79: 0.21 | U79: 26.7 | V79: 18.957 | W79: -5.6 | X79: -3.976 | Y79: 82.7 | Z79: 19.5 | AA79: -26 | AB79: -18.46
A80: 43351.554 | B80: 43351.748 | C80: EURUSD | D80: Buy | E80: 0.03 | F80: 1.1576 | G80: 0 | H80: 1.16048 | I80: 1.1576 | J80: -0.17 | K80: 0 | L80: -28.8 | M80: -8.81 | N80: -0.45 | O80: 3 | P80: 00:04:38:46 | Q80: 0 | R80: 0s | S80: 29 | T80: 29.07 | U80: 0 | V80: 0 | W80: -29 | X80: -8.7 | Y80: 0 | Z80: 0.7 | AA80: -28.8 | AB80: -8.64
A81: 43351.182 | B81: 43351.333 | C81: USDJPY | D81: Sell | E81: 0.08 | F81: 110.911 | G81: 0 | H81: 110.776 | I81: 110.912 | J81: -0.44 | K81: 0 | L81: -13.6 | M81: -10.25 | N81: -0.52 | O81: 4 | P81: 00:03:37:43 | Q81: 1.9 | R81: 4m | S81: 17 | T81: 7.1 | U81: 2.1 | V81: 1.512 | W81: -14.9 | X81: -10.728 | Y81: 12.4 | Z81: 7.6 | AA81: -15.7 | AB81: -11.3
...

Sheet E 
A1: E - Pepperstone | B1: EURUSD | C1: USDJPY | D1: TOTAL PIPS | E1: TRADES | F1: TOTAL MONTANT
A2: 43313 | B2: 0 | C2: 0 | D2: =SUM(B2:C2) -> 0 | E2: 0 | F2: =(B2*8.54)+(C2*7.86) -> 0
A3: 43314 | B3: 0 | C3: 0 | D3: =SUM(B3:C3) -> 0 | E3: 0 | F3: =(B3*8.54)+(C3*7.86) -> 0
A4: 43315 | B4: 0 | C4: 0 | D4: =SUM(B4:C4) -> 0 | E4: 0 | F4: =(B4*8.54)+(C4*7.86) -> 0
A5: 43318 | B5: 0 | C5: 0 | D5: =SUM(B5:C5) -> 0 | E5: 0 | F5: =(B5*8.54)+(C5*7.86) -> 0
A6: 43319 | B6: 0 | C6: 0 | D6: =SUM(B6:C6) -> 0 | E6: 0 | F6: =(B6*8.54)+(C6*7.86) -> 0
A7: 43320 | B7: 0 | C7: 0 | D7: =SUM(B7:C7) -> 0 | E7: 0 | F7: =(B7*8.54)+(C7*7.86) -> 0
A8: 43321 | B8: 0 | C8: 0 | D8: =SUM(B8:C8) -> 0 | E8: 0 | F8: =(B8*8.54)+(C8*7.86) -> 0
A9: 43322 | B9: 0 | C9: 0 | D9: =SUM(B9:C9) -> 0 | E9: 0 | F9: =(B9*8.54)+(C9*7.86) -> 0
A10: 43325 | B10: 0 | C10: 0 | D10: =SUM(B10:C10) -> 0 | E10: 0 | F10: =(B10*8.54)+(C10*7.86) -> 0
A11: 43326 | B11: 0 | C11: 0 | D11: =SUM(B11:C11) -> 0 | E11: 0 | F11: =(B11*8.54)+(C11*7.86) -> 0
A12: 43327 | B12: 0 | C12: 0 | D12: =SUM(B12:C12) -> 0 | E12: 0 | F12: =(B12*8.54)+(C12*7.86) -> 0
A13: 43328 | B13: 0 | C13: 0 | D13: =SUM(B13:C13) -> 0 | E13: 0 | F13: =(B13*8.54)+(C13*7.86) -> 0
... A24: 43343 | B24: 0 | C24: 0 | D24: =SUM(B24:C24) -> 0 | E24: 0 | F24: =(B24*8.54)+(C24*7.86) -> 0
A25: TOTAL | B25: =SUM(B2:B22) -> 0 | C25: =SUM(C2:C22) -> 0 | D25: =SUM(D2:D22) -> 0 | E25: =SUM(E2:E22) -> 0 | F25: =SUM(F2:F22) -> 0
A26: TOTAL MONTANT | B26: =(B25*8.6) -> 0 | C26: =(C25*7.86) -> 0
A27: TOTAL TRADES | E27: =SUM(B27:C27) -> 0
A29: Open Date | B29: Close Date | C29: Symbol | D29: Action | E29: Lots | F29: SL | G29: TP | H29: Open Price | I29: Close Price | J29: Commission | K29: Swap | L29: Pips | M29: Comptes

Sheet F 
A1: F - VOL Portfolio | B1: EURUSD | C1: GBPUSD | D1: TOTAL PIPS | E1: TRADES | F1: TOTAL MONTANT
A2: 43313 | D2: =SUM(B2:C2) -> 0 | F2: =(B2*8.6)+(C2*8.6) -> 0
A3: 43314 | D3: =SUM(B3:C3) -> 0 | F3: =(B3*8.6)+(C3*8.6) -> 0
A4: 43315 | D4: =SUM(B4:C4) -> 0 | F4: =(B4*8.6)+(C4*8.6) -> 0
A5: 43318 | D5: =SUM(B5:C5) -> 0 | F5: =(B5*8.6)+(C5*8.6) -> 0
A6: 43319 | D6: =SUM(B6:C6) -> 0 | F6: =(B6*8.6)+(C6*8.6) -> 0
A7: 43320 | D7: =SUM(B7:C7) -> 0 | F7: =(B7*8.6)+(C7*8.6) -> 0
A8: 43321 | D8: =SUM(B8:C8) -> 0 | F8: =(B8*8.6)+(C8*8.6) -> 0
A9: 43322 | D9: =SUM(B9:C9) -> 0 | F9: =(B9*8.6)+(C9*8.6) -> 0
A10: 43325 | D10: =SUM(B10:C10) -> 0 | F10: =(B10*8.6)+(C10*8.6) -> 0
A11: 43326 | D11: =SUM(B11:C11) -> 0 | F11: =(B11*8.6)+(C11*8.6) -> 0
A12: 43327 | D12: =SUM(B12:C12) -> 0 | F12: =(B12*8.6)+(C12*8.6) -> 0
A13: 43328 | D13: =SUM(B13:C13) -> 0 | F13: =(B13*8.6)+(C13*8.6) -> 0
... A24: 43343 | D24: =SUM(B24:C24) -> 0 | F24: =(B24*8.6)+(C24*8.6) -> 0
A25: TOTAL | B25: =SUM(B2:B24) -> 0 | C25: =SUM(C2:C24) -> 0 | D25: =SUM(D2:D24) -> 0 | E25: =SUM(E2:E24) -> 0 | F25: =SUM(F2:F22) -> 0
A26: TOTAL TRADES | B26: 64 | C26: 6 | E26: =SUM(B26:D26) -> 70
A27: TOTAL MONTANT | B27: =(B25*8.6) -> 0 | C27: =(C25*8.6) -> 0
A29: Open Date | B29: Close Date | C29: Symbol | D29: Action | E29: Lots | F29: SL | G29: TP | H29: Open Price | I29: Close Price | J29: Commission | K29: Swap | L29: Pips | M29: Comptes
A30: 08/31/2018 18:30 | B30: 08/31/2018 19:30 | C30: EURUSD | D30: Sell | E30: 0.01 | F30: 0 | G30: 0 | H30: 1.16078 | I30: 1.15878 | J30: -0.06 | K30: 0 | L30: 20 | M30: F - VOL Portfolio
A31: 08/30/2018 16:45 | B31: 08/31/2018 08:05 | C31: EURUSD | D31: Sell | E31: 0.01 | F31: 0 | G31: 0 | H31: 1.16558 | I31: 1.16863 | J31: -0.06 | K31: 0.05 | L31: -30.5 | M31: F - VOL Portfolio
A32: 08/30/2018 16:35 | B32: 08/30/2018 23:00 | C32: EURUSD | D32: Sell | E32: 0.01 | F32: 0 | G32: 0 | H32: 1.16446 | I32: 1.16765 | J32: -0.06 | K32: 0 | L32: -31.9 | M32: F - VOL Portfolio
A33: 08/30/2018 16:30 | B33: 08/30/2018 22:55 | C33: EURUSD | D33: Sell | E33: 0.01 | F33: 0 | G33: 0 | H33: 1.16593 | I33: 1.16741 | J33: -0.06 | K33: 0 | L33: -14.8 | M33: F - VOL Portfolio
A34: 08/30/2018 16:35 | B34: 08/30/2018 21:00 | C34: EURUSD | D34: Sell | E34: 0.01 | F34: 0 | G34: 0 | H34: 1.16445 | I34: 1.16686 | J34: -0.06 | K34: 0 | L34: -24.1 | M34: F - VOL Portfolio
A35: 08/30/2018 16:25 | B35: 08/30/2018 17:15 | C35: EURUSD | D35: Sell | E35: 0.01 | F35: 0 | G35: 0 | H35: 1.16623 | I35: 1.16628 | J35: -0.06 | K35: 0 | L35: -0.5 | M35: F - VOL Portfolio
A36: 08/30/2018 11:45 | B36: 08/30/2018 12:45 | C36: EURUSD | D36: Sell | E36: 0.01 | F36: 0 | G36: 0 | H36: 1.16807 | I36: 1.16915 | J36: -0.06 | K36: 0 | L36: -10.8 | M36: F - VOL Portfolio
A37: 08/30/2018 11:30 | B37: 08/30/2018 12:00 | C37: EURUSD | D37: Sell | E37: 0.01 | F37: 0 | G37: 0 | H37: 1.16756 | I37: 1.16867 | J37: -0.06 | K37: 0 | L37: -11.1 | M37: F - VOL Portfolio
A38: 08/30/2018 11:30 | B38: 08/30/2018 12:00 | C38: EURUSD | D38: Sell | E38: 0.01 | F38: 0 | G38: 0 | H38: 1.16755 | I38: 1.16867 | J38: -0.06 | K38: 0 | L38: -11.2 | M38: F - VOL Portfolio
A39: 08/29/2018 17:30 | B39: 08/30/2018 08:30 | C39: EURUSD | D39: Buy | E39: 0.01 | F39: 0 | G39: 0 | H39: 1.16995 | I39: 1.16913 | J39: -0.06 | K39: -0.32 | L39: -8.2 | M39: F - VOL Portfolio
A40: 08/29/2018 19:25 | B40: 08/29/2018 19:40 | C40: GBPUSD | D40: Buy | E40: 0.02 | F40: 0 | G40: 0 | H40: 1.29759 | I40: 1.3 | J40: -0.12 | K40: 0 | L40: 24.1 | M40: F - VOL Portfolio
A41: 08/29/2018 17:10 | B41: 08/29/2018 17:45 | C41: GBPUSD | D41: Buy | E41: 0.02 | F41: 0 | G41: 0 | H41: 1.29508 | I41: 1.30027 | J41: -0.12 | K41: 0 | L41: 51.9 | M41: F - VOL Portfolio
... A73: 08/14/2018 09:30 | B73: 08/14/2018 10:15 | C73: EURUSD | D73: Buy | E73: 0.01 | F73: 0 | G73: 0 | H73: 1.14269 | I73: 1.14149 | J73: -0.06 | K73: 0 | L73: -12 | M73: F - VOL Portfolio
A74: 43381.347 | B74: 43381.788 | C74: EURUSD | D74: Sell | E74: 0.01 | F74: 0 | G74: 0 | H74: 1.14625 | I74: 1.1406 | J74: -0.06 | K74: 0 | L74: 56.5 | M74: F - VOL Portfolio
A75: 43381.344 | B75: 43381.785 | C75: EURUSD | D75: Sell | E75: 0.01 | F75: 0 | G75: 0 | H75: 1.14645 | I75: 1.14117 | J75: -0.06 | K75: 0 | L75: 52.8 | M75: F - VOL Portfolio
A76: 43381.562 | B76: 43381.688 | C76: EURUSD | D76: Sell | E76: 0.01 | F76: 0 | G76: 0 | H76: 1.14767 | I76: 1.14163 | J76: -0.06 | K76: 0 | L76: 60.4 | M76: F - VOL Portfolio
A77: 43381.365 | B77: 43381.688 | C77: EURUSD | D77: Sell | E77: 0.01 | F77: 0 | G77: 0 | H77: 1.14517 | I77: 1.14161 | J77: -0.06 | K77: 0 | L77: 35.6 | M77: F - VOL Portfolio
A78: 43381.354 | B78: 43381.688 | C78: EURUSD | D78: Sell | E78: 0.01 | F78: 0 | G78: 0 | H78: 1.14462 | I78: 1.1416 | J78: -0.06 | K78: 0 | L78: 30.2 | M78: F - VOL Portfolio
A79: 43381.344 | B79: 43381.681 | C79: EURUSD | D79: Sell | E79: 0.01 | F79: 0 | G79: 0 | H79: 1.14645 | I79: 1.14203 | J79: -0.06 | K79: 0 | L79: 44.2 | M79: F - VOL Portfolio
A80: 43381.34 | B80: 43381.677 | C80: EURUSD | D80: Sell | E80: 0.01 | F80: 0 | G80: 0 | H80: 1.14818 | I80: 1.14326 | J80: -0.06 | K80: 0 | L80: 49.2 | M80: F - VOL Portfolio
A81: 43381.34 | B81: 43381.677 | C81: EURUSD | D81: Sell | E81: 0.01 | F81: 0 | G81: 0 | H81: 1.14818 | I81: 1.14327 | J81: -0.06 | K81: 0 | L81: 49.1 | M81: F - VOL Portfolio
A82: 43381.351 | B82: 43381.399 | C82: EURUSD | D82: Sell | E82: 0.01 | F82: 0 | G82: 0 | H82: 1.14591 | I82: 1.14701 | J82: -0.06 | K82: 0 | L82: -11 | M82: F - VOL Portfolio
...

Sheet G
A1: G - Atlas | B1: EURUSD | C1: GBPUSD | D1: USDJPY | E1: AUDUSD | F1: TOTAL PIPS | G1: TRADES | H1: TOTAL MONTANT
A2: 43313 | B2: =SUMPRODUCT((VALUE(TEXT($B$30:$B$105,"JJ/MM/AAAA"))=VALUE(TEXT(A2,"JJ/MM/AAAA")))*($C$30:$C$105=$B$1),$L$30:$L$105) -> #VALUE! | C2: =SUMPRODUCT((VALUE(TEXT($B$30:$B$105,"JJ/MM/AAAA"))=VALUE(TEXT(A2,"JJ/MM/AAAA")))*($C$30:$C$105=$C$1),$L$30:$L$105) -> #VALUE! | D2: =SUMPRODUCT((VALUE(TEXT($B$30:$B$105,"JJ/MM/AAAA"))=VALUE(TEXT(A2,"JJ/MM/AAAA")))*($C$30:$C$105=$D$1),$L$30:$L$105) -> #VALUE! | E2: =SUMPRODUCT((VALUE(TEXT($B$30:$B$105,"JJ/MM/AAAA"))=VALUE(TEXT(A2,"JJ/MM/AAAA")))*($C$30:$C$105=$E$1),$L$30:$L$105) -> #VALUE! | F2: =SUM(B2:E2) -> #VALUE! | H2: =(B2*8.6)+(C2*8.6)+(D2*7.6)+(E2*8.3) -> #VALUE!
A3: 43314 | B3: =SUMPRODUCT((VALUE(TEXT($B$30:$B$105,"JJ/MM/AAAA"))=VALUE(TEXT(A3,"JJ/MM/AAAA")))*($C$30:$C$105=$B$1),$L$30:$L$105) -> #VALUE! | C3: =SUMPRODUCT((VALUE(TEXT($B$30:$B$105,"JJ/MM/AAAA"))=VALUE(TEXT(A3,"JJ/MM/AAAA")))*($C$30:$C$105=$C$1),$L$30:$L$105) -> #VALUE! | D3: =SUMPRODUCT((VALUE(TEXT($B$30:$B$105,"JJ/MM/AAAA"))=VALUE(TEXT(A3,"JJ/MM/AAAA")))*($C$30:$C$105=$D$1),$L$30:$L$105) -> #VALUE! | E3: =SUMPRODUCT((VALUE(TEXT($B$30:$B$105,"JJ/MM/AAAA"))=VALUE(TEXT(A3,"JJ/MM/AAAA")))*($C$30:$C$105=$E$1),$L$30:$L$105) -> #VALUE! | F3: =SUM(B3:E3) -> #VALUE! | H3: =(B3*8.6)+(C3*8.6)+(D3*7.6)+(E3*8.3) -> #VALUE!
A4: 43315 | B4: =SUMPRODUCT((VALUE(TEXT($B$30:$B$105,"JJ/MM/AAAA"))=VALUE(TEXT(A4,"JJ/MM/AAAA")))*($C$30:$C$105=$B$1),$L$30:$L$105) -> #VALUE! | C4: =SUMPRODUCT((VALUE(TEXT($B$30:$B$105,"JJ/MM/AAAA"))=VALUE(TEXT(A4,"JJ/MM/AAAA")))*($C$30:$C$105=$C$1),$L$30:$L$105) -> #VALUE! | D4: =SUMPRODUCT((VALUE(TEXT($B$30:$B$105,"JJ/MM/AAAA"))=VALUE(TEXT(A4,"JJ/MM/AAAA")))*($C$30:$C$105=$D$1),$L$30:$L$105) -> #VALUE! | E4: =SUMPRODUCT((VALUE(TEXT($B$30:$B$105,"JJ/MM/AAAA"))=VALUE(TEXT(A4,"JJ/MM/AAAA")))*($C$30:$C$105=$E$1),$L$30:$L$105) -> #VALUE! | F4: =SUM(B4:E4) -> #VALUE! | H4: =(B4*8.6)+(C4*8.6)+(D4*7.6)+(E4*8.3) -> #VALUE!
A5: 43318 | B5: =SUMPRODUCT((VALUE(TEXT($B$30:$B$105,"JJ/MM/AAAA"))=VALUE(TEXT(A5,"JJ/MM/AAAA")))*($C$30:$C$105=$B$1),$L$30:$L$105) -> #VALUE! | C5: =SUMPRODUCT((VALUE(TEXT($B$30:$B$105,"JJ/MM/AAAA"))=VALUE(TEXT(A5,"JJ/MM/AAAA")))*($C$30:$C$105=$C$1),$L$30:$L$105) -> #VALUE! | D5: =SUMPRODUCT((VALUE(TEXT($B$30:$B$105,"JJ/MM/AAAA"))=VALUE(TEXT(A5,"JJ/MM/AAAA")))*($C$30:$C$105=$D$1),$L$30:$L$105) -> #VALUE! | E5: =SUMPRODUCT((VALUE(TEXT($B$30:$B$105,"JJ/MM/AAAA"))=VALUE(TEXT(A5,"JJ/MM/AAAA")))*($C$30:$C$105=$E$1),$L$30:$L$105) -> #VALUE! | F5: =SUM(B5:E5) -> #VALUE! | H5: =(B5*8.6)+(C5*8.6)+(D5*7.6)+(E5*8.3) -> #VALUE!
A6: 43319 | B6: =SUMPRODUCT((VALUE(TEXT($B$30:$B$105,"JJ/MM/AAAA"))=VALUE(TEXT(A6,"JJ/MM/AAAA")))*($C$30:$C$105=$B$1),$L$30:$L$105) -> #VALUE! | C6: =SUMPRODUCT((VALUE(TEXT($B$30:$B$105,"JJ/MM/AAAA"))=VALUE(TEXT(A6,"JJ/MM/AAAA")))*($C$30:$C$105=$C$1),$L$30:$L$105) -> #VALUE! | D6: =SUMPRODUCT((VALUE(TEXT($B$30:$B$105,"JJ/MM/AAAA"))=VALUE(TEXT(A6,"JJ/MM/AAAA")))*($C$30:$C$105=$D$1),$L$30:$L$105) -> #VALUE! | E6: =SUMPRODUCT((VALUE(TEXT($B$30:$B$105,"JJ/MM/AAAA"))=VALUE(TEXT(A6,"JJ/MM/AAAA")))*($C$30:$C$105=$E$1),$L$30:$L$105) -> #VALUE! | F6: =SUM(B6:E6) -> #VALUE! | H6: =(B6*8.6)+(C6*8.6)+(D6*7.6)+(E6*8.3) -> #VALUE!
A7: 43320 | B7: =SUMPRODUCT((VALUE(TEXT($B$30:$B$105,"JJ/MM/AAAA"))=VALUE(TEXT(A7,"JJ/MM/AAAA")))*($C$30:$C$105=$B$1),$L$30:$L$105) -> #VALUE! | C7: =SUMPRODUCT((VALUE(TEXT($B$30:$B$105,"JJ/MM/AAAA"))=VALUE(TEXT(A7,"JJ/MM/AAAA")))*($C$30:$C$105=$C$1),$L$30:$L$105) -> #VALUE! | D7: =SUMPRODUCT((VALUE(TEXT($B$30:$B$105,"JJ/MM/AAAA"))=VALUE(TEXT(A7,"JJ/MM/AAAA")))*($C$30:$C$105=$D$1),$L$30:$L$105) -> #VALUE! | E7: =SUMPRODUCT((VALUE(TEXT($B$30:$B$105,"JJ/MM/AAAA"))=VALUE(TEXT(A7,"JJ/MM/AAAA")))*($C$30:$C$105=$E$1),$L$30:$L$105) -> #VALUE! | F7: =SUM(B7:E7) -> #VALUE! | H7: =(B7*8.6)+(C7*8.6)+(D7*7.6)+(E7*8.3) -> #VALUE!
A8: 43321 | B8: =SUMPRODUCT((VALUE(TEXT($B$30:$B$105,"JJ/MM/AAAA"))=VALUE(TEXT(A8,"JJ/MM/AAAA")))*($C$30:$C$105=$B$1),$L$30:$L$105) -> #VALUE! | C8: =SUMPRODUCT((VALUE(TEXT($B$30:$B$105,"JJ/MM/AAAA"))=VALUE(TEXT(A8,"JJ/MM/AAAA")))*($C$30:$C$105=$C$1),$L$30:$L$105) -> #VALUE! | D8: =SUMPRODUCT((VALUE(TEXT($B$30:$B$105,"JJ/MM/AAAA"))=VALUE(TEXT(A8,"JJ/MM/AAAA")))*($C$30:$C$105=$D$1),$L$30:$L$105) -> #VALUE! | E8: =SUMPRODUCT((VALUE(TEXT($B$30:$B$105,"JJ/MM/AAAA"))=VALUE(TEXT(A8,"JJ/MM/AAAA")))*($C$30:$C$105=$E$1),$L$30:$L$105) -> #VALUE! | F8: =SUM(B8:E8) -> #VALUE! | H8: =(B8*8.6)+(C8*8.6)+(D8*7.6)+(E8*8.3) -> #VALUE!
A9: 43322 | B9: =SUMPRODUCT((VALUE(TEXT($B$30:$B$105,"JJ/MM/AAAA"))=VALUE(TEXT(A9,"JJ/MM/AAAA")))*($C$30:$C$105=$B$1),$L$30:$L$105) -> #VALUE! | C9: =SUMPRODUCT((VALUE(TEXT($B$30:$B$105,"JJ/MM/AAAA"))=VALUE(TEXT(A9,"JJ/MM/AAAA")))*($C$30:$C$105=$C$1),$L$30:$L$105) -> #VALUE! | D9: =SUMPRODUCT((VALUE(TEXT($B$30:$B$105,"JJ/MM/AAAA"))=VALUE(TEXT(A9,"JJ/MM/AAAA")))*($C$30:$C$105=$D$1),$L$30:$L$105) -> #VALUE! | E9: =SUMPRODUCT((VALUE(TEXT($B$30:$B$105,"JJ/MM/AAAA"))=VALUE(TEXT(A9,"JJ/MM/AAAA")))*($C$30:$C$105=$E$1),$L$30:$L$105) -> #VALUE! | F9: =SUM(B9:E9) -> #VALUE! | H9: =(B9*8.6)+(C9*8.6)+(D9*7.6)+(E9*8.3) -> #VALUE!
A10: 43325 | B10: =SUMPRODUCT((VALUE(TEXT($B$30:$B$105,"JJ/MM/AAAA"))=VALUE(TEXT(A10,"JJ/MM/AAAA")))*($C$30:$C$105=$B$1),$L$30:$L$105) -> #VALUE! | C10: =SUMPRODUCT((VALUE(TEXT($B$30:$B$105,"JJ/MM/AAAA"))=VALUE(TEXT(A10,"JJ/MM/AAAA")))*($C$30:$C$105=$C$1),$L$30:$L$105) -> #VALUE! | D10: =SUMPRODUCT((VALUE(TEXT($B$30:$B$105,"JJ/MM/AAAA"))=VALUE(TEXT(A10,"JJ/MM/AAAA")))*($C$30:$C$105=$D$1),$L$30:$L$105) -> #VALUE! | E10: =SUMPRODUCT((VALUE(TEXT($B$30:$B$105,"JJ/MM/AAAA"))=VALUE(TEXT(A10,"JJ/MM/AAAA")))*($C$30:$C$105=$E$1),$L$30:$L$105) -> #VALUE! | F10: =SUM(B10:E10) -> #VALUE! | H10: =(B10*8.6)+(C10*8.6)+(D10*7.6)+(E10*8.3) -> #VALUE!
A11: 43326 | B11: =SUMPRODUCT((VALUE(TEXT($B$30:$B$105,"JJ/MM/AAAA"))=VALUE(TEXT(A11,"JJ/MM/AAAA")))*($C$30:$C$105=$B$1),$L$30:$L$105) -> #VALUE! | C11: =SUMPRODUCT((VALUE(TEXT($B$30:$B$105,"JJ/MM/AAAA"))=VALUE(TEXT(A11,"JJ/MM/AAAA")))*($C$30:$C$105=$C$1),$L$30:$L$105) -> #VALUE! | D11: =SUMPRODUCT((VALUE(TEXT($B$30:$B$105,"JJ/MM/AAAA"))=VALUE(TEXT(A11,"JJ/MM/AAAA")))*($C$30:$C$105=$D$1),$L$30:$L$105) -> #VALUE! | E11: =SUMPRODUCT((VALUE(TEXT($B$30:$B$105,"JJ/MM/AAAA"))=VALUE(TEXT(A11,"JJ/MM/AAAA")))*($C$30:$C$105=$E$1),$L$30:$L$105) -> #VALUE! | F11: =SUM(B11:E11) -> #VALUE! | H11: =(B11*8.6)+(C11*8.6)+(D11*7.6)+(E11*8.3) -> #VALUE!
A12: 43327 | B12: =SUMPRODUCT((VALUE(TEXT($B$30:$B$105,"JJ/MM/AAAA"))=VALUE(TEXT(A12,"JJ/MM/AAAA")))*($C$30:$C$105=$B$1),$L$30:$L$105) -> #VALUE! | C12: =SUMPRODUCT((VALUE(TEXT($B$30:$B$105,"JJ/MM/AAAA"))=VALUE(TEXT(A12,"JJ/MM/AAAA")))*($C$30:$C$105=$C$1),$L$30:$L$105) -> #VALUE! | D12: =SUMPRODUCT((VALUE(TEXT($B$30:$B$105,"JJ/MM/AAAA"))=VALUE(TEXT(A12,"JJ/MM/AAAA")))*($C$30:$C$105=$D$1),$L$30:$L$105) -> #VALUE! | E12: =SUMPRODUCT((VALUE(TEXT($B$30:$B$105,"JJ/MM/AAAA"))=VALUE(TEXT(A12,"JJ/MM/AAAA")))*($C$30:$C$105=$E$1),$L$30:$L$105) -> #VALUE! | F12: =SUM(B12:E12) -> #VALUE! | H12: =(B12*8.6)+(C12*8.6)+(D12*7.6)+(E12*8.3) -> #VALUE!
A13: 43328 | B13: =SUMPRODUCT((VALUE(TEXT($B$30:$B$105,"JJ/MM/AAAA"))=VALUE(TEXT(A13,"JJ/MM/AAAA")))*($C$30:$C$105=$B$1),$L$30:$L$105) -> #VALUE! | C13: =SUMPRODUCT((VALUE(TEXT($B$30:$B$105,"JJ/MM/AAAA"))=VALUE(TEXT(A13,"JJ/MM/AAAA")))*($C$30:$C$105=$C$1),$L$30:$L$105) -> #VALUE! | D13: =SUMPRODUCT((VALUE(TEXT($B$30:$B$105,"JJ/MM/AAAA"))=VALUE(TEXT(A13,"JJ/MM/AAAA")))*($C$30:$C$105=$D$1),$L$30:$L$105) -> #VALUE! | E13: =SUMPRODUCT((VALUE(TEXT($B$30:$B$105,"JJ/MM/AAAA"))=VALUE(TEXT(A13,"JJ/MM/AAAA")))*($C$30:$C$105=$E$1),$L$30:$L$105) -> #VALUE! | F13: =SUM(B13:E13) -> #VALUE! | H13: =(B13*8.6)+(C13*8.6)+(D13*7.6)+(E13*8.3) -> #VALUE!
... A24: 43343 | B24: =SUMPRODUCT((VALUE(TEXT($B$30:$B$105,"JJ/MM/AAAA"))=VALUE(TEXT(A24,"JJ/MM/AAAA")))*($C$30:$C$105=$B$1),$L$30:$L$105) -> #VALUE! | C24: =SUMPRODUCT((VALUE(TEXT($B$30:$B$105,"JJ/MM/AAAA"))=VALUE(TEXT(A24,"JJ/MM/AAAA")))*($C$30:$C$105=$C$1),$L$30:$L$105) -> #VALUE! | D24: =SUMPRODUCT((VALUE(TEXT($B$30:$B$105,"JJ/MM/AAAA"))=VALUE(TEXT(A24,"JJ/MM/AAAA")))*($C$30:$C$105=$D$1),$L$30:$L$105) -> #VALUE! | E24: =SUMPRODUCT((VALUE(TEXT($B$30:$B$105,"JJ/MM/AAAA"))=VALUE(TEXT(A24,"JJ/MM/AAAA")))*($C$30:$C$105=$E$1),$L$30:$L$105) -> #VALUE! | F24: =SUM(B24:E24) -> #VALUE! | H24: =(B24*8.6)+(C24*8.6)+(D24*7.6)+(E24*8.3) -> #VALUE!
A25: TOTAL | B25: =SUM(B2:B22) -> #VALUE! | C25: =SUM(C2:C22) -> #VALUE! | D25: =SUM(D2:D22) -> #VALUE! | E25: =SUM(E2:E22) -> #VALUE! | F25: =SUM(F2:F22) -> #VALUE! | G25: =SUM(G2:G23) -> 0 | H25: =SUM(H2:H22) -> #VALUE!
A26: TOTAL TRADES | B26: 27 | C26: 23 | D26: 5 | E26: 5 | G26: =SUM(B26:E26) -> 60
A27: TOTAL MONTANT | B27: =(B25*8.6) -> #VALUE! | C27: =(C25*8.6) -> #VALUE! | D27: =(D25*7.86) -> #VALUE! | E27: =(E25*8.3) -> #VALUE! | F27: =SUM(B27:E27) -> #VALUE!
A29: Open Date | B29: Close Date | C29: Symbol | D29: Action | E29: Lots | F29: SL | G29: TP | H29: Open Price | I29: Close Price | J29: Commission | K29: Swap | L29: Pips | M29: Comptes
A30: 08/31/2018 21:55 | B30: 08/31/2018 22:30 | C30: EURUSD | D30: Sell | E30: 0.3 | F30: 1.16556 | G30: 1.14596 | H30: 1.16086 | I30: 1.1599 | J30: -1.14 | K30: 0 | L30: 9.6 | M30: G - Atlas
A31: 08/31/2018 10:30 | B31: 08/31/2018 19:58 | C31: USDJPY | D31: Sell | E31: 0.06 | F31: 111.087 | G31: 110.013 | H31: 110.716 | I31: 111.087 | J31: -0.2 | K31: 0 | L31: -37.1 | M31: G - Atlas
A32: 08/30/2018 19:00 | B32: 08/31/2018 16:08 | C32: EURUSD | D32: Buy | E32: 0.3 | F32: 1.16103 | G32: 1.25463 | H32: 1.16463 | I32: 1.16282 | J32: -1.14 | K32: -1.85 | L32: -18.1 | M32: G - Atlas
A33: 08/29/2018 12:00 | B33: 08/31/2018 16:08 | C33: EURUSD | D33: Buy | E33: 0.3 | F33: 1.16306 | G33: 1.25666 | H33: 1.16666 | I33: 1.16293 | J33: -1.14 | K33: -7.39 | L33: -37.3 | M33: G - Atlas
A34: 08/30/2018 09:00 | B34: 08/31/2018 05:00 | C34: GBPUSD | D34: Buy | E34: 0.3 | F34: 1.2963 | G34: 1.4022 | H34: 1.3022 | I34: 1.30142 | J34: -1.27 | K34: -2.13 | L34: -7.8 | M34: G - Atlas
A35: 08/29/2018 18:15 | B35: 08/30/2018 14:45 | C35: USDJPY | D35: Buy | E35: 0.06 | F35: 111.421 | G35: 112.257 | H35: 111.71 | I35: 111.459 | J35: -0.19 | K35: 0.46 | L35: -25.1 | M35: G - Atlas
A36: 08/30/2018 08:22 | B36: 08/30/2018 09:19 | C36: GBPUSD | D36: Buy | E36: 0.3 | F36: 1.2966 | G36: 1.3122 | H36: 1.3022 | I36: 1.30296 | J36: -1.27 | K36: 0 | L36: 7.6 | M36: G - Atlas
A37: 08/30/2018 08:30 | B37: 08/30/2018 08:35 | C37: GBPUSD | D37: Buy | E37: 0.3 | F37: 1.29589 | G37: 1.32759 | H37: 1.30159 | I37: 1.30279 | J37: -1.27 | K37: 0 | L37: 12 | M37: G - Atlas
A38: 08/29/2018 17:45 | B38: 08/30/2018 03:30 | C38: GBPUSD | D38: Buy | E38: 0.06 | F38: 1.28747 | G38: 1.32496 | H38: 1.30048 | I38: 1.30291 | J38: -0.25 | K38: -1.28 | L38: 24.3 | M38: G - Atlas
A39: 08/29/2018 21:24 | B39: 08/29/2018 21:35 | C39: EURUSD | D39: Buy | E39: 0.3 | F39: 1.16484 | G39: 1.18924 | H39: 1.16924 | I39: 1.16998 | J39: -1.14 | K39: 0 | L39: 7.4 | M39: G - Atlas
A40: 08/29/2018 17:30 | B40: 08/29/2018 19:32 | C40: GBPUSD | D40: Buy | E40: 0.06 | F40: 1.28683 | G40: 1.32265 | H40: 1.29937 | I40: 1.2994 | J40: -0.25 | K40: 0 | L40: 0.3 | M40: G - Atlas
A41: 08/29/2018 17:00 | B41: 08/29/2018 18:27 | C41: GBPUSD | D41: Buy | E41: 0.06 | F41: 1.28719 | G41: 1.31505 | H41: 1.29695 | I41: 1.30097 | J41: -0.25 | K41: 0 | L41: 40.2 | M41: G - Atlas
... A49: 08/24/2018 04:00 | B49: 08/24/2018 15:30 | C49: AUDUSD | D49: Sell | E49: 0.3 | F49: 0.73153 | G49: 0.70953 | H49: 0.72553 | I49: 0.73073 | J49: -0.72 | K49: 0 | L49: -52 | M49: G - Atlas
A50: 43381.396 | B50: 08/24/2018 06:00 | C50: AUDUSD | D50: Sell | E50: 0.06 | F50: 0.74077 | G50: 0.71139 | H50: 0.73086 | I50: 0.7284 | J50: -0.15 | K50: -1.25 | L50: 24.6 | M50: G - Atlas
A51: 08/23/2018 14:00 | B51: 08/23/2018 15:00 | C51: GBPUSD | D51: Buy | E51: 0.06 | F51: 1.28544 | G51: 1.30125 | H51: 1.29094 | I51: 1.28835 | J51: -0.25 | K51: 0 | L51: -25.9 | M51: G - Atlas
A52: 08/23/2018 04:00 | B52: 08/23/2018 13:55 | C52: EURUSD | D52: Buy | E52: 0.3 | F52: 1.15676 | G52: 1.16576 | H52: 1.15666 | I52: 1.15888 | J52: -1.14 | K52: 0 | L52: 22.2 | M52: G - Atlas
A53: 08/23/2018 09:08 | B53: 08/23/2018 10:16 | C53: AUDUSD | D53: Sell | E53: 0.3 | F53: 0.73269 | G53: 0.72399 | H53: 0.72969 | I53: 0.7292 | J53: -0.72 | K53: 0 | L53: 4.9 | M53: G - Atlas
A54: 08/22/2018 10:30 | B54: 08/22/2018 15:15 | C54: GBPUSD | D54: Buy | E54: 0.3 | F54: 1.28362 | G54: 1.31532 | H54: 1.28932 | I54: 1.29161 | J54: -1.27 | K54: 0 | L54: 22.9 | M54: G - Atlas
A55: 08/22/2018 00:05 | B55: 08/22/2018 12:12 | C55: EURUSD | D55: Buy | E55: 0.3 | F55: 1.15257 | G55: 1.17197 | H55: 1.15707 | I55: 1.15876 | J55: -1.14 | K55: 0 | L55: 16.9 | M55: G - Atlas
A56: 08/22/2018 09:20 | B56: 08/22/2018 12:12 | C56: EURUSD | D56: Buy | E56: 0.3 | F56: 1.15667 | G56: 1.17156 | H56: 1.15666 | I56: 1.15879 | J56: -1.14 | K56: 0 | L56: 21.3 | M56: G - Atlas
A57: 08/21/2018 15:15 | B57: 08/21/2018 15:55 | C57: GBPUSD | D57: Buy | E57: 0.3 | F57: 1.28244 | G57: 1.30172 | H57: 1.28172 | I57: 1.28328 | J57: -1.27 | K57: 0 | L57: 15.6 | M57: G - Atlas
A58: 08/21/2018 10:35 | B58: 08/21/2018 13:40 | C58: GBPUSD | D58: Buy | E58: 0.3 | F58: 1.27725 | G58: 1.30745 | H58: 1.28245 | I58: 1.28348 | J58: -1.27 | K58: 0 | L58: 10.3 | M58: G - Atlas
...

Sheet H
A1: H - Scorpion | B1: EURUSD | C1: GBPUSD | D1: USDJPY | E1: TOTAL PIPS | F1: TRADES | G1: TOTAL MONTANT
A2: 43313 | B2: =SUMPRODUCT((VALUE(TEXT($B$30:$B$140,"JJ/MM/AAAA"))=VALUE(TEXT(A2,"JJ/MM/AAAA")))*($C$30:$C$140=$B$1),$L$30:$L$140) -> #VALUE! | C2: =SUMPRODUCT((VALUE(TEXT($B$30:$B$140,"JJ/MM/AAAA"))=VALUE(TEXT(A2,"JJ/MM/AAAA")))*($C$30:$C$140=$C$1),$L$30:$L$140) -> #VALUE! | D2: =SUMPRODUCT((VALUE(TEXT($B$30:$B$140,"JJ/MM/AAAA"))=VALUE(TEXT(A2,"JJ/MM/AAAA")))*($C$30:$C$140=$D$1),$L$30:$L$140) -> #VALUE! | E2: =SUM(B2:D2) -> #VALUE! | G2: =(B2*8.6)+(C2*8.6)+(D2*7.86) -> #VALUE!
A3: 43314 | B3: =SUMPRODUCT((VALUE(TEXT($B$30:$B$140,"JJ/MM/AAAA"))=VALUE(TEXT(A3,"JJ/MM/AAAA")))*($C$30:$C$140=$B$1),$L$30:$L$140) -> #VALUE! | C3: =SUMPRODUCT((VALUE(TEXT($B$30:$B$140,"JJ/MM/AAAA"))=VALUE(TEXT(A3,"JJ/MM/AAAA")))*($C$30:$C$140=$C$1),$L$30:$L$140) -> #VALUE! | D3: =SUMPRODUCT((VALUE(TEXT($B$30:$B$140,"JJ/MM/AAAA"))=VALUE(TEXT(A3,"JJ/MM/AAAA")))*($C$30:$C$140=$D$1),$L$30:$L$140) -> #VALUE! | E3: =SUM(B3:D3) -> #VALUE! | G3: =(B3*8.6)+(C3*8.6)+(D3*7.86) -> #VALUE!
A4: 43315 | B4: =SUMPRODUCT((VALUE(TEXT($B$30:$B$140,"JJ/MM/AAAA"))=VALUE(TEXT(A4,"JJ/MM/AAAA")))*($C$30:$C$140=$B$1),$L$30:$L$140) -> #VALUE! | C4: =SUMPRODUCT((VALUE(TEXT($B$30:$B$140,"JJ/MM/AAAA"))=VALUE(TEXT(A4,"JJ/MM/AAAA")))*($C$30:$C$140=$C$1),$L$30:$L$140) -> #VALUE! | D4: =SUMPRODUCT((VALUE(TEXT($B$30:$B$140,"JJ/MM/AAAA"))=VALUE(TEXT(A4,"JJ/MM/AAAA")))*($C$30:$C$140=$D$1),$L$30:$L$140) -> #VALUE! | E4: =SUM(B4:D4) -> #VALUE! | G4: =(B4*8.6)+(C4*8.6)+(D4*7.86) -> #VALUE!
A5: 43318 | B5: =SUMPRODUCT((VALUE(TEXT($B$30:$B$140,"JJ/MM/AAAA"))=VALUE(TEXT(A5,"JJ/MM/AAAA")))*($C$30:$C$140=$B$1),$L$30:$L$140) -> #VALUE! | C5: =SUMPRODUCT((VALUE(TEXT($B$30:$B$140,"JJ/MM/AAAA"))=VALUE(TEXT(A5,"JJ/MM/AAAA")))*($C$30:$C$140=$C$1),$L$30:$L$140) -> #VALUE! | D5: =SUMPRODUCT((VALUE(TEXT($B$30:$B$140,"JJ/MM/AAAA"))=VALUE(TEXT(A5,"JJ/MM/AAAA")))*($C$30:$C$140=$D$1),$L$30:$L$140) -> #VALUE! | E5: =SUM(B5:D5) -> #VALUE! | G5: =(B5*8.6)+(C5*8.6)+(D5*7.86) -> #VALUE!
A6: 43319 | B6: =SUMPRODUCT((VALUE(TEXT($B$30:$B$140,"JJ/MM/AAAA"))=VALUE(TEXT(A6,"JJ/MM/AAAA")))*($C$30:$C$140=$B$1),$L$30:$L$140) -> #VALUE! | C6: =SUMPRODUCT((VALUE(TEXT($B$30:$B$140,"JJ/MM/AAAA"))=VALUE(TEXT(A6,"JJ/MM/AAAA")))*($C$30:$C$140=$C$1),$L$30:$L$140) -> #VALUE! | D6: =SUMPRODUCT((VALUE(TEXT($B$30:$B$140,"JJ/MM/AAAA"))=VALUE(TEXT(A6,"JJ/MM/AAAA")))*($C$30:$C$140=$D$1),$L$30:$L$140) -> #VALUE! | E6: =SUM(B6:D6) -> #VALUE! | G6: =(B6*8.6)+(C6*8.6)+(D6*7.86) -> #VALUE!
