Workbook
Name annee: [1]Calendrier!$BD$2
Name dates: [1]Dates!$A:$A
Name mois: [1]Calendrier!$BD$4
Name OFFRE: 'Cal. Offre'!#REF!

Sheet Programmation
E1: Mode d'emploi | Z1: Légende | AG1: =PROPER(TEXT(AI2,"mmmm aa")) -> Mars 25 | AL1: =PROPER(TEXT(AM2,"mmmm aa")) -> Avril 25 | AP1: =PROPER(TEXT(AQ2,"mmmm aa")) -> Mai 25 | AU1: =PROPER(TEXT(AV2,"mmmm aa")) -> Juin 25 | AY1: =PROPER(TEXT(BA2,"mmmm aa")) -> Juillet 25 | BC1: =PROPER(TEXT(BE2,"mmmm aa")) -> Août 25 | BH1: =PROPER(TEXT(BI2,"mmmm aa")) -> Septembre 25 | BL1: =PROPER(TEXT(BM2,"mmmm aa")) -> Octobre 25 | BP1: =PROPER(TEXT(BR2,"mmmm aa")) -> Novembre 25 | BU1: =PROPER(TEXT(BV2,"mmmm aa")) -> Décembre 25 | BY1: =PROPER(TEXT(BZ2,"mmmm aa")) -> Janvier 26 | CC1: =PROPER(TEXT(CD2,"mmmm aa")) -> Février 26 | CH1: =PROPER(TEXT(CI2,"mmmm aa")) -> Mars 26 | CM1: =PROPER(TEXT(CN2,"mmmm aa")) -> Avril 26 | CQ1: =PROPER(TEXT(CR2,"mmmm aa")) -> Mai 26 | CU1: =PROPER(TEXT(CW2,"mmmm aa")) -> Juin 26 | CZ1: =PROPER(TEXT(DA2,"mmmm aa")) -> Juillet 26 | DD1: =PROPER(TEXT(DE2,"mmmm aa")) -> Août 26 | DH1: =PROPER(TEXT(DI2,"mmmm aa")) -> Septembre 26 | DM1: =PROPER(TEXT(DN2,"mmmm aa")) -> Octobre 26
A2: Année de départ | C2: 2025 | AE2: Lundi | AF2: 7.5 | AG2: =IF(WEEKDAY(DATE(C2,C5,1),3)=7,DATE(C2,C5,1),DATE(C2,C5,1)-WEEKDAY(DATE(C2,C5,1),3)) -> 45712 | AH2: =AG2+7 -> 45719 | AI2: =AH2+7 -> 45726 | AJ2: =AI2+7 -> 45733 | AK2: =AJ2+7 -> 45740 | AL2: =AK2+7 -> 45747 | AM2: =AL2+7 -> 45754 | AN2: =AM2+7 -> 45761 | AO2: =AN2+7 -> 45768 | ... DQ2: =DP2+7 -> 46328 | EL2: 1
E3: EXEMPLE DE REMPLISSAGE | O3: Pour créer de nouvelles lignes, Copier/Insérer les lignes entières Remplir la cellule AC6 pour le calcul de saturation | U3: La feuille intitulée ANNEXE contient les dates des fermeture de centre et les dates des jours ferié. Attention, veiller à ce que les dates des jours fériés n'apparaissent qu'une fois dans le tableau (PAS DE DOUBLONS) | Z3: EN BLEU : Semaine d'entrée en formation | AC3: Qté stagiaires MAX | AE3: Mardi | AF3: 8 | AG3: =AG2+1 -> 45713 | AH3: =AG3+7 -> 45720 | AI3: =AH3+7 -> 45727 | AJ3: =AI3+7 -> 45734 | AK3: =AJ3+7 -> 45741 | AL3: =AK3+7 -> 45748 | AM3: =AL3+7 -> 45755 | AN3: =AM3+7 -> 45762 | AO3: =AN3+7 -> 45769 | ... DQ3: =DP3+7 -> 46329
E4: Entrer le type de marché | I4: Durée Form(en H) ou PAE 1 (SEM) --> | L4: ENTRER LA DUREE en heure ou en semaine | Z4: EN ROUGE : Semaine de sortie de formation | AE4: Mercredi | AF4: 8 | AG4: =AG3+1 -> 45714 | AH4: =AG4+7 -> 45721 | AI4: =AH4+7 -> 45728 | AJ4: =AI4+7 -> 45735 | AK4: =AJ4+7 -> 45742 | AL4: =AK4+7 -> 45749 | AM4: =AL4+7 -> 45756 | AN4: =AM4+7 -> 45763 | AO4: =AN4+7 -> 45770 | ... DQ4: =DP4+7 -> 46330
A5: Mois de départ | C5: 3 | E5: Entrer le numéro d'offre | G5: Entrer le nombre de stagiaires | I5: Entrer la date de début de la période Veiller à ce que ce soit un lundi | L5: Cette date se calcul automatiquement | Z5: EN JAUNE : Temps en centre | AE5: Jeudi | AF5: 8 | AG5: =AG4+1 -> 45715 | AH5: =AG5+7 -> 45722 | AI5: =AH5+7 -> 45729 | AJ5: =AI5+7 -> 45736 | AK5: =AJ5+7 -> 45743 | AL5: =AK5+7 -> 45750 | AM5: =AL5+7 -> 45757 | AN5: =AM5+7 -> 45764 | AO5: =AN5+7 -> 45771 | ... DQ5: =DP5+7 -> 46331
Z6: EN VERT : Période en entreprise | AC6: 16 | AE6: Vendredi | AF6: 3.5 | AG6: =AG5+1 -> 45716 | AH6: =AG6+7 -> 45723 | AI6: =AH6+7 -> 45730 | AJ6: =AI6+7 -> 45737 | AK6: =AJ6+7 -> 45744 | AL6: =AK6+7 -> 45751 | AM6: =AL6+7 -> 45758 | AN6: =AM6+7 -> 45765 | AO6: =AN6+7 -> 45772 | ... DQ6: =DP6+7 -> 46332
AE7: Semaine | AF7: =SUM(AF2:AF6) -> 35 | AG7: ='Calc heur'!B16 -> 35 | AH7: ='Calc heur'!C16 -> 35 | AI7: ='Calc heur'!D16 -> 35 | AJ7: ='Calc heur'!E16 -> 35 | AK7: ='Calc heur'!F16 -> 35 | AL7: ='Calc heur'!G16 -> 35 | AM7: ='Calc heur'!H16 -> 35 | AN7: ='Calc heur'!I16 -> 35 | ... DQ7: ='Calc heur'!CL16 -> 35
A8: Durée init --> | B8: 1155 | C8: Nbr d'H à indiquer --> | AE8: No Semaine | AG8: =WEEKNUM(AG2) -> 9 | AH8: =_xlfn.ISOWEEKNUM(AH2) -> 10 | AI8: =_xlfn.ISOWEEKNUM(AI2) -> 11 | AJ8: =_xlfn.ISOWEEKNUM(AJ2) -> 12 | AK8: =_xlfn.ISOWEEKNUM(AK2) -> 13 | AL8: =_xlfn.ISOWEEKNUM(AL2) -> 14 | AM8: =_xlfn.ISOWEEKNUM(AM2) -> 15 | AN8: =_xlfn.ISOWEEKNUM(AN2) -> 16 | AO8: =_xlfn.ISOWEEKNUM(AO2) -> 17 | ... DQ8: =_xlfn.ISOWEEKNUM(DQ2) -> 45
A9: Durée réel --> | B9: 1178.5 | C9: 45719 | D9: =IF(ISBLANK(C9),"??? --/--/----",INDEX($AG$6:$DQ$6,,MATCH($B$9,'Calc heur'!$B$21:$CL$21,1))) -> 45961
A10: Marché | C10: FORMATION | E10: PAE 1 | G10: PAE 2 | I10: PAE 3 | K10: PAE 4 | M10: PAE 5 | O10: PAE 6 | Q10: PAE 7 | S10: PAE 8 | U10: PAE 9 | W10: PAE 10 | Y10: PAE 11 | AA10: PAE 12 | AE10: Nmbre STAGIAIRE | AG10: =IF(SUM(AG13:AG62)=0,"--",SUM(AG13:AG62)) -> 5 | AH10: =IF(SUM(AH13:AH62)=0,"--",SUM(AH13:AH62)) -> 13 | AI10: =IF(SUM(AI13:AI62)=0,"--",SUM(AI13:AI62)) -> 13 | AJ10: =IF(SUM(AJ13:AJ62)=0,"--",SUM(AJ13:AJ62)) -> 13 | AK10: =IF(SUM(AK13:AK62)=0,"--",SUM(AK13:AK62)) -> 13 | AL10: =IF(SUM(AL13:AL62)=0,"--",SUM(AL13:AL62)) -> 13 | AM10: =IF(SUM(AM13:AM62)=0,"--",SUM(AM13:AM62)) -> 13 | AN10: =IF(SUM(AN13:AN62)=0,"--",SUM(AN13:AN62)) -> 13 | ... DQ10: =IF(SUM(DQ13:DQ62)=0,"--",SUM(DQ13:DQ62)) -> 5
A11: OFFRE | B11: Nbre | C11: ENTREE | D11: SORTIE | E11: ENTREE | F11: SORTIE | G11: ENTREE | H11: SORTIE | I11: ENTREE | J11: SORTIE | K11: ENTREE | L11: SORTIE | M11: ENTREE | N11: SORTIE | O11: ENTREE | P11: SORTIE | Q11: ENTREE | R11: SORTIE | S11: ENTREE | T11: SORTIE | U11: ENTREE | V11: SORTIE | W11: ENTREE | X11: SORTIE | Y11: ENTREE | Z11: SORTIE | AA11: ENTREE | AB11: SORTIE | AE11: Taux saturation | AG11: =IF(AG10="--","--",AG10/$AC$6) -> 0.3125 | AH11: =IF(AH10="--","--",AH10/$AC$6) -> 0.8125 | AI11: =IF(AI10="--","--",AI10/$AC$6) -> 0.8125 | AJ11: =IF(AJ10="--","--",AJ10/$AC$6) -> 0.8125 | AK11: =IF(AK10="--","--",AK10/$AC$6) -> 0.8125 | AL11: =IF(AL10="--","--",AL10/$AC$6) -> 0.8125 | AM11: =IF(AM10="--","--",AM10/$AC$6) -> 0.8125 | AN11: =IF(AN10="--","--",AN10/$AC$6) -> 0.8125 | ... DQ11: =IF(DQ10="--","--",DQ10/$AC$6) -> 0.3125
A13: MP | C13: Durée Form (en H) --> | D13: 735 | E13: Durée PAE 1 (SEM) --> | F13: 4 | G13: Durée PAE 2 (SEM) --> | I13: Durée PAE 3 (SEM) --> | K13: Durée PAE 4 (SEM) --> | M13: Durée PAE 5 (SEM) --> | O13: Durée PAE 6 (SEM) --> | Q13: Durée PAE 7 (SEM) --> | S13: Durée PAE 8 (SEM) --> | U13: Durée PAE 9 (SEM) --> | W13: Durée PAE 10 (SEM) -> | Y13: Durée PAE 11 (SEM) --> | AA13: Durée PAE 12 (SEM) -->
A14: 24135 | B14: 1 | C14: 45481 | D14: =IF(ISBLANK(C14),"??? --/--/----",C14+((D13/35)*7-3)) -> 45625 | E14: 45544 | F14: =IF(ISBLANK(E14),"??? --/--/----",E14+((F13-1)*7+4)) -> 45569 | H14: =IF(ISBLANK(G14),"??? --/--/----",G14+((H13-1)*7+4)) -> ??? --/--/---- | J14: =IF(ISBLANK(I14),"??? --/--/----",I14+((J13-1)*7+4)) -> ??? --/--/---- | L14: =IF(ISBLANK(K14),"??? --/--/----",K14+((L13-1)*7+4)) -> ??? --/--/---- | N14: =IF(ISBLANK(M14),"??? --/--/----",M14+((N13-1)*7+4)) -> ??? --/--/---- | P14: =IF(ISBLANK(O14),"??? --/--/----",O14+((P13-1)*7+4)) -> ??? --/--/---- | R14: =IF(ISBLANK(Q14),"??? --/--/----",Q14+((R13-1)*7+4)) -> ??? --/--/---- | T14: =IF(ISBLANK(S14),"??? --/--/----",S14+((T13-1)*7+4)) -> ??? --/--/---- | V14: =IF(ISBLANK(U14),"??? --/--/----",U14+((V13-1)*7+4)) -> ??? --/--/---- | X14: =IF(ISBLANK(W14),"??? --/--/----",W14+((X13-1)*7+4)) -> ??? --/--/---- | Z14: =IF(ISBLANK(Y14),"??? --/--/----",Y14+((Z13-1)*7+4)) -> ??? --/--/---- | AB14: =IF(ISBLANK(AA14),"??? --/--/----",AA14+((AB13-1)*7+4)) -> ??? --/--/---- | AG14: =IF(ISBLANK($C14),"",IF(AND($C14<=AG$2,$D14>=AG$2),$B14,"")) | AH14: =IF(ISBLANK($C14),"",IF(AND($C14<=AH$2,$D14>=AH$2),$B14,"")) | AI14: =IF(ISBLANK($C14),"",IF(AND($C14<=AI$2,$D14>=AI$2),$B14,"")) | AJ14: =IF(ISBLANK($C14),"",IF(AND($C14<=AJ$2,$D14>=AJ$2),$B14,"")) | AK14: =IF(ISBLANK($C14),"",IF(AND($C14<=AK$2,$D14>=AK$2),$B14,"")) | AL14: =IF(ISBLANK($C14),"",IF(AND($C14<=AL$2,$D14>=AL$2),$B14,"")) | AM14: =IF(ISBLANK($C14),"",IF(AND($C14<=AM$2,$D14>=AM$2),$B14,"")) | AN14: =IF(ISBLANK($C14),"",IF(AND($C14<=AN$2,$D14>=AN$2),$B14,"")) | ... DQ14: =IF(ISBLANK($C14),"",IF(AND($C14<=DQ$2,$D14>=DQ$2),$B14,""))
A15: HSP V2 | C15: Durée Form (en H) --> | D15: =1155+35 -> 1190 | E15: Durée PAE 1 (SEM) --> | F15: 4 | G15: Durée PAE 2 (SEM) --> | H15: 5 | I15: Durée PAE 3 (SEM) --> | K15: Durée PAE 4 (SEM) --> | M15: Durée PAE 5 (SEM) --> | O15: Durée PAE 6 (SEM) --> | Q15: Durée PAE 7 (SEM) --> | S15: Durée PAE 8 (SEM) --> | U15: Durée PAE 9 (SEM) --> | W15: Durée PAE 10 (SEM) -> | Y15: Durée PAE 11 (SEM) --> | AA15: Durée PAE 12 (SEM) -->
A16: 23206 | B16: 5 | C16: 45628 | D16: =IF(ISBLANK(C16),"??? --/--/----",C16+((D15/35)*7-3)) -> 45863 | E16: 45705 | F16: =IF(ISBLANK(E16),"??? --/--/----",E16+((F15-1)*7+4)) -> 45730 | G16: 45796 | H16: =IF(ISBLANK(G16),"??? --/--/----",G16+((H15-1)*7+4)) -> 45828 | J16: =IF(ISBLANK(I16),"??? --/--/----",I16+((J15-1)*7+4)) -> ??? --/--/---- | L16: =IF(ISBLANK(K16),"??? --/--/----",K16+((L15-1)*7+4)) -> ??? --/--/---- | N16: =IF(ISBLANK(M16),"??? --/--/----",M16+((N15-1)*7+4)) -> ??? --/--/---- | P16: =IF(ISBLANK(O16),"??? --/--/----",O16+((P15-1)*7+4)) -> ??? --/--/---- | R16: =IF(ISBLANK(Q16),"??? --/--/----",Q16+((R15-1)*7+4)) -> ??? --/--/---- | T16: =IF(ISBLANK(S16),"??? --/--/----",S16+((T15-1)*7+4)) -> ??? --/--/---- | V16: =IF(ISBLANK(U16),"??? --/--/----",U16+((V15-1)*7+4)) -> ??? --/--/---- | X16: =IF(ISBLANK(W16),"??? --/--/----",W16+((X15-1)*7+4)) -> ??? --/--/---- | Z16: =IF(ISBLANK(Y16),"??? --/--/----",Y16+((Z15-1)*7+4)) -> ??? --/--/---- | AB16: =IF(ISBLANK(AA16),"??? --/--/----",AA16+((AB15-1)*7+4)) -> ??? --/--/---- | AG16: =IF(ISBLANK($C16),"",IF(AND($C16<=AG$2,$D16>=AG$2),$B16,"")) -> 5 | AH16: =IF(ISBLANK($C16),"",IF(AND($C16<=AH$2,$D16>=AH$2),$B16,"")) -> 5 | AI16: =IF(ISBLANK($C16),"",IF(AND($C16<=AI$2,$D16>=AI$2),$B16,"")) -> 5 | AJ16: =IF(ISBLANK($C16),"",IF(AND($C16<=AJ$2,$D16>=AJ$2),$B16,"")) -> 5 | AK16: =IF(ISBLANK($C16),"",IF(AND($C16<=AK$2,$D16>=AK$2),$B16,"")) -> 5 | AL16: =IF(ISBLANK($C16),"",IF(AND($C16<=AL$2,$D16>=AL$2),$B16,"")) -> 5 | AM16: =IF(ISBLANK($C16),"",IF(AND($C16<=AM$2,$D16>=AM$2),$B16,"")) -> 5 | AN16: =IF(ISBLANK($C16),"",IF(AND($C16<=AN$2,$D16>=AN$2),$B16,"")) -> 5 | ... DQ16: =IF(ISBLANK($C16),"",IF(AND($C16<=DQ$2,$D16>=DQ$2),$B16,""))
A17: HSP v2 | C17: Durée Form (en H) --> | D17: =1155+35+35+35 -> 1260 | E17: Durée PAE 1 (SEM) --> | F17: 4 | G17: Durée PAE 2 (SEM) --> | H17: 6 | I17: Durée PAE 3 (SEM) --> | K17: Durée PAE 4 (SEM) --> | M17: Durée PAE 5 (SEM) --> | O17: Durée PAE 6 (SEM) --> | Q17: Durée PAE 7 (SEM) --> | S17: Durée PAE 8 (SEM) --> | U17: Durée PAE 9 (SEM) --> | W17: Durée PAE 10 (SEM) -> | Y17: Durée PAE 11 (SEM) --> | AA17: Durée PAE 12 (SEM) -->
A18: 24508 | B18: 8 | C18: 45719 | D18: =IF(ISBLANK(C18),"??? --/--/----",C18+((D17/35)*7-3)) -> 45968 | E18: 45796 | F18: =IF(ISBLANK(E18),"??? --/--/----",E18+((F17-1)*7+4)) -> 45821 | G18: 45859 | H18: =IF(ISBLANK(G18),"??? --/--/----",G18+((H17-1)*7+4)) -> 45898 | J18: =IF(ISBLANK(I18),"??? --/--/----",I18+((J17-1)*7+4)) -> ??? --/--/---- | L18: =IF(ISBLANK(K18),"??? --/--/----",K18+((L17-1)*7+4)) -> ??? --/--/---- | N18: =IF(ISBLANK(M18),"??? --/--/----",M18+((N17-1)*7+4)) -> ??? --/--/---- | P18: =IF(ISBLANK(O18),"??? --/--/----",O18+((P17-1)*7+4)) -> ??? --/--/---- | R18: =IF(ISBLANK(Q18),"??? --/--/----",Q18+((R17-1)*7+4)) -> ??? --/--/---- | T18: =IF(ISBLANK(S18),"??? --/--/----",S18+((T17-1)*7+4)) -> ??? --/--/---- | V18: =IF(ISBLANK(U18),"??? --/--/----",U18+((V17-1)*7+4)) -> ??? --/--/---- | X18: =IF(ISBLANK(W18),"??? --/--/----",W18+((X17-1)*7+4)) -> ??? --/--/---- | Z18: =IF(ISBLANK(Y18),"??? --/--/----",Y18+((Z17-1)*7+4)) -> ??? --/--/---- | AB18: =IF(ISBLANK(AA18),"??? --/--/----",AA18+((AB17-1)*7+4)) -> ??? --/--/---- | AG18: =IF(ISBLANK($C18),"",IF(AND($C18<=AG$2,$D18>=AG$2),$B18,"")) | AH18: =IF(ISBLANK($C18),"",IF(AND($C18<=AH$2,$D18>=AH$2),$B18,"")) -> 8 | AI18: =IF(ISBLANK($C18),"",IF(AND($C18<=AI$2,$D18>=AI$2),$B18,"")) -> 8 | AJ18: =IF(ISBLANK($C18),"",IF(AND($C18<=AJ$2,$D18>=AJ$2),$B18,"")) -> 8 | AK18: =IF(ISBLANK($C18),"",IF(AND($C18<=AK$2,$D18>=AK$2),$B18,"")) -> 8 | AL18: =IF(ISBLANK($C18),"",IF(AND($C18<=AL$2,$D18>=AL$2),$B18,"")) -> 8 | AM18: =IF(ISBLANK($C18),"",IF(AND($C18<=AM$2,$D18>=AM$2),$B18,"")) -> 8 | AN18: =IF(ISBLANK($C18),"",IF(AND($C18<=AN$2,$D18>=AN$2),$B18,"")) -> 8 | ... DQ18: =IF(ISBLANK($C18),"",IF(AND($C18<=DQ$2,$D18>=DQ$2),$B18,""))
A19: MP | C19: Durée Form (en H) --> | D19: 770 | E19: Durée PAE 1 (SEM) --> | F19: 4 | G19: Durée PAE 2 (SEM) --> | I19: Durée PAE 3 (SEM) --> | K19: Durée PAE 4 (SEM) --> | M19: Durée PAE 5 (SEM) --> | O19: Durée PAE 6 (SEM) --> | Q19: Durée PAE 7 (SEM) --> | S19: Durée PAE 8 (SEM) --> | U19: Durée PAE 9 (SEM) --> | W19: Durée PAE 10 (SEM) -> | Y19: Durée PAE 11 (SEM) --> | AA19: Durée PAE 12 (SEM) -->
A20: 24138 | B20: 0 | C20: 45719 | D20: =IF(ISBLANK(C20),"??? --/--/----",C20+((D19/35)*7-3)) -> 45870 | E20: 45796 | F20: =IF(ISBLANK(E20),"??? --/--/----",E20+((F19-1)*7+4)) -> 45821 | H20: =IF(ISBLANK(G20),"??? --/--/----",G20+((H19-1)*7+4)) -> ??? --/--/---- | J20: =IF(ISBLANK(I20),"??? --/--/----",I20+((J19-1)*7+4)) -> ??? --/--/---- | L20: =IF(ISBLANK(K20),"??? --/--/----",K20+((L19-1)*7+4)) -> ??? --/--/---- | N20: =IF(ISBLANK(M20),"??? --/--/----",M20+((N19-1)*7+4)) -> ??? --/--/---- | P20: =IF(ISBLANK(O20),"??? --/--/----",O20+((P19-1)*7+4)) -> ??? --/--/---- | R20: =IF(ISBLANK(Q20),"??? --/--/----",Q20+((R19-1)*7+4)) -> ??? --/--/---- | T20: =IF(ISBLANK(S20),"??? --/--/----",S20+((T19-1)*7+4)) -> ??? --/--/---- | V20: =IF(ISBLANK(U20),"??? --/--/----",U20+((V19-1)*7+4)) -> ??? --/--/---- | X20: =IF(ISBLANK(W20),"??? --/--/----",W20+((X19-1)*7+4)) -> ??? --/--/---- | Z20: =IF(ISBLANK(Y20),"??? --/--/----",Y20+((Z19-1)*7+4)) -> ??? --/--/---- | AB20: =IF(ISBLANK(AA20),"??? --/--/----",AA20+((AB19-1)*7+4)) -> ??? --/--/---- | AG20: =IF(ISBLANK($C20),"",IF(AND($C20<=AG$2,$D20>=AG$2),$B20,"")) | AH20: =IF(ISBLANK($C20),"",IF(AND($C20<=AH$2,$D20>=AH$2),$B20,"")) -> 0 | AI20: =IF(ISBLANK($C20),"",IF(AND($C20<=AI$2,$D20>=AI$2),$B20,"")) -> 0 | AJ20: =IF(ISBLANK($C20),"",IF(AND($C20<=AJ$2,$D20>=AJ$2),$B20,"")) -> 0 | AK20: =IF(ISBLANK($C20),"",IF(AND($C20<=AK$2,$D20>=AK$2),$B20,"")) -> 0 | AL20: =IF(ISBLANK($C20),"",IF(AND($C20<=AL$2,$D20>=AL$2),$B20,"")) -> 0 | AM20: =IF(ISBLANK($C20),"",IF(AND($C20<=AM$2,$D20>=AM$2),$B20,"")) -> 0 | AN20: =IF(ISBLANK($C20),"",IF(AND($C20<=AN$2,$D20>=AN$2),$B20,"")) -> 0 | ... DQ20: =IF(ISBLANK($C20),"",IF(AND($C20<=DQ$2,$D20>=DQ$2),$B20,""))
A21: ALT | C21: Durée Form (en H) --> | D21: =1680+70+70 -> 1820 | E21: Durée PAE 1 (SEM) --> | F21: 7 | G21: Durée PAE 2 (SEM) --> | H21: 7 | I21: Durée PAE 3 (SEM) --> | J21: 10 | K21: Durée PAE 4 (SEM) --> | L21: 8 | M21: Durée PAE 5 (SEM) --> | N21: 8 | O21: Durée PAE 6 (SEM) --> | Q21: Durée PAE 7 (SEM) --> | S21: Durée PAE 8 (SEM) --> | U21: Durée PAE 9 (SEM) --> | W21: Durée PAE 10 (SEM) -> | Y21: Durée PAE 11 (SEM) --> | AA21: Durée PAE 12 (SEM) -->
A22: 24529 | B22: 0 | C22: 45719 | D22: =IF(ISBLANK(C22),"??? --/--/----",C22+((D21/35)*7-3)) -> 46080 | E22: 45733 | F22: =IF(ISBLANK(E22),"??? --/--/----",E22+((F21-1)*7+4)) -> 45779 | G22: 45796 | H22: =IF(ISBLANK(G22),"??? --/--/----",G22+((H21-1)*7+4)) -> 45842 | I22: 45859 | J22: =IF(ISBLANK(I22),"??? --/--/----",I22+((J21-1)*7+4)) -> 45926 | K22: 45943 | L22: =IF(ISBLANK(K22),"??? --/--/----",K22+((L21-1)*7+4)) -> 45996 | M22: 46013 | N22: =IF(ISBLANK(M22),"??? --/--/----",M22+((N21-1)*7+4)) -> 46066 | P22: =IF(ISBLANK(O22),"??? --/--/----",O22+((P21-1)*7+4)) -> ??? --/--/---- | R22: =IF(ISBLANK(Q22),"??? --/--/----",Q22+((R21-1)*7+4)) -> ??? --/--/---- | T22: =IF(ISBLANK(S22),"??? --/--/----",S22+((T21-1)*7+4)) -> ??? --/--/---- | V22: =IF(ISBLANK(U22),"??? --/--/----",U22+((V21-1)*7+4)) -> ??? --/--/---- | X22: =IF(ISBLANK(W22),"??? --/--/----",W22+((X21-1)*7+4)) -> ??? --/--/---- | Z22: =IF(ISBLANK(Y22),"??? --/--/----",Y22+((Z21-1)*7+4)) -> ??? --/--/---- | AB22: =IF(ISBLANK(AA22),"??? --/--/----",AA22+((AB21-1)*7+4)) -> ??? --/--/---- | AG22: =IF(ISBLANK($C22),"",IF(AND($C22<=AG$2,$D22>=AG$2),$B22,"")) | AH22: =IF(ISBLANK($C22),"",IF(AND($C22<=AH$2,$D22>=AH$2),$B22,"")) -> 0 | AI22: =IF(ISBLANK($C22),"",IF(AND($C22<=AI$2,$D22>=AI$2),$B22,"")) -> 0 | AJ22: =IF(ISBLANK($C22),"",IF(AND($C22<=AJ$2,$D22>=AJ$2),$B22,"")) -> 0 | AK22: =IF(ISBLANK($C22),"",IF(AND($C22<=AK$2,$D22>=AK$2),$B22,"")) -> 0 | AL22: =IF(ISBLANK($C22),"",IF(AND($C22<=AL$2,$D22>=AL$2),$B22,"")) -> 0 | AM22: =IF(ISBLANK($C22),"",IF(AND($C22<=AM$2,$D22>=AM$2),$B22,"")) -> 0 | AN22: =IF(ISBLANK($C22),"",IF(AND($C22<=AN$2,$D22>=AN$2),$B22,"")) -> 0 | ... DQ22: =IF(ISBLANK($C22),"",IF(AND($C22<=DQ$2,$D22>=DQ$2),$B22,""))
A23: HSP v2 | C23: Durée Form (en H) --> | D23: =1155+70+35+70+35 -> 1365 | E23: Durée PAE 1 (SEM) --> | F23: 5 | G23: Durée PAE 2 (SEM) --> | H23: 5 | I23: Durée PAE 3 (SEM) --> | K23: Durée PAE 4 (SEM) --> | M23: Durée PAE 5 (SEM) --> | O23: Durée PAE 6 (SEM) --> | Q23: Durée PAE 7 (SEM) --> | S23: Durée PAE 8 (SEM) --> | U23: Durée PAE 9 (SEM) --> | W23: Durée PAE 10 (SEM) -> | Y23: Durée PAE 11 (SEM) --> | AA23: Durée PAE 12 (SEM) -->
A24: 25122 | B24: 0 | C24: 45810 | D24: =IF(ISBLANK(C24),"??? --/--/----",C24+((D23/35)*7-3)) -> 46080 | E24: 45859 | F24: =IF(ISBLANK(E24),"??? --/--/----",E24+((F23-1)*7+4)) -> 45891 | G24: 45950 | H24: =IF(ISBLANK(G24),"??? --/--/----",G24+((H23-1)*7+4)) -> 45982 | J24: =IF(ISBLANK(I24),"??? --/--/----",I24+((J23-1)*7+4)) -> ??? --/--/---- | L24: =IF(ISBLANK(K24),"??? --/--/----",K24+((L23-1)*7+4)) -> ??? --/--/---- | N24: =IF(ISBLANK(M24),"??? --/--/----",M24+((N23-1)*7+4)) -> ??? --/--/---- | P24: =IF(ISBLANK(O24),"??? --/--/----",O24+((P23-1)*7+4)) -> ??? --/--/---- | R24: =IF(ISBLANK(Q24),"??? --/--/----",Q24+((R23-1)*7+4)) -> ??? --/--/---- | T24: =IF(ISBLANK(S24),"??? --/--/----",S24+((T23-1)*7+4)) -> ??? --/--/---- | V24: =IF(ISBLANK(U24),"??? --/--/----",U24+((V23-1)*7+4)) -> ??? --/--/---- | X24: =IF(ISBLANK(W24),"??? --/--/----",W24+((X23-1)*7+4)) -> ??? --/--/---- | Z24: =IF(ISBLANK(Y24),"??? --/--/----",Y24+((Z23-1)*7+4)) -> ??? --/--/---- | AB24: =IF(ISBLANK(AA24),"??? --/--/----",AA24+((AB23-1)*7+4)) -> ??? --/--/---- | AG24: =IF(ISBLANK($C24),"",IF(AND($C24<=AG$2,$D24>=AG$2),$B24,"")) | AH24: =IF(ISBLANK($C24),"",IF(AND($C24<=AH$2,$D24>=AH$2),$B24,"")) | AI24: =IF(ISBLANK($C24),"",IF(AND($C24<=AI$2,$D24>=AI$2),$B24,"")) | AJ24: =IF(ISBLANK($C24),"",IF(AND($C24<=AJ$2,$D24>=AJ$2),$B24,"")) | AK24: =IF(ISBLANK($C24),"",IF(AND($C24<=AK$2,$D24>=AK$2),$B24,"")) | AL24: =IF(ISBLANK($C24),"",IF(AND($C24<=AL$2,$D24>=AL$2),$B24,"")) | AM24: =IF(ISBLANK($C24),"",IF(AND($C24<=AM$2,$D24>=AM$2),$B24,"")) | AN24: =IF(ISBLANK($C24),"",IF(AND($C24<=AN$2,$D24>=AN$2),$B24,"")) | ... DQ24: =IF(ISBLANK($C24),"",IF(AND($C24<=DQ$2,$D24>=DQ$2),$B24,""))
A25: MP | C25: Durée Form (en H) --> | D25: 770 | E25: Durée PAE 1 (SEM) --> | F25: 4 | G25: Durée PAE 2 (SEM) --> | I25: Durée PAE 3 (SEM) --> | K25: Durée PAE 4 (SEM) --> | M25: Durée PAE 5 (SEM) --> | O25: Durée PAE 6 (SEM) --> | Q25: Durée PAE 7 (SEM) --> | S25: Durée PAE 8 (SEM) --> | U25: Durée PAE 9 (SEM) --> | W25: Durée PAE 10 (SEM) -> | Y25: Durée PAE 11 (SEM) --> | AA25: Durée PAE 12 (SEM) -->
A26: 24520 | B26: 1 | C26: 45810 | D26: =IF(ISBLANK(C26),"??? --/--/----",C26+((D25/35)*7-3)) -> 45961 | E26: 45852 | F26: =IF(ISBLANK(E26),"??? --/--/----",E26+((F25-1)*7+4)) -> 45877 | H26: =IF(ISBLANK(G26),"??? --/--/----",G26+((H25-1)*7+4)) -> ??? --/--/---- | J26: =IF(ISBLANK(I26),"??? --/--/----",I26+((J25-1)*7+4)) -> ??? --/--/---- | L26: =IF(ISBLANK(K26),"??? --/--/----",K26+((L25-1)*7+4)) -> ??? --/--/---- | N26: =IF(ISBLANK(M26),"??? --/--/----",M26+((N25-1)*7+4)) -> ??? --/--/---- | P26: =IF(ISBLANK(O26),"??? --/--/----",O26+((P25-1)*7+4)) -> ??? --/--/---- | R26: =IF(ISBLANK(Q26),"??? --/--/----",Q26+((R25-1)*7+4)) -> ??? --/--/---- | T26: =IF(ISBLANK(S26),"??? --/--/----",S26+((T25-1)*7+4)) -> ??? --/--/---- | V26: =IF(ISBLANK(U26),"??? --/--/----",U26+((V25-1)*7+4)) -> ??? --/--/---- | X26: =IF(ISBLANK(W26),"??? --/--/----",W26+((X25-1)*7+4)) -> ??? --/--/---- | Z26: =IF(ISBLANK(Y26),"??? --/--/----",Y26+((Z25-1)*7+4)) -> ??? --/--/---- | AB26: =IF(ISBLANK(AA26),"??? --/--/----",AA26+((AB25-1)*7+4)) -> ??? --/--/---- | AG26: =IF(ISBLANK($C26),"",IF(AND($C26<=AG$2,$D26>=AG$2),$B26,"")) | AH26: =IF(ISBLANK($C26),"",IF(AND($C26<=AH$2,$D26>=AH$2),$B26,"")) | AI26: =IF(ISBLANK($C26),"",IF(AND($C26<=AI$2,$D26>=AI$2),$B26,"")) | AJ26: =IF(ISBLANK($C26),"",IF(AND($C26<=AJ$2,$D26>=AJ$2),$B26,"")) | AK26: =IF(ISBLANK($C26),"",IF(AND($C26<=AK$2,$D26>=AK$2),$B26,"")) | AL26: =IF(ISBLANK($C26),"",IF(AND($C26<=AL$2,$D26>=AL$2),$B26,"")) | AM26: =IF(ISBLANK($C26),"",IF(AND($C26<=AM$2,$D26>=AM$2),$B26,"")) | AN26: =IF(ISBLANK($C26),"",IF(AND($C26<=AN$2,$D26>=AN$2),$B26,"")) | ... DQ26: =IF(ISBLANK($C26),"",IF(AND($C26<=DQ$2,$D26>=DQ$2),$B26,""))
A27: ALT | C27: Durée Form (en H) --> | D27: =1680+105 -> 1785 | E27: Durée PAE 1 (SEM) --> | F27: 6 | G27: Durée PAE 2 (SEM) --> | H27: 8 | I27: Durée PAE 3 (SEM) --> | J27: 8 | K27: Durée PAE 4 (SEM) --> | L27: 8 | M27: Durée PAE 5 (SEM) --> | N27: 9 | O27: Durée PAE 6 (SEM) --> | Q27: Durée PAE 7 (SEM) --> | S27: Durée PAE 8 (SEM) --> | U27: Durée PAE 9 (SEM) --> | W27: Durée PAE 10 (SEM) -> | Y27: Durée PAE 11 (SEM) --> | AA27: Durée PAE 12 (SEM) -->
A28: 24531 | B28: 0 | C28: 45789 | D28: =IF(ISBLANK(C28),"??? --/--/----",C28+((D27/35)*7-3)) -> 46143 | E28: 45803 | F28: =IF(ISBLANK(E28),"??? --/--/----",E28+((F27-1)*7+4)) -> 45842 | G28: 45859 | H28: =IF(ISBLANK(G28),"??? --/--/----",G28+((H27-1)*7+4)) -> 45912 | I28: 45929 | J28: =IF(ISBLANK(I28),"??? --/--/----",I28+((J27-1)*7+4)) -> 45982 | K28: 45999 | L28: =IF(ISBLANK(K28),"??? --/--/----",K28+((L27-1)*7+4)) -> 46052 | M28: 46069 | N28: =IF(ISBLANK(M28),"??? --/--/----",M28+((N27-1)*7+4)) -> 46129 | P28: =IF(ISBLANK(O28),"??? --/--/----",O28+((P27-1)*7+4)) -> ??? --/--/---- | R28: =IF(ISBLANK(Q28),"??? --/--/----",Q28+((R27-1)*7+4)) -> ??? --/--/---- | T28: =IF(ISBLANK(S28),"??? --/--/----",S28+((T27-1)*7+4)) -> ??? --/--/---- | V28: =IF(ISBLANK(U28),"??? --/--/----",U28+((V27-1)*7+4)) -> ??? --/--/---- | X28: =IF(ISBLANK(W28),"??? --/--/----",W28+((X27-1)*7+4)) -> ??? --/--/---- | Z28: =IF(ISBLANK(Y28),"??? --/--/----",Y28+((Z27-1)*7+4)) -> ??? --/--/---- | AB28: =IF(ISBLANK(AA28),"??? --/--/----",AA28+((AB27-1)*7+4)) -> ??? --/--/---- | AG28: =IF(ISBLANK($C28),"",IF(AND($C28<=AG$2,$D28>=AG$2),$B28,"")) | AH28: =IF(ISBLANK($C28),"",IF(AND($C28<=AH$2,$D28>=AH$2),$B28,"")) | AI28: =IF(ISBLANK($C28),"",IF(AND($C28<=AI$2,$D28>=AI$2),$B28,"")) | AJ28: =IF(ISBLANK($C28),"",IF(AND($C28<=AJ$2,$D28>=AJ$2),$B28,"")) | AK28: =IF(ISBLANK($C28),"",IF(AND($C28<=AK$2,$D28>=AK$2),$B28,"")) | AL28: =IF(ISBLANK($C28),"",IF(AND($C28<=AL$2,$D28>=AL$2),$B28,"")) | AM28: =IF(ISBLANK($C28),"",IF(AND($C28<=AM$2,$D28>=AM$2),$B28,"")) | AN28: =IF(ISBLANK($C28),"",IF(AND($C28<=AN$2,$D28>=AN$2),$B28,"")) | ... DQ28: =IF(ISBLANK($C28),"",IF(AND($C28<=DQ$2,$D28>=DQ$2),$B28,""))
A29: HSP v2 | C29: Durée Form (en H) --> | D29: =1155+35+35 -> 1225 | E29: Durée PAE 1 (SEM) --> | F29: 4 | G29: Durée PAE 2 (SEM) --> | H29: 5 | I29: Durée PAE 3 (SEM) --> | K29: Durée PAE 4 (SEM) --> | M29: Durée PAE 5 (SEM) --> | O29: Durée PAE 6 (SEM) --> | Q29: Durée PAE 7 (SEM) --> | S29: Durée PAE 8 (SEM) --> | U29: Durée PAE 9 (SEM) --> | W29: Durée PAE 10 (SEM) -> | Y29: Durée PAE 11 (SEM) --> | AA29: Durée PAE 12 (SEM) -->
A30: 24512 | B30: 6 | C30: 45901 | D30: =IF(ISBLANK(C30),"??? --/--/----",C30+((D29/35)*7-3)) -> 46143 | E30: 45950 | F30: =IF(ISBLANK(E30),"??? --/--/----",E30+((F29-1)*7+4)) -> 45975 | G30: 46069 | H30: =IF(ISBLANK(G30),"??? --/--/----",G30+((H29-1)*7+4)) -> 46101 | J30: =IF(ISBLANK(I30),"??? --/--/----",I30+((J29-1)*7+4)) -> ??? --/--/---- | L30: =IF(ISBLANK(K30),"??? --/--/----",K30+((L29-1)*7+4)) -> ??? --/--/---- | N30: =IF(ISBLANK(M30),"??? --/--/----",M30+((N29-1)*7+4)) -> ??? --/--/---- | P30: =IF(ISBLANK(O30),"??? --/--/----",O30+((P29-1)*7+4)) -> ??? --/--/---- | R30: =IF(ISBLANK(Q30),"??? --/--/----",Q30+((R29-1)*7+4)) -> ??? --/--/---- | T30: =IF(ISBLANK(S30),"??? --/--/----",S30+((T29-1)*7+4)) -> ??? --/--/---- | V30: =IF(ISBLANK(U30),"??? --/--/----",U30+((V29-1)*7+4)) -> ??? --/--/---- | X30: =IF(ISBLANK(W30),"??? --/--/----",W30+((X29-1)*7+4)) -> ??? --/--/---- | Z30: =IF(ISBLANK(Y30),"??? --/--/----",Y30+((Z29-1)*7+4)) -> ??? --/--/---- | AB30: =IF(ISBLANK(AA30),"??? --/--/----",AA30+((AB29-1)*7+4)) -> ??? --/--/---- | AG30: =IF(ISBLANK($C30),"",IF(AND($C30<=AG$2,$D30>=AG$2),$B30,"")) | AH30: =IF(ISBLANK($C30),"",IF(AND($C30<=AH$2,$D30>=AH$2),$B30,"")) | AI30: =IF(ISBLANK($C30),"",IF(AND($C30<=AI$2,$D30>=AI$2),$B30,"")) | AJ30: =IF(ISBLANK($C30),"",IF(AND($C30<=AJ$2,$D30>=AJ$2),$B30,"")) | AK30: =IF(ISBLANK($C30),"",IF(AND($C30<=AK$2,$D30>=AK$2),$B30,"")) | AL30: =IF(ISBLANK($C30),"",IF(AND($C30<=AL$2,$D30>=AL$2),$B30,"")) | AM30: =IF(ISBLANK($C30),"",IF(AND($C30<=AM$2,$D30>=AM$2),$B30,"")) | AN30: =IF(ISBLANK($C30),"",IF(AND($C30<=AN$2,$D30>=AN$2),$B30,"")) | ... DQ30: =IF(ISBLANK($C30),"",IF(AND($C30<=DQ$2,$D30>=DQ$2),$B30,""))
A31: MP | C31: Durée Form (en H) --> | D31: =735+35 -> 770 | E31: Durée PAE 1 (SEM) --> | F31: 4 | G31: Durée PAE 2 (SEM) --> | I31: Durée PAE 3 (SEM) --> | K31: Durée PAE 4 (SEM) --> | M31: Durée PAE 5 (SEM) --> | O31: Durée PAE 6 (SEM) --> | Q31: Durée PAE 7 (SEM) --> | S31: Durée PAE 8 (SEM) --> | U31: Durée PAE 9 (SEM) --> | W31: Durée PAE 10 (SEM) -> | Y31: Durée PAE 11 (SEM) --> | AA31: Durée PAE 12 (SEM) -->
A32: 24522 | B32: 0 | C32: 45929 | D32: =IF(ISBLANK(C32),"??? --/--/----",C32+((D31/35)*7-3)) -> 46080 | E32: 45950 | F32: =IF(ISBLANK(E32),"??? --/--/----",E32+((F31-1)*7+4)) -> 45975 | H32: =IF(ISBLANK(G32),"??? --/--/----",G32+((H31-1)*7+4)) -> ??? --/--/---- | J32: =IF(ISBLANK(I32),"??? --/--/----",I32+((J31-1)*7+4)) -> ??? --/--/---- | L32: =IF(ISBLANK(K32),"??? --/--/----",K32+((L31-1)*7+4)) -> ??? --/--/---- | N32: =IF(ISBLANK(M32),"??? --/--/----",M32+((N31-1)*7+4)) -> ??? --/--/---- | P32: =IF(ISBLANK(O32),"??? --/--/----",O32+((P31-1)*7+4)) -> ??? --/--/---- | R32: =IF(ISBLANK(Q32),"??? --/--/----",Q32+((R31-1)*7+4)) -> ??? --/--/---- | T32: =IF(ISBLANK(S32),"??? --/--/----",S32+((T31-1)*7+4)) -> ??? --/--/---- | V32: =IF(ISBLANK(U32),"??? --/--/----",U32+((V31-1)*7+4)) -> ??? --/--/---- | X32: =IF(ISBLANK(W32),"??? --/--/----",W32+((X31-1)*7+4)) -> ??? --/--/---- | Z32: =IF(ISBLANK(Y32),"??? --/--/----",Y32+((Z31-1)*7+4)) -> ??? --/--/---- | AB32: =IF(ISBLANK(AA32),"??? --/--/----",AA32+((AB31-1)*7+4)) -> ??? --/--/---- | AG32: =IF(ISBLANK($C32),"",IF(AND($C32<=AG$2,$D32>=AG$2),$B32,"")) | AH32: =IF(ISBLANK($C32),"",IF(AND($C32<=AH$2,$D32>=AH$2),$B32,"")) | AI32: =IF(ISBLANK($C32),"",IF(AND($C32<=AI$2,$D32>=AI$2),$B32,"")) | AJ32: =IF(ISBLANK($C32),"",IF(AND($C32<=AJ$2,$D32>=AJ$2),$B32,"")) | AK32: =IF(ISBLANK($C32),"",IF(AND($C32<=AK$2,$D32>=AK$2),$B32,"")) | AL32: =IF(ISBLANK($C32),"",IF(AND($C32<=AL$2,$D32>=AL$2),$B32,"")) | AM32: =IF(ISBLANK($C32),"",IF(AND($C32<=AM$2,$D32>=AM$2),$B32,"")) | AN32: =IF(ISBLANK($C32),"",IF(AND($C32<=AN$2,$D32>=AN$2),$B32,"")) | ... DQ32: =IF(ISBLANK($C32),"",IF(AND($C32<=DQ$2,$D32>=DQ$2),$B32,""))
A33: ALT | C33: Durée Form (en H) --> | D33: =1680+105 -> 1785 | E33: Durée PAE 1 (SEM) --> | F33: 6 | G33: Durée PAE 2 (SEM) --> | H33: 8 | I33: Durée PAE 3 (SEM) --> | J33: 10 | K33: Durée PAE 4 (SEM) --> | L33: 7 | M33: Durée PAE 5 (SEM) --> | N33: 6 | O33: Durée PAE 6 (SEM) --> | Q33: Durée PAE 7 (SEM) --> | S33: Durée PAE 8 (SEM) --> | U33: Durée PAE 9 (SEM) --> | W33: Durée PAE 10 (SEM) -> | Y33: Durée PAE 11 (SEM) --> | AA33: Durée PAE 12 (SEM) -->
A34: 24533 | B34: 0 | C34: 45873 | D34: =IF(ISBLANK(C34),"??? --/--/----",C34+((D33/35)*7-3)) -> 46227 | E34: 45894 | F34: =IF(ISBLANK(E34),"??? --/--/----",E34+((F33-1)*7+4)) -> 45933 | G34: 45950 | H34: =IF(ISBLANK(G34),"??? --/--/----",G34+((H33-1)*7+4)) -> 46003 | I34: 46027 | J34: =IF(ISBLANK(I34),"??? --/--/----",I34+((J33-1)*7+4)) -> 46094 | K34: 46111 | L34: =IF(ISBLANK(K34),"??? --/--/----",K34+((L33-1)*7+4)) -> 46157 | M34: 46174 | N34: =IF(ISBLANK(M34),"??? --/--/----",M34+((N33-1)*7+4)) -> 46213 | P34: =IF(ISBLANK(O34),"??? --/--/----",O34+((P33-1)*7+4)) -> ??? --/--/---- | R34: =IF(ISBLANK(Q34),"??? --/--/----",Q34+((R33-1)*7+4)) -> ??? --/--/---- | T34: =IF(ISBLANK(S34),"??? --/--/----",S34+((T33-1)*7+4)) -> ??? --/--/---- | V34: =IF(ISBLANK(U34),"??? --/--/----",U34+((V33-1)*7+4)) -> ??? --/--/---- | X34: =IF(ISBLANK(W34),"??? --/--/----",W34+((X33-1)*7+4)) -> ??? --/--/---- | Z34: =IF(ISBLANK(Y34),"??? --/--/----",Y34+((Z33-1)*7+4)) -> ??? --/--/---- | AB34: =IF(ISBLANK(AA34),"??? --/--/----",AA34+((AB33-1)*7+4)) -> ??? --/--/---- | AG34: =IF(ISBLANK($C34),"",IF(AND($C34<=AG$2,$D34>=AG$2),$B34,"")) | AH34: =IF(ISBLANK($C34),"",IF(AND($C34<=AH$2,$D34>=AH$2),$B34,"")) | AI34: =IF(ISBLANK($C34),"",IF(AND($C34<=AI$2,$D34>=AI$2),$B34,"")) | AJ34: =IF(ISBLANK($C34),"",IF(AND($C34<=AJ$2,$D34>=AJ$2),$B34,"")) | AK34: =IF(ISBLANK($C34),"",IF(AND($C34<=AK$2,$D34>=AK$2),$B34,"")) | AL34: =IF(ISBLANK($C34),"",IF(AND($C34<=AL$2,$D34>=AL$2),$B34,"")) | AM34: =IF(ISBLANK($C34),"",IF(AND($C34<=AM$2,$D34>=AM$2),$B34,"")) | AN34: =IF(ISBLANK($C34),"",IF(AND($C34<=AN$2,$D34>=AN$2),$B34,"")) | ... DQ34: =IF(ISBLANK($C34),"",IF(AND($C34<=DQ$2,$D34>=DQ$2),$B34,""))
A35: HSP v2 | C35: Durée Form (en H) --> | D35: =1155+70+35 -> 1260 | E35: Durée PAE 1 (SEM) --> | F35: 4 | G35: Durée PAE 2 (SEM) --> | H35: 5 | I35: Durée PAE 3 (SEM) --> | K35: Durée PAE 4 (SEM) --> | M35: Durée PAE 5 (SEM) --> | O35: Durée PAE 6 (SEM) --> | Q35: Durée PAE 7 (SEM) --> | S35: Durée PAE 8 (SEM) --> | U35: Durée PAE 9 (SEM) --> | W35: Durée PAE 10 (SEM) -> | Y35: Durée PAE 11 (SEM) --> | AA35: Durée PAE 12 (SEM) -->
A36: 24514 | B36: 4 | C36: 45978 | D36: =IF(ISBLANK(C36),"??? --/--/----",C36+((D35/35)*7-3)) -> 46227 | E36: 46069 | F36: =IF(ISBLANK(E36),"??? --/--/----",E36+((F35-1)*7+4)) -> 46094 | G36: 46132 | H36: =IF(ISBLANK(G36),"??? --/--/----",G36+((H35-1)*7+4)) -> 46164 | J36: =IF(ISBLANK(I36),"??? --/--/----",I36+((J35-1)*7+4)) -> ??? --/--/---- | L36: =IF(ISBLANK(K36),"??? --/--/----",K36+((L35-1)*7+4)) -> ??? --/--/---- | N36: =IF(ISBLANK(M36),"??? --/--/----",M36+((N35-1)*7+4)) -> ??? --/--/---- | P36: =IF(ISBLANK(O36),"??? --/--/----",O36+((P35-1)*7+4)) -> ??? --/--/---- | R36: =IF(ISBLANK(Q36),"??? --/--/----",Q36+((R35-1)*7+4)) -> ??? --/--/---- | T36: =IF(ISBLANK(S36),"??? --/--/----",S36+((T35-1)*7+4)) -> ??? --/--/---- | V36: =IF(ISBLANK(U36),"??? --/--/----",U36+((V35-1)*7+4)) -> ??? --/--/---- | X36: =IF(ISBLANK(W36),"??? --/--/----",W36+((X35-1)*7+4)) -> ??? --/--/---- | Z36: =IF(ISBLANK(Y36),"??? --/--/----",Y36+((Z35-1)*7+4)) -> ??? --/--/---- | AB36: =IF(ISBLANK(AA36),"??? --/--/----",AA36+((AB35-1)*7+4)) -> ??? --/--/---- | AG36: =IF(ISBLANK($C36),"",IF(AND($C36<=AG$2,$D36>=AG$2),$B36,"")) | AH36: =IF(ISBLANK($C36),"",IF(AND($C36<=AH$2,$D36>=AH$2),$B36,"")) | AI36: =IF(ISBLANK($C36),"",IF(AND($C36<=AI$2,$D36>=AI$2),$B36,"")) | AJ36: =IF(ISBLANK($C36),"",IF(AND($C36<=AJ$2,$D36>=AJ$2),$B36,"")) | AK36: =IF(ISBLANK($C36),"",IF(AND($C36<=AK$2,$D36>=AK$2),$B36,"")) | AL36: =IF(ISBLANK($C36),"",IF(AND($C36<=AL$2,$D36>=AL$2),$B36,"")) | AM36: =IF(ISBLANK($C36),"",IF(AND($C36<=AM$2,$D36>=AM$2),$B36,"")) | AN36: =IF(ISBLANK($C36),"",IF(AND($C36<=AN$2,$D36>=AN$2),$B36,"")) | ... DQ36: =IF(ISBLANK($C36),"",IF(AND($C36<=DQ$2,$D36>=DQ$2),$B36,""))
A37: MP | C37: Durée Form (en H) --> | D37: =700+70 -> 770 | E37: Durée PAE 1 (SEM) --> | F37: 4 | G37: Durée PAE 2 (SEM) --> | I37: Durée PAE 3 (SEM) --> | K37: Durée PAE 4 (SEM) --> | M37: Durée PAE 5 (SEM) --> | O37: Durée PAE 6 (SEM) --> | Q37: Durée PAE 7 (SEM) --> | S37: Durée PAE 8 (SEM) --> | U37: Durée PAE 9 (SEM) --> | W37: Durée PAE 10 (SEM) -> | Y37: Durée PAE 11 (SEM) --> | AA37: Durée PAE 12 (SEM) -->
A38: 24524 | B38: 1 | C38: 45992 | D38: =IF(ISBLANK(C38),"??? --/--/----",C38+((D37/35)*7-3)) -> 46143 | E38: 46069 | F38: =IF(ISBLANK(E38),"??? --/--/----",E38+((F37-1)*7+4)) -> 46094 | H38: =IF(ISBLANK(G38),"??? --/--/----",G38+((H37-1)*7+4)) -> ??? --/--/---- | J38: =IF(ISBLANK(I38),"??? --/--/----",I38+((J37-1)*7+4)) -> ??? --/--/---- | L38: =IF(ISBLANK(K38),"??? --/--/----",K38+((L37-1)*7+4)) -> ??? --/--/---- | N38: =IF(ISBLANK(M38),"??? --/--/----",M38+((N37-1)*7+4)) -> ??? --/--/---- | P38: =IF(ISBLANK(O38),"??? --/--/----",O38+((P37-1)*7+4)) -> ??? --/--/---- | R38: =IF(ISBLANK(Q38),"??? --/--/----",Q38+((R37-1)*7+4)) -> ??? --/--/---- | T38: =IF(ISBLANK(S38),"??? --/--/----",S38+((T37-1)*7+4)) -> ??? --/--/---- | V38: =IF(ISBLANK(U38),"??? --/--/----",U38+((V37-1)*7+4)) -> ??? --/--/---- | X38: =IF(ISBLANK(W38),"??? --/--/----",W38+((X37-1)*7+4)) -> ??? --/--/---- | Z38: =IF(ISBLANK(Y38),"??? --/--/----",Y38+((Z37-1)*7+4)) -> ??? --/--/---- | AB38: =IF(ISBLANK(AA38),"??? --/--/----",AA38+((AB37-1)*7+4)) -> ??? --/--/---- | AG38: =IF(ISBLANK($C38),"",IF(AND($C38<=AG$2,$D38>=AG$2),$B38,"")) | AH38: =IF(ISBLANK($C38),"",IF(AND($C38<=AH$2,$D38>=AH$2),$B38,"")) | AI38: =IF(ISBLANK($C38),"",IF(AND($C38<=AI$2,$D38>=AI$2),$B38,"")) | AJ38: =IF(ISBLANK($C38),"",IF(AND($C38<=AJ$2,$D38>=AJ$2),$B38,"")) | AK38: =IF(ISBLANK($C38),"",IF(AND($C38<=AK$2,$D38>=AK$2),$B38,"")) | AL38: =IF(ISBLANK($C38),"",IF(AND($C38<=AL$2,$D38>=AL$2),$B38,"")) | AM38: =IF(ISBLANK($C38),"",IF(AND($C38<=AM$2,$D38>=AM$2),$B38,"")) | AN38: =IF(ISBLANK($C38),"",IF(AND($C38<=AN$2,$D38>=AN$2),$B38,"")) | ... DQ38: =IF(ISBLANK($C38),"",IF(AND($C38<=DQ$2,$D38>=DQ$2),$B38,""))
A39: ALT | C39: Durée Form (en H) --> | D39: =1680+105 -> 1785 | E39: Durée PAE 1 (SEM) --> | F39: 8 | G39: Durée PAE 2 (SEM) --> | H39: 8 | I39: Durée PAE 3 (SEM) --> | J39: 10 | K39: Durée PAE 4 (SEM) --> | L39: 8 | M39: Durée PAE 5 (SEM) --> | N39: 5 | O39: Durée PAE 6 (SEM) --> | Q39: Durée PAE 7 (SEM) --> | S39: Durée PAE 8 (SEM) --> | U39: Durée PAE 9 (SEM) --> | W39: Durée PAE 10 (SEM) -> | Y39: Durée PAE 11 (SEM) --> | AA39: Durée PAE 12 (SEM) -->
A40: 24535 | B40: 1 | C40: 45978 | D40: =IF(ISBLANK(C40),"??? --/--/----",C40+((D39/35)*7-3)) -> 46332 | E40: 45992 | F40: =IF(ISBLANK(E40),"??? --/--/----",E40+((F39-1)*7+4)) -> 46045 | G40: 46062 | H40: =IF(ISBLANK(G40),"??? --/--/----",G40+((H39-1)*7+4)) -> 46115 | I40: 46132 | J40: =IF(ISBLANK(I40),"??? --/--/----",I40+((J39-1)*7+4)) -> 46199 | K40: 46216 | L40: =IF(ISBLANK(K40),"??? --/--/----",K40+((L39-1)*7+4)) -> 46269 | M40: 46286 | N40: =IF(ISBLANK(M40),"??? --/--/----",M40+((N39-1)*7+4)) -> 46318 | P40: =IF(ISBLANK(O40),"??? --/--/----",O40+((P39-1)*7+4)) -> ??? --/--/---- | R40: =IF(ISBLANK(Q40),"??? --/--/----",Q40+((R39-1)*7+4)) -> ??? --/--/---- | T40: =IF(ISBLANK(S40),"??? --/--/----",S40+((T39-1)*7+4)) -> ??? --/--/---- | V40: =IF(ISBLANK(U40),"??? --/--/----",U40+((V39-1)*7+4)) -> ??? --/--/---- | X40: =IF(ISBLANK(W40),"??? --/--/----",W40+((X39-1)*7+4)) -> ??? --/--/---- | Z40: =IF(ISBLANK(Y40),"??? --/--/----",Y40+((Z39-1)*7+4)) -> ??? --/--/---- | AB40: =IF(ISBLANK(AA40),"??? --/--/----",AA40+((AB39-1)*7+4)) -> ??? --/--/---- | AG40: =IF(ISBLANK($C40),"",IF(AND($C40<=AG$2,$D40>=AG$2),$B40,"")) | AH40: =IF(ISBLANK($C40),"",IF(AND($C40<=AH$2,$D40>=AH$2),$B40,"")) | AI40: =IF(ISBLANK($C40),"",IF(AND($C40<=AI$2,$D40>=AI$2),$B40,"")) | AJ40: =IF(ISBLANK($C40),"",IF(AND($C40<=AJ$2,$D40>=AJ$2),$B40,"")) | AK40: =IF(ISBLANK($C40),"",IF(AND($C40<=AK$2,$D40>=AK$2),$B40,"")) | AL40: =IF(ISBLANK($C40),"",IF(AND($C40<=AL$2,$D40>=AL$2),$B40,"")) | AM40: =IF(ISBLANK($C40),"",IF(AND($C40<=AM$2,$D40>=AM$2),$B40,"")) | AN40: =IF(ISBLANK($C40),"",IF(AND($C40<=AN$2,$D40>=AN$2),$B40,"")) | ... DQ40: =IF(ISBLANK($C40),"",IF(AND($C40<=DQ$2,$D40>=DQ$2),$B40,"")) -> 1
A41: HSP v2 | C41: Durée Form (en H) --> | D41: =1155+70 -> 1225 | E41: Durée PAE 1 (SEM) --> | F41: 4 | G41: Durée PAE 2 (SEM) --> | H41: 6 | I41: Durée PAE 3 (SEM) --> | K41: Durée PAE 4 (SEM) --> | M41: Durée PAE 5 (SEM) --> | O41: Durée PAE 6 (SEM) --> | Q41: Durée PAE 7 (SEM) --> | S41: Durée PAE 8 (SEM) --> | U41: Durée PAE 9 (SEM) --> | W41: Durée PAE 10 (SEM) -> | Y41: Durée PAE 11 (SEM) --> | AA41: Durée PAE 12 (SEM) -->
A42: 24516 | B42: 4 | C42: 46090 | D42: =IF(ISBLANK(C42),"??? --/--/----",C42+((D41/35)*7-3)) -> 46332 | E42: 46132 | F42: =IF(ISBLANK(E42),"??? --/--/----",E42+((F41-1)*7+4)) -> 46157 | G42: 46216 | H42: =IF(ISBLANK(G42),"??? --/--/----",G42+((H41-1)*7+4)) -> 46255 | J42: =IF(ISBLANK(I42),"??? --/--/----",I42+((J41-1)*7+4)) -> ??? --/--/---- | L42: =IF(ISBLANK(K42),"??? --/--/----",K42+((L41-1)*7+4)) -> ??? --/--/---- | N42: =IF(ISBLANK(M42),"??? --/--/----",M42+((N41-1)*7+4)) -> ??? --/--/---- | P42: =IF(ISBLANK(O42),"??? --/--/----",O42+((P41-1)*7+4)) -> ??? --/--/---- | R42: =IF(ISBLANK(Q42),"??? --/--/----",Q42+((R41-1)*7+4)) -> ??? --/--/---- | T42: =IF(ISBLANK(S42),"??? --/--/----",S42+((T41-1)*7+4)) -> ??? --/--/---- | V42: =IF(ISBLANK(U42),"??? --/--/----",U42+((V41-1)*7+4)) -> ??? --/--/---- | X42: =IF(ISBLANK(W42),"??? --/--/----",W42+((X41-1)*7+4)) -> ??? --/--/---- | Z42: =IF(ISBLANK(Y42),"??? --/--/----",Y42+((Z41-1)*7+4)) -> ??? --/--/---- | AB42: =IF(ISBLANK(AA42),"??? --/--/----",AA42+((AB41-1)*7+4)) -> ??? --/--/---- | AG42: =IF(ISBLANK($C42),"",IF(AND($C42<=AG$2,$D42>=AG$2),$B42,"")) | AH42: =IF(ISBLANK($C42),"",IF(AND($C42<=AH$2,$D42>=AH$2),$B42,"")) | AI42: =IF(ISBLANK($C42),"",IF(AND($C42<=AI$2,$D42>=AI$2),$B42,"")) | AJ42: =IF(ISBLANK($C42),"",IF(AND($C42<=AJ$2,$D42>=AJ$2),$B42,"")) | AK42: =IF(ISBLANK($C42),"",IF(AND($C42<=AK$2,$D42>=AK$2),$B42,"")) | AL42: =IF(ISBLANK($C42),"",IF(AND($C42<=AL$2,$D42>=AL$2),$B42,"")) | AM42: =IF(ISBLANK($C42),"",IF(AND($C42<=AM$2,$D42>=AM$2),$B42,"")) | AN42: =IF(ISBLANK($C42),"",IF(AND($C42<=AN$2,$D42>=AN$2),$B42,"")) | ... DQ42: =IF(ISBLANK($C42),"",IF(AND($C42<=DQ$2,$D42>=DQ$2),$B42,"")) -> 4
A43: MP | C43: Durée Form (en H) --> | D43: =700+35 -> 735 | E43: Durée PAE 1 (SEM) --> | F43: 4 | G43: Durée PAE 2 (SEM) --> | I43: Durée PAE 3 (SEM) --> | K43: Durée PAE 4 (SEM) --> | M43: Durée PAE 5 (SEM) --> | O43: Durée PAE 6 (SEM) --> | Q43: Durée PAE 7 (SEM) --> | S43: Durée PAE 8 (SEM) --> | U43: Durée PAE 9 (SEM) --> | W43: Durée PAE 10 (SEM) -> | Y43: Durée PAE 11 (SEM) --> | AA43: Durée PAE 12 (SEM) -->
A44: 24527 | B44: 0 | C44: 46083 | D44: =IF(ISBLANK(C44),"??? --/--/----",C44+((D43/35)*7-3)) -> 46227 | E44: 46132 | F44: =IF(ISBLANK(E44),"??? --/--/----",E44+((F43-1)*7+4)) -> 46157 | H44: =IF(ISBLANK(G44),"??? --/--/----",G44+((H43-1)*7+4)) -> ??? --/--/---- | J44: =IF(ISBLANK(I44),"??? --/--/----",I44+((J43-1)*7+4)) -> ??? --/--/---- | L44: =IF(ISBLANK(K44),"??? --/--/----",K44+((L43-1)*7+4)) -> ??? --/--/---- | N44: =IF(ISBLANK(M44),"??? --/--/----",M44+((N43-1)*7+4)) -> ??? --/--/---- | P44: =IF(ISBLANK(O44),"??? --/--/----",O44+((P43-1)*7+4)) -> ??? --/--/---- | R44: =IF(ISBLANK(Q44),"??? --/--/----",Q44+((R43-1)*7+4)) -> ??? --/--/---- | T44: =IF(ISBLANK(S44),"??? --/--/----",S44+((T43-1)*7+4)) -> ??? --/--/---- | V44: =IF(ISBLANK(U44),"??? --/--/----",U44+((V43-1)*7+4)) -> ??? --/--/---- | X44: =IF(ISBLANK(W44),"??? --/--/----",W44+((X43-1)*7+4)) -> ??? --/--/---- | Z44: =IF(ISBLANK(Y44),"??? --/--/----",Y44+((Z43-1)*7+4)) -> ??? --/--/---- | AB44: =IF(ISBLANK(AA44),"??? --/--/----",AA44+((AB43-1)*7+4)) -> ??? --/--/---- | AG44: =IF(ISBLANK($C44),"",IF(AND($C44<=AG$2,$D44>=AG$2),$B44,"")) | AH44: =IF(ISBLANK($C44),"",IF(AND($C44<=AH$2,$D44>=AH$2),$B44,"")) | AI44: =IF(ISBLANK($C44),"",IF(AND($C44<=AI$2,$D44>=AI$2),$B44,"")) | AJ44: =IF(ISBLANK($C44),"",IF(AND($C44<=AJ$2,$D44>=AJ$2),$B44,"")) | AK44: =IF(ISBLANK($C44),"",IF(AND($C44<=AK$2,$D44>=AK$2),$B44,"")) | AL44: =IF(ISBLANK($C44),"",IF(AND($C44<=AL$2,$D44>=AL$2),$B44,"")) | AM44: =IF(ISBLANK($C44),"",IF(AND($C44<=AM$2,$D44>=AM$2),$B44,"")) | AN44: =IF(ISBLANK($C44),"",IF(AND($C44<=AN$2,$D44>=AN$2),$B44,"")) | ... DQ44: =IF(ISBLANK($C44),"",IF(AND($C44<=DQ$2,$D44>=DQ$2),$B44,""))
A45: ALT | C45: Durée Form (en H) --> | D45: =1680+140 -> 1820 | E45: Durée PAE 1 (SEM) --> | F45: 8 | G45: Durée PAE 2 (SEM) --> | H45: 10 | I45: Durée PAE 3 (SEM) --> | J45: 8 | K45: Durée PAE 4 (SEM) --> | L45: 8 | M45: Durée PAE 5 (SEM) --> | N45: 6 | O45: Durée PAE 6 (SEM) --> | Q45: Durée PAE 7 (SEM) --> | S45: Durée PAE 8 (SEM) --> | U45: Durée PAE 9 (SEM) --> | W45: Durée PAE 10 (SEM) -> | Y45: Durée PAE 11 (SEM) --> | AA45: Durée PAE 12 (SEM) -->
A46: XXXXX | B46: 0 | C46: 46048 | D46: =IF(ISBLANK(C46),"??? --/--/----",C46+((D45/35)*7-3)) -> 46409 | E46: 46062 | F46: =IF(ISBLANK(E46),"??? --/--/----",E46+((F45-1)*7+4)) -> 46115 | G46: 46132 | H46: =IF(ISBLANK(G46),"??? --/--/----",G46+((H45-1)*7+4)) -> 46199 | I46: 46216 | J46: =IF(ISBLANK(I46),"??? --/--/----",I46+((J45-1)*7+4)) -> 46269 | K46: 46286 | L46: =IF(ISBLANK(K46),"??? --/--/----",K46+((L45-1)*7+4)) -> 46339 | M46: 46356 | N46: =IF(ISBLANK(M46),"??? --/--/----",M46+((N45-1)*7+4)) -> 46395 | P46: =IF(ISBLANK(O46),"??? --/--/----",O46+((P45-1)*7+4)) -> ??? --/--/---- | R46: =IF(ISBLANK(Q46),"??? --/--/----",Q46+((R45-1)*7+4)) -> ??? --/--/---- | T46: =IF(ISBLANK(S46),"??? --/--/----",S46+((T45-1)*7+4)) -> ??? --/--/---- | V46: =IF(ISBLANK(U46),"??? --/--/----",U46+((V45-1)*7+4)) -> ??? --/--/---- | X46: =IF(ISBLANK(W46),"??? --/--/----",W46+((X45-1)*7+4)) -> ??? --/--/---- | Z46: =IF(ISBLANK(Y46),"??? --/--/----",Y46+((Z45-1)*7+4)) -> ??? --/--/---- | AB46: =IF(ISBLANK(AA46),"??? --/--/----",AA46+((AB45-1)*7+4)) -> ??? --/--/---- | AG46: =IF(ISBLANK($C46),"",IF(AND($C46<=AG$2,$D46>=AG$2),$B46,"")) | AH46: =IF(ISBLANK($C46),"",IF(AND($C46<=AH$2,$D46>=AH$2),$B46,"")) | AI46: =IF(ISBLANK($C46),"",IF(AND($C46<=AI$2,$D46>=AI$2),$B46,"")) | AJ46: =IF(ISBLANK($C46),"",IF(AND($C46<=AJ$2,$D46>=AJ$2),$B46,"")) | AK46: =IF(ISBLANK($C46),"",IF(AND($C46<=AK$2,$D46>=AK$2),$B46,"")) | AL46: =IF(ISBLANK($C46),"",IF(AND($C46<=AL$2,$D46>=AL$2),$B46,"")) | AM46: =IF(ISBLANK($C46),"",IF(AND($C46<=AM$2,$D46>=AM$2),$B46,"")) | AN46: =IF(ISBLANK($C46),"",IF(AND($C46<=AN$2,$D46>=AN$2),$B46,"")) | ... DQ46: =IF(ISBLANK($C46),"",IF(AND($C46<=DQ$2,$D46>=DQ$2),$B46,"")) -> 0
C47: Durée Form (en H) --> | D47: 700 | E47: Durée PAE 1 (SEM) --> | G47: Durée PAE 2 (SEM) --> | I47: Durée PAE 3 (SEM) --> | K47: Durée PAE 4 (SEM) --> | M47: Durée PAE 5 (SEM) --> | O47: Durée PAE 6 (SEM) --> | Q47: Durée PAE 7 (SEM) --> | S47: Durée PAE 8 (SEM) --> | U47: Durée PAE 9 (SEM) --> | W47: Durée PAE 10 (SEM) -> | Y47: Durée PAE 11 (SEM) --> | AA47: Durée PAE 12 (SEM) -->
C48: 45810 | D48: =IF(ISBLANK(C48),"??? --/--/----",C48+((D47/35)*7-3)) -> 45947 | F48: =IF(ISBLANK(E48),"??? --/--/----",E48+((F47-1)*7+4)) -> ??? --/--/---- | H48: =IF(ISBLANK(G48),"??? --/--/----",G48+((H47-1)*7+4)) -> ??? --/--/---- | J48: =IF(ISBLANK(I48),"??? --/--/----",I48+((J47-1)*7+4)) -> ??? --/--/---- | L48: =IF(ISBLANK(K48),"??? --/--/----",K48+((L47-1)*7+4)) -> ??? --/--/---- | N48: =IF(ISBLANK(M48),"??? --/--/----",M48+((N47-1)*7+4)) -> ??? --/--/---- | P48: =IF(ISBLANK(O48),"??? --/--/----",O48+((P47-1)*7+4)) -> ??? --/--/---- | R48: =IF(ISBLANK(Q48),"??? --/--/----",Q48+((R47-1)*7+4)) -> ??? --/--/---- | T48: =IF(ISBLANK(S48),"??? --/--/----",S48+((T47-1)*7+4)) -> ??? --/--/---- | V48: =IF(ISBLANK(U48),"??? --/--/----",U48+((V47-1)*7+4)) -> ??? --/--/---- | X48: =IF(ISBLANK(W48),"??? --/--/----",W48+((X47-1)*7+4)) -> ??? --/--/---- | Z48: =IF(ISBLANK(Y48),"??? --/--/----",Y48+((Z47-1)*7+4)) -> ??? --/--/---- | AB48: =IF(ISBLANK(AA48),"??? --/--/----",AA48+((AB47-1)*7+4)) -> ??? --/--/---- | AG48: =IF(ISBLANK($C48),"",IF(AND($C48<=AG$2,$D48>=AG$2),$B48,"")) | AH48: =IF(ISBLANK($C48),"",IF(AND($C48<=AH$2,$D48>=AH$2),$B48,"")) | AI48: =IF(ISBLANK($C48),"",IF(AND($C48<=AI$2,$D48>=AI$2),$B48,"")) | AJ48: =IF(ISBLANK($C48),"",IF(AND($C48<=AJ$2,$D48>=AJ$2),$B48,"")) | AK48: =IF(ISBLANK($C48),"",IF(AND($C48<=AK$2,$D48>=AK$2),$B48,"")) | AL48: =IF(ISBLANK($C48),"",IF(AND($C48<=AL$2,$D48>=AL$2),$B48,"")) | AM48: =IF(ISBLANK($C48),"",IF(AND($C48<=AM$2,$D48>=AM$2),$B48,"")) | AN48: =IF(ISBLANK($C48),"",IF(AND($C48<=AN$2,$D48>=AN$2),$B48,"")) | ... DQ48: =IF(ISBLANK($C48),"",IF(AND($C48<=DQ$2,$D48>=DQ$2),$B48,""))
C49: Durée Form (en H) --> | E49: Durée PAE 1 (SEM) --> | G49: Durée PAE 2 (SEM) --> | I49: Durée PAE 3 (SEM) --> | K49: Durée PAE 4 (SEM) --> | M49: Durée PAE 5 (SEM) --> | O49: Durée PAE 6 (SEM) --> | Q49: Durée PAE 7 (SEM) --> | S49: Durée PAE 8 (SEM) --> | U49: Durée PAE 9 (SEM) --> | W49: Durée PAE 10 (SEM) -> | Y49: Durée PAE 11 (SEM) --> | AA49: Durée PAE 12 (SEM) -->
D50: =IF(ISBLANK(C50),"??? --/--/----",C50+((D49/35)*7-3)) -> ??? --/--/---- | F50: =IF(ISBLANK(E50),"??? --/--/----",E50+((F49-1)*7+4)) -> ??? --/--/---- | H50: =IF(ISBLANK(G50),"??? --/--/----",G50+((H49-1)*7+4)) -> ??? --/--/---- | J50: =IF(ISBLANK(I50),"??? --/--/----",I50+((J49-1)*7+4)) -> ??? --/--/---- | L50: =IF(ISBLANK(K50),"??? --/--/----",K50+((L49-1)*7+4)) -> ??? --/--/---- | N50: =IF(ISBLANK(M50),"??? --/--/----",M50+((N49-1)*7+4)) -> ??? --/--/---- | P50: =IF(ISBLANK(O50),"??? --/--/----",O50+((P49-1)*7+4)) -> ??? --/--/---- | R50: =IF(ISBLANK(Q50),"??? --/--/----",Q50+((R49-1)*7+4)) -> ??? --/--/---- | T50: =IF(ISBLANK(S50),"??? --/--/----",S50+((T49-1)*7+4)) -> ??? --/--/---- | V50: =IF(ISBLANK(U50),"??? --/--/----",U50+((V49-1)*7+4)) -> ??? --/--/---- | X50: =IF(ISBLANK(W50),"??? --/--/----",W50+((X49-1)*7+4)) -> ??? --/--/---- | Z50: =IF(ISBLANK(Y50),"??? --/--/----",Y50+((Z49-1)*7+4)) -> ??? --/--/---- | AB50: =IF(ISBLANK(AA50),"??? --/--/----",AA50+((AB49-1)*7+4)) -> ??? --/--/---- | AG50: =IF(ISBLANK($C50),"",IF(AND($C50<=AG$2,$D50>=AG$2),$B50,"")) | AH50: =IF(ISBLANK($C50),"",IF(AND($C50<=AH$2,$D50>=AH$2),$B50,"")) | AI50: =IF(ISBLANK($C50),"",IF(AND($C50<=AI$2,$D50>=AI$2),$B50,"")) | AJ50: =IF(ISBLANK($C50),"",IF(AND($C50<=AJ$2,$D50>=AJ$2),$B50,"")) | AK50: =IF(ISBLANK($C50),"",IF(AND($C50<=AK$2,$D50>=AK$2),$B50,"")) | AL50: =IF(ISBLANK($C50),"",IF(AND($C50<=AL$2,$D50>=AL$2),$B50,"")) | AM50: =IF(ISBLANK($C50),"",IF(AND($C50<=AM$2,$D50>=AM$2),$B50,"")) | AN50: =IF(ISBLANK($C50),"",IF(AND($C50<=AN$2,$D50>=AN$2),$B50,"")) | ... DQ50: =IF(ISBLANK($C50),"",IF(AND($C50<=DQ$2,$D50>=DQ$2),$B50,""))
C51: Durée Form (en H) --> | E51: Durée PAE 1 (SEM) --> | G51: Durée PAE 2 (SEM) --> | I51: Durée PAE 3 (SEM) --> | K51: Durée PAE 4 (SEM) --> | M51: Durée PAE 5 (SEM) --> | O51: Durée PAE 6 (SEM) --> | Q51: Durée PAE 7 (SEM) --> | S51: Durée PAE 8 (SEM) --> | U51: Durée PAE 9 (SEM) --> | W51: Durée PAE 10 (SEM) -> | Y51: Durée PAE 11 (SEM) --> | AA51: Durée PAE 12 (SEM) -->
D52: =IF(ISBLANK(C52),"??? --/--/----",C52+((D51/35)*7-3)) -> ??? --/--/---- | F52: =IF(ISBLANK(E52),"??? --/--/----",E52+((F51-1)*7+4)) -> ??? --/--/---- | H52: =IF(ISBLANK(G52),"??? --/--/----",G52+((H51-1)*7+4)) -> ??? --/--/---- | J52: =IF(ISBLANK(I52),"??? --/--/----",I52+((J51-1)*7+4)) -> ??? --/--/---- | L52: =IF(ISBLANK(K52),"??? --/--/----",K52+((L51-1)*7+4)) -> ??? --/--/---- | N52: =IF(ISBLANK(M52),"??? --/--/----",M52+((N51-1)*7+4)) -> ??? --/--/---- | P52: =IF(ISBLANK(O52),"??? --/--/----",O52+((P51-1)*7+4)) -> ??? --/--/---- | R52: =IF(ISBLANK(Q52),"??? --/--/----",Q52+((R51-1)*7+4)) -> ??? --/--/---- | T52: =IF(ISBLANK(S52),"??? --/--/----",S52+((T51-1)*7+4)) -> ??? --/--/---- | V52: =IF(ISBLANK(U52),"??? --/--/----",U52+((V51-1)*7+4)) -> ??? --/--/---- | X52: =IF(ISBLANK(W52),"??? --/--/----",W52+((X51-1)*7+4)) -> ??? --/--/---- | Z52: =IF(ISBLANK(Y52),"??? --/--/----",Y52+((Z51-1)*7+4)) -> ??? --/--/---- | AB52: =IF(ISBLANK(AA52),"??? --/--/----",AA52+((AB51-1)*7+4)) -> ??? --/--/---- | AG52: =IF(ISBLANK($C52),"",IF(AND($C52<=AG$2,$D52>=AG$2),$B52,"")) | AH52: =IF(ISBLANK($C52),"",IF(AND($C52<=AH$2,$D52>=AH$2),$B52,"")) | AI52: =IF(ISBLANK($C52),"",IF(AND($C52<=AI$2,$D52>=AI$2),$B52,"")) | AJ52: =IF(ISBLANK($C52),"",IF(AND($C52<=AJ$2,$D52>=AJ$2),$B52,"")) | AK52: =IF(ISBLANK($C52),"",IF(AND($C52<=AK$2,$D52>=AK$2),$B52,"")) | AL52: =IF(ISBLANK($C52),"",IF(AND($C52<=AL$2,$D52>=AL$2),$B52,"")) | AM52: =IF(ISBLANK($C52),"",IF(AND($C52<=AM$2,$D52>=AM$2),$B52,"")) | AN52: =IF(ISBLANK($C52),"",IF(AND($C52<=AN$2,$D52>=AN$2),$B52,"")) | ... DQ52: =IF(ISBLANK($C52),"",IF(AND($C52<=DQ$2,$D52>=DQ$2),$B52,""))
C53: Durée Form (en H) --> | E53: Durée PAE 1 (SEM) --> | G53: Durée PAE 2 (SEM) --> | I53: Durée PAE 3 (SEM) --> | K53: Durée PAE 4 (SEM) --> | M53: Durée PAE 5 (SEM) --> | O53: Durée PAE 6 (SEM) --> | Q53: Durée PAE 7 (SEM) --> | S53: Durée PAE 8 (SEM) --> | U53: Durée PAE 9 (SEM) --> | W53: Durée PAE 10 (SEM) -> | Y53: Durée PAE 11 (SEM) --> | AA53: Durée PAE 12 (SEM) -->
D54: =IF(ISBLANK(C54),"??? --/--/----",C54+((D53/35)*7-3)) -> ??? --/--/---- | F54: =IF(ISBLANK(E54),"??? --/--/----",E54+((F53-1)*7+4)) -> ??? --/--/---- | H54: =IF(ISBLANK(G54),"??? --/--/----",G54+((H53-1)*7+4)) -> ??? --/--/---- | J54: =IF(ISBLANK(I54),"??? --/--/----",I54+((J53-1)*7+4)) -> ??? --/--/---- | L54: =IF(ISBLANK(K54),"??? --/--/----",K54+((L53-1)*7+4)) -> ??? --/--/---- | N54: =IF(ISBLANK(M54),"??? --/--/----",M54+((N53-1)*7+4)) -> ??? --/--/---- | P54: =IF(ISBLANK(O54),"??? --/--/----",O54+((P53-1)*7+4)) -> ??? --/--/---- | R54: =IF(ISBLANK(Q54),"??? --/--/----",Q54+((R53-1)*7+4)) -> ??? --/--/---- | T54: =IF(ISBLANK(S54),"??? --/--/----",S54+((T53-1)*7+4)) -> ??? --/--/---- | V54: =IF(ISBLANK(U54),"??? --/--/----",U54+((V53-1)*7+4)) -> ??? --/--/---- | X54: =IF(ISBLANK(W54),"??? --/--/----",W54+((X53-1)*7+4)) -> ??? --/--/---- | Z54: =IF(ISBLANK(Y54),"??? --/--/----",Y54+((Z53-1)*7+4)) -> ??? --/--/---- | AB54: =IF(ISBLANK(AA54),"??? --/--/----",AA54+((AB53-1)*7+4)) -> ??? --/--/---- | AG54: =IF(ISBLANK($C54),"",IF(AND($C54<=AG$2,$D54>=AG$2),$B54,"")) | AH54: =IF(ISBLANK($C54),"",IF(AND($C54<=AH$2,$D54>=AH$2),$B54,"")) | AI54: =IF(ISBLANK($C54),"",IF(AND($C54<=AI$2,$D54>=AI$2),$B54,"")) | AJ54: =IF(ISBLANK($C54),"",IF(AND($C54<=AJ$2,$D54>=AJ$2),$B54,"")) | AK54: =IF(ISBLANK($C54),"",IF(AND($C54<=AK$2,$D54>=AK$2),$B54,"")) | AL54: =IF(ISBLANK($C54),"",IF(AND($C54<=AL$2,$D54>=AL$2),$B54,"")) | AM54: =IF(ISBLANK($C54),"",IF(AND($C54<=AM$2,$D54>=AM$2),$B54,"")) | AN54: =IF(ISBLANK($C54),"",IF(AND($C54<=AN$2,$D54>=AN$2),$B54,"")) | ... DQ54: =IF(ISBLANK($C54),"",IF(AND($C54<=DQ$2,$D54>=DQ$2),$B54,""))
C55: Durée Form (en H) --> | E55: Durée PAE 1 (SEM) --> | G55: Durée PAE 2 (SEM) --> | I55: Durée PAE 3 (SEM) --> | K55: Durée PAE 4 (SEM) --> | M55: Durée PAE 5 (SEM) --> | O55: Durée PAE 6 (SEM) --> | Q55: Durée PAE 7 (SEM) --> | S55: Durée PAE 8 (SEM) --> | U55: Durée PAE 9 (SEM) --> | W55: Durée PAE 10 (SEM) -> | Y55: Durée PAE 11 (SEM) --> | AA55: Durée PAE 12 (SEM) -->
D56: =IF(ISBLANK(C56),"??? --/--/----",C56+((D55/35)*7-3)) -> ??? --/--/---- | F56: =IF(ISBLANK(E56),"??? --/--/----",E56+((F55-1)*7+4)) -> ??? --/--/---- | H56: =IF(ISBLANK(G56),"??? --/--/----",G56+((H55-1)*7+4)) -> ??? --/--/---- | J56: =IF(ISBLANK(I56),"??? --/--/----",I56+((J55-1)*7+4)) -> ??? --/--/---- | L56: =IF(ISBLANK(K56),"??? --/--/----",K56+((L55-1)*7+4)) -> ??? --/--/---- | N56: =IF(ISBLANK(M56),"??? --/--/----",M56+((N55-1)*7+4)) -> ??? --/--/---- | P56: =IF(ISBLANK(O56),"??? --/--/----",O56+((P55-1)*7+4)) -> ??? --/--/---- | R56: =IF(ISBLANK(Q56),"??? --/--/----",Q56+((R55-1)*7+4)) -> ??? --/--/---- | T56: =IF(ISBLANK(S56),"??? --/--/----",S56+((T55-1)*7+4)) -> ??? --/--/---- | V56: =IF(ISBLANK(U56),"??? --/--/----",U56+((V55-1)*7+4)) -> ??? --/--/---- | X56: =IF(ISBLANK(W56),"??? --/--/----",W56+((X55-1)*7+4)) -> ??? --/--/---- | Z56: =IF(ISBLANK(Y56),"??? --/--/----",Y56+((Z55-1)*7+4)) -> ??? --/--/---- | AB56: =IF(ISBLANK(AA56),"??? --/--/----",AA56+((AB55-1)*7+4)) -> ??? --/--/---- | AG56: =IF(ISBLANK($C56),"",IF(AND($C56<=AG$2,$D56>=AG$2),$B56,"")) | AH56: =IF(ISBLANK($C56),"",IF(AND($C56<=AH$2,$D56>=AH$2),$B56,"")) | AI56: =IF(ISBLANK($C56),"",IF(AND($C56<=AI$2,$D56>=AI$2),$B56,"")) | AJ56: =IF(ISBLANK($C56),"",IF(AND($C56<=AJ$2,$D56>=AJ$2),$B56,"")) | AK56: =IF(ISBLANK($C56),"",IF(AND($C56<=AK$2,$D56>=AK$2),$B56,"")) | AL56: =IF(ISBLANK($C56),"",IF(AND($C56<=AL$2,$D56>=AL$2),$B56,"")) | AM56: =IF(ISBLANK($C56),"",IF(AND($C56<=AM$2,$D56>=AM$2),$B56,"")) | AN56: =IF(ISBLANK($C56),"",IF(AND($C56<=AN$2,$D56>=AN$2),$B56,"")) | ... DQ56: =IF(ISBLANK($C56),"",IF(AND($C56<=DQ$2,$D56>=DQ$2),$B56,""))
C57: Durée Form (en H) --> | E57: Durée PAE 1 (SEM) --> | G57: Durée PAE 2 (SEM) --> | I57: Durée PAE 3 (SEM) --> | K57: Durée PAE 4 (SEM) --> | M57: Durée PAE 5 (SEM) --> | O57: Durée PAE 6 (SEM) --> | Q57: Durée PAE 7 (SEM) --> | S57: Durée PAE 8 (SEM) --> | U57: Durée PAE 9 (SEM) --> | W57: Durée PAE 10 (SEM) -> | Y57: Durée PAE 11 (SEM) --> | AA57: Durée PAE 12 (SEM) -->
D58: =IF(ISBLANK(C58),"??? --/--/----",C58+((D57/35)*7-3)) -> ??? --/--/---- | F58: =IF(ISBLANK(E58),"??? --/--/----",E58+((F57-1)*7+4)) -> ??? --/--/---- | H58: =IF(ISBLANK(G58),"??? --/--/----",G58+((H57-1)*7+4)) -> ??? --/--/---- | J58: =IF(ISBLANK(I58),"??? --/--/----",I58+((J57-1)*7+4)) -> ??? --/--/---- | L58: =IF(ISBLANK(K58),"??? --/--/----",K58+((L57-1)*7+4)) -> ??? --/--/---- | N58: =IF(ISBLANK(M58),"??? --/--/----",M58+((N57-1)*7+4)) -> ??? --/--/---- | P58: =IF(ISBLANK(O58),"??? --/--/----",O58+((P57-1)*7+4)) -> ??? --/--/---- | R58: =IF(ISBLANK(Q58),"??? --/--/----",Q58+((R57-1)*7+4)) -> ??? --/--/---- | T58: =IF(ISBLANK(S58),"??? --/--/----",S58+((T57-1)*7+4)) -> ??? --/--/---- | V58: =IF(ISBLANK(U58),"??? --/--/----",U58+((V57-1)*7+4)) -> ??? --/--/---- | X58: =IF(ISBLANK(W58),"??? --/--/----",W58+((X57-1)*7+4)) -> ??? --/--/---- | Z58: =IF(ISBLANK(Y58),"??? --/--/----",Y58+((Z57-1)*7+4)) -> ??? --/--/---- | AB58: =IF(ISBLANK(AA58),"??? --/--/----",AA58+((AB57-1)*7+4)) -> ??? --/--/---- | AG58: =IF(ISBLANK($C58),"",IF(AND($C58<=AG$2,$D58>=AG$2),$B58,"")) | AH58: =IF(ISBLANK($C58),"",IF(AND($C58<=AH$2,$D58>=AH$2),$B58,"")) | AI58: =IF(ISBLANK($C58),"",IF(AND($C58<=AI$2,$D58>=AI$2),$B58,"")) | AJ58: =IF(ISBLANK($C58),"",IF(AND($C58<=AJ$2,$D58>=AJ$2),$B58,"")) | AK58: =IF(ISBLANK($C58),"",IF(AND($C58<=AK$2,$D58>=AK$2),$B58,"")) | AL58: =IF(ISBLANK($C58),"",IF(AND($C58<=AL$2,$D58>=AL$2),$B58,"")) | AM58: =IF(ISBLANK($C58),"",IF(AND($C58<=AM$2,$D58>=AM$2),$B58,"")) | AN58: =IF(ISBLANK($C58),"",IF(AND($C58<=AN$2,$D58>=AN$2),$B58,"")) | ... DQ58: =IF(ISBLANK($C58),"",IF(AND($C58<=DQ$2,$D58>=DQ$2),$B58,""))
C59: Durée Form (en H) --> | E59: Durée PAE 1 (SEM) --> | G59: Durée PAE 2 (SEM) --> | I59: Durée PAE 3 (SEM) --> | K59: Durée PAE 4 (SEM) --> | M59: Durée PAE 5 (SEM) --> | O59: Durée PAE 6 (SEM) --> | Q59: Durée PAE 7 (SEM) --> | S59: Durée PAE 8 (SEM) --> | U59: Durée PAE 9 (SEM) --> | W59: Durée PAE 10 (SEM) -> | Y59: Durée PAE 11 (SEM) --> | AA59: Durée PAE 12 (SEM) -->
D60: =IF(ISBLANK(C60),"??? --/--/----",C60+((D59/35)*7-3)) -> ??? --/--/---- | F60: =IF(ISBLANK(E60),"??? --/--/----",E60+((F59-1)*7+4)) -> ??? --/--/---- | H60: =IF(ISBLANK(G60),"??? --/--/----",G60+((H59-1)*7+4)) -> ??? --/--/---- | J60: =IF(ISBLANK(I60),"??? --/--/----",I60+((J59-1)*7+4)) -> ??? --/--/---- | L60: =IF(ISBLANK(K60),"??? --/--/----",K60+((L59-1)*7+4)) -> ??? --/--/---- | N60: =IF(ISBLANK(M60),"??? --/--/----",M60+((N59-1)*7+4)) -> ??? --/--/---- | P60: =IF(ISBLANK(O60),"??? --/--/----",O60+((P59-1)*7+4)) -> ??? --/--/---- | R60: =IF(ISBLANK(Q60),"??? --/--/----",Q60+((R59-1)*7+4)) -> ??? --/--/---- | T60: =IF(ISBLANK(S60),"??? --/--/----",S60+((T59-1)*7+4)) -> ??? --/--/---- | V60: =IF(ISBLANK(U60),"??? --/--/----",U60+((V59-1)*7+4)) -> ??? --/--/---- | X60: =IF(ISBLANK(W60),"??? --/--/----",W60+((X59-1)*7+4)) -> ??? --/--/---- | Z60: =IF(ISBLANK(Y60),"??? --/--/----",Y60+((Z59-1)*7+4)) -> ??? --/--/---- | AB60: =IF(ISBLANK(AA60),"??? --/--/----",AA60+((AB59-1)*7+4)) -> ??? --/--/---- | AG60: =IF(ISBLANK($C60),"",IF(AND($C60<=AG$2,$D60>=AG$2),$B60,"")) | AH60: =IF(ISBLANK($C60),"",IF(AND($C60<=AH$2,$D60>=AH$2),$B60,"")) | AI60: =IF(ISBLANK($C60),"",IF(AND($C60<=AI$2,$D60>=AI$2),$B60,"")) | AJ60: =IF(ISBLANK($C60),"",IF(AND($C60<=AJ$2,$D60>=AJ$2),$B60,"")) | AK60: =IF(ISBLANK($C60),"",IF(AND($C60<=AK$2,$D60>=AK$2),$B60,"")) | AL60: =IF(ISBLANK($C60),"",IF(AND($C60<=AL$2,$D60>=AL$2),$B60,"")) | AM60: =IF(ISBLANK($C60),"",IF(AND($C60<=AM$2,$D60>=AM$2),$B60,"")) | AN60: =IF(ISBLANK($C60),"",IF(AND($C60<=AN$2,$D60>=AN$2),$B60,"")) | ... DQ60: =IF(ISBLANK($C60),"",IF(AND($C60<=DQ$2,$D60>=DQ$2),$B60,""))
C61: Durée Form (en H) --> | E61: Durée PAE 1 (SEM) --> | G61: Durée PAE 2 (SEM) --> | I61: Durée PAE 3 (SEM) --> | K61: Durée PAE 4 (SEM) --> | M61: Durée PAE 5 (SEM) --> | O61: Durée PAE 6 (SEM) --> | Q61: Durée PAE 7 (SEM) --> | S61: Durée PAE 8 (SEM) --> | U61: Durée PAE 9 (SEM) --> | W61: Durée PAE 10 (SEM) -> | Y61: Durée PAE 11 (SEM) --> | AA61: Durée PAE 12 (SEM) -->
D62: =IF(ISBLANK(C62),"??? --/--/----",C62+((D61/35)*7-3)) -> ??? --/--/---- | F62: =IF(ISBLANK(E62),"??? --/--/----",E62+((F61-1)*7+4)) -> ??? --/--/---- | H62: =IF(ISBLANK(G62),"??? --/--/----",G62+((H61-1)*7+4)) -> ??? --/--/---- | J62: =IF(ISBLANK(I62),"??? --/--/----",I62+((J61-1)*7+4)) -> ??? --/--/---- | L62: =IF(ISBLANK(K62),"??? --/--/----",K62+((L61-1)*7+4)) -> ??? --/--/---- | N62: =IF(ISBLANK(M62),"??? --/--/----",M62+((N61-1)*7+4)) -> ??? --/--/---- | P62: =IF(ISBLANK(O62),"??? --/--/----",O62+((P61-1)*7+4)) -> ??? --/--/---- | R62: =IF(ISBLANK(Q62),"??? --/--/----",Q62+((R61-1)*7+4)) -> ??? --/--/---- | T62: =IF(ISBLANK(S62),"??? --/--/----",S62+((T61-1)*7+4)) -> ??? --/--/---- | V62: =IF(ISBLANK(U62),"??? --/--/----",U62+((V61-1)*7+4)) -> ??? --/--/---- | X62: =IF(ISBLANK(W62),"??? --/--/----",W62+((X61-1)*7+4)) -> ??? --/--/---- | Z62: =IF(ISBLANK(Y62),"??? --/--/----",Y62+((Z61-1)*7+4)) -> ??? --/--/---- | AB62: =IF(ISBLANK(AA62),"??? --/--/----",AA62+((AB61-1)*7+4)) -> ??? --/--/---- | AG62: =IF(ISBLANK($C62),"",IF(AND($C62<=AG$2,$D62>=AG$2),$B62,"")) | AH62: =IF(ISBLANK($C62),"",IF(AND($C62<=AH$2,$D62>=AH$2),$B62,"")) | AI62: =IF(ISBLANK($C62),"",IF(AND($C62<=AI$2,$D62>=AI$2),$B62,"")) | AJ62: =IF(ISBLANK($C62),"",IF(AND($C62<=AJ$2,$D62>=AJ$2),$B62,"")) | AK62: =IF(ISBLANK($C62),"",IF(AND($C62<=AK$2,$D62>=AK$2),$B62,"")) | AL62: =IF(ISBLANK($C62),"",IF(AND($C62<=AL$2,$D62>=AL$2),$B62,"")) | AM62: =IF(ISBLANK($C62),"",IF(AND($C62<=AM$2,$D62>=AM$2),$B62,"")) | AN62: =IF(ISBLANK($C62),"",IF(AND($C62<=AN$2,$D62>=AN$2),$B62,"")) | ... DQ62: =IF(ISBLANK($C62),"",IF(AND($C62<=DQ$2,$D62>=DQ$2),$B62,""))

Sheet Cal. Offre
A1: MODE D'EMPLOI | D1: Ne remplir que le numéro d'offre, dans la case indiquée. Le reste se remplira automatiquement. Les calculs des nombres d'heures en entreprise, en centre et en formation se fait automatiquement. Si vous souhaitez changer la durée de travail quotidienne, le tableau bleu clair avec le semainier peut être modifié. Tapez le nombre d'heures dans la cellule correspondant au jour.
J3: Stagiaire | U3: Formation | AB3: N° Offre | AH3: Date de début | AS3: Date de fin | AZ3: Entreprise
A4: Année début | B4: 2025 | AB4: =$A$7 -> 24508 | AH4: =$B$9 -> 45719 | AS4: =$B$10 -> 45968
A6: $ Remplir le numéro d'offre $
A7: 24508 | D7: =_xlfn.CONCAT("Janvier ",RIGHT($B$4,2)) -> Janvier 25 | J7: =_xlfn.CONCAT("Février ",RIGHT($B$4,2)) -> Février 25 | P7: =_xlfn.CONCAT("Mars ",RIGHT($B$4,2)) -> Mars 25 | V7: =_xlfn.CONCAT("Avril ",RIGHT($B$4,2)) -> Avril 25 | AB7: =_xlfn.CONCAT("Mai ",RIGHT($B$4,2)) -> Mai 25 | AH7: =_xlfn.CONCAT("Juin ",RIGHT($B$4,2)) -> Juin 25 | AN7: =_xlfn.CONCAT("Juillet ",RIGHT($B$4,2)) -> Juillet 25 | AT7: =_xlfn.CONCAT("Août ",RIGHT($B$4,2)) -> Août 25 | AZ7: =_xlfn.CONCAT("Septembre ",RIGHT($B$4,2)) -> Septembre 25 | BF7: =_xlfn.CONCAT("Octobre ",RIGHT($B$4,2)) -> Octobre 25 | BL7: =_xlfn.CONCAT("Novembre ",RIGHT($B$4,2)) -> Novembre 25 | BR7: =_xlfn.CONCAT("Décembre ",RIGHT($B$4,2)) -> Décembre 25
D8: =DATE($B$4,1,1) -> 45658 | E8: =IF(D8="","",IF(WEEKDAY(D8,2)>=6,"",IF(AND(D8>=$B$9,D8<=$B$10),"F",""))) | F8: =IF(D8="","",IF(WEEKDAY(D8,2)>=6,"",IF(OR(AND(D8>=$B$11,D8<=$B$12),AND(D8>=$B$13,D8<=$B$14),AND(D8>=$B$15,D8<=$B$16),AND(D8>=$B$17,D8<=$B$18),AND(D8>=$B$19,D8<=$B$20),AND(D8>=$B$21,D8<=$B$22),AND(D8>=$B$23,D8<=$B$24),AND(D8>=$B$25,D8<=$B$26),AND(D8>=$B$27,D8<=$B$28),AND(D8>=$B$29,D8<=$B$30),AND(D8>=$B$31,D8<=$B$32),AND(D8>=$B$33,D8<=$B$34)),"E",""))) | G8: =IF(D8="","",IF(WEEKDAY(D8,2)>=6,"",IF(E8="F",IF(OR(AND(D8>=$B$11,D8<=$B$12),AND(D8>=$B$13,D8<=$B$14),AND(D8>=$B$15,D8<=$B$16),AND(D8>=$B$17,D8<=$B$18),AND(D8>=$B$19,D8<=$B$20),AND(D8>=$B$21,D8<=$B$22),AND(D8>=$B$23,D8<=$B$24),AND(D8>=$B$25,D8<=$B$26),AND(D8>=$B$27,D8<=$B$28),AND(D8>=$B$29,D8<=$B$30),AND(D8>=$B$31,D8<=$B$32),AND(D8>=$B$33,D8<=$B$34)),"",I8),""))) | H8: =IF(D8="","",IF(OR(AND(D8>=ANNEXE!$E$4,D8<=ANNEXE!$F$4),AND(D8>=ANNEXE!$E$5,D8<=ANNEXE!$F$5),AND(D8>=ANNEXE!$E$6,D8<=ANNEXE!$F$6),AND(D8>=ANNEXE!$E$7,D8<=ANNEXE!$F$7),AND(D8>=ANNEXE!$E$8,D8<=ANNEXE!$F$8),AND(D8>=ANNEXE!$E$9,D8<=ANNEXE!$F$9),COUNTIF(ANNEXE!$A$4:$C$18,D8)>=1),"C","")) -> C | I8: =IF(D8="","",IF(WEEKDAY(D8,2)>5,"",IF(WEEKDAY(D8,2)=5,$B$39,IF(WEEKDAY(D8,2)=4,$B$38,IF(WEEKDAY(D8,2)=3,$B$37,IF(WEEKDAY(D8,2)=2,$B$36,IF(WEEKDAY(D8,2)=1,$B$35,"0"))))))) -> 8 | J8: =DATE($B$4,2,1) -> 45689 | K8: =IF(J8="","",IF(WEEKDAY(J8,2)>=6,"",IF(AND(J8>=$B$9,J8<=$B$10),"F",""))) | L8: =IF(J8="","",IF(WEEKDAY(J8,2)>=6,"",IF(OR(AND(J8>=$B$11,J8<=$B$12),AND(J8>=$B$13,J8<=$B$14),AND(J8>=$B$15,J8<=$B$16),AND(J8>=$B$17,J8<=$B$18),AND(J8>=$B$19,J8<=$B$20),AND(J8>=$B$21,J8<=$B$22),AND(J8>=$B$23,J8<=$B$24),AND(J8>=$B$25,J8<=$B$26)),"E",""))) | M8: =IF(J8="","",IF(WEEKDAY(J8,2)>=6,"",IF(K8="F",IF(OR(AND(J8>=$B$11,J8<=$B$12),AND(J8>=$B$13,J8<=$B$14),AND(J8>=$B$15,J8<=$B$16),AND(J8>=$B$17,J8<=$B$18),AND(J8>=$B$19,J8<=$B$20),AND(J8>=$B$21,J8<=$B$22),AND(J8>=$B$23,J8<=$B$24),AND(J8>=$B$25,J8<=$B$26)),"","P"),""))) | N8: =IF(J8="","",IF(OR(AND(J8>=ANNEXE!$E$4,J8<=ANNEXE!$F$4),AND(J8>=ANNEXE!$E$5,J8<=ANNEXE!$F$5),AND(J8>=ANNEXE!$E$6,J8<=ANNEXE!$F$6),AND(J8>=ANNEXE!$E$7,J8<=ANNEXE!$F$7),AND(J8>=ANNEXE!$E$8,J8<=ANNEXE!$F$8),AND(J8>=ANNEXE!$E$9,J8<=ANNEXE!$F$9),COUNTIF(ANNEXE!$A$4:$C$18,J8)>=1),"C","")) | O8: =IF(J8="","",IF(WEEKDAY(J8,2)>5,"",IF(WEEKDAY(J8,2)=5,$B$39,IF(WEEKDAY(J8,2)=4,$B$38,IF(WEEKDAY(J8,2)=3,$B$37,IF(WEEKDAY(J8,2)=2,$B$36,IF(WEEKDAY(J8,2)=1,$B$35,"0"))))))) | P8: =DATE($B$4,3,1) -> 45717 | Q8: =IF(P8="","",IF(WEEKDAY(P8,2)>=6,"",IF(AND(P8>=$B$9,P8<=$B$10),"F",""))) | R8: =IF(P8="","",IF(WEEKDAY(P8,2)>=6,"",IF(OR(AND(P8>=$B$11,P8<=$B$12),AND(P8>=$B$13,P8<=$B$14),AND(P8>=$B$15,P8<=$B$16),AND(P8>=$B$17,P8<=$B$18),AND(P8>=$B$19,P8<=$B$20),AND(P8>=$B$21,P8<=$B$22),AND(P8>=$B$23,P8<=$B$24),AND(P8>=$B$25,P8<=$B$26)),"E",""))) | S8: =IF(P8="","",IF(WEEKDAY(P8,2)>=6,"",IF(Q8="F",IF(OR(AND(P8>=$B$11,P8<=$B$12),AND(P8>=$B$13,P8<=$B$14),AND(P8>=$B$15,P8<=$B$16),AND(P8>=$B$17,P8<=$B$18),AND(P8>=$B$19,P8<=$B$20),AND(P8>=$B$21,P8<=$B$22),AND(P8>=$B$23,P8<=$B$24),AND(P8>=$B$25,P8<=$B$26)),"","P"),""))) | T8: =IF(P8="","",IF(OR(AND(P8>=ANNEXE!$E$4,P8<=ANNEXE!$F$4),AND(P8>=ANNEXE!$E$5,P8<=ANNEXE!$F$5),AND(P8>=ANNEXE!$E$6,P8<=ANNEXE!$F$6),AND(P8>=ANNEXE!$E$7,P8<=ANNEXE!$F$7),AND(P8>=ANNEXE!$E$8,P8<=ANNEXE!$F$8),AND(P8>=ANNEXE!$E$9,P8<=ANNEXE!$F$9),COUNTIF(ANNEXE!$A$4:$C$18,P8)>=1),"C","")) | U8: =IF(P8="","",IF(WEEKDAY(P8,2)>5,"",IF(WEEKDAY(P8,2)=5,$B$39,IF(WEEKDAY(P8,2)=4,$B$38,IF(WEEKDAY(P8,2)=3,$B$37,IF(WEEKDAY(P8,2)=2,$B$36,IF(WEEKDAY(P8,2)=1,$B$35,"0"))))))) | V8: =DATE($B$4,4,1) -> 45748 | W8: =IF(V8="","",IF(WEEKDAY(V8,2)>=6,"",IF(AND(V8>=$B$9,V8<=$B$10),"F",""))) -> F | X8: =IF(V8="","",IF(WEEKDAY(V8,2)>=6,"",IF(OR(AND(V8>=$B$11,V8<=$B$12),AND(V8>=$B$13,V8<=$B$14),AND(V8>=$B$15,V8<=$B$16),AND(V8>=$B$17,V8<=$B$18),AND(V8>=$B$19,V8<=$B$20),AND(V8>=$B$21,V8<=$B$22),AND(V8>=$B$23,V8<=$B$24),AND(V8>=$B$25,V8<=$B$26)),"E",""))) | Y8: =IF(V8="","",IF(WEEKDAY(V8,2)>=6,"",IF(W8="F",IF(OR(AND(V8>=$B$11,V8<=$B$12),AND(V8>=$B$13,V8<=$B$14),AND(V8>=$B$15,V8<=$B$16),AND(V8>=$B$17,V8<=$B$18),AND(V8>=$B$19,V8<=$B$20),AND(V8>=$B$21,V8<=$B$22),AND(V8>=$B$23,V8<=$B$24),AND(V8>=$B$25,V8<=$B$26)),"","P"),""))) -> P | Z8: =IF(V8="","",IF(OR(AND(V8>=ANNEXE!$E$4,V8<=ANNEXE!$F$4),AND(V8>=ANNEXE!$E$5,V8<=ANNEXE!$F$5),AND(V8>=ANNEXE!$E$6,V8<=ANNEXE!$F$6),AND(V8>=ANNEXE!$E$7,V8<=ANNEXE!$F$7),AND(V8>=ANNEXE!$E$8,V8<=ANNEXE!$F$8),AND(V8>=ANNEXE!$E$9,V8<=ANNEXE!$F$9),COUNTIF(ANNEXE!$A$4:$C$18,V8)>=1),"C","")) | AA8: =IF(V8="","",IF(WEEKDAY(V8,2)>5,"",IF(WEEKDAY(V8,2)=5,$B$39,IF(WEEKDAY(V8,2)=4,$B$38,IF(WEEKDAY(V8,2)=3,$B$37,IF(WEEKDAY(V8,2)=2,$B$36,IF(WEEKDAY(V8,2)=1,$B$35,"0"))))))) -> 8 | AB8: =DATE($B$4,5,1) -> 45778 | AC8: =IF(AB8="","",IF(WEEKDAY(AB8,2)>=6,"",IF(AND(AB8>=$B$9,AB8<=$B$10),"F",""))) -> F | AD8: =IF(AB8="","",IF(WEEKDAY(AB8,2)>=6,"",IF(OR(AND(AB8>=$B$11,AB8<=$B$12),AND(AB8>=$B$13,AB8<=$B$14),AND(AB8>=$B$15,AB8<=$B$16),AND(AB8>=$B$17,AB8<=$B$18),AND(AB8>=$B$19,AB8<=$B$20),AND(AB8>=$B$21,AB8<=$B$22),AND(AB8>=$B$23,AB8<=$B$24),AND(AB8>=$B$25,AB8<=$B$26)),"E",""))) | AE8: =IF(AB8="","",IF(WEEKDAY(AB8,2)>=6,"",IF(AC8="F",IF(OR(AND(AB8>=$B$11,AB8<=$B$12),AND(AB8>=$B$13,AB8<=$B$14),AND(AB8>=$B$15,AB8<=$B$16),AND(AB8>=$B$17,AB8<=$B$18),AND(AB8>=$B$19,AB8<=$B$20),AND(AB8>=$B$21,AB8<=$B$22),AND(AB8>=$B$23,AB8<=$B$24),AND(AB8>=$B$25,AB8<=$B$26)),"","P"),""))) -> P | AF8: =IF(AB8="","",IF(OR(AND(AB8>=ANNEXE!$E$4,AB8<=ANNEXE!$F$4),AND(AB8>=ANNEXE!$E$5,AB8<=ANNEXE!$F$5),AND(AB8>=ANNEXE!$E$6,AB8<=ANNEXE!$F$6),AND(AB8>=ANNEXE!$E$7,AB8<=ANNEXE!$F$7),AND(AB8>=ANNEXE!$E$8,AB8<=ANNEXE!$F$8),AND(AB8>=ANNEXE!$E$9,AB8<=ANNEXE!$F$9),COUNTIF(ANNEXE!$A$4:$C$18,AB8)>=1),"C","")) -> C | AG8: =IF(AB8="","",IF(WEEKDAY(AB8,2)>5,"",IF(WEEKDAY(AB8,2)=5,$B$39,IF(WEEKDAY(AB8,2)=4,$B$38,IF(WEEKDAY(AB8,2)=3,$B$37,IF(WEEKDAY(AB8,2)=2,$B$36,IF(WEEKDAY(AB8,2)=1,$B$35,"0"))))))) -> 8 | AH8: =DATE($B$4,6,1) -> 45809 | AI8: =IF(AH8="","",IF(WEEKDAY(AH8,2)>=6,"",IF(AND(AH8>=$B$9,AH8<=$B$10),"F",""))) | AJ8: =IF(AH8="","",IF(WEEKDAY(AH8,2)>=6,"",IF(OR(AND(AH8>=$B$11,AH8<=$B$12),AND(AH8>=$B$13,AH8<=$B$14),AND(AH8>=$B$15,AH8<=$B$16),AND(AH8>=$B$17,AH8<=$B$18),AND(AH8>=$B$19,AH8<=$B$20),AND(AH8>=$B$21,AH8<=$B$22),AND(AH8>=$B$23,AH8<=$B$24),AND(AH8>=$B$25,AH8<=$B$26)),"E",""))) | AK8: =IF(AH8="","",IF(WEEKDAY(AH8,2)>=6,"",IF(AI8="F",IF(OR(AND(AH8>=$B$11,AH8<=$B$12),AND(AH8>=$B$13,AH8<=$B$14),AND(AH8>=$B$15,AH8<=$B$16),AND(AH8>=$B$17,AH8<=$B$18),AND(AH8>=$B$19,AH8<=$B$20),AND(AH8>=$B$21,AH8<=$B$22),AND(AH8>=$B$23,AH8<=$B$24),AND(AH8>=$B$25,AH8<=$B$26)),"","P"),""))) | AL8: =IF(AH8="","",IF(OR(AND(AH8>=ANNEXE!$E$4,AH8<=ANNEXE!$F$4),AND(AH8>=ANNEXE!$E$5,AH8<=ANNEXE!$F$5),AND(AH8>=ANNEXE!$E$6,AH8<=ANNEXE!$F$6),AND(AH8>=ANNEXE!$E$7,AH8<=ANNEXE!$F$7),AND(AH8>=ANNEXE!$E$8,AH8<=ANNEXE!$F$8),AND(AH8>=ANNEXE!$E$9,AH8<=ANNEXE!$F$9),COUNTIF(ANNEXE!$A$4:$C$18,AH8)>=1),"C","")) | AM8: =IF(AH8="","",IF(WEEKDAY(AH8,2)>5,"",IF(WEEKDAY(AH8,2)=5,$B$39,IF(WEEKDAY(AH8,2)=4,$B$38,IF(WEEKDAY(AH8,2)=3,$B$37,IF(WEEKDAY(AH8,2)=2,$B$36,IF(WEEKDAY(AH8,2)=1,$B$35,"0"))))))) | AN8: =DATE($B$4,7,1) -> 45839 | AO8: =IF(AN8="","",IF(WEEKDAY(AN8,2)>=6,"",IF(AND(AN8>=$B$9,AN8<=$B$10),"F",""))) -> F | AP8: =IF(AN8="","",IF(WEEKDAY(AN8,2)>=6,"",IF(OR(AND(AN8>=$B$11,AN8<=$B$12),AND(AN8>=$B$13,AN8<=$B$14),AND(AN8>=$B$15,AN8<=$B$16),AND(AN8>=$B$17,AN8<=$B$18),AND(AN8>=$B$19,AN8<=$B$20),AND(AN8>=$B$21,AN8<=$B$22),AND(AN8>=$B$23,AN8<=$B$24),AND(AN8>=$B$25,AN8<=$B$26)),"E",""))) | AQ8: =IF(AN8="","",IF(WEEKDAY(AN8,2)>=6,"",IF(AO8="F",IF(OR(AND(AN8>=$B$11,AN8<=$B$12),AND(AN8>=$B$13,AN8<=$B$14),AND(AN8>=$B$15,AN8<=$B$16),AND(AN8>=$B$17,AN8<=$B$18),AND(AN8>=$B$19,AN8<=$B$20),AND(AN8>=$B$21,AN8<=$B$22),AND(AN8>=$B$23,AN8<=$B$24),AND(AN8>=$B$25,AN8<=$B$26)),"","P"),""))) -> P | AR8: =IF(AN8="","",IF(OR(AND(AN8>=ANNEXE!$E$4,AN8<=ANNEXE!$F$4),AND(AN8>=ANNEXE!$E$5,AN8<=ANNEXE!$F$5),AND(AN8>=ANNEXE!$E$6,AN8<=ANNEXE!$F$6),AND(AN8>=ANNEXE!$E$7,AN8<=ANNEXE!$F$7),AND(AN8>=ANNEXE!$E$8,AN8<=ANNEXE!$F$8),AND(AN8>=ANNEXE!$E$9,AN8<=ANNEXE!$F$9),COUNTIF(ANNEXE!$A$4:$C$18,AN8)>=1),"C","")) | AS8: =IF(AN8="","",IF(WEEKDAY(AN8,2)>5,"",IF(WEEKDAY(AN8,2)=5,$B$39,IF(WEEKDAY(AN8,2)=4,$B$38,IF(WEEKDAY(AN8,2)=3,$B$37,IF(WEEKDAY(AN8,2)=2,$B$36,IF(WEEKDAY(AN8,2)=1,$B$35,"0"))))))) -> 8 | AT8: =DATE($B$4,8,1) -> 45870 | AU8: =IF(AT8="","",IF(WEEKDAY(AT8,2)>=6,"",IF(AND(AT8>=$B$9,AT8<=$B$10),"F",""))) -> F | AV8: =IF(AT8="","",IF(WEEKDAY(AT8,2)>=6,"",IF(OR(AND(AT8>=$B$11,AT8<=$B$12),AND(AT8>=$B$13,AT8<=$B$14),AND(AT8>=$B$15,AT8<=$B$16),AND(AT8>=$B$17,AT8<=$B$18),AND(AT8>=$B$19,AT8<=$B$20),AND(AT8>=$B$21,AT8<=$B$22),AND(AT8>=$B$23,AT8<=$B$24),AND(AT8>=$B$25,AT8<=$B$26)),"E",""))) -> E | AW8: =IF(AT8="","",IF(WEEKDAY(AT8,2)>=6,"",IF(AU8="F",IF(OR(AND(AT8>=$B$11,AT8<=$B$12),AND(AT8>=$B$13,AT8<=$B$14),AND(AT8>=$B$15,AT8<=$B$16),AND(AT8>=$B$17,AT8<=$B$18),AND(AT8>=$B$19,AT8<=$B$20),AND(AT8>=$B$21,AT8<=$B$22),AND(AT8>=$B$23,AT8<=$B$24),AND(AT8>=$B$25,AT8<=$B$26)),"","P"),""))) | AX8: =IF(AT8="","",IF(OR(AND(AT8>=ANNEXE!$E$4,AT8<=ANNEXE!$F$4),AND(AT8>=ANNEXE!$E$5,AT8<=ANNEXE!$F$5),AND(AT8>=ANNEXE!$E$6,AT8<=ANNEXE!$F$6),AND(AT8>=ANNEXE!$E$7,AT8<=ANNEXE!$F$7),AND(AT8>=ANNEXE!$E$8,AT8<=ANNEXE!$F$8),AND(AT8>=ANNEXE!$E$9,AT8<=ANNEXE!$F$9),COUNTIF(ANNEXE!$A$4:$C$18,AT8)>=1),"C","")) | AY8: =IF(AT8="","",IF(WEEKDAY(AT8,2)>5,"",IF(WEEKDAY(AT8,2)=5,$B$39,IF(WEEKDAY(AT8,2)=4,$B$38,IF(WEEKDAY(AT8,2)=3,$B$37,IF(WEEKDAY(AT8,2)=2,$B$36,IF(WEEKDAY(AT8,2)=1,$B$35,"0"))))))) -> 3.5 | AZ8: =DATE($B$4,9,1) -> 45901 | BA8: =IF(AZ8="","",IF(WEEKDAY(AZ8,2)>=6,"",IF(AND(AZ8>=$B$9,AZ8<=$B$10),"F",""))) -> F | BB8: =IF(AZ8="","",IF(WEEKDAY(AZ8,2)>=6,"",IF(OR(AND(AZ8>=$B$11,AZ8<=$B$12),AND(AZ8>=$B$13,AZ8<=$B$14),AND(AZ8>=$B$15,AZ8<=$B$16),AND(AZ8>=$B$17,AZ8<=$B$18),AND(AZ8>=$B$19,AZ8<=$B$20),AND(AZ8>=$B$21,AZ8<=$B$22),AND(AZ8>=$B$23,AZ8<=$B$24),AND(AZ8>=$B$25,AZ8<=$B$26)),"E",""))) | BC8: =IF(AZ8="","",IF(WEEKDAY(AZ8,2)>=6,"",IF(BA8="F",IF(OR(AND(AZ8>=$B$11,AZ8<=$B$12),AND(AZ8>=$B$13,AZ8<=$B$14),AND(AZ8>=$B$15,AZ8<=$B$16),AND(AZ8>=$B$17,AZ8<=$B$18),AND(AZ8>=$B$19,AZ8<=$B$20),AND(AZ8>=$B$21,AZ8<=$B$22),AND(AZ8>=$B$23,AZ8<=$B$24),AND(AZ8>=$B$25,AZ8<=$B$26)),"","P"),""))) -> P | BD8: =IF(AZ8="","",IF(OR(AND(AZ8>=ANNEXE!$E$4,AZ8<=ANNEXE!$F$4),AND(AZ8>=ANNEXE!$E$5,AZ8<=ANNEXE!$F$5),AND(AZ8>=ANNEXE!$E$6,AZ8<=ANNEXE!$F$6),AND(AZ8>=ANNEXE!$E$7,AZ8<=ANNEXE!$F$7),AND(AZ8>=ANNEXE!$E$8,AZ8<=ANNEXE!$F$8),AND(AZ8>=ANNEXE!$E$9,AZ8<=ANNEXE!$F$9),COUNTIF(ANNEXE!$A$4:$C$18,AZ8)>=1),"C","")) | BE8: =IF(AZ8="","",IF(WEEKDAY(AZ8,2)>5,"",IF(WEEKDAY(AZ8,2)=5,$B$39,IF(WEEKDAY(AZ8,2)=4,$B$38,IF(WEEKDAY(AZ8,2)=3,$B$37,IF(WEEKDAY(AZ8,2)=2,$B$36,IF(WEEKDAY(AZ8,2)=1,$B$35,"0"))))))) -> 7.5 | BF8: =DATE($B$4,10,1) -> 45931 | BG8: =IF(BF8="","",IF(WEEKDAY(BF8,2)>=6,"",IF(AND(BF8>=$B$9,BF8<=$B$10),"F",""))) -> F | BH8: =IF(BF8="","",IF(WEEKDAY(BF8,2)>=6,"",IF(OR(AND(BF8>=$B$11,BF8<=$B$12),AND(BF8>=$B$13,BF8<=$B$14),AND(BF8>=$B$15,BF8<=$B$16),AND(BF8>=$B$17,BF8<=$B$18),AND(BF8>=$B$19,BF8<=$B$20),AND(BF8>=$B$21,BF8<=$B$22),AND(BF8>=$B$23,BF8<=$B$24),AND(BF8>=$B$25,BF8<=$B$26)),"E",""))) | BI8: =IF(BF8="","",IF(WEEKDAY(BF8,2)>=6,"",IF(BG8="F",IF(OR(AND(BF8>=$B$11,BF8<=$B$12),AND(BF8>=$B$13,BF8<=$B$14),AND(BF8>=$B$15,BF8<=$B$16),AND(BF8>=$B$17,BF8<=$B$18),AND(BF8>=$B$19,BF8<=$B$20),AND(BF8>=$B$21,BF8<=$B$22),AND(BF8>=$B$23,BF8<=$B$24),AND(BF8>=$B$25,BF8<=$B$26)),"","P"),""))) -> P | BJ8: =IF(BF8="","",IF(OR(AND(BF8>=ANNEXE!$E$4,BF8<=ANNEXE!$F$4),AND(BF8>=ANNEXE!$E$5,BF8<=ANNEXE!$F$5),AND(BF8>=ANNEXE!$E$6,BF8<=ANNEXE!$F$6),AND(BF8>=ANNEXE!$E$7,BF8<=ANNEXE!$F$7),AND(BF8>=ANNEXE!$E$8,BF8<=ANNEXE!$F$8),AND(BF8>=ANNEXE!$E$9,BF8<=ANNEXE!$F$9),COUNTIF(ANNEXE!$A$4:$C$18,BF8)>=1),"C","")) | BK8: =IF(BF8="","",IF(WEEKDAY(BF8,2)>5,"",IF(WEEKDAY(BF8,2)=5,$B$39,IF(WEEKDAY(BF8,2)=4,$B$38,IF(WEEKDAY(BF8,2)=3,$B$37,IF(WEEKDAY(BF8,2)=2,$B$36,IF(WEEKDAY(BF8,2)=1,$B$35,"0"))))))) -> 8 | BL8: =DATE($B$4,11,1) -> 45962 | BM8: =IF(BL8="","",IF(WEEKDAY(BL8,2)>=6,"",IF(AND(BL8>=$B$9,BL8<=$B$10),"F",""))) | BN8: =IF(BL8="","",IF(WEEKDAY(BL8,2)>=6,"",IF(OR(AND(BL8>=$B$11,BL8<=$B$12),AND(BL8>=$B$13,BL8<=$B$14),AND(BL8>=$B$15,BL8<=$B$16),AND(BL8>=$B$17,BL8<=$B$18),AND(BL8>=$B$19,BL8<=$B$20),AND(BL8>=$B$21,BL8<=$B$22),AND(BL8>=$B$23,BL8<=$B$24),AND(BL8>=$B$25,BL8<=$B$26)),"E",""))) | BO8: =IF(BL8="","",IF(WEEKDAY(BL8,2)>=6,"",IF(BM8="F",IF(OR(AND(BL8>=$B$11,BL8<=$B$12),AND(BL8>=$B$13,BL8<=$B$14),AND(BL8>=$B$15,BL8<=$B$16),AND(BL8>=$B$17,BL8<=$B$18),AND(BL8>=$B$19,BL8<=$B$20),AND(BL8>=$B$21,BL8<=$B$22),AND(BL8>=$B$23,BL8<=$B$24),AND(BL8>=$B$25,BL8<=$B$26)),"","P"),""))) | BP8: =IF(BL8="","",IF(OR(AND(BL8>=ANNEXE!$E$4,BL8<=ANNEXE!$F$4),AND(BL8>=ANNEXE!$E$5,BL8<=ANNEXE!$F$5),AND(BL8>=ANNEXE!$E$6,BL8<=ANNEXE!$F$6),AND(BL8>=ANNEXE!$E$7,BL8<=ANNEXE!$F$7),AND(BL8>=ANNEXE!$E$8,BL8<=ANNEXE!$F$8),AND(BL8>=ANNEXE!$E$9,BL8<=ANNEXE!$F$9),COUNTIF(ANNEXE!$A$4:$C$18,BL8)>=1),"C","")) -> C | BQ8: =IF(BL8="","",IF(WEEKDAY(BL8,2)>5,"",IF(WEEKDAY(BL8,2)=5,$B$39,IF(WEEKDAY(BL8,2)=4,$B$38,IF(WEEKDAY(BL8,2)=3,$B$37,IF(WEEKDAY(BL8,2)=2,$B$36,IF(WEEKDAY(BL8,2)=1,$B$35,"0"))))))) | BR8: =DATE($B$4,12,1) -> 45992 | BS8: =IF(BR8="","",IF(WEEKDAY(BR8,2)>=6,"",IF(AND(BR8>=$B$9,BR8<=$B$10),"F",""))) | BT8: =IF(BR8="","",IF(WEEKDAY(BR8,2)>=6,"",IF(OR(AND(BR8>=$B$11,BR8<=$B$12),AND(BR8>=$B$13,BR8<=$B$14),AND(BR8>=$B$15,BR8<=$B$16),AND(BR8>=$B$17,BR8<=$B$18),AND(BR8>=$B$19,BR8<=$B$20),AND(BR8>=$B$21,BR8<=$B$22),AND(BR8>=$B$23,BR8<=$B$24),AND(BR8>=$B$25,BR8<=$B$26)),"E",""))) | BU8: =IF(BR8="","",IF(WEEKDAY(BR8,2)>=6,"",IF(BS8="F",IF(OR(AND(BR8>=$B$11,BR8<=$B$12),AND(BR8>=$B$13,BR8<=$B$14),AND(BR8>=$B$15,BR8<=$B$16),AND(BR8>=$B$17,BR8<=$B$18),AND(BR8>=$B$19,BR8<=$B$20),AND(BR8>=$B$21,BR8<=$B$22),AND(BR8>=$B$23,BR8<=$B$24),AND(BR8>=$B$25,BR8<=$B$26)),"","P"),""))) | BV8: =IF(BR8="","",IF(OR(AND(BR8>=ANNEXE!$E$4,BR8<=ANNEXE!$F$4),AND(BR8>=ANNEXE!$E$5,BR8<=ANNEXE!$F$5),AND(BR8>=ANNEXE!$E$6,BR8<=ANNEXE!$F$6),AND(BR8>=ANNEXE!$E$7,BR8<=ANNEXE!$F$7),AND(BR8>=ANNEXE!$E$8,BR8<=ANNEXE!$F$8),AND(BR8>=ANNEXE!$E$9,BR8<=ANNEXE!$F$9),COUNTIF(ANNEXE!$A$4:$C$18,BR8)>=1),"C","")) | BW8: =IF(BR8="","",IF(WEEKDAY(BR8,2)>5,"",IF(WEEKDAY(BR8,2)=5,$B$39,IF(WEEKDAY(BR8,2)=4,$B$38,IF(WEEKDAY(BR8,2)=3,$B$37,IF(WEEKDAY(BR8,2)=2,$B$36,IF(WEEKDAY(BR8,2)=1,$B$35,"0"))))))) -> 7.5
A9: ENTREE FORMATION | B9: =INDEX(Programmation!$A$13:$AB$62,MATCH($A$7,Programmation!$A$13:$A$62,0),3) -> 45719 | D9: =D8+1 -> 45659 | E9: =IF(D9="","",IF(WEEKDAY(D9,2)>=6,"",IF(AND(D9>=$B$9,D9<=$B$10),"F",""))) | F9: =IF(D9="","",IF(WEEKDAY(D9,2)>=6,"",IF(OR(AND(D9>=$B$11,D9<=$B$12),AND(D9>=$B$13,D9<=$B$14),AND(D9>=$B$15,D9<=$B$16),AND(D9>=$B$17,D9<=$B$18),AND(D9>=$B$19,D9<=$B$20),AND(D9>=$B$21,D9<=$B$22),AND(D9>=$B$23,D9<=$B$24),AND(D9>=$B$25,D9<=$B$26),AND(D9>=$B$27,D9<=$B$28),AND(D9>=$B$29,D9<=$B$30),AND(D9>=$B$31,D9<=$B$32),AND(D9>=$B$33,D9<=$B$34)),"E",""))) | G9: =IF(D9="","",IF(WEEKDAY(D9,2)>=6,"",IF(E9="F",IF(OR(AND(D9>=$B$11,D9<=$B$12),AND(D9>=$B$13,D9<=$B$14),AND(D9>=$B$15,D9<=$B$16),AND(D9>=$B$17,D9<=$B$18),AND(D9>=$B$19,D9<=$B$20),AND(D9>=$B$21,D9<=$B$22),AND(D9>=$B$23,D9<=$B$24),AND(D9>=$B$25,D9<=$B$26),AND(D9>=$B$27,D9<=$B$28),AND(D9>=$B$29,D9<=$B$30),AND(D9>=$B$31,D9<=$B$32),AND(D9>=$B$33,D9<=$B$34)),"","P"),""))) | H9: =IF(D9="","",IF(OR(AND(D9>=ANNEXE!$E$4,D9<=ANNEXE!$F$4),AND(D9>=ANNEXE!$E$5,D9<=ANNEXE!$F$5),AND(D9>=ANNEXE!$E$6,D9<=ANNEXE!$F$6),AND(D9>=ANNEXE!$E$7,D9<=ANNEXE!$F$7),AND(D9>=ANNEXE!$E$8,D9<=ANNEXE!$F$8),AND(D9>=ANNEXE!$E$9,D9<=ANNEXE!$F$9),COUNTIF(ANNEXE!$A$4:$C$18,D9)>=1),"C","")) | I9: =IF(D9="","",IF(WEEKDAY(D9,2)>5,"",IF(WEEKDAY(D9,2)=5,$B$39,IF(WEEKDAY(D9,2)=4,$B$38,IF(WEEKDAY(D9,2)=3,$B$37,IF(WEEKDAY(D9,2)=2,$B$36,IF(WEEKDAY(D9,2)=1,$B$35,"0"))))))) -> 8 | J9: =J8+1 -> 45690 | K9: =IF(J9="","",IF(WEEKDAY(J9,2)>=6,"",IF(AND(J9>=$B$9,J9<=$B$10),"F",""))) | L9: =IF(J9="","",IF(WEEKDAY(J9,2)>=6,"",IF(OR(AND(J9>=$B$11,J9<=$B$12),AND(J9>=$B$13,J9<=$B$14),AND(J9>=$B$15,J9<=$B$16),AND(J9>=$B$17,J9<=$B$18),AND(J9>=$B$19,J9<=$B$20),AND(J9>=$B$21,J9<=$B$22),AND(J9>=$B$23,J9<=$B$24),AND(J9>=$B$25,J9<=$B$26)),"E",""))) | M9: =IF(J9="","",IF(WEEKDAY(J9,2)>=6,"",IF(K9="F",IF(OR(AND(J9>=$B$11,J9<=$B$12),AND(J9>=$B$13,J9<=$B$14),AND(J9>=$B$15,J9<=$B$16),AND(J9>=$B$17,J9<=$B$18),AND(J9>=$B$19,J9<=$B$20),AND(J9>=$B$21,J9<=$B$22),AND(J9>=$B$23,J9<=$B$24),AND(J9>=$B$25,J9<=$B$26)),"","P"),""))) | N9: =IF(J9="","",IF(OR(AND(J9>=ANNEXE!$E$4,J9<=ANNEXE!$F$4),AND(J9>=ANNEXE!$E$5,J9<=ANNEXE!$F$5),AND(J9>=ANNEXE!$E$6,J9<=ANNEXE!$F$6),AND(J9>=ANNEXE!$E$7,J9<=ANNEXE!$F$7),AND(J9>=ANNEXE!$E$8,J9<=ANNEXE!$F$8),AND(J9>=ANNEXE!$E$9,J9<=ANNEXE!$F$9),COUNTIF(ANNEXE!$A$4:$C$18,J9)>=1),"C","")) | O9: =IF(J9="","",IF(WEEKDAY(J9,2)>5,"",IF(WEEKDAY(J9,2)=5,$B$39,IF(WEEKDAY(J9,2)=4,$B$38,IF(WEEKDAY(J9,2)=3,$B$37,IF(WEEKDAY(J9,2)=2,$B$36,IF(WEEKDAY(J9,2)=1,$B$35,"0"))))))) | P9: =P8+1 -> 45718 | Q9: =IF(P9="","",IF(WEEKDAY(P9,2)>=6,"",IF(AND(P9>=$B$9,P9<=$B$10),"F",""))) | R9: =IF(P9="","",IF(WEEKDAY(P9,2)>=6,"",IF(OR(AND(P9>=$B$11,P9<=$B$12),AND(P9>=$B$13,P9<=$B$14),AND(P9>=$B$15,P9<=$B$16),AND(P9>=$B$17,P9<=$B$18),AND(P9>=$B$19,P9<=$B$20),AND(P9>=$B$21,P9<=$B$22),AND(P9>=$B$23,P9<=$B$24),AND(P9>=$B$25,P9<=$B$26)),"E",""))) | S9: =IF(P9="","",IF(WEEKDAY(P9,2)>=6,"",IF(Q9="F",IF(OR(AND(P9>=$B$11,P9<=$B$12),AND(P9>=$B$13,P9<=$B$14),AND(P9>=$B$15,P9<=$B$16),AND(P9>=$B$17,P9<=$B$18),AND(P9>=$B$19,P9<=$B$20),AND(P9>=$B$21,P9<=$B$22),AND(P9>=$B$23,P9<=$B$24),AND(P9>=$B$25,P9<=$B$26)),"","P"),""))) | T9: =IF(P9="","",IF(OR(AND(P9>=ANNEXE!$E$4,P9<=ANNEXE!$F$4),AND(P9>=ANNEXE!$E$5,P9<=ANNEXE!$F$5),AND(P9>=ANNEXE!$E$6,P9<=ANNEXE!$F$6),AND(P9>=ANNEXE!$E$7,P9<=ANNEXE!$F$7),AND(P9>=ANNEXE!$E$8,P9<=ANNEXE!$F$8),AND(P9>=ANNEXE!$E$9,P9<=ANNEXE!$F$9),COUNTIF(ANNEXE!$A$4:$C$18,P9)>=1),"C","")) | U9: =IF(P9="","",IF(WEEKDAY(P9,2)>5,"",IF(WEEKDAY(P9,2)=5,$B$39,IF(WEEKDAY(P9,2)=4,$B$38,IF(WEEKDAY(P9,2)=3,$B$37,IF(WEEKDAY(P9,2)=2,$B$36,IF(WEEKDAY(P9,2)=1,$B$35,"0"))))))) | V9: =V8+1 -> 45749 | W9: =IF(V9="","",IF(WEEKDAY(V9,2)>=6,"",IF(AND(V9>=$B$9,V9<=$B$10),"F",""))) -> F | X9: =IF(V9="","",IF(WEEKDAY(V9,2)>=6,"",IF(OR(AND(V9>=$B$11,V9<=$B$12),AND(V9>=$B$13,V9<=$B$14),AND(V9>=$B$15,V9<=$B$16),AND(V9>=$B$17,V9<=$B$18),AND(V9>=$B$19,V9<=$B$20),AND(V9>=$B$21,V9<=$B$22),AND(V9>=$B$23,V9<=$B$24),AND(V9>=$B$25,V9<=$B$26)),"E",""))) | Y9: =IF(V9="","",IF(WEEKDAY(V9,2)>=6,"",IF(W9="F",IF(OR(AND(V9>=$B$11,V9<=$B$12),AND(V9>=$B$13,V9<=$B$14),AND(V9>=$B$15,V9<=$B$16),AND(V9>=$B$17,V9<=$B$18),AND(V9>=$B$19,V9<=$B$20),AND(V9>=$B$21,V9<=$B$22),AND(V9>=$B$23,V9<=$B$24),AND(V9>=$B$25,V9<=$B$26)),"","P"),""))) -> P | Z9: =IF(V9="","",IF(OR(AND(V9>=ANNEXE!$E$4,V9<=ANNEXE!$F$4),AND(V9>=ANNEXE!$E$5,V9<=ANNEXE!$F$5),AND(V9>=ANNEXE!$E$6,V9<=ANNEXE!$F$6),AND(V9>=ANNEXE!$E$7,V9<=ANNEXE!$F$7),AND(V9>=ANNEXE!$E$8,V9<=ANNEXE!$F$8),AND(V9>=ANNEXE!$E$9,V9<=ANNEXE!$F$9),COUNTIF(ANNEXE!$A$4:$C$18,V9)>=1),"C","")) | AA9: =IF(V9="","",IF(WEEKDAY(V9,2)>5,"",IF(WEEKDAY(V9,2)=5,$B$39,IF(WEEKDAY(V9,2)=4,$B$38,IF(WEEKDAY(V9,2)=3,$B$37,IF(WEEKDAY(V9,2)=2,$B$36,IF(WEEKDAY(V9,2)=1,$B$35,"0"))))))) -> 8 | AB9: =AB8+1 -> 45779 | AC9: =IF(AB9="","",IF(WEEKDAY(AB9,2)>=6,"",IF(AND(AB9>=$B$9,AB9<=$B$10),"F",""))) -> F | AD9: =IF(AB9="","",IF(WEEKDAY(AB9,2)>=6,"",IF(OR(AND(AB9>=$B$11,AB9<=$B$12),AND(AB9>=$B$13,AB9<=$B$14),AND(AB9>=$B$15,AB9<=$B$16),AND(AB9>=$B$17,AB9<=$B$18),AND(AB9>=$B$19,AB9<=$B$20),AND(AB9>=$B$21,AB9<=$B$22),AND(AB9>=$B$23,AB9<=$B$24),AND(AB9>=$B$25,AB9<=$B$26)),"E",""))) | AE9: =IF(AB9="","",IF(WEEKDAY(AB9,2)>=6,"",IF(AC9="F",IF(OR(AND(AB9>=$B$11,AB9<=$B$12),AND(AB9>=$B$13,AB9<=$B$14),AND(AB9>=$B$15,AB9<=$B$16),AND(AB9>=$B$17,AB9<=$B$18),AND(AB9>=$B$19,AB9<=$B$20),AND(AB9>=$B$21,AB9<=$B$22),AND(AB9>=$B$23,AB9<=$B$24),AND(AB9>=$B$25,AB9<=$B$26)),"","P"),""))) -> P | AF9: =IF(AB9="","",IF(OR(AND(AB9>=ANNEXE!$E$4,AB9<=ANNEXE!$F$4),AND(AB9>=ANNEXE!$E$5,AB9<=ANNEXE!$F$5),AND(AB9>=ANNEXE!$E$6,AB9<=ANNEXE!$F$6),AND(AB9>=ANNEXE!$E$7,AB9<=ANNEXE!$F$7),AND(AB9>=ANNEXE!$E$8,AB9<=ANNEXE!$F$8),AND(AB9>=ANNEXE!$E$9,AB9<=ANNEXE!$F$9),COUNTIF(ANNEXE!$A$4:$C$18,AB9)>=1),"C","")) | AG9: =IF(AB9="","",IF(WEEKDAY(AB9,2)>5,"",IF(WEEKDAY(AB9,2)=5,$B$39,IF(WEEKDAY(AB9,2)=4,$B$38,IF(WEEKDAY(AB9,2)=3,$B$37,IF(WEEKDAY(AB9,2)=2,$B$36,IF(WEEKDAY(AB9,2)=1,$B$35,"0"))))))) -> 3.5 | AH9: =AH8+1 -> 45810 | AI9: =IF(AH9="","",IF(WEEKDAY(AH9,2)>=6,"",IF(AND(AH9>=$B$9,AH9<=$B$10),"F",""))) -> F | AJ9: =IF(AH9="","",IF(WEEKDAY(AH9,2)>=6,"",IF(OR(AND(AH9>=$B$11,AH9<=$B$12),AND(AH9>=$B$13,AH9<=$B$14),AND(AH9>=$B$15,AH9<=$B$16),AND(AH9>=$B$17,AH9<=$B$18),AND(AH9>=$B$19,AH9<=$B$20),AND(AH9>=$B$21,AH9<=$B$22),AND(AH9>=$B$23,AH9<=$B$24),AND(AH9>=$B$25,AH9<=$B$26)),"E",""))) -> E | AK9: =IF(AH9="","",IF(WEEKDAY(AH9,2)>=6,"",IF(AI9="F",IF(OR(AND(AH9>=$B$11,AH9<=$B$12),AND(AH9>=$B$13,AH9<=$B$14),AND(AH9>=$B$15,AH9<=$B$16),AND(AH9>=$B$17,AH9<=$B$18),AND(AH9>=$B$19,AH9<=$B$20),AND(AH9>=$B$21,AH9<=$B$22),AND(AH9>=$B$23,AH9<=$B$24),AND(AH9>=$B$25,AH9<=$B$26)),"","P"),""))) | AL9: =IF(AH9="","",IF(OR(AND(AH9>=ANNEXE!$E$4,AH9<=ANNEXE!$F$4),AND(AH9>=ANNEXE!$E$5,AH9<=ANNEXE!$F$5),AND(AH9>=ANNEXE!$E$6,AH9<=ANNEXE!$F$6),AND(AH9>=ANNEXE!$E$7,AH9<=ANNEXE!$F$7),AND(AH9>=ANNEXE!$E$8,AH9<=ANNEXE!$F$8),AND(AH9>=ANNEXE!$E$9,AH9<=ANNEXE!$F$9),COUNTIF(ANNEXE!$A$4:$C$18,AH9)>=1),"C","")) | AM9: =IF(AH9="","",IF(WEEKDAY(AH9,2)>5,"",IF(WEEKDAY(AH9,2)=5,$B$39,IF(WEEKDAY(AH9,2)=4,$B$38,IF(WEEKDAY(AH9,2)=3,$B$37,IF(WEEKDAY(AH9,2)=2,$B$36,IF(WEEKDAY(AH9,2)=1,$B$35,"0"))))))) -> 7.5 | AN9: =AN8+1 -> 45840 | AO9: =IF(AN9="","",IF(WEEKDAY(AN9,2)>=6,"",IF(AND(AN9>=$B$9,AN9<=$B$10),"F",""))) -> F | AP9: =IF(AN9="","",IF(WEEKDAY(AN9,2)>=6,"",IF(OR(AND(AN9>=$B$11,AN9<=$B$12),AND(AN9>=$B$13,AN9<=$B$14),AND(AN9>=$B$15,AN9<=$B$16),AND(AN9>=$B$17,AN9<=$B$18),AND(AN9>=$B$19,AN9<=$B$20),AND(AN9>=$B$21,AN9<=$B$22),AND(AN9>=$B$23,AN9<=$B$24),AND(AN9>=$B$25,AN9<=$B$26)),"E",""))) | AQ9: =IF(AN9="","",IF(WEEKDAY(AN9,2)>=6,"",IF(AO9="F",IF(OR(AND(AN9>=$B$11,AN9<=$B$12),AND(AN9>=$B$13,AN9<=$B$14),AND(AN9>=$B$15,AN9<=$B$16),AND(AN9>=$B$17,AN9<=$B$18),AND(AN9>=$B$19,AN9<=$B$20),AND(AN9>=$B$21,AN9<=$B$22),AND(AN9>=$B$23,AN9<=$B$24),AND(AN9>=$B$25,AN9<=$B$26)),"","P"),""))) -> P | AR9: =IF(AN9="","",IF(OR(AND(AN9>=ANNEXE!$E$4,AN9<=ANNEXE!$F$4),AND(AN9>=ANNEXE!$E$5,AN9<=ANNEXE!$F$5),AND(AN9>=ANNEXE!$E$6,AN9<=ANNEXE!$F$6),AND(AN9>=ANNEXE!$E$7,AN9<=ANNEXE!$F$7),AND(AN9>=ANNEXE!$E$8,AN9<=ANNEXE!$F$8),AND(AN9>=ANNEXE!$E$9,AN9<=ANNEXE!$F$9),COUNTIF(ANNEXE!$A$4:$C$18,AN9)>=1),"C","")) | AS9: =IF(AN9="","",IF(WEEKDAY(AN9,2)>5,"",IF(WEEKDAY(AN9,2)=5,$B$39,IF(WEEKDAY(AN9,2)=4,$B$38,IF(WEEKDAY(AN9,2)=3,$B$37,IF(WEEKDAY(AN9,2)=2,$B$36,IF(WEEKDAY(AN9,2)=1,$B$35,"0"))))))) -> 8 | AT9: =AT8+1 -> 45871 | AU9: =IF(AT9="","",IF(WEEKDAY(AT9,2)>=6,"",IF(AND(AT9>=$B$9,AT9<=$B$10),"F",""))) | AV9: =IF(AT9="","",IF(WEEKDAY(AT9,2)>=6,"",IF(OR(AND(AT9>=$B$11,AT9<=$B$12),AND(AT9>=$B$13,AT9<=$B$14),AND(AT9>=$B$15,AT9<=$B$16),AND(AT9>=$B$17,AT9<=$B$18),AND(AT9>=$B$19,AT9<=$B$20),AND(AT9>=$B$21,AT9<=$B$22),AND(AT9>=$B$23,AT9<=$B$24),AND(AT9>=$B$25,AT9<=$B$26)),"E",""))) | AW9: =IF(AT9="","",IF(WEEKDAY(AT9,2)>=6,"",IF(AU9="F",IF(OR(AND(AT9>=$B$11,AT9<=$B$12),AND(AT9>=$B$13,AT9<=$B$14),AND(AT9>=$B$15,AT9<=$B$16),AND(AT9>=$B$17,AT9<=$B$18),AND(AT9>=$B$19,AT9<=$B$20),AND(AT9>=$B$21,AT9<=$B$22),AND(AT9>=$B$23,AT9<=$B$24),AND(AT9>=$B$25,AT9<=$B$26)),"","P"),""))) | AX9: =IF(AT9="","",IF(OR(AND(AT9>=ANNEXE!$E$4,AT9<=ANNEXE!$F$4),AND(AT9>=ANNEXE!$E$5,AT9<=ANNEXE!$F$5),AND(AT9>=ANNEXE!$E$6,AT9<=ANNEXE!$F$6),AND(AT9>=ANNEXE!$E$7,AT9<=ANNEXE!$F$7),AND(AT9>=ANNEXE!$E$8,AT9<=ANNEXE!$F$8),AND(AT9>=ANNEXE!$E$9,AT9<=ANNEXE!$F$9),COUNTIF(ANNEXE!$A$4:$C$18,AT9)>=1),"C","")) | AY9: =IF(AT9="","",IF(WEEKDAY(AT9,2)>5,"",IF(WEEKDAY(AT9,2)=5,$B$39,IF(WEEKDAY(AT9,2)=4,$B$38,IF(WEEKDAY(AT9,2)=3,$B$37,IF(WEEKDAY(AT9,2)=2,$B$36,IF(WEEKDAY(AT9,2)=1,$B$35,"0"))))))) | AZ9: =AZ8+1 -> 45902 | BA9: =IF(AZ9="","",IF(WEEKDAY(AZ9,2)>=6,"",IF(AND(AZ9>=$B$9,AZ9<=$B$10),"F",""))) -> F | BB9: =IF(AZ9="","",IF(WEEKDAY(AZ9,2)>=6,"",IF(OR(AND(AZ9>=$B$11,AZ9<=$B$12),AND(AZ9>=$B$13,AZ9<=$B$14),AND(AZ9>=$B$15,AZ9<=$B$16),AND(AZ9>=$B$17,AZ9<=$B$18),AND(AZ9>=$B$19,AZ9<=$B$20),AND(AZ9>=$B$21,AZ9<=$B$22),AND(AZ9>=$B$23,AZ9<=$B$24),AND(AZ9>=$B$25,AZ9<=$B$26)),"E",""))) | BC9: =IF(AZ9="","",IF(WEEKDAY(AZ9,2)>=6,"",IF(BA9="F",IF(OR(AND(AZ9>=$B$11,AZ9<=$B$12),AND(AZ9>=$B$13,AZ9<=$B$14),AND(AZ9>=$B$15,AZ9<=$B$16),AND(AZ9>=$B$17,AZ9<=$B$18),AND(AZ9>=$B$19,AZ9<=$B$20),AND(AZ9>=$B$21,AZ9<=$B$22),AND(AZ9>=$B$23,AZ9<=$B$24),AND(AZ9>=$B$25,AZ9<=$B$26)),"","P"),""))) -> P | BD9: =IF(AZ9="","",IF(OR(AND(AZ9>=ANNEXE!$E$4,AZ9<=ANNEXE!$F$4),AND(AZ9>=ANNEXE!$E$5,AZ9<=ANNEXE!$F$5),AND(AZ9>=ANNEXE!$E$6,AZ9<=ANNEXE!$F$6),AND(AZ9>=ANNEXE!$E$7,AZ9<=ANNEXE!$F$7),AND(AZ9>=ANNEXE!$E$8,AZ9<=ANNEXE!$F$8),AND(AZ9>=ANNEXE!$E$9,AZ9<=ANNEXE!$F$9),COUNTIF(ANNEXE!$A$4:$C$18,AZ9)>=1),"C","")) | BE9: =IF(AZ9="","",IF(WEEKDAY(AZ9,2)>5,"",IF(WEEKDAY(AZ9,2)=5,$B$39,IF(WEEKDAY(AZ9,2)=4,$B$38,IF(WEEKDAY(AZ9,2)=3,$B$37,IF(WEEKDAY(AZ9,2)=2,$B$36,IF(WEEKDAY(AZ9,2)=1,$B$35,"0"))))))) -> 8 | BF9: =BF8+1 -> 45932 | BG9: =IF(BF9="","",IF(WEEKDAY(BF9,2)>=6,"",IF(AND(BF9>=$B$9,BF9<=$B$10),"F",""))) -> F | BH9: =IF(BF9="","",IF(WEEKDAY(BF9,2)>=6,"",IF(OR(AND(BF9>=$B$11,BF9<=$B$12),AND(BF9>=$B$13,BF9<=$B$14),AND(BF9>=$B$15,BF9<=$B$16),AND(BF9>=$B$17,BF9<=$B$18),AND(BF9>=$B$19,BF9<=$B$20),AND(BF9>=$B$21,BF9<=$B$22),AND(BF9>=$B$23,BF9<=$B$24),AND(BF9>=$B$25,BF9<=$B$26)),"E",""))) | BI9: =IF(BF9="","",IF(WEEKDAY(BF9,2)>=6,"",IF(BG9="F",IF(OR(AND(BF9>=$B$11,BF9<=$B$12),AND(BF9>=$B$13,BF9<=$B$14),AND(BF9>=$B$15,BF9<=$B$16),AND(BF9>=$B$17,BF9<=$B$18),AND(BF9>=$B$19,BF9<=$B$20),AND(BF9>=$B$21,BF9<=$B$22),AND(BF9>=$B$23,BF9<=$B$24),AND(BF9>=$B$25,BF9<=$B$26)),"","P"),""))) -> P | BJ9: =IF(BF9="","",IF(OR(AND(BF9>=ANNEXE!$E$4,BF9<=ANNEXE!$F$4),AND(BF9>=ANNEXE!$E$5,BF9<=ANNEXE!$F$5),AND(BF9>=ANNEXE!$E$6,BF9<=ANNEXE!$F$6),AND(BF9>=ANNEXE!$E$7,BF9<=ANNEXE!$F$7),AND(BF9>=ANNEXE!$E$8,BF9<=ANNEXE!$F$8),AND(BF9>=ANNEXE!$E$9,BF9<=ANNEXE!$F$9),COUNTIF(ANNEXE!$A$4:$C$18,BF9)>=1),"C","")) | BK9: =IF(BF9="","",IF(WEEKDAY(BF9,2)>5,"",IF(WEEKDAY(BF9,2)=5,$B$39,IF(WEEKDAY(BF9,2)=4,$B$38,IF(WEEKDAY(BF9,2)=3,$B$37,IF(WEEKDAY(BF9,2)=2,$B$36,IF(WEEKDAY(BF9,2)=1,$B$35,"0"))))))) -> 8 | BL9: =BL8+1 -> 45963 | BM9: =IF(BL9="","",IF(WEEKDAY(BL9,2)>=6,"",IF(AND(BL9>=$B$9,BL9<=$B$10),"F",""))) | BN9: =IF(BL9="","",IF(WEEKDAY(BL9,2)>=6,"",IF(OR(AND(BL9>=$B$11,BL9<=$B$12),AND(BL9>=$B$13,BL9<=$B$14),AND(BL9>=$B$15,BL9<=$B$16),AND(BL9>=$B$17,BL9<=$B$18),AND(BL9>=$B$19,BL9<=$B$20),AND(BL9>=$B$21,BL9<=$B$22),AND(BL9>=$B$23,BL9<=$B$24),AND(BL9>=$B$25,BL9<=$B$26)),"E",""))) | BO9: =IF(BL9="","",IF(WEEKDAY(BL9,2)>=6,"",IF(BM9="F",IF(OR(AND(BL9>=$B$11,BL9<=$B$12),AND(BL9>=$B$13,BL9<=$B$14),AND(BL9>=$B$15,BL9<=$B$16),AND(BL9>=$B$17,BL9<=$B$18),AND(BL9>=$B$19,BL9<=$B$20),AND(BL9>=$B$21,BL9<=$B$22),AND(BL9>=$B$23,BL9<=$B$24),AND(BL9>=$B$25,BL9<=$B$26)),"","P"),""))) | BP9: =IF(BL9="","",IF(OR(AND(BL9>=ANNEXE!$E$4,BL9<=ANNEXE!$F$4),AND(BL9>=ANNEXE!$E$5,BL9<=ANNEXE!$F$5),AND(BL9>=ANNEXE!$E$6,BL9<=ANNEXE!$F$6),AND(BL9>=ANNEXE!$E$7,BL9<=ANNEXE!$F$7),AND(BL9>=ANNEXE!$E$8,BL9<=ANNEXE!$F$8),AND(BL9>=ANNEXE!$E$9,BL9<=ANNEXE!$F$9),COUNTIF(ANNEXE!$A$4:$C$18,BL9)>=1),"C","")) | BQ9: =IF(BL9="","",IF(WEEKDAY(BL9,2)>5,"",IF(WEEKDAY(BL9,2)=5,$B$39,IF(WEEKDAY(BL9,2)=4,$B$38,IF(WEEKDAY(BL9,2)=3,$B$37,IF(WEEKDAY(BL9,2)=2,$B$36,IF(WEEKDAY(BL9,2)=1,$B$35,"0"))))))) | BR9: =BR8+1 -> 45993 | BS9: =IF(BR9="","",IF(WEEKDAY(BR9,2)>=6,"",IF(AND(BR9>=$B$9,BR9<=$B$10),"F",""))) | BT9: =IF(BR9="","",IF(WEEKDAY(BR9,2)>=6,"",IF(OR(AND(BR9>=$B$11,BR9<=$B$12),AND(BR9>=$B$13,BR9<=$B$14),AND(BR9>=$B$15,BR9<=$B$16),AND(BR9>=$B$17,BR9<=$B$18),AND(BR9>=$B$19,BR9<=$B$20),AND(BR9>=$B$21,BR9<=$B$22),AND(BR9>=$B$23,BR9<=$B$24),AND(BR9>=$B$25,BR9<=$B$26)),"E",""))) | BU9: =IF(BR9="","",IF(WEEKDAY(BR9,2)>=6,"",IF(BS9="F",IF(OR(AND(BR9>=$B$11,BR9<=$B$12),AND(BR9>=$B$13,BR9<=$B$14),AND(BR9>=$B$15,BR9<=$B$16),AND(BR9>=$B$17,BR9<=$B$18),AND(BR9>=$B$19,BR9<=$B$20),AND(BR9>=$B$21,BR9<=$B$22),AND(BR9>=$B$23,BR9<=$B$24),AND(BR9>=$B$25,BR9<=$B$26)),"","P"),""))) | BV9: =IF(BR9="","",IF(OR(AND(BR9>=ANNEXE!$E$4,BR9<=ANNEXE!$F$4),AND(BR9>=ANNEXE!$E$5,BR9<=ANNEXE!$F$5),AND(BR9>=ANNEXE!$E$6,BR9<=ANNEXE!$F$6),AND(BR9>=ANNEXE!$E$7,BR9<=ANNEXE!$F$7),AND(BR9>=ANNEXE!$E$8,BR9<=ANNEXE!$F$8),AND(BR9>=ANNEXE!$E$9,BR9<=ANNEXE!$F$9),COUNTIF(ANNEXE!$A$4:$C$18,BR9)>=1),"C","")) | BW9: =IF(BR9="","",IF(WEEKDAY(BR9,2)>5,"",IF(WEEKDAY(BR9,2)=5,$B$39,IF(WEEKDAY(BR9,2)=4,$B$38,IF(WEEKDAY(BR9,2)=3,$B$37,IF(WEEKDAY(BR9,2)=2,$B$36,IF(WEEKDAY(BR9,2)=1,$B$35,"0"))))))) -> 8
A10: SORTIE FORMATION | B10: =INDEX(Programmation!$A$13:$AB$62,MATCH($A$7,Programmation!$A$13:$A$62,0),4) -> 45968 | D10: =D9+1 -> 45660 | E10: =IF(D10="","",IF(WEEKDAY(D10,2)>=6,"",IF(AND(D10>=$B$9,D10<=$B$10),"F",""))) | F10: =IF(D10="","",IF(WEEKDAY(D10,2)>=6,"",IF(OR(AND(D10>=$B$11,D10<=$B$12),AND(D10>=$B$13,D10<=$B$14),AND(D10>=$B$15,D10<=$B$16),AND(D10>=$B$17,D10<=$B$18),AND(D10>=$B$19,D10<=$B$20),AND(D10>=$B$21,D10<=$B$22),AND(D10>=$B$23,D10<=$B$24),AND(D10>=$B$25,D10<=$B$26),AND(D10>=$B$27,D10<=$B$28),AND(D10>=$B$29,D10<=$B$30),AND(D10>=$B$31,D10<=$B$32),AND(D10>=$B$33,D10<=$B$34)),"E",""))) | G10: =IF(D10="","",IF(WEEKDAY(D10,2)>=6,"",IF(E10="F",IF(OR(AND(D10>=$B$11,D10<=$B$12),AND(D10>=$B$13,D10<=$B$14),AND(D10>=$B$15,D10<=$B$16),AND(D10>=$B$17,D10<=$B$18),AND(D10>=$B$19,D10<=$B$20),AND(D10>=$B$21,D10<=$B$22),AND(D10>=$B$23,D10<=$B$24),AND(D10>=$B$25,D10<=$B$26),AND(D10>=$B$27,D10<=$B$28),AND(D10>=$B$29,D10<=$B$30),AND(D10>=$B$31,D10<=$B$32),AND(D10>=$B$33,D10<=$B$34)),"","P"),""))) | H10: =IF(D10="","",IF(OR(AND(D10>=ANNEXE!$E$4,D10<=ANNEXE!$F$4),AND(D10>=ANNEXE!$E$5,D10<=ANNEXE!$F$5),AND(D10>=ANNEXE!$E$6,D10<=ANNEXE!$F$6),AND(D10>=ANNEXE!$E$7,D10<=ANNEXE!$F$7),AND(D10>=ANNEXE!$E$8,D10<=ANNEXE!$F$8),AND(D10>=ANNEXE!$E$9,D10<=ANNEXE!$F$9),COUNTIF(ANNEXE!$A$4:$C$18,D10)>=1),"C","")) | I10: =IF(D10="","",IF(WEEKDAY(D10,2)>5,"",IF(WEEKDAY(D10,2)=5,$B$39,IF(WEEKDAY(D10,2)=4,$B$38,IF(WEEKDAY(D10,2)=3,$B$37,IF(WEEKDAY(D10,2)=2,$B$36,IF(WEEKDAY(D10,2)=1,$B$35,"0"))))))) -> 3.5 | J10: =J9+1 -> 45691 | K10: =IF(J10="","",IF(WEEKDAY(J10,2)>=6,"",IF(AND(J10>=$B$9,J10<=$B$10),"F",""))) | L10: =IF(J10="","",IF(WEEKDAY(J10,2)>=6,"",IF(OR(AND(J10>=$B$11,J10<=$B$12),AND(J10>=$B$13,J10<=$B$14),AND(J10>=$B$15,J10<=$B$16),AND(J10>=$B$17,J10<=$B$18),AND(J10>=$B$19,J10<=$B$20),AND(J10>=$B$21,J10<=$B$22),AND(J10>=$B$23,J10<=$B$24),AND(J10>=$B$25,J10<=$B$26)),"E",""))) | M10: =IF(J10="","",IF(WEEKDAY(J10,2)>=6,"",IF(K10="F",IF(OR(AND(J10>=$B$11,J10<=$B$12),AND(J10>=$B$13,J10<=$B$14),AND(J10>=$B$15,J10<=$B$16),AND(J10>=$B$17,J10<=$B$18),AND(J10>=$B$19,J10<=$B$20),AND(J10>=$B$21,J10<=$B$22),AND(J10>=$B$23,J10<=$B$24),AND(J10>=$B$25,J10<=$B$26)),"","P"),""))) | N10: =IF(J10="","",IF(OR(AND(J10>=ANNEXE!$E$4,J10<=ANNEXE!$F$4),AND(J10>=ANNEXE!$E$5,J10<=ANNEXE!$F$5),AND(J10>=ANNEXE!$E$6,J10<=ANNEXE!$F$6),AND(J10>=ANNEXE!$E$7,J10<=ANNEXE!$F$7),AND(J10>=ANNEXE!$E$8,J10<=ANNEXE!$F$8),AND(J10>=ANNEXE!$E$9,J10<=ANNEXE!$F$9),COUNTIF(ANNEXE!$A$4:$C$18,J10)>=1),"C","")) | O10: =IF(J10="","",IF(WEEKDAY(J10,2)>5,"",IF(WEEKDAY(J10,2)=5,$B$39,IF(WEEKDAY(J10,2)=4,$B$38,IF(WEEKDAY(J10,2)=3,$B$37,IF(WEEKDAY(J10,2)=2,$B$36,IF(WEEKDAY(J10,2)=1,$B$35,"0"))))))) -> 7.5 | P10: =P9+1 -> 45719 | Q10: =IF(P10="","",IF(WEEKDAY(P10,2)>=6,"",IF(AND(P10>=$B$9,P10<=$B$10),"F",""))) -> F | R10: =IF(P10="","",IF(WEEKDAY(P10,2)>=6,"",IF(OR(AND(P10>=$B$11,P10<=$B$12),AND(P10>=$B$13,P10<=$B$14),AND(P10>=$B$15,P10<=$B$16),AND(P10>=$B$17,P10<=$B$18),AND(P10>=$B$19,P10<=$B$20),AND(P10>=$B$21,P10<=$B$22),AND(P10>=$B$23,P10<=$B$24),AND(P10>=$B$25,P10<=$B$26)),"E",""))) | S10: =IF(P10="","",IF(WEEKDAY(P10,2)>=6,"",IF(Q10="F",IF(OR(AND(P10>=$B$11,P10<=$B$12),AND(P10>=$B$13,P10<=$B$14),AND(P10>=$B$15,P10<=$B$16),AND(P10>=$B$17,P10<=$B$18),AND(P10>=$B$19,P10<=$B$20),AND(P10>=$B$21,P10<=$B$22),AND(P10>=$B$23,P10<=$B$24),AND(P10>=$B$25,P10<=$B$26)),"","P"),""))) -> P | T10: =IF(P10="","",IF(OR(AND(P10>=ANNEXE!$E$4,P10<=ANNEXE!$F$4),AND(P10>=ANNEXE!$E$5,P10<=ANNEXE!$F$5),AND(P10>=ANNEXE!$E$6,P10<=ANNEXE!$F$6),AND(P10>=ANNEXE!$E$7,P10<=ANNEXE!$F$7),AND(P10>=ANNEXE!$E$8,P10<=ANNEXE!$F$8),AND(P10>=ANNEXE!$E$9,P10<=ANNEXE!$F$9),COUNTIF(ANNEXE!$A$4:$C$18,P10)>=1),"C","")) | U10: =IF(P10="","",IF(WEEKDAY(P10,2)>5,"",IF(WEEKDAY(P10,2)=5,$B$39,IF(WEEKDAY(P10,2)=4,$B$38,IF(WEEKDAY(P10,2)=3,$B$37,IF(WEEKDAY(P10,2)=2,$B$36,IF(WEEKDAY(P10,2)=1,$B$35,"0"))))))) -> 7.5 | V10: =V9+1 -> 45750 | W10: =IF(V10="","",IF(WEEKDAY(V10,2)>=6,"",IF(AND(V10>=$B$9,V10<=$B$10),"F",""))) -> F | X10: =IF(V10="","",IF(WEEKDAY(V10,2)>=6,"",IF(OR(AND(V10>=$B$11,V10<=$B$12),AND(V10>=$B$13,V10<=$B$14),AND(V10>=$B$15,V10<=$B$16),AND(V10>=$B$17,V10<=$B$18),AND(V10>=$B$19,V10<=$B$20),AND(V10>=$B$21,V10<=$B$22),AND(V10>=$B$23,V10<=$B$24),AND(V10>=$B$25,V10<=$B$26)),"E",""))) | Y10: =IF(V10="","",IF(WEEKDAY(V10,2)>=6,"",IF(W10="F",IF(OR(AND(V10>=$B$11,V10<=$B$12),AND(V10>=$B$13,V10<=$B$14),AND(V10>=$B$15,V10<=$B$16),AND(V10>=$B$17,V10<=$B$18),AND(V10>=$B$19,V10<=$B$20),AND(V10>=$B$21,V10<=$B$22),AND(V10>=$B$23,V10<=$B$24),AND(V10>=$B$25,V10<=$B$26)),"","P"),""))) -> P | Z10: =IF(V10="","",IF(OR(AND(V10>=ANNEXE!$E$4,V10<=ANNEXE!$F$4),AND(V10>=ANNEXE!$E$5,V10<=ANNEXE!$F$5),AND(V10>=ANNEXE!$E$6,V10<=ANNEXE!$F$6),AND(V10>=ANNEXE!$E$7,V10<=ANNEXE!$F$7),AND(V10>=ANNEXE!$E$8,V10<=ANNEXE!$F$8),AND(V10>=ANNEXE!$E$9,V10<=ANNEXE!$F$9),COUNTIF(ANNEXE!$A$4:$C$18,V10)>=1),"C","")) | AA10: =IF(V10="","",IF(WEEKDAY(V10,2)>5,"",IF(WEEKDAY(V10,2)=5,$B$39,IF(WEEKDAY(V10,2)=4,$B$38,IF(WEEKDAY(V10,2)=3,$B$37,IF(WEEKDAY(V10,2)=2,$B$36,IF(WEEKDAY(V10,2)=1,$B$35,"0"))))))) -> 8 | AB10: =AB9+1 -> 45780 | AC10: =IF(AB10="","",IF(WEEKDAY(AB10,2)>=6,"",IF(AND(AB10>=$B$9,AB10<=$B$10),"F",""))) | AD10: =IF(AB10="","",IF(WEEKDAY(AB10,2)>=6,"",IF(OR(AND(AB10>=$B$11,AB10<=$B$12),AND(AB10>=$B$13,AB10<=$B$14),AND(AB10>=$B$15,AB10<=$B$16),AND(AB10>=$B$17,AB10<=$B$18),AND(AB10>=$B$19,AB10<=$B$20),AND(AB10>=$B$21,AB10<=$B$22),AND(AB10>=$B$23,AB10<=$B$24),AND(AB10>=$B$25,AB10<=$B$26)),"E",""))) | AE10: =IF(AB10="","",IF(WEEKDAY(AB10,2)>=6,"",IF(AC10="F",IF(OR(AND(AB10>=$B$11,AB10<=$B$12),AND(AB10>=$B$13,AB10<=$B$14),AND(AB10>=$B$15,AB10<=$B$16),AND(AB10>=$B$17,AB10<=$B$18),AND(AB10>=$B$19,AB10<=$B$20),AND(AB10>=$B$21,AB10<=$B$22),AND(AB10>=$B$23,AB10<=$B$24),AND(AB10>=$B$25,AB10<=$B$26)),"","P"),""))) | AF10: =IF(AB10="","",IF(OR(AND(AB10>=ANNEXE!$E$4,AB10<=ANNEXE!$F$4),AND(AB10>=ANNEXE!$E$5,AB10<=ANNEXE!$F$5),AND(AB10>=ANNEXE!$E$6,AB10<=ANNEXE!$F$6),AND(AB10>=ANNEXE!$E$7,AB10<=ANNEXE!$F$7),AND(AB10>=ANNEXE!$E$8,AB10<=ANNEXE!$F$8),AND(AB10>=ANNEXE!$E$9,AB10<=ANNEXE!$F$9),COUNTIF(ANNEXE!$A$4:$C$18,AB10)>=1),"C","")) | AG10: =IF(AB10="","",IF(WEEKDAY(AB10,2)>5,"",IF(WEEKDAY(AB10,2)=5,$B$39,IF(WEEKDAY(AB10,2)=4,$B$38,IF(WEEKDAY(AB10,2)=3,$B$37,IF(WEEKDAY(AB10,2)=2,$B$36,IF(WEEKDAY(AB10,2)=1,$B$35,"0"))))))) | AH10: =AH9+1 -> 45811 | AI10: =IF(AH10="","",IF(WEEKDAY(AH10,2)>=6,"",IF(AND(AH10>=$B$9,AH10<=$B$10),"F",""))) -> F | AJ10: =IF(AH10="","",IF(WEEKDAY(AH10,2)>=6,"",IF(OR(AND(AH10>=$B$11,AH10<=$B$12),AND(AH10>=$B$13,AH10<=$B$14),AND(AH10>=$B$15,AH10<=$B$16),AND(AH10>=$B$17,AH10<=$B$18),AND(AH10>=$B$19,AH10<=$B$20),AND(AH10>=$B$21,AH10<=$B$22),AND(AH10>=$B$23,AH10<=$B$24),AND(AH10>=$B$25,AH10<=$B$26)),"E",""))) -> E | AK10: =IF(AH10="","",IF(WEEKDAY(AH10,2)>=6,"",IF(AI10="F",IF(OR(AND(AH10>=$B$11,AH10<=$B$12),AND(AH10>=$B$13,AH10<=$B$14),AND(AH10>=$B$15,AH10<=$B$16),AND(AH10>=$B$17,AH10<=$B$18),AND(AH10>=$B$19,AH10<=$B$20),AND(AH10>=$B$21,AH10<=$B$22),AND(AH10>=$B$23,AH10<=$B$24),AND(AH10>=$B$25,AH10<=$B$26)),"","P"),""))) | AL10: =IF(AH10="","",IF(OR(AND(AH10>=ANNEXE!$E$4,AH10<=ANNEXE!$F$4),AND(AH10>=ANNEXE!$E$5,AH10<=ANNEXE!$F$5),AND(AH10>=ANNEXE!$E$6,AH10<=ANNEXE!$F$6),AND(AH10>=ANNEXE!$E$7,AH10<=ANNEXE!$F$7),AND(AH10>=ANNEXE!$E$8,AH10<=ANNEXE!$F$8),AND(AH10>=ANNEXE!$E$9,AH10<=ANNEXE!$F$9),COUNTIF(ANNEXE!$A$4:$C$18,AH10)>=1),"C","")) | AM10: =IF(AH10="","",IF(WEEKDAY(AH10,2)>5,"",IF(WEEKDAY(AH10,2)=5,$B$39,IF(WEEKDAY(AH10,2)=4,$B$38,IF(WEEKDAY(AH10,2)=3,$B$37,IF(WEEKDAY(AH10,2)=2,$B$36,IF(WEEKDAY(AH10,2)=1,$B$35,"0"))))))) -> 8 | AN10: =AN9+1 -> 45841 | AO10: =IF(AN10="","",IF(WEEKDAY(AN10,2)>=6,"",IF(AND(AN10>=$B$9,AN10<=$B$10),"F",""))) -> F | AP10: =IF(AN10="","",IF(WEEKDAY(AN10,2)>=6,"",IF(OR(AND(AN10>=$B$11,AN10<=$B$12),AND(AN10>=$B$13,AN10<=$B$14),AND(AN10>=$B$15,AN10<=$B$16),AND(AN10>=$B$17,AN10<=$B$18),AND(AN10>=$B$19,AN10<=$B$20),AND(AN10>=$B$21,AN10<=$B$22),AND(AN10>=$B$23,AN10<=$B$24),AND(AN10>=$B$25,AN10<=$B$26)),"E",""))) | AQ10: =IF(AN10="","",IF(WEEKDAY(AN10,2)>=6,"",IF(AO10="F",IF(OR(AND(AN10>=$B$11,AN10<=$B$12),AND(AN10>=$B$13,AN10<=$B$14),AND(AN10>=$B$15,AN10<=$B$16),AND(AN10>=$B$17,AN10<=$B$18),AND(AN10>=$B$19,AN10<=$B$20),AND(AN10>=$B$21,AN10<=$B$22),AND(AN10>=$B$23,AN10<=$B$24),AND(AN10>=$B$25,AN10<=$B$26)),"","P"),""))) -> P | AR10: =IF(AN10="","",IF(OR(AND(AN10>=ANNEXE!$E$4,AN10<=ANNEXE!$F$4),AND(AN10>=ANNEXE!$E$5,AN10<=ANNEXE!$F$5),AND(AN10>=ANNEXE!$E$6,AN10<=ANNEXE!$F$6),AND(AN10>=ANNEXE!$E$7,AN10<=ANNEXE!$F$7),AND(AN10>=ANNEXE!$E$8,AN10<=ANNEXE!$F$8),AND(AN10>=ANNEXE!$E$9,AN10<=ANNEXE!$F$9),COUNTIF(ANNEXE!$A$4:$C$18,AN10)>=1),"C","")) | AS10: =IF(AN10="","",IF(WEEKDAY(AN10,2)>5,"",IF(WEEKDAY(AN10,2)=5,$B$39,IF(WEEKDAY(AN10,2)=4,$B$38,IF(WEEKDAY(AN10,2)=3,$B$37,IF(WEEKDAY(AN10,2)=2,$B$36,IF(WEEKDAY(AN10,2)=1,$B$35,"0"))))))) -> 8 | AT10: =AT9+1 -> 45872 | AU10: =IF(AT10="","",IF(WEEKDAY(AT10,2)>=6,"",IF(AND(AT10>=$B$9,AT10<=$B$10),"F",""))) | AV10: =IF(AT10="","",IF(WEEKDAY(AT10,2)>=6,"",IF(OR(AND(AT10>=$B$11,AT10<=$B$12),AND(AT10>=$B$13,AT10<=$B$14),AND(AT10>=$B$15,AT10<=$B$16),AND(AT10>=$B$17,AT10<=$B$18),AND(AT10>=$B$19,AT10<=$B$20),AND(AT10>=$B$21,AT10<=$B$22),AND(AT10>=$B$23,AT10<=$B$24),AND(AT10>=$B$25,AT10<=$B$26)),"E",""))) | AW10: =IF(AT10="","",IF(WEEKDAY(AT10,2)>=6,"",IF(AU10="F",IF(OR(AND(AT10>=$B$11,AT10<=$B$12),AND(AT10>=$B$13,AT10<=$B$14),AND(AT10>=$B$15,AT10<=$B$16),AND(AT10>=$B$17,AT10<=$B$18),AND(AT10>=$B$19,AT10<=$B$20),AND(AT10>=$B$21,AT10<=$B$22),AND(AT10>=$B$23,AT10<=$B$24),AND(AT10>=$B$25,AT10<=$B$26)),"","P"),""))) | AX10: =IF(AT10="","",IF(OR(AND(AT10>=ANNEXE!$E$4,AT10<=ANNEXE!$F$4),AND(AT10>=ANNEXE!$E$5,AT10<=ANNEXE!$F$5),AND(AT10>=ANNEXE!$E$6,AT10<=ANNEXE!$F$6),AND(AT10>=ANNEXE!$E$7,AT10<=ANNEXE!$F$7),AND(AT10>=ANNEXE!$E$8,AT10<=ANNEXE!$F$8),AND(AT10>=ANNEXE!$E$9,AT10<=ANNEXE!$F$9),COUNTIF(ANNEXE!$A$4:$C$18,AT10)>=1),"C","")) | AY10: =IF(AT10="","",IF(WEEKDAY(AT10,2)>5,"",IF(WEEKDAY(AT10,2)=5,$B$39,IF(WEEKDAY(AT10,2)=4,$B$38,IF(WEEKDAY(AT10,2)=3,$B$37,IF(WEEKDAY(AT10,2)=2,$B$36,IF(WEEKDAY(AT10,2)=1,$B$35,"0"))))))) | AZ10: =AZ9+1 -> 45903 | BA10: =IF(AZ10="","",IF(WEEKDAY(AZ10,2)>=6,"",IF(AND(AZ10>=$B$9,AZ10<=$B$10),"F",""))) -> F | BB10: =IF(AZ10="","",IF(WEEKDAY(AZ10,2)>=6,"",IF(OR(AND(AZ10>=$B$11,AZ10<=$B$12),AND(AZ10>=$B$13,AZ10<=$B$14),AND(AZ10>=$B$15,AZ10<=$B$16),AND(AZ10>=$B$17,AZ10<=$B$18),AND(AZ10>=$B$19,AZ10<=$B$20),AND(AZ10>=$B$21,AZ10<=$B$22),AND(AZ10>=$B$23,AZ10<=$B$24),AND(AZ10>=$B$25,AZ10<=$B$26)),"E",""))) | BC10: =IF(AZ10="","",IF(WEEKDAY(AZ10,2)>=6,"",IF(BA10="F",IF(OR(AND(AZ10>=$B$11,AZ10<=$B$12),AND(AZ10>=$B$13,AZ10<=$B$14),AND(AZ10>=$B$15,AZ10<=$B$16),AND(AZ10>=$B$17,AZ10<=$B$18),AND(AZ10>=$B$19,AZ10<=$B$20),AND(AZ10>=$B$21,AZ10<=$B$22),AND(AZ10>=$B$23,AZ10<=$B$24),AND(AZ10>=$B$25,AZ10<=$B$26)),"","P"),""))) -> P | BD10: =IF(AZ10="","",IF(OR(AND(AZ10>=ANNEXE!$E$4,AZ10<=ANNEXE!$F$4),AND(AZ10>=ANNEXE!$E$5,AZ10<=ANNEXE!$F$5),AND(AZ10>=ANNEXE!$E$6,AZ10<=ANNEXE!$F$6),AND(AZ10>=ANNEXE!$E$7,AZ10<=ANNEXE!$F$7),AND(AZ10>=ANNEXE!$E$8,AZ10<=ANNEXE!$F$8),AND(AZ10>=ANNEXE!$E$9,AZ10<=ANNEXE!$F$9),COUNTIF(ANNEXE!$A$4:$C$18,AZ10)>=1),"C","")) | BE10: =IF(AZ10="","",IF(WEEKDAY(AZ10,2)>5,"",IF(WEEKDAY(AZ10,2)=5,$B$39,IF(WEEKDAY(AZ10,2)=4,$B$38,IF(WEEKDAY(AZ10,2)=3,$B$37,IF(WEEKDAY(AZ10,2)=2,$B$36,IF(WEEKDAY(AZ10,2)=1,$B$35,"0"))))))) -> 8 | BF10: =BF9+1 -> 45933 | BG10: =IF(BF10="","",IF(WEEKDAY(BF10,2)>=6,"",IF(AND(BF10>=$B$9,BF10<=$B$10),"F",""))) -> F | BH10: =IF(BF10="","",IF(WEEKDAY(BF10,2)>=6,"",IF(OR(AND(BF10>=$B$11,BF10<=$B$12),AND(BF10>=$B$13,BF10<=$B$14),AND(BF10>=$B$15,BF10<=$B$16),AND(BF10>=$B$17,BF10<=$B$18),AND(BF10>=$B$19,BF10<=$B$20),AND(BF10>=$B$21,BF10<=$B$22),AND(BF10>=$B$23,BF10<=$B$24),AND(BF10>=$B$25,BF10<=$B$26)),"E",""))) | BI10: =IF(BF10="","",IF(WEEKDAY(BF10,2)>=6,"",IF(BG10="F",IF(OR(AND(BF10>=$B$11,BF10<=$B$12),AND(BF10>=$B$13,BF10<=$B$14),AND(BF10>=$B$15,BF10<=$B$16),AND(BF10>=$B$17,BF10<=$B$18),AND(BF10>=$B$19,BF10<=$B$20),AND(BF10>=$B$21,BF10<=$B$22),AND(BF10>=$B$23,BF10<=$B$24),AND(BF10>=$B$25,BF10<=$B$26)),"","P"),""))) -> P | BJ10: =IF(BF10="","",IF(OR(AND(BF10>=ANNEXE!$E$4,BF10<=ANNEXE!$F$4),AND(BF10>=ANNEXE!$E$5,BF10<=ANNEXE!$F$5),AND(BF10>=ANNEXE!$E$6,BF10<=ANNEXE!$F$6),AND(BF10>=ANNEXE!$E$7,BF10<=ANNEXE!$F$7),AND(BF10>=ANNEXE!$E$8,BF10<=ANNEXE!$F$8),AND(BF10>=ANNEXE!$E$9,BF10<=ANNEXE!$F$9),COUNTIF(ANNEXE!$A$4:$C$18,BF10)>=1),"C","")) | BK10: =IF(BF10="","",IF(WEEKDAY(BF10,2)>5,"",IF(WEEKDAY(BF10,2)=5,$B$39,IF(WEEKDAY(BF10,2)=4,$B$38,IF(WEEKDAY(BF10,2)=3,$B$37,IF(WEEKDAY(BF10,2)=2,$B$36,IF(WEEKDAY(BF10,2)=1,$B$35,"0"))))))) -> 3.5 | BL10: =BL9+1 -> 45964 | BM10: =IF(BL10="","",IF(WEEKDAY(BL10,2)>=6,"",IF(AND(BL10>=$B$9,BL10<=$B$10),"F",""))) -> F | BN10: =IF(BL10="","",IF(WEEKDAY(BL10,2)>=6,"",IF(OR(AND(BL10>=$B$11,BL10<=$B$12),AND(BL10>=$B$13,BL10<=$B$14),AND(BL10>=$B$15,BL10<=$B$16),AND(BL10>=$B$17,BL10<=$B$18),AND(BL10>=$B$19,BL10<=$B$20),AND(BL10>=$B$21,BL10<=$B$22),AND(BL10>=$B$23,BL10<=$B$24),AND(BL10>=$B$25,BL10<=$B$26)),"E",""))) | BO10: =IF(BL10="","",IF(WEEKDAY(BL10,2)>=6,"",IF(BM10="F",IF(OR(AND(BL10>=$B$11,BL10<=$B$12),AND(BL10>=$B$13,BL10<=$B$14),AND(BL10>=$B$15,BL10<=$B$16),AND(BL10>=$B$17,BL10<=$B$18),AND(BL10>=$B$19,BL10<=$B$20),AND(BL10>=$B$21,BL10<=$B$22),AND(BL10>=$B$23,BL10<=$B$24),AND(BL10>=$B$25,BL10<=$B$26)),"","P"),""))) -> P | BP10: =IF(BL10="","",IF(OR(AND(BL10>=ANNEXE!$E$4,BL10<=ANNEXE!$F$4),AND(BL10>=ANNEXE!$E$5,BL10<=ANNEXE!$F$5),AND(BL10>=ANNEXE!$E$6,BL10<=ANNEXE!$F$6),AND(BL10>=ANNEXE!$E$7,BL10<=ANNEXE!$F$7),AND(BL10>=ANNEXE!$E$8,BL10<=ANNEXE!$F$8),AND(BL10>=ANNEXE!$E$9,BL10<=ANNEXE!$F$9),COUNTIF(ANNEXE!$A$4:$C$18,BL10)>=1),"C","")) | BQ10: =IF(BL10="","",IF(WEEKDAY(BL10,2)>5,"",IF(WEEKDAY(BL10,2)=5,$B$39,IF(WEEKDAY(BL10,2)=4,$B$38,IF(WEEKDAY(BL10,2)=3,$B$37,IF(WEEKDAY(BL10,2)=2,$B$36,IF(WEEKDAY(BL10,2)=1,$B$35,"0"))))))) -> 7.5 | BR10: =BR9+1 -> 45994 | BS10: =IF(BR10="","",IF(WEEKDAY(BR10,2)>=6,"",IF(AND(BR10>=$B$9,BR10<=$B$10),"F",""))) | BT10: =IF(BR10="","",IF(WEEKDAY(BR10,2)>=6,"",IF(OR(AND(BR10>=$B$11,BR10<=$B$12),AND(BR10>=$B$13,BR10<=$B$14),AND(BR10>=$B$15,BR10<=$B$16),AND(BR10>=$B$17,BR10<=$B$18),AND(BR10>=$B$19,BR10<=$B$20),AND(BR10>=$B$21,BR10<=$B$22),AND(BR10>=$B$23,BR10<=$B$24),AND(BR10>=$B$25,BR10<=$B$26)),"E",""))) | BU10: =IF(BR10="","",IF(WEEKDAY(BR10,2)>=6,"",IF(BS10="F",IF(OR(AND(BR10>=$B$11,BR10<=$B$12),AND(BR10>=$B$13,BR10<=$B$14),AND(BR10>=$B$15,BR10<=$B$16),AND(BR10>=$B$17,BR10<=$B$18),AND(BR10>=$B$19,BR10<=$B$20),AND(BR10>=$B$21,BR10<=$B$22),AND(BR10>=$B$23,BR10<=$B$24),AND(BR10>=$B$25,BR10<=$B$26)),"","P"),""))) | BV10: =IF(BR10="","",IF(OR(AND(BR10>=ANNEXE!$E$4,BR10<=ANNEXE!$F$4),AND(BR10>=ANNEXE!$E$5,BR10<=ANNEXE!$F$5),AND(BR10>=ANNEXE!$E$6,BR10<=ANNEXE!$F$6),AND(BR10>=ANNEXE!$E$7,BR10<=ANNEXE!$F$7),AND(BR10>=ANNEXE!$E$8,BR10<=ANNEXE!$F$8),AND(BR10>=ANNEXE!$E$9,BR10<=ANNEXE!$F$9),COUNTIF(ANNEXE!$A$4:$C$18,BR10)>=1),"C","")) | BW10: =IF(BR10="","",IF(WEEKDAY(BR10,2)>5,"",IF(WEEKDAY(BR10,2)=5,$B$39,IF(WEEKDAY(BR10,2)=4,$B$38,IF(WEEKDAY(BR10,2)=3,$B$37,IF(WEEKDAY(BR10,2)=2,$B$36,IF(WEEKDAY(BR10,2)=1,$B$35,"0"))))))) -> 8
A11: ENTREE PAE 1 | B11: =IF(INDEX(Programmation!$A$13:$AB$62,MATCH($A$7,Programmation!$A$13:$A$62,0),5)="","",INDEX(Programmation!$A$13:$AB$62,MATCH($A$7,Programmation!$A$13:$A$62,0),5)) -> 45796 | D11: =D10+1 -> 45661 | E11: =IF(D11="","",IF(WEEKDAY(D11,2)>=6,"",IF(AND(D11>=$B$9,D11<=$B$10),"F",""))) | F11: =IF(D11="","",IF(WEEKDAY(D11,2)>=6,"",IF(OR(AND(D11>=$B$11,D11<=$B$12),AND(D11>=$B$13,D11<=$B$14),AND(D11>=$B$15,D11<=$B$16),AND(D11>=$B$17,D11<=$B$18),AND(D11>=$B$19,D11<=$B$20),AND(D11>=$B$21,D11<=$B$22),AND(D11>=$B$23,D11<=$B$24),AND(D11>=$B$25,D11<=$B$26),AND(D11>=$B$27,D11<=$B$28),AND(D11>=$B$29,D11<=$B$30),AND(D11>=$B$31,D11<=$B$32),AND(D11>=$B$33,D11<=$B$34)),"E",""))) | G11: =IF(D11="","",IF(WEEKDAY(D11,2)>=6,"",IF(E11="F",IF(OR(AND(D11>=$B$11,D11<=$B$12),AND(D11>=$B$13,D11<=$B$14),AND(D11>=$B$15,D11<=$B$16),AND(D11>=$B$17,D11<=$B$18),AND(D11>=$B$19,D11<=$B$20),AND(D11>=$B$21,D11<=$B$22),AND(D11>=$B$23,D11<=$B$24),AND(D11>=$B$25,D11<=$B$26),AND(D11>=$B$27,D11<=$B$28),AND(D11>=$B$29,D11<=$B$30),AND(D11>=$B$31,D11<=$B$32),AND(D11>=$B$33,D11<=$B$34)),"","P"),""))) | H11: =IF(D11="","",IF(OR(AND(D11>=ANNEXE!$E$4,D11<=ANNEXE!$F$4),AND(D11>=ANNEXE!$E$5,D11<=ANNEXE!$F$5),AND(D11>=ANNEXE!$E$6,D11<=ANNEXE!$F$6),AND(D11>=ANNEXE!$E$7,D11<=ANNEXE!$F$7),AND(D11>=ANNEXE!$E$8,D11<=ANNEXE!$F$8),AND(D11>=ANNEXE!$E$9,D11<=ANNEXE!$F$9),COUNTIF(ANNEXE!$A$4:$C$18,D11)>=1),"C","")) | I11: =IF(D11="","",IF(WEEKDAY(D11,2)>5,"",IF(WEEKDAY(D11,2)=5,$B$39,IF(WEEKDAY(D11,2)=4,$B$38,IF(WEEKDAY(D11,2)=3,$B$37,IF(WEEKDAY(D11,2)=2,$B$36,IF(WEEKDAY(D11,2)=1,$B$35,"0"))))))) | J11: =J10+1 -> 45692 | K11: =IF(J11="","",IF(WEEKDAY(J11,2)>=6,"",IF(AND(J11>=$B$9,J11<=$B$10),"F",""))) | L11: =IF(J11="","",IF(WEEKDAY(J11,2)>=6,"",IF(OR(AND(J11>=$B$11,J11<=$B$12),AND(J11>=$B$13,J11<=$B$14),AND(J11>=$B$15,J11<=$B$16),AND(J11>=$B$17,J11<=$B$18),AND(J11>=$B$19,J11<=$B$20),AND(J11>=$B$21,J11<=$B$22),AND(J11>=$B$23,J11<=$B$24),AND(J11>=$B$25,J11<=$B$26)),"E",""))) | M11: =IF(J11="","",IF(WEEKDAY(J11,2)>=6,"",IF(K11="F",IF(OR(AND(J11>=$B$11,J11<=$B$12),AND(J11>=$B$13,J11<=$B$14),AND(J11>=$B$15,J11<=$B$16),AND(J11>=$B$17,J11<=$B$18),AND(J11>=$B$19,J11<=$B$20),AND(J11>=$B$21,J11<=$B$22),AND(J11>=$B$23,J11<=$B$24),AND(J11>=$B$25,J11<=$B$26)),"","P"),""))) | N11: =IF(J11="","",IF(OR(AND(J11>=ANNEXE!$E$4,J11<=ANNEXE!$F$4),AND(J11>=ANNEXE!$E$5,J11<=ANNEXE!$F$5),AND(J11>=ANNEXE!$E$6,J11<=ANNEXE!$F$6),AND(J11>=ANNEXE!$E$7,J11<=ANNEXE!$F$7),AND(J11>=ANNEXE!$E$8,J11<=ANNEXE!$F$8),AND(J11>=ANNEXE!$E$9,J11<=ANNEXE!$F$9),COUNTIF(ANNEXE!$A$4:$C$18,J11)>=1),"C","")) | O11: =IF(J11="","",IF(WEEKDAY(J11,2)>5,"",IF(WEEKDAY(J11,2)=5,$B$39,IF(WEEKDAY(J11,2)=4,$B$38,IF(WEEKDAY(J11,2)=3,$B$37,IF(WEEKDAY(J11,2)=2,$B$36,IF(WEEKDAY(J11,2)=1,$B$35,"0"))))))) -> 8 | P11: =P10+1 -> 45720 | Q11: =IF(P11="","",IF(WEEKDAY(P11,2)>=6,"",IF(AND(P11>=$B$9,P11<=$B$10),"F",""))) -> F | R11: =IF(P11="","",IF(WEEKDAY(P11,2)>=6,"",IF(OR(AND(P11>=$B$11,P11<=$B$12),AND(P11>=$B$13,P11<=$B$14),AND(P11>=$B$15,P11<=$B$16),AND(P11>=$B$17,P11<=$B$18),AND(P11>=$B$19,P11<=$B$20),AND(P11>=$B$21,P11<=$B$22),AND(P11>=$B$23,P11<=$B$24),AND(P11>=$B$25,P11<=$B$26)),"E",""))) | S11: =IF(P11="","",IF(WEEKDAY(P11,2)>=6,"",IF(Q11="F",IF(OR(AND(P11>=$B$11,P11<=$B$12),AND(P11>=$B$13,P11<=$B$14),AND(P11>=$B$15,P11<=$B$16),AND(P11>=$B$17,P11<=$B$18),AND(P11>=$B$19,P11<=$B$20),AND(P11>=$B$21,P11<=$B$22),AND(P11>=$B$23,P11<=$B$24),AND(P11>=$B$25,P11<=$B$26)),"","P"),""))) -> P | T11: =IF(P11="","",IF(OR(AND(P11>=ANNEXE!$E$4,P11<=ANNEXE!$F$4),AND(P11>=ANNEXE!$E$5,P11<=ANNEXE!$F$5),AND(P11>=ANNEXE!$E$6,P11<=ANNEXE!$F$6),AND(P11>=ANNEXE!$E$7,P11<=ANNEXE!$F$7),AND(P11>=ANNEXE!$E$8,P11<=ANNEXE!$F$8),AND(P11>=ANNEXE!$E$9,P11<=ANNEXE!$F$9),COUNTIF(ANNEXE!$A$4:$C$18,P11)>=1),"C","")) | U11: =IF(P11="","",IF(WEEKDAY(P11,2)>5,"",IF(WEEKDAY(P11,2)=5,$B$39,IF(WEEKDAY(P11,2)=4,$B$38,IF(WEEKDAY(P11,2)=3,$B$37,IF(WEEKDAY(P11,2)=2,$B$36,IF(WEEKDAY(P11,2)=1,$B$35,"0"))))))) -> 8 | V11: =V10+1 -> 45751 | W11: =IF(V11="","",IF(WEEKDAY(V11,2)>=6,"",IF(AND(V11>=$B$9,V11<=$B$10),"F",""))) -> F | X11: =IF(V11="","",IF(WEEKDAY(V11,2)>=6,"",IF(OR(AND(V11>=$B$11,V11<=$B$12),AND(V11>=$B$13,V11<=$B$14),AND(V11>=$B$15,V11<=$B$16),AND(V11>=$B$17,V11<=$B$18),AND(V11>=$B$19,V11<=$B$20),AND(V11>=$B$21,V11<=$B$22),AND(V11>=$B$23,V11<=$B$24),AND(V11>=$B$25,V11<=$B$26)),"E",""))) | Y11: =IF(V11="","",IF(WEEKDAY(V11,2)>=6,"",IF(W11="F",IF(OR(AND(V11>=$B$11,V11<=$B$12),AND(V11>=$B$13,V11<=$B$14),AND(V11>=$B$15,V11<=$B$16),AND(V11>=$B$17,V11<=$B$18),AND(V11>=$B$19,V11<=$B$20),AND(V11>=$B$21,V11<=$B$22),AND(V11>=$B$23,V11<=$B$24),AND(V11>=$B$25,V11<=$B$26)),"","P"),""))) -> P | Z11: =IF(V11="","",IF(OR(AND(V11>=ANNEXE!$E$4,V11<=ANNEXE!$F$4),AND(V11>=ANNEXE!$E$5,V11<=ANNEXE!$F$5),AND(V11>=ANNEXE!$E$6,V11<=ANNEXE!$F$6),AND(V11>=ANNEXE!$E$7,V11<=ANNEXE!$F$7),AND(V11>=ANNEXE!$E$8,V11<=ANNEXE!$F$8),AND(V11>=ANNEXE!$E$9,V11<=ANNEXE!$F$9),COUNTIF(ANNEXE!$A$4:$C$18,V11)>=1),"C","")) | AA11: =IF(V11="","",IF(WEEKDAY(V11,2)>5,"",IF(WEEKDAY(V11,2)=5,$B$39,IF(WEEKDAY(V11,2)=4,$B$38,IF(WEEKDAY(V11,2)=3,$B$37,IF(WEEKDAY(V11,2)=2,$B$36,IF(WEEKDAY(V11,2)=1,$B$35,"0"))))))) -> 3.5 | AB11: =AB10+1 -> 45781 | AC11: =IF(AB11="","",IF(WEEKDAY(AB11,2)>=6,"",IF(AND(AB11>=$B$9,AB11<=$B$10),"F",""))) | AD11: =IF(AB11="","",IF(WEEKDAY(AB11,2)>=6,"",IF(OR(AND(AB11>=$B$11,AB11<=$B$12),AND(AB11>=$B$13,AB11<=$B$14),AND(AB11>=$B$15,AB11<=$B$16),AND(AB11>=$B$17,AB11<=$B$18),AND(AB11>=$B$19,AB11<=$B$20),AND(AB11>=$B$21,AB11<=$B$22),AND(AB11>=$B$23,AB11<=$B$24),AND(AB11>=$B$25,AB11<=$B$26)),"E",""))) | AE11: =IF(AB11="","",IF(WEEKDAY(AB11,2)>=6,"",IF(AC11="F",IF(OR(AND(AB11>=$B$11,AB11<=$B$12),AND(AB11>=$B$13,AB11<=$B$14),AND(AB11>=$B$15,AB11<=$B$16),AND(AB11>=$B$17,AB11<=$B$18),AND(AB11>=$B$19,AB11<=$B$20),AND(AB11>=$B$21,AB11<=$B$22),AND(AB11>=$B$23,AB11<=$B$24),AND(AB11>=$B$25,AB11<=$B$26)),"","P"),""))) | AF11: =IF(AB11="","",IF(OR(AND(AB11>=ANNEXE!$E$4,AB11<=ANNEXE!$F$4),AND(AB11>=ANNEXE!$E$5,AB11<=ANNEXE!$F$5),AND(AB11>=ANNEXE!$E$6,AB11<=ANNEXE!$F$6),AND(AB11>=ANNEXE!$E$7,AB11<=ANNEXE!$F$7),AND(AB11>=ANNEXE!$E$8,AB11<=ANNEXE!$F$8),AND(AB11>=ANNEXE!$E$9,AB11<=ANNEXE!$F$9),COUNTIF(ANNEXE!$A$4:$C$18,AB11)>=1),"C","")) | AG11: =IF(AB11="","",IF(WEEKDAY(AB11,2)>5,"",IF(WEEKDAY(AB11,2)=5,$B$39,IF(WEEKDAY(AB11,2)=4,$B$38,IF(WEEKDAY(AB11,2)=3,$B$37,IF(WEEKDAY(AB11,2)=2,$B$36,IF(WEEKDAY(AB11,2)=1,$B$35,"0"))))))) | AH11: =AH10+1 -> 45812 | AI11: =IF(AH11="","",IF(WEEKDAY(AH11,2)>=6,"",IF(AND(AH11>=$B$9,AH11<=$B$10),"F",""))) -> F | AJ11: =IF(AH11="","",IF(WEEKDAY(AH11,2)>=6,"",IF(OR(AND(AH11>=$B$11,AH11<=$B$12),AND(AH11>=$B$13,AH11<=$B$14),AND(AH11>=$B$15,AH11<=$B$16),AND(AH11>=$B$17,AH11<=$B$18),AND(AH11>=$B$19,AH11<=$B$20),AND(AH11>=$B$21,AH11<=$B$22),AND(AH11>=$B$23,AH11<=$B$24),AND(AH11>=$B$25,AH11<=$B$26)),"E",""))) -> E | AK11: =IF(AH11="","",IF(WEEKDAY(AH11,2)>=6,"",IF(AI11="F",IF(OR(AND(AH11>=$B$11,AH11<=$B$12),AND(AH11>=$B$13,AH11<=$B$14),AND(AH11>=$B$15,AH11<=$B$16),AND(AH11>=$B$17,AH11<=$B$18),AND(AH11>=$B$19,AH11<=$B$20),AND(AH11>=$B$21,AH11<=$B$22),AND(AH11>=$B$23,AH11<=$B$24),AND(AH11>=$B$25,AH11<=$B$26)),"","P"),""))) | AL11: =IF(AH11="","",IF(OR(AND(AH11>=ANNEXE!$E$4,AH11<=ANNEXE!$F$4),AND(AH11>=ANNEXE!$E$5,AH11<=ANNEXE!$F$5),AND(AH11>=ANNEXE!$E$6,AH11<=ANNEXE!$F$6),AND(AH11>=ANNEXE!$E$7,AH11<=ANNEXE!$F$7),AND(AH11>=ANNEXE!$E$8,AH11<=ANNEXE!$F$8),AND(AH11>=ANNEXE!$E$9,AH11<=ANNEXE!$F$9),COUNTIF(ANNEXE!$A$4:$C$18,AH11)>=1),"C","")) | AM11: =IF(AH11="","",IF(WEEKDAY(AH11,2)>5,"",IF(WEEKDAY(AH11,2)=5,$B$39,IF(WEEKDAY(AH11,2)=4,$B$38,IF(WEEKDAY(AH11,2)=3,$B$37,IF(WEEKDAY(AH11,2)=2,$B$36,IF(WEEKDAY(AH11,2)=1,$B$35,"0"))))))) -> 8 | AN11: =AN10+1 -> 45842 | AO11: =IF(AN11="","",IF(WEEKDAY(AN11,2)>=6,"",IF(AND(AN11>=$B$9,AN11<=$B$10),"F",""))) -> F | AP11: =IF(AN11="","",IF(WEEKDAY(AN11,2)>=6,"",IF(OR(AND(AN11>=$B$11,AN11<=$B$12),AND(AN11>=$B$13,AN11<=$B$14),AND(AN11>=$B$15,AN11<=$B$16),AND(AN11>=$B$17,AN11<=$B$18),AND(AN11>=$B$19,AN11<=$B$20),AND(AN11>=$B$21,AN11<=$B$22),AND(AN11>=$B$23,AN11<=$B$24),AND(AN11>=$B$25,AN11<=$B$26)),"E",""))) | AQ11: =IF(AN11="","",IF(WEEKDAY(AN11,2)>=6,"",IF(AO11="F",IF(OR(AND(AN11>=$B$11,AN11<=$B$12),AND(AN11>=$B$13,AN11<=$B$14),AND(AN11>=$B$15,AN11<=$B$16),AND(AN11>=$B$17,AN11<=$B$18),AND(AN11>=$B$19,AN11<=$B$20),AND(AN11>=$B$21,AN11<=$B$22),AND(AN11>=$B$23,AN11<=$B$24),AND(AN11>=$B$25,AN11<=$B$26)),"","P"),""))) -> P | AR11: =IF(AN11="","",IF(OR(AND(AN11>=ANNEXE!$E$4,AN11<=ANNEXE!$F$4),AND(AN11>=ANNEXE!$E$5,AN11<=ANNEXE!$F$5),AND(AN11>=ANNEXE!$E$6,AN11<=ANNEXE!$F$6),AND(AN11>=ANNEXE!$E$7,AN11<=ANNEXE!$F$7),AND(AN11>=ANNEXE!$E$8,AN11<=ANNEXE!$F$8),AND(AN11>=ANNEXE!$E$9,AN11<=ANNEXE!$F$9),COUNTIF(ANNEXE!$A$4:$C$18,AN11)>=1),"C","")) | AS11: =IF(AN11="","",IF(WEEKDAY(AN11,2)>5,"",IF(WEEKDAY(AN11,2)=5,$B$39,IF(WEEKDAY(AN11,2)=4,$B$38,IF(WEEKDAY(AN11,2)=3,$B$37,IF(WEEKDAY(AN11,2)=2,$B$36,IF(WEEKDAY(AN11,2)=1,$B$35,"0"))))))) -> 3.5 | AT11: =AT10+1 -> 45873 | AU11: =IF(AT11="","",IF(WEEKDAY(AT11,2)>=6,"",IF(AND(AT11>=$B$9,AT11<=$B$10),"F",""))) -> F | AV11: =IF(AT11="","",IF(WEEKDAY(AT11,2)>=6,"",IF(OR(AND(AT11>=$B$11,AT11<=$B$12),AND(AT11>=$B$13,AT11<=$B$14),AND(AT11>=$B$15,AT11<=$B$16),AND(AT11>=$B$17,AT11<=$B$18),AND(AT11>=$B$19,AT11<=$B$20),AND(AT11>=$B$21,AT11<=$B$22),AND(AT11>=$B$23,AT11<=$B$24),AND(AT11>=$B$25,AT11<=$B$26)),"E",""))) -> E | AW11: =IF(AT11="","",IF(WEEKDAY(AT11,2)>=6,"",IF(AU11="F",IF(OR(AND(AT11>=$B$11,AT11<=$B$12),AND(AT11>=$B$13,AT11<=$B$14),AND(AT11>=$B$15,AT11<=$B$16),AND(AT11>=$B$17,AT11<=$B$18),AND(AT11>=$B$19,AT11<=$B$20),AND(AT11>=$B$21,AT11<=$B$22),AND(AT11>=$B$23,AT11<=$B$24),AND(AT11>=$B$25,AT11<=$B$26)),"","P"),""))) | AX11: =IF(AT11="","",IF(OR(AND(AT11>=ANNEXE!$E$4,AT11<=ANNEXE!$F$4),AND(AT11>=ANNEXE!$E$5,AT11<=ANNEXE!$F$5),AND(AT11>=ANNEXE!$E$6,AT11<=ANNEXE!$F$6),AND(AT11>=ANNEXE!$E$7,AT11<=ANNEXE!$F$7),AND(AT11>=ANNEXE!$E$8,AT11<=ANNEXE!$F$8),AND(AT11>=ANNEXE!$E$9,AT11<=ANNEXE!$F$9),COUNTIF(ANNEXE!$A$4:$C$18,AT11)>=1),"C","")) | AY11: =IF(AT11="","",IF(WEEKDAY(AT11,2)>5,"",IF(WEEKDAY(AT11,2)=5,$B$39,IF(WEEKDAY(AT11,2)=4,$B$38,IF(WEEKDAY(AT11,2)=3,$B$37,IF(WEEKDAY(AT11,2)=2,$B$36,IF(WEEKDAY(AT11,2)=1,$B$35,"0"))))))) -> 7.5 | AZ11: =AZ10+1 -> 45904 | BA11: =IF(AZ11="","",IF(WEEKDAY(AZ11,2)>=6,"",IF(AND(AZ11>=$B$9,AZ11<=$B$10),"F",""))) -> F | BB11: =IF(AZ11="","",IF(WEEKDAY(AZ11,2)>=6,"",IF(OR(AND(AZ11>=$B$11,AZ11<=$B$12),AND(AZ11>=$B$13,AZ11<=$B$14),AND(AZ11>=$B$15,AZ11<=$B$16),AND(AZ11>=$B$17,AZ11<=$B$18),AND(AZ11>=$B$19,AZ11<=$B$20),AND(AZ11>=$B$21,AZ11<=$B$22),AND(AZ11>=$B$23,AZ11<=$B$24),AND(AZ11>=$B$25,AZ11<=$B$26)),"E",""))) | BC11: =IF(AZ11="","",IF(WEEKDAY(AZ11,2)>=6,"",IF(BA11="F",IF(OR(AND(AZ11>=$B$11,AZ11<=$B$12),AND(AZ11>=$B$13,AZ11<=$B$14),AND(AZ11>=$B$15,AZ11<=$B$16),AND(AZ11>=$B$17,AZ11<=$B$18),AND(AZ11>=$B$19,AZ11<=$B$20),AND(AZ11>=$B$21,AZ11<=$B$22),AND(AZ11>=$B$23,AZ11<=$B$24),AND(AZ11>=$B$25,AZ11<=$B$26)),"","P"),""))) -> P | BD11: =IF(AZ11="","",IF(OR(AND(AZ11>=ANNEXE!$E$4,AZ11<=ANNEXE!$F$4),AND(AZ11>=ANNEXE!$E$5,AZ11<=ANNEXE!$F$5),AND(AZ11>=ANNEXE!$E$6,AZ11<=ANNEXE!$F$6),AND(AZ11>=ANNEXE!$E$7,AZ11<=ANNEXE!$F$7),AND(AZ11>=ANNEXE!$E$8,AZ11<=ANNEXE!$F$8),AND(AZ11>=ANNEXE!$E$9,AZ11<=ANNEXE!$F$9),COUNTIF(ANNEXE!$A$4:$C$18,AZ11)>=1),"C","")) | BE11: =IF(AZ11="","",IF(WEEKDAY(AZ11,2)>5,"",IF(WEEKDAY(AZ11,2)=5,$B$39,IF(WEEKDAY(AZ11,2)=4,$B$38,IF(WEEKDAY(AZ11,2)=3,$B$37,IF(WEEKDAY(AZ11,2)=2,$B$36,IF(WEEKDAY(AZ11,2)=1,$B$35,"0"))))))) -> 8 | BF11: =BF10+1 -> 45934 | BG11: =IF(BF11="","",IF(WEEKDAY(BF11,2)>=6,"",IF(AND(BF11>=$B$9,BF11<=$B$10),"F",""))) | BH11: =IF(BF11="","",IF(WEEKDAY(BF11,2)>=6,"",IF(OR(AND(BF11>=$B$11,BF11<=$B$12),AND(BF11>=$B$13,BF11<=$B$14),AND(BF11>=$B$15,BF11<=$B$16),AND(BF11>=$B$17,BF11<=$B$18),AND(BF11>=$B$19,BF11<=$B$20),AND(BF11>=$B$21,BF11<=$B$22),AND(BF11>=$B$23,BF11<=$B$24),AND(BF11>=$B$25,BF11<=$B$26)),"E",""))) | BI11: =IF(BF11="","",IF(WEEKDAY(BF11,2)>=6,"",IF(BG11="F",IF(OR(AND(BF11>=$B$11,BF11<=$B$12),AND(BF11>=$B$13,BF11<=$B$14),AND(BF11>=$B$15,BF11<=$B$16),AND(BF11>=$B$17,BF11<=$B$18),AND(BF11>=$B$19,BF11<=$B$20),AND(BF11>=$B$21,BF11<=$B$22),AND(BF11>=$B$23,BF11<=$B$24),AND(BF11>=$B$25,BF11<=$B$26)),"","P"),""))) | BJ11: =IF(BF11="","",IF(OR(AND(BF11>=ANNEXE!$E$4,BF11<=ANNEXE!$F$4),AND(BF11>=ANNEXE!$E$5,BF11<=ANNEXE!$F$5),AND(BF11>=ANNEXE!$E$6,BF11<=ANNEXE!$F$6),AND(BF11>=ANNEXE!$E$7,BF11<=ANNEXE!$F$7),AND(BF11>=ANNEXE!$E$8,BF11<=ANNEXE!$F$8),AND(BF11>=ANNEXE!$E$9,BF11<=ANNEXE!$F$9),COUNTIF(ANNEXE!$A$4:$C$18,BF11)>=1),"C","")) | BK11: =IF(BF11="","",IF(WEEKDAY(BF11,2)>5,"",IF(WEEKDAY(BF11,2)=5,$B$39,IF(WEEKDAY(BF11,2)=4,$B$38,IF(WEEKDAY(BF11,2)=3,$B$37,IF(WEEKDAY(BF11,2)=2,$B$36,IF(WEEKDAY(BF11,2)=1,$B$35,"0"))))))) | BL11: =BL10+1 -> 45965 | BM11: =IF(BL11="","",IF(WEEKDAY(BL11,2)>=6,"",IF(AND(BL11>=$B$9,BL11<=$B$10),"F",""))) -> F | BN11: =IF(BL11="","",IF(WEEKDAY(BL11,2)>=6,"",IF(OR(AND(BL11>=$B$11,BL11<=$B$12),AND(BL11>=$B$13,BL11<=$B$14),AND(BL11>=$B$15,BL11<=$B$16),AND(BL11>=$B$17,BL11<=$B$18),AND(BL11>=$B$19,BL11<=$B$20),AND(BL11>=$B$21,BL11<=$B$22),AND(BL11>=$B$23,BL11<=$B$24),AND(BL11>=$B$25,BL11<=$B$26)),"E",""))) | BO11: =IF(BL11="","",IF(WEEKDAY(BL11,2)>=6,"",IF(BM11="F",IF(OR(AND(BL11>=$B$11,BL11<=$B$12),AND(BL11>=$B$13,BL11<=$B$14),AND(BL11>=$B$15,BL11<=$B$16),AND(BL11>=$B$17,BL11<=$B$18),AND(BL11>=$B$19,BL11<=$B$20),AND(BL11>=$B$21,BL11<=$B$22),AND(BL11>=$B$23,BL11<=$B$24),AND(BL11>=$B$25,BL11<=$B$26)),"","P"),""))) -> P | BP11: =IF(BL11="","",IF(OR(AND(BL11>=ANNEXE!$E$4,BL11<=ANNEXE!$F$4),AND(BL11>=ANNEXE!$E$5,BL11<=ANNEXE!$F$5),AND(BL11>=ANNEXE!$E$6,BL11<=ANNEXE!$F$6),AND(BL11>=ANNEXE!$E$7,BL11<=ANNEXE!$F$7),AND(BL11>=ANNEXE!$E$8,BL11<=ANNEXE!$F$8),AND(BL11>=ANNEXE!$E$9,BL11<=ANNEXE!$F$9),COUNTIF(ANNEXE!$A$4:$C$18,BL11)>=1),"C","")) | BQ11: =IF(BL11="","",IF(WEEKDAY(BL11,2)>5,"",IF(WEEKDAY(BL11,2)=5,$B$39,IF(WEEKDAY(BL11,2)=4,$B$38,IF(WEEKDAY(BL11,2)=3,$B$37,IF(WEEKDAY(BL11,2)=2,$B$36,IF(WEEKDAY(BL11,2)=1,$B$35,"0"))))))) -> 8 | BR11: =BR10+1 -> 45995 | BS11: =IF(BR11="","",IF(WEEKDAY(BR11,2)>=6,"",IF(AND(BR11>=$B$9,BR11<=$B$10),"F",""))) | BT11: =IF(BR11="","",IF(WEEKDAY(BR11,2)>=6,"",IF(OR(AND(BR11>=$B$11,BR11<=$B$12),AND(BR11>=$B$13,BR11<=$B$14),AND(BR11>=$B$15,BR11<=$B$16),AND(BR11>=$B$17,BR11<=$B$18),AND(BR11>=$B$19,BR11<=$B$20),AND(BR11>=$B$21,BR11<=$B$22),AND(BR11>=$B$23,BR11<=$B$24),AND(BR11>=$B$25,BR11<=$B$26)),"E",""))) | BU11: =IF(BR11="","",IF(WEEKDAY(BR11,2)>=6,"",IF(BS11="F",IF(OR(AND(BR11>=$B$11,BR11<=$B$12),AND(BR11>=$B$13,BR11<=$B$14),AND(BR11>=$B$15,BR11<=$B$16),AND(BR11>=$B$17,BR11<=$B$18),AND(BR11>=$B$19,BR11<=$B$20),AND(BR11>=$B$21,BR11<=$B$22),AND(BR11>=$B$23,BR11<=$B$24),AND(BR11>=$B$25,BR11<=$B$26)),"","P"),""))) | BV11: =IF(BR11="","",IF(OR(AND(BR11>=ANNEXE!$E$4,BR11<=ANNEXE!$F$4),AND(BR11>=ANNEXE!$E$5,BR11<=ANNEXE!$F$5),AND(BR11>=ANNEXE!$E$6,BR11<=ANNEXE!$F$6),AND(BR11>=ANNEXE!$E$7,BR11<=ANNEXE!$F$7),AND(BR11>=ANNEXE!$E$8,BR11<=ANNEXE!$F$8),AND(BR11>=ANNEXE!$E$9,BR11<=ANNEXE!$F$9),COUNTIF(ANNEXE!$A$4:$C$18,BR11)>=1),"C","")) | BW11: =IF(BR11="","",IF(WEEKDAY(BR11,2)>5,"",IF(WEEKDAY(BR11,2)=5,$B$39,IF(WEEKDAY(BR11,2)=4,$B$38,IF(WEEKDAY(BR11,2)=3,$B$37,IF(WEEKDAY(BR11,2)=2,$B$36,IF(WEEKDAY(BR11,2)=1,$B$35,"0"))))))) -> 8
A12: SORTIE PAE 1 | B12: =IF(INDEX(Programmation!$A$13:$AB$62,MATCH($A$7,Programmation!$A$13:$A$62,0),5)="","",INDEX(Programmation!$A$13:$AB$62,MATCH($A$7,Programmation!$A$13:$A$62,0),6)) -> 45821 | D12: =D11+1 -> 45662 | E12: =IF(D12="","",IF(WEEKDAY(D12,2)>=6,"",IF(AND(D12>=$B$9,D12<=$B$10),"F",""))) | F12: =IF(D12="","",IF(WEEKDAY(D12,2)>=6,"",IF(OR(AND(D12>=$B$11,D12<=$B$12),AND(D12>=$B$13,D12<=$B$14),AND(D12>=$B$15,D12<=$B$16),AND(D12>=$B$17,D12<=$B$18),AND(D12>=$B$19,D12<=$B$20),AND(D12>=$B$21,D12<=$B$22),AND(D12>=$B$23,D12<=$B$24),AND(D12>=$B$25,D12<=$B$26),AND(D12>=$B$27,D12<=$B$28),AND(D12>=$B$29,D12<=$B$30),AND(D12>=$B$31,D12<=$B$32),AND(D12>=$B$33,D12<=$B$34)),"E",""))) | G12: =IF(D12="","",IF(WEEKDAY(D12,2)>=6,"",IF(E12="F",IF(OR(AND(D12>=$B$11,D12<=$B$12),AND(D12>=$B$13,D12<=$B$14),AND(D12>=$B$15,D12<=$B$16),AND(D12>=$B$17,D12<=$B$18),AND(D12>=$B$19,D12<=$B$20),AND(D12>=$B$21,D12<=$B$22),AND(D12>=$B$23,D12<=$B$24),AND(D12>=$B$25,D12<=$B$26),AND(D12>=$B$27,D12<=$B$28),AND(D12>=$B$29,D12<=$B$30),AND(D12>=$B$31,D12<=$B$32),AND(D12>=$B$33,D12<=$B$34)),"","P"),""))) | H12: =IF(D12="","",IF(OR(AND(D12>=ANNEXE!$E$4,D12<=ANNEXE!$F$4),AND(D12>=ANNEXE!$E$5,D12<=ANNEXE!$F$5),AND(D12>=ANNEXE!$E$6,D12<=ANNEXE!$F$6),AND(D12>=ANNEXE!$E$7,D12<=ANNEXE!$F$7),AND(D12>=ANNEXE!$E$8,D12<=ANNEXE!$F$8),AND(D12>=ANNEXE!$E$9,D12<=ANNEXE!$F$9),COUNTIF(ANNEXE!$A$4:$C$18,D12)>=1),"C","")) | I12: =IF(D12="","",IF(WEEKDAY(D12,2)>5,"",IF(WEEKDAY(D12,2)=5,$B$39,IF(WEEKDAY(D12,2)=4,$B$38,IF(WEEKDAY(D12,2)=3,$B$37,IF(WEEKDAY(D12,2)=2,$B$36,IF(WEEKDAY(D12,2)=1,$B$35,"0"))))))) | J12: =J11+1 -> 45693 | K12: =IF(J12="","",IF(WEEKDAY(J12,2)>=6,"",IF(AND(J12>=$B$9,J12<=$B$10),"F",""))) | L12: =IF(J12="","",IF(WEEKDAY(J12,2)>=6,"",IF(OR(AND(J12>=$B$11,J12<=$B$12),AND(J12>=$B$13,J12<=$B$14),AND(J12>=$B$15,J12<=$B$16),AND(J12>=$B$17,J12<=$B$18),AND(J12>=$B$19,J12<=$B$20),AND(J12>=$B$21,J12<=$B$22),AND(J12>=$B$23,J12<=$B$24),AND(J12>=$B$25,J12<=$B$26)),"E",""))) | M12: =IF(J12="","",IF(WEEKDAY(J12,2)>=6,"",IF(K12="F",IF(OR(AND(J12>=$B$11,J12<=$B$12),AND(J12>=$B$13,J12<=$B$14),AND(J12>=$B$15,J12<=$B$16),AND(J12>=$B$17,J12<=$B$18),AND(J12>=$B$19,J12<=$B$20),AND(J12>=$B$21,J12<=$B$22),AND(J12>=$B$23,J12<=$B$24),AND(J12>=$B$25,J12<=$B$26)),"","P"),""))) | N12: =IF(J12="","",IF(OR(AND(J12>=ANNEXE!$E$4,J12<=ANNEXE!$F$4),AND(J12>=ANNEXE!$E$5,J12<=ANNEXE!$F$5),AND(J12>=ANNEXE!$E$6,J12<=ANNEXE!$F$6),AND(J12>=ANNEXE!$E$7,J12<=ANNEXE!$F$7),AND(J12>=ANNEXE!$E$8,J12<=ANNEXE!$F$8),AND(J12>=ANNEXE!$E$9,J12<=ANNEXE!$F$9),COUNTIF(ANNEXE!$A$4:$C$18,J12)>=1),"C","")) | O12: =IF(J12="","",IF(WEEKDAY(J12,2)>5,"",IF(WEEKDAY(J12,2)=5,$B$39,IF(WEEKDAY(J12,2)=4,$B$38,IF(WEEKDAY(J12,2)=3,$B$37,IF(WEEKDAY(J12,2)=2,$B$36,IF(WEEKDAY(J12,2)=1,$B$35,"0"))))))) -> 8 | P12: =P11+1 -> 45721 | Q12: =IF(P12="","",IF(WEEKDAY(P12,2)>=6,"",IF(AND(P12>=$B$9,P12<=$B$10),"F",""))) -> F | R12: =IF(P12="","",IF(WEEKDAY(P12,2)>=6,"",IF(OR(AND(P12>=$B$11,P12<=$B$12),AND(P12>=$B$13,P12<=$B$14),AND(P12>=$B$15,P12<=$B$16),AND(P12>=$B$17,P12<=$B$18),AND(P12>=$B$19,P12<=$B$20),AND(P12>=$B$21,P12<=$B$22),AND(P12>=$B$23,P12<=$B$24),AND(P12>=$B$25,P12<=$B$26)),"E",""))) | S12: =IF(P12="","",IF(WEEKDAY(P12,2)>=6,"",IF(Q12="F",IF(OR(AND(P12>=$B$11,P12<=$B$12),AND(P12>=$B$13,P12<=$B$14),AND(P12>=$B$15,P12<=$B$16),AND(P12>=$B$17,P12<=$B$18),AND(P12>=$B$19,P12<=$B$20),AND(P12>=$B$21,P12<=$B$22),AND(P12>=$B$23,P12<=$B$24),AND(P12>=$B$25,P12<=$B$26)),"","P"),""))) -> P | T12: =IF(P12="","",IF(OR(AND(P12>=ANNEXE!$E$4,P12<=ANNEXE!$F$4),AND(P12>=ANNEXE!$E$5,P12<=ANNEXE!$F$5),AND(P12>=ANNEXE!$E$6,P12<=ANNEXE!$F$6),AND(P12>=ANNEXE!$E$7,P12<=ANNEXE!$F$7),AND(P12>=ANNEXE!$E$8,P12<=ANNEXE!$F$8),AND(P12>=ANNEXE!$E$9,P12<=ANNEXE!$F$9),COUNTIF(ANNEXE!$A$4:$C$18,P12)>=1),"C","")) | U12: =IF(P12="","",IF(WEEKDAY(P12,2)>5,"",IF(WEEKDAY(P12,2)=5,$B$39,IF(WEEKDAY(P12,2)=4,$B$38,IF(WEEKDAY(P12,2)=3,$B$37,IF(WEEKDAY(P12,2)=2,$B$36,IF(WEEKDAY(P12,2)=1,$B$35,"0"))))))) -> 8 | V12: =V11+1 -> 45752 | W12: =IF(V12="","",IF(WEEKDAY(V12,2)>=6,"",IF(AND(V12>=$B$9,V12<=$B$10),"F",""))) | X12: =IF(V12="","",IF(WEEKDAY(V12,2)>=6,"",IF(OR(AND(V12>=$B$11,V12<=$B$12),AND(V12>=$B$13,V12<=$B$14),AND(V12>=$B$15,V12<=$B$16),AND(V12>=$B$17,V12<=$B$18),AND(V12>=$B$19,V12<=$B$20),AND(V12>=$B$21,V12<=$B$22),AND(V12>=$B$23,V12<=$B$24),AND(V12>=$B$25,V12<=$B$26)),"E",""))) | Y12: =IF(V12="","",IF(WEEKDAY(V12,2)>=6,"",IF(W12="F",IF(OR(AND(V12>=$B$11,V12<=$B$12),AND(V12>=$B$13,V12<=$B$14),AND(V12>=$B$15,V12<=$B$16),AND(V12>=$B$17,V12<=$B$18),AND(V12>=$B$19,V12<=$B$20),AND(V12>=$B$21,V12<=$B$22),AND(V12>=$B$23,V12<=$B$24),AND(V12>=$B$25,V12<=$B$26)),"","P"),""))) | Z12: =IF(V12="","",IF(OR(AND(V12>=ANNEXE!$E$4,V12<=ANNEXE!$F$4),AND(V12>=ANNEXE!$E$5,V12<=ANNEXE!$F$5),AND(V12>=ANNEXE!$E$6,V12<=ANNEXE!$F$6),AND(V12>=ANNEXE!$E$7,V12<=ANNEXE!$F$7),AND(V12>=ANNEXE!$E$8,V12<=ANNEXE!$F$8),AND(V12>=ANNEXE!$E$9,V12<=ANNEXE!$F$9),COUNTIF(ANNEXE!$A$4:$C$18,V12)>=1),"C","")) | AA12: =IF(V12="","",IF(WEEKDAY(V12,2)>5,"",IF(WEEKDAY(V12,2)=5,$B$39,IF(WEEKDAY(V12,2)=4,$B$38,IF(WEEKDAY(V12,2)=3,$B$37,IF(WEEKDAY(V12,2)=2,$B$36,IF(WEEKDAY(V12,2)=1,$B$35,"0"))))))) | AB12: =AB11+1 -> 45782 | AC12: =IF(AB12="","",IF(WEEKDAY(AB12,2)>=6,"",IF(AND(AB12>=$B$9,AB12<=$B$10),"F",""))) -> F | AD12: =IF(AB12="","",IF(WEEKDAY(AB12,2)>=6,"",IF(OR(AND(AB12>=$B$11,AB12<=$B$12),AND(AB12>=$B$13,AB12<=$B$14),AND(AB12>=$B$15,AB12<=$B$16),AND(AB12>=$B$17,AB12<=$B$18),AND(AB12>=$B$19,AB12<=$B$20),AND(AB12>=$B$21,AB12<=$B$22),AND(AB12>=$B$23,AB12<=$B$24),AND(AB12>=$B$25,AB12<=$B$26)),"E",""))) | AE12: =IF(AB12="","",IF(WEEKDAY(AB12,2)>=6,"",IF(AC12="F",IF(OR(AND(AB12>=$B$11,AB12<=$B$12),AND(AB12>=$B$13,AB12<=$B$14),AND(AB12>=$B$15,AB12<=$B$16),AND(AB12>=$B$17,AB12<=$B$18),AND(AB12>=$B$19,AB12<=$B$20),AND(AB12>=$B$21,AB12<=$B$22),AND(AB12>=$B$23,AB12<=$B$24),AND(AB12>=$B$25,AB12<=$B$26)),"","P"),""))) -> P | AF12: =IF(AB12="","",IF(OR(AND(AB12>=ANNEXE!$E$4,AB12<=ANNEXE!$F$4),AND(AB12>=ANNEXE!$E$5,AB12<=ANNEXE!$F$5),AND(AB12>=ANNEXE!$E$6,AB12<=ANNEXE!$F$6),AND(AB12>=ANNEXE!$E$7,AB12<=ANNEXE!$F$7),AND(AB12>=ANNEXE!$E$8,AB12<=ANNEXE!$F$8),AND(AB12>=ANNEXE!$E$9,AB12<=ANNEXE!$F$9),COUNTIF(ANNEXE!$A$4:$C$18,AB12)>=1),"C","")) | AG12: =IF(AB12="","",IF(WEEKDAY(AB12,2)>5,"",IF(WEEKDAY(AB12,2)=5,$B$39,IF(WEEKDAY(AB12,2)=4,$B$38,IF(WEEKDAY(AB12,2)=3,$B$37,IF(WEEKDAY(AB12,2)=2,$B$36,IF(WEEKDAY(AB12,2)=1,$B$35,"0"))))))) -> 7.5 | AH12: =AH11+1 -> 45813 | AI12: =IF(AH12="","",IF(WEEKDAY(AH12,2)>=6,"",IF(AND(AH12>=$B$9,AH12<=$B$10),"F",""))) -> F | AJ12: =IF(AH12="","",IF(WEEKDAY(AH12,2)>=6,"",IF(OR(AND(AH12>=$B$11,AH12<=$B$12),AND(AH12>=$B$13,AH12<=$B$14),AND(AH12>=$B$15,AH12<=$B$16),AND(AH12>=$B$17,AH12<=$B$18),AND(AH12>=$B$19,AH12<=$B$20),AND(AH12>=$B$21,AH12<=$B$22),AND(AH12>=$B$23,AH12<=$B$24),AND(AH12>=$B$25,AH12<=$B$26)),"E",""))) -> E | AK12: =IF(AH12="","",IF(WEEKDAY(AH12,2)>=6,"",IF(AI12="F",IF(OR(AND(AH12>=$B$11,AH12<=$B$12),AND(AH12>=$B$13,AH12<=$B$14),AND(AH12>=$B$15,AH12<=$B$16),AND(AH12>=$B$17,AH12<=$B$18),AND(AH12>=$B$19,AH12<=$B$20),AND(AH12>=$B$21,AH12<=$B$22),AND(AH12>=$B$23,AH12<=$B$24),AND(AH12>=$B$25,AH12<=$B$26)),"","P"),""))) | AL12: =IF(AH12="","",IF(OR(AND(AH12>=ANNEXE!$E$4,AH12<=ANNEXE!$F$4),AND(AH12>=ANNEXE!$E$5,AH12<=ANNEXE!$F$5),AND(AH12>=ANNEXE!$E$6,AH12<=ANNEXE!$F$6),AND(AH12>=ANNEXE!$E$7,AH12<=ANNEXE!$F$7),AND(AH12>=ANNEXE!$E$8,AH12<=ANNEXE!$F$8),AND(AH12>=ANNEXE!$E$9,AH12<=ANNEXE!$F$9),COUNTIF(ANNEXE!$A$4:$C$18,AH12)>=1),"C","")) | AM12: =IF(AH12="","",IF(WEEKDAY(AH12,2)>5,"",IF(WEEKDAY(AH12,2)=5,$B$39,IF(WEEKDAY(AH12,2)=4,$B$38,IF(WEEKDAY(AH12,2)=3,$B$37,IF(WEEKDAY(AH12,2)=2,$B$36,IF(WEEKDAY(AH12,2)=1,$B$35,"0"))))))) -> 8 | AN12: =AN11+1 -> 45843 | AO12: =IF(AN12="","",IF(WEEKDAY(AN12,2)>=6,"",IF(AND(AN12>=$B$9,AN12<=$B$10),"F",""))) | AP12: =IF(AN12="","",IF(WEEKDAY(AN12,2)>=6,"",IF(OR(AND(AN12>=$B$11,AN12<=$B$12),AND(AN12>=$B$13,AN12<=$B$14),AND(AN12>=$B$15,AN12<=$B$16),AND(AN12>=$B$17,AN12<=$B$18),AND(AN12>=$B$19,AN12<=$B$20),AND(AN12>=$B$21,AN12<=$B$22),AND(AN12>=$B$23,AN12<=$B$24),AND(AN12>=$B$25,AN12<=$B$26)),"E",""))) | AQ12: =IF(AN12="","",IF(WEEKDAY(AN12,2)>=6,"",IF(AO12="F",IF(OR(AND(AN12>=$B$11,AN12<=$B$12),AND(AN12>=$B$13,AN12<=$B$14),AND(AN12>=$B$15,AN12<=$B$16),AND(AN12>=$B$17,AN12<=$B$18),AND(AN12>=$B$19,AN12<=$B$20),AND(AN12>=$B$21,AN12<=$B$22),AND(AN12>=$B$23,AN12<=$B$24),AND(AN12>=$B$25,AN12<=$B$26)),"","P"),""))) | AR12: =IF(AN12="","",IF(OR(AND(AN12>=ANNEXE!$E$4,AN12<=ANNEXE!$F$4),AND(AN12>=ANNEXE!$E$5,AN12<=ANNEXE!$F$5),AND(AN12>=ANNEXE!$E$6,AN12<=ANNEXE!$F$6),AND(AN12>=ANNEXE!$E$7,AN12<=ANNEXE!$F$7),AND(AN12>=ANNEXE!$E$8,AN12<=ANNEXE!$F$8),AND(AN12>=ANNEXE!$E$9,AN12<=ANNEXE!$F$9),COUNTIF(ANNEXE!$A$4:$C$18,AN12)>=1),"C","")) | AS12: =IF(AN12="","",IF(WEEKDAY(AN12,2)>5,"",IF(WEEKDAY(AN12,2)=5,$B$39,IF(WEEKDAY(AN12,2)=4,$B$38,IF(WEEKDAY(AN12,2)=3,$B$37,IF(WEEKDAY(AN12,2)=2,$B$36,IF(WEEKDAY(AN12,2)=1,$B$35,"0"))))))) | AT12: =AT11+1 -> 45874 | AU12: =IF(AT12="","",IF(WEEKDAY(AT12,2)>=6,"",IF(AND(AT12>=$B$9,AT12<=$B$10),"F",""))) -> F | AV12: =IF(AT12="","",IF(WEEKDAY(AT12,2)>=6,"",IF(OR(AND(AT12>=$B$11,AT12<=$B$12),AND(AT12>=$B$13,AT12<=$B$14),AND(AT12>=$B$15,AT12<=$B$16),AND(AT12>=$B$17,AT12<=$B$18),AND(AT12>=$B$19,AT12<=$B$20),AND(AT12>=$B$21,AT12<=$B$22),AND(AT12>=$B$23,AT12<=$B$24),AND(AT12>=$B$25,AT12<=$B$26)),"E",""))) -> E | AW12: =IF(AT12="","",IF(WEEKDAY(AT12,2)>=6,"",IF(AU12="F",IF(OR(AND(AT12>=$B$11,AT12<=$B$12),AND(AT12>=$B$13,AT12<=$B$14),AND(AT12>=$B$15,AT12<=$B$16),AND(AT12>=$B$17,AT12<=$B$18),AND(AT12>=$B$19,AT12<=$B$20),AND(AT12>=$B$21,AT12<=$B$22),AND(AT12>=$B$23,AT12<=$B$24),AND(AT12>=$B$25,AT12<=$B$26)),"","P"),""))) | AX12: =IF(AT12="","",IF(OR(AND(AT12>=ANNEXE!$E$4,AT12<=ANNEXE!$F$4),AND(AT12>=ANNEXE!$E$5,AT12<=ANNEXE!$F$5),AND(AT12>=ANNEXE!$E$6,AT12<=ANNEXE!$F$6),AND(AT12>=ANNEXE!$E$7,AT12<=ANNEXE!$F$7),AND(AT12>=ANNEXE!$E$8,AT12<=ANNEXE!$F$8),AND(AT12>=ANNEXE!$E$9,AT12<=ANNEXE!$F$9),COUNTIF(ANNEXE!$A$4:$C$18,AT12)>=1),"C","")) | AY12: =IF(AT12="","",IF(WEEKDAY(AT12,2)>5,"",IF(WEEKDAY(AT12,2)=5,$B$39,IF(WEEKDAY(AT12,2)=4,$B$38,IF(WEEKDAY(AT12,2)=3,$B$37,IF(WEEKDAY(AT12,2)=2,$B$36,IF(WEEKDAY(AT12,2)=1,$B$35,"0"))))))) -> 8 | AZ12: =AZ11+1 -> 45905 | BA12: =IF(AZ12="","",IF(WEEKDAY(AZ12,2)>=6,"",IF(AND(AZ12>=$B$9,AZ12<=$B$10),"F",""))) -> F | BB12: =IF(AZ12="","",IF(WEEKDAY(AZ12,2)>=6,"",IF(OR(AND(AZ12>=$B$11,AZ12<=$B$12),AND(AZ12>=$B$13,AZ12<=$B$14),AND(AZ12>=$B$15,AZ12<=$B$16),AND(AZ12>=$B$17,AZ12<=$B$18),AND(AZ12>=$B$19,AZ12<=$B$20),AND(AZ12>=$B$21,AZ12<=$B$22),AND(AZ12>=$B$23,AZ12<=$B$24),AND(AZ12>=$B$25,AZ12<=$B$26)),"E",""))) | BC12: =IF(AZ12="","",IF(WEEKDAY(AZ12,2)>=6,"",IF(BA12="F",IF(OR(AND(AZ12>=$B$11,AZ12<=$B$12),AND(AZ12>=$B$13,AZ12<=$B$14),AND(AZ12>=$B$15,AZ12<=$B$16),AND(AZ12>=$B$17,AZ12<=$B$18),AND(AZ12>=$B$19,AZ12<=$B$20),AND(AZ12>=$B$21,AZ12<=$B$22),AND(AZ12>=$B$23,AZ12<=$B$24),AND(AZ12>=$B$25,AZ12<=$B$26)),"","P"),""))) -> P | BD12: =IF(AZ12="","",IF(OR(AND(AZ12>=ANNEXE!$E$4,AZ12<=ANNEXE!$F$4),AND(AZ12>=ANNEXE!$E$5,AZ12<=ANNEXE!$F$5),AND(AZ12>=ANNEXE!$E$6,AZ12<=ANNEXE!$F$6),AND(AZ12>=ANNEXE!$E$7,AZ12<=ANNEXE!$F$7),AND(AZ12>=ANNEXE!$E$8,AZ12<=ANNEXE!$F$8),AND(AZ12>=ANNEXE!$E$9,AZ12<=ANNEXE!$F$9),COUNTIF(ANNEXE!$A$4:$C$18,AZ12)>=1),"C","")) | BE12: =IF(AZ12="","",IF(WEEKDAY(AZ12,2)>5,"",IF(WEEKDAY(AZ12,2)=5,$B$39,IF(WEEKDAY(AZ12,2)=4,$B$38,IF(WEEKDAY(AZ12,2)=3,$B$37,IF(WEEKDAY(AZ12,2)=2,$B$36,IF(WEEKDAY(AZ12,2)=1,$B$35,"0"))))))) -> 3.5 | BF12: =BF11+1 -> 45935 | BG12: =IF(BF12="","",IF(WEEKDAY(BF12,2)>=6,"",IF(AND(BF12>=$B$9,BF12<=$B$10),"F",""))) | BH12: =IF(BF12="","",IF(WEEKDAY(BF12,2)>=6,"",IF(OR(AND(BF12>=$B$11,BF12<=$B$12),AND(BF12>=$B$13,BF12<=$B$14),AND(BF12>=$B$15,BF12<=$B$16),AND(BF12>=$B$17,BF12<=$B$18),AND(BF12>=$B$19,BF12<=$B$20),AND(BF12>=$B$21,BF12<=$B$22),AND(BF12>=$B$23,BF12<=$B$24),AND(BF12>=$B$25,BF12<=$B$26)),"E",""))) | BI12: =IF(BF12="","",IF(WEEKDAY(BF12,2)>=6,"",IF(BG12="F",IF(OR(AND(BF12>=$B$11,BF12<=$B$12),AND(BF12>=$B$13,BF12<=$B$14),AND(BF12>=$B$15,BF12<=$B$16),AND(BF12>=$B$17,BF12<=$B$18),AND(BF12>=$B$19,BF12<=$B$20),AND(BF12>=$B$21,BF12<=$B$22),AND(BF12>=$B$23,BF12<=$B$24),AND(BF12>=$B$25,BF12<=$B$26)),"","P"),""))) | BJ12: =IF(BF12="","",IF(OR(AND(BF12>=ANNEXE!$E$4,BF12<=ANNEXE!$F$4),AND(BF12>=ANNEXE!$E$5,BF12<=ANNEXE!$F$5),AND(BF12>=ANNEXE!$E$6,BF12<=ANNEXE!$F$6),AND(BF12>=ANNEXE!$E$7,BF12<=ANNEXE!$F$7),AND(BF12>=ANNEXE!$E$8,BF12<=ANNEXE!$F$8),AND(BF12>=ANNEXE!$E$9,BF12<=ANNEXE!$F$9),COUNTIF(ANNEXE!$A$4:$C$18,BF12)>=1),"C","")) | BK12: =IF(BF12="","",IF(WEEKDAY(BF12,2)>5,"",IF(WEEKDAY(BF12,2)=5,$B$39,IF(WEEKDAY(BF12,2)=4,$B$38,IF(WEEKDAY(BF12,2)=3,$B$37,IF(WEEKDAY(BF12,2)=2,$B$36,IF(WEEKDAY(BF12,2)=1,$B$35,"0"))))))) | BL12: =BL11+1 -> 45966 | BM12: =IF(BL12="","",IF(WEEKDAY(BL12,2)>=6,"",IF(AND(BL12>=$B$9,BL12<=$B$10),"F",""))) -> F | BN12: =IF(BL12="","",IF(WEEKDAY(BL12,2)>=6,"",IF(OR(AND(BL12>=$B$11,BL12<=$B$12),AND(BL12>=$B$13,BL12<=$B$14),AND(BL12>=$B$15,BL12<=$B$16),AND(BL12>=$B$17,BL12<=$B$18),AND(BL12>=$B$19,BL12<=$B$20),AND(BL12>=$B$21,BL12<=$B$22),AND(BL12>=$B$23,BL12<=$B$24),AND(BL12>=$B$25,BL12<=$B$26)),"E",""))) | BO12: =IF(BL12="","",IF(WEEKDAY(BL12,2)>=6,"",IF(BM12="F",IF(OR(AND(BL12>=$B$11,BL12<=$B$12),AND(BL12>=$B$13,BL12<=$B$14),AND(BL12>=$B$15,BL12<=$B$16),AND(BL12>=$B$17,BL12<=$B$18),AND(BL12>=$B$19,BL12<=$B$20),AND(BL12>=$B$21,BL12<=$B$22),AND(BL12>=$B$23,BL12<=$B$24),AND(BL12>=$B$25,BL12<=$B$26)),"","P"),""))) -> P | BP12: =IF(BL12="","",IF(OR(AND(BL12>=ANNEXE!$E$4,BL12<=ANNEXE!$F$4),AND(BL12>=ANNEXE!$E$5,BL12<=ANNEXE!$F$5),AND(BL12>=ANNEXE!$E$6,BL12<=ANNEXE!$F$6),AND(BL12>=ANNEXE!$E$7,BL12<=ANNEXE!$F$7),AND(BL12>=ANNEXE!$E$8,BL12<=ANNEXE!$F$8),AND(BL12>=ANNEXE!$E$9,BL12<=ANNEXE!$F$9),COUNTIF(ANNEXE!$A$4:$C$18,BL12)>=1),"C","")) | BQ12: =IF(BL12="","",IF(WEEKDAY(BL12,2)>5,"",IF(WEEKDAY(BL12,2)=5,$B$39,IF(WEEKDAY(BL12,2)=4,$B$38,IF(WEEKDAY(BL12,2)=3,$B$37,IF(WEEKDAY(BL12,2)=2,$B$36,IF(WEEKDAY(BL12,2)=1,$B$35,"0"))))))) -> 8 | BR12: =BR11+1 -> 45996 | BS12: =IF(BR12="","",IF(WEEKDAY(BR12,2)>=6,"",IF(AND(BR12>=$B$9,BR12<=$B$10),"F",""))) | BT12: =IF(BR12="","",IF(WEEKDAY(BR12,2)>=6,"",IF(OR(AND(BR12>=$B$11,BR12<=$B$12),AND(BR12>=$B$13,BR12<=$B$14),AND(BR12>=$B$15,BR12<=$B$16),AND(BR12>=$B$17,BR12<=$B$18),AND(BR12>=$B$19,BR12<=$B$20),AND(BR12>=$B$21,BR12<=$B$22),AND(BR12>=$B$23,BR12<=$B$24),AND(BR12>=$B$25,BR12<=$B$26)),"E",""))) | BU12: =IF(BR12="","",IF(WEEKDAY(BR12,2)>=6,"",IF(BS12="F",IF(OR(AND(BR12>=$B$11,BR12<=$B$12),AND(BR12>=$B$13,BR12<=$B$14),AND(BR12>=$B$15,BR12<=$B$16),AND(BR12>=$B$17,BR12<=$B$18),AND(BR12>=$B$19,BR12<=$B$20),AND(BR12>=$B$21,BR12<=$B$22),AND(BR12>=$B$23,BR12<=$B$24),AND(BR12>=$B$25,BR12<=$B$26)),"","P"),""))) | BV12: =IF(BR12="","",IF(OR(AND(BR12>=ANNEXE!$E$4,BR12<=ANNEXE!$F$4),AND(BR12>=ANNEXE!$E$5,BR12<=ANNEXE!$F$5),AND(BR12>=ANNEXE!$E$6,BR12<=ANNEXE!$F$6),AND(BR12>=ANNEXE!$E$7,BR12<=ANNEXE!$F$7),AND(BR12>=ANNEXE!$E$8,BR12<=ANNEXE!$F$8),AND(BR12>=ANNEXE!$E$9,BR12<=ANNEXE!$F$9),COUNTIF(ANNEXE!$A$4:$C$18,BR12)>=1),"C","")) | BW12: =IF(BR12="","",IF(WEEKDAY(BR12,2)>5,"",IF(WEEKDAY(BR12,2)=5,$B$39,IF(WEEKDAY(BR12,2)=4,$B$38,IF(WEEKDAY(BR12,2)=3,$B$37,IF(WEEKDAY(BR12,2)=2,$B$36,IF(WEEKDAY(BR12,2)=1,$B$35,"0"))))))) -> 3.5
A13: ENTREE PAE 2 | B13: =IF(INDEX(Programmation!$A$13:$AB$62,MATCH($A$7,Programmation!$A$13:$A$62,0),7)="","",INDEX(Programmation!$A$13:$AB$62,MATCH($A$7,Programmation!$A$13:$A$62,0),7)) -> 45859 | D13: =D12+1 -> 45663 | E13: =IF(D13="","",IF(WEEKDAY(D13,2)>=6,"",IF(AND(D13>=$B$9,D13<=$B$10),"F",""))) | F13: =IF(D13="","",IF(WEEKDAY(D13,2)>=6,"",IF(OR(AND(D13>=$B$11,D13<=$B$12),AND(D13>=$B$13,D13<=$B$14),AND(D13>=$B$15,D13<=$B$16),AND(D13>=$B$17,D13<=$B$18),AND(D13>=$B$19,D13<=$B$20),AND(D13>=$B$21,D13<=$B$22),AND(D13>=$B$23,D13<=$B$24),AND(D13>=$B$25,D13<=$B$26),AND(D13>=$B$27,D13<=$B$28),AND(D13>=$B$29,D13<=$B$30),AND(D13>=$B$31,D13<=$B$32),AND(D13>=$B$33,D13<=$B$34)),"E",""))) | G13: =IF(D13="","",IF(WEEKDAY(D13,2)>=6,"",IF(E13="F",IF(OR(AND(D13>=$B$11,D13<=$B$12),AND(D13>=$B$13,D13<=$B$14),AND(D13>=$B$15,D13<=$B$16),AND(D13>=$B$17,D13<=$B$18),AND(D13>=$B$19,D13<=$B$20),AND(D13>=$B$21,D13<=$B$22),AND(D13>=$B$23,D13<=$B$24),AND(D13>=$B$25,D13<=$B$26),AND(D13>=$B$27,D13<=$B$28),AND(D13>=$B$29,D13<=$B$30),AND(D13>=$B$31,D13<=$B$32),AND(D13>=$B$33,D13<=$B$34)),"","P"),""))) | H13: =IF(D13="","",IF(OR(AND(D13>=ANNEXE!$E$4,D13<=ANNEXE!$F$4),AND(D13>=ANNEXE!$E$5,D13<=ANNEXE!$F$5),AND(D13>=ANNEXE!$E$6,D13<=ANNEXE!$F$6),AND(D13>=ANNEXE!$E$7,D13<=ANNEXE!$F$7),AND(D13>=ANNEXE!$E$8,D13<=ANNEXE!$F$8),AND(D13>=ANNEXE!$E$9,D13<=ANNEXE!$F$9),COUNTIF(ANNEXE!$A$4:$C$18,D13)>=1),"C","")) | I13: =IF(D13="","",IF(WEEKDAY(D13,2)>5,"",IF(WEEKDAY(D13,2)=5,$B$39,IF(WEEKDAY(D13,2)=4,$B$38,IF(WEEKDAY(D13,2)=3,$B$37,IF(WEEKDAY(D13,2)=2,$B$36,IF(WEEKDAY(D13,2)=1,$B$35,"0"))))))) -> 7.5 | J13: =J12+1 -> 45694 | K13: =IF(J13="","",IF(WEEKDAY(J13,2)>=6,"",IF(AND(J13>=$B$9,J13<=$B$10),"F",""))) | L13: =IF(J13="","",IF(WEEKDAY(J13,2)>=6,"",IF(OR(AND(J13>=$B$11,J13<=$B$12),AND(J13>=$B$13,J13<=$B$14),AND(J13>=$B$15,J13<=$B$16),AND(J13>=$B$17,J13<=$B$18),AND(J13>=$B$19,J13<=$B$20),AND(J13>=$B$21,J13<=$B$22),AND(J13>=$B$23,J13<=$B$24),AND(J13>=$B$25,J13<=$B$26)),"E",""))) | M13: =IF(J13="","",IF(WEEKDAY(J13,2)>=6,"",IF(K13="F",IF(OR(AND(J13>=$B$11,J13<=$B$12),AND(J13>=$B$13,J13<=$B$14),AND(J13>=$B$15,J13<=$B$16),AND(J13>=$B$17,J13<=$B$18),AND(J13>=$B$19,J13<=$B$20),AND(J13>=$B$21,J13<=$B$22),AND(J13>=$B$23,J13<=$B$24),AND(J13>=$B$25,J13<=$B$26)),"","P"),""))) | N13: =IF(J13="","",IF(OR(AND(J13>=ANNEXE!$E$4,J13<=ANNEXE!$F$4),AND(J13>=ANNEXE!$E$5,J13<=ANNEXE!$F$5),AND(J13>=ANNEXE!$E$6,J13<=ANNEXE!$F$6),AND(J13>=ANNEXE!$E$7,J13<=ANNEXE!$F$7),AND(J13>=ANNEXE!$E$8,J13<=ANNEXE!$F$8),AND(J13>=ANNEXE!$E$9,J13<=ANNEXE!$F$9),COUNTIF(ANNEXE!$A$4:$C$18,J13)>=1),"C","")) | O13: =IF(J13="","",IF(WEEKDAY(J13,2)>5,"",IF(WEEKDAY(J13,2)=5,$B$39,IF(WEEKDAY(J13,2)=4,$B$38,IF(WEEKDAY(J13,2)=3,$B$37,IF(WEEKDAY(J13,2)=2,$B$36,IF(WEEKDAY(J13,2)=1,$B$35,"0"))))))) -> 8 | P13: =P12+1 -> 45722 | Q13: =IF(P13="","",IF(WEEKDAY(P13,2)>=6,"",IF(AND(P13>=$B$9,P13<=$B$10),"F",""))) -> F | R13: =IF(P13="","",IF(WEEKDAY(P13,2)>=6,"",IF(OR(AND(P13>=$B$11,P13<=$B$12),AND(P13>=$B$13,P13<=$B$14),AND(P13>=$B$15,P13<=$B$16),AND(P13>=$B$17,P13<=$B$18),AND(P13>=$B$19,P13<=$B$20),AND(P13>=$B$21,P13<=$B$22),AND(P13>=$B$23,P13<=$B$24),AND(P13>=$B$25,P13<=$B$26)),"E",""))) | S13: =IF(P13="","",IF(WEEKDAY(P13,2)>=6,"",IF(Q13="F",IF(OR(AND(P13>=$B$11,P13<=$B$12),AND(P13>=$B$13,P13<=$B$14),AND(P13>=$B$15,P13<=$B$16),AND(P13>=$B$17,P13<=$B$18),AND(P13>=$B$19,P13<=$B$20),AND(P13>=$B$21,P13<=$B$22),AND(P13>=$B$23,P13<=$B$24),AND(P13>=$B$25,P13<=$B$26)),"","P"),""))) -> P | T13: =IF(P13="","",IF(OR(AND(P13>=ANNEXE!$E$4,P13<=ANNEXE!$F$4),AND(P13>=ANNEXE!$E$5,P13<=ANNEXE!$F$5),AND(P13>=ANNEXE!$E$6,P13<=ANNEXE!$F$6),AND(P13>=ANNEXE!$E$7,P13<=ANNEXE!$F$7),AND(P13>=ANNEXE!$E$8,P13<=ANNEXE!$F$8),AND(P13>=ANNEXE!$E$9,P13<=ANNEXE!$F$9),COUNTIF(ANNEXE!$A$4:$C$18,P13)>=1),"C","")) | U13: =IF(P13="","",IF(WEEKDAY(P13,2)>5,"",IF(WEEKDAY(P13,2)=5,$B$39,IF(WEEKDAY(P13,2)=4,$B$38,IF(WEEKDAY(P13,2)=3,$B$37,IF(WEEKDAY(P13,2)=2,$B$36,IF(WEEKDAY(P13,2)=1,$B$35,"0"))))))) -> 8 | V13: =V12+1 -> 45753 | W13: =IF(V13="","",IF(WEEKDAY(V13,2)>=6,"",IF(AND(V13>=$B$9,V13<=$B$10),"F",""))) | X13: =IF(V13="","",IF(WEEKDAY(V13,2)>=6,"",IF(OR(AND(V13>=$B$11,V13<=$B$12),AND(V13>=$B$13,V13<=$B$14),AND(V13>=$B$15,V13<=$B$16),AND(V13>=$B$17,V13<=$B$18),AND(V13>=$B$19,V13<=$B$20),AND(V13>=$B$21,V13<=$B$22),AND(V13>=$B$23,V13<=$B$24),AND(V13>=$B$25,V13<=$B$26)),"E",""))) | Y13: =IF(V13="","",IF(WEEKDAY(V13,2)>=6,"",IF(W13="F",IF(OR(AND(V13>=$B$11,V13<=$B$12),AND(V13>=$B$13,V13<=$B$14),AND(V13>=$B$15,V13<=$B$16),AND(V13>=$B$17,V13<=$B$18),AND(V13>=$B$19,V13<=$B$20),AND(V13>=$B$21,V13<=$B$22),AND(V13>=$B$23,V13<=$B$24),AND(V13>=$B$25,V13<=$B$26)),"","P"),""))) | Z13: =IF(V13="","",IF(OR(AND(V13>=ANNEXE!$E$4,V13<=ANNEXE!$F$4),AND(V13>=ANNEXE!$E$5,V13<=ANNEXE!$F$5),AND(V13>=ANNEXE!$E$6,V13<=ANNEXE!$F$6),AND(V13>=ANNEXE!$E$7,V13<=ANNEXE!$F$7),AND(V13>=ANNEXE!$E$8,V13<=ANNEXE!$F$8),AND(V13>=ANNEXE!$E$9,V13<=ANNEXE!$F$9),COUNTIF(ANNEXE!$A$4:$C$18,V13)>=1),"C","")) | AA13: =IF(V13="","",IF(WEEKDAY(V13,2)>5,"",IF(WEEKDAY(V13,2)=5,$B$39,IF(WEEKDAY(V13,2)=4,$B$38,IF(WEEKDAY(V13,2)=3,$B$37,IF(WEEKDAY(V13,2)=2,$B$36,IF(WEEKDAY(V13,2)=1,$B$35,"0"))))))) | AB13: =AB12+1 -> 45783 | AC13: =IF(AB13="","",IF(WEEKDAY(AB13,2)>=6,"",IF(AND(AB13>=$B$9,AB13<=$B$10),"F",""))) -> F | AD13: =IF(AB13="","",IF(WEEKDAY(AB13,2)>=6,"",IF(OR(AND(AB13>=$B$11,AB13<=$B$12),AND(AB13>=$B$13,AB13<=$B$14),AND(AB13>=$B$15,AB13<=$B$16),AND(AB13>=$B$17,AB13<=$B$18),AND(AB13>=$B$19,AB13<=$B$20),AND(AB13>=$B$21,AB13<=$B$22),AND(AB13>=$B$23,AB13<=$B$24),AND(AB13>=$B$25,AB13<=$B$26)),"E",""))) | AE13: =IF(AB13="","",IF(WEEKDAY(AB13,2)>=6,"",IF(AC13="F",IF(OR(AND(AB13>=$B$11,AB13<=$B$12),AND(AB13>=$B$13,AB13<=$B$14),AND(AB13>=$B$15,AB13<=$B$16),AND(AB13>=$B$17,AB13<=$B$18),AND(AB13>=$B$19,AB13<=$B$20),AND(AB13>=$B$21,AB13<=$B$22),AND(AB13>=$B$23,AB13<=$B$24),AND(AB13>=$B$25,AB13<=$B$26)),"","P"),""))) -> P | AF13: =IF(AB13="","",IF(OR(AND(AB13>=ANNEXE!$E$4,AB13<=ANNEXE!$F$4),AND(AB13>=ANNEXE!$E$5,AB13<=ANNEXE!$F$5),AND(AB13>=ANNEXE!$E$6,AB13<=ANNEXE!$F$6),AND(AB13>=ANNEXE!$E$7,AB13<=ANNEXE!$F$7),AND(AB13>=ANNEXE!$E$8,AB13<=ANNEXE!$F$8),AND(AB13>=ANNEXE!$E$9,AB13<=ANNEXE!$F$9),COUNTIF(ANNEXE!$A$4:$C$18,AB13)>=1),"C","")) | AG13: =IF(AB13="","",IF(WEEKDAY(AB13,2)>5,"",IF(WEEKDAY(AB13,2)=5,$B$39,IF(WEEKDAY(AB13,2)=4,$B$38,IF(WEEKDAY(AB13,2)=3,$B$37,IF(WEEKDAY(AB13,2)=2,$B$36,IF(WEEKDAY(AB13,2)=1,$B$35,"0"))))))) -> 8 | AH13: =AH12+1 -> 45814 | AI13: =IF(AH13="","",IF(WEEKDAY(AH13,2)>=6,"",IF(AND(AH13>=$B$9,AH13<=$B$10),"F",""))) -> F | AJ13: =IF(AH13="","",IF(WEEKDAY(AH13,2)>=6,"",IF(OR(AND(AH13>=$B$11,AH13<=$B$12),AND(AH13>=$B$13,AH13<=$B$14),AND(AH13>=$B$15,AH13<=$B$16),AND(AH13>=$B$17,AH13<=$B$18),AND(AH13>=$B$19,AH13<=$B$20),AND(AH13>=$B$21,AH13<=$B$22),AND(AH13>=$B$23,AH13<=$B$24),AND(AH13>=$B$25,AH13<=$B$26)),"E",""))) -> E | AK13: =IF(AH13="","",IF(WEEKDAY(AH13,2)>=6,"",IF(AI13="F",IF(OR(AND(AH13>=$B$11,AH13<=$B$12),AND(AH13>=$B$13,AH13<=$B$14),AND(AH13>=$B$15,AH13<=$B$16),AND(AH13>=$B$17,AH13<=$B$18),AND(AH13>=$B$19,AH13<=$B$20),AND(AH13>=$B$21,AH13<=$B$22),AND(AH13>=$B$23,AH13<=$B$24),AND(AH13>=$B$25,AH13<=$B$26)),"","P"),""))) | AL13: =IF(AH13="","",IF(OR(AND(AH13>=ANNEXE!$E$4,AH13<=ANNEXE!$F$4),AND(AH13>=ANNEXE!$E$5,AH13<=ANNEXE!$F$5),AND(AH13>=ANNEXE!$E$6,AH13<=ANNEXE!$F$6),AND(AH13>=ANNEXE!$E$7,AH13<=ANNEXE!$F$7),AND(AH13>=ANNEXE!$E$8,AH13<=ANNEXE!$F$8),AND(AH13>=ANNEXE!$E$9,AH13<=ANNEXE!$F$9),COUNTIF(ANNEXE!$A$4:$C$18,AH13)>=1),"C","")) | AM13: =IF(AH13="","",IF(WEEKDAY(AH13,2)>5,"",IF(WEEKDAY(AH13,2)=5,$B$39,IF(WEEKDAY(AH13,2)=4,$B$38,IF(WEEKDAY(AH13,2)=3,$B$37,IF(WEEKDAY(AH13,2)=2,$B$36,IF(WEEKDAY(AH13,2)=1,$B$35,"0"))))))) -> 3.5 | AN13: =AN12+1 -> 45844 | AO13: =IF(AN13="","",IF(WEEKDAY(AN13,2)>=6,"",IF(AND(AN13>=$B$9,AN13<=$B$10),"F",""))) | AP13: =IF(AN13="","",IF(WEEKDAY(AN13,2)>=6,"",IF(OR(AND(AN13>=$B$11,AN13<=$B$12),AND(AN13>=$B$13,AN13<=$B$14),AND(AN13>=$B$15,AN13<=$B$16),AND(AN13>=$B$17,AN13<=$B$18),AND(AN13>=$B$19,AN13<=$B$20),AND(AN13>=$B$21,AN13<=$B$22),AND(AN13>=$B$23,AN13<=$B$24),AND(AN13>=$B$25,AN13<=$B$26)),"E",""))) | AQ13: =IF(AN13="","",IF(WEEKDAY(AN13,2)>=6,"",IF(AO13="F",IF(OR(AND(AN13>=$B$11,AN13<=$B$12),AND(AN13>=$B$13,AN13<=$B$14),AND(AN13>=$B$15,AN13<=$B$16),AND(AN13>=$B$17,AN13<=$B$18),AND(AN13>=$B$19,AN13<=$B$20),AND(AN13>=$B$21,AN13<=$B$22),AND(AN13>=$B$23,AN13<=$B$24),AND(AN13>=$B$25,AN13<=$B$26)),"","P"),""))) | AR13: =IF(AN13="","",IF(OR(AND(AN13>=ANNEXE!$E$4,AN13<=ANNEXE!$F$4),AND(AN13>=ANNEXE!$E$5,AN13<=ANNEXE!$F$5),AND(AN13>=ANNEXE!$E$6,AN13<=ANNEXE!$F$6),AND(AN13>=ANNEXE!$E$7,AN13<=ANNEXE!$F$7),AND(AN13>=ANNEXE!$E$8,AN13<=ANNEXE!$F$8),AND(AN13>=ANNEXE!$E$9,AN13<=ANNEXE!$F$9),COUNTIF(ANNEXE!$A$4:$C$18,AN13)>=1),"C","")) | AS13: =IF(AN13="","",IF(WEEKDAY(AN13,2)>5,"",IF(WEEKDAY(AN13,2)=5,$B$39,IF(WEEKDAY(AN13,2)=4,$B$38,IF(WEEKDAY(AN13,2)=3,$B$37,IF(WEEKDAY(AN13,2)=2,$B$36,IF(WEEKDAY(AN13,2)=1,$B$35,"0"))))))) | AT13: =AT12+1 -> 45875 | AU13: =IF(AT13="","",IF(WEEKDAY(AT13,2)>=6,"",IF(AND(AT13>=$B$9,AT13<=$B$10),"F",""))) -> F | AV13: =IF(AT13="","",IF(WEEKDAY(AT13,2)>=6,"",IF(OR(AND(AT13>=$B$11,AT13<=$B$12),AND(AT13>=$B$13,AT13<=$B$14),AND(AT13>=$B$15,AT13<=$B$16),AND(AT13>=$B$17,AT13<=$B$18),AND(AT13>=$B$19,AT13<=$B$20),AND(AT13>=$B$21,AT13<=$B$22),AND(AT13>=$B$23,AT13<=$B$24),AND(AT13>=$B$25,AT13<=$B$26)),"E",""))) -> E | AW13: =IF(AT13="","",IF(WEEKDAY(AT13,2)>=6,"",IF(AU13="F",IF(OR(AND(AT13>=$B$11,AT13<=$B$12),AND(AT13>=$B$13,AT13<=$B$14),AND(AT13>=$B$15,AT13<=$B$16),AND(AT13>=$B$17,AT13<=$B$18),AND(AT13>=$B$19,AT13<=$B$20),AND(AT13>=$B$21,AT13<=$B$22),AND(AT13>=$B$23,AT13<=$B$24),AND(AT13>=$B$25,AT13<=$B$26)),"","P"),""))) | AX13: =IF(AT13="","",IF(OR(AND(AT13>=ANNEXE!$E$4,AT13<=ANNEXE!$F$4),AND(AT13>=ANNEXE!$E$5,AT13<=ANNEXE!$F$5),AND(AT13>=ANNEXE!$E$6,AT13<=ANNEXE!$F$6),AND(AT13>=ANNEXE!$E$7,AT13<=ANNEXE!$F$7),AND(AT13>=ANNEXE!$E$8,AT13<=ANNEXE!$F$8),AND(AT13>=ANNEXE!$E$9,AT13<=ANNEXE!$F$9),COUNTIF(ANNEXE!$A$4:$C$18,AT13)>=1),"C","")) | AY13: =IF(AT13="","",IF(WEEKDAY(AT13,2)>5,"",IF(WEEKDAY(AT13,2)=5,$B$39,IF(WEEKDAY(AT13,2)=4,$B$38,IF(WEEKDAY(AT13,2)=3,$B$37,IF(WEEKDAY(AT13,2)=2,$B$36,IF(WEEKDAY(AT13,2)=1,$B$35,"0"))))))) -> 8 | AZ13: =AZ12+1 -> 45906 | BA13: =IF(AZ13="","",IF(WEEKDAY(AZ13,2)>=6,"",IF(AND(AZ13>=$B$9,AZ13<=$B$10),"F",""))) | BB13: =IF(AZ13="","",IF(WEEKDAY(AZ13,2)>=6,"",IF(OR(AND(AZ13>=$B$11,AZ13<=$B$12),AND(AZ13>=$B$13,AZ13<=$B$14),AND(AZ13>=$B$15,AZ13<=$B$16),AND(AZ13>=$B$17,AZ13<=$B$18),AND(AZ13>=$B$19,AZ13<=$B$20),AND(AZ13>=$B$21,AZ13<=$B$22),AND(AZ13>=$B$23,AZ13<=$B$24),AND(AZ13>=$B$25,AZ13<=$B$26)),"E",""))) | BC13: =IF(AZ13="","",IF(WEEKDAY(AZ13,2)>=6,"",IF(BA13="F",IF(OR(AND(AZ13>=$B$11,AZ13<=$B$12),AND(AZ13>=$B$13,AZ13<=$B$14),AND(AZ13>=$B$15,AZ13<=$B$16),AND(AZ13>=$B$17,AZ13<=$B$18),AND(AZ13>=$B$19,AZ13<=$B$20),AND(AZ13>=$B$21,AZ13<=$B$22),AND(AZ13>=$B$23,AZ13<=$B$24),AND(AZ13>=$B$25,AZ13<=$B$26)),"","P"),""))) | BD13: =IF(AZ13="","",IF(OR(AND(AZ13>=ANNEXE!$E$4,AZ13<=ANNEXE!$F$4),AND(AZ13>=ANNEXE!$E$5,AZ13<=ANNEXE!$F$5),AND(AZ13>=ANNEXE!$E$6,AZ13<=ANNEXE!$F$6),AND(AZ13>=ANNEXE!$E$7,AZ13<=ANNEXE!$F$7),AND(AZ13>=ANNEXE!$E$8,AZ13<=ANNEXE!$F$8),AND(AZ13>=ANNEXE!$E$9,AZ13<=ANNEXE!$F$9),COUNTIF(ANNEXE!$A$4:$C$18,AZ13)>=1),"C","")) | BE13: =IF(AZ13="","",IF(WEEKDAY(AZ13,2)>5,"",IF(WEEKDAY(AZ13,2)=5,$B$39,IF(WEEKDAY(AZ13,2)=4,$B$38,IF(WEEKDAY(AZ13,2)=3,$B$37,IF(WEEKDAY(AZ13,2)=2,$B$36,IF(WEEKDAY(AZ13,2)=1,$B$35,"0"))))))) | BF13: =BF12+1 -> 45936 | BG13: =IF(BF13="","",IF(WEEKDAY(BF13,2)>=6,"",IF(AND(BF13>=$B$9,BF13<=$B$10),"F",""))) -> F | BH13: =IF(BF13="","",IF(WEEKDAY(BF13,2)>=6,"",IF(OR(AND(BF13>=$B$11,BF13<=$B$12),AND(BF13>=$B$13,BF13<=$B$14),AND(BF13>=$B$15,BF13<=$B$16),AND(BF13>=$B$17,BF13<=$B$18),AND(BF13>=$B$19,BF13<=$B$20),AND(BF13>=$B$21,BF13<=$B$22),AND(BF13>=$B$23,BF13<=$B$24),AND(BF13>=$B$25,BF13<=$B$26)),"E",""))) | BI13: =IF(BF13="","",IF(WEEKDAY(BF13,2)>=6,"",IF(BG13="F",IF(OR(AND(BF13>=$B$11,BF13<=$B$12),AND(BF13>=$B$13,BF13<=$B$14),AND(BF13>=$B$15,BF13<=$B$16),AND(BF13>=$B$17,BF13<=$B$18),AND(BF13>=$B$19,BF13<=$B$20),AND(BF13>=$B$21,BF13<=$B$22),AND(BF13>=$B$23,BF13<=$B$24),AND(BF13>=$B$25,BF13<=$B$26)),"","P"),""))) -> P | BJ13: =IF(BF13="","",IF(OR(AND(BF13>=ANNEXE!$E$4,BF13<=ANNEXE!$F$4),AND(BF13>=ANNEXE!$E$5,BF13<=ANNEXE!$F$5),AND(BF13>=ANNEXE!$E$6,BF13<=ANNEXE!$F$6),AND(BF13>=ANNEXE!$E$7,BF13<=ANNEXE!$F$7),AND(BF13>=ANNEXE!$E$8,BF13<=ANNEXE!$F$8),AND(BF13>=ANNEXE!$E$9,BF13<=ANNEXE!$F$9),COUNTIF(ANNEXE!$A$4:$C$18,BF13)>=1),"C","")) | BK13: =IF(BF13="","",IF(WEEKDAY(BF13,2)>5,"",IF(WEEKDAY(BF13,2)=5,$B$39,IF(WEEKDAY(BF13,2)=4,$B$38,IF(WEEKDAY(BF13,2)=3,$B$37,IF(WEEKDAY(BF13,2)=2,$B$36,IF(WEEKDAY(BF13,2)=1,$B$35,"0"))))))) -> 7.5 | BL13: =BL12+1 -> 45967 | BM13: =IF(BL13="","",IF(WEEKDAY(BL13,2)>=6,"",IF(AND(BL13>=$B$9,BL13<=$B$10),"F",""))) -> F | BN13: =IF(BL13="","",IF(WEEKDAY(BL13,2)>=6,"",IF(OR(AND(BL13>=$B$11,BL13<=$B$12),AND(BL13>=$B$13,BL13<=$B$14),AND(BL13>=$B$15,BL13<=$B$16),AND(BL13>=$B$17,BL13<=$B$18),AND(BL13>=$B$19,BL13<=$B$20),AND(BL13>=$B$21,BL13<=$B$22),AND(BL13>=$B$23,BL13<=$B$24),AND(BL13>=$B$25,BL13<=$B$26)),"E",""))) | BO13: =IF(BL13="","",IF(WEEKDAY(BL13,2)>=6,"",IF(BM13="F",IF(OR(AND(BL13>=$B$11,BL13<=$B$12),AND(BL13>=$B$13,BL13<=$B$14),AND(BL13>=$B$15,BL13<=$B$16),AND(BL13>=$B$17,BL13<=$B$18),AND(BL13>=$B$19,BL13<=$B$20),AND(BL13>=$B$21,BL13<=$B$22),AND(BL13>=$B$23,BL13<=$B$24),AND(BL13>=$B$25,BL13<=$B$26)),"","P"),""))) -> P | BP13: =IF(BL13="","",IF(OR(AND(BL13>=ANNEXE!$E$4,BL13<=ANNEXE!$F$4),AND(BL13>=ANNEXE!$E$5,BL13<=ANNEXE!$F$5),AND(BL13>=ANNEXE!$E$6,BL13<=ANNEXE!$F$6),AND(BL13>=ANNEXE!$E$7,BL13<=ANNEXE!$F$7),AND(BL13>=ANNEXE!$E$8,BL13<=ANNEXE!$F$8),AND(BL13>=ANNEXE!$E$9,BL13<=ANNEXE!$F$9),COUNTIF(ANNEXE!$A$4:$C$18,BL13)>=1),"C","")) | BQ13: =IF(BL13="","",IF(WEEKDAY(BL13,2)>5,"",IF(WEEKDAY(BL13,2)=5,$B$39,IF(WEEKDAY(BL13,2)=4,$B$38,IF(WEEKDAY(BL13,2)=3,$B$37,IF(WEEKDAY(BL13,2)=2,$B$36,IF(WEEKDAY(BL13,2)=1,$B$35,"0"))))))) -> 8 | BR13: =BR12+1 -> 45997 | BS13: =IF(BR13="","",IF(WEEKDAY(BR13,2)>=6,"",IF(AND(BR13>=$B$9,BR13<=$B$10),"F",""))) | BT13: =IF(BR13="","",IF(WEEKDAY(BR13,2)>=6,"",IF(OR(AND(BR13>=$B$11,BR13<=$B$12),AND(BR13>=$B$13,BR13<=$B$14),AND(BR13>=$B$15,BR13<=$B$16),AND(BR13>=$B$17,BR13<=$B$18),AND(BR13>=$B$19,BR13<=$B$20),AND(BR13>=$B$21,BR13<=$B$22),AND(BR13>=$B$23,BR13<=$B$24),AND(BR13>=$B$25,BR13<=$B$26)),"E",""))) | BU13: =IF(BR13="","",IF(WEEKDAY(BR13,2)>=6,"",IF(BS13="F",IF(OR(AND(BR13>=$B$11,BR13<=$B$12),AND(BR13>=$B$13,BR13<=$B$14),AND(BR13>=$B$15,BR13<=$B$16),AND(BR13>=$B$17,BR13<=$B$18),AND(BR13>=$B$19,BR13<=$B$20),AND(BR13>=$B$21,BR13<=$B$22),AND(BR13>=$B$23,BR13<=$B$24),AND(BR13>=$B$25,BR13<=$B$26)),"","P"),""))) | BV13: =IF(BR13="","",IF(OR(AND(BR13>=ANNEXE!$E$4,BR13<=ANNEXE!$F$4),AND(BR13>=ANNEXE!$E$5,BR13<=ANNEXE!$F$5),AND(BR13>=ANNEXE!$E$6,BR13<=ANNEXE!$F$6),AND(BR13>=ANNEXE!$E$7,BR13<=ANNEXE!$F$7),AND(BR13>=ANNEXE!$E$8,BR13<=ANNEXE!$F$8),AND(BR13>=ANNEXE!$E$9,BR13<=ANNEXE!$F$9),COUNTIF(ANNEXE!$A$4:$C$18,BR13)>=1),"C","")) | BW13: =IF(BR13="","",IF(WEEKDAY(BR13,2)>5,"",IF(WEEKDAY(BR13,2)=5,$B$39,IF(WEEKDAY(BR13,2)=4,$B$38,IF(WEEKDAY(BR13,2)=3,$B$37,IF(WEEKDAY(BR13,2)=2,$B$36,IF(WEEKDAY(BR13,2)=1,$B$35,"0")))))))
A14: SORTIE PAE 2 | B14: =IF(INDEX(Programmation!$A$13:$AB$62,MATCH($A$7,Programmation!$A$13:$A$62,0),7)="","",INDEX(Programmation!$A$13:$AB$62,MATCH($A$7,Programmation!$A$13:$A$62,0),8)) -> 45898 | D14: =D13+1 -> 45664 | E14: =IF(D14="","",IF(WEEKDAY(D14,2)>=6,"",IF(AND(D14>=$B$9,D14<=$B$10),"F",""))) | F14: =IF(D14="","",IF(WEEKDAY(D14,2)>=6,"",IF(OR(AND(D14>=$B$11,D14<=$B$12),AND(D14>=$B$13,D14<=$B$14),AND(D14>=$B$15,D14<=$B$16),AND(D14>=$B$17,D14<=$B$18),AND(D14>=$B$19,D14<=$B$20),AND(D14>=$B$21,D14<=$B$22),AND(D14>=$B$23,D14<=$B$24),AND(D14>=$B$25,D14<=$B$26),AND(D14>=$B$27,D14<=$B$28),AND(D14>=$B$29,D14<=$B$30),AND(D14>=$B$31,D14<=$B$32),AND(D14>=$B$33,D14<=$B$34)),"E",""))) | G14: =IF(D14="","",IF(WEEKDAY(D14,2)>=6,"",IF(E14="F",IF(OR(AND(D14>=$B$11,D14<=$B$12),AND(D14>=$B$13,D14<=$B$14),AND(D14>=$B$15,D14<=$B$16),AND(D14>=$B$17,D14<=$B$18),AND(D14>=$B$19,D14<=$B$20),AND(D14>=$B$21,D14<=$B$22),AND(D14>=$B$23,D14<=$B$24),AND(D14>=$B$25,D14<=$B$26),AND(D14>=$B$27,D14<=$B$28),AND(D14>=$B$29,D14<=$B$30),AND(D14>=$B$31,D14<=$B$32),AND(D14>=$B$33,D14<=$B$34)),"","P"),""))) | H14: =IF(D14="","",IF(OR(AND(D14>=ANNEXE!$E$4,D14<=ANNEXE!$F$4),AND(D14>=ANNEXE!$E$5,D14<=ANNEXE!$F$5),AND(D14>=ANNEXE!$E$6,D14<=ANNEXE!$F$6),AND(D14>=ANNEXE!$E$7,D14<=ANNEXE!$F$7),AND(D14>=ANNEXE!$E$8,D14<=ANNEXE!$F$8),AND(D14>=ANNEXE!$E$9,D14<=ANNEXE!$F$9),COUNTIF(ANNEXE!$A$4:$C$18,D14)>=1),"C","")) | I14: =IF(D14="","",IF(WEEKDAY(D14,2)>5,"",IF(WEEKDAY(D14,2)=5,$B$39,IF(WEEKDAY(D14,2)=4,$B$38,IF(WEEKDAY(D14,2)=3,$B$37,IF(WEEKDAY(D14,2)=2,$B$36,IF(WEEKDAY(D14,2)=1,$B$35,"0"))))))) -> 8 | J14: =J13+1 -> 45695 | K14: =IF(J14="","",IF(WEEKDAY(J14,2)>=6,"",IF(AND(J14>=$B$9,J14<=$B$10),"F",""))) | L14: =IF(J14="","",IF(WEEKDAY(J14,2)>=6,"",IF(OR(AND(J14>=$B$11,J14<=$B$12),AND(J14>=$B$13,J14<=$B$14),AND(J14>=$B$15,J14<=$B$16),AND(J14>=$B$17,J14<=$B$18),AND(J14>=$B$19,J14<=$B$20),AND(J14>=$B$21,J14<=$B$22),AND(J14>=$B$23,J14<=$B$24),AND(J14>=$B$25,J14<=$B$26)),"E",""))) | M14: =IF(J14="","",IF(WEEKDAY(J14,2)>=6,"",IF(K14="F",IF(OR(AND(J14>=$B$11,J14<=$B$12),AND(J14>=$B$13,J14<=$B$14),AND(J14>=$B$15,J14<=$B$16),AND(J14>=$B$17,J14<=$B$18),AND(J14>=$B$19,J14<=$B$20),AND(J14>=$B$21,J14<=$B$22),AND(J14>=$B$23,J14<=$B$24),AND(J14>=$B$25,J14<=$B$26)),"","P"),""))) | N14: =IF(J14="","",IF(OR(AND(J14>=ANNEXE!$E$4,J14<=ANNEXE!$F$4),AND(J14>=ANNEXE!$E$5,J14<=ANNEXE!$F$5),AND(J14>=ANNEXE!$E$6,J14<=ANNEXE!$F$6),AND(J14>=ANNEXE!$E$7,J14<=ANNEXE!$F$7),AND(J14>=ANNEXE!$E$8,J14<=ANNEXE!$F$8),AND(J14>=ANNEXE!$E$9,J14<=ANNEXE!$F$9),COUNTIF(ANNEXE!$A$4:$C$18,J14)>=1),"C","")) | O14: =IF(J14="","",IF(WEEKDAY(J14,2)>5,"",IF(WEEKDAY(J14,2)=5,$B$39,IF(WEEKDAY(J14,2)=4,$B$38,IF(WEEKDAY(J14,2)=3,$B$37,IF(WEEKDAY(J14,2)=2,$B$36,IF(WEEKDAY(J14,2)=1,$B$35,"0"))))))) -> 3.5 | P14: =P13+1 -> 45723 | Q14: =IF(P14="","",IF(WEEKDAY(P14,2)>=6,"",IF(AND(P14>=$B$9,P14<=$B$10),"F",""))) -> F | R14: =IF(P14="","",IF(WEEKDAY(P14,2)>=6,"",IF(OR(AND(P14>=$B$11,P14<=$B$12),AND(P14>=$B$13,P14<=$B$14),AND(P14>=$B$15,P14<=$B$16),AND(P14>=$B$17,P14<=$B$18),AND(P14>=$B$19,P14<=$B$20),AND(P14>=$B$21,P14<=$B$22),AND(P14>=$B$23,P14<=$B$24),AND(P14>=$B$25,P14<=$B$26)),"E",""))) | S14: =IF(P14="","",IF(WEEKDAY(P14,2)>=6,"",IF(Q14="F",IF(OR(AND(P14>=$B$11,P14<=$B$12),AND(P14>=$B$13,P14<=$B$14),AND(P14>=$B$15,P14<=$B$16),AND(P14>=$B$17,P14<=$B$18),AND(P14>=$B$19,P14<=$B$20),AND(P14>=$B$21,P14<=$B$22),AND(P14>=$B$23,P14<=$B$24),AND(P14>=$B$25,P14<=$B$26)),"","P"),""))) -> P | T14: =IF(P14="","",IF(OR(AND(P14>=ANNEXE!$E$4,P14<=ANNEXE!$F$4),AND(P14>=ANNEXE!$E$5,P14<=ANNEXE!$F$5),AND(P14>=ANNEXE!$E$6,P14<=ANNEXE!$F$6),AND(P14>=ANNEXE!$E$7,P14<=ANNEXE!$F$7),AND(P14>=ANNEXE!$E$8,P14<=ANNEXE!$F$8),AND(P14>=ANNEXE!$E$9,P14<=ANNEXE!$F$9),COUNTIF(ANNEXE!$A$4:$C$18,P14)>=1),"C","")) | U14: =IF(P14="","",IF(WEEKDAY(P14,2)>5,"",IF(WEEKDAY(P14,2)=5,$B$39,IF(WEEKDAY(P14,2)=4,$B$38,IF(WEEKDAY(P14,2)=3,$B$37,IF(WEEKDAY(P14,2)=2,$B$36,IF(WEEKDAY(P14,2)=1,$B$35,"0"))))))) -> 3.5 | V14: =V13+1 -> 45754 | W14: =IF(V14="","",IF(WEEKDAY(V14,2)>=6,"",IF(AND(V14>=$B$9,V14<=$B$10),"F",""))) -> F | X14: =IF(V14="","",IF(WEEKDAY(V14,2)>=6,"",IF(OR(AND(V14>=$B$11,V14<=$B$12),AND(V14>=$B$13,V14<=$B$14),AND(V14>=$B$15,V14<=$B$16),AND(V14>=$B$17,V14<=$B$18),AND(V14>=$B$19,V14<=$B$20),AND(V14>=$B$21,V14<=$B$22),AND(V14>=$B$23,V14<=$B$24),AND(V14>=$B$25,V14<=$B$26)),"E",""))) | Y14: =IF(V14="","",IF(WEEKDAY(V14,2)>=6,"",IF(W14="F",IF(OR(AND(V14>=$B$11,V14<=$B$12),AND(V14>=$B$13,V14<=$B$14),AND(V14>=$B$15,V14<=$B$16),AND(V14>=$B$17,V14<=$B$18),AND(V14>=$B$19,V14<=$B$20),AND(V14>=$B$21,V14<=$B$22),AND(V14>=$B$23,V14<=$B$24),AND(V14>=$B$25,V14<=$B$26)),"","P"),""))) -> P | Z14: =IF(V14="","",IF(OR(AND(V14>=ANNEXE!$E$4,V14<=ANNEXE!$F$4),AND(V14>=ANNEXE!$E$5,V14<=ANNEXE!$F$5),AND(V14>=ANNEXE!$E$6,V14<=ANNEXE!$F$6),AND(V14>=ANNEXE!$E$7,V14<=ANNEXE!$F$7),AND(V14>=ANNEXE!$E$8,V14<=ANNEXE!$F$8),AND(V14>=ANNEXE!$E$9,V14<=ANNEXE!$F$9),COUNTIF(ANNEXE!$A$4:$C$18,V14)>=1),"C","")) | AA14: =IF(V14="","",IF(WEEKDAY(V14,2)>5,"",IF(WEEKDAY(V14,2)=5,$B$39,IF(WEEKDAY(V14,2)=4,$B$38,IF(WEEKDAY(V14,2)=3,$B$37,IF(WEEKDAY(V14,2)=2,$B$36,IF(WEEKDAY(V14,2)=1,$B$35,"0"))))))) -> 7.5 | AB14: =AB13+1 -> 45784 | AC14: =IF(AB14="","",IF(WEEKDAY(AB14,2)>=6,"",IF(AND(AB14>=$B$9,AB14<=$B$10),"F",""))) -> F | AD14: =IF(AB14="","",IF(WEEKDAY(AB14,2)>=6,"",IF(OR(AND(AB14>=$B$11,AB14<=$B$12),AND(AB14>=$B$13,AB14<=$B$14),AND(AB14>=$B$15,AB14<=$B$16),AND(AB14>=$B$17,AB14<=$B$18),AND(AB14>=$B$19,AB14<=$B$20),AND(AB14>=$B$21,AB14<=$B$22),AND(AB14>=$B$23,AB14<=$B$24),AND(AB14>=$B$25,AB14<=$B$26)),"E",""))) | AE14: =IF(AB14="","",IF(WEEKDAY(AB14,2)>=6,"",IF(AC14="F",IF(OR(AND(AB14>=$B$11,AB14<=$B$12),AND(AB14>=$B$13,AB14<=$B$14),AND(AB14>=$B$15,AB14<=$B$16),AND(AB14>=$B$17,AB14<=$B$18),AND(AB14>=$B$19,AB14<=$B$20),AND(AB14>=$B$21,AB14<=$B$22),AND(AB14>=$B$23,AB14<=$B$24),AND(AB14>=$B$25,AB14<=$B$26)),"","P"),""))) -> P | AF14: =IF(AB14="","",IF(OR(AND(AB14>=ANNEXE!$E$4,AB14<=ANNEXE!$F$4),AND(AB14>=ANNEXE!$E$5,AB14<=ANNEXE!$F$5),AND(AB14>=ANNEXE!$E$6,AB14<=ANNEXE!$F$6),AND(AB14>=ANNEXE!$E$7,AB14<=ANNEXE!$F$7),AND(AB14>=ANNEXE!$E$8,AB14<=ANNEXE!$F$8),AND(AB14>=ANNEXE!$E$9,AB14<=ANNEXE!$F$9),COUNTIF(ANNEXE!$A$4:$C$18,AB14)>=1),"C","")) | AG14: =IF(AB14="","",IF(WEEKDAY(AB14,2)>5,"",IF(WEEKDAY(AB14,2)=5,$B$39,IF(WEEKDAY(AB14,2)=4,$B$38,IF(WEEKDAY(AB14,2)=3,$B$37,IF(WEEKDAY(AB14,2)=2,$B$36,IF(WEEKDAY(AB14,2)=1,$B$35,"0"))))))) -> 8 | AH14: =AH13+1 -> 45815 | AI14: =IF(AH14="","",IF(WEEKDAY(AH14,2)>=6,"",IF(AND(AH14>=$B$9,AH14<=$B$10),"F",""))) | AJ14: =IF(AH14="","",IF(WEEKDAY(AH14,2)>=6,"",IF(OR(AND(AH14>=$B$11,AH14<=$B$12),AND(AH14>=$B$13,AH14<=$B$14),AND(AH14>=$B$15,AH14<=$B$16),AND(AH14>=$B$17,AH14<=$B$18),AND(AH14>=$B$19,AH14<=$B$20),AND(AH14>=$B$21,AH14<=$B$22),AND(AH14>=$B$23,AH14<=$B$24),AND(AH14>=$B$25,AH14<=$B$26)),"E",""))) | AK14: =IF(AH14="","",IF(WEEKDAY(AH14,2)>=6,"",IF(AI14="F",IF(OR(AND(AH14>=$B$11,AH14<=$B$12),AND(AH14>=$B$13,AH14<=$B$14),AND(AH14>=$B$15,AH14<=$B$16),AND(AH14>=$B$17,AH14<=$B$18),AND(AH14>=$B$19,AH14<=$B$20),AND(AH14>=$B$21,AH14<=$B$22),AND(AH14>=$B$23,AH14<=$B$24),AND(AH14>=$B$25,AH14<=$B$26)),"","P"),""))) | AL14: =IF(AH14="","",IF(OR(AND(AH14>=ANNEXE!$E$4,AH14<=ANNEXE!$F$4),AND(AH14>=ANNEXE!$E$5,AH14<=ANNEXE!$F$5),AND(AH14>=ANNEXE!$E$6,AH14<=ANNEXE!$F$6),AND(AH14>=ANNEXE!$E$7,AH14<=ANNEXE!$F$7),AND(AH14>=ANNEXE!$E$8,AH14<=ANNEXE!$F$8),AND(AH14>=ANNEXE!$E$9,AH14<=ANNEXE!$F$9),COUNTIF(ANNEXE!$A$4:$C$18,AH14)>=1),"C","")) | AM14: =IF(AH14="","",IF(WEEKDAY(AH14,2)>5,"",IF(WEEKDAY(AH14,2)=5,$B$39,IF(WEEKDAY(AH14,2)=4,$B$38,IF(WEEKDAY(AH14,2)=3,$B$37,IF(WEEKDAY(AH14,2)=2,$B$36,IF(WEEKDAY(AH14,2)=1,$B$35,"0"))))))) | AN14: =AN13+1 -> 45845 | AO14: =IF(AN14="","",IF(WEEKDAY(AN14,2)>=6,"",IF(AND(AN14>=$B$9,AN14<=$B$10),"F",""))) -> F | AP14: =IF(AN14="","",IF(WEEKDAY(AN14,2)>=6,"",IF(OR(AND(AN14>=$B$11,AN14<=$B$12),AND(AN14>=$B$13,AN14<=$B$14),AND(AN14>=$B$15,AN14<=$B$16),AND(AN14>=$B$17,AN14<=$B$18),AND(AN14>=$B$19,AN14<=$B$20),AND(AN14>=$B$21,AN14<=$B$22),AND(AN14>=$B$23,AN14<=$B$24),AND(AN14>=$B$25,AN14<=$B$26)),"E",""))) | AQ14: =IF(AN14="","",IF(WEEKDAY(AN14,2)>=6,"",IF(AO14="F",IF(OR(AND(AN14>=$B$11,AN14<=$B$12),AND(AN14>=$B$13,AN14<=$B$14),AND(AN14>=$B$15,AN14<=$B$16),AND(AN14>=$B$17,AN14<=$B$18),AND(AN14>=$B$19,AN14<=$B$20),AND(AN14>=$B$21,AN14<=$B$22),AND(AN14>=$B$23,AN14<=$B$24),AND(AN14>=$B$25,AN14<=$B$26)),"","P"),""))) -> P | AR14: =IF(AN14="","",IF(OR(AND(AN14>=ANNEXE!$E$4,AN14<=ANNEXE!$F$4),AND(AN14>=ANNEXE!$E$5,AN14<=ANNEXE!$F$5),AND(AN14>=ANNEXE!$E$6,AN14<=ANNEXE!$F$6),AND(AN14>=ANNEXE!$E$7,AN14<=ANNEXE!$F$7),AND(AN14>=ANNEXE!$E$8,AN14<=ANNEXE!$F$8),AND(AN14>=ANNEXE!$E$9,AN14<=ANNEXE!$F$9),COUNTIF(ANNEXE!$A$4:$C$18,AN14)>=1),"C","")) | AS14: =IF(AN14="","",IF(WEEKDAY(AN14,2)>5,"",IF(WEEKDAY(AN14,2)=5,$B$39,IF(WEEKDAY(AN14,2)=4,$B$38,IF(WEEKDAY(AN14,2)=3,$B$37,IF(WEEKDAY(AN14,2)=2,$B$36,IF(WEEKDAY(AN14,2)=1,$B$35,"0"))))))) -> 7.5 | AT14: =AT13+1 -> 45876 | AU14: =IF(AT14="","",IF(WEEKDAY(AT14,2)>=6,"",IF(AND(AT14>=$B$9,AT14<=$B$10),"F",""))) -> F | AV14: =IF(AT14="","",IF(WEEKDAY(AT14,2)>=6,"",IF(OR(AND(AT14>=$B$11,AT14<=$B$12),AND(AT14>=$B$13,AT14<=$B$14),AND(AT14>=$B$15,AT14<=$B$16),AND(AT14>=$B$17,AT14<=$B$18),AND(AT14>=$B$19,AT14<=$B$20),AND(AT14>=$B$21,AT14<=$B$22),AND(AT14>=$B$23,AT14<=$B$24),AND(AT14>=$B$25,AT14<=$B$26)),"E",""))) -> E | AW14: =IF(AT14="","",IF(WEEKDAY(AT14,2)>=6,"",IF(AU14="F",IF(OR(AND(AT14>=$B$11,AT14<=$B$12),AND(AT14>=$B$13,AT14<=$B$14),AND(AT14>=$B$15,AT14<=$B$16),AND(AT14>=$B$17,AT14<=$B$18),AND(AT14>=$B$19,AT14<=$B$20),AND(AT14>=$B$21,AT14<=$B$22),AND(AT14>=$B$23,AT14<=$B$24),AND(AT14>=$B$25,AT14<=$B$26)),"","P"),""))) | AX14: =IF(AT14="","",IF(OR(AND(AT14>=ANNEXE!$E$4,AT14<=ANNEXE!$F$4),AND(AT14>=ANNEXE!$E$5,AT14<=ANNEXE!$F$5),AND(AT14>=ANNEXE!$E$6,AT14<=ANNEXE!$F$6),AND(AT14>=ANNEXE!$E$7,AT14<=ANNEXE!$F$7),AND(AT14>=ANNEXE!$E$8,AT14<=ANNEXE!$F$8),AND(AT14>=ANNEXE!$E$9,AT14<=ANNEXE!$F$9),COUNTIF(ANNEXE!$A$4:$C$18,AT14)>=1),"C","")) | AY14: =IF(AT14="","",IF(WEEKDAY(AT14,2)>5,"",IF(WEEKDAY(AT14,2)=5,$B$39,IF(WEEKDAY(AT14,2)=4,$B$38,IF(WEEKDAY(AT14,2)=3,$B$37,IF(WEEKDAY(AT14,2)=2,$B$36,IF(WEEKDAY(AT14,2)=1,$B$35,"0"))))))) -> 8 | AZ14: =AZ13+1 -> 45907 | BA14: =IF(AZ14="","",IF(WEEKDAY(AZ14,2)>=6,"",IF(AND(AZ14>=$B$9,AZ14<=$B$10),"F",""))) | BB14: =IF(AZ14="","",IF(WEEKDAY(AZ14,2)>=6,"",IF(OR(AND(AZ14>=$B$11,AZ14<=$B$12),AND(AZ14>=$B$13,AZ14<=$B$14),AND(AZ14>=$B$15,AZ14<=$B$16),AND(AZ14>=$B$17,AZ14<=$B$18),AND(AZ14>=$B$19,AZ14<=$B$20),AND(AZ14>=$B$21,AZ14<=$B$22),AND(AZ14>=$B$23,AZ14<=$B$24),AND(AZ14>=$B$25,AZ14<=$B$26)),"E",""))) | BC14: =IF(AZ14="","",IF(WEEKDAY(AZ14,2)>=6,"",IF(BA14="F",IF(OR(AND(AZ14>=$B$11,AZ14<=$B$12),AND(AZ14>=$B$13,AZ14<=$B$14),AND(AZ14>=$B$15,AZ14<=$B$16),AND(AZ14>=$B$17,AZ14<=$B$18),AND(AZ14>=$B$19,AZ14<=$B$20),AND(AZ14>=$B$21,AZ14<=$B$22),AND(AZ14>=$B$23,AZ14<=$B$24),AND(AZ14>=$B$25,AZ14<=$B$26)),"","P"),""))) | BD14: =IF(AZ14="","",IF(OR(AND(AZ14>=ANNEXE!$E$4,AZ14<=ANNEXE!$F$4),AND(AZ14>=ANNEXE!$E$5,AZ14<=ANNEXE!$F$5),AND(AZ14>=ANNEXE!$E$6,AZ14<=ANNEXE!$F$6),AND(AZ14>=ANNEXE!$E$7,AZ14<=ANNEXE!$F$7),AND(AZ14>=ANNEXE!$E$8,AZ14<=ANNEXE!$F$8),AND(AZ14>=ANNEXE!$E$9,AZ14<=ANNEXE!$F$9),COUNTIF(ANNEXE!$A$4:$C$18,AZ14)>=1),"C","")) | BE14: =IF(AZ14="","",IF(WEEKDAY(AZ14,2)>5,"",IF(WEEKDAY(AZ14,2)=5,$B$39,IF(WEEKDAY(AZ14,2)=4,$B$38,IF(WEEKDAY(AZ14,2)=3,$B$37,IF(WEEKDAY(AZ14,2)=2,$B$36,IF(WEEKDAY(AZ14,2)=1,$B$35,"0"))))))) | BF14: =BF13+1 -> 45937 | BG14: =IF(BF14="","",IF(WEEKDAY(BF14,2)>=6,"",IF(AND(BF14>=$B$9,BF14<=$B$10),"F",""))) -> F | BH14: =IF(BF14="","",IF(WEEKDAY(BF14,2)>=6,"",IF(OR(AND(BF14>=$B$11,BF14<=$B$12),AND(BF14>=$B$13,BF14<=$B$14),AND(BF14>=$B$15,BF14<=$B$16),AND(BF14>=$B$17,BF14<=$B$18),AND(BF14>=$B$19,BF14<=$B$20),AND(BF14>=$B$21,BF14<=$B$22),AND(BF14>=$B$23,BF14<=$B$24),AND(BF14>=$B$25,BF14<=$B$26)),"E",""))) | BI14: =IF(BF14="","",IF(WEEKDAY(BF14,2)>=6,"",IF(BG14="F",IF(OR(AND(BF14>=$B$11,BF14<=$B$12),AND(BF14>=$B$13,BF14<=$B$14),AND(BF14>=$B$15,BF14<=$B$16),AND(BF14>=$B$17,BF14<=$B$18),AND(BF14>=$B$19,BF14<=$B$20),AND(BF14>=$B$21,BF14<=$B$22),AND(BF14>=$B$23,BF14<=$B$24),AND(BF14>=$B$25,BF14<=$B$26)),"","P"),""))) -> P | BJ14: =IF(BF14="","",IF(OR(AND(BF14>=ANNEXE!$E$4,BF14<=ANNEXE!$F$4),AND(BF14>=ANNEXE!$E$5,BF14<=ANNEXE!$F$5),AND(BF14>=ANNEXE!$E$6,BF14<=ANNEXE!$F$6),AND(BF14>=ANNEXE!$E$7,BF14<=ANNEXE!$F$7),AND(BF14>=ANNEXE!$E$8,BF14<=ANNEXE!$F$8),AND(BF14>=ANNEXE!$E$9,BF14<=ANNEXE!$F$9),COUNTIF(ANNEXE!$A$4:$C$18,BF14)>=1),"C","")) | BK14: =IF(BF14="","",IF(WEEKDAY(BF14,2)>5,"",IF(WEEKDAY(BF14,2)=5,$B$39,IF(WEEKDAY(BF14,2)=4,$B$38,IF(WEEKDAY(BF14,2)=3,$B$37,IF(WEEKDAY(BF14,2)=2,$B$36,IF(WEEKDAY(BF14,2)=1,$B$35,"0"))))))) -> 8 | BL14: =BL13+1 -> 45968 | BM14: =IF(BL14="","",IF(WEEKDAY(BL14,2)>=6,"",IF(AND(BL14>=$B$9,BL14<=$B$10),"F",""))) -> F | BN14: =IF(BL14="","",IF(WEEKDAY(BL14,2)>=6,"",IF(OR(AND(BL14>=$B$11,BL14<=$B$12),AND(BL14>=$B$13,BL14<=$B$14),AND(BL14>=$B$15,BL14<=$B$16),AND(BL14>=$B$17,BL14<=$B$18),AND(BL14>=$B$19,BL14<=$B$20),AND(BL14>=$B$21,BL14<=$B$22),AND(BL14>=$B$23,BL14<=$B$24),AND(BL14>=$B$25,BL14<=$B$26)),"E",""))) | BO14: =IF(BL14="","",IF(WEEKDAY(BL14,2)>=6,"",IF(BM14="F",IF(OR(AND(BL14>=$B$11,BL14<=$B$12),AND(BL14>=$B$13,BL14<=$B$14),AND(BL14>=$B$15,BL14<=$B$16),AND(BL14>=$B$17,BL14<=$B$18),AND(BL14>=$B$19,BL14<=$B$20),AND(BL14>=$B$21,BL14<=$B$22),AND(BL14>=$B$23,BL14<=$B$24),AND(BL14>=$B$25,BL14<=$B$26)),"","P"),""))) -> P | BP14: =IF(BL14="","",IF(OR(AND(BL14>=ANNEXE!$E$4,BL14<=ANNEXE!$F$4),AND(BL14>=ANNEXE!$E$5,BL14<=ANNEXE!$F$5),AND(BL14>=ANNEXE!$E$6,BL14<=ANNEXE!$F$6),AND(BL14>=ANNEXE!$E$7,BL14<=ANNEXE!$F$7),AND(BL14>=ANNEXE!$E$8,BL14<=ANNEXE!$F$8),AND(BL14>=ANNEXE!$E$9,BL14<=ANNEXE!$F$9),COUNTIF(ANNEXE!$A$4:$C$18,BL14)>=1),"C","")) | BQ14: =IF(BL14="","",IF(WEEKDAY(BL14,2)>5,"",IF(WEEKDAY(BL14,2)=5,$B$39,IF(WEEKDAY(BL14,2)=4,$B$38,IF(WEEKDAY(BL14,2)=3,$B$37,IF(WEEKDAY(BL14,2)=2,$B$36,IF(WEEKDAY(BL14,2)=1,$B$35,"0"))))))) -> 3.5 | BR14: =BR13+1 -> 45998 | BS14: =IF(BR14="","",IF(WEEKDAY(BR14,2)>=6,"",IF(AND(BR14>=$B$9,BR14<=$B$10),"F",""))) | BT14: =IF(BR14="","",IF(WEEKDAY(BR14,2)>=6,"",IF(OR(AND(BR14>=$B$11,BR14<=$B$12),AND(BR14>=$B$13,BR14<=$B$14),AND(BR14>=$B$15,BR14<=$B$16),AND(BR14>=$B$17,BR14<=$B$18),AND(BR14>=$B$19,BR14<=$B$20),AND(BR14>=$B$21,BR14<=$B$22),AND(BR14>=$B$23,BR14<=$B$24),AND(BR14>=$B$25,BR14<=$B$26)),"E",""))) | BU14: =IF(BR14="","",IF(WEEKDAY(BR14,2)>=6,"",IF(BS14="F",IF(OR(AND(BR14>=$B$11,BR14<=$B$12),AND(BR14>=$B$13,BR14<=$B$14),AND(BR14>=$B$15,BR14<=$B$16),AND(BR14>=$B$17,BR14<=$B$18),AND(BR14>=$B$19,BR14<=$B$20),AND(BR14>=$B$21,BR14<=$B$22),AND(BR14>=$B$23,BR14<=$B$24),AND(BR14>=$B$25,BR14<=$B$26)),"","P"),""))) | BV14: =IF(BR14="","",IF(OR(AND(BR14>=ANNEXE!$E$4,BR14<=ANNEXE!$F$4),AND(BR14>=ANNEXE!$E$5,BR14<=ANNEXE!$F$5),AND(BR14>=ANNEXE!$E$6,BR14<=ANNEXE!$F$6),AND(BR14>=ANNEXE!$E$7,BR14<=ANNEXE!$F$7),AND(BR14>=ANNEXE!$E$8,BR14<=ANNEXE!$F$8),AND(BR14>=ANNEXE!$E$9,BR14<=ANNEXE!$F$9),COUNTIF(ANNEXE!$A$4:$C$18,BR14)>=1),"C","")) | BW14: =IF(BR14="","",IF(WEEKDAY(BR14,2)>5,"",IF(WEEKDAY(BR14,2)=5,$B$39,IF(WEEKDAY(BR14,2)=4,$B$38,IF(WEEKDAY(BR14,2)=3,$B$37,IF(WEEKDAY(BR14,2)=2,$B$36,IF(WEEKDAY(BR14,2)=1,$B$35,"0")))))))
A15: ENTREE PAE 3 | B15: =IF(INDEX(Programmation!$A$13:$AB$62,MATCH($A$7,Programmation!$A$13:$A$62,0),9)="","",INDEX(Programmation!$A$13:$AB$62,MATCH($A$7,Programmation!$A$13:$A$62,0),9)) | D15: =D14+1 -> 45665 | E15: =IF(D15="","",IF(WEEKDAY(D15,2)>=6,"",IF(AND(D15>=$B$9,D15<=$B$10),"F",""))) | F15: =IF(D15="","",IF(WEEKDAY(D15,2)>=6,"",IF(OR(AND(D15>=$B$11,D15<=$B$12),AND(D15>=$B$13,D15<=$B$14),AND(D15>=$B$15,D15<=$B$16),AND(D15>=$B$17,D15<=$B$18),AND(D15>=$B$19,D15<=$B$20),AND(D15>=$B$21,D15<=$B$22),AND(D15>=$B$23,D15<=$B$24),AND(D15>=$B$25,D15<=$B$26),AND(D15>=$B$27,D15<=$B$28),AND(D15>=$B$29,D15<=$B$30),AND(D15>=$B$31,D15<=$B$32),AND(D15>=$B$33,D15<=$B$34)),"E",""))) | G15: =IF(D15="","",IF(WEEKDAY(D15,2)>=6,"",IF(E15="F",IF(OR(AND(D15>=$B$11,D15<=$B$12),AND(D15>=$B$13,D15<=$B$14),AND(D15>=$B$15,D15<=$B$16),AND(D15>=$B$17,D15<=$B$18),AND(D15>=$B$19,D15<=$B$20),AND(D15>=$B$21,D15<=$B$22),AND(D15>=$B$23,D15<=$B$24),AND(D15>=$B$25,D15<=$B$26),AND(D15>=$B$27,D15<=$B$28),AND(D15>=$B$29,D15<=$B$30),AND(D15>=$B$31,D15<=$B$32),AND(D15>=$B$33,D15<=$B$34)),"","P"),""))) | H15: =IF(D15="","",IF(OR(AND(D15>=ANNEXE!$E$4,D15<=ANNEXE!$F$4),AND(D15>=ANNEXE!$E$5,D15<=ANNEXE!$F$5),AND(D15>=ANNEXE!$E$6,D15<=ANNEXE!$F$6),AND(D15>=ANNEXE!$E$7,D15<=ANNEXE!$F$7),AND(D15>=ANNEXE!$E$8,D15<=ANNEXE!$F$8),AND(D15>=ANNEXE!$E$9,D15<=ANNEXE!$F$9),COUNTIF(ANNEXE!$A$4:$C$18,D15)>=1),"C","")) | I15: =IF(D15="","",IF(WEEKDAY(D15,2)>5,"",IF(WEEKDAY(D15,2)=5,$B$39,IF(WEEKDAY(D15,2)=4,$B$38,IF(WEEKDAY(D15,2)=3,$B$37,IF(WEEKDAY(D15,2)=2,$B$36,IF(WEEKDAY(D15,2)=1,$B$35,"0"))))))) -> 8 | J15: =J14+1 -> 45696 | K15: =IF(J15="","",IF(WEEKDAY(J15,2)>=6,"",IF(AND(J15>=$B$9,J15<=$B$10),"F",""))) | L15: =IF(J15="","",IF(WEEKDAY(J15,2)>=6,"",IF(OR(AND(J15>=$B$11,J15<=$B$12),AND(J15>=$B$13,J15<=$B$14),AND(J15>=$B$15,J15<=$B$16),AND(J15>=$B$17,J15<=$B$18),AND(J15>=$B$19,J15<=$B$20),AND(J15>=$B$21,J15<=$B$22),AND(J15>=$B$23,J15<=$B$24),AND(J15>=$B$25,J15<=$B$26)),"E",""))) | M15: =IF(J15="","",IF(WEEKDAY(J15,2)>=6,"",IF(K15="F",IF(OR(AND(J15>=$B$11,J15<=$B$12),AND(J15>=$B$13,J15<=$B$14),AND(J15>=$B$15,J15<=$B$16),AND(J15>=$B$17,J15<=$B$18),AND(J15>=$B$19,J15<=$B$20),AND(J15>=$B$21,J15<=$B$22),AND(J15>=$B$23,J15<=$B$24),AND(J15>=$B$25,J15<=$B$26)),"","P"),""))) | N15: =IF(J15="","",IF(OR(AND(J15>=ANNEXE!$E$4,J15<=ANNEXE!$F$4),AND(J15>=ANNEXE!$E$5,J15<=ANNEXE!$F$5),AND(J15>=ANNEXE!$E$6,J15<=ANNEXE!$F$6),AND(J15>=ANNEXE!$E$7,J15<=ANNEXE!$F$7),AND(J15>=ANNEXE!$E$8,J15<=ANNEXE!$F$8),AND(J15>=ANNEXE!$E$9,J15<=ANNEXE!$F$9),COUNTIF(ANNEXE!$A$4:$C$18,J15)>=1),"C","")) | O15: =IF(J15="","",IF(WEEKDAY(J15,2)>5,"",IF(WEEKDAY(J15,2)=5,$B$39,IF(WEEKDAY(J15,2)=4,$B$38,IF(WEEKDAY(J15,2)=3,$B$37,IF(WEEKDAY(J15,2)=2,$B$36,IF(WEEKDAY(J15,2)=1,$B$35,"0"))))))) | P15: =P14+1 -> 45724 | Q15: =IF(P15="","",IF(WEEKDAY(P15,2)>=6,"",IF(AND(P15>=$B$9,P15<=$B$10),"F",""))) | R15: =IF(P15="","",IF(WEEKDAY(P15,2)>=6,"",IF(OR(AND(P15>=$B$11,P15<=$B$12),AND(P15>=$B$13,P15<=$B$14),AND(P15>=$B$15,P15<=$B$16),AND(P15>=$B$17,P15<=$B$18),AND(P15>=$B$19,P15<=$B$20),AND(P15>=$B$21,P15<=$B$22),AND(P15>=$B$23,P15<=$B$24),AND(P15>=$B$25,P15<=$B$26)),"E",""))) | S15: =IF(P15="","",IF(WEEKDAY(P15,2)>=6,"",IF(Q15="F",IF(OR(AND(P15>=$B$11,P15<=$B$12),AND(P15>=$B$13,P15<=$B$14),AND(P15>=$B$15,P15<=$B$16),AND(P15>=$B$17,P15<=$B$18),AND(P15>=$B$19,P15<=$B$20),AND(P15>=$B$21,P15<=$B$22),AND(P15>=$B$23,P15<=$B$24),AND(P15>=$B$25,P15<=$B$26)),"","P"),""))) | T15: =IF(P15="","",IF(OR(AND(P15>=ANNEXE!$E$4,P15<=ANNEXE!$F$4),AND(P15>=ANNEXE!$E$5,P15<=ANNEXE!$F$5),AND(P15>=ANNEXE!$E$6,P15<=ANNEXE!$F$6),AND(P15>=ANNEXE!$E$7,P15<=ANNEXE!$F$7),AND(P15>=ANNEXE!$E$8,P15<=ANNEXE!$F$8),AND(P15>=ANNEXE!$E$9,P15<=ANNEXE!$F$9),COUNTIF(ANNEXE!$A$4:$C$18,P15)>=1),"C","")) | U15: =IF(P15="","",IF(WEEKDAY(P15,2)>5,"",IF(WEEKDAY(P15,2)=5,$B$39,IF(WEEKDAY(P15,2)=4,$B$38,IF(WEEKDAY(P15,2)=3,$B$37,IF(WEEKDAY(P15,2)=2,$B$36,IF(WEEKDAY(P15,2)=1,$B$35,"0"))))))) | V15: =V14+1 -> 45755 | W15: =IF(V15="","",IF(WEEKDAY(V15,2)>=6,"",IF(AND(V15>=$B$9,V15<=$B$10),"F",""))) -> F | X15: =IF(V15="","",IF(WEEKDAY(V15,2)>=6,"",IF(OR(AND(V15>=$B$11,V15<=$B$12),AND(V15>=$B$13,V15<=$B$14),AND(V15>=$B$15,V15<=$B$16),AND(V15>=$B$17,V15<=$B$18),AND(V15>=$B$19,V15<=$B$20),AND(V15>=$B$21,V15<=$B$22),AND(V15>=$B$23,V15<=$B$24),AND(V15>=$B$25,V15<=$B$26)),"E",""))) | Y15: =IF(V15="","",IF(WEEKDAY(V15,2)>=6,"",IF(W15="F",IF(OR(AND(V15>=$B$11,V15<=$B$12),AND(V15>=$B$13,V15<=$B$14),AND(V15>=$B$15,V15<=$B$16),AND(V15>=$B$17,V15<=$B$18),AND(V15>=$B$19,V15<=$B$20),AND(V15>=$B$21,V15<=$B$22),AND(V15>=$B$23,V15<=$B$24),AND(V15>=$B$25,V15<=$B$26)),"","P"),""))) -> P | Z15: =IF(V15="","",IF(OR(AND(V15>=ANNEXE!$E$4,V15<=ANNEXE!$F$4),AND(V15>=ANNEXE!$E$5,V15<=ANNEXE!$F$5),AND(V15>=ANNEXE!$E$6,V15<=ANNEXE!$F$6),AND(V15>=ANNEXE!$E$7,V15<=ANNEXE!$F$7),AND(V15>=ANNEXE!$E$8,V15<=ANNEXE!$F$8),AND(V15>=ANNEXE!$E$9,V15<=ANNEXE!$F$9),COUNTIF(ANNEXE!$A$4:$C$18,V15)>=1),"C","")) | AA15: =IF(V15="","",IF(WEEKDAY(V15,2)>5,"",IF(WEEKDAY(V15,2)=5,$B$39,IF(WEEKDAY(V15,2)=4,$B$38,IF(WEEKDAY(V15,2)=3,$B$37,IF(WEEKDAY(V15,2)=2,$B$36,IF(WEEKDAY(V15,2)=1,$B$35,"0"))))))) -> 8 | AB15: =AB14+1 -> 45785 | AC15: =IF(AB15="","",IF(WEEKDAY(AB15,2)>=6,"",IF(AND(AB15>=$B$9,AB15<=$B$10),"F",""))) -> F | AD15: =IF(AB15="","",IF(WEEKDAY(AB15,2)>=6,"",IF(OR(AND(AB15>=$B$11,AB15<=$B$12),AND(AB15>=$B$13,AB15<=$B$14),AND(AB15>=$B$15,AB15<=$B$16),AND(AB15>=$B$17,AB15<=$B$18),AND(AB15>=$B$19,AB15<=$B$20),AND(AB15>=$B$21,AB15<=$B$22),AND(AB15>=$B$23,AB15<=$B$24),AND(AB15>=$B$25,AB15<=$B$26)),"E",""))) | AE15: =IF(AB15="","",IF(WEEKDAY(AB15,2)>=6,"",IF(AC15="F",IF(OR(AND(AB15>=$B$11,AB15<=$B$12),AND(AB15>=$B$13,AB15<=$B$14),AND(AB15>=$B$15,AB15<=$B$16),AND(AB15>=$B$17,AB15<=$B$18),AND(AB15>=$B$19,AB15<=$B$20),AND(AB15>=$B$21,AB15<=$B$22),AND(AB15>=$B$23,AB15<=$B$24),AND(AB15>=$B$25,AB15<=$B$26)),"","P"),""))) -> P | AF15: =IF(AB15="","",IF(OR(AND(AB15>=ANNEXE!$E$4,AB15<=ANNEXE!$F$4),AND(AB15>=ANNEXE!$E$5,AB15<=ANNEXE!$F$5),AND(AB15>=ANNEXE!$E$6,AB15<=ANNEXE!$F$6),AND(AB15>=ANNEXE!$E$7,AB15<=ANNEXE!$F$7),AND(AB15>=ANNEXE!$E$8,AB15<=ANNEXE!$F$8),AND(AB15>=ANNEXE!$E$9,AB15<=ANNEXE!$F$9),COUNTIF(ANNEXE!$A$4:$C$18,AB15)>=1),"C","")) -> C | AG15: =IF(AB15="","",IF(WEEKDAY(AB15,2)>5,"",IF(WEEKDAY(AB15,2)=5,$B$39,IF(WEEKDAY(AB15,2)=4,$B$38,IF(WEEKDAY(AB15,2)=3,$B$37,IF(WEEKDAY(AB15,2)=2,$B$36,IF(WEEKDAY(AB15,2)=1,$B$35,"0"))))))) -> 8 | AH15: =AH14+1 -> 45816 | AI15: =IF(AH15="","",IF(WEEKDAY(AH15,2)>=6,"",IF(AND(AH15>=$B$9,AH15<=$B$10),"F",""))) | AJ15: =IF(AH15="","",IF(WEEKDAY(AH15,2)>=6,"",IF(OR(AND(AH15>=$B$11,AH15<=$B$12),AND(AH15>=$B$13,AH15<=$B$14),AND(AH15>=$B$15,AH15<=$B$16),AND(AH15>=$B$17,AH15<=$B$18),AND(AH15>=$B$19,AH15<=$B$20),AND(AH15>=$B$21,AH15<=$B$22),AND(AH15>=$B$23,AH15<=$B$24),AND(AH15>=$B$25,AH15<=$B$26)),"E",""))) | AK15: =IF(AH15="","",IF(WEEKDAY(AH15,2)>=6,"",IF(AI15="F",IF(OR(AND(AH15>=$B$11,AH15<=$B$12),AND(AH15>=$B$13,AH15<=$B$14),AND(AH15>=$B$15,AH15<=$B$16),AND(AH15>=$B$17,AH15<=$B$18),AND(AH15>=$B$19,AH15<=$B$20),AND(AH15>=$B$21,AH15<=$B$22),AND(AH15>=$B$23,AH15<=$B$24),AND(AH15>=$B$25,AH15<=$B$26)),"","P"),""))) | AL15: =IF(AH15="","",IF(OR(AND(AH15>=ANNEXE!$E$4,AH15<=ANNEXE!$F$4),AND(AH15>=ANNEXE!$E$5,AH15<=ANNEXE!$F$5),AND(AH15>=ANNEXE!$E$6,AH15<=ANNEXE!$F$6),AND(AH15>=ANNEXE!$E$7,AH15<=ANNEXE!$F$7),AND(AH15>=ANNEXE!$E$8,AH15<=ANNEXE!$F$8),AND(AH15>=ANNEXE!$E$9,AH15<=ANNEXE!$F$9),COUNTIF(ANNEXE!$A$4:$C$18,AH15)>=1),"C","")) | AM15: =IF(AH15="","",IF(WEEKDAY(AH15,2)>5,"",IF(WEEKDAY(AH15,2)=5,$B$39,IF(WEEKDAY(AH15,2)=4,$B$38,IF(WEEKDAY(AH15,2)=3,$B$37,IF(WEEKDAY(AH15,2)=2,$B$36,IF(WEEKDAY(AH15,2)=1,$B$35,"0"))))))) | AN15: =AN14+1 -> 45846 | AO15: =IF(AN15="","",IF(WEEKDAY(AN15,2)>=6,"",IF(AND(AN15>=$B$9,AN15<=$B$10),"F",""))) -> F | AP15: =IF(AN15="","",IF(WEEKDAY(AN15,2)>=6,"",IF(OR(AND(AN15>=$B$11,AN15<=$B$12),AND(AN15>=$B$13,AN15<=$B$14),AND(AN15>=$B$15,AN15<=$B$16),AND(AN15>=$B$17,AN15<=$B$18),AND(AN15>=$B$19,AN15<=$B$20),AND(AN15>=$B$21,AN15<=$B$22),AND(AN15>=$B$23,AN15<=$B$24),AND(AN15>=$B$25,AN15<=$B$26)),"E",""))) | AQ15: =IF(AN15="","",IF(WEEKDAY(AN15,2)>=6,"",IF(AO15="F",IF(OR(AND(AN15>=$B$11,AN15<=$B$12),AND(AN15>=$B$13,AN15<=$B$14),AND(AN15>=$B$15,AN15<=$B$16),AND(AN15>=$B$17,AN15<=$B$18),AND(AN15>=$B$19,AN15<=$B$20),AND(AN15>=$B$21,AN15<=$B$22),AND(AN15>=$B$23,AN15<=$B$24),AND(AN15>=$B$25,AN15<=$B$26)),"","P"),""))) -> P | AR15: =IF(AN15="","",IF(OR(AND(AN15>=ANNEXE!$E$4,AN15<=ANNEXE!$F$4),AND(AN15>=ANNEXE!$E$5,AN15<=ANNEXE!$F$5),AND(AN15>=ANNEXE!$E$6,AN15<=ANNEXE!$F$6),AND(AN15>=ANNEXE!$E$7,AN15<=ANNEXE!$F$7),AND(AN15>=ANNEXE!$E$8,AN15<=ANNEXE!$F$8),AND(AN15>=ANNEXE!$E$9,AN15<=ANNEXE!$F$9),COUNTIF(ANNEXE!$A$4:$C$18,AN15)>=1),"C","")) | AS15: =IF(AN15="","",IF(WEEKDAY(AN15,2)>5,"",IF(WEEKDAY(AN15,2)=5,$B$39,IF(WEEKDAY(AN15,2)=4,$B$38,IF(WEEKDAY(AN15,2)=3,$B$37,IF(WEEKDAY(AN15,2)=2,$B$36,IF(WEEKDAY(AN15,2)=1,$B$35,"0"))))))) -> 8 | AT15: =AT14+1 -> 45877 | AU15: =IF(AT15="","",IF(WEEKDAY(AT15,2)>=6,"",IF(AND(AT15>=$B$9,AT15<=$B$10),"F",""))) -> F | AV15: =IF(AT15="","",IF(WEEKDAY(AT15,2)>=6,"",IF(OR(AND(AT15>=$B$11,AT15<=$B$12),AND(AT15>=$B$13,AT15<=$B$14),AND(AT15>=$B$15,AT15<=$B$16),AND(AT15>=$B$17,AT15<=$B$18),AND(AT15>=$B$19,AT15<=$B$20),AND(AT15>=$B$21,AT15<=$B$22),AND(AT15>=$B$23,AT15<=$B$24),AND(AT15>=$B$25,AT15<=$B$26)),"E",""))) -> E | AW15: =IF(AT15="","",IF(WEEKDAY(AT15,2)>=6,"",IF(AU15="F",IF(OR(AND(AT15>=$B$11,AT15<=$B$12),AND(AT15>=$B$13,AT15<=$B$14),AND(AT15>=$B$15,AT15<=$B$16),AND(AT15>=$B$17,AT15<=$B$18),AND(AT15>=$B$19,AT15<=$B$20),AND(AT15>=$B$21,AT15<=$B$22),AND(AT15>=$B$23,AT15<=$B$24),AND(AT15>=$B$25,AT15<=$B$26)),"","P"),""))) | AX15: =IF(AT15="","",IF(OR(AND(AT15>=ANNEXE!$E$4,AT15<=ANNEXE!$F$4),AND(AT15>=ANNEXE!$E$5,AT15<=ANNEXE!$F$5),AND(AT15>=ANNEXE!$E$6,AT15<=ANNEXE!$F$6),AND(AT15>=ANNEXE!$E$7,AT15<=ANNEXE!$F$7),AND(AT15>=ANNEXE!$E$8,AT15<=ANNEXE!$F$8),AND(AT15>=ANNEXE!$E$9,AT15<=ANNEXE!$F$9),COUNTIF(ANNEXE!$A$4:$C$18,AT15)>=1),"C","")) | AY15: =IF(AT15="","",IF(WEEKDAY(AT15,2)>5,"",IF(WEEKDAY(AT15,2)=5,$B$39,IF(WEEKDAY(AT15,2)=4,$B$38,IF(WEEKDAY(AT15,2)=3,$B$37,IF(WEEKDAY(AT15,2)=2,$B$36,IF(WEEKDAY(AT15,2)=1,$B$35,"0"))))))) -> 3.5 | AZ15: =AZ14+1 -> 45908 | BA15: =IF(AZ15="","",IF(WEEKDAY(AZ15,2)>=6,"",IF(AND(AZ15>=$B$9,AZ15<=$B$10),"F",""))) -> F | BB15: =IF(AZ15="","",IF(WEEKDAY(AZ15,2)>=6,"",IF(OR(AND(AZ15>=$B$11,AZ15<=$B$12),AND(AZ15>=$B$13,AZ15<=$B$14),AND(AZ15>=$B$15,AZ15<=$B$16),AND(AZ15>=$B$17,AZ15<=$B$18),AND(AZ15>=$B$19,AZ15<=$B$20),AND(AZ15>=$B$21,AZ15<=$B$22),AND(AZ15>=$B$23,AZ15<=$B$24),AND(AZ15>=$B$25,AZ15<=$B$26)),"E",""))) | BC15: =IF(AZ15="","",IF(WEEKDAY(AZ15,2)>=6,"",IF(BA15="F",IF(OR(AND(AZ15>=$B$11,AZ15<=$B$12),AND(AZ15>=$B$13,AZ15<=$B$14),AND(AZ15>=$B$15,AZ15<=$B$16),AND(AZ15>=$B$17,AZ15<=$B$18),AND(AZ15>=$B$19,AZ15<=$B$20),AND(AZ15>=$B$21,AZ15<=$B$22),AND(AZ15>=$B$23,AZ15<=$B$24),AND(AZ15>=$B$25,AZ15<=$B$26)),"","P"),""))) -> P | BD15: =IF(AZ15="","",IF(OR(AND(AZ15>=ANNEXE!$E$4,AZ15<=ANNEXE!$F$4),AND(AZ15>=ANNEXE!$E$5,AZ15<=ANNEXE!$F$5),AND(AZ15>=ANNEXE!$E$6,AZ15<=ANNEXE!$F$6),AND(AZ15>=ANNEXE!$E$7,AZ15<=ANNEXE!$F$7),AND(AZ15>=ANNEXE!$E$8,AZ15<=ANNEXE!$F$8),AND(AZ15>=ANNEXE!$E$9,AZ15<=ANNEXE!$F$9),COUNTIF(ANNEXE!$A$4:$C$18,AZ15)>=1),"C","")) | BE15: =IF(AZ15="","",IF(WEEKDAY(AZ15,2)>5,"",IF(WEEKDAY(AZ15,2)=5,$B$39,IF(WEEKDAY(AZ15,2)=4,$B$38,IF(WEEKDAY(AZ15,2)=3,$B$37,IF(WEEKDAY(AZ15,2)=2,$B$36,IF(WEEKDAY(AZ15,2)=1,$B$35,"0"))))))) -> 7.5 | BF15: =BF14+1 -> 45938 | BG15: =IF(BF15="","",IF(WEEKDAY(BF15,2)>=6,"",IF(AND(BF15>=$B$9,BF15<=$B$10),"F",""))) -> F | BH15: =IF(BF15="","",IF(WEEKDAY(BF15,2)>=6,"",IF(OR(AND(BF15>=$B$11,BF15<=$B$12),AND(BF15>=$B$13,BF15<=$B$14),AND(BF15>=$B$15,BF15<=$B$16),AND(BF15>=$B$17,BF15<=$B$18),AND(BF15>=$B$19,BF15<=$B$20),AND(BF15>=$B$21,BF15<=$B$22),AND(BF15>=$B$23,BF15<=$B$24),AND(BF15>=$B$25,BF15<=$B$26)),"E",""))) | BI15: =IF(BF15="","",IF(WEEKDAY(BF15,2)>=6,"",IF(BG15="F",IF(OR(AND(BF15>=$B$11,BF15<=$B$12),AND(BF15>=$B$13,BF15<=$B$14),AND(BF15>=$B$15,BF15<=$B$16),AND(BF15>=$B$17,BF15<=$B$18),AND(BF15>=$B$19,BF15<=$B$20),AND(BF15>=$B$21,BF15<=$B$22),AND(BF15>=$B$23,BF15<=$B$24),AND(BF15>=$B$25,BF15<=$B$26)),"","P"),""))) -> P | BJ15: =IF(BF15="","",IF(OR(AND(BF15>=ANNEXE!$E$4,BF15<=ANNEXE!$F$4),AND(BF15>=ANNEXE!$E$5,BF15<=ANNEXE!$F$5),AND(BF15>=ANNEXE!$E$6,BF15<=ANNEXE!$F$6),AND(BF15>=ANNEXE!$E$7,BF15<=ANNEXE!$F$7),AND(BF15>=ANNEXE!$E$8,BF15<=ANNEXE!$F$8),AND(BF15>=ANNEXE!$E$9,BF15<=ANNEXE!$F$9),COUNTIF(ANNEXE!$A$4:$C$18,BF15)>=1),"C","")) | BK15: =IF(BF15="","",IF(WEEKDAY(BF15,2)>5,"",IF(WEEKDAY(BF15,2)=5,$B$39,IF(WEEKDAY(BF15,2)=4,$B$38,IF(WEEKDAY(BF15,2)=3,$B$37,IF(WEEKDAY(BF15,2)=2,$B$36,IF(WEEKDAY(BF15,2)=1,$B$35,"0"))))))) -> 8 | BL15: =BL14+1 -> 45969 | BM15: =IF(BL15="","",IF(WEEKDAY(BL15,2)>=6,"",IF(AND(BL15>=$B$9,BL15<=$B$10),"F",""))) | BN15: =IF(BL15="","",IF(WEEKDAY(BL15,2)>=6,"",IF(OR(AND(BL15>=$B$11,BL15<=$B$12),AND(BL15>=$B$13,BL15<=$B$14),AND(BL15>=$B$15,BL15<=$B$16),AND(BL15>=$B$17,BL15<=$B$18),AND(BL15>=$B$19,BL15<=$B$20),AND(BL15>=$B$21,BL15<=$B$22),AND(BL15>=$B$23,BL15<=$B$24),AND(BL15>=$B$25,BL15<=$B$26)),"E",""))) | BO15: =IF(BL15="","",IF(WEEKDAY(BL15,2)>=6,"",IF(BM15="F",IF(OR(AND(BL15>=$B$11,BL15<=$B$12),AND(BL15>=$B$13,BL15<=$B$14),AND(BL15>=$B$15,BL15<=$B$16),AND(BL15>=$B$17,BL15<=$B$18),AND(BL15>=$B$19,BL15<=$B$20),AND(BL15>=$B$21,BL15<=$B$22),AND(BL15>=$B$23,BL15<=$B$24),AND(BL15>=$B$25,BL15<=$B$26)),"","P"),""))) | BP15: =IF(BL15="","",IF(OR(AND(BL15>=ANNEXE!$E$4,BL15<=ANNEXE!$F$4),AND(BL15>=ANNEXE!$E$5,BL15<=ANNEXE!$F$5),AND(BL15>=ANNEXE!$E$6,BL15<=ANNEXE!$F$6),AND(BL15>=ANNEXE!$E$7,BL15<=ANNEXE!$F$7),AND(BL15>=ANNEXE!$E$8,BL15<=ANNEXE!$F$8),AND(BL15>=ANNEXE!$E$9,BL15<=ANNEXE!$F$9),COUNTIF(ANNEXE!$A$4:$C$18,BL15)>=1),"C","")) | BQ15: =IF(BL15="","",IF(WEEKDAY(BL15,2)>5,"",IF(WEEKDAY(BL15,2)=5,$B$39,IF(WEEKDAY(BL15,2)=4,$B$38,IF(WEEKDAY(BL15,2)=3,$B$37,IF(WEEKDAY(BL15,2)=2,$B$36,IF(WEEKDAY(BL15,2)=1,$B$35,"0"))))))) | BR15: =BR14+1 -> 45999 | BS15: =IF(BR15="","",IF(WEEKDAY(BR15,2)>=6,"",IF(AND(BR15>=$B$9,BR15<=$B$10),"F",""))) | BT15: =IF(BR15="","",IF(WEEKDAY(BR15,2)>=6,"",IF(OR(AND(BR15>=$B$11,BR15<=$B$12),AND(BR15>=$B$13,BR15<=$B$14),AND(BR15>=$B$15,BR15<=$B$16),AND(BR15>=$B$17,BR15<=$B$18),AND(BR15>=$B$19,BR15<=$B$20),AND(BR15>=$B$21,BR15<=$B$22),AND(BR15>=$B$23,BR15<=$B$24),AND(BR15>=$B$25,BR15<=$B$26)),"E",""))) | BU15: =IF(BR15="","",IF(WEEKDAY(BR15,2)>=6,"",IF(BS15="F",IF(OR(AND(BR15>=$B$11,BR15<=$B$12),AND(BR15>=$B$13,BR15<=$B$14),AND(BR15>=$B$15,BR15<=$B$16),AND(BR15>=$B$17,BR15<=$B$18),AND(BR15>=$B$19,BR15<=$B$20),AND(BR15>=$B$21,BR15<=$B$22),AND(BR15>=$B$23,BR15<=$B$24),AND(BR15>=$B$25,BR15<=$B$26)),"","P"),""))) | BV15: =IF(BR15="","",IF(OR(AND(BR15>=ANNEXE!$E$4,BR15<=ANNEXE!$F$4),AND(BR15>=ANNEXE!$E$5,BR15<=ANNEXE!$F$5),AND(BR15>=ANNEXE!$E$6,BR15<=ANNEXE!$F$6),AND(BR15>=ANNEXE!$E$7,BR15<=ANNEXE!$F$7),AND(BR15>=ANNEXE!$E$8,BR15<=ANNEXE!$F$8),AND(BR15>=ANNEXE!$E$9,BR15<=ANNEXE!$F$9),COUNTIF(ANNEXE!$A$4:$C$18,BR15)>=1),"C","")) | BW15: =IF(BR15="","",IF(WEEKDAY(BR15,2)>5,"",IF(WEEKDAY(BR15,2)=5,$B$39,IF(WEEKDAY(BR15,2)=4,$B$38,IF(WEEKDAY(BR15,2)=3,$B$37,IF(WEEKDAY(BR15,2)=2,$B$36,IF(WEEKDAY(BR15,2)=1,$B$35,"0"))))))) -> 7.5
A16: SORTIE PAE 3 | B16: =IF(INDEX(Programmation!$A$13:$AB$62,MATCH($A$7,Programmation!$A$13:$A$62,0),9)="","",INDEX(Programmation!$A$13:$AB$62,MATCH($A$7,Programmation!$A$13:$A$62,0),10)) | D16: =D15+1 -> 45666 | E16: =IF(D16="","",IF(WEEKDAY(D16,2)>=6,"",IF(AND(D16>=$B$9,D16<=$B$10),"F",""))) | F16: =IF(D16="","",IF(WEEKDAY(D16,2)>=6,"",IF(OR(AND(D16>=$B$11,D16<=$B$12),AND(D16>=$B$13,D16<=$B$14),AND(D16>=$B$15,D16<=$B$16),AND(D16>=$B$17,D16<=$B$18),AND(D16>=$B$19,D16<=$B$20),AND(D16>=$B$21,D16<=$B$22),AND(D16>=$B$23,D16<=$B$24),AND(D16>=$B$25,D16<=$B$26),AND(D16>=$B$27,D16<=$B$28),AND(D16>=$B$29,D16<=$B$30),AND(D16>=$B$31,D16<=$B$32),AND(D16>=$B$33,D16<=$B$34)),"E",""))) | G16: =IF(D16="","",IF(WEEKDAY(D16,2)>=6,"",IF(E16="F",IF(OR(AND(D16>=$B$11,D16<=$B$12),AND(D16>=$B$13,D16<=$B$14),AND(D16>=$B$15,D16<=$B$16),AND(D16>=$B$17,D16<=$B$18),AND(D16>=$B$19,D16<=$B$20),AND(D16>=$B$21,D16<=$B$22),AND(D16>=$B$23,D16<=$B$24),AND(D16>=$B$25,D16<=$B$26),AND(D16>=$B$27,D16<=$B$28),AND(D16>=$B$29,D16<=$B$30),AND(D16>=$B$31,D16<=$B$32),AND(D16>=$B$33,D16<=$B$34)),"","P"),""))) | H16: =IF(D16="","",IF(OR(AND(D16>=ANNEXE!$E$4,D16<=ANNEXE!$F$4),AND(D16>=ANNEXE!$E$5,D16<=ANNEXE!$F$5),AND(D16>=ANNEXE!$E$6,D16<=ANNEXE!$F$6),AND(D16>=ANNEXE!$E$7,D16<=ANNEXE!$F$7),AND(D16>=ANNEXE!$E$8,D16<=ANNEXE!$F$8),AND(D16>=ANNEXE!$E$9,D16<=ANNEXE!$F$9),COUNTIF(ANNEXE!$A$4:$C$18,D16)>=1),"C","")) | I16: =IF(D16="","",IF(WEEKDAY(D16,2)>5,"",IF(WEEKDAY(D16,2)=5,$B$39,IF(WEEKDAY(D16,2)=4,$B$38,IF(WEEKDAY(D16,2)=3,$B$37,IF(WEEKDAY(D16,2)=2,$B$36,IF(WEEKDAY(D16,2)=1,$B$35,"0"))))))) -> 8 | J16: =J15+1 -> 45697 | K16: =IF(J16="","",IF(WEEKDAY(J16,2)>=6,"",IF(AND(J16>=$B$9,J16<=$B$10),"F",""))) | L16: =IF(J16="","",IF(WEEKDAY(J16,2)>=6,"",IF(OR(AND(J16>=$B$11,J16<=$B$12),AND(J16>=$B$13,J16<=$B$14),AND(J16>=$B$15,J16<=$B$16),AND(J16>=$B$17,J16<=$B$18),AND(J16>=$B$19,J16<=$B$20),AND(J16>=$B$21,J16<=$B$22),AND(J16>=$B$23,J16<=$B$24),AND(J16>=$B$25,J16<=$B$26)),"E",""))) | M16: =IF(J16="","",IF(WEEKDAY(J16,2)>=6,"",IF(K16="F",IF(OR(AND(J16>=$B$11,J16<=$B$12),AND(J16>=$B$13,J16<=$B$14),AND(J16>=$B$15,J16<=$B$16),AND(J16>=$B$17,J16<=$B$18),AND(J16>=$B$19,J16<=$B$20),AND(J16>=$B$21,J16<=$B$22),AND(J16>=$B$23,J16<=$B$24),AND(J16>=$B$25,J16<=$B$26)),"","P"),""))) | N16: =IF(J16="","",IF(OR(AND(J16>=ANNEXE!$E$4,J16<=ANNEXE!$F$4),AND(J16>=ANNEXE!$E$5,J16<=ANNEXE!$F$5),AND(J16>=ANNEXE!$E$6,J16<=ANNEXE!$F$6),AND(J16>=ANNEXE!$E$7,J16<=ANNEXE!$F$7),AND(J16>=ANNEXE!$E$8,J16<=ANNEXE!$F$8),AND(J16>=ANNEXE!$E$9,J16<=ANNEXE!$F$9),COUNTIF(ANNEXE!$A$4:$C$18,J16)>=1),"C","")) | O16: =IF(J16="","",IF(WEEKDAY(J16,2)>5,"",IF(WEEKDAY(J16,2)=5,$B$39,IF(WEEKDAY(J16,2)=4,$B$38,IF(WEEKDAY(J16,2)=3,$B$37,IF(WEEKDAY(J16,2)=2,$B$36,IF(WEEKDAY(J16,2)=1,$B$35,"0"))))))) | P16: =P15+1 -> 45725 | Q16: =IF(P16="","",IF(WEEKDAY(P16,2)>=6,"",IF(AND(P16>=$B$9,P16<=$B$10),"F",""))) | R16: =IF(P16="","",IF(WEEKDAY(P16,2)>=6,"",IF(OR(AND(P16>=$B$11,P16<=$B$12),AND(P16>=$B$13,P16<=$B$14),AND(P16>=$B$15,P16<=$B$16),AND(P16>=$B$17,P16<=$B$18),AND(P16>=$B$19,P16<=$B$20),AND(P16>=$B$21,P16<=$B$22),AND(P16>=$B$23,P16<=$B$24),AND(P16>=$B$25,P16<=$B$26)),"E",""))) | S16: =IF(P16="","",IF(WEEKDAY(P16,2)>=6,"",IF(Q16="F",IF(OR(AND(P16>=$B$11,P16<=$B$12),AND(P16>=$B$13,P16<=$B$14),AND(P16>=$B$15,P16<=$B$16),AND(P16>=$B$17,P16<=$B$18),AND(P16>=$B$19,P16<=$B$20),AND(P16>=$B$21,P16<=$B$22),AND(P16>=$B$23,P16<=$B$24),AND(P16>=$B$25,P16<=$B$26)),"","P"),""))) | T16: =IF(P16="","",IF(OR(AND(P16>=ANNEXE!$E$4,P16<=ANNEXE!$F$4),AND(P16>=ANNEXE!$E$5,P16<=ANNEXE!$F$5),AND(P16>=ANNEXE!$E$6,P16<=ANNEXE!$F$6),AND(P16>=ANNEXE!$E$7,P16<=ANNEXE!$F$7),AND(P16>=ANNEXE!$E$8,P16<=ANNEXE!$F$8),AND(P16>=ANNEXE!$E$9,P16<=ANNEXE!$F$9),COUNTIF(ANNEXE!$A$4:$C$18,P16)>=1),"C","")) | U16: =IF(P16="","",IF(WEEKDAY(P16,2)>5,"",IF(WEEKDAY(P16,2)=5,$B$39,IF(WEEKDAY(P16,2)=4,$B$38,IF(WEEKDAY(P16,2)=3,$B$37,IF(WEEKDAY(P16,2)=2,$B$36,IF(WEEKDAY(P16,2)=1,$B$35,"0"))))))) | V16: =V15+1 -> 45756 | W16: =IF(V16="","",IF(WEEKDAY(V16,2)>=6,"",IF(AND(V16>=$B$9,V16<=$B$10),"F",""))) -> F | X16: =IF(V16="","",IF(WEEKDAY(V16,2)>=6,"",IF(OR(AND(V16>=$B$11,V16<=$B$12),AND(V16>=$B$13,V16<=$B$14),AND(V16>=$B$15,V16<=$B$16),AND(V16>=$B$17,V16<=$B$18),AND(V16>=$B$19,V16<=$B$20),AND(V16>=$B$21,V16<=$B$22),AND(V16>=$B$23,V16<=$B$24),AND(V16>=$B$25,V16<=$B$26)),"E",""))) | Y16: =IF(V16="","",IF(WEEKDAY(V16,2)>=6,"",IF(W16="F",IF(OR(AND(V16>=$B$11,V16<=$B$12),AND(V16>=$B$13,V16<=$B$14),AND(V16>=$B$15,V16<=$B$16),AND(V16>=$B$17,V16<=$B$18),AND(V16>=$B$19,V16<=$B$20),AND(V16>=$B$21,V16<=$B$22),AND(V16>=$B$23,V16<=$B$24),AND(V16>=$B$25,V16<=$B$26)),"","P"),""))) -> P | Z16: =IF(V16="","",IF(OR(AND(V16>=ANNEXE!$E$4,V16<=ANNEXE!$F$4),AND(V16>=ANNEXE!$E$5,V16<=ANNEXE!$F$5),AND(V16>=ANNEXE!$E$6,V16<=ANNEXE!$F$6),AND(V16>=ANNEXE!$E$7,V16<=ANNEXE!$F$7),AND(V16>=ANNEXE!$E$8,V16<=ANNEXE!$F$8),AND(V16>=ANNEXE!$E$9,V16<=ANNEXE!$F$9),COUNTIF(ANNEXE!$A$4:$C$18,V16)>=1),"C","")) | AA16: =IF(V16="","",IF(WEEKDAY(V16,2)>5,"",IF(WEEKDAY(V16,2)=5,$B$39,IF(WEEKDAY(V16,2)=4,$B$38,IF(WEEKDAY(V16,2)=3,$B$37,IF(WEEKDAY(V16,2)=2,$B$36,IF(WEEKDAY(V16,2)=1,$B$35,"0"))))))) -> 8 | AB16: =AB15+1 -> 45786 | AC16: =IF(AB16="","",IF(WEEKDAY(AB16,2)>=6,"",IF(AND(AB16>=$B$9,AB16<=$B$10),"F",""))) -> F | AD16: =IF(AB16="","",IF(WEEKDAY(AB16,2)>=6,"",IF(OR(AND(AB16>=$B$11,AB16<=$B$12),AND(AB16>=$B$13,AB16<=$B$14),AND(AB16>=$B$15,AB16<=$B$16),AND(AB16>=$B$17,AB16<=$B$18),AND(AB16>=$B$19,AB16<=$B$20),AND(AB16>=$B$21,AB16<=$B$22),AND(AB16>=$B$23,AB16<=$B$24),AND(AB16>=$B$25,AB16<=$B$26)),"E",""))) | AE16: =IF(AB16="","",IF(WEEKDAY(AB16,2)>=6,"",IF(AC16="F",IF(OR(AND(AB16>=$B$11,AB16<=$B$12),AND(AB16>=$B$13,AB16<=$B$14),AND(AB16>=$B$15,AB16<=$B$16),AND(AB16>=$B$17,AB16<=$B$18),AND(AB16>=$B$19,AB16<=$B$20),AND(AB16>=$B$21,AB16<=$B$22),AND(AB16>=$B$23,AB16<=$B$24),AND(AB16>=$B$25,AB16<=$B$26)),"","P"),""))) -> P | AF16: =IF(AB16="","",IF(OR(AND(AB16>=ANNEXE!$E$4,AB16<=ANNEXE!$F$4),AND(AB16>=ANNEXE!$E$5,AB16<=ANNEXE!$F$5),AND(AB16>=ANNEXE!$E$6,AB16<=ANNEXE!$F$6),AND(AB16>=ANNEXE!$E$7,AB16<=ANNEXE!$F$7),AND(AB16>=ANNEXE!$E$8,AB16<=ANNEXE!$F$8),AND(AB16>=ANNEXE!$E$9,AB16<=ANNEXE!$F$9),COUNTIF(ANNEXE!$A$4:$C$18,AB16)>=1),"C","")) | AG16: =IF(AB16="","",IF(WEEKDAY(AB16,2)>5,"",IF(WEEKDAY(AB16,2)=5,$B$39,IF(WEEKDAY(AB16,2)=4,$B$38,IF(WEEKDAY(AB16,2)=3,$B$37,IF(WEEKDAY(AB16,2)=2,$B$36,IF(WEEKDAY(AB16,2)=1,$B$35,"0"))))))) -> 3.5 | AH16: =AH15+1 -> 45817 | AI16: =IF(AH16="","",IF(WEEKDAY(AH16,2)>=6,"",IF(AND(AH16>=$B$9,AH16<=$B$10),"F",""))) -> F | AJ16: =IF(AH16="","",IF(WEEKDAY(AH16,2)>=6,"",IF(OR(AND(AH16>=$B$11,AH16<=$B$12),AND(AH16>=$B$13,AH16<=$B$14),AND(AH16>=$B$15,AH16<=$B$16),AND(AH16>=$B$17,AH16<=$B$18),AND(AH16>=$B$19,AH16<=$B$20),AND(AH16>=$B$21,AH16<=$B$22),AND(AH16>=$B$23,AH16<=$B$24),AND(AH16>=$B$25,AH16<=$B$26)),"E",""))) -> E | AK16: =IF(AH16="","",IF(WEEKDAY(AH16,2)>=6,"",IF(AI16="F",IF(OR(AND(AH16>=$B$11,AH16<=$B$12),AND(AH16>=$B$13,AH16<=$B$14),AND(AH16>=$B$15,AH16<=$B$16),AND(AH16>=$B$17,AH16<=$B$18),AND(AH16>=$B$19,AH16<=$B$20),AND(AH16>=$B$21,AH16<=$B$22),AND(AH16>=$B$23,AH16<=$B$24),AND(AH16>=$B$25,AH16<=$B$26)),"","P"),""))) | AL16: =IF(AH16="","",IF(OR(AND(AH16>=ANNEXE!$E$4,AH16<=ANNEXE!$F$4),AND(AH16>=ANNEXE!$E$5,AH16<=ANNEXE!$F$5),AND(AH16>=ANNEXE!$E$6,AH16<=ANNEXE!$F$6),AND(AH16>=ANNEXE!$E$7,AH16<=ANNEXE!$F$7),AND(AH16>=ANNEXE!$E$8,AH16<=ANNEXE!$F$8),AND(AH16>=ANNEXE!$E$9,AH16<=ANNEXE!$F$9),COUNTIF(ANNEXE!$A$4:$C$18,AH16)>=1),"C","")) -> C | AM16: =IF(AH16="","",IF(WEEKDAY(AH16,2)>5,"",IF(WEEKDAY(AH16,2)=5,$B$39,IF(WEEKDAY(AH16,2)=4,$B$38,IF(WEEKDAY(AH16,2)=3,$B$37,IF(WEEKDAY(AH16,2)=2,$B$36,IF(WEEKDAY(AH16,2)=1,$B$35,"0"))))))) -> 7.5 | AN16: =AN15+1 -> 45847 | AO16: =IF(AN16="","",IF(WEEKDAY(AN16,2)>=6,"",IF(AND(AN16>=$B$9,AN16<=$B$10),"F",""))) -> F | AP16: =IF(AN16="","",IF(WEEKDAY(AN16,2)>=6,"",IF(OR(AND(AN16>=$B$11,AN16<=$B$12),AND(AN16>=$B$13,AN16<=$B$14),AND(AN16>=$B$15,AN16<=$B$16),AND(AN16>=$B$17,AN16<=$B$18),AND(AN16>=$B$19,AN16<=$B$20),AND(AN16>=$B$21,AN16<=$B$22),AND(AN16>=$B$23,AN16<=$B$24),AND(AN16>=$B$25,AN16<=$B$26)),"E",""))) | AQ16: =IF(AN16="","",IF(WEEKDAY(AN16,2)>=6,"",IF(AO16="F",IF(OR(AND(AN16>=$B$11,AN16<=$B$12),AND(AN16>=$B$13,AN16<=$B$14),AND(AN16>=$B$15,AN16<=$B$16),AND(AN16>=$B$17,AN16<=$B$18),AND(AN16>=$B$19,AN16<=$B$20),AND(AN16>=$B$21,AN16<=$B$22),AND(AN16>=$B$23,AN16<=$B$24),AND(AN16>=$B$25,AN16<=$B$26)),"","P"),""))) -> P | AR16: =IF(AN16="","",IF(OR(AND(AN16>=ANNEXE!$E$4,AN16<=ANNEXE!$F$4),AND(AN16>=ANNEXE!$E$5,AN16<=ANNEXE!$F$5),AND(AN16>=ANNEXE!$E$6,AN16<=ANNEXE!$F$6),AND(AN16>=ANNEXE!$E$7,AN16<=ANNEXE!$F$7),AND(AN16>=ANNEXE!$E$8,AN16<=ANNEXE!$F$8),AND(AN16>=ANNEXE!$E$9,AN16<=ANNEXE!$F$9),COUNTIF(ANNEXE!$A$4:$C$18,AN16)>=1),"C","")) | AS16: =IF(AN16="","",IF(WEEKDAY(AN16,2)>5,"",IF(WEEKDAY(AN16,2)=5,$B$39,IF(WEEKDAY(AN16,2)=4,$B$38,IF(WEEKDAY(AN16,2)=3,$B$37,IF(WEEKDAY(AN16,2)=2,$B$36,IF(WEEKDAY(AN16,2)=1,$B$35,"0"))))))) -> 8 | AT16: =AT15+1 -> 45878 | AU16: =IF(AT16="","",IF(WEEKDAY(AT16,2)>=6,"",IF(AND(AT16>=$B$9,AT16<=$B$10),"F",""))) | AV16: =IF(AT16="","",IF(WEEKDAY(AT16,2)>=6,"",IF(OR(AND(AT16>=$B$11,AT16<=$B$12),AND(AT16>=$B$13,AT16<=$B$14),AND(AT16>=$B$15,AT16<=$B$16),AND(AT16>=$B$17,AT16<=$B$18),AND(AT16>=$B$19,AT16<=$B$20),AND(AT16>=$B$21,AT16<=$B$22),AND(AT16>=$B$23,AT16<=$B$24),AND(AT16>=$B$25,AT16<=$B$26)),"E",""))) | AW16: =IF(AT16="","",IF(WEEKDAY(AT16,2)>=6,"",IF(AU16="F",IF(OR(AND(AT16>=$B$11,AT16<=$B$12),AND(AT16>=$B$13,AT16<=$B$14),AND(AT16>=$B$15,AT16<=$B$16),AND(AT16>=$B$17,AT16<=$B$18),AND(AT16>=$B$19,AT16<=$B$20),AND(AT16>=$B$21,AT16<=$B$22),AND(AT16>=$B$23,AT16<=$B$24),AND(AT16>=$B$25,AT16<=$B$26)),"","P"),""))) | AX16: =IF(AT16="","",IF(OR(AND(AT16>=ANNEXE!$E$4,AT16<=ANNEXE!$F$4),AND(AT16>=ANNEXE!$E$5,AT16<=ANNEXE!$F$5),AND(AT16>=ANNEXE!$E$6,AT16<=ANNEXE!$F$6),AND(AT16>=ANNEXE!$E$7,AT16<=ANNEXE!$F$7),AND(AT16>=ANNEXE!$E$8,AT16<=ANNEXE!$F$8),AND(AT16>=ANNEXE!$E$9,AT16<=ANNEXE!$F$9),COUNTIF(ANNEXE!$A$4:$C$18,AT16)>=1),"C","")) | AY16: =IF(AT16="","",IF(WEEKDAY(AT16,2)>5,"",IF(WEEKDAY(AT16,2)=5,$B$39,IF(WEEKDAY(AT16,2)=4,$B$38,IF(WEEKDAY(AT16,2)=3,$B$37,IF(WEEKDAY(AT16,2)=2,$B$36,IF(WEEKDAY(AT16,2)=1,$B$35,"0"))))))) | AZ16: =AZ15+1 -> 45909 | BA16: =IF(AZ16="","",IF(WEEKDAY(AZ16,2)>=6,"",IF(AND(AZ16>=$B$9,AZ16<=$B$10),"F",""))) -> F | BB16: =IF(AZ16="","",IF(WEEKDAY(AZ16,2)>=6,"",IF(OR(AND(AZ16>=$B$11,AZ16<=$B$12),AND(AZ16>=$B$13,AZ16<=$B$14),AND(AZ16>=$B$15,AZ16<=$B$16),AND(AZ16>=$B$17,AZ16<=$B$18),AND(AZ16>=$B$19,AZ16<=$B$20),AND(AZ16>=$B$21,AZ16<=$B$22),AND(AZ16>=$B$23,AZ16<=$B$24),AND(AZ16>=$B$25,AZ16<=$B$26)),"E",""))) | BC16: =IF(AZ16="","",IF(WEEKDAY(AZ16,2)>=6,"",IF(BA16="F",IF(OR(AND(AZ16>=$B$11,AZ16<=$B$12),AND(AZ16>=$B$13,AZ16<=$B$14),AND(AZ16>=$B$15,AZ16<=$B$16),AND(AZ16>=$B$17,AZ16<=$B$18),AND(AZ16>=$B$19,AZ16<=$B$20),AND(AZ16>=$B$21,AZ16<=$B$22),AND(AZ16>=$B$23,AZ16<=$B$24),AND(AZ16>=$B$25,AZ16<=$B$26)),"","P"),""))) -> P | BD16: =IF(AZ16="","",IF(OR(AND(AZ16>=ANNEXE!$E$4,AZ16<=ANNEXE!$F$4),AND(AZ16>=ANNEXE!$E$5,AZ16<=ANNEXE!$F$5),AND(AZ16>=ANNEXE!$E$6,AZ16<=ANNEXE!$F$6),AND(AZ16>=ANNEXE!$E$7,AZ16<=ANNEXE!$F$7),AND(AZ16>=ANNEXE!$E$8,AZ16<=ANNEXE!$F$8),AND(AZ16>=ANNEXE!$E$9,AZ16<=ANNEXE!$F$9),COUNTIF(ANNEXE!$A$4:$C$18,AZ16)>=1),"C","")) | BE16: =IF(AZ16="","",IF(WEEKDAY(AZ16,2)>5,"",IF(WEEKDAY(AZ16,2)=5,$B$39,IF(WEEKDAY(AZ16,2)=4,$B$38,IF(WEEKDAY(AZ16,2)=3,$B$37,IF(WEEKDAY(AZ16,2)=2,$B$36,IF(WEEKDAY(AZ16,2)=1,$B$35,"0"))))))) -> 8 | BF16: =BF15+1 -> 45939 | BG16: =IF(BF16="","",IF(WEEKDAY(BF16,2)>=6,"",IF(AND(BF16>=$B$9,BF16<=$B$10),"F",""))) -> F | BH16: =IF(BF16="","",IF(WEEKDAY(BF16,2)>=6,"",IF(OR(AND(BF16>=$B$11,BF16<=$B$12),AND(BF16>=$B$13,BF16<=$B$14),AND(BF16>=$B$15,BF16<=$B$16),AND(BF16>=$B$17,BF16<=$B$18),AND(BF16>=$B$19,BF16<=$B$20),AND(BF16>=$B$21,BF16<=$B$22),AND(BF16>=$B$23,BF16<=$B$24),AND(BF16>=$B$25,BF16<=$B$26)),"E",""))) | BI16: =IF(BF16="","",IF(WEEKDAY(BF16,2)>=6,"",IF(BG16="F",IF(OR(AND(BF16>=$B$11,BF16<=$B$12),AND(BF16>=$B$13,BF16<=$B$14),AND(BF16>=$B$15,BF16<=$B$16),AND(BF16>=$B$17,BF16<=$B$18),AND(BF16>=$B$19,BF16<=$B$20),AND(BF16>=$B$21,BF16<=$B$22),AND(BF16>=$B$23,BF16<=$B$24),AND(BF16>=$B$25,BF16<=$B$26)),"","P"),""))) -> P | BJ16: =IF(BF16="","",IF(OR(AND(BF16>=ANNEXE!$E$4,BF16<=ANNEXE!$F$4),AND(BF16>=ANNEXE!$E$5,BF16<=ANNEXE!$F$5),AND(BF16>=ANNEXE!$E$6,BF16<=ANNEXE!$F$6),AND(BF16>=ANNEXE!$E$7,BF16<=ANNEXE!$F$7),AND(BF16>=ANNEXE!$E$8,BF16<=ANNEXE!$F$8),AND(BF16>=ANNEXE!$E$9,BF16<=ANNEXE!$F$9),COUNTIF(ANNEXE!$A$4:$C$18,BF16)>=1),"C","")) | BK16: =IF(BF16="","",IF(WEEKDAY(BF16,2)>5,"",IF(WEEKDAY(BF16,2)=5,$B$39,IF(WEEKDAY(BF16,2)=4,$B$38,IF(WEEKDAY(BF16,2)=3,$B$37,IF(WEEKDAY(BF16,2)=2,$B$36,IF(WEEKDAY(BF16,2)=1,$B$35,"0"))))))) -> 8 | BL16: =BL15+1 -> 45970 | BM16: =IF(BL16="","",IF(WEEKDAY(BL16,2)>=6,"",IF(AND(BL16>=$B$9,BL16<=$B$10),"F",""))) | BN16: =IF(BL16="","",IF(WEEKDAY(BL16,2)>=6,"",IF(OR(AND(BL16>=$B$11,BL16<=$B$12),AND(BL16>=$B$13,BL16<=$B$14),AND(BL16>=$B$15,BL16<=$B$16),AND(BL16>=$B$17,BL16<=$B$18),AND(BL16>=$B$19,BL16<=$B$20),AND(BL16>=$B$21,BL16<=$B$22),AND(BL16>=$B$23,BL16<=$B$24),AND(BL16>=$B$25,BL16<=$B$26)),"E",""))) | BO16: =IF(BL16="","",IF(WEEKDAY(BL16,2)>=6,"",IF(BM16="F",IF(OR(AND(BL16>=$B$11,BL16<=$B$12),AND(BL16>=$B$13,BL16<=$B$14),AND(BL16>=$B$15,BL16<=$B$16),AND(BL16>=$B$17,BL16<=$B$18),AND(BL16>=$B$19,BL16<=$B$20),AND(BL16>=$B$21,BL16<=$B$22),AND(BL16>=$B$23,BL16<=$B$24),AND(BL16>=$B$25,BL16<=$B$26)),"","P"),""))) | BP16: =IF(BL16="","",IF(OR(AND(BL16>=ANNEXE!$E$4,BL16<=ANNEXE!$F$4),AND(BL16>=ANNEXE!$E$5,BL16<=ANNEXE!$F$5),AND(BL16>=ANNEXE!$E$6,BL16<=ANNEXE!$F$6),AND(BL16>=ANNEXE!$E$7,BL16<=ANNEXE!$F$7),AND(BL16>=ANNEXE!$E$8,BL16<=ANNEXE!$F$8),AND(BL16>=ANNEXE!$E$9,BL16<=ANNEXE!$F$9),COUNTIF(ANNEXE!$A$4:$C$18,BL16)>=1),"C","")) | BQ16: =IF(BL16="","",IF(WEEKDAY(BL16,2)>5,"",IF(WEEKDAY(BL16,2)=5,$B$39,IF(WEEKDAY(BL16,2)=4,$B$38,IF(WEEKDAY(BL16,2)=3,$B$37,IF(WEEKDAY(BL16,2)=2,$B$36,IF(WEEKDAY(BL16,2)=1,$B$35,"0"))))))) | BR16: =BR15+1 -> 46000 | BS16: =IF(BR16="","",IF(WEEKDAY(BR16,2)>=6,"",IF(AND(BR16>=$B$9,BR16<=$B$10),"F",""))) | BT16: =IF(BR16="","",IF(WEEKDAY(BR16,2)>=6,"",IF(OR(AND(BR16>=$B$11,BR16<=$B$12),AND(BR16>=$B$13,BR16<=$B$14),AND(BR16>=$B$15,BR16<=$B$16),AND(BR16>=$B$17,BR16<=$B$18),AND(BR16>=$B$19,BR16<=$B$20),AND(BR16>=$B$21,BR16<=$B$22),AND(BR16>=$B$23,BR16<=$B$24),AND(BR16>=$B$25,BR16<=$B$26)),"E",""))) | BU16: =IF(BR16="","",IF(WEEKDAY(BR16,2)>=6,"",IF(BS16="F",IF(OR(AND(BR16>=$B$11,BR16<=$B$12),AND(BR16>=$B$13,BR16<=$B$14),AND(BR16>=$B$15,BR16<=$B$16),AND(BR16>=$B$17,BR16<=$B$18),AND(BR16>=$B$19,BR16<=$B$20),AND(BR16>=$B$21,BR16<=$B$22),AND(BR16>=$B$23,BR16<=$B$24),AND(BR16>=$B$25,BR16<=$B$26)),"","P"),""))) | BV16: =IF(BR16="","",IF(OR(AND(BR16>=ANNEXE!$E$4,BR16<=ANNEXE!$F$4),AND(BR16>=ANNEXE!$E$5,BR16<=ANNEXE!$F$5),AND(BR16>=ANNEXE!$E$6,BR16<=ANNEXE!$F$6),AND(BR16>=ANNEXE!$E$7,BR16<=ANNEXE!$F$7),AND(BR16>=ANNEXE!$E$8,BR16<=ANNEXE!$F$8),AND(BR16>=ANNEXE!$E$9,BR16<=ANNEXE!$F$9),COUNTIF(ANNEXE!$A$4:$C$18,BR16)>=1),"C","")) | BW16: =IF(BR16="","",IF(WEEKDAY(BR16,2)>5,"",IF(WEEKDAY(BR16,2)=5,$B$39,IF(WEEKDAY(BR16,2)=4,$B$38,IF(WEEKDAY(BR16,2)=3,$B$37,IF(WEEKDAY(BR16,2)=2,$B$36,IF(WEEKDAY(BR16,2)=1,$B$35,"0"))))))) -> 8
