Workbook
Name annee: [1]Calendrier!$BD$2
Name dates: [1]Dates!$A:$A
Name mois: [1]Calendrier!$BD$4
Name OFFRE: 'Cal. Offre'!#REF!

Sheet Programmation
E1: Mode d'emploi | Z1: Légende | AG1: =PROPER(TEXT(AI2,"mmmm aa")) -> Mars 25 | AL1: =PROPER(TEXT(AM2,"mmmm aa")) -> Avril 25 | AP1: =PROPER(TEXT(AQ2,"mmmm aa")) -> Mai 25 | AU1: =PROPER(TEXT(AV2,"mmmm aa")) -> Juin 25 | AY1: =PROPER(TEXT(BA2,"mmmm aa")) -> Juillet 25 | BC1: =PROPER(TEXT(BE2,"mmmm aa")) -> Août 25 | BH1: =PROPER(TEXT(BI2,"mmmm aa")) -> Septembre 25 | BL1: =PROPER(TEXT(BM2,"mmmm aa")) -> Octobre 25 | BP1: =PROPER(TEXT(BR2,"mmmm aa")) -> Novembre 25 | BU1: =PROPER(TEXT(BV2,"mmmm aa")) -> Décembre 25 | BY1: =PROPER(TEXT(BZ2,"mmmm aa")) -> Janvier 26 | CC1: =PROPER(TEXT(CD2,"mmmm aa")) -> Février 26 | CH1: =PROPER(TEXT(CI2,"mmmm aa")) -> Mars 26 | CM1: =PROPER(TEXT(CN2,"mmmm aa")) -> Avril 26 | CQ1: =PROPER(TEXT(CR2,"mmmm aa")) -> Mai 26 | CU1: =PROPER(TEXT(CW2,"mmmm aa")) -> Juin 26 | CZ1: =PROPER(TEXT(DA2,"mmmm aa")) -> Juillet 26 | DD1: =PROPER(TEXT(DE2,"mmmm aa")) -> Août 26 | DH1: =PROPER(TEXT(DI2,"mmmm aa")) -> Septembre 26 | DM1: =PROPER(TEXT(DN2,"mmmm aa")) -> Octobre 26
A2: Année de départ | C2: 2025 | AE2: Lundi | AF2: 7.5 | AG2: =IF(WEEKDAY(DATE(C2,C5,1),3)=7,DATE(C2,C5,1),DATE(C2,C5,1)-WEEKDAY(DATE(C2,C5,1),3)) -> 45712 | AH2: =AG2+7 -> 45719 | AI2: =AH2+7 -> 45726 | AJ2: =AI2+7 -> 45733 | AK2: =AJ2+7 -> 45740 | AL2: =AK2+7 -> 45747 | AM2: =AL2+7 -> 45754 | AN2: =AM2+7 -> 45761 | AO2: =AN2+7 -> 45768 | ... DQ2: =DP2+7 -> 46328 | EL2: 1
E3: EXEMPLE DE REMPLISSAGE | O3: Pour créer de nouvelles lignes, Copier/Insérer les lignes entières Remplir la cellule AC6 pour le calcul de saturation | U3: La feuille intitulée ANNEXE contient les dates des fermeture de centre et les dates des jours ferié. Attention, veiller à ce que les dates des jours fériés n'apparaissent qu'une fois dans le tableau (PAS DE DOUBLONS) | Z3: EN BLEU : Semaine d'entrée en formation | AC3: Qté stagiaires MAX | AE3: Mardi | AF3: 8 | AG3: =AG2+1 -> 45713 | AH3: =AG3+7 -> 45720 | AI3: =AH3+7 -> 45727 | AJ3: =AI3+7 -> 45734 | AK3: =AJ3+7 -> 45741 | AL3: =AK3+7 -> 45748 | AM3: =AL3+7 -> 45755 | AN3: =AM3+7 -> 45762 | AO3: =AN3+7 -> 45769 | ... DQ3: =DP3+7 -> 46329
E4: Entrer le type de marché | I4: Durée Form(en H) ou PAE 1 (SEM) --> | L4: ENTRER LA DUREE en heure ou en semaine | Z4: EN ROUGE : Semaine de sortie de formation | AE4: Mercredi | AF4: 8 | AG4: =AG3+1 -> 45714 | AH4: =AG4+7 -> 45721 | AI4: =AH4+7 -> 45728 | AJ4: =AI4+7 -> 45735 | AK4: =AJ4+7 -> 45742 | AL4: =AK4+7 -> 45749 | AM4: =AL4+7 -> 45756 | AN4: =AM4+7 -> 45763 | AO4: =AN4+7 -> 45770 | ... DQ4: =DP4+7 -> 46330
A5: Mois de départ | C5: 3 | E5: Entrer le numéro d'offre | G5: Entrer le nombre de stagiaires | I5: Entrer la date de début de la période Veiller à ce que ce soit un lundi | L5: Cette date se calcul automatiquement | Z5: EN JAUNE : Temps en centre | AE5: Jeudi | AF5: 8 | AG5: =AG4+1 -> 45715 | AH5: =AG5+7 -> 45722 | AI5: =AH5+7 -> 45729 | AJ5: =AI5+7 -> 45736 | AK5: =AJ5+7 -> 45743 | AL5: =AK5+7 -> 45750 | AM5: =AL5+7 -> 45757 | AN5: =AM5+7 -> 45764 | AO5: =AN5+7 -> 45771 | ... DQ5: =DP5+7 -> 46331
Z6: EN VERT : Période en entreprise | AC6: 16 | AE6: Vendredi | AF6: 3.5 | AG6: =AG5+1 -> 45716 | AH6: =AG6+7 -> 45723 | AI6: =AH6+7 -> 45730 | AJ6: =AI6+7 -> 45737 | AK6: =AJ6+7 -> 45744 | AL6: =AK6+7 -> 45751 | AM6: =AL6+7 -> 45758 | AN6: =AM6+7 -> 45765 | AO6: =AN6+7 -> 45772 | ... DQ6: =DP6+7 -> 46332
AE7: Semaine | AF7: =SUM(AF2:AF6) -> 35 | AG7: ='Calc heur'!B16 -> 35 | AH7: ='Calc heur'!C16 -> 35 | AI7: ='Calc heur'!D16 -> 35 | AJ7: ='Calc heur'!E16 -> 35 | AK7: ='Calc heur'!F16 -> 35 | AL7: ='Calc heur'!G16 -> 35 | AM7: ='Calc heur'!H16 -> 35 | AN7: ='Calc heur'!I16 -> 35 | ... DQ7: ='Calc heur'!CL16 -> 35
A8: Durée init --> | B8: 1155 | C8: Nbr d'H à indiquer --> | AE8: No Semaine | AG8: =WEEKNUM(AG2) -> 9 | AH8: =_xlfn.ISOWEEKNUM(AH2) -> 10 | AI8: =_xlfn.ISOWEEKNUM(AI2) -> 11 | AJ8: =_xlfn.ISOWEEKNUM(AJ2) -> 12 | AK8: =_xlfn.ISOWEEKNUM(AK2) -> 13 | AL8: =_xlfn.ISOWEEKNUM(AL2) -> 14 | AM8: =_xlfn.ISOWEEKNUM(AM2) -> 15 | AN8: =_xlfn.ISOWEEKNUM(AN2) -> 16 | AO8: =_xlfn.ISOWEEKNUM(AO2) -> 17 | ... DQ8: =_xlfn.ISOWEEKNUM(DQ2) -> 45
A9: Durée réel --> | B9: 1178.5 | C9: 45719 | D9: =IF(ISBLANK(C9),"??? --/--/----",INDEX($AG$6:$DQ$6,,MATCH($B$9,'Calc heur'!$B$21:$CL$21,1))) -> 45961
A10: Marché | C10: FORMATION | E10: PAE 1 | G10: PAE 2 | I10: PAE 3 | K10: PAE 4 | M10: PAE 5 | O10: PAE 6 | Q10: PAE 7 | S10: PAE 8 | U10: PAE 9 | W10: PAE 10 | Y10: PAE 11 | AA10: PAE 12 | AE10: Nmbre STAGIAIRE | AG10: =IF(SUM(AG13:AG62)=0,"--",SUM(AG13:AG62)) -> 5 | AH10: =IF(SUM(AH13:AH62)=0,"--",SUM(AH13:AH62)) -> 13 | AI10: =IF(SUM(AI13:AI62)=0,"--",SUM(AI13:AI62)) -> 13 | AJ10: =IF(SUM(AJ13:AJ62)=0,"--",SUM(AJ13:AJ62)) -> 13 | AK10: =IF(SUM(AK13:AK62)=0,"--",SUM(AK13:AK62)) -> 13 | AL10: =IF(SUM(AL13:AL62)=0,"--",SUM(AL13:AL62)) -> 13 | AM10: =IF(SUM(AM13:AM62)=0,"--",SUM(AM13:AM62)) -> 13 | AN10: =IF(SUM(AN13:AN62)=0,"--",SUM(AN13:AN62)) -> 13 | ... DQ10: =IF(SUM(DQ13:DQ62)=0,"--",SUM(DQ13:DQ62)) -> 5
A11: OFFRE | B11: Nbre | C11: ENTREE | D11: SORTIE | E11: ENTREE | F11: SORTIE | G11: ENTREE | H11: SORTIE | I11: ENTREE | J11: SORTIE | K11: ENTREE | L11: SORTIE | M11: ENTREE | N11: SORTIE | O11: ENTREE | P11: SORTIE | Q11: ENTREE | R11: SORTIE | S11: ENTREE | T11: SORTIE | U11: ENTREE | V11: SORTIE | W11: ENTREE | X11: SORTIE | Y11: ENTREE | Z11: SORTIE | AA11: ENTREE | AB11: SORTIE | AE11: Taux saturation | AG11: =IF(AG10="--","--",AG10/$AC$6) -> 0.3125 | AH11: =IF(AH10="--","--",AH10/$AC$6) -> 0.8125 | AI11: =IF(AI10="--","--",AI10/$AC$6) -> 0.8125 | AJ11: =IF(AJ10="--","--",AJ10/$AC$6) -> 0.8125 | AK11: =IF(AK10="--","--",AK10/$AC$6) -> 0.8125 | AL11: =IF(AL10="--","--",AL10/$AC$6) -> 0.8125 | AM11: =IF(AM10="--","--",AM10/$AC$6) -> 0.8125 | AN11: =IF(AN10="--","--",AN10/$AC$6) -> 0.8125 | ... DQ11: =IF(DQ10="--","--",DQ10/$AC$6) -> 0.3125
A13: MP | C13: Durée Form (en H) --> | D13: 735 | E13: Durée PAE 1 (SEM) --> | F13: 4 | G13: Durée PAE 2 (SEM) --> | I13: Durée PAE 3 (SEM) --> | K13: Durée PAE 4 (SEM) --> | M13: Durée PAE 5 (SEM) --> | O13: Durée PAE 6 (SEM) --> | Q13: Durée PAE 7 (SEM) --> | S13: Durée PAE 8 (SEM) --> | U13: Durée PAE 9 (SEM) --> | W13: Durée PAE 10 (SEM) -> | Y13: Durée PAE 11 (SEM) --> | AA13: Durée PAE 12 (SEM) -->
A14: 24135 | B14: 1 | C14: 45481 | D14: =IF(ISBLANK(C14),"??? --/--/----",C14+((D13/35)*7-3)) -> 45625 | E14: 45544 | F14: =IF(ISBLANK(E14),"??? --/--/----",E14+((F13-1)*7+4)) -> 45569 | H14: =IF(ISBLANK(G14),"??? --/--/----",G14+((H13-1)*7+4)) -> ??? --/--/---- | J14: =IF(ISBLANK(I14),"??? --/--/----",I14+((J13-1)*7+4)) -> ??? --/--/---- | L14: =IF(ISBLANK(K14),"??? --/--/----",K14+((L13-1)*7+4)) -> ??? --/--/---- | N14: =IF(ISBLANK(M14),"??? --/--/----",M14+((N13-1)*7+4)) -> ??? --/--/---- | P14: =IF(ISBLANK(O14),"??? --/--/----",O14+((P13-1)*7+4)) -> ??? --/--/---- | R14: =IF(ISBLANK(Q14),"??? --/--/----",Q14+((R13-1)*7+4)) -> ??? --/--/---- | T14: =IF(ISBLANK(S14),"??? --/--/----",S14+((T13-1)*7+4)) -> ??? --/--/---- | V14: =IF(ISBLANK(U14),"??? --/--/----",U14+((V13-1)*7+4)) -> ??? --/--/---- | X14: =IF(ISBLANK(W14),"??? --/--/----",W14+((X13-1)*7+4)) -> ??? --/--/---- | Z14: =IF(ISBLANK(Y14),"??? --/--/----",Y14+((Z13-1)*7+4)) -> ??? --/--/---- | AB14: =IF(ISBLANK(AA14),"??? --/--/----",AA14+((AB13-1)*7+4)) -> ??? --/--/---- | AG14: =IF(ISBLANK($C14),"",IF(AND($C14<=AG$2,$D14>=AG$2),$B14,"")) | AH14: =IF(ISBLANK($C14),"",IF(AND($C14<=AH$2,$D14>=AH$2),$B14,"")) | AI14: =IF(ISBLANK($C14),"",IF(AND($C14<=AI$2,$D14>=AI$2),$B14,"")) | AJ14: =IF(ISBLANK($C14),"",IF(AND($C14<=AJ$2,$D14>=AJ$2),$B14,"")) | AK14: =IF(ISBLANK($C14),"",IF(AND($C14<=AK$2,$D14>=AK$2),$B14,"")) | AL14: =IF(ISBLANK($C14),"",IF(AND($C14<=AL$2,$D14>=AL$2),$B14,"")) | AM14: =IF(ISBLANK($C14),"",IF(AND($C14<=AM$2,$D14>=AM$2),$B14,"")) | AN14: =IF(ISBLANK($C14),"",IF(AND($C14<=AN$2,$D14>=AN$2),$B14,"")) | ... DQ14: =IF(ISBLANK($C14),"",IF(AND($C14<=DQ$2,$D14>=DQ$2),$B14,""))
A15: HSP V2 | C15: Durée Form (en H) --> | D15: =1155+35 -> 1190 | E15: Durée PAE 1 (SEM) --> | F15: 4 | G15: Durée PAE 2 (SEM) --> | H15: 5 | I15: Durée PAE 3 (SEM) --> | K15: Durée PAE 4 (SEM) --> | M15: Durée PAE 5 (SEM) --> | O15: Durée PAE 6 (SEM) --> | Q15: Durée PAE 7 (SEM) --> | S15: Durée PAE 8 (SEM) --> | U15: Durée PAE 9 (SEM) --> | W15: Durée PAE 10 (SEM) -> | Y15: Durée PAE 11 (SEM) --> | AA15: Durée PAE 12 (SEM) -->
A16: 23206 | B16: 5 | C16: 45628 | D16: =IF(ISBLANK(C16),"??? --/--/----",C16+((D15/35)*7-3)) -> 45863 | E16: 45705 | F16: =IF(ISBLANK(E16),"??? --/--/----",E16+((F15-1)*7+4)) -> 45730 | G16: 45796 | H16: =IF(ISBLANK(G16),"??? --/--/----",G16+((H15-1)*7+4)) -> 45828 | J16: =IF(ISBLANK(I16),"??? --/--/----",I16+((J15-1)*7+4)) -> ??? --/--/---- | L16: =IF(ISBLANK(K16),"??? --/--/----",K16+((L15-1)*7+4)) -> ??? --/--/---- | N16: =IF(ISBLANK(M16),"??? --/--/----",M16+((N15-1)*7+4)) -> ??? --/--/---- | P16: =IF(ISBLANK(O16),"??? --/--/----",O16+((P15-1)*7+4)) -> ??? --/--/---- | R16: =IF(ISBLANK(Q16),"??? --/--/----",Q16+((R15-1)*7+4)) -> ??? --/--/---- | T16: =IF(ISBLANK(S16),"??? --/--/----",S16+((T15-1)*7+4)) -> ??? --/--/---- | V16: =IF(ISBLANK(U16),"??? --/--/----",U16+((V15-1)*7+4)) -> ??? --/--/---- | X16: =IF(ISBLANK(W16),"??? --/--/----",W16+((X15-1)*7+4)) -> ??? --/--/---- | Z16: =IF(ISBLANK(Y16),"??? --/--/----",Y16+((Z15-1)*7+4)) -> ??? --/--/---- | AB16: =IF(ISBLANK(AA16),"??? --/--/----",AA16+((AB15-1)*7+4)) -> ??? --/--/---- | AG16: =IF(ISBLANK($C16),"",IF(AND($C16<=AG$2,$D16>=AG$2),$B16,"")) -> 5 | AH16: =IF(ISBLANK($C16),"",IF(AND($C16<=AH$2,$D16>=AH$2),$B16,"")) -> 5 | AI16: =IF(ISBLANK($C16),"",IF(AND($C16<=AI$2,$D16>=AI$2),$B16,"")) -> 5 | AJ16: =IF(ISBLANK($C16),"",IF(AND($C16<=AJ$2,$D16>=AJ$2),$B16,"")) -> 5 | AK16: =IF(ISBLANK($C16),"",IF(AND($C16<=AK$2,$D16>=AK$2),$B16,"")) -> 5 | AL16: =IF(ISBLANK($C16),"",IF(AND($C16<=AL$2,$D16>=AL$2),$B16,"")) -> 5 | AM16: =IF(ISBLANK($C16),"",IF(AND($C16<=AM$2,$D16>=AM$2),$B16,"")) -> 5 | AN16: =IF(ISBLANK($C16),"",IF(AND($C16<=AN$2,$D16>=AN$2),$B16,"")) -> 5 | ... DQ16: =IF(ISBLANK($C16),"",IF(AND($C16<=DQ$2,$D16>=DQ$2),$B16,""))
A17: HSP v2 | C17: Durée Form (en H) --> | D17: =1155+35+35+35 -> 1260 | E17: Durée PAE 1 (SEM) --> | F17: 4 | G17: Durée PAE 2 (SEM) --> | H17: 6 | I17: Durée PAE 3 (SEM) --> | K17: Durée PAE 4 (SEM) --> | M17: Durée PAE 5 (SEM) --> | O17: Durée PAE 6 (SEM) --> | Q17: Durée PAE 7 (SEM) --> | S17: Durée PAE 8 (SEM) --> | U17: Durée PAE 9 (SEM) --> | W17: Durée PAE 10 (SEM) -> | Y17: Durée PAE 11 (SEM) --> | AA17: Durée PAE 12 (SEM) -->
A18: 24508 | B18: 8 | C18: 45719 | D18: =IF(ISBLANK(C18),"??? --/--/----",C18+((D17/35)*7-3)) -> 45968 | E18: 45796 | F18: =IF(ISBLANK(E18),"??? --/--/----",E18+((F17-1)*7+4)) -> 45821 | G18: 45859 | H18: =IF(ISBLANK(G18),"??? --/--/----",G18+((H17-1)*7+4)) -> 45898 | J18: =IF(ISBLANK(I18),"??? --/--/----",I18+((J17-1)*7+4)) -> ??? --/--/---- | L18: =IF(ISBLANK(K18),"??? --/--/----",K18+((L17-1)*7+4)) -> ??? --/--/---- | N18: =IF(ISBLANK(M18),"??? --/--/----",M18+((N17-1)*7+4)) -> ??? --/--/---- | P18: =IF(ISBLANK(O18),"??? --/--/----",O18+((P17-1)*7+4)) -> ??? --/--/---- | R18: =IF(ISBLANK(Q18),"??? --/--/----",Q18+((R17-1)*7+4)) -> ??? --/--/---- | T18: =IF(ISBLANK(S18),"??? --/--/----",S18+((T17-1)*7+4)) -> ??? --/--/---- | V18: =IF(ISBLANK(U18),"??? --/--/----",U18+((V17-1)*7+4)) -> ??? --/--/---- | X18: =IF(ISBLANK(W18),"??? --/--/----",W18+((X17-1)*7+4)) -> ??? --/--/---- | Z18: =IF(ISBLANK(Y18),"??? --/--/----",Y18+((Z17-1)*7+4)) -> ??? --/--/---- | AB18: =IF(ISBLANK(AA18),"??? --/--/----",AA18+((AB17-1)*7+4)) -> ??? --/--/---- | AG18: =IF(ISBLANK($C18),"",IF(AND($C18<=AG$2,$D18>=AG$2),$B18,"")) | AH18: =IF(ISBLANK($C18),"",IF(AND($C18<=AH$2,$D18>=AH$2),$B18,"")) -> 8 | AI18: =IF(ISBLANK($C18),"",IF(AND($C18<=AI$2,$D18>=AI$2),$B18,"")) -> 8 | AJ18: =IF(ISBLANK($C18),"",IF(AND($C18<=AJ$2,$D18>=AJ$2),$B18,"")) -> 8 | AK18: =IF(ISBLANK($C18),"",IF(AND($C18<=AK$2,$D18>=AK$2),$B18,"")) -> 8 | AL18: =IF(ISBLANK($C18),"",IF(AND($C18<=AL$2,$D18>=AL$2),$B18,"")) -> 8 | AM18: =IF(ISBLANK($C18),"",IF(AND($C18<=AM$2,$D18>=AM$2),$B18,"")) -> 8 | AN18: =IF(ISBLANK($C18),"",IF(AND($C18<=AN$2,$D18>=AN$2),$B18,"")) -> 8 | ... DQ18: =IF(ISBLANK($C18),"",IF(AND($C18<=DQ$2,$D18>=DQ$2),$B18,""))
A19: MP | C19: Durée Form (en H) --> | D19: 770 | E19: Durée PAE 1 (SEM) --> | F19: 4 | G19: Durée PAE 2 (SEM) --> | I19: Durée PAE 3 (SEM) --> | K19: Durée PAE 4 (SEM) --> | M19: Durée PAE 5 (SEM) --> | O19: Durée PAE 6 (SEM) --> | Q19: Durée PAE 7 (SEM) --> | S19: Durée PAE 8 (SEM) --> | U19: Durée PAE 9 (SEM) --> | W19: Durée PAE 10 (SEM) -> | Y19: Durée PAE 11 (SEM) --> | AA19: Durée PAE 12 (SEM) -->
A20: 24138 | B20: 0 | C20: 45719 | D20: =IF(ISBLANK(C20),"??? --/--/----",C20+((D19/35)*7-3)) -> 45870 | E20: 45796 | F20: =IF(ISBLANK(E20),"??? --/--/----",E20+((F19-1)*7+4)) -> 45821 | H20: =IF(ISBLANK(G20),"??? --/--/----",G20+((H19-1)*7+4)) -> ??? --/--/---- | J20: =IF(ISBLANK(I20),"??? --/--/----",I20+((J19-1)*7+4)) -> ??? --/--/---- | L20: =IF(ISBLANK(K20),"??? --/--/----",K20+((L19-1)*7+4)) -> ??? --/--/---- | N20: =IF(ISBLANK(M20),"??? --/--/----",M20+((N19-1)*7+4)) -> ??? --/--/---- | P20: =IF(ISBLANK(O20),"??? --/--/----",O20+((P19-1)*7+4)) -> ??? --/--/---- | R20: =IF(ISBLANK(Q20),"??? --/--/----",Q20+((R19-1)*7+4)) -> ??? --/--/---- | T20: =IF(ISBLANK(S20),"??? --/--/----",S20+((T19-1)*7+4)) -> ??? --/--/---- | V20: =IF(ISBLANK(U20),"??? --/--/----",U20+((V19-1)*7+4)) -> ??? --/--/---- | X20: =IF(ISBLANK(W20),"??? --/--/----",W20+((X19-1)*7+4)) -> ??? --/--/---- | Z20: =IF(ISBLANK(Y20),"??? --/--/----",Y20+((Z19-1)*7+4)) -> ??? --/--/---- | AB20: =IF(ISBLANK(AA20),"??? --/--/----",AA20+((AB19-1)*7+4)) -> ??? --/--/---- | AG20: =IF(ISBLANK($C20),"",IF(AND($C20<=AG$2,$D20>=AG$2),$B20,"")) | AH20: =IF(ISBLANK($C20),"",IF(AND($C20<=AH$2,$D20>=AH$2),$B20,"")) -> 0 | AI20: =IF(ISBLANK($C20),"",IF(AND($C20<=AI$2,$D20>=AI$2),$B20,"")) -> 0 | AJ20: =IF(ISBLANK($C20),"",IF(AND($C20<=AJ$2,$D20>=AJ$2),$B20,"")) -> 0 | AK20: =IF(ISBLANK($C20),"",IF(AND($C20<=AK$2,$D20>=AK$2),$B20,"")) -> 0 | AL20: =IF(ISBLANK($C20),"",IF(AND($C20<=AL$2,$D20>=AL$2),$B20,"")) -> 0 | AM20: =IF(ISBLANK($C20),"",IF(AND($C20<=AM$2,$D20>=AM$2),$B20,"")) -> 0 | AN20: =IF(ISBLANK($C20),"",IF(AND($C20<=AN$2,$D20>=AN$2),$B20,"")) -> 0 | ... DQ20: =IF(ISBLANK($C20),"",IF(AND($C20<=DQ$2,$D20>=DQ$2),$B20,""))
A21: ALT | C21: Durée Form (en H) --> | D21: =1680+70+70 -> 1820 | E21: Durée PAE 1 (SEM) --> | F21: 7 | G21: Durée PAE 2 (SEM) --> | H21: 7 | I21: Durée PAE 3 (SEM) --> | J21: 10 | K21: Durée PAE 4 (SEM) --> | L21: 8 | M21: Durée PAE 5 (SEM) --> | N21: 8 | O21: Durée PAE 6 (SEM) --> | Q21: Durée PAE 7 (SEM) --> | S21: Durée PAE 8 (SEM) --> | U21: Durée PAE 9 (SEM) --> | W21: Durée PAE 10 (SEM) -> | Y21: Durée PAE 11 (SEM) --> | AA21: Durée PAE 12 (SEM) -->
A22: 24529 | B22: 0 | C22: 45719 | D22: =IF(ISBLANK(C22),"??? --/--/----",C22+((D21/35)*7-3)) -> 46080 | E22: 45733 | F22: =IF(ISBLANK(E22),"??? --/--/----",E22+((F21-1)*7+4)) -> 45779 | G22: 45796 | H22: =IF(ISBLANK(G22),"??? --/--/----",G22+((H21-1)*7+4)) -> 45842 | I22: 45859 | J22: =IF(ISBLANK(I22),"??? --/--/----",I22+((J21-1)*7+4)) -> 45926 | K22: 45943 | L22: =IF(ISBLANK(K22),"??? --/--/----",K22+((L21-1)*7+4)) -> 45996 | M22: 46013 | N22: =IF(ISBLANK(M22),"??? --/--/----",M22+((N21-1)*7+4)) -> 46066 | P22: =IF(ISBLANK(O22),"??? --/--/----",O22+((P21-1)*7+4)) -> ??? --/--/---- | R22: =IF(ISBLANK(Q22),"??? --/--/----",Q22+((R21-1)*7+4)) -> ??? --/--/---- | T22: =IF(ISBLANK(S22),"??? --/--/----",S22+((T21-1)*7+4)) -> ??? --/--/---- | V22: =IF(ISBLANK(U22),"??? --/--/----",U22+((V21-1)*7+4)) -> ??? --/--/---- | X22: =IF(ISBLANK(W22),"??? --/--/----",W22+((X21-1)*7+4)) -> ??? --/--/---- | Z22: =IF(ISBLANK(Y22),"??? --/--/----",Y22+((Z21-1)*7+4)) -> ??? --/--/---- | AB22: =IF(ISBLANK(AA22),"??? --/--/----",AA22+((AB21-1)*7+4)) -> ??? --/--/---- | AG22: =IF(ISBLANK($C22),"",IF(AND($C22<=AG$2,$D22>=AG$2),$B22,"")) | AH22: =IF(ISBLANK($C22),"",IF(AND($C22<=AH$2,$D22>=AH$2),$B22,"")) -> 0 | AI22: =IF(ISBLANK($C22),"",IF(AND($C22<=AI$2,$D22>=AI$2),$B22,"")) -> 0 | AJ22: =IF(ISBLANK($C22),"",IF(AND($C22<=AJ$2,$D22>=AJ$2),$B22,"")) -> 0 | AK22: =IF(ISBLANK($C22),"",IF(AND($C22<=AK$2,$D22>=AK$2),$B22,"")) -> 0 | AL22: =IF(ISBLANK($C22),"",IF(AND($C22<=AL$2,$D22>=AL$2),$B22,"")) -> 0 | AM22: =IF(ISBLANK($C22),"",IF(AND($C22<=AM$2,$D22>=AM$2),$B22,"")) -> 0 | AN22: =IF(ISBLANK($C22),"",IF(AND($C22<=AN$2,$D22>=AN$2),$B22,"")) -> 0 | ... DQ22: =IF(ISBLANK($C22),"",IF(AND($C22<=DQ$2,$D22>=DQ$2),$B22,""))
A23: HSP v2 | C23: Durée Form (en H) --> | D23: =1155+70+35+70+35 -> 1365 | E23: Durée PAE 1 (SEM) --> | F23: 5 | G23: Durée PAE 2 (SEM) --> | H23: 5 | I23: Durée PAE 3 (SEM) --> | K23: Durée PAE 4 (SEM) --> | M23: Durée PAE 5 (SEM) --> | O23: Durée PAE 6 (SEM) --> | Q23: Durée PAE 7 (SEM) --> | S23: Durée PAE 8 (SEM) --> | U23: Durée PAE 9 (SEM) --> | W23: Durée PAE 10 (SEM) -> | Y23: Durée PAE 11 (SEM) --> | AA23: Durée PAE 12 (SEM) -->
A24: 25122 | B24: 0 | C24: 45810 | D24: =IF(ISBLANK(C24),"??? --/--/----",C24+((D23/35)*7-3)) -> 46080 | E24: 45859 | F24: =IF(ISBLANK(E24),"??? --/--/----",E24+((F23-1)*7+4)) -> 45891 | G24: 45950 | H24: =IF(ISBLANK(G24),"??? --/--/----",G24+((H23-1)*7+4)) -> 45982 | J24: =IF(ISBLANK(I24),"??? --/--/----",I24+((J23-1)*7+4)) -> ??? --/--/---- | L24: =IF(ISBLANK(K24),"??? --/--/----",K24+((L23-1)*7+4)) -> ??? --/--/---- | N24: =IF(ISBLANK(M24),"??? --/--/----",M24+((N23-1)*7+4)) -> ??? --/--/---- | P24: =IF(ISBLANK(O24),"??? --/--/----",O24+((P23-1)*7+4)) -> ??? --/--/---- | R24: =IF(ISBLANK(Q24),"??? --/--/----",Q24+((R23-1)*7+4)) -> ??? --/--/---- | T24: =IF(ISBLANK(S24),"??? --/--/----",S24+((T23-1)*7+4)) -> ??? --/--/---- | V24: =IF(ISBLANK(U24),"??? --/--/----",U24+((V23-1)*7+4)) -> ??? --/--/---- | X24: =IF(ISBLANK(W24),"??? --/--/----",W24+((X23-1)*7+4)) -> ??? --/--/---- | Z24: =IF(ISBLANK(Y24),"??? --/--/----",Y24+((Z23-1)*7+4)) -> ??? --/--/---- | AB24: =IF(ISBLANK(AA24),"??? --/--/----",AA24+((AB23-1)*7+4)) -> ??? --/--/---- | AG24: =IF(ISBLANK($C24),"",IF(AND($C24<=AG$2,$D24>=AG$2),$B24,"")) | AH24: =IF(ISBLANK($C24),"",IF(AND($C24<=AH$2,$D24>=AH$2),$B24,"")) | AI24: =IF(ISBLANK($C24),"",IF(AND($C24<=AI$2,$D24>=AI$2),$B24,"")) | AJ24: =IF(ISBLANK($C24),"",IF(AND($C24<=AJ$2,$D24>=AJ$2),$B24,"")) | AK24: =IF(ISBLANK($C24),"",IF(AND($C24<=AK$2,$D24>=AK$2),$B24,"")) | AL24: =IF(ISBLANK($C24),"",IF(AND($C24<=AL$2,$D24>=AL$2),$B24,"")) | AM24: =IF(ISBLANK($C24),"",IF(AND($C24<=AM$2,$D24>=AM$2),$B24,"")) | AN24: =IF(ISBLANK($C24),"",IF(AND($C24<=AN$2,$D24>=AN$2),$B24,"")) | ... DQ24: =IF(ISBLANK($C24),"",IF(AND($C24<=DQ$2,$D24>=DQ$2),$B24,""))
A25: MP | C25: Durée Form (en H) --> | D25: 770 | E25: Durée PAE 1 (SEM) --> | F25: 4 | G25: Durée PAE 2 (SEM) --> | I25: Durée PAE 3 (SEM) --> | K25: Durée PAE 4 (SEM) --> | M25: Durée PAE 5 (SEM) --> | O25: Durée PAE 6 (SEM) --> | Q25: Durée PAE 7 (SEM) --> | S25: Durée PAE 8 (SEM) --> | U25: Durée PAE 9 (SEM) --> | W25: Durée PAE 10 (SEM) -> | Y25: Durée PAE 11 (SEM) --> | AA25: Durée PAE 12 (SEM) -->
A26: 24520 | B26: 1 | C26: 45810 | D26: =IF(ISBLANK(C26),"??? --/--/----",C26+((D25/35)*7-3)) -> 45961 | E26: 45852 | F26: =IF(ISBLANK(E26),"??? --/--/----",E26+((F25-1)*7+4)) -> 45877 | H26: =IF(ISBLANK(G26),"??? --/--/----",G26+((H25-1)*7+4)) -> ??? --/--/---- | J26: =IF(ISBLANK(I26),"??? --/--/----",I26+((J25-1)*7+4)) -> ??? --/--/---- | L26: =IF(ISBLANK(K26),"??? --/--/----",K26+((L25-1)*7+4)) -> ??? --/--/---- | N26: =IF(ISBLANK(M26),"??? --/--/----",M26+((N25-1)*7+4)) -> ??? --/--/---- | P26: =IF(ISBLANK(O26),"??? --/--/----",O26+((P25-1)*7+4)) -> ??? --/--/---- | R26: =IF(ISBLANK(Q26),"??? --/--/----",Q26+((R25-1)*7+4)) -> ??? --/--/---- | T26: =IF(ISBLANK(S26),"??? --/--/----",S26+((T25-1)*7+4)) -> ??? --/--/---- | V26: =IF(ISBLANK(U26),"??? --/--/----",U26+((V25-1)*7+4)) -> ??? --/--/---- | X26: =IF(ISBLANK(W26),"??? --/--/----",W26+((X25-1)*7+4)) -> ??? --/--/---- | Z26: =IF(ISBLANK(Y26),"??? --/--/----",Y26+((Z25-1)*7+4)) -> ??? --/--/---- | AB26: =IF(ISBLANK(AA26),"??? --/--/----",AA26+((AB25-1)*7+4)) -> ??? --/--/---- | AG26: =IF(ISBLANK($C26),"",IF(AND($C26<=AG$2,$D26>=AG$2),$B26,"")) | AH26: =IF(ISBLANK($C26),"",IF(AND($C26<=AH$2,$D26>=AH$2),$B26,"")) | AI26: =IF(ISBLANK($C26),"",IF(AND($C26<=AI$2,$D26>=AI$2),$B26,"")) | AJ26: =IF(ISBLANK($C26),"",IF(AND($C26<=AJ$2,$D26>=AJ$2),$B26,"")) | AK26: =IF(ISBLANK($C26),"",IF(AND($C26<=AK$2,$D26>=AK$2),$B26,"")) | AL26: =IF(ISBLANK($C26),"",IF(AND($C26<=AL$2,$D26>=AL$2),$B26,"")) | AM26: =IF(ISBLANK($C26),"",IF(AND($C26<=AM$2,$D26>=AM$2),$B26,"")) | AN26: =IF(ISBLANK($C26),"",IF(AND($C26<=AN$2,$D26>=AN$2),$B26,"")) | ... DQ26: =IF(ISBLANK($C26),"",IF(AND($C26<=DQ$2,$D26>=DQ$2),$B26,""))
A27: ALT | C27: Durée Form (en H) --> | D27: =1680+105 -> 1785 | E27: Durée PAE 1 (SEM) --> | F27: 6 | G27: Durée PAE 2 (SEM) --> | H27: 8 | I27: Durée PAE 3 (SEM) --> | J27: 8 | K27: Durée PAE 4 (SEM) --> | L27: 8 | M27: Durée PAE 5 (SEM) --> | N27: 9 | O27: Durée PAE 6 (SEM) --> | Q27: Durée PAE 7 (SEM) --> | S27: Durée PAE 8 (SEM) --> | U27: Durée PAE 9 (SEM) --> | W27: Durée PAE 10 (SEM) -> | Y27: Durée PAE 11 (SEM) --> | AA27: Durée PAE 12 (SEM) -->
A28: 24531 | B28: 0 | C28: 45789 | D28: =IF(ISBLANK(C28),"??? --/--/----",C28+((D27/35)*7-3)) -> 46143 | E28: 45803 | F28: =IF(ISBLANK(E28),"??? --/--/----",E28+((F27-1)*7+4)) -> 45842 | G28: 45859 | H28: =IF(ISBLANK(G28),"??? --/--/----",G28+((H27-1)*7+4)) -> 45912 | I28: 45929 | J28: =IF(ISBLANK(I28),"??? --/--/----",I28+((J27-1)*7+4)) -> 45982 | K28: 45999 | L28: =IF(ISBLANK(K28),"??? --/--/----",K28+((L27-1)*7+4)) -> 46052 | M28: 46069 | N28: =IF(ISBLANK(M28),"??? --/--/----",M28+((N27-1)*7+4)) -> 46129 | P28: =IF(ISBLANK(O28),"??? --/--/----",O28+((P27-1)*7+4)) -> ??? --/--/---- | R28: =IF(ISBLANK(Q28),"??? --/--/----",Q28+((R27-1)*7+4)) -> ??? --/--/---- | T28: =IF(ISBLANK(S28),"??? --/--/----",S28+((T27-1)*7+4)) -> ??? --/--/---- | V28: =IF(ISBLANK(U28),"??? --/--/----",U28+((V27-1)*7+4)) -> ??? --/--/---- | X28: =IF(ISBLANK(W28),"??? --/--/----",W28+((X27-1)*7+4)) -> ??? --/--/---- | Z28: =IF(ISBLANK(Y28),"??? --/--/----",Y28+((Z27-1)*7+4)) -> ??? --/--/---- | AB28: =IF(ISBLANK(AA28),"??? --/--/----",AA28+((AB27-1)*7+4)) -> ??? --/--/---- | AG28: =IF(ISBLANK($C28),"",IF(AND($C28<=AG$2,$D28>=AG$2),$B28,"")) | AH28: =IF(ISBLANK($C28),"",IF(AND($C28<=AH$2,$D28>=AH$2),$B28,"")) | AI28: =IF(ISBLANK($C28),"",IF(AND($C28<=AI$2,$D28>=AI$2),$B28,"")) | AJ28: =IF(ISBLANK($C28),"",IF(AND($C28<=AJ$2,$D28>=AJ$2),$B28,"")) | AK28: =IF(ISBLANK($C28),"",IF(AND($C28<=AK$2,$D28>=AK$2),$B28,"")) | AL28: =IF(ISBLANK($C28),"",IF(AND($C28<=AL$2,$D28>=AL$2),$B28,"")) | AM28: =IF(ISBLANK($C28),"",IF(AND($C28<=AM$2,$D28>=AM$2),$B28,"")) | AN28: =IF(ISBLANK($C28),"",IF(AND($C28<=AN$2,$D28>=AN$2),$B28,"")) | ... DQ28: =IF(ISBLANK($C28),"",IF(AND($C28<=DQ$2,$D28>=DQ$2),$B28,""))
A29: HSP v2 | C29: Durée Form (en H) --> | D29: =1155+35+35 -> 1225 | E29: Durée PAE 1 (SEM) --> | F29: 4 | G29: Durée PAE 2 (SEM) --> | H29: 5 | I29: Durée PAE 3 (SEM) --> | K29: Durée PAE 4 (SEM) --> | M29: Durée PAE 5 (SEM) --> | O29: Durée PAE 6 (SEM) --> | Q29: Durée PAE 7 (SEM) --> | S29: Durée PAE 8 (SEM) --> | U29: Durée PAE 9 (SEM) --> | W29: Durée PAE 10 (SEM) -> | Y29: Durée PAE 11 (SEM) --> | AA29: Durée PAE 12 (SEM) -->
A30: 24512 | B30: 6 | C30: 45901 | D30: =IF(ISBLANK(C30),"??? --/--/----",C30+((D29/35)*7-3)) -> 46143 | E30: 45950 | F30: =IF(ISBLANK(E30),"??? --/--/----",E30+((F29-1)*7+4)) -> 45975 | G30: 46069 | H30: =IF(ISBLANK(G30),"??? --/--/----",G30+((H29-1)*7+4)) -> 46101 | J30: =IF(ISBLANK(I30),"??? --/--/----",I30+((J29-1)*7+4)) -> ??? --/--/---- | L30: =IF(ISBLANK(K30),"??? --/--/----",K30+((L29-1)*7+4)) -> ??? --/--/---- | N30: =IF(ISBLANK(M30),"??? --/--/----",M30+((N29-1)*7+4)) -> ??? --/--/---- | P30: =IF(ISBLANK(O30),"??? --/--/----",O30+((P29-1)*7+4)) -> ??? --/--/---- | R30: =IF(ISBLANK(Q30),"??? --/--/----",Q30+((R29-1)*7+4)) -> ??? --/--/---- | T30: =IF(ISBLANK(S30),"??? --/--/----",S30+((T29-1)*7+4)) -> ??? --/--/---- | V30: =IF(ISBLANK(U30),"??? --/--/----",U30+((V29-1)*7+4)) -> ??? --/--/---- | X30: =IF(ISBLANK(W30),"??? --/--/----",W30+((X29-1)*7+4)) -> ??? --/--/---- | Z30: =IF(ISBLANK(Y30),"??? --/--/----",Y30+((Z29-1)*7+4)) -> ??? --/--/---- | AB30: =IF(ISBLANK(AA30),"??? --/--/----",AA30+((AB29-1)*7+4)) -> ??? --/--/---- | AG30: =IF(ISBLANK($C30),"",IF(AND($C30<=AG$2,$D30>=AG$2),$B30,"")) | AH30: =IF(ISBLANK($C30),"",IF(AND($C30<=AH$2,$D30>=AH$2),$B30,"")) | AI30: =IF(ISBLANK($C30),"",IF(AND($C30<=AI$2,$D30>=AI$2),$B30,"")) | AJ30: =IF(ISBLANK($C30),"",IF(AND($C30<=AJ$2,$D30>=AJ$2),$B30,"")) | AK30: =IF(ISBLANK($C30),"",IF(AND($C30<=AK$2,$D30>=AK$2),$B30,"")) | AL30: =IF(ISBLANK($C30),"",IF(AND($C30<=AL$2,$D30>=AL$2),$B30,"")) | AM30: =IF(ISBLANK($C30),"",IF(AND($C30<=AM$2,$D30>=AM$2),$B30,"")) | AN30: =IF(ISBLANK($C30),"",IF(AND($C30<=AN$2,$D30>=AN$2),$B30,"")) | ... DQ30: =IF(ISBLANK($C30),"",IF(AND($C30<=DQ$2,$D30>=DQ$2),$B30,""))
A31: MP | C31: Durée Form (en H) --> | D31: =735+35 -> 770 | E31: Durée PAE 1 (SEM) --> | F31: 4 | G31: Durée PAE 2 (SEM) --> | I31: Durée PAE 3 (SEM) --> | K31: Durée PAE 4 (SEM) --> | M31: Durée PAE 5 (SEM) --> | O31: Durée PAE 6 (SEM) --> | Q31: Durée PAE 7 (SEM) --> | S31: Durée PAE 8 (SEM) --> | U31: Durée PAE 9 (SEM) --> | W31: Durée PAE 10 (SEM) -> | Y31: Durée PAE 11 (SEM) --> | AA31: Durée PAE 12 (SEM) -->
A32: 24522 | B32: 0 | C32: 45929 | D32: =IF(ISBLANK(C32),"??? --/--/----",C32+((D31/35)*7-3)) -> 46080 | E32: 45950 | F32: =IF(ISBLANK(E32),"??? --/--/----",E32+((F31-1)*7+4)) -> 45975 | H32: =IF(ISBLANK(G32),"??? --/--/----",G32+((H31-1)*7+4)) -> ??? --/--/---- | J32: =IF(ISBLANK(I32),"??? --/--/----",I32+((J31-1)*7+4)) -> ??? --/--/---- | L32: =IF(ISBLANK(K32),"??? --/--/----",K32+((L31-1)*7+4)) -> ??? --/--/---- | N32: =IF(ISBLANK(M32),"??? --/--/----",M32+((N31-1)*7+4)) -> ??? --/--/---- | P32: =IF(ISBLANK(O32),"??? --/--/----",O32+((P31-1)*7+4)) -> ??? --/--/---- | R32: =IF(ISBLANK(Q32),"??? --/--/----",Q32+((R31-1)*7+4)) -> ??? --/--/---- | T32: =IF(ISBLANK(S32),"??? --/--/----",S32+((T31-1)*7+4)) -> ??? --/--/---- | V32: =IF(ISBLANK(U32),"??? --/--/----",U32+((V31-1)*7+4)) -> ??? --/--/---- | X32: =IF(ISBLANK(W32),"??? --/--/----",W32+((X31-1)*7+4)) -> ??? --/--/---- | Z32: =IF(ISBLANK(Y32),"??? --/--/----",Y32+((Z31-1)*7+4)) -> ??? --/--/---- | AB32: =IF(ISBLANK(AA32),"??? --/--/----",AA32+((AB31-1)*7+4)) -> ??? --/--/---- | AG32: =IF(ISBLANK($C32),"",IF(AND($C32<=AG$2,$D32>=AG$2),$B32,"")) | AH32: =IF(ISBLANK($C32),"",IF(AND($C32<=AH$2,$D32>=AH$2),$B32,"")) | AI32: =IF(ISBLANK($C32),"",IF(AND($C32<=AI$2,$D32>=AI$2),$B32,"")) | AJ32: =IF(ISBLANK($C32),"",IF(AND($C32<=AJ$2,$D32>=AJ$2),$B32,"")) | AK32: =IF(ISBLANK($C32),"",IF(AND($C32<=AK$2,$D32>=AK$2),$B32,"")) | AL32: =IF(ISBLANK($C32),"",IF(AND($C32<=AL$2,$D32>=AL$2),$B32,"")) | AM32: =IF(ISBLANK($C32),"",IF(AND($C32<=AM$2,$D32>=AM$2),$B32,"")) | AN32: =IF(ISBLANK($C32),"",IF(AND($C32<=AN$2,$D32>=AN$2),$B32,"")) | ... DQ32: =IF(ISBLANK($C32),"",IF(AND($C32<=DQ$2,$D32>=DQ$2),$B32,""))
A33: ALT | C33: Durée Form (en H) --> | D33: =1680+105 -> 1785 | E33: Durée PAE 1 (SEM) --> | F33: 6 | G33: Durée PAE 2 (SEM) --> | H33: 8 | I33: Durée PAE 3 (SEM) --> | J33: 10 | K33: Durée PAE 4 (SEM) --> | L33: 7 | M33: Durée PAE 5 (SEM) --> | N33: 6 | O33: Durée PAE 6 (SEM) --> | Q33: Durée PAE 7 (SEM) --> | S33: Durée PAE 8 (SEM) --> | U33: Durée PAE 9 (SEM) --> | W33: Durée PAE 10 (SEM) -> | Y33: Durée PAE 11 (SEM) --> | AA33: Durée PAE 12 (SEM) -->
A34: 24533 | B34: 0 | C34: 45873 | D34: =IF(ISBLANK(C34),"??? --/--/----",C34+((D33/35)*7-3)) -> 46227 | E34: 45894 | F34: =IF(ISBLANK(E34),"??? --/--/----",E34+((F33-1)*7+4)) -> 45933 | G34: 45950 | H34: =IF(ISBLANK(G34),"??? --/--/----",G34+((H33-1)*7+4)) -> 46003 | I34: 46027 | J34: =IF(ISBLANK(I34),"??? --/--/----",I34+((J33-1)*7+4)) -> 46094 | K34: 46111 | L34: =IF(ISBLANK(K34),"??? --/--/----",K34+((L33-1)*7+4)) -> 46157 | M34: 46174 | N34: =IF(ISBLANK(M34),"??? --/--/----",M34+((N33-1)*7+4)) -> 46213 | P34: =IF(ISBLANK(O34),"??? --/--/----",O34+((P33-1)*7+4)) -> ??? --/--/---- | R34: =IF(ISBLANK(Q34),"??? --/--/----",Q34+((R33-1)*7+4)) -> ??? --/--/---- | T34: =IF(ISBLANK(S34),"??? --/--/----",S34+((T33-1)*7+4)) -> ??? --/--/---- | V34: =IF(ISBLANK(U34),"??? --/--/----",U34+((V33-1)*7+4)) -> ??? --/--/---- | X34: =IF(ISBLANK(W34),"??? --/--/----",W34+((X33-1)*7+4)) -> ??? --/--/---- | Z34: =IF(ISBLANK(Y34),"??? --/--/----",Y34+((Z33-1)*7+4)) -> ??? --/--/---- | AB34: =IF(ISBLANK(AA34),"??? --/--/----",AA34+((AB33-1)*7+4)) -> ??? --/--/---- | AG34: =IF(ISBLANK($C34),"",IF(AND($C34<=AG$2,$D34>=AG$2),$B34,"")) | AH34: =IF(ISBLANK($C34),"",IF(AND($C34<=AH$2,$D34>=AH$2),$B34,"")) | AI34: =IF(ISBLANK($C34),"",IF(AND($C34<=AI$2,$D34>=AI$2),$B34,"")) | AJ34: =IF(ISBLANK($C34),"",IF(AND($C34<=AJ$2,$D34>=AJ$2),$B34,"")) | AK34: =IF(ISBLANK($C34),"",IF(AND($C34<=AK$2,$D34>=AK$2),$B34,"")) | AL34: =IF(ISBLANK($C34),"",IF(AND($C34<=AL$2,$D34>=AL$2),$B34,"")) | AM34: =IF(ISBLANK($C34),"",IF(AND($C34<=AM$2,$D34>=AM$2),$B34,"")) | AN34: =IF(ISBLANK($C34),"",IF(AND($C34<=AN$2,$D34>=AN$2),$B34,"")) | ... DQ34: =IF(ISBLANK($C34),"",IF(AND($C34<=DQ$2,$D34>=DQ$2),$B34,""))
A35: HSP v2 | C35: Durée Form (en H) --> | D35: =1155+70+35 -> 1260 | E35: Durée PAE 1 (SEM) --> | F35: 4 | G35: Durée PAE 2 (SEM) --> | H35: 5 | I35: Durée PAE 3 (SEM) --> | K35: Durée PAE 4 (SEM) --> | M35: Durée PAE 5 (SEM) --> | O35: Durée PAE 6 (SEM) --> | Q35: Durée PAE 7 (SEM) --> | S35: Durée PAE 8 (SEM) --> | U35: Durée PAE 9 (SEM) --> | W35: Durée PAE 10 (SEM) -> | Y35: Durée PAE 11 (SEM) --> | AA35: Durée PAE 12 (SEM) -->
A36: 24514 | B36: 4 | C36: 45978 | D36: =IF(ISBLANK(C36),"??? --/--/----",C36+((D35/35)*7-3)) -> 46227 | E36: 46069 | F36: =IF(ISBLANK(E36),"??? --/--/----",E36+((F35-1)*7+4)) -> 46094 | G36: 46132 | H36: =IF(ISBLANK(G36),"??? --/--/----",G36+((H35-1)*7+4)) -> 46164 | J36: =IF(ISBLANK(I36),"??? --/--/----",I36+((J35-1)*7+4)) -> ??? --/--/---- | L36: =IF(ISBLANK(K36),"??? --/--/----",K36+((L35-1)*7+4)) -> ??? --/--/---- | N36: =IF(ISBLANK(M36),"??? --/--/----",M36+((N35-1)*7+4)) -> ??? --/--/---- | P36: =IF(ISBLANK(O36),"??? --/--/----",O36+((P35-1)*7+4)) -> ??? --/--/---- | R36: =IF(ISBLANK(Q36),"??? --/--/----",Q36+((R35-1)*7+4)) -> ??? --/--/---- | T36: =IF(ISBLANK(S36),"??? --/--/----",S36+((T35-1)*7+4)) -> ??? --/--/---- | V36: =IF(ISBLANK(U36),"??? --/--/----",U36+((V35-1)*7+4)) -> ??? --/--/---- | X36: =IF(ISBLANK(W36),"??? --/--/----",W36+((X35-1)*7+4)) -> ??? --/--/---- | Z36: =IF(ISBLANK(Y36),"??? --/--/----",Y36+((Z35-1)*7+4)) -> ??? --/--/---- | AB36: =IF(ISBLANK(AA36),"??? --/--/----",AA36+((AB35-1)*7+4)) -> ??? --/--/---- | AG36: =IF(ISBLANK($C36),"",IF(AND($C36<=AG$2,$D36>=AG$2),$B36,"")) | AH36: =IF(ISBLANK($C36),"",IF(AND($C36<=AH$2,$D36>=AH$2),$B36,"")) | AI36: =IF(ISBLANK($C36),"",IF(AND($C36<=AI$2,$D36>=AI$2),$B36,"")) | AJ36: =IF(ISBLANK($C36),"",IF(AND($C36<=AJ$2,$D36>=AJ$2),$B36,"")) | AK36: =IF(ISBLANK($C36),"",IF(AND($C36<=AK$2,$D36>=AK$2),$B36,"")) | AL36: =IF(ISBLANK($C36),"",IF(AND($C36<=AL$2,$D36>=AL$2),$B36,"")) | AM36: =IF(ISBLANK($C36),"",IF(AND($C36<=AM$2,$D36>=AM$2),$B36,"")) | AN36: =IF(ISBLANK($C36),"",IF(AND($C36<=AN$2,$D36>=AN$2),$B36,"")) | ... DQ36: =IF(ISBLANK($C36),"",IF(AND($C36<=DQ$2,$D36>=DQ$2),$B36,""))
A37: MP | C37: Durée Form (en H) --> | D37: =700+70 -> 770 | E37: Durée PAE 1 (SEM) --> | F37: 4 | G37: Durée PAE 2 (SEM) --> | I37: Durée PAE 3 (SEM) --> | K37: Durée PAE 4 (SEM) --> | M37: Durée PAE 5 (SEM) --> | O37: Durée PAE 6 (SEM) --> | Q37: Durée PAE 7 (SEM) --> | S37: Durée PAE 8 (SEM) --> | U37: Durée PAE 9 (SEM) --> | W37: Durée PAE 10 (SEM) -> | Y37: Durée PAE 11 (SEM) --> | AA37: Durée PAE 12 (SEM) -->
A38: 24524 | B38: 1 | C38: 45992 | D38: =IF(ISBLANK(C38),"??? --/--/----",C38+((D37/35)*7-3)) -> 46143 | E38: 46069 | F38: =IF(ISBLANK(E38),"??? --/--/----",E38+((F37-1)*7+4)) -> 46094 | H38: =IF(ISBLANK(G38),"??? --/--/----",G38+((H37-1)*7+4)) -> ??? --/--/---- | J38: =IF(ISBLANK(I38),"??? --/--/----",I38+((J37-1)*7+4)) -> ??? --/--/---- | L38: =IF(ISBLANK(K38),"??? --/--/----",K38+((L37-1)*7+4)) -> ??? --/--/---- | N38: =IF(ISBLANK(M38),"??? --/--/----",M38+((N37-1)*7+4)) -> ??? --/--/---- | P38: =IF(ISBLANK(O38),"??? --/--/----",O38+((P37-1)*7+4)) -> ??? --/--/---- | R38: =IF(ISBLANK(Q38),"??? --/--/----",Q38+((R37-1)*7+4)) -> ??? --/--/---- | T38: =IF(ISBLANK(S38),"??? --/--/----",S38+((T37-1)*7+4)) -> ??? --/--/---- | V38: =IF(ISBLANK(U38),"??? --/--/----",U38+((V37-1)*7+4)) -> ??? --/--/---- | X38: =IF(ISBLANK(W38),"??? --/--/----",W38+((X37-1)*7+4)) -> ??? --/--/---- | Z38: =IF(ISBLANK(Y38),"??? --/--/----",Y38+((Z37-1)*7+4)) -> ??? --/--/---- | AB38: =IF(ISBLANK(AA38),"??? --/--/----",AA38+((AB37-1)*7+4)) -> ??? --/--/---- | AG38: =IF(ISBLANK($C38),"",IF(AND($C38<=AG$2,$D38>=AG$2),$B38,"")) | AH38: =IF(ISBLANK($C38),"",IF(AND($C38<=AH$2,$D38>=AH$2),$B38,"")) | AI38: =IF(ISBLANK($C38),"",IF(AND($C38<=AI$2,$D38>=AI$2),$B38,"")) | AJ38: =IF(ISBLANK($C38),"",IF(AND($C38<=AJ$2,$D38>=AJ$2),$B38,"")) | AK38: =IF(ISBLANK($C38),"",IF(AND($C38<=AK$2,$D38>=AK$2),$B38,"")) | AL38: =IF(ISBLANK($C38),"",IF(AND($C38<=AL$2,$D38>=AL$2),$B38,"")) | AM38: =IF(ISBLANK($C38),"",IF(AND($C38<=AM$2,$D38>=AM$2),$B38,"")) | AN38: =IF(ISBLANK($C38),"",IF(AND($C38<=AN$2,$D38>=AN$2),$B38,"")) | ... DQ38: =IF(ISBLANK($C38),"",IF(AND($C38<=DQ$2,$D38>=DQ$2),$B38,""))
A39: ALT | C39: Durée Form (en H) --> | D39: =1680+105 -> 1785 | E39: Durée PAE 1 (SEM) --> | F39: 8 | G39: Durée PAE 2 (SEM) --> | H39: 8 | I39: Durée PAE 3 (SEM) --> | J39: 10 | K39: Durée PAE 4 (SEM) --> | L39: 8 | M39: Durée PAE 5 (SEM) --> | N39: 5 | O39: Durée PAE 6 (SEM) --> | Q39: Durée PAE 7 (SEM) --> | S39: Durée PAE 8 (SEM) --> | U39: Durée PAE 9 (SEM) --> | W39: Durée PAE 10 (SEM) -> | Y39: Durée PAE 11 (SEM) --> | AA39: Durée PAE 12 (SEM) -->
A40: 24535 | B40: 1 | C40: 45978 | D40: =IF(ISBLANK(C40),"??? --/--/----",C40+((D39/35)*7-3)) -> 46332 | E40: 45992 | F40: =IF(ISBLANK(E40),"??? --/--/----",E40+((F39-1)*7+4)) -> 46045 | G40: 46062 | H40: =IF(ISBLANK(G40),"??? --/--/----",G40+((H39-1)*7+4)) -> 46115 | I40: 46132 | J40: =IF(ISBLANK(I40),"??? --/--/----",I40+((J39-1)*7+4)) -> 46199 | K40: 46216 | L40: =IF(ISBLANK(K40),"??? --/--/----",K40+((L39-1)*7+4)) -> 46269 | M40: 46286 | N40: =IF(ISBLANK(M40),"??? --/--/----",M40+((N39-1)*7+4)) -> 46318 | P40: =IF(ISBLANK(O40),"??? --/--/----",O40+((P39-1)*7+4)) -> ??? --/--/---- | R40: =IF(ISBLANK(Q40),"??? --/--/----",Q40+((R39-1)*7+4)) -> ??? --/--/---- | T40: =IF(ISBLANK(S40),"??? --/--/----",S40+((T39-1)*7+4)) -> ??? --/--/---- | V40: =IF(ISBLANK(U40),"??? --/--/----",U40+((V39-1)*7+4)) -> ??? --/--/---- | X40: =IF(ISBLANK(W40),"??? --/--/----",W40+((X39-1)*7+4)) -> ??? --/--/---- | Z40: =IF(ISBLANK(Y40),"??? --/--/----",Y40+((Z39-1)*7+4)) -> ??? --/--/---- | AB40: =IF(ISBLANK(AA40),"??? --/--/----",AA40+((AB39-1)*7+4)) -> ??? --/--/---- | AG40: =IF(ISBLANK($C40),"",IF(AND($C40<=AG$2,$D40>=AG$2),$B40,"")) | AH40: =IF(ISBLANK($C40),"",IF(AND($C40<=AH$2,$D40>=AH$2),$B40,"")) | AI40: =IF(ISBLANK($C40),"",IF(AND($C40<=AI$2,$D40>=AI$2),$B40,"")) | AJ40: =IF(ISBLANK($C40),"",IF(AND($C40<=AJ$2,$D40>=AJ$2),$B40,"")) | AK40: =IF(ISBLANK($C40),"",IF(AND($C40<=AK$2,$D40>=AK$2),$B40,"")) | AL40: =IF(ISBLANK($C40),"",IF(AND($C40<=AL$2,$D40>=AL$2),$B40,"")) | AM40: =IF(ISBLANK($C40),"",IF(AND($C40<=AM$2,$D40>=AM$2),$B40,"")) | AN40: =IF(ISBLANK($C40),"",IF(AND($C40<=AN$2,$D40>=AN$2),$B40,"")) | ... DQ40: =IF(ISBLANK($C40),"",IF(AND($C40<=DQ$2,$D40>=DQ$2),$B40,"")) -> 1
A41: HSP v2 | C41: Durée Form (en H) --> | D41: =1155+70 -> 1225 | E41: Durée PAE 1 (SEM) --> | F41: 4 | G41: Durée PAE 2 (SEM) --> | H41: 6 | I41: Durée PAE 3 (SEM) --> | K41: Durée PAE 4 (SEM) --> | M41: Durée PAE 5 (SEM) --> | O41: Durée PAE 6 (SEM) --> | Q41: Durée PAE 7 (SEM) --> | S41: Durée PAE 8 (SEM) --> | U41: Durée PAE 9 (SEM) --> | W41: Durée PAE 10 (SEM) -> | Y41: Durée PAE 11 (SEM) --> | AA41: Durée PAE 12 (SEM) -->
...

Sheet Cal. Offre
A1: MODE D'EMPLOI | D1: Ne remplir que le numéro d'offre, dans la case indiquée. Le reste se remplira automatiquement. Les calculs des nombres d'heures en entreprise, en centre et en formation se fait automatiquement. Si vous souhaitez changer la durée de travail quotidienne, le tableau bleu clair avec le semainier peut être modifié. Tapez le nombre d'heures dans la cellule correspondant au jour.
J3: Stagiaire | U3: Formation | AB3: N° Offre | AH3: Date de début | AS3: Date de fin | AZ3: Entreprise
A4: Année début | B4: 2025 | AB4: =$A$7 -> 24508 | AH4: =$B$9 -> 45719 | AS4: =$B$10 -> 45968
A6: $ Remplir le numéro d'offre $
A7: 24508 | D7: =_xlfn.CONCAT("Janvier ",RIGHT($B$4,2)) -> Janvier 25 | J7: =_xlfn.CONCAT("Février ",RIGHT($B$4,2)) -> Février 25 | P7: =_xlfn.CONCAT("Mars ",RIGHT($B$4,2)) -> Mars 25 | V7: =_xlfn.CONCAT("Avril ",RIGHT($B$4,2)) -> Avril 25 | AB7: =_xlfn.CONCAT("Mai ",RIGHT($B$4,2)) -> Mai 25 | AH7: =_xlfn.CONCAT("Juin ",RIGHT($B$4,2)) -> Juin 25 | AN7: =_xlfn.CONCAT("Juillet ",RIGHT($B$4,2)) -> Juillet 25 | AT7: =_xlfn.CONCAT("Août ",RIGHT($B$4,2)) -> Août 25 | AZ7: =_xlfn.CONCAT("Septembre ",RIGHT($B$4,2)) -> Septembre 25 | BF7: =_xlfn.CONCAT("Octobre ",RIGHT($B$4,2)) -> Octobre 25 | BL7: =_xlfn.CONCAT("Novembre ",RIGHT($B$4,2)) -> Novembre 25 | BR7: =_xlfn.CONCAT("Décembre ",RIGHT($B$4,2)) -> Décembre 25
D8: =DATE($B$4,1,1) -> 45658 | E8: =IF(D8="","",IF(WEEKDAY(D8,2)>=6,"",IF(AND(D8>=$B$9,D8<=$B$10),"F",""))) | F8: =IF(D8="","",IF(WEEKDAY(D8,2)>=6,"",IF(OR(AND(D8>=$B$11,D8<=$B$12),AND(D8>=$B$13,D8<=$B$14),AND(D8>=$B$15,D8<=$B$16),AND(D8>=$B$17,D8<=$B$18),AND(D8>=$B$19,D8<=$B$20),AND(D8>=$B$21,D8<=$B$22),AND(D8>=$B$23,D8<=$B$24),AND(D8>=$B$25,D8<=$B$26),AND(D8>=$B$27,D8<=$B$28),AND(D8>=$B$29,D8<=$B$30),AND(D8>=$B$31,D8<=$B$32),AND(D8>=$B$33,D8<=$B$34)),"E",""))) | G8: =IF(D8="","",IF(WEEKDAY(D8,2)>=6,"",IF(E8="F",IF(OR(AND(D8>=$B$11,D8<=$B$12),AND(D8>=$B$13,D8<=$B$14),AND(D8>=$B$15,D8<=$B$16),AND(D8>=$B$17,D8<=$B$18),AND(D8>=$B$19,D8<=$B$20),AND(D8>=$B$21,D8<=$B$22),AND(D8>=$B$23,D8<=$B$24),AND(D8>=$B$25,D8<=$B$26),AND(D8>=$B$27,D8<=$B$28),AND(D8>=$B$29,D8<=$B$30),AND(D8>=$B$31,D8<=$B$32),AND(D8>=$B$33,D8<=$B$34)),"",I8),""))) | H8: =IF(D8="","",IF(OR(AND(D8>=ANNEXE!$E$4,D8<=ANNEXE!$F$4),AND(D8>=ANNEXE!$E$5,D8<=ANNEXE!$F$5),AND(D8>=ANNEXE!$E$6,D8<=ANNEXE!$F$6),AND(D8>=ANNEXE!$E$7,D8<=ANNEXE!$F$7),AND(D8>=ANNEXE!$E$8,D8<=ANNEXE!$F$8),AND(D8>=ANNEXE!$E$9,D8<=ANNEXE!$F$9),COUNTIF(ANNEXE!$A$4:$C$18,D8)>=1),"C","")) -> C | I8: =IF(D8="","",IF(WEEKDAY(D8,2)>5,"",IF(WEEKDAY(D8,2)=5,$B$39,IF(WEEKDAY(D8,2)=4,$B$38,IF(WEEKDAY(D8,2)=3,$B$37,IF(WEEKDAY(D8,2)=2,$B$36,IF(WEEKDAY(D8,2)=1,$B$35,"0"))))))) -> 8 | J8: =DATE($B$4,2,1) -> 45689 | K8: =IF(J8="","",IF(WEEKDAY(J8,2)>=6,"",IF(AND(J8>=$B$9,J8<=$B$10),"F",""))) | L8: =IF(J8="","",IF(WEEKDAY(J8,2)>=6,"",IF(OR(AND(J8>=$B$11,J8<=$B$12),AND(J8>=$B$13,J8<=$B$14),AND(J8>=$B$15,J8<=$B$16),AND(J8>=$B$17,J8<=$B$18),AND(J8>=$B$19,J8<=$B$20),AND(J8>=$B$21,J8<=$B$22),AND(J8>=$B$23,J8<=$B$24),AND(J8>=$B$25,J8<=$B$26)),"E",""))) | M8: =IF(J8="","",IF(WEEKDAY(J8,2)>=6,"",IF(K8="F",IF(OR(AND(J8>=$B$11,J8<=$B$12),AND(J8>=$B$13,J8<=$B$14),AND(J8>=$B$15,J8<=$B$16),AND(J8>=$B$17,J8<=$B$18),AND(J8>=$B$19,J8<=$B$20),AND(J8>=$B$21,J8<=$B$22),AND(J8>=$B$23,J8<=$B$24),AND(J8>=$B$25,J8<=$B$26)),"","P"),""))) | N8: =IF(J8="","",IF(OR(AND(J8>=ANNEXE!$E$4,J8<=ANNEXE!$F$4),AND(J8>=ANNEXE!$E$5,J8<=ANNEXE!$F$5),AND(J8>=ANNEXE!$E$6,J8<=ANNEXE!$F$6),AND(J8>=ANNEXE!$E$7,J8<=ANNEXE!$F$7),AND(J8>=ANNEXE!$E$8,J8<=ANNEXE!$F$8),AND(J8>=ANNEXE!$E$9,J8<=ANNEXE!$F$9),COUNTIF(ANNEXE!$A$4:$C$18,J8)>=1),"C","")) | O8: =IF(J8="","",IF(WEEKDAY(J8,2)>5,"",IF(WEEKDAY(J8,2)=5,$B$39,IF(WEEKDAY(J8,2)=4,$B$38,IF(WEEKDAY(J8,2)=3,$B$37,IF(WEEKDAY(J8,2)=2,$B$36,IF(WEEKDAY(J8,2)=1,$B$35,"0"))))))) | P8: =DATE($B$4,3,1) -> 45717 | Q8: =IF(P8="","",IF(WEEKDAY(P8,2)>=6,"",IF(AND(P8>=$B$9,P8<=$B$10),"F",""))) | R8: =IF(P8="","",IF(WEEKDAY(P8,2)>=6,"",IF(OR(AND(P8>=$B$11,P8<=$B$12),AND(P8>=$B$13,P8<=$B$14),AND(P8>=$B$15,P8<=$B$16),AND(P8>=$B$17,P8<=$B$18),AND(P8>=$B$19,P8<=$B$20),AND(P8>=$B$21,P8<=$B$22),AND(P8>=$B$23,P8<=$B$24),AND(P8>=$B$25,P8<=$B$26)),"E",""))) | S8: =IF(P8="","",IF(WEEKDAY(P8,2)>=6,"",IF(Q8="F",IF(OR(AND(P8>=$B$11,P8<=$B$12),AND(P8>=$B$13,P8<=$B$14),AND(P8>=$B$15,P8<=$B$16),AND(P8>=$B$17,P8<=$B$18),AND(P8>=$B$19,P8<=$B$20),AND(P8>=$B$21,P8<=$B$22),AND(P8>=$B$23,P8<=$B$24),AND(P8>=$B$25,P8<=$B$26)),"","P"),""))) | T8: =IF(P8="","",IF(OR(AND(P8>=ANNEXE!$E$4,P8<=ANNEXE!$F$4),AND(P8>=ANNEXE!$E$5,P8<=ANNEXE!$F$5),AND(P8>=ANNEXE!$E$6,P8<=ANNEXE!$F$6),AND(P8>=ANNEXE!$E$7,P8<=ANNEXE!$F$7),AND(P8>=ANNEXE!$E$8,P8<=ANNEXE!$F$8),AND(P8>=ANNEXE!$E$9,P8<=ANNEXE!$F$9),COUNTIF(ANNEXE!$A$4:$C$18,P8)>=1),"C","")) | U8: =IF(P8="","",IF(WEEKDAY(P8,2)>5,"",IF(WEEKDAY(P8,2)=5,$B$39,IF(WEEKDAY(P8,2)=4,$B$38,IF(WEEKDAY(P8,2)=3,$B$37,IF(WEEKDAY(P8,2)=2,$B$36,IF(WEEKDAY(P8,2)=1,$B$35,"0"))))))) | V8: =DATE($B$4,4,1) -> 45748 | W8: =IF(V8="","",IF(WEEKDAY(V8,2)>=6,"",IF(AND(V8>=$B$9,V8<=$B$10),"F",""))) -> F | X8: =IF(V8="","",IF(WEEKDAY(V8,2)>=6,"",IF(OR(AND(V8>=$B$11,V8<=$B$12),AND(V8>=$B$13,V8<=$B$14),AND(V8>=$B$15,V8<=$B$16),AND(V8>=$B$17,V8<=$B$18),AND(V8>=$B$19,V8<=$B$20),AND(V8>=$B$21,V8<=$B$22),AND(V8>=$B$23,V8<=$B$24),AND(V8>=$B$25,V8<=$B$26)),"E",""))) | Y8: =IF(V8="","",IF(WEEKDAY(V8,2)>=6,"",IF(W8="F",IF(OR(AND(V8>=$B$11,V8<=$B$12),AND(V8>=$B$13,V8<=$B$14),AND(V8>=$B$15,V8<=$B$16),AND(V8>=$B$17,V8<=$B$18),AND(V8>=$B$19,V8<=$B$20),AND(V8>=$B$21,V8<=$B$22),AND(V8>=$B$23,V8<=$B$24),AND(V8>=$B$25,V8<=$B$26)),"","P"),""))) -> P | Z8: =IF(V8="","",IF(OR(AND(V8>=ANNEXE!$E$4,V8<=ANNEXE!$F$4),AND(V8>=ANNEXE!$E$5,V8<=ANNEXE!$F$5),AND(V8>=ANNEXE!$E$6,V8<=ANNEXE!$F$6),AND(V8>=ANNEXE!$E$7,V8<=ANNEXE!$F$7),AND(V8>=ANNEXE!$E$8,V8<=ANNEXE!$F$8),AND(V8>=ANNEXE!$E$9,V8<=ANNEXE!$F$9),COUNTIF(ANNEXE!$A$4:$C$18,V8)>=1),"C","")) | AA8: =IF(V8="","",IF(WEEKDAY(V8,2)>5,"",IF(WEEKDAY(V8,2)=5,$B$39,IF(WEEKDAY(V8,2)=4,$B$38,IF(WEEKDAY(V8,2)=3,$B$37,IF(WEEKDAY(V8,2)=2,$B$36,IF(WEEKDAY(V8,2)=1,$B$35,"0"))))))) -> 8 | AB8: =DATE($B$4,5,1) -> 45778 | AC8: =IF(AB8="","",IF(WEEKDAY(AB8,2)>=6,"",IF(AND(AB8>=$B$9,AB8<=$B$10),"F",""))) -> F | AD8: =IF(AB8="","",IF(WEEKDAY(AB8,2)>=6,"",IF(OR(AND(AB8>=$B$11,AB8<=$B$12),AND(AB8>=$B$13,AB8<=$B$14),AND(AB8>=$B$15,AB8<=$B$16),AND(AB8>=$B$17,AB8<=$B$18),AND(AB8>=$B$19,AB8<=$B$20),AND(AB8>=$B$21,AB8<=$B$22),AND(AB8>=$B$23,AB8<=$B$24),AND(AB8>=$B$25,AB8<=$B$26)),"E",""))) | AE8: =IF(AB8="","",IF(WEEKDAY(AB8,2)>=6,"",IF(AC8="F",IF(OR(AND(AB8>=$B$11,AB8<=$B$12),AND(AB8>=$B$13,AB8<=$B$14),AND(AB8>=$B$15,AB8<=$B$16),AND(AB8>=$B$17,AB8<=$B$18),AND(AB8>=$B$19,AB8<=$B$20),AND(AB8>=$B$21,AB8<=$B$22),AND(AB8>=$B$23,AB8<=$B$24),AND(AB8>=$B$25,AB8<=$B$26)),"","P"),""))) -> P | AF8: =IF(AB8="","",IF(OR(AND(AB8>=ANNEXE!$E$4,AB8<=ANNEXE!$F$4),AND(AB8>=ANNEXE!$E$5,AB8<=ANNEXE!$F$5),AND(AB8>=ANNEXE!$E$6,AB8<=ANNEXE!$F$6),AND(AB8>=ANNEXE!$E$7,AB8<=ANNEXE!$F$7),AND(AB8>=ANNEXE!$E$8,AB8<=ANNEXE!$F$8),AND(AB8>=ANNEXE!$E$9,AB8<=ANNEXE!$F$9),COUNTIF(ANNEXE!$A$4:$C$18,AB8)>=1),"C","")) -> C | AG8: =IF(AB8="","",IF(WEEKDAY(AB8,2)>5,"",IF(WEEKDAY(AB8,2)=5,$B$39,IF(WEEKDAY(AB8,2)=4,$B$38,IF(WEEKDAY(AB8,2)=3,$B$37,IF(WEEKDAY(AB8,2)=2,$B$36,IF(WEEKDAY(AB8,2)=1,$B$35,"0"))))))) -> 8 | AH8: =DATE($B$4,6,1) -> 45809 | AI8: =IF(AH8="","",IF(WEEKDAY(AH8,2)>=6,"",IF(AND(AH8>=$B$9,AH8<=$B$10),"F",""))) | AJ8: =IF(AH8="","",IF(WEEKDAY(AH8,2)>=6,"",IF(OR(AND(AH8>=$B$11,AH8<=$B$12),AND(AH8>=$B$13,AH8<=$B$14),AND(AH8>=$B$15,AH8<=$B$16),AND(AH8>=$B$17,AH8<=$B$18),AND(AH8>=$B$19,AH8<=$B$20),AND(AH8>=$B$21,AH8<=$B$22),AND(AH8>=$B$23,AH8<=$B$24),AND(AH8>=$B$25,AH8<=$B$26)),"E",""))) | AK8: =IF(AH8="","",IF(WEEKDAY(AH8,2)>=6,"",IF(AI8="F",IF(OR(AND(AH8>=$B$11,AH8<=$B$12),AND(AH8>=$B$13,AH8<=$B$14),AND(AH8>=$B$15,AH8<=$B$16),AND(AH8>=$B$17,AH8<=$B$18),AND(AH8>=$B$19,AH8<=$B$20),AND(AH8>=$B$21,AH8<=$B$22),AND(AH8>=$B$23,AH8<=$B$24),AND(AH8>=$B$25,AH8<=$B$26)),"","P"),""))) | AL8: =IF(AH8="","",IF(OR(AND(AH8>=ANNEXE!$E$4,AH8<=ANNEXE!$F$4),AND(AH8>=ANNEXE!$E$5,AH8<=ANNEXE!$F$5),AND(AH8>=ANNEXE!$E$6,AH8<=ANNEXE!$F$6),AND(AH8>=ANNEXE!$E$7,AH8<=ANNEXE!$F$7),AND(AH8>=ANNEXE!$E$8,AH8<=ANNEXE!$F$8),AND(AH8>=ANNEXE!$E$9,AH8<=ANNEXE!$F$9),COUNTIF(ANNEXE!$A$4:$C$18,AH8)>=1),"C","")) | AM8: =IF(AH8="","",IF(WEEKDAY(AH8,2)>5,"",IF(WEEKDAY(AH8,2)=5,$B$39,IF(WEEKDAY(AH8,2)=4,$B$38,IF(WEEKDAY(AH8,2)=3,$B$37,IF(WEEKDAY(AH8,2)=2,$B$36,IF(WEEKDAY(AH8,2)=1,$B$35,"0"))))))) | AN8: =DATE($B$4,7,1) -> 45839 | AO8: =IF(AN8="","",IF(WEEKDAY(AN8,2)>=6,"",IF(AND(AN8>=$B$9,AN8<=$B$10),"F",""))) -> F | AP8: =IF(AN8="","",IF(WEEKDAY(AN8,2)>=6,"",IF(OR(AND(AN8>=$B$11,AN8<=$B$12),AND(AN8>=$B$13,AN8<=$B$14),AND(AN8>=$B$15,AN8<=$B$16),AND(AN8>=$B$17,AN8<=$B$18),AND(AN8>=$B$19,AN8<=$B$20),AND(AN8>=$B$21,AN8<=$B$22),AND(AN8>=$B$23,AN8<=$B$24),AND(AN8>=$B$25,AN8<=$B$26)),"E",""))) | AQ8: =IF(AN8="","",IF(WEEKDAY(AN8,2)>=6,"",IF(AO8="F",IF(OR(AND(AN8>=$B$11,AN8<=$B$12),AND(AN8>=$B$13,AN8<=$B$14),AND(AN8>=$B$15,AN8<=$B$16),AND(AN8>=$B$17,AN8<=$B$18),AND(AN8>=$B$19,AN8<=$B$20),AND(AN8>=$B$21,AN8<=$B$22),AND(AN8>=$B$23,AN8<=$B$24),AND(AN8>=$B$25,AN8<=$B$26)),"","P"),""))) -> P | AR8: =IF(AN8="","",IF(OR(AND(AN8>=ANNEXE!$E$4,AN8<=ANNEXE!$F$4),AND(AN8>=ANNEXE!$E$5,AN8<=ANNEXE!$F$5),AND(AN8>=ANNEXE!$E$6,AN8<=ANNEXE!$F$6),AND(AN8>=ANNEXE!$E$7,AN8<=ANNEXE!$F$7),AND(AN8>=ANNEXE!$E$8,AN8<=ANNEXE!$F$8),AND(AN8>=ANNEXE!$E$9,AN8<=ANNEXE!$F$9),COUNTIF(ANNEXE!$A$4:$C$18,AN8)>=1),"C","")) | AS8: =IF(AN8="","",IF(WEEKDAY(AN8,2)>5,"",IF(WEEKDAY(AN8,2)=5,$B$39,IF(WEEKDAY(AN8,2)=4,$B$38,IF(WEEKDAY(AN8,2)=3,$B$37,IF(WEEKDAY(AN8,2)=2,$B$36,IF(WEEKDAY(AN8,2)=1,$B$35,"0"))))))) -> 8 | AT8: =DATE($B$4,8,1) -> 45870 | AU8: =IF(AT8="","",IF(WEEKDAY(AT8,2)>=6,"",IF(AND(AT8>=$B$9,AT8<=$B$10),"F",""))) -> F | AV8: =IF(AT8="","",IF(WEEKDAY(AT8,2)>=6,"",IF(OR(AND(AT8>=$B$11,AT8<=$B$12),AND(AT8>=$B$13,AT8<=$B$14),AND(AT8>=$B$15,AT8<=$B$16),AND(AT8>=$B$17,AT8<=$B$18),AND(AT8>=$B$19,AT8<=$B$20),AND(AT8>=$B$21,AT8<=$B$22),AND(AT8>=$B$23,AT8<=$B$24),AND(AT8>=$B$25,AT8<=$B$26)),"E",""))) -> E | AW8: =IF(AT8="","",IF(WEEKDAY(AT8,2)>=6,"",IF(AU8="F",IF(OR(AND(AT8>=$B$11,AT8<=$B$12),AND(AT8>=$B$13,AT8<=$B$14),AND(AT8>=$B$15,AT8<=$B$16),AND(AT8>=$B$17,AT8<=$B$18),AND(AT8>=$B$19,AT8<=$B$20),AND(AT8>=$B$21,AT8<=$B$22),AND(AT8>=$B$23,AT8<=$B$24),AND(AT8>=$B$25,AT8<=$B$26)),"","P"),""))) | AX8: =IF(AT8="","",IF(OR(AND(AT8>=ANNEXE!$E$4,AT8<=ANNEXE!$F$4),AND(AT8>=ANNEXE!$E$5,AT8<=ANNEXE!$F$5),AND(AT8>=ANNEXE!$E$6,AT8<=ANNEXE!$F$6),AND(AT8>=ANNEXE!$E$7,AT8<=ANNEXE!$F$7),AND(AT8>=ANNEXE!$E$8,AT8<=ANNEXE!$F$8),AND(AT8>=ANNEXE!$E$9,AT8<=ANNEXE!$F$9),COUNTIF(ANNEXE!$A$4:$C$18,AT8)>=1),"C","")) | AY8: =IF(AT8="","",IF(WEEKDAY(AT8,2)>5,"",IF(WEEKDAY(AT8,2)=5,$B$39,IF(WEEKDAY(AT8,2)=4,$B$38,IF(WEEKDAY(AT8,2)=3,$B$37,IF(WEEKDAY(AT8,2)=2,$B$36,IF(WEEKDAY(AT8,2)=1,$B$35,"0"))))))) -> 3.5 | AZ8: =DATE($B$4,9,1) -> 45901 | BA8: =IF(AZ8="","",IF(WEEKDAY(AZ8,2)>=6,"",IF(AND(AZ8>=$B$9,AZ8<=$B$10),"F",""))) -> F | BB8: =IF(AZ8="","",IF(WEEKDAY(AZ8,2)>=6,"",IF(OR(AND(AZ8>=$B$11,AZ8<=$B$12),AND(AZ8>=$B$13,AZ8<=$B$14),AND(AZ8>=$B$15,AZ8<=$B$16),AND(AZ8>=$B$17,AZ8<=$B$18),AND(AZ8>=$B$19,AZ8<=$B$20),AND(AZ8>=$B$21,AZ8<=$B$22),AND(AZ8>=$B$23,AZ8<=$B$24),AND(AZ8>=$B$25,AZ8<=$B$26)),"E",""))) | BC8: =IF(AZ8="","",IF(WEEKDAY(AZ8,2)>=6,"",IF(BA8="F",IF(OR(AND(AZ8>=$B$11,AZ8<=$B$12),AND(AZ8>=$B$13,AZ8<=$B$14),AND(AZ8>=$B$15,AZ8<=$B$16),AND(AZ8>=$B$17,AZ8<=$B$18),AND(AZ8>=$B$19,AZ8<=$B$20),AND(AZ8>=$B$21,AZ8<=$B$22),AND(AZ8>=$B$23,AZ8<=$B$24),AND(AZ8>=$B$25,AZ8<=$B$26)),"","P"),""))) -> P | BD8: =IF(AZ8="","",IF(OR(AND(AZ8>=ANNEXE!$E$4,AZ8<=ANNEXE!$F$4),AND(AZ8>=ANNEXE!$E$5,AZ8<=ANNEXE!$F$5),AND(AZ8>=ANNEXE!$E$6,AZ8<=ANNEXE!$F$6),AND(AZ8>=ANNEXE!$E$7,AZ8<=ANNEXE!$F$7),AND(AZ8>=ANNEXE!$E$8,AZ8<=ANNEXE!$F$8),AND(AZ8>=ANNEXE!$E$9,AZ8<=ANNEXE!$F$9),COUNTIF(ANNEXE!$A$4:$C$18,AZ8)>=1),"C","")) | BE8: =IF(AZ8="","",IF(WEEKDAY(AZ8,2)>5,"",IF(WEEKDAY(AZ8,2)=5,$B$39,IF(WEEKDAY(AZ8,2)=4,$B$38,IF(WEEKDAY(AZ8,2)=3,$B$37,IF(WEEKDAY(AZ8,2)=2,$B$36,IF(WEEKDAY(AZ8,2)=1,$B$35,"0"))))))) -> 7.5 | BF8: =DATE($B$4,10,1) -> 45931 | BG8: =IF(BF8="","",IF(WEEKDAY(BF8,2)>=6,"",IF(AND(BF8>=$B$9,BF8<=$B$10),"F",""))) -> F | BH8: =IF(BF8="","",IF(WEEKDAY(BF8,2)>=6,"",IF(OR(AND(BF8>=$B$11,BF8<=$B$12),AND(BF8>=$B$13,BF8<=$B$14),AND(BF8>=$B$15,BF8<=$B$16),AND(BF8>=$B$17,BF8<=$B$18),AND(BF8>=$B$19,BF8<=$B$20),AND(BF8>=$B$21,BF8<=$B$22),AND(BF8>=$B$23,BF8<=$B$24),AND(BF8>=$B$25,BF8<=$B$26)),"E",""))) | BI8: =IF(BF8="","",IF(WEEKDAY(BF8,2)>=6,"",IF(BG8="F",IF(OR(AND(BF8>=$B$11,BF8<=$B$12),AND(BF8>=$B$13,BF8<=$B$14),AND(BF8>=$B$15,BF8<=$B$16),AND(BF8>=$B$17,BF8<=$B$18),AND(BF8>=$B$19,BF8<=$B$20),AND(BF8>=$B$21,BF8<=$B$22),AND(BF8>=$B$23,BF8<=$B$24),AND(BF8>=$B$25,BF8<=$B$26)),"","P"),""))) -> P | BJ8: =IF(BF8="","",IF(OR(AND(BF8>=ANNEXE!$E$4,BF8<=ANNEXE!$F$4),AND(BF8>=ANNEXE!$E$5,BF8<=ANNEXE!$F$5),AND(BF8>=ANNEXE!$E$6,BF8<=ANNEXE!$F$6),AND(BF8>=ANNEXE!$E$7,BF8<=ANNEXE!$F$7),AND(BF8>=ANNEXE!$E$8,BF8<=ANNEXE!$F$8),AND(BF8>=ANNEXE!$E$9,BF8<=ANNEXE!$F$9),COUNTIF(ANNEXE!$A$4:$C$18,BF8)>=1),"C","")) | BK8: =IF(BF8="","",IF(WEEKDAY(BF8,2)>5,"",IF(WEEKDAY(BF8,2)=5,$B$39,IF(WEEKDAY(BF8,2)=4,$B$38,IF(WEEKDAY(BF8,2)=3,$B$37,IF(WEEKDAY(BF8,2)=2,$B$36,IF(WEEKDAY(BF8,2)=1,$B$35,"0"))))))) -> 8 | BL8: =DATE($B$4,11,1) -> 45962 | BM8: =IF(BL8="","",IF(WEEKDAY(BL8,2)>=6,"",IF(AND(BL8>=$B$9,BL8<=$B$10),"F",""))) | BN8: =IF(BL8="","",IF(WEEKDAY(BL8,2)>=6,"",IF(OR(AND(BL8>=$B$11,BL8<=$B$12),AND(BL8>=$B$13,BL8<=$B$14),AND(BL8>=$B$15,BL8<=$B$16),AND(BL8>=$B$17,BL8<=$B$18),AND(BL8>=$B$19,BL8<=$B$20),AND(BL8>=$B$21,BL8<=$B$22),AND(BL8>=$B$23,BL8<=$B$24),AND(BL8>=$B$25,BL8<=$B$26)),"E",""))) | BO8: =IF(BL8="","",IF(WEEKDAY(BL8,2)>=6,"",IF(BM8="F",IF(OR(AND(BL8>=$B$11,BL8<=$B$12),AND(BL8>=$B$13,BL8<=$B$14),AND(BL8>=$B$15,BL8<=$B$16),AND(BL8>=$B$17,BL8<=$B$18),AND(BL8>=$B$19,BL8<=$B$20),AND(BL8>=$B$21,BL8<=$B$22),AND(BL8>=$B$23,BL8<=$B$24),AND(BL8>=$B$25,BL8<=$B$26)),"","P"),""))) | BP8: =IF(BL8="","",IF(OR(AND(BL8>=ANNEXE!$E$4,BL8<=ANNEXE!$F$4),AND(BL8>=ANNEXE!$E$5,BL8<=ANNEXE!$F$5),AND(BL8>=ANNEXE!$E$6,BL8<=ANNEXE!$F$6),AND(BL8>=ANNEXE!$E$7,BL8<=ANNEXE!$F$7),AND(BL8>=ANNEXE!$E$8,BL8<=ANNEXE!$F$8),AND(BL8>=ANNEXE!$E$9,BL8<=ANNEXE!$F$9),COUNTIF(ANNEXE!$A$4:$C$18,BL8)>=1),"C","")) -> C | BQ8: =IF(BL8="","",IF(WEEKDAY(BL8,2)>5,"",IF(WEEKDAY(BL8,2)=5,$B$39,IF(WEEKDAY(BL8,2)=4,$B$38,IF(WEEKDAY(BL8,2)=3,$B$37,IF(WEEKDAY(BL8,2)=2,$B$36,IF(WEEKDAY(BL8,2)=1,$B$35,"0"))))))) | BR8: =DATE($B$4,12,1) -> 45992 | BS8: =IF(BR8="","",IF(WEEKDAY(BR8,2)>=6,"",IF(AND(BR8>=$B$9,BR8<=$B$10),"F",""))) | BT8: =IF(BR8="","",IF(WEEKDAY(BR8,2)>=6,"",IF(OR(AND(BR8>=$B$11,BR8<=$B$12),AND(BR8>=$B$13,BR8<=$B$14),AND(BR8>=$B$15,BR8<=$B$16),AND(BR8>=$B$17,BR8<=$B$18),AND(BR8>=$B$19,BR8<=$B$20),AND(BR8>=$B$21,BR8<=$B$22),AND(BR8>=$B$23,BR8<=$B$24),AND(BR8>=$B$25,BR8<=$B$26)),"E",""))) | BU8: =IF(BR8="","",IF(WEEKDAY(BR8,2)>=6,"",IF(BS8="F",IF(OR(AND(BR8>=$B$11,BR8<=$B$12),AND(BR8>=$B$13,BR8<=$B$14),AND(BR8>=$B$15,BR8<=$B$16),AND(BR8>=$B$17,BR8<=$B$18),AND(BR8>=$B$19,BR8<=$B$20),AND(BR8>=$B$21,BR8<=$B$22),AND(BR8>=$B$23,BR8<=$B$24),AND(BR8>=$B$25,BR8<=$B$26)),"","P"),""))) | BV8: =IF(BR8="","",IF(OR(AND(BR8>=ANNEXE!$E$4,BR8<=ANNEXE!$F$4),AND(BR8>=ANNEXE!$E$5,BR8<=ANNEXE!$F$5),AND(BR8>=ANNEXE!$E$6,BR8<=ANNEXE!$F$6),AND(BR8>=ANNEXE!$E$7,BR8<=ANNEXE!$F$7),AND(BR8>=ANNEXE!$E$8,BR8<=ANNEXE!$F$8),AND(BR8>=ANNEXE!$E$9,BR8<=ANNEXE!$F$9),COUNTIF(ANNEXE!$A$4:$C$18,BR8)>=1),"C","")) | BW8: =IF(BR8="","",IF(WEEKDAY(BR8,2)>5,"",IF(WEEKDAY(BR8,2)=5,$B$39,IF(WEEKDAY(BR8,2)=4,$B$38,IF(WEEKDAY(BR8,2)=3,$B$37,IF(WEEKDAY(BR8,2)=2,$B$36,IF(WEEKDAY(BR8,2)=1,$B$35,"0"))))))) -> 7.5
