Workbook

Sheet Calendrier_2024-2025
A1: Année 2024 | F1: Année 2025
A2: Dates de vacances sur cette période là | F2: Dates de vacances sur cette période là
A3: Vacances de la Toussaint 2024 : | C3: 45584 | D3: 45599 | F3: Vacances d’Hiver 2025 : | H3: 45710 | I3: 45725
A4: Vacances de Noël 2024-2025 : | C4: 45647 | D4: 45662 | F4: Vacances de Printemps 2025 : | H4: 45766 | I4: 45781
F5: Pont de l’Ascension 2025 : | H5: 45805 | I5: 45809
A6: 36 | F6: Vacances d’Été 2025 : du samedi 5 juillet 2025 au lundi 1 septembre 2025 (pour info)
A7: Total/36 sem. | B7: =B8*$A$6 -> 468 | C7: =C8*$A$6 -> 504 | D7: =D8*$A$6 -> 504 | E7: =E8*$A$6 -> 504 | F7: Total/36 sem. | G7: =G8*$A$6 -> 756 | H7: =H8*$A$6 -> 792 | I7: =I8*$A$6 -> 720 | J7: =J8*$A$6 -> 756
A8: Total | B8: =COUNTIF(B$10:B189,"x") -> 13 | C8: =COUNTIF(C$10:C189,"x") -> 14 | D8: =COUNTIF(D$10:D189,"x") -> 14 | E8: =COUNTIF(E$10:E189,"x") -> 14 | F8: Total | G8: =COUNTIF(G$10:G189,"x") -> 21 | H8: =COUNTIF(H$10:H189,"x") -> 22 | I8: =COUNTIF(I$10:I189,"x") -> 20 | J8: =COUNTIF(J$10:J189,"x") -> 21
A9: Dates | B9: Lundi | C9: Mardi | D9: Jeudi | E9: Vendredi | F9: Dates | G9: Lundi | H9: Mardi | I9: Jeudi | J9: Vendredi
A10: 45537 | B10: {=IF(AND(SUMPRODUCT(($A10>=$C$3:$C$4)*($A10<=$D$3:$D$4))=0,WEEKDAY($A10,2)=(MATCH(B$9,TEXT(ROW($1:$7),"jjjj"),0)-1),SUMPRODUCT(($A10=Jours_fériés!$C$2:$C$11)*1)=0),"x","")} -> x | C10: {=IF(AND(SUMPRODUCT(($A10>=$C$3:$C$4)*($A10<=$D$3:$D$4))=0,WEEKDAY($A10,2)=(MATCH(C$9,TEXT(ROW($1:$7),"jjjj"),0)-1),SUMPRODUCT(($A10=Jours_fériés!$C$2:$C$11)*1)=0),"x","")} | D10: {=IF(AND(SUMPRODUCT(($A10>=$C$3:$C$4)*($A10<=$D$3:$D$4))=0,WEEKDAY($A10,2)=(MATCH(D$9,TEXT(ROW($1:$7),"jjjj"),0)-1),SUMPRODUCT(($A10=Jours_fériés!$C$2:$C$11)*1)=0),"x","")} | E10: {=IF(AND(SUMPRODUCT(($A10>=$C$3:$C$4)*($A10<=$D$3:$D$4))=0,WEEKDAY($A10,2)=(MATCH(E$9,TEXT(ROW($1:$7),"jjjj"),0)-1),SUMPRODUCT(($A10=Jours_fériés!$C$2:$C$11)*1)=0),"x","")} | F10: 45663 | G10: {=IF(AND(SUMPRODUCT(($F10>=$H$3:$H$5)*($F10<=$I$3:$I$5))=0,WEEKDAY($F10,2)=(MATCH(G$9,TEXT(ROW($1:$7),"jjjj"),0)-1),SUMPRODUCT(($F10=Jours_fériés!$F$2:$F$11)*1)=0),"x","")} -> x | H10: {=IF(AND(SUMPRODUCT(($F10>=$H$3:$H$5)*($F10<=$I$3:$I$5))=0,WEEKDAY($F10,2)=(MATCH(H$9,TEXT(ROW($1:$7),"jjjj"),0)-1),SUMPRODUCT(($F10=Jours_fériés!$F$2:$F$11)*1)=0),"x","")} | I10: {=IF(AND(SUMPRODUCT(($F10>=$H$3:$H$5)*($F10<=$I$3:$I$5))=0,WEEKDAY($F10,2)=(MATCH(I$9,TEXT(ROW($1:$7),"jjjj"),0)-1),SUMPRODUCT(($F10=Jours_fériés!$F$2:$F$11)*1)=0),"x","")} | J10: {=IF(AND(SUMPRODUCT(($F10>=$H$3:$H$5)*($F10<=$I$3:$I$5))=0,WEEKDAY($F10,2)=(MATCH(J$9,TEXT(ROW($1:$7),"jjjj"),0)-1),SUMPRODUCT(($F10=Jours_fériés!$F$2:$F$11)*1)=0),"x","")}
A11: 45538 | B11: {=IF(AND(SUMPRODUCT(($A11>=$C$3:$C$4)*($A11<=$D$3:$D$4))=0,WEEKDAY($A11,2)=(MATCH(B$9,TEXT(ROW($1:$7),"jjjj"),0)-1),SUMPRODUCT(($A11=Jours_fériés!$C$2:$C$11)*1)=0),"x","")} | C11: {=IF(AND(SUMPRODUCT(($A11>=$C$3:$C$4)*($A11<=$D$3:$D$4))=0,WEEKDAY($A11,2)=(MATCH(C$9,TEXT(ROW($1:$7),"jjjj"),0)-1),SUMPRODUCT(($A11=Jours_fériés!$C$2:$C$11)*1)=0),"x","")} -> x | D11: {=IF(AND(SUMPRODUCT(($A11>=$C$3:$C$4)*($A11<=$D$3:$D$4))=0,WEEKDAY($A11,2)=(MATCH(D$9,TEXT(ROW($1:$7),"jjjj"),0)-1),SUMPRODUCT(($A11=Jours_fériés!$C$2:$C$11)*1)=0),"x","")} | E11: {=IF(AND(SUMPRODUCT(($A11>=$C$3:$C$4)*($A11<=$D$3:$D$4))=0,WEEKDAY($A11,2)=(MATCH(E$9,TEXT(ROW($1:$7),"jjjj"),0)-1),SUMPRODUCT(($A11=Jours_fériés!$C$2:$C$11)*1)=0),"x","")} | F11: 45664 | G11: {=IF(AND(SUMPRODUCT(($F11>=$H$3:$H$5)*($F11<=$I$3:$I$5))=0,WEEKDAY($F11,2)=(MATCH(G$9,TEXT(ROW($1:$7),"jjjj"),0)-1),SUMPRODUCT(($F11=Jours_fériés!$F$2:$F$11)*1)=0),"x","")} | H11: {=IF(AND(SUMPRODUCT(($F11>=$H$3:$H$5)*($F11<=$I$3:$I$5))=0,WEEKDAY($F11,2)=(MATCH(H$9,TEXT(ROW($1:$7),"jjjj"),0)-1),SUMPRODUCT(($F11=Jours_fériés!$F$2:$F$11)*1)=0),"x","")} -> x | I11: {=IF(AND(SUMPRODUCT(($F11>=$H$3:$H$5)*($F11<=$I$3:$I$5))=0,WEEKDAY($F11,2)=(MATCH(I$9,TEXT(ROW($1:$7),"jjjj"),0)-1),SUMPRODUCT(($F11=Jours_fériés!$F$2:$F$11)*1)=0),"x","")} | J11: {=IF(AND(SUMPRODUCT(($F11>=$H$3:$H$5)*($F11<=$I$3:$I$5))=0,WEEKDAY($F11,2)=(MATCH(J$9,TEXT(ROW($1:$7),"jjjj"),0)-1),SUMPRODUCT(($F11=Jours_fériés!$F$2:$F$11)*1)=0),"x","")}
A12: 45539 | B12: {=IF(AND(SUMPRODUCT(($A12>=$C$3:$C$4)*($A12<=$D$3:$D$4))=0,WEEKDAY($A12,2)=(MATCH(B$9,TEXT(ROW($1:$7),"jjjj"),0)-1),SUMPRODUCT(($A12=Jours_fériés!$C$2:$C$11)*1)=0),"x","")} | C12: {=IF(AND(SUMPRODUCT(($A12>=$C$3:$C$4)*($A12<=$D$3:$D$4))=0,WEEKDAY($A12,2)=(MATCH(C$9,TEXT(ROW($1:$7),"jjjj"),0)-1),SUMPRODUCT(($A12=Jours_fériés!$C$2:$C$11)*1)=0),"x","")} | D12: {=IF(AND(SUMPRODUCT(($A12>=$C$3:$C$4)*($A12<=$D$3:$D$4))=0,WEEKDAY($A12,2)=(MATCH(D$9,TEXT(ROW($1:$7),"jjjj"),0)-1),SUMPRODUCT(($A12=Jours_fériés!$C$2:$C$11)*1)=0),"x","")} | E12: {=IF(AND(SUMPRODUCT(($A12>=$C$3:$C$4)*($A12<=$D$3:$D$4))=0,WEEKDAY($A12,2)=(MATCH(E$9,TEXT(ROW($1:$7),"jjjj"),0)-1),SUMPRODUCT(($A12=Jours_fériés!$C$2:$C$11)*1)=0),"x","")} | F12: 45665 | G12: {=IF(AND(SUMPRODUCT(($F12>=$H$3:$H$5)*($F12<=$I$3:$I$5))=0,WEEKDAY($F12,2)=(MATCH(G$9,TEXT(ROW($1:$7),"jjjj"),0)-1),SUMPRODUCT(($F12=Jours_fériés!$F$2:$F$11)*1)=0),"x","")} | H12: {=IF(AND(SUMPRODUCT(($F12>=$H$3:$H$5)*($F12<=$I$3:$I$5))=0,WEEKDAY($F12,2)=(MATCH(H$9,TEXT(ROW($1:$7),"jjjj"),0)-1),SUMPRODUCT(($F12=Jours_fériés!$F$2:$F$11)*1)=0),"x","")} | I12: {=IF(AND(SUMPRODUCT(($F12>=$H$3:$H$5)*($F12<=$I$3:$I$5))=0,WEEKDAY($F12,2)=(MATCH(I$9,TEXT(ROW($1:$7),"jjjj"),0)-1),SUMPRODUCT(($F12=Jours_fériés!$F$2:$F$11)*1)=0),"x","")} | J12: {=IF(AND(SUMPRODUCT(($F12>=$H$3:$H$5)*($F12<=$I$3:$I$5))=0,WEEKDAY($F12,2)=(MATCH(J$9,TEXT(ROW($1:$7),"jjjj"),0)-1),SUMPRODUCT(($F12=Jours_fériés!$F$2:$F$11)*1)=0),"x","")}
A13: 45540 | B13: {=IF(AND(SUMPRODUCT(($A13>=$C$3:$C$4)*($A13<=$D$3:$D$4))=0,WEEKDAY($A13,2)=(MATCH(B$9,TEXT(ROW($1:$7),"jjjj"),0)-1),SUMPRODUCT(($A13=Jours_fériés!$C$2:$C$11)*1)=0),"x","")} | C13: {=IF(AND(SUMPRODUCT(($A13>=$C$3:$C$4)*($A13<=$D$3:$D$4))=0,WEEKDAY($A13,2)=(MATCH(C$9,TEXT(ROW($1:$7),"jjjj"),0)-1),SUMPRODUCT(($A13=Jours_fériés!$C$2:$C$11)*1)=0),"x","")} | D13: {=IF(AND(SUMPRODUCT(($A13>=$C$3:$C$4)*($A13<=$D$3:$D$4))=0,WEEKDAY($A13,2)=(MATCH(D$9,TEXT(ROW($1:$7),"jjjj"),0)-1),SUMPRODUCT(($A13=Jours_fériés!$C$2:$C$11)*1)=0),"x","")} -> x | E13: {=IF(AND(SUMPRODUCT(($A13>=$C$3:$C$4)*($A13<=$D$3:$D$4))=0,WEEKDAY($A13,2)=(MATCH(E$9,TEXT(ROW($1:$7),"jjjj"),0)-1),SUMPRODUCT(($A13=Jours_fériés!$C$2:$C$11)*1)=0),"x","")} | F13: 45666 | G13: {=IF(AND(SUMPRODUCT(($F13>=$H$3:$H$5)*($F13<=$I$3:$I$5))=0,WEEKDAY($F13,2)=(MATCH(G$9,TEXT(ROW($1:$7),"jjjj"),0)-1),SUMPRODUCT(($F13=Jours_fériés!$F$2:$F$11)*1)=0),"x","")} | H13: {=IF(AND(SUMPRODUCT(($F13>=$H$3:$H$5)*($F13<=$I$3:$I$5))=0,WEEKDAY($F13,2)=(MATCH(H$9,TEXT(ROW($1:$7),"jjjj"),0)-1),SUMPRODUCT(($F13=Jours_fériés!$F$2:$F$11)*1)=0),"x","")} | I13: {=IF(AND(SUMPRODUCT(($F13>=$H$3:$H$5)*($F13<=$I$3:$I$5))=0,WEEKDAY($F13,2)=(MATCH(I$9,TEXT(ROW($1:$7),"jjjj"),0)-1),SUMPRODUCT(($F13=Jours_fériés!$F$2:$F$11)*1)=0),"x","")} -> x | J13: {=IF(AND(SUMPRODUCT(($F13>=$H$3:$H$5)*($F13<=$I$3:$I$5))=0,WEEKDAY($F13,2)=(MATCH(J$9,TEXT(ROW($1:$7),"jjjj"),0)-1),SUMPRODUCT(($F13=Jours_fériés!$F$2:$F$11)*1)=0),"x","")}
A14: 45541 | B14: {=IF(AND(SUMPRODUCT(($A14>=$C$3:$C$4)*($A14<=$D$3:$D$4))=0,WEEKDAY($A14,2)=(MATCH(B$9,TEXT(ROW($1:$7),"jjjj"),0)-1),SUMPRODUCT(($A14=Jours_fériés!$C$2:$C$11)*1)=0),"x","")} | C14: {=IF(AND(SUMPRODUCT(($A14>=$C$3:$C$4)*($A14<=$D$3:$D$4))=0,WEEKDAY($A14,2)=(MATCH(C$9,TEXT(ROW($1:$7),"jjjj"),0)-1),SUMPRODUCT(($A14=Jours_fériés!$C$2:$C$11)*1)=0),"x","")} | D14: {=IF(AND(SUMPRODUCT(($A14>=$C$3:$C$4)*($A14<=$D$3:$D$4))=0,WEEKDAY($A14,2)=(MATCH(D$9,TEXT(ROW($1:$7),"jjjj"),0)-1),SUMPRODUCT(($A14=Jours_fériés!$C$2:$C$11)*1)=0),"x","")} | E14: {=IF(AND(SUMPRODUCT(($A14>=$C$3:$C$4)*($A14<=$D$3:$D$4))=0,WEEKDAY($A14,2)=(MATCH(E$9,TEXT(ROW($1:$7),"jjjj"),0)-1),SUMPRODUCT(($A14=Jours_fériés!$C$2:$C$11)*1)=0),"x","")} -> x | F14: 45667 | G14: {=IF(AND(SUMPRODUCT(($F14>=$H$3:$H$5)*($F14<=$I$3:$I$5))=0,WEEKDAY($F14,2)=(MATCH(G$9,TEXT(ROW($1:$7),"jjjj"),0)-1),SUMPRODUCT(($F14=Jours_fériés!$F$2:$F$11)*1)=0),"x","")} | H14: {=IF(AND(SUMPRODUCT(($F14>=$H$3:$H$5)*($F14<=$I$3:$I$5))=0,WEEKDAY($F14,2)=(MATCH(H$9,TEXT(ROW($1:$7),"jjjj"),0)-1),SUMPRODUCT(($F14=Jours_fériés!$F$2:$F$11)*1)=0),"x","")} | I14: {=IF(AND(SUMPRODUCT(($F14>=$H$3:$H$5)*($F14<=$I$3:$I$5))=0,WEEKDAY($F14,2)=(MATCH(I$9,TEXT(ROW($1:$7),"jjjj"),0)-1),SUMPRODUCT(($F14=Jours_fériés!$F$2:$F$11)*1)=0),"x","")} | J14: {=IF(AND(SUMPRODUCT(($F14>=$H$3:$H$5)*($F14<=$I$3:$I$5))=0,WEEKDAY($F14,2)=(MATCH(J$9,TEXT(ROW($1:$7),"jjjj"),0)-1),SUMPRODUCT(($F14=Jours_fériés!$F$2:$F$11)*1)=0),"x","")} -> x
A15: 45542 | B15: {=IF(AND(SUMPRODUCT(($A15>=$C$3:$C$4)*($A15<=$D$3:$D$4))=0,WEEKDAY($A15,2)=(MATCH(B$9,TEXT(ROW($1:$7),"jjjj"),0)-1),SUMPRODUCT(($A15=Jours_fériés!$C$2:$C$11)*1)=0),"x","")} | C15: {=IF(AND(SUMPRODUCT(($A15>=$C$3:$C$4)*($A15<=$D$3:$D$4))=0,WEEKDAY($A15,2)=(MATCH(C$9,TEXT(ROW($1:$7),"jjjj"),0)-1),SUMPRODUCT(($A15=Jours_fériés!$C$2:$C$11)*1)=0),"x","")} | D15: {=IF(AND(SUMPRODUCT(($A15>=$C$3:$C$4)*($A15<=$D$3:$D$4))=0,WEEKDAY($A15,2)=(MATCH(D$9,TEXT(ROW($1:$7),"jjjj"),0)-1),SUMPRODUCT(($A15=Jours_fériés!$C$2:$C$11)*1)=0),"x","")} | E15: {=IF(AND(SUMPRODUCT(($A15>=$C$3:$C$4)*($A15<=$D$3:$D$4))=0,WEEKDAY($A15,2)=(MATCH(E$9,TEXT(ROW($1:$7),"jjjj"),0)-1),SUMPRODUCT(($A15=Jours_fériés!$C$2:$C$11)*1)=0),"x","")} | F15: 45668 | G15: {=IF(AND(SUMPRODUCT(($F15>=$H$3:$H$5)*($F15<=$I$3:$I$5))=0,WEEKDAY($F15,2)=(MATCH(G$9,TEXT(ROW($1:$7),"jjjj"),0)-1),SUMPRODUCT(($F15=Jours_fériés!$F$2:$F$11)*1)=0),"x","")} | H15: {=IF(AND(SUMPRODUCT(($F15>=$H$3:$H$5)*($F15<=$I$3:$I$5))=0,WEEKDAY($F15,2)=(MATCH(H$9,TEXT(ROW($1:$7),"jjjj"),0)-1),SUMPRODUCT(($F15=Jours_fériés!$F$2:$F$11)*1)=0),"x","")} | I15: {=IF(AND(SUMPRODUCT(($F15>=$H$3:$H$5)*($F15<=$I$3:$I$5))=0,WEEKDAY($F15,2)=(MATCH(I$9,TEXT(ROW($1:$7),"jjjj"),0)-1),SUMPRODUCT(($F15=Jours_fériés!$F$2:$F$11)*1)=0),"x","")} | J15: {=IF(AND(SUMPRODUCT(($F15>=$H$3:$H$5)*($F15<=$I$3:$I$5))=0,WEEKDAY($F15,2)=(MATCH(J$9,TEXT(ROW($1:$7),"jjjj"),0)-1),SUMPRODUCT(($F15=Jours_fériés!$F$2:$F$11)*1)=0),"x","")}
A16: 45543 | B16: {=IF(AND(SUMPRODUCT(($A16>=$C$3:$C$4)*($A16<=$D$3:$D$4))=0,WEEKDAY($A16,2)=(MATCH(B$9,TEXT(ROW($1:$7),"jjjj"),0)-1),SUMPRODUCT(($A16=Jours_fériés!$C$2:$C$11)*1)=0),"x","")} | C16: {=IF(AND(SUMPRODUCT(($A16>=$C$3:$C$4)*($A16<=$D$3:$D$4))=0,WEEKDAY($A16,2)=(MATCH(C$9,TEXT(ROW($1:$7),"jjjj"),0)-1),SUMPRODUCT(($A16=Jours_fériés!$C$2:$C$11)*1)=0),"x","")} | D16: {=IF(AND(SUMPRODUCT(($A16>=$C$3:$C$4)*($A16<=$D$3:$D$4))=0,WEEKDAY($A16,2)=(MATCH(D$9,TEXT(ROW($1:$7),"jjjj"),0)-1),SUMPRODUCT(($A16=Jours_fériés!$C$2:$C$11)*1)=0),"x","")} | E16: {=IF(AND(SUMPRODUCT(($A16>=$C$3:$C$4)*($A16<=$D$3:$D$4))=0,WEEKDAY($A16,2)=(MATCH(E$9,TEXT(ROW($1:$7),"jjjj"),0)-1),SUMPRODUCT(($A16=Jours_fériés!$C$2:$C$11)*1)=0),"x","")} | F16: 45669 | G16: {=IF(AND(SUMPRODUCT(($F16>=$H$3:$H$5)*($F16<=$I$3:$I$5))=0,WEEKDAY($F16,2)=(MATCH(G$9,TEXT(ROW($1:$7),"jjjj"),0)-1),SUMPRODUCT(($F16=Jours_fériés!$F$2:$F$11)*1)=0),"x","")} | H16: {=IF(AND(SUMPRODUCT(($F16>=$H$3:$H$5)*($F16<=$I$3:$I$5))=0,WEEKDAY($F16,2)=(MATCH(H$9,TEXT(ROW($1:$7),"jjjj"),0)-1),SUMPRODUCT(($F16=Jours_fériés!$F$2:$F$11)*1)=0),"x","")} | I16: {=IF(AND(SUMPRODUCT(($F16>=$H$3:$H$5)*($F16<=$I$3:$I$5))=0,WEEKDAY($F16,2)=(MATCH(I$9,TEXT(ROW($1:$7),"jjjj"),0)-1),SUMPRODUCT(($F16=Jours_fériés!$F$2:$F$11)*1)=0),"x","")} | J16: {=IF(AND(SUMPRODUCT(($F16>=$H$3:$H$5)*($F16<=$I$3:$I$5))=0,WEEKDAY($F16,2)=(MATCH(J$9,TEXT(ROW($1:$7),"jjjj"),0)-1),SUMPRODUCT(($F16=Jours_fériés!$F$2:$F$11)*1)=0),"x","")}
A17: 45544 | B17: {=IF(AND(SUMPRODUCT(($A17>=$C$3:$C$4)*($A17<=$D$3:$D$4))=0,WEEKDAY($A17,2)=(MATCH(B$9,TEXT(ROW($1:$7),"jjjj"),0)-1),SUMPRODUCT(($A17=Jours_fériés!$C$2:$C$11)*1)=0),"x","")} -> x | C17: {=IF(AND(SUMPRODUCT(($A17>=$C$3:$C$4)*($A17<=$D$3:$D$4))=0,WEEKDAY($A17,2)=(MATCH(C$9,TEXT(ROW($1:$7),"jjjj"),0)-1),SUMPRODUCT(($A17=Jours_fériés!$C$2:$C$11)*1)=0),"x","")} | D17: {=IF(AND(SUMPRODUCT(($A17>=$C$3:$C$4)*($A17<=$D$3:$D$4))=0,WEEKDAY($A17,2)=(MATCH(D$9,TEXT(ROW($1:$7),"jjjj"),0)-1),SUMPRODUCT(($A17=Jours_fériés!$C$2:$C$11)*1)=0),"x","")} | E17: {=IF(AND(SUMPRODUCT(($A17>=$C$3:$C$4)*($A17<=$D$3:$D$4))=0,WEEKDAY($A17,2)=(MATCH(E$9,TEXT(ROW($1:$7),"jjjj"),0)-1),SUMPRODUCT(($A17=Jours_fériés!$C$2:$C$11)*1)=0),"x","")} | F17: 45670 | G17: {=IF(AND(SUMPRODUCT(($F17>=$H$3:$H$5)*($F17<=$I$3:$I$5))=0,WEEKDAY($F17,2)=(MATCH(G$9,TEXT(ROW($1:$7),"jjjj"),0)-1),SUMPRODUCT(($F17=Jours_fériés!$F$2:$F$11)*1)=0),"x","")} -> x | H17: {=IF(AND(SUMPRODUCT(($F17>=$H$3:$H$5)*($F17<=$I$3:$I$5))=0,WEEKDAY($F17,2)=(MATCH(H$9,TEXT(ROW($1:$7),"jjjj"),0)-1),SUMPRODUCT(($F17=Jours_fériés!$F$2:$F$11)*1)=0),"x","")} | I17: {=IF(AND(SUMPRODUCT(($F17>=$H$3:$H$5)*($F17<=$I$3:$I$5))=0,WEEKDAY($F17,2)=(MATCH(I$9,TEXT(ROW($1:$7),"jjjj"),0)-1),SUMPRODUCT(($F17=Jours_fériés!$F$2:$F$11)*1)=0),"x","")} | J17: {=IF(AND(SUMPRODUCT(($F17>=$H$3:$H$5)*($F17<=$I$3:$I$5))=0,WEEKDAY($F17,2)=(MATCH(J$9,TEXT(ROW($1:$7),"jjjj"),0)-1),SUMPRODUCT(($F17=Jours_fériés!$F$2:$F$11)*1)=0),"x","")}
A18: 45545 | B18: {=IF(AND(SUMPRODUCT(($A18>=$C$3:$C$4)*($A18<=$D$3:$D$4))=0,WEEKDAY($A18,2)=(MATCH(B$9,TEXT(ROW($1:$7),"jjjj"),0)-1),SUMPRODUCT(($A18=Jours_fériés!$C$2:$C$11)*1)=0),"x","")} | C18: {=IF(AND(SUMPRODUCT(($A18>=$C$3:$C$4)*($A18<=$D$3:$D$4))=0,WEEKDAY($A18,2)=(MATCH(C$9,TEXT(ROW($1:$7),"jjjj"),0)-1),SUMPRODUCT(($A18=Jours_fériés!$C$2:$C$11)*1)=0),"x","")} -> x | D18: {=IF(AND(SUMPRODUCT(($A18>=$C$3:$C$4)*($A18<=$D$3:$D$4))=0,WEEKDAY($A18,2)=(MATCH(D$9,TEXT(ROW($1:$7),"jjjj"),0)-1),SUMPRODUCT(($A18=Jours_fériés!$C$2:$C$11)*1)=0),"x","")} | E18: {=IF(AND(SUMPRODUCT(($A18>=$C$3:$C$4)*($A18<=$D$3:$D$4))=0,WEEKDAY($A18,2)=(MATCH(E$9,TEXT(ROW($1:$7),"jjjj"),0)-1),SUMPRODUCT(($A18=Jours_fériés!$C$2:$C$11)*1)=0),"x","")} | F18: 45671 | G18: {=IF(AND(SUMPRODUCT(($F18>=$H$3:$H$5)*($F18<=$I$3:$I$5))=0,WEEKDAY($F18,2)=(MATCH(G$9,TEXT(ROW($1:$7),"jjjj"),0)-1),SUMPRODUCT(($F18=Jours_fériés!$F$2:$F$11)*1)=0),"x","")} | H18: {=IF(AND(SUMPRODUCT(($F18>=$H$3:$H$5)*($F18<=$I$3:$I$5))=0,WEEKDAY($F18,2)=(MATCH(H$9,TEXT(ROW($1:$7),"jjjj"),0)-1),SUMPRODUCT(($F18=Jours_fériés!$F$2:$F$11)*1)=0),"x","")} -> x | I18: {=IF(AND(SUMPRODUCT(($F18>=$H$3:$H$5)*($F18<=$I$3:$I$5))=0,WEEKDAY($F18,2)=(MATCH(I$9,TEXT(ROW($1:$7),"jjjj"),0)-1),SUMPRODUCT(($F18=Jours_fériés!$F$2:$F$11)*1)=0),"x","")} | J18: {=IF(AND(SUMPRODUCT(($F18>=$H$3:$H$5)*($F18<=$I$3:$I$5))=0,WEEKDAY($F18,2)=(MATCH(J$9,TEXT(ROW($1:$7),"jjjj"),0)-1),SUMPRODUCT(($F18=Jours_fériés!$F$2:$F$11)*1)=0),"x","")}
A19: 45546 | B19: {=IF(AND(SUMPRODUCT(($A19>=$C$3:$C$4)*($A19<=$D$3:$D$4))=0,WEEKDAY($A19,2)=(MATCH(B$9,TEXT(ROW($1:$7),"jjjj"),0)-1),SUMPRODUCT(($A19=Jours_fériés!$C$2:$C$11)*1)=0),"x","")} | C19: {=IF(AND(SUMPRODUCT(($A19>=$C$3:$C$4)*($A19<=$D$3:$D$4))=0,WEEKDAY($A19,2)=(MATCH(C$9,TEXT(ROW($1:$7),"jjjj"),0)-1),SUMPRODUCT(($A19=Jours_fériés!$C$2:$C$11)*1)=0),"x","")} | D19: {=IF(AND(SUMPRODUCT(($A19>=$C$3:$C$4)*($A19<=$D$3:$D$4))=0,WEEKDAY($A19,2)=(MATCH(D$9,TEXT(ROW($1:$7),"jjjj"),0)-1),SUMPRODUCT(($A19=Jours_fériés!$C$2:$C$11)*1)=0),"x","")} | E19: {=IF(AND(SUMPRODUCT(($A19>=$C$3:$C$4)*($A19<=$D$3:$D$4))=0,WEEKDAY($A19,2)=(MATCH(E$9,TEXT(ROW($1:$7),"jjjj"),0)-1),SUMPRODUCT(($A19=Jours_fériés!$C$2:$C$11)*1)=0),"x","")} | F19: 45672 | G19: {=IF(AND(SUMPRODUCT(($F19>=$H$3:$H$5)*($F19<=$I$3:$I$5))=0,WEEKDAY($F19,2)=(MATCH(G$9,TEXT(ROW($1:$7),"jjjj"),0)-1),SUMPRODUCT(($F19=Jours_fériés!$F$2:$F$11)*1)=0),"x","")} | H19: {=IF(AND(SUMPRODUCT(($F19>=$H$3:$H$5)*($F19<=$I$3:$I$5))=0,WEEKDAY($F19,2)=(MATCH(H$9,TEXT(ROW($1:$7),"jjjj"),0)-1),SUMPRODUCT(($F19=Jours_fériés!$F$2:$F$11)*1)=0),"x","")} | I19: {=IF(AND(SUMPRODUCT(($F19>=$H$3:$H$5)*($F19<=$I$3:$I$5))=0,WEEKDAY($F19,2)=(MATCH(I$9,TEXT(ROW($1:$7),"jjjj"),0)-1),SUMPRODUCT(($F19=Jours_fériés!$F$2:$F$11)*1)=0),"x","")} | J19: {=IF(AND(SUMPRODUCT(($F19>=$H$3:$H$5)*($F19<=$I$3:$I$5))=0,WEEKDAY($F19,2)=(MATCH(J$9,TEXT(ROW($1:$7),"jjjj"),0)-1),SUMPRODUCT(($F19=Jours_fériés!$F$2:$F$11)*1)=0),"x","")}
A20: 45547 | B20: {=IF(AND(SUMPRODUCT(($A20>=$C$3:$C$4)*($A20<=$D$3:$D$4))=0,WEEKDAY($A20,2)=(MATCH(B$9,TEXT(ROW($1:$7),"jjjj"),0)-1),SUMPRODUCT(($A20=Jours_fériés!$C$2:$C$11)*1)=0),"x","")} | C20: {=IF(AND(SUMPRODUCT(($A20>=$C$3:$C$4)*($A20<=$D$3:$D$4))=0,WEEKDAY($A20,2)=(MATCH(C$9,TEXT(ROW($1:$7),"jjjj"),0)-1),SUMPRODUCT(($A20=Jours_fériés!$C$2:$C$11)*1)=0),"x","")} | D20: {=IF(AND(SUMPRODUCT(($A20>=$C$3:$C$4)*($A20<=$D$3:$D$4))=0,WEEKDAY($A20,2)=(MATCH(D$9,TEXT(ROW($1:$7),"jjjj"),0)-1),SUMPRODUCT(($A20=Jours_fériés!$C$2:$C$11)*1)=0),"x","")} -> x | E20: {=IF(AND(SUMPRODUCT(($A20>=$C$3:$C$4)*($A20<=$D$3:$D$4))=0,WEEKDAY($A20,2)=(MATCH(E$9,TEXT(ROW($1:$7),"jjjj"),0)-1),SUMPRODUCT(($A20=Jours_fériés!$C$2:$C$11)*1)=0),"x","")} | F20: 45673 | G20: {=IF(AND(SUMPRODUCT(($F20>=$H$3:$H$5)*($F20<=$I$3:$I$5))=0,WEEKDAY($F20,2)=(MATCH(G$9,TEXT(ROW($1:$7),"jjjj"),0)-1),SUMPRODUCT(($F20=Jours_fériés!$F$2:$F$11)*1)=0),"x","")} | H20: {=IF(AND(SUMPRODUCT(($F20>=$H$3:$H$5)*($F20<=$I$3:$I$5))=0,WEEKDAY($F20,2)=(MATCH(H$9,TEXT(ROW($1:$7),"jjjj"),0)-1),SUMPRODUCT(($F20=Jours_fériés!$F$2:$F$11)*1)=0),"x","")} | I20: {=IF(AND(SUMPRODUCT(($F20>=$H$3:$H$5)*($F20<=$I$3:$I$5))=0,WEEKDAY($F20,2)=(MATCH(I$9,TEXT(ROW($1:$7),"jjjj"),0)-1),SUMPRODUCT(($F20=Jours_fériés!$F$2:$F$11)*1)=0),"x","")} -> x | J20: {=IF(AND(SUMPRODUCT(($F20>=$H$3:$H$5)*($F20<=$I$3:$I$5))=0,WEEKDAY($F20,2)=(MATCH(J$9,TEXT(ROW($1:$7),"jjjj"),0)-1),SUMPRODUCT(($F20=Jours_fériés!$F$2:$F$11)*1)=0),"x","")}
A21: 45548 | B21: {=IF(AND(SUMPRODUCT(($A21>=$C$3:$C$4)*($A21<=$D$3:$D$4))=0,WEEKDAY($A21,2)=(MATCH(B$9,TEXT(ROW($1:$7),"jjjj"),0)-1),SUMPRODUCT(($A21=Jours_fériés!$C$2:$C$11)*1)=0),"x","")} | C21: {=IF(AND(SUMPRODUCT(($A21>=$C$3:$C$4)*($A21<=$D$3:$D$4))=0,WEEKDAY($A21,2)=(MATCH(C$9,TEXT(ROW($1:$7),"jjjj"),0)-1),SUMPRODUCT(($A21=Jours_fériés!$C$2:$C$11)*1)=0),"x","")} | D21: {=IF(AND(SUMPRODUCT(($A21>=$C$3:$C$4)*($A21<=$D$3:$D$4))=0,WEEKDAY($A21,2)=(MATCH(D$9,TEXT(ROW($1:$7),"jjjj"),0)-1),SUMPRODUCT(($A21=Jours_fériés!$C$2:$C$11)*1)=0),"x","")} | E21: {=IF(AND(SUMPRODUCT(($A21>=$C$3:$C$4)*($A21<=$D$3:$D$4))=0,WEEKDAY($A21,2)=(MATCH(E$9,TEXT(ROW($1:$7),"jjjj"),0)-1),SUMPRODUCT(($A21=Jours_fériés!$C$2:$C$11)*1)=0),"x","")} -> x | F21: 45674 | G21: {=IF(AND(SUMPRODUCT(($F21>=$H$3:$H$5)*($F21<=$I$3:$I$5))=0,WEEKDAY($F21,2)=(MATCH(G$9,TEXT(ROW($1:$7),"jjjj"),0)-1),SUMPRODUCT(($F21=Jours_fériés!$F$2:$F$11)*1)=0),"x","")} | H21: {=IF(AND(SUMPRODUCT(($F21>=$H$3:$H$5)*($F21<=$I$3:$I$5))=0,WEEKDAY($F21,2)=(MATCH(H$9,TEXT(ROW($1:$7),"jjjj"),0)-1),SUMPRODUCT(($F21=Jours_fériés!$F$2:$F$11)*1)=0),"x","")} | I21: {=IF(AND(SUMPRODUCT(($F21>=$H$3:$H$5)*($F21<=$I$3:$I$5))=0,WEEKDAY($F21,2)=(MATCH(I$9,TEXT(ROW($1:$7),"jjjj"),0)-1),SUMPRODUCT(($F21=Jours_fériés!$F$2:$F$11)*1)=0),"x","")} | J21: {=IF(AND(SUMPRODUCT(($F21>=$H$3:$H$5)*($F21<=$I$3:$I$5))=0,WEEKDAY($F21,2)=(MATCH(J$9,TEXT(ROW($1:$7),"jjjj"),0)-1),SUMPRODUCT(($F21=Jours_fériés!$F$2:$F$11)*1)=0),"x","")} -> x
... A130: 45657 | B130: {=IF(AND(SUMPRODUCT(($A130>=$C$3:$C$4)*($A130<=$D$3:$D$4))=0,WEEKDAY($A130,2)=(MATCH(B$9,TEXT(ROW($1:$7),"jjjj"),0)-1),SUMPRODUCT(($A130=Jours_fériés!$C$2:$C$11)*1)=0),"x","")} | C130: {=IF(AND(SUMPRODUCT(($A130>=$C$3:$C$4)*($A130<=$D$3:$D$4))=0,WEEKDAY($A130,2)=(MATCH(C$9,TEXT(ROW($1:$7),"jjjj"),0)-1),SUMPRODUCT(($A130=Jours_fériés!$C$2:$C$11)*1)=0),"x","")} | D130: {=IF(AND(SUMPRODUCT(($A130>=$C$3:$C$4)*($A130<=$D$3:$D$4))=0,WEEKDAY($A130,2)=(MATCH(D$9,TEXT(ROW($1:$7),"jjjj"),0)-1),SUMPRODUCT(($A130=Jours_fériés!$C$2:$C$11)*1)=0),"x","")} | E130: {=IF(AND(SUMPRODUCT(($A130>=$C$3:$C$4)*($A130<=$D$3:$D$4))=0,WEEKDAY($A130,2)=(MATCH(E$9,TEXT(ROW($1:$7),"jjjj"),0)-1),SUMPRODUCT(($A130=Jours_fériés!$C$2:$C$11)*1)=0),"x","")} | F130: 45783 | G130: {=IF(AND(SUMPRODUCT(($F130>=$H$3:$H$5)*($F130<=$I$3:$I$5))=0,WEEKDAY($F130,2)=(MATCH(G$9,TEXT(ROW($1:$7),"jjjj"),0)-1),SUMPRODUCT(($F130=Jours_fériés!$F$2:$F$11)*1)=0),"x","")} | H130: {=IF(AND(SUMPRODUCT(($F130>=$H$3:$H$5)*($F130<=$I$3:$I$5))=0,WEEKDAY($F130,2)=(MATCH(H$9,TEXT(ROW($1:$7),"jjjj"),0)-1),SUMPRODUCT(($F130=Jours_fériés!$F$2:$F$11)*1)=0),"x","")} -> x | I130: {=IF(AND(SUMPRODUCT(($F130>=$H$3:$H$5)*($F130<=$I$3:$I$5))=0,WEEKDAY($F130,2)=(MATCH(I$9,TEXT(ROW($1:$7),"jjjj"),0)-1),SUMPRODUCT(($F130=Jours_fériés!$F$2:$F$11)*1)=0),"x","")} | J130: {=IF(AND(SUMPRODUCT(($F130>=$H$3:$H$5)*($F130<=$I$3:$I$5))=0,WEEKDAY($F130,2)=(MATCH(J$9,TEXT(ROW($1:$7),"jjjj"),0)-1),SUMPRODUCT(($F130=Jours_fériés!$F$2:$F$11)*1)=0),"x","")}
F131: 45784 | G131: {=IF(AND(SUMPRODUCT(($F131>=$H$3:$H$5)*($F131<=$I$3:$I$5))=0,WEEKDAY($F131,2)=(MATCH(G$9,TEXT(ROW($1:$7),"jjjj"),0)-1),SUMPRODUCT(($F131=Jours_fériés!$F$2:$F$11)*1)=0),"x","")} | H131: {=IF(AND(SUMPRODUCT(($F131>=$H$3:$H$5)*($F131<=$I$3:$I$5))=0,WEEKDAY($F131,2)=(MATCH(H$9,TEXT(ROW($1:$7),"jjjj"),0)-1),SUMPRODUCT(($F131=Jours_fériés!$F$2:$F$11)*1)=0),"x","")} | I131: {=IF(AND(SUMPRODUCT(($F131>=$H$3:$H$5)*($F131<=$I$3:$I$5))=0,WEEKDAY($F131,2)=(MATCH(I$9,TEXT(ROW($1:$7),"jjjj"),0)-1),SUMPRODUCT(($F131=Jours_fériés!$F$2:$F$11)*1)=0),"x","")} | J131: {=IF(AND(SUMPRODUCT(($F131>=$H$3:$H$5)*($F131<=$I$3:$I$5))=0,WEEKDAY($F131,2)=(MATCH(J$9,TEXT(ROW($1:$7),"jjjj"),0)-1),SUMPRODUCT(($F131=Jours_fériés!$F$2:$F$11)*1)=0),"x","")}
F132: 45785 | G132: {=IF(AND(SUMPRODUCT(($F132>=$H$3:$H$5)*($F132<=$I$3:$I$5))=0,WEEKDAY($F132,2)=(MATCH(G$9,TEXT(ROW($1:$7),"jjjj"),0)-1),SUMPRODUCT(($F132=Jours_fériés!$F$2:$F$11)*1)=0),"x","")} | H132: {=IF(AND(SUMPRODUCT(($F132>=$H$3:$H$5)*($F132<=$I$3:$I$5))=0,WEEKDAY($F132,2)=(MATCH(H$9,TEXT(ROW($1:$7),"jjjj"),0)-1),SUMPRODUCT(($F132=Jours_fériés!$F$2:$F$11)*1)=0),"x","")} | I132: {=IF(AND(SUMPRODUCT(($F132>=$H$3:$H$5)*($F132<=$I$3:$I$5))=0,WEEKDAY($F132,2)=(MATCH(I$9,TEXT(ROW($1:$7),"jjjj"),0)-1),SUMPRODUCT(($F132=Jours_fériés!$F$2:$F$11)*1)=0),"x","")} | J132: {=IF(AND(SUMPRODUCT(($F132>=$H$3:$H$5)*($F132<=$I$3:$I$5))=0,WEEKDAY($F132,2)=(MATCH(J$9,TEXT(ROW($1:$7),"jjjj"),0)-1),SUMPRODUCT(($F132=Jours_fériés!$F$2:$F$11)*1)=0),"x","")}
F133: 45786 | G133: {=IF(AND(SUMPRODUCT(($F133>=$H$3:$H$5)*($F133<=$I$3:$I$5))=0,WEEKDAY($F133,2)=(MATCH(G$9,TEXT(ROW($1:$7),"jjjj"),0)-1),SUMPRODUCT(($F133=Jours_fériés!$F$2:$F$11)*1)=0),"x","")} | H133: {=IF(AND(SUMPRODUCT(($F133>=$H$3:$H$5)*($F133<=$I$3:$I$5))=0,WEEKDAY($F133,2)=(MATCH(H$9,TEXT(ROW($1:$7),"jjjj"),0)-1),SUMPRODUCT(($F133=Jours_fériés!$F$2:$F$11)*1)=0),"x","")} | I133: {=IF(AND(SUMPRODUCT(($F133>=$H$3:$H$5)*($F133<=$I$3:$I$5))=0,WEEKDAY($F133,2)=(MATCH(I$9,TEXT(ROW($1:$7),"jjjj"),0)-1),SUMPRODUCT(($F133=Jours_fériés!$F$2:$F$11)*1)=0),"x","")} | J133: {=IF(AND(SUMPRODUCT(($F133>=$H$3:$H$5)*($F133<=$I$3:$I$5))=0,WEEKDAY($F133,2)=(MATCH(J$9,TEXT(ROW($1:$7),"jjjj"),0)-1),SUMPRODUCT(($F133=Jours_fériés!$F$2:$F$11)*1)=0),"x","")} -> x
F134: 45787 | G134: {=IF(AND(SUMPRODUCT(($F134>=$H$3:$H$5)*($F134<=$I$3:$I$5))=0,WEEKDAY($F134,2)=(MATCH(G$9,TEXT(ROW($1:$7),"jjjj"),0)-1),SUMPRODUCT(($F134=Jours_fériés!$F$2:$F$11)*1)=0),"x","")} | H134: {=IF(AND(SUMPRODUCT(($F134>=$H$3:$H$5)*($F134<=$I$3:$I$5))=0,WEEKDAY($F134,2)=(MATCH(H$9,TEXT(ROW($1:$7),"jjjj"),0)-1),SUMPRODUCT(($F134=Jours_fériés!$F$2:$F$11)*1)=0),"x","")} | I134: {=IF(AND(SUMPRODUCT(($F134>=$H$3:$H$5)*($F134<=$I$3:$I$5))=0,WEEKDAY($F134,2)=(MATCH(I$9,TEXT(ROW($1:$7),"jjjj"),0)-1),SUMPRODUCT(($F134=Jours_fériés!$F$2:$F$11)*1)=0),"x","")} | J134: {=IF(AND(SUMPRODUCT(($F134>=$H$3:$H$5)*($F134<=$I$3:$I$5))=0,WEEKDAY($F134,2)=(MATCH(J$9,TEXT(ROW($1:$7),"jjjj"),0)-1),SUMPRODUCT(($F134=Jours_fériés!$F$2:$F$11)*1)=0),"x","")}
F135: 45788 | G135: {=IF(AND(SUMPRODUCT(($F135>=$H$3:$H$5)*($F135<=$I$3:$I$5))=0,WEEKDAY($F135,2)=(MATCH(G$9,TEXT(ROW($1:$7),"jjjj"),0)-1),SUMPRODUCT(($F135=Jours_fériés!$F$2:$F$11)*1)=0),"x","")} | H135: {=IF(AND(SUMPRODUCT(($F135>=$H$3:$H$5)*($F135<=$I$3:$I$5))=0,WEEKDAY($F135,2)=(MATCH(H$9,TEXT(ROW($1:$7),"jjjj"),0)-1),SUMPRODUCT(($F135=Jours_fériés!$F$2:$F$11)*1)=0),"x","")} | I135: {=IF(AND(SUMPRODUCT(($F135>=$H$3:$H$5)*($F135<=$I$3:$I$5))=0,WEEKDAY($F135,2)=(MATCH(I$9,TEXT(ROW($1:$7),"jjjj"),0)-1),SUMPRODUCT(($F135=Jours_fériés!$F$2:$F$11)*1)=0),"x","")} | J135: {=IF(AND(SUMPRODUCT(($F135>=$H$3:$H$5)*($F135<=$I$3:$I$5))=0,WEEKDAY($F135,2)=(MATCH(J$9,TEXT(ROW($1:$7),"jjjj"),0)-1),SUMPRODUCT(($F135=Jours_fériés!$F$2:$F$11)*1)=0),"x","")}
F136: 45789 | G136: {=IF(AND(SUMPRODUCT(($F136>=$H$3:$H$5)*($F136<=$I$3:$I$5))=0,WEEKDAY($F136,2)=(MATCH(G$9,TEXT(ROW($1:$7),"jjjj"),0)-1),SUMPRODUCT(($F136=Jours_fériés!$F$2:$F$11)*1)=0),"x","")} -> x | H136: {=IF(AND(SUMPRODUCT(($F136>=$H$3:$H$5)*($F136<=$I$3:$I$5))=0,WEEKDAY($F136,2)=(MATCH(H$9,TEXT(ROW($1:$7),"jjjj"),0)-1),SUMPRODUCT(($F136=Jours_fériés!$F$2:$F$11)*1)=0),"x","")} | I136: {=IF(AND(SUMPRODUCT(($F136>=$H$3:$H$5)*($F136<=$I$3:$I$5))=0,WEEKDAY($F136,2)=(MATCH(I$9,TEXT(ROW($1:$7),"jjjj"),0)-1),SUMPRODUCT(($F136=Jours_fériés!$F$2:$F$11)*1)=0),"x","")} | J136: {=IF(AND(SUMPRODUCT(($F136>=$H$3:$H$5)*($F136<=$I$3:$I$5))=0,WEEKDAY($F136,2)=(MATCH(J$9,TEXT(ROW($1:$7),"jjjj"),0)-1),SUMPRODUCT(($F136=Jours_fériés!$F$2:$F$11)*1)=0),"x","")}
F137: 45790 | G137: {=IF(AND(SUMPRODUCT(($F137>=$H$3:$H$5)*($F137<=$I$3:$I$5))=0,WEEKDAY($F137,2)=(MATCH(G$9,TEXT(ROW($1:$7),"jjjj"),0)-1),SUMPRODUCT(($F137=Jours_fériés!$F$2:$F$11)*1)=0),"x","")} | H137: {=IF(AND(SUMPRODUCT(($F137>=$H$3:$H$5)*($F137<=$I$3:$I$5))=0,WEEKDAY($F137,2)=(MATCH(H$9,TEXT(ROW($1:$7),"jjjj"),0)-1),SUMPRODUCT(($F137=Jours_fériés!$F$2:$F$11)*1)=0),"x","")} -> x | I137: {=IF(AND(SUMPRODUCT(($F137>=$H$3:$H$5)*($F137<=$I$3:$I$5))=0,WEEKDAY($F137,2)=(MATCH(I$9,TEXT(ROW($1:$7),"jjjj"),0)-1),SUMPRODUCT(($F137=Jours_fériés!$F$2:$F$11)*1)=0),"x","")} | J137: {=IF(AND(SUMPRODUCT(($F137>=$H$3:$H$5)*($F137<=$I$3:$I$5))=0,WEEKDAY($F137,2)=(MATCH(J$9,TEXT(ROW($1:$7),"jjjj"),0)-1),SUMPRODUCT(($F137=Jours_fériés!$F$2:$F$11)*1)=0),"x","")}
F138: 45791 | G138: {=IF(AND(SUMPRODUCT(($F138>=$H$3:$H$5)*($F138<=$I$3:$I$5))=0,WEEKDAY($F138,2)=(MATCH(G$9,TEXT(ROW($1:$7),"jjjj"),0)-1),SUMPRODUCT(($F138=Jours_fériés!$F$2:$F$11)*1)=0),"x","")} | H138: {=IF(AND(SUMPRODUCT(($F138>=$H$3:$H$5)*($F138<=$I$3:$I$5))=0,WEEKDAY($F138,2)=(MATCH(H$9,TEXT(ROW($1:$7),"jjjj"),0)-1),SUMPRODUCT(($F138=Jours_fériés!$F$2:$F$11)*1)=0),"x","")} | I138: {=IF(AND(SUMPRODUCT(($F138>=$H$3:$H$5)*($F138<=$I$3:$I$5))=0,WEEKDAY($F138,2)=(MATCH(I$9,TEXT(ROW($1:$7),"jjjj"),0)-1),SUMPRODUCT(($F138=Jours_fériés!$F$2:$F$11)*1)=0),"x","")} | J138: {=IF(AND(SUMPRODUCT(($F138>=$H$3:$H$5)*($F138<=$I$3:$I$5))=0,WEEKDAY($F138,2)=(MATCH(J$9,TEXT(ROW($1:$7),"jjjj"),0)-1),SUMPRODUCT(($F138=Jours_fériés!$F$2:$F$11)*1)=0),"x","")}
F139: 45792 | G139: {=IF(AND(SUMPRODUCT(($F139>=$H$3:$H$5)*($F139<=$I$3:$I$5))=0,WEEKDAY($F139,2)=(MATCH(G$9,TEXT(ROW($1:$7),"jjjj"),0)-1),SUMPRODUCT(($F139=Jours_fériés!$F$2:$F$11)*1)=0),"x","")} | H139: {=IF(AND(SUMPRODUCT(($F139>=$H$3:$H$5)*($F139<=$I$3:$I$5))=0,WEEKDAY($F139,2)=(MATCH(H$9,TEXT(ROW($1:$7),"jjjj"),0)-1),SUMPRODUCT(($F139=Jours_fériés!$F$2:$F$11)*1)=0),"x","")} | I139: {=IF(AND(SUMPRODUCT(($F139>=$H$3:$H$5)*($F139<=$I$3:$I$5))=0,WEEKDAY($F139,2)=(MATCH(I$9,TEXT(ROW($1:$7),"jjjj"),0)-1),SUMPRODUCT(($F139=Jours_fériés!$F$2:$F$11)*1)=0),"x","")} -> x | J139: {=IF(AND(SUMPRODUCT(($F139>=$H$3:$H$5)*($F139<=$I$3:$I$5))=0,WEEKDAY($F139,2)=(MATCH(J$9,TEXT(ROW($1:$7),"jjjj"),0)-1),SUMPRODUCT(($F139=Jours_fériés!$F$2:$F$11)*1)=0),"x","")}
F140: 45793 | G140: {=IF(AND(SUMPRODUCT(($F140>=$H$3:$H$5)*($F140<=$I$3:$I$5))=0,WEEKDAY($F140,2)=(MATCH(G$9,TEXT(ROW($1:$7),"jjjj"),0)-1),SUMPRODUCT(($F140=Jours_fériés!$F$2:$F$11)*1)=0),"x","")} | H140: {=IF(AND(SUMPRODUCT(($F140>=$H$3:$H$5)*($F140<=$I$3:$I$5))=0,WEEKDAY($F140,2)=(MATCH(H$9,TEXT(ROW($1:$7),"jjjj"),0)-1),SUMPRODUCT(($F140=Jours_fériés!$F$2:$F$11)*1)=0),"x","")} | I140: {=IF(AND(SUMPRODUCT(($F140>=$H$3:$H$5)*($F140<=$I$3:$I$5))=0,WEEKDAY($F140,2)=(MATCH(I$9,TEXT(ROW($1:$7),"jjjj"),0)-1),SUMPRODUCT(($F140=Jours_fériés!$F$2:$F$11)*1)=0),"x","")} | J140: {=IF(AND(SUMPRODUCT(($F140>=$H$3:$H$5)*($F140<=$I$3:$I$5))=0,WEEKDAY($F140,2)=(MATCH(J$9,TEXT(ROW($1:$7),"jjjj"),0)-1),SUMPRODUCT(($F140=Jours_fériés!$F$2:$F$11)*1)=0),"x","")} -> x
F141: 45794 | G141: {=IF(AND(SUMPRODUCT(($F141>=$H$3:$H$5)*($F141<=$I$3:$I$5))=0,WEEKDAY($F141,2)=(MATCH(G$9,TEXT(ROW($1:$7),"jjjj"),0)-1),SUMPRODUCT(($F141=Jours_fériés!$F$2:$F$11)*1)=0),"x","")} | H141: {=IF(AND(SUMPRODUCT(($F141>=$H$3:$H$5)*($F141<=$I$3:$I$5))=0,WEEKDAY($F141,2)=(MATCH(H$9,TEXT(ROW($1:$7),"jjjj"),0)-1),SUMPRODUCT(($F141=Jours_fériés!$F$2:$F$11)*1)=0),"x","")} | I141: {=IF(AND(SUMPRODUCT(($F141>=$H$3:$H$5)*($F141<=$I$3:$I$5))=0,WEEKDAY($F141,2)=(MATCH(I$9,TEXT(ROW($1:$7),"jjjj"),0)-1),SUMPRODUCT(($F141=Jours_fériés!$F$2:$F$11)*1)=0),"x","")} | J141: {=IF(AND(SUMPRODUCT(($F141>=$H$3:$H$5)*($F141<=$I$3:$I$5))=0,WEEKDAY($F141,2)=(MATCH(J$9,TEXT(ROW($1:$7),"jjjj"),0)-1),SUMPRODUCT(($F141=Jours_fériés!$F$2:$F$11)*1)=0),"x","")}
F142: 45795 | G142: {=IF(AND(SUMPRODUCT(($F142>=$H$3:$H$5)*($F142<=$I$3:$I$5))=0,WEEKDAY($F142,2)=(MATCH(G$9,TEXT(ROW($1:$7),"jjjj"),0)-1),SUMPRODUCT(($F142=Jours_fériés!$F$2:$F$11)*1)=0),"x","")} | H142: {=IF(AND(SUMPRODUCT(($F142>=$H$3:$H$5)*($F142<=$I$3:$I$5))=0,WEEKDAY($F142,2)=(MATCH(H$9,TEXT(ROW($1:$7),"jjjj"),0)-1),SUMPRODUCT(($F142=Jours_fériés!$F$2:$F$11)*1)=0),"x","")} | I142: {=IF(AND(SUMPRODUCT(($F142>=$H$3:$H$5)*($F142<=$I$3:$I$5))=0,WEEKDAY($F142,2)=(MATCH(I$9,TEXT(ROW($1:$7),"jjjj"),0)-1),SUMPRODUCT(($F142=Jours_fériés!$F$2:$F$11)*1)=0),"x","")} | J142: {=IF(AND(SUMPRODUCT(($F142>=$H$3:$H$5)*($F142<=$I$3:$I$5))=0,WEEKDAY($F142,2)=(MATCH(J$9,TEXT(ROW($1:$7),"jjjj"),0)-1),SUMPRODUCT(($F142=Jours_fériés!$F$2:$F$11)*1)=0),"x","")}
... F189: 45842 | G189: {=IF(AND(SUMPRODUCT(($F189>=$H$3:$H$5)*($F189<=$I$3:$I$5))=0,WEEKDAY($F189,2)=(MATCH(G$9,TEXT(ROW($1:$7),"jjjj"),0)-1),SUMPRODUCT(($F189=Jours_fériés!$F$2:$F$11)*1)=0),"x","")} | H189: {=IF(AND(SUMPRODUCT(($F189>=$H$3:$H$5)*($F189<=$I$3:$I$5))=0,WEEKDAY($F189,2)=(MATCH(H$9,TEXT(ROW($1:$7),"jjjj"),0)-1),SUMPRODUCT(($F189=Jours_fériés!$F$2:$F$11)*1)=0),"x","")} | I189: {=IF(AND(SUMPRODUCT(($F189>=$H$3:$H$5)*($F189<=$I$3:$I$5))=0,WEEKDAY($F189,2)=(MATCH(I$9,TEXT(ROW($1:$7),"jjjj"),0)-1),SUMPRODUCT(($F189=Jours_fériés!$F$2:$F$11)*1)=0),"x","")} | J189: {=IF(AND(SUMPRODUCT(($F189>=$H$3:$H$5)*($F189<=$I$3:$I$5))=0,WEEKDAY($F189,2)=(MATCH(J$9,TEXT(ROW($1:$7),"jjjj"),0)-1),SUMPRODUCT(($F189=Jours_fériés!$F$2:$F$11)*1)=0),"x","")} -> x

Sheet Jours_fériés
A1: 2024 | D1: 2025
A2: Jour de l'An | B2: Lundi 1er janvier 2024 | C2: 45292 | D2: Jour de l'An | E2: Mercredi 1er janvier 2025 | F2: 45658
A3: Lundi de Pâques | B3: Lundi 1er avril 2024 | C3: 45383 | D3: Lundi de Pâques | E3: Lundi 21 avril 2025 | F3: 45768
A4: Fête du Travail | B4: Mercredi 1er mai 2024 | C4: 45413 | D4: Fête du Travail | E4: Jeudi 1er mai 2025 | F4: 45778
A5: Victoire 1945 | B5: Mercredi 8 mai 2024 | C5: 45420 | D5: Victoire 1945 | E5: Jeudi 8 mai 2025 | F5: 45785
A6: Ascension | B6: Jeudi 9 mai 2024 | C6: 45421 | D6: Ascension | E6: Jeudi 29 mai 2025 | F6: 45806
A7: Lundi de Pentecôte | B7: Lundi 20 mai 2024 | C7: 45432 | D7: Lundi de Pentecôte | E7: Lundi 9 juin 2025 | F7: 45817
A8: Assomption | B8: Jeudi 15 août 2024 | C8: 45519 | D8: Fête nationale | E8: Lundi 14 juillet 2025 | F8: 45852
A9: Toussaint | B9: Vendredi 1er novembre 2024 | C9: 45597 | D9: Assomption | E9: Vendredi 15 août 2025 | F9: 45884
A10: Armistice 1918 | B10: Lundi 11 novembre 2024 | C10: 45607 | D10: Armistice 1918 | E10: Mardi 11 novembre 2025 | F10: 45972
A11: Noël | B11: Mercredi 25 décembre 2024 | C11: 45651 | D11: Noël | E11: Jeudi 25 décembre 2025 | F11: 46016
