Workbook

Sheet Planning Americain
A1: VILLAGE | B1: Lundi | C1: cumul S | D1: cumul J | E1: OFF | F1: 45719 | AS1: Possible de créer toute autre légende, tous les caractères sont pris en compte dans le calcul des heures
F2: 0.25 | G2: 0.27083333 | H2: 0.29166667 | I2: 0.3125 | J2: 0.33333333 | K2: 0.35416667 | L2: 0.375 | M2: 0.39583333 | N2: 0.41666667 | O2: 0.4375 | P2: 0.45833333 | Q2: 0.47916667 | R2: 0.5 | S2: 0.52083333 | T2: 0.54166667 | U2: 0.5625 | V2: 0.58333333 | W2: 0.60416667 | X2: 0.625 | Y2: 0.64583333 | Z2: 0.66666667 | AA2: 0.6875 | AB2: 0.70833333 | AC2: 0.72916667 | AD2: 0.75 | AE2: 0.77083333 | AF2: 0.79166667 | AG2: 0.8125 | AH2: 0.83333333 | AI2: 0.85416667 | AJ2: 0.875 | AK2: 0.89583333 | AL2: 0.91666667 | AM2: 0.9375 | AN2: 0.95833333 | AO2: 0.97916667 | AP2: 1 | AQ2: 1.0208333
B3: Coco | C3: =D3+D29+D55+D81+D107+D133+D159 -> 1.75 | D3: =1/48*COUNTIF(F3:AQ3,"<>") -> 0.33333333 | F3: q | H3: x | I3: x | J3: x | K3: x | L3: x | M3: x | Q3: x | R3: x | S3: x | T3: x | U3: x | Y3: x | Z3: x | AA3: x | AB3: x
B4: Julien | C4: =D4+D30+D56+D82+D108+D134+D160 -> 1.5625 | D4: =1/48*COUNTIF(F4:AQ4,"<>") -> 0.1875 | G4: x | H4: z | K4: x | L4: x | N4: x | U4: x | V4: x | W4: x | X4: x
B5: Marc | C5: =D5+D31+D57+D83+D109+D135+D161 -> 1.6666667 | D5: =1/48*COUNTIF(F5:AQ5,"<>") -> 0.16666667 | J5: x | K5: x | L5: x | M5: x | Q5: x | R5: x | S5: x | T5: x | AS5: x | AT5: front
C6: =D6+D32+D58+D84+D110+D136+D162 -> 0 | D6: =1/48*COUNTIF(F6:AQ6,"<>") -> 0 | AS6: b | AT6: backoff
C7: =D7+D33+D59+D85+D111+D137+D163 -> 0 | D7: =1/48*COUNTIF(F7:AQ7,"<>") -> 0 | AS7: V | AT7: vv
C8: =D8+D34+D60+D86+D112+D138+D164 -> 0 | D8: =1/48*COUNTIF(F8:AQ8,"<>") -> 0 | AS8: OFF | AT8: indiquer OFF en colonne E en face du nom du receptionniste off ce jour là
C9: =D9+D35+D61+D87+D113+D139+D165 -> 0 | D9: =1/48*COUNTIF(F9:AQ9,"<>") -> 0 | AS9: X | AT9: Pas de pause repas
C10: =D10+D36+D62+D88+D114+D140+D166 -> 0 | D10: =1/48*COUNTIF(F10:AQ10,"<>") -> 0 | AT10: Pause obligatoire après 6h
C11: =D11+D37+D63+D89+D115+D141+D167 -> 0 | D11: =1/48*COUNTIF(F11:AQ11,"<>") -> 0 | AT11: Amplitude horaire
B12: ='[1]Liste Employés W&S'!A11 & " " & '[1]Liste Employés W&S'!B11 | C12: =D12+D38+D64+D90+D116+D142+D168 -> 0 | D12: =1/48*COUNTIF(F12:AQ12,"<>") -> 0
B13: ='[1]Liste Employés W&S'!A12 & " " & '[1]Liste Employés W&S'!B12 | C13: =D13+D39+D65+D91+D117+D143+D169 -> 0 | D13: =1/48*COUNTIF(F13:AQ13,"<>") -> 0 | AT13: Contrôle jour off
B14: ='[1]Liste Employés W&S'!A13 & " " & '[1]Liste Employés W&S'!B13 | C14: =D14+D40+D66+D92+D118+D144+D170 -> 0 | D14: =1/48*COUNTIF(F14:AQ14,"<>") -> 0 | AT14: =B3 -> Coco | AU14: =COUNTA((E3,E29,E55,E81,E107,E133,E159)) -> 0
B15: ='[1]Liste Employés W&S'!A14 & " " & '[1]Liste Employés W&S'!B14 | C15: =D15+D41+D67+D93+D119+D145+D171 -> 0 | D15: =1/48*COUNTIF(F15:AQ15,"<>") -> 0 | AT15: =B4 -> Julien | AU15: =COUNTA((E4,E30,E56,E82,E108,E134,E160)) -> 0
B16: ='[1]Liste Employés W&S'!A15 & " " & '[1]Liste Employés W&S'!B15 | C16: =D16+D42+D68+D94+D120+D146+D172 -> 0 | D16: =1/48*COUNTIF(F16:AQ16,"<>") -> 0 | AT16: =B5 -> Marc | AU16: =COUNTA((E5,E31,E57,E83,E109,E135,E161)) -> 0
B17: ='[1]Liste Employés W&S'!A16 & " " & '[1]Liste Employés W&S'!B16 | C17: =D17+D43+D69+D95+D121+D147+D173 -> 0 | D17: =1/48*COUNTIF(F17:AQ17,"<>") -> 0 | AT17: =B6 -> 0 | AU17: =COUNTA((E6,E32,E58,E84,E110,E136,E162)) -> 0
B18: ='[1]Liste Employés W&S'!A17 & " " & '[1]Liste Employés W&S'!B17 | C18: =D18+D44+D70+D96+D122+D148+D174 -> 0 | D18: =1/48*COUNTIF(F18:AQ18,"<>") -> 0 | AT18: =B7 -> 0 | AU18: =COUNTA((E7,E33,E59,E85,E111,E137,E163)) -> 0
B19: ='[1]Liste Employés W&S'!A18 & " " & '[1]Liste Employés W&S'!B18 | C19: =D19+D45+D71+D97+D123+D149+D175 -> 0 | D19: =1/48*COUNTIF(F19:AQ19,"<>") -> 0 | AT19: =B8 -> 0 | AU19: =COUNTA((E8,E34,E60,E86,E112,E138,E164)) -> 0
B20: ='[1]Liste Employés W&S'!A19 & " " & '[1]Liste Employés W&S'!B19 | C20: =D20+D46+D72+D98+D124+D150+D176 -> 0 | D20: =1/48*COUNTIF(F20:AQ20,"<>") -> 0 | AT20: =B9 -> 0 | AU20: =COUNTA((E9,E35,E61,E87,E113,E139,E165)) -> 0
B21: ='[1]Liste Employés W&S'!A20 & " " & '[1]Liste Employés W&S'!B20 | C21: =D21+D47+D73+D99+D125+D151+D177 -> 0 | D21: =1/48*COUNTIF(F21:AQ21,"<>") -> 0 | AT21: =B10 -> 0 | AU21: =COUNTA((E10,E36,E62,E88,E114,E140,E166)) -> 0
B22: ='[1]Liste Employés W&S'!A21 & " " & '[1]Liste Employés W&S'!B21 | C22: =D22+D48+D74+D100+D126+D152+D178 -> 0 | D22: =1/48*COUNTIF(F22:AQ22,"<>") -> 0 | AT22: =B11 -> 0 | AU22: =COUNTA((E11,E37,E63,E89,E115,E141,E167)) -> 0
B23: ='[1]Liste Employés W&S'!A22 & " " & '[1]Liste Employés W&S'!B22 | C23: =D23+D49+D75+D101+D127+D153+D179 -> 0 | D23: =1/48*COUNTIF(F23:AQ23,"<>") -> 0 | AT23: =B12 | AU23: =COUNTA((E12,E38,E64,E90,E116,E142,E168)) -> 0
B24: TOTAL PREVUS | F24: =COUNTA(F3:F23) -> 1 | G24: =COUNTA(G3:G23) -> 1 | H24: =COUNTA(H3:H23) -> 2 | I24: =COUNTA(I3:I23) -> 1 | J24: =COUNTA(J3:J23) -> 2 | K24: =COUNTA(K3:K23) -> 3 | L24: =COUNTA(L3:L23) -> 3 | M24: =COUNTA(M3:M23) -> 2 | ... AQ24: =COUNTA(AQ3:AQ23) -> 0 | AT24: =B13 | AU24: =COUNTA((E13,E39,E65,E91,E117,E143,E169)) -> 0
B25: BESOINS ESTIMES (A REMPLIR) | AT25: =B14 | AU25: =COUNTA((E14,E40,E66,E92,E118,E144,E170)) -> 0
B26: DIFFERENCE | F26: =F24-F25 -> 1 | G26: =G24-G25 -> 1 | H26: =H24-H25 -> 2 | I26: =I24-I25 -> 1 | J26: =J24-J25 -> 2 | K26: =K24-K25 -> 3 | L26: =L24-L25 -> 3 | M26: =M24-M25 -> 2 | ... AQ26: =AQ24-AQ25 -> 0 | AT26: =B15 | AU26: =COUNTA((E15,E41,E67,E93,E119,E145,E171)) -> 0
B27: Mardi | C27: cumul S | D27: cumul J | E27: OFF | F27: =$F$1+1 -> 45720 | AT27: =B16 | AU27: =COUNTA((E16,E42,E68,E94,E120,E146,E172)) -> 0
F28: 0.25 | G28: 0.27083333 | H28: 0.29166667 | I28: 0.3125 | J28: 0.33333333 | K28: 0.35416667 | L28: 0.375 | M28: 0.39583333 | N28: 0.41666667 | O28: 0.4375 | P28: 0.45833333 | Q28: 0.47916667 | R28: 0.5 | S28: 0.52083333 | T28: 0.54166667 | U28: 0.5625 | V28: 0.58333333 | W28: 0.60416667 | X28: 0.625 | Y28: 0.64583333 | Z28: 0.66666667 | AA28: 0.6875 | AB28: 0.70833333 | AC28: 0.72916667 | AD28: 0.75 | AE28: 0.77083333 | AF28: 0.79166667 | AG28: 0.8125 | AH28: 0.83333333 | AI28: 0.85416667 | AJ28: 0.875 | AK28: 0.89583333 | AL28: 0.91666667 | AM28: 0.9375 | AN28: 0.95833333 | AO28: 0.97916667 | AP28: 1 | AQ28: 1.0208333 | AT28: =B17 | AU28: =COUNTA((E17,E43,E69,E95,E121,E147,E173)) -> 0
B29: Coco | C29: =D3+D29+D55+D81+D107+D133+D159 -> 1.75 | D29: =1/48*COUNTIF(F29:AQ29,"<>") -> 0.16666667 | I29: X | J29: X | K29: X | L29: X | R29: X | S29: X | T29: X | U29: X | AT29: =B18 | AU29: =COUNTA((E18,E44,E70,E96,E122,E148,E174)) -> 0
B30: Julien | C30: =D4+D30+D56+D82+D108+D134+D160 -> 1.5625 | D30: =1/48*COUNTIF(F30:AQ30,"<>") -> 0.125 | I30: x | K30: x | L30: x | M30: x | N30: x | O30: x | AT30: =B19 | AU30: =COUNTA((E19,E45,E71,E97,E123,E149,E175)) -> 0
B31: Marc | C31: =D5+D31+D57+D83+D109+D135+D161 -> 1.6666667 | D31: =1/48*COUNTIF(F31:AQ31,"<>") -> 0.25 | G31: x | H31: x | I31: x | J31: x | O31: x | P31: x | Q31: x | R31: x | V31: x | W31: x | X31: x | Y31: x | AT31: =B20 | AU31: =COUNTA((E20,E46,E72,E98,E124,E150,E176)) -> 0
B32: ='[1]Liste Employés W&S'!A5 & " " & '[1]Liste Employés W&S'!B5 | C32: =D6+D32+D58+D84+D110+D136+D162 -> 0 | D32: =1/48*COUNTIF(F32:AQ32,"<>") -> 0 | AT32: =B21 | AU32: =COUNTA((E21,E47,E73,E99,E125,E151,E177)) -> 0
B33: ='[1]Liste Employés W&S'!A6 & " " & '[1]Liste Employés W&S'!B6 | C33: =D7+D33+D59+D85+D111+D137+D163 -> 0 | D33: =1/48*COUNTIF(F33:AQ33,"<>") -> 0 | AT33: =B22 | AU33: =COUNTA((E22,E48,E74,E100,E126,E152,E178)) -> 0
B34: ='[1]Liste Employés W&S'!A7 & " " & '[1]Liste Employés W&S'!B7 | C34: =D8+D34+D60+D86+D112+D138+D164 -> 0 | D34: =1/48*COUNTIF(F34:AQ34,"<>") -> 0 | AT34: =B23 | AU34: =COUNTA((E23,E49,E75,E101,E127,E153,E179)) -> 0
B35: ='[1]Liste Employés W&S'!A8 & " " & '[1]Liste Employés W&S'!B8 | C35: =D9+D35+D61+D87+D113+D139+D165 -> 0 | D35: =1/48*COUNTIF(F35:AQ35,"<>") -> 0
B36: ='[1]Liste Employés W&S'!A9 & " " & '[1]Liste Employés W&S'!B9 | C36: =D10+D36+D62+D88+D114+D140+D166 -> 0 | D36: =1/48*COUNTIF(F36:AQ36,"<>") -> 0
B37: ='[1]Liste Employés W&S'!A10 & " " & '[1]Liste Employés W&S'!B10 | C37: =D11+D37+D63+D89+D115+D141+D167 -> 0 | D37: =1/48*COUNTIF(F37:AQ37,"<>") -> 0
B38: ='[1]Liste Employés W&S'!A11 & " " & '[1]Liste Employés W&S'!B11 | C38: =D12+D38+D64+D90+D116+D142+D168 -> 0 | D38: =1/48*COUNTIF(F38:AQ38,"<>") -> 0
B39: ='[1]Liste Employés W&S'!A12 & " " & '[1]Liste Employés W&S'!B12 | C39: =D13+D39+D65+D91+D117+D143+D169 -> 0 | D39: =1/48*COUNTIF(F39:AQ39,"<>") -> 0
B40: ='[1]Liste Employés W&S'!A13 & " " & '[1]Liste Employés W&S'!B13 | C40: =D14+D40+D66+D92+D118+D144+D170 -> 0 | D40: =1/48*COUNTIF(F40:AQ40,"<>") -> 0
...

Sheet Horaire
C1: LUNDI | E1: MARDI | G1: MERCREDI | I1: JEUDI | K1: Vendredi | M1: Samedi | O1: Dimanche
B2: Périodes | C2: Lundi | D2: Lundi | E2: Mardi | F2: Mardi | G2: Mercredi | H2: Mercredi | I2: Jeudi | J2: Jeudi | K2: Vendredi | L2: Vendredi | M2: Samedi | N2: Samedi | O2: Dimanche | P2: Dimanche | R2: Postes
A3: Poste 1 | B3: 1 | C3: {=IFERROR(INDEX('Planning Americain'!$F$2:$AQ$2,0,SMALL(IF((ISNUMBER(IF(ISTEXT(INDIRECT("'Planning Americain'!$F$"&$R3+1+MATCH(C$2,'Planning Americain'!$B$1:$B$179,0)&":$AQ$"&$R3+1+MATCH(C$2,'Planning Americain'!$B$1:$B$179,0))),COLUMN($F$3:$AQ$3)-5)))*(ISNUMBER(IF(INDIRECT("'Planning Americain'!$E$"&$R3+1+MATCH(C$2,'Planning Americain'!$B$1:$B$179,0)&":$AP$"&$R3+1+MATCH(C$2,'Planning Americain'!$B$1:$B$179,0))="",COLUMN($E$3:$AP$3)-4))*COLUMN($F$3:$AQ$3)-5)>0,COLUMN($F$3:$AQ$3)-5,"FAUX"),$B3)),"")} -> 0.25 | D3: {=IFERROR(INDEX('Planning Americain'!$F$2:$AQ$2,0,SMALL(IF((ISNUMBER(IF(ISTEXT(INDIRECT("'Planning Americain'!$F$"&$R3+1+MATCH(C$2,'Planning Americain'!$B$1:$B$179,0)&":$AQ$"&$R3+1+MATCH(C$2,'Planning Americain'!$B$1:$B$179,0))),COLUMN($F$3:$AQ$3)-5)))*(ISNUMBER(IF(INDIRECT("'Planning Americain'!$G$"&$R3+1+MATCH(C$2,'Planning Americain'!$B$1:$B$179,0)&":$AR$"&$R3+1+MATCH(C$2,'Planning Americain'!$B$1:$B$179,0))="",COLUMN($G$3:$AR$3)-6))*COLUMN($F$3:$AQ$3)-5)>0,COLUMN($F$3:$AQ$3)-4,"FAUX"),$B3)),"")} -> 0.27083333 | E3: {=IFERROR(INDEX('Planning Americain'!$F$2:$AQ$2,0,SMALL(IF((ISNUMBER(IF(ISTEXT(INDIRECT("'Planning Americain'!$F$"&$R3+1+MATCH(E$2,'Planning Americain'!$B$1:$B$179,0)&":$AQ$"&$R3+1+MATCH(E$2,'Planning Americain'!$B$1:$B$179,0))),COLUMN($F$3:$AQ$3)-5)))*(ISNUMBER(IF(INDIRECT("'Planning Americain'!$E$"&$R3+1+MATCH(E$2,'Planning Americain'!$B$1:$B$179,0)&":$AP$"&$R3+1+MATCH(E$2,'Planning Americain'!$B$1:$B$179,0))="",COLUMN($E$3:$AP$3)-4))*COLUMN($F$3:$AQ$3)-5)>0,COLUMN($F$3:$AQ$3)-5,"FAUX"),$B3)),"")} -> 0.3125 | F3: {=IFERROR(INDEX('Planning Americain'!$F$2:$AQ$2,0,SMALL(IF((ISNUMBER(IF(ISTEXT(INDIRECT("'Planning Americain'!$F$"&$R3+1+MATCH(E$2,'Planning Americain'!$B$1:$B$179,0)&":$AQ$"&$R3+1+MATCH(E$2,'Planning Americain'!$B$1:$B$179,0))),COLUMN($F$3:$AQ$3)-5)))*(ISNUMBER(IF(INDIRECT("'Planning Americain'!$G$"&$R3+1+MATCH(E$2,'Planning Americain'!$B$1:$B$179,0)&":$AR$"&$R3+1+MATCH(E$2,'Planning Americain'!$B$1:$B$179,0))="",COLUMN($G$3:$AR$3)-6))*COLUMN($F$3:$AQ$3)-5)>0,COLUMN($F$3:$AQ$3)-4,"FAUX"),$B3)),"")} -> 0.39583333 | G3: {=IFERROR(INDEX('Planning Americain'!$F$2:$AQ$2,0,SMALL(IF((ISNUMBER(IF(ISTEXT(INDIRECT("'Planning Americain'!$F$"&$R3+1+MATCH(G$2,'Planning Americain'!$B$1:$B$179,0)&":$AQ$"&$R3+1+MATCH(G$2,'Planning Americain'!$B$1:$B$179,0))),COLUMN($F$3:$AQ$3)-5)))*(ISNUMBER(IF(INDIRECT("'Planning Americain'!$E$"&$R3+1+MATCH(G$2,'Planning Americain'!$B$1:$B$179,0)&":$AP$"&$R3+1+MATCH(G$2,'Planning Americain'!$B$1:$B$179,0))="",COLUMN($E$3:$AP$3)-4))*COLUMN($F$3:$AQ$3)-5)>0,COLUMN($F$3:$AQ$3)-5,"FAUX"),$B3)),"")} -> 0.25 | H3: {=IFERROR(INDEX('Planning Americain'!$F$2:$AQ$2,0,SMALL(IF((ISNUMBER(IF(ISTEXT(INDIRECT("'Planning Americain'!$F$"&$R3+1+MATCH(G$2,'Planning Americain'!$B$1:$B$179,0)&":$AQ$"&$R3+1+MATCH(G$2,'Planning Americain'!$B$1:$B$179,0))),COLUMN($F$3:$AQ$3)-5)))*(ISNUMBER(IF(INDIRECT("'Planning Americain'!$G$"&$R3+1+MATCH(G$2,'Planning Americain'!$B$1:$B$179,0)&":$AR$"&$R3+1+MATCH(G$2,'Planning Americain'!$B$1:$B$179,0))="",COLUMN($G$3:$AR$3)-6))*COLUMN($F$3:$AQ$3)-5)>0,COLUMN($F$3:$AQ$3)-4,"FAUX"),$B3)),"")} -> 0.33333333 | I3: {=IFERROR(INDEX('Planning Americain'!$F$2:$AQ$2,0,SMALL(IF((ISNUMBER(IF(ISTEXT(INDIRECT("'Planning Americain'!$F$"&$R3+1+MATCH(I$2,'Planning Americain'!$B$1:$B$179,0)&":$AQ$"&$R3+1+MATCH(I$2,'Planning Americain'!$B$1:$B$179,0))),COLUMN($F$3:$AQ$3)-5)))*(ISNUMBER(IF(INDIRECT("'Planning Americain'!$E$"&$R3+1+MATCH(I$2,'Planning Americain'!$B$1:$B$179,0)&":$AP$"&$R3+1+MATCH(I$2,'Planning Americain'!$B$1:$B$179,0))="",COLUMN($E$3:$AP$3)-4))*COLUMN($F$3:$AQ$3)-5)>0,COLUMN($F$3:$AQ$3)-5,"FAUX"),$B3)),"")} -> 0.45833333 | J3: {=IFERROR(INDEX('Planning Americain'!$F$2:$AQ$2,0,SMALL(IF((ISNUMBER(IF(ISTEXT(INDIRECT("'Planning Americain'!$F$"&$R3+1+MATCH(I$2,'Planning Americain'!$B$1:$B$179,0)&":$AQ$"&$R3+1+MATCH(I$2,'Planning Americain'!$B$1:$B$179,0))),COLUMN($F$3:$AQ$3)-5)))*(ISNUMBER(IF(INDIRECT("'Planning Americain'!$G$"&$R3+1+MATCH(I$2,'Planning Americain'!$B$1:$B$179,0)&":$AR$"&$R3+1+MATCH(I$2,'Planning Americain'!$B$1:$B$179,0))="",COLUMN($G$3:$AR$3)-6))*COLUMN($F$3:$AQ$3)-5)>0,COLUMN($F$3:$AQ$3)-4,"FAUX"),$B3)),"")} -> 0.54166667 | K3: {=IFERROR(INDEX('Planning Americain'!$F$2:$AQ$2,0,SMALL(IF((ISNUMBER(IF(ISTEXT(INDIRECT("'Planning Americain'!$F$"&$R3+1+MATCH(K$2,'Planning Americain'!$B$1:$B$179,0)&":$AQ$"&$R3+1+MATCH(K$2,'Planning Americain'!$B$1:$B$179,0))),COLUMN($F$3:$AQ$3)-5)))*(ISNUMBER(IF(INDIRECT("'Planning Americain'!$E$"&$R3+1+MATCH(K$2,'Planning Americain'!$B$1:$B$179,0)&":$AP$"&$R3+1+MATCH(K$2,'Planning Americain'!$B$1:$B$179,0))="",COLUMN($E$3:$AP$3)-4))*COLUMN($F$3:$AQ$3)-5)>0,COLUMN($F$3:$AQ$3)-5,"FAUX"),$B3)),"")} -> 0.3125 | L3: {=IFERROR(INDEX('Planning Americain'!$F$2:$AQ$2,0,SMALL(IF((ISNUMBER(IF(ISTEXT(INDIRECT("'Planning Americain'!$F$"&$R3+1+MATCH(K$2,'Planning Americain'!$B$1:$B$179,0)&":$AQ$"&$R3+1+MATCH(K$2,'Planning Americain'!$B$1:$B$179,0))),COLUMN($F$3:$AQ$3)-5)))*(ISNUMBER(IF(INDIRECT("'Planning Americain'!$G$"&$R3+1+MATCH(K$2,'Planning Americain'!$B$1:$B$179,0)&":$AR$"&$R3+1+MATCH(K$2,'Planning Americain'!$B$1:$B$179,0))="",COLUMN($G$3:$AR$3)-6))*COLUMN($F$3:$AQ$3)-5)>0,COLUMN($F$3:$AQ$3)-4,"FAUX"),$B3)),"")} -> 0.39583333 | M3: {=IFERROR(INDEX('Planning Americain'!$F$2:$AQ$2,0,SMALL(IF((ISNUMBER(IF(ISTEXT(INDIRECT("'Planning Americain'!$F$"&$R3+1+MATCH(M$2,'Planning Americain'!$B$1:$B$179,0)&":$AQ$"&$R3+1+MATCH(M$2,'Planning Americain'!$B$1:$B$179,0))),COLUMN($F$3:$AQ$3)-5)))*(ISNUMBER(IF(INDIRECT("'Planning Americain'!$E$"&$R3+1+MATCH(M$2,'Planning Americain'!$B$1:$B$179,0)&":$AP$"&$R3+1+MATCH(M$2,'Planning Americain'!$B$1:$B$179,0))="",COLUMN($E$3:$AP$3)-4))*COLUMN($F$3:$AQ$3)-5)>0,COLUMN($F$3:$AQ$3)-5,"FAUX"),$B3)),"")} -> 0.29166667 | N3: {=IFERROR(INDEX('Planning Americain'!$F$2:$AQ$2,0,SMALL(IF((ISNUMBER(IF(ISTEXT(INDIRECT("'Planning Americain'!$F$"&$R3+1+MATCH(M$2,'Planning Americain'!$B$1:$B$179,0)&":$AQ$"&$R3+1+MATCH(M$2,'Planning Americain'!$B$1:$B$179,0))),COLUMN($F$3:$AQ$3)-5)))*(ISNUMBER(IF(INDIRECT("'Planning Americain'!$G$"&$R3+1+MATCH(M$2,'Planning Americain'!$B$1:$B$179,0)&":$AR$"&$R3+1+MATCH(M$2,'Planning Americain'!$B$1:$B$179,0))="",COLUMN($G$3:$AR$3)-6))*COLUMN($F$3:$AQ$3)-5)>0,COLUMN($F$3:$AQ$3)-4,"FAUX"),$B3)),"")} -> 0.375 | O3: {=IFERROR(INDEX('Planning Americain'!$F$2:$AQ$2,0,SMALL(IF((ISNUMBER(IF(ISTEXT(INDIRECT("'Planning Americain'!$F$"&$R3+1+MATCH(O$2,'Planning Americain'!$B$1:$B$179,0)&":$AQ$"&$R3+1+MATCH(O$2,'Planning Americain'!$B$1:$B$179,0))),COLUMN($F$3:$AQ$3)-5)))*(ISNUMBER(IF(INDIRECT("'Planning Americain'!$E$"&$R3+1+MATCH(O$2,'Planning Americain'!$B$1:$B$179,0)&":$AP$"&$R3+1+MATCH(O$2,'Planning Americain'!$B$1:$B$179,0))="",COLUMN($E$3:$AP$3)-4))*COLUMN($F$3:$AQ$3)-5)>0,COLUMN($F$3:$AQ$3)-5,"FAUX"),$B3)),"")} -> 0.27083333 | P3: {=IFERROR(INDEX('Planning Americain'!$F$2:$AQ$2,0,SMALL(IF((ISNUMBER(IF(ISTEXT(INDIRECT("'Planning Americain'!$F$"&$R3+1+MATCH(O$2,'Planning Americain'!$B$1:$B$179,0)&":$AQ$"&$R3+1+MATCH(O$2,'Planning Americain'!$B$1:$B$179,0))),COLUMN($F$3:$AQ$3)-5)))*(ISNUMBER(IF(INDIRECT("'Planning Americain'!$G$"&$R3+1+MATCH(O$2,'Planning Americain'!$B$1:$B$179,0)&":$AR$"&$R3+1+MATCH(O$2,'Planning Americain'!$B$1:$B$179,0))="",COLUMN($G$3:$AR$3)-6))*COLUMN($F$3:$AQ$3)-5)>0,COLUMN($F$3:$AQ$3)-4,"FAUX"),$B3)),"")} -> 0.35416667 | R3: =MID(A$3,7,2) -> 1
B4: 2 | C4: {=IFERROR(INDEX('Planning Americain'!$F$2:$AQ$2,0,SMALL(IF((ISNUMBER(IF(ISTEXT(INDIRECT("'Planning Americain'!$F$"&$R4+1+MATCH(C$2,'Planning Americain'!$B$1:$B$179,0)&":$AQ$"&$R4+1+MATCH(C$2,'Planning Americain'!$B$1:$B$179,0))),COLUMN($F$3:$AQ$3)-5)))*(ISNUMBER(IF(INDIRECT("'Planning Americain'!$E$"&$R4+1+MATCH(C$2,'Planning Americain'!$B$1:$B$179,0)&":$AP$"&$R4+1+MATCH(C$2,'Planning Americain'!$B$1:$B$179,0))="",COLUMN($E$3:$AP$3)-4))*COLUMN($F$3:$AQ$3)-5)>0,COLUMN($F$3:$AQ$3)-5,"FAUX"),$B4)),"")} -> 0.29166667 | D4: {=IFERROR(INDEX('Planning Americain'!$F$2:$AQ$2,0,SMALL(IF((ISNUMBER(IF(ISTEXT(INDIRECT("'Planning Americain'!$F$"&$R4+1+MATCH(C$2,'Planning Americain'!$B$1:$B$179,0)&":$AQ$"&$R4+1+MATCH(C$2,'Planning Americain'!$B$1:$B$179,0))),COLUMN($F$3:$AQ$3)-5)))*(ISNUMBER(IF(INDIRECT("'Planning Americain'!$G$"&$R4+1+MATCH(C$2,'Planning Americain'!$B$1:$B$179,0)&":$AR$"&$R4+1+MATCH(C$2,'Planning Americain'!$B$1:$B$179,0))="",COLUMN($G$3:$AR$3)-6))*COLUMN($F$3:$AQ$3)-5)>0,COLUMN($F$3:$AQ$3)-4,"FAUX"),$B4)),"")} -> 0.41666667 | E4: {=IFERROR(INDEX('Planning Americain'!$F$2:$AQ$2,0,SMALL(IF((ISNUMBER(IF(ISTEXT(INDIRECT("'Planning Americain'!$F$"&$R4+1+MATCH(E$2,'Planning Americain'!$B$1:$B$179,0)&":$AQ$"&$R4+1+MATCH(E$2,'Planning Americain'!$B$1:$B$179,0))),COLUMN($F$3:$AQ$3)-5)))*(ISNUMBER(IF(INDIRECT("'Planning Americain'!$E$"&$R4+1+MATCH(E$2,'Planning Americain'!$B$1:$B$179,0)&":$AP$"&$R4+1+MATCH(E$2,'Planning Americain'!$B$1:$B$179,0))="",COLUMN($E$3:$AP$3)-4))*COLUMN($F$3:$AQ$3)-5)>0,COLUMN($F$3:$AQ$3)-5,"FAUX"),$B4)),"")} -> 0.5 | F4: {=IFERROR(INDEX('Planning Americain'!$F$2:$AQ$2,0,SMALL(IF((ISNUMBER(IF(ISTEXT(INDIRECT("'Planning Americain'!$F$"&$R4+1+MATCH(E$2,'Planning Americain'!$B$1:$B$179,0)&":$AQ$"&$R4+1+MATCH(E$2,'Planning Americain'!$B$1:$B$179,0))),COLUMN($F$3:$AQ$3)-5)))*(ISNUMBER(IF(INDIRECT("'Planning Americain'!$G$"&$R4+1+MATCH(E$2,'Planning Americain'!$B$1:$B$179,0)&":$AR$"&$R4+1+MATCH(E$2,'Planning Americain'!$B$1:$B$179,0))="",COLUMN($G$3:$AR$3)-6))*COLUMN($F$3:$AQ$3)-5)>0,COLUMN($F$3:$AQ$3)-4,"FAUX"),$B4)),"")} -> 0.58333333 | G4: {=IFERROR(INDEX('Planning Americain'!$F$2:$AQ$2,0,SMALL(IF((ISNUMBER(IF(ISTEXT(INDIRECT("'Planning Americain'!$F$"&$R4+1+MATCH(G$2,'Planning Americain'!$B$1:$B$179,0)&":$AQ$"&$R4+1+MATCH(G$2,'Planning Americain'!$B$1:$B$179,0))),COLUMN($F$3:$AQ$3)-5)))*(ISNUMBER(IF(INDIRECT("'Planning Americain'!$E$"&$R4+1+MATCH(G$2,'Planning Americain'!$B$1:$B$179,0)&":$AP$"&$R4+1+MATCH(G$2,'Planning Americain'!$B$1:$B$179,0))="",COLUMN($E$3:$AP$3)-4))*COLUMN($F$3:$AQ$3)-5)>0,COLUMN($F$3:$AQ$3)-5,"FAUX"),$B4)),"")} -> 0.41666667 | H4: {=IFERROR(INDEX('Planning Americain'!$F$2:$AQ$2,0,SMALL(IF((ISNUMBER(IF(ISTEXT(INDIRECT("'Planning Americain'!$F$"&$R4+1+MATCH(G$2,'Planning Americain'!$B$1:$B$179,0)&":$AQ$"&$R4+1+MATCH(G$2,'Planning Americain'!$B$1:$B$179,0))),COLUMN($F$3:$AQ$3)-5)))*(ISNUMBER(IF(INDIRECT("'Planning Americain'!$G$"&$R4+1+MATCH(G$2,'Planning Americain'!$B$1:$B$179,0)&":$AR$"&$R4+1+MATCH(G$2,'Planning Americain'!$B$1:$B$179,0))="",COLUMN($G$3:$AR$3)-6))*COLUMN($F$3:$AQ$3)-5)>0,COLUMN($F$3:$AQ$3)-4,"FAUX"),$B4)),"")} -> 0.5 | I4: {=IFERROR(INDEX('Planning Americain'!$F$2:$AQ$2,0,SMALL(IF((ISNUMBER(IF(ISTEXT(INDIRECT("'Planning Americain'!$F$"&$R4+1+MATCH(I$2,'Planning Americain'!$B$1:$B$179,0)&":$AQ$"&$R4+1+MATCH(I$2,'Planning Americain'!$B$1:$B$179,0))),COLUMN($F$3:$AQ$3)-5)))*(ISNUMBER(IF(INDIRECT("'Planning Americain'!$E$"&$R4+1+MATCH(I$2,'Planning Americain'!$B$1:$B$179,0)&":$AP$"&$R4+1+MATCH(I$2,'Planning Americain'!$B$1:$B$179,0))="",COLUMN($E$3:$AP$3)-4))*COLUMN($F$3:$AQ$3)-5)>0,COLUMN($F$3:$AQ$3)-5,"FAUX"),$B4)),"")} -> 0.625 | J4: {=IFERROR(INDEX('Planning Americain'!$F$2:$AQ$2,0,SMALL(IF((ISNUMBER(IF(ISTEXT(INDIRECT("'Planning Americain'!$F$"&$R4+1+MATCH(I$2,'Planning Americain'!$B$1:$B$179,0)&":$AQ$"&$R4+1+MATCH(I$2,'Planning Americain'!$B$1:$B$179,0))),COLUMN($F$3:$AQ$3)-5)))*(ISNUMBER(IF(INDIRECT("'Planning Americain'!$G$"&$R4+1+MATCH(I$2,'Planning Americain'!$B$1:$B$179,0)&":$AR$"&$R4+1+MATCH(I$2,'Planning Americain'!$B$1:$B$179,0))="",COLUMN($G$3:$AR$3)-6))*COLUMN($F$3:$AQ$3)-5)>0,COLUMN($F$3:$AQ$3)-4,"FAUX"),$B4)),"")} -> 0.70833333 | K4: {=IFERROR(INDEX('Planning Americain'!$F$2:$AQ$2,0,SMALL(IF((ISNUMBER(IF(ISTEXT(INDIRECT("'Planning Americain'!$F$"&$R4+1+MATCH(K$2,'Planning Americain'!$B$1:$B$179,0)&":$AQ$"&$R4+1+MATCH(K$2,'Planning Americain'!$B$1:$B$179,0))),COLUMN($F$3:$AQ$3)-5)))*(ISNUMBER(IF(INDIRECT("'Planning Americain'!$E$"&$R4+1+MATCH(K$2,'Planning Americain'!$B$1:$B$179,0)&":$AP$"&$R4+1+MATCH(K$2,'Planning Americain'!$B$1:$B$179,0))="",COLUMN($E$3:$AP$3)-4))*COLUMN($F$3:$AQ$3)-5)>0,COLUMN($F$3:$AQ$3)-5,"FAUX"),$B4)),"")} -> 0.47916667 | L4: {=IFERROR(INDEX('Planning Americain'!$F$2:$AQ$2,0,SMALL(IF((ISNUMBER(IF(ISTEXT(INDIRECT("'Planning Americain'!$F$"&$R4+1+MATCH(K$2,'Planning Americain'!$B$1:$B$179,0)&":$AQ$"&$R4+1+MATCH(K$2,'Planning Americain'!$B$1:$B$179,0))),COLUMN($F$3:$AQ$3)-5)))*(ISNUMBER(IF(INDIRECT("'Planning Americain'!$G$"&$R4+1+MATCH(K$2,'Planning Americain'!$B$1:$B$179,0)&":$AR$"&$R4+1+MATCH(K$2,'Planning Americain'!$B$1:$B$179,0))="",COLUMN($G$3:$AR$3)-6))*COLUMN($F$3:$AQ$3)-5)>0,COLUMN($F$3:$AQ$3)-4,"FAUX"),$B4)),"")} -> 0.5625 | M4: {=IFERROR(INDEX('Planning Americain'!$F$2:$AQ$2,0,SMALL(IF((ISNUMBER(IF(ISTEXT(INDIRECT("'Planning Americain'!$F$"&$R4+1+MATCH(M$2,'Planning Americain'!$B$1:$B$179,0)&":$AQ$"&$R4+1+MATCH(M$2,'Planning Americain'!$B$1:$B$179,0))),COLUMN($F$3:$AQ$3)-5)))*(ISNUMBER(IF(INDIRECT("'Planning Americain'!$E$"&$R4+1+MATCH(M$2,'Planning Americain'!$B$1:$B$179,0)&":$AP$"&$R4+1+MATCH(M$2,'Planning Americain'!$B$1:$B$179,0))="",COLUMN($E$3:$AP$3)-4))*COLUMN($F$3:$AQ$3)-5)>0,COLUMN($F$3:$AQ$3)-5,"FAUX"),$B4)),"")} -> 0.45833333 | N4: {=IFERROR(INDEX('Planning Americain'!$F$2:$AQ$2,0,SMALL(IF((ISNUMBER(IF(ISTEXT(INDIRECT("'Planning Americain'!$F$"&$R4+1+MATCH(M$2,'Planning Americain'!$B$1:$B$179,0)&":$AQ$"&$R4+1+MATCH(M$2,'Planning Americain'!$B$1:$B$179,0))),COLUMN($F$3:$AQ$3)-5)))*(ISNUMBER(IF(INDIRECT("'Planning Americain'!$G$"&$R4+1+MATCH(M$2,'Planning Americain'!$B$1:$B$179,0)&":$AR$"&$R4+1+MATCH(M$2,'Planning Americain'!$B$1:$B$179,0))="",COLUMN($G$3:$AR$3)-6))*COLUMN($F$3:$AQ$3)-5)>0,COLUMN($F$3:$AQ$3)-4,"FAUX"),$B4)),"")} -> 0.54166667 | O4: {=IFERROR(INDEX('Planning Americain'!$F$2:$AQ$2,0,SMALL(IF((ISNUMBER(IF(ISTEXT(INDIRECT("'Planning Americain'!$F$"&$R4+1+MATCH(O$2,'Planning Americain'!$B$1:$B$179,0)&":$AQ$"&$R4+1+MATCH(O$2,'Planning Americain'!$B$1:$B$179,0))),COLUMN($F$3:$AQ$3)-5)))*(ISNUMBER(IF(INDIRECT("'Planning Americain'!$E$"&$R4+1+MATCH(O$2,'Planning Americain'!$B$1:$B$179,0)&":$AP$"&$R4+1+MATCH(O$2,'Planning Americain'!$B$1:$B$179,0))="",COLUMN($E$3:$AP$3)-4))*COLUMN($F$3:$AQ$3)-5)>0,COLUMN($F$3:$AQ$3)-5,"FAUX"),$B4)),"")} -> 0.4375 | P4: {=IFERROR(INDEX('Planning Americain'!$F$2:$AQ$2,0,SMALL(IF((ISNUMBER(IF(ISTEXT(INDIRECT("'Planning Americain'!$F$"&$R4+1+MATCH(O$2,'Planning Americain'!$B$1:$B$179,0)&":$AQ$"&$R4+1+MATCH(O$2,'Planning Americain'!$B$1:$B$179,0))),COLUMN($F$3:$AQ$3)-5)))*(ISNUMBER(IF(INDIRECT("'Planning Americain'!$G$"&$R4+1+MATCH(O$2,'Planning Americain'!$B$1:$B$179,0)&":$AR$"&$R4+1+MATCH(O$2,'Planning Americain'!$B$1:$B$179,0))="",COLUMN($G$3:$AR$3)-6))*COLUMN($F$3:$AQ$3)-5)>0,COLUMN($F$3:$AQ$3)-4,"FAUX"),$B4)),"")} -> 0.52083333 | R4: =MID(A$3,7,2) -> 1
A5: Coco | B5: 3 | C5: {=IFERROR(INDEX('Planning Americain'!$F$2:$AQ$2,0,SMALL(IF((ISNUMBER(IF(ISTEXT(INDIRECT("'Planning Americain'!$F$"&$R5+1+MATCH(C$2,'Planning Americain'!$B$1:$B$179,0)&":$AQ$"&$R5+1+MATCH(C$2,'Planning Americain'!$B$1:$B$179,0))),COLUMN($F$3:$AQ$3)-5)))*(ISNUMBER(IF(INDIRECT("'Planning Americain'!$E$"&$R5+1+MATCH(C$2,'Planning Americain'!$B$1:$B$179,0)&":$AP$"&$R5+1+MATCH(C$2,'Planning Americain'!$B$1:$B$179,0))="",COLUMN($E$3:$AP$3)-4))*COLUMN($F$3:$AQ$3)-5)>0,COLUMN($F$3:$AQ$3)-5,"FAUX"),$B5)),"")} -> 0.47916667 | D5: {=IFERROR(INDEX('Planning Americain'!$F$2:$AQ$2,0,SMALL(IF((ISNUMBER(IF(ISTEXT(INDIRECT("'Planning Americain'!$F$"&$R5+1+MATCH(C$2,'Planning Americain'!$B$1:$B$179,0)&":$AQ$"&$R5+1+MATCH(C$2,'Planning Americain'!$B$1:$B$179,0))),COLUMN($F$3:$AQ$3)-5)))*(ISNUMBER(IF(INDIRECT("'Planning Americain'!$G$"&$R5+1+MATCH(C$2,'Planning Americain'!$B$1:$B$179,0)&":$AR$"&$R5+1+MATCH(C$2,'Planning Americain'!$B$1:$B$179,0))="",COLUMN($G$3:$AR$3)-6))*COLUMN($F$3:$AQ$3)-5)>0,COLUMN($F$3:$AQ$3)-4,"FAUX"),$B5)),"")} -> 0.58333333 | E5: {=IFERROR(INDEX('Planning Americain'!$F$2:$AQ$2,0,SMALL(IF((ISNUMBER(IF(ISTEXT(INDIRECT("'Planning Americain'!$F$"&$R5+1+MATCH(E$2,'Planning Americain'!$B$1:$B$179,0)&":$AQ$"&$R5+1+MATCH(E$2,'Planning Americain'!$B$1:$B$179,0))),COLUMN($F$3:$AQ$3)-5)))*(ISNUMBER(IF(INDIRECT("'Planning Americain'!$E$"&$R5+1+MATCH(E$2,'Planning Americain'!$B$1:$B$179,0)&":$AP$"&$R5+1+MATCH(E$2,'Planning Americain'!$B$1:$B$179,0))="",COLUMN($E$3:$AP$3)-4))*COLUMN($F$3:$AQ$3)-5)>0,COLUMN($F$3:$AQ$3)-5,"FAUX"),$B5)),"")} | F5: {=IFERROR(INDEX('Planning Americain'!$F$2:$AQ$2,0,SMALL(IF((ISNUMBER(IF(ISTEXT(INDIRECT("'Planning Americain'!$F$"&$R5+1+MATCH(E$2,'Planning Americain'!$B$1:$B$179,0)&":$AQ$"&$R5+1+MATCH(E$2,'Planning Americain'!$B$1:$B$179,0))),COLUMN($F$3:$AQ$3)-5)))*(ISNUMBER(IF(INDIRECT("'Planning Americain'!$G$"&$R5+1+MATCH(E$2,'Planning Americain'!$B$1:$B$179,0)&":$AR$"&$R5+1+MATCH(E$2,'Planning Americain'!$B$1:$B$179,0))="",COLUMN($G$3:$AR$3)-6))*COLUMN($F$3:$AQ$3)-5)>0,COLUMN($F$3:$AQ$3)-4,"FAUX"),$B5)),"")} | G5: {=IFERROR(INDEX('Planning Americain'!$F$2:$AQ$2,0,SMALL(IF((ISNUMBER(IF(ISTEXT(INDIRECT("'Planning Americain'!$F$"&$R5+1+MATCH(G$2,'Planning Americain'!$B$1:$B$179,0)&":$AQ$"&$R5+1+MATCH(G$2,'Planning Americain'!$B$1:$B$179,0))),COLUMN($F$3:$AQ$3)-5)))*(ISNUMBER(IF(INDIRECT("'Planning Americain'!$E$"&$R5+1+MATCH(G$2,'Planning Americain'!$B$1:$B$179,0)&":$AP$"&$R5+1+MATCH(G$2,'Planning Americain'!$B$1:$B$179,0))="",COLUMN($E$3:$AP$3)-4))*COLUMN($F$3:$AQ$3)-5)>0,COLUMN($F$3:$AQ$3)-5,"FAUX"),$B5)),"")} -> 0.5625 | H5: {=IFERROR(INDEX('Planning Americain'!$F$2:$AQ$2,0,SMALL(IF((ISNUMBER(IF(ISTEXT(INDIRECT("'Planning Americain'!$F$"&$R5+1+MATCH(G$2,'Planning Americain'!$B$1:$B$179,0)&":$AQ$"&$R5+1+MATCH(G$2,'Planning Americain'!$B$1:$B$179,0))),COLUMN($F$3:$AQ$3)-5)))*(ISNUMBER(IF(INDIRECT("'Planning Americain'!$G$"&$R5+1+MATCH(G$2,'Planning Americain'!$B$1:$B$179,0)&":$AR$"&$R5+1+MATCH(G$2,'Planning Americain'!$B$1:$B$179,0))="",COLUMN($G$3:$AR$3)-6))*COLUMN($F$3:$AQ$3)-5)>0,COLUMN($F$3:$AQ$3)-4,"FAUX"),$B5)),"")} -> 0.64583333 | I5: {=IFERROR(INDEX('Planning Americain'!$F$2:$AQ$2,0,SMALL(IF((ISNUMBER(IF(ISTEXT(INDIRECT("'Planning Americain'!$F$"&$R5+1+MATCH(I$2,'Planning Americain'!$B$1:$B$179,0)&":$AQ$"&$R5+1+MATCH(I$2,'Planning Americain'!$B$1:$B$179,0))),COLUMN($F$3:$AQ$3)-5)))*(ISNUMBER(IF(INDIRECT("'Planning Americain'!$E$"&$R5+1+MATCH(I$2,'Planning Americain'!$B$1:$B$179,0)&":$AP$"&$R5+1+MATCH(I$2,'Planning Americain'!$B$1:$B$179,0))="",COLUMN($E$3:$AP$3)-4))*COLUMN($F$3:$AQ$3)-5)>0,COLUMN($F$3:$AQ$3)-5,"FAUX"),$B5)),"")} -> 0.77083333 | J5: {=IFERROR(INDEX('Planning Americain'!$F$2:$AQ$2,0,SMALL(IF((ISNUMBER(IF(ISTEXT(INDIRECT("'Planning Americain'!$F$"&$R5+1+MATCH(I$2,'Planning Americain'!$B$1:$B$179,0)&":$AQ$"&$R5+1+MATCH(I$2,'Planning Americain'!$B$1:$B$179,0))),COLUMN($F$3:$AQ$3)-5)))*(ISNUMBER(IF(INDIRECT("'Planning Americain'!$G$"&$R5+1+MATCH(I$2,'Planning Americain'!$B$1:$B$179,0)&":$AR$"&$R5+1+MATCH(I$2,'Planning Americain'!$B$1:$B$179,0))="",COLUMN($G$3:$AR$3)-6))*COLUMN($F$3:$AQ$3)-5)>0,COLUMN($F$3:$AQ$3)-4,"FAUX"),$B5)),"")} -> 0.85416667 | K5: {=IFERROR(INDEX('Planning Americain'!$F$2:$AQ$2,0,SMALL(IF((ISNUMBER(IF(ISTEXT(INDIRECT("'Planning Americain'!$F$"&$R5+1+MATCH(K$2,'Planning Americain'!$B$1:$B$179,0)&":$AQ$"&$R5+1+MATCH(K$2,'Planning Americain'!$B$1:$B$179,0))),COLUMN($F$3:$AQ$3)-5)))*(ISNUMBER(IF(INDIRECT("'Planning Americain'!$E$"&$R5+1+MATCH(K$2,'Planning Americain'!$B$1:$B$179,0)&":$AP$"&$R5+1+MATCH(K$2,'Planning Americain'!$B$1:$B$179,0))="",COLUMN($E$3:$AP$3)-4))*COLUMN($F$3:$AQ$3)-5)>0,COLUMN($F$3:$AQ$3)-5,"FAUX"),$B5)),"")} -> 0.625 | L5: {=IFERROR(INDEX('Planning Americain'!$F$2:$AQ$2,0,SMALL(IF((ISNUMBER(IF(ISTEXT(INDIRECT("'Planning Americain'!$F$"&$R5+1+MATCH(K$2,'Planning Americain'!$B$1:$B$179,0)&":$AQ$"&$R5+1+MATCH(K$2,'Planning Americain'!$B$1:$B$179,0))),COLUMN($F$3:$AQ$3)-5)))*(ISNUMBER(IF(INDIRECT("'Planning Americain'!$G$"&$R5+1+MATCH(K$2,'Planning Americain'!$B$1:$B$179,0)&":$AR$"&$R5+1+MATCH(K$2,'Planning Americain'!$B$1:$B$179,0))="",COLUMN($G$3:$AR$3)-6))*COLUMN($F$3:$AQ$3)-5)>0,COLUMN($F$3:$AQ$3)-4,"FAUX"),$B5)),"")} -> 0.70833333 | M5: {=IFERROR(INDEX('Planning Americain'!$F$2:$AQ$2,0,SMALL(IF((ISNUMBER(IF(ISTEXT(INDIRECT("'Planning Americain'!$F$"&$R5+1+MATCH(M$2,'Planning Americain'!$B$1:$B$179,0)&":$AQ$"&$R5+1+MATCH(M$2,'Planning Americain'!$B$1:$B$179,0))),COLUMN($F$3:$AQ$3)-5)))*(ISNUMBER(IF(INDIRECT("'Planning Americain'!$E$"&$R5+1+MATCH(M$2,'Planning Americain'!$B$1:$B$179,0)&":$AP$"&$R5+1+MATCH(M$2,'Planning Americain'!$B$1:$B$179,0))="",COLUMN($E$3:$AP$3)-4))*COLUMN($F$3:$AQ$3)-5)>0,COLUMN($F$3:$AQ$3)-5,"FAUX"),$B5)),"")} -> 0.60416667 | N5: {=IFERROR(INDEX('Planning Americain'!$F$2:$AQ$2,0,SMALL(IF((ISNUMBER(IF(ISTEXT(INDIRECT("'Planning Americain'!$F$"&$R5+1+MATCH(M$2,'Planning Americain'!$B$1:$B$179,0)&":$AQ$"&$R5+1+MATCH(M$2,'Planning Americain'!$B$1:$B$179,0))),COLUMN($F$3:$AQ$3)-5)))*(ISNUMBER(IF(INDIRECT("'Planning Americain'!$G$"&$R5+1+MATCH(M$2,'Planning Americain'!$B$1:$B$179,0)&":$AR$"&$R5+1+MATCH(M$2,'Planning Americain'!$B$1:$B$179,0))="",COLUMN($G$3:$AR$3)-6))*COLUMN($F$3:$AQ$3)-5)>0,COLUMN($F$3:$AQ$3)-4,"FAUX"),$B5)),"")} -> 0.6875 | O5: {=IFERROR(INDEX('Planning Americain'!$F$2:$AQ$2,0,SMALL(IF((ISNUMBER(IF(ISTEXT(INDIRECT("'Planning Americain'!$F$"&$R5+1+MATCH(O$2,'Planning Americain'!$B$1:$B$179,0)&":$AQ$"&$R5+1+MATCH(O$2,'Planning Americain'!$B$1:$B$179,0))),COLUMN($F$3:$AQ$3)-5)))*(ISNUMBER(IF(INDIRECT("'Planning Americain'!$E$"&$R5+1+MATCH(O$2,'Planning Americain'!$B$1:$B$179,0)&":$AP$"&$R5+1+MATCH(O$2,'Planning Americain'!$B$1:$B$179,0))="",COLUMN($E$3:$AP$3)-4))*COLUMN($F$3:$AQ$3)-5)>0,COLUMN($F$3:$AQ$3)-5,"FAUX"),$B5)),"")} -> 0.58333333 | P5: {=IFERROR(INDEX('Planning Americain'!$F$2:$AQ$2,0,SMALL(IF((ISNUMBER(IF(ISTEXT(INDIRECT("'Planning Americain'!$F$"&$R5+1+MATCH(O$2,'Planning Americain'!$B$1:$B$179,0)&":$AQ$"&$R5+1+MATCH(O$2,'Planning Americain'!$B$1:$B$179,0))),COLUMN($F$3:$AQ$3)-5)))*(ISNUMBER(IF(INDIRECT("'Planning Americain'!$G$"&$R5+1+MATCH(O$2,'Planning Americain'!$B$1:$B$179,0)&":$AR$"&$R5+1+MATCH(O$2,'Planning Americain'!$B$1:$B$179,0))="",COLUMN($G$3:$AR$3)-6))*COLUMN($F$3:$AQ$3)-5)>0,COLUMN($F$3:$AQ$3)-4,"FAUX"),$B5)),"")} -> 0.66666667 | R5: =MID(A$3,7,2) -> 1
B6: 4 | C6: {=IFERROR(INDEX('Planning Americain'!$F$2:$AQ$2,0,SMALL(IF((ISNUMBER(IF(ISTEXT(INDIRECT("'Planning Americain'!$F$"&$R6+1+MATCH(C$2,'Planning Americain'!$B$1:$B$179,0)&":$AQ$"&$R6+1+MATCH(C$2,'Planning Americain'!$B$1:$B$179,0))),COLUMN($F$3:$AQ$3)-5)))*(ISNUMBER(IF(INDIRECT("'Planning Americain'!$E$"&$R6+1+MATCH(C$2,'Planning Americain'!$B$1:$B$179,0)&":$AP$"&$R6+1+MATCH(C$2,'Planning Americain'!$B$1:$B$179,0))="",COLUMN($E$3:$AP$3)-4))*COLUMN($F$3:$AQ$3)-5)>0,COLUMN($F$3:$AQ$3)-5,"FAUX"),$B6)),"")} -> 0.64583333 | D6: {=IFERROR(INDEX('Planning Americain'!$F$2:$AQ$2,0,SMALL(IF((ISNUMBER(IF(ISTEXT(INDIRECT("'Planning Americain'!$F$"&$R6+1+MATCH(C$2,'Planning Americain'!$B$1:$B$179,0)&":$AQ$"&$R6+1+MATCH(C$2,'Planning Americain'!$B$1:$B$179,0))),COLUMN($F$3:$AQ$3)-5)))*(ISNUMBER(IF(INDIRECT("'Planning Americain'!$G$"&$R6+1+MATCH(C$2,'Planning Americain'!$B$1:$B$179,0)&":$AR$"&$R6+1+MATCH(C$2,'Planning Americain'!$B$1:$B$179,0))="",COLUMN($G$3:$AR$3)-6))*COLUMN($F$3:$AQ$3)-5)>0,COLUMN($F$3:$AQ$3)-4,"FAUX"),$B6)),"")} -> 0.72916667 | E6: {=IFERROR(INDEX('Planning Americain'!$F$2:$AQ$2,0,SMALL(IF((ISNUMBER(IF(ISTEXT(INDIRECT("'Planning Americain'!$F$"&$R6+1+MATCH(E$2,'Planning Americain'!$B$1:$B$179,0)&":$AQ$"&$R6+1+MATCH(E$2,'Planning Americain'!$B$1:$B$179,0))),COLUMN($F$3:$AQ$3)-5)))*(ISNUMBER(IF(INDIRECT("'Planning Americain'!$E$"&$R6+1+MATCH(E$2,'Planning Americain'!$B$1:$B$179,0)&":$AP$"&$R6+1+MATCH(E$2,'Planning Americain'!$B$1:$B$179,0))="",COLUMN($E$3:$AP$3)-4))*COLUMN($F$3:$AQ$3)-5)>0,COLUMN($F$3:$AQ$3)-5,"FAUX"),$B6)),"")} | F6: {=IFERROR(INDEX('Planning Americain'!$F$2:$AQ$2,0,SMALL(IF((ISNUMBER(IF(ISTEXT(INDIRECT("'Planning Americain'!$F$"&$R6+1+MATCH(E$2,'Planning Americain'!$B$1:$B$179,0)&":$AQ$"&$R6+1+MATCH(E$2,'Planning Americain'!$B$1:$B$179,0))),COLUMN($F$3:$AQ$3)-5)))*(ISNUMBER(IF(INDIRECT("'Planning Americain'!$G$"&$R6+1+MATCH(E$2,'Planning Americain'!$B$1:$B$179,0)&":$AR$"&$R6+1+MATCH(E$2,'Planning Americain'!$B$1:$B$179,0))="",COLUMN($G$3:$AR$3)-6))*COLUMN($F$3:$AQ$3)-5)>0,COLUMN($F$3:$AQ$3)-4,"FAUX"),$B6)),"")} | G6: {=IFERROR(INDEX('Planning Americain'!$F$2:$AQ$2,0,SMALL(IF((ISNUMBER(IF(ISTEXT(INDIRECT("'Planning Americain'!$F$"&$R6+1+MATCH(G$2,'Planning Americain'!$B$1:$B$179,0)&":$AQ$"&$R6+1+MATCH(G$2,'Planning Americain'!$B$1:$B$179,0))),COLUMN($F$3:$AQ$3)-5)))*(ISNUMBER(IF(INDIRECT("'Planning Americain'!$E$"&$R6+1+MATCH(G$2,'Planning Americain'!$B$1:$B$179,0)&":$AP$"&$R6+1+MATCH(G$2,'Planning Americain'!$B$1:$B$179,0))="",COLUMN($E$3:$AP$3)-4))*COLUMN($F$3:$AQ$3)-5)>0,COLUMN($F$3:$AQ$3)-5,"FAUX"),$B6)),"")} | H6: {=IFERROR(INDEX('Planning Americain'!$F$2:$AQ$2,0,SMALL(IF((ISNUMBER(IF(ISTEXT(INDIRECT("'Planning Americain'!$F$"&$R6+1+MATCH(G$2,'Planning Americain'!$B$1:$B$179,0)&":$AQ$"&$R6+1+MATCH(G$2,'Planning Americain'!$B$1:$B$179,0))),COLUMN($F$3:$AQ$3)-5)))*(ISNUMBER(IF(INDIRECT("'Planning Americain'!$G$"&$R6+1+MATCH(G$2,'Planning Americain'!$B$1:$B$179,0)&":$AR$"&$R6+1+MATCH(G$2,'Planning Americain'!$B$1:$B$179,0))="",COLUMN($G$3:$AR$3)-6))*COLUMN($F$3:$AQ$3)-5)>0,COLUMN($F$3:$AQ$3)-4,"FAUX"),$B6)),"")} | I6: {=IFERROR(INDEX('Planning Americain'!$F$2:$AQ$2,0,SMALL(IF((ISNUMBER(IF(ISTEXT(INDIRECT("'Planning Americain'!$F$"&$R6+1+MATCH(I$2,'Planning Americain'!$B$1:$B$179,0)&":$AQ$"&$R6+1+MATCH(I$2,'Planning Americain'!$B$1:$B$179,0))),COLUMN($F$3:$AQ$3)-5)))*(ISNUMBER(IF(INDIRECT("'Planning Americain'!$E$"&$R6+1+MATCH(I$2,'Planning Americain'!$B$1:$B$179,0)&":$AP$"&$R6+1+MATCH(I$2,'Planning Americain'!$B$1:$B$179,0))="",COLUMN($E$3:$AP$3)-4))*COLUMN($F$3:$AQ$3)-5)>0,COLUMN($F$3:$AQ$3)-5,"FAUX"),$B6)),"")} | J6: {=IFERROR(INDEX('Planning Americain'!$F$2:$AQ$2,0,SMALL(IF((ISNUMBER(IF(ISTEXT(INDIRECT("'Planning Americain'!$F$"&$R6+1+MATCH(I$2,'Planning Americain'!$B$1:$B$179,0)&":$AQ$"&$R6+1+MATCH(I$2,'Planning Americain'!$B$1:$B$179,0))),COLUMN($F$3:$AQ$3)-5)))*(ISNUMBER(IF(INDIRECT("'Planning Americain'!$G$"&$R6+1+MATCH(I$2,'Planning Americain'!$B$1:$B$179,0)&":$AR$"&$R6+1+MATCH(I$2,'Planning Americain'!$B$1:$B$179,0))="",COLUMN($G$3:$AR$3)-6))*COLUMN($F$3:$AQ$3)-5)>0,COLUMN($F$3:$AQ$3)-4,"FAUX"),$B6)),"")} | K6: {=IFERROR(INDEX('Planning Americain'!$F$2:$AQ$2,0,SMALL(IF((ISNUMBER(IF(ISTEXT(INDIRECT("'Planning Americain'!$F$"&$R6+1+MATCH(K$2,'Planning Americain'!$B$1:$B$179,0)&":$AQ$"&$R6+1+MATCH(K$2,'Planning Americain'!$B$1:$B$179,0))),COLUMN($F$3:$AQ$3)-5)))*(ISNUMBER(IF(INDIRECT("'Planning Americain'!$E$"&$R6+1+MATCH(K$2,'Planning Americain'!$B$1:$B$179,0)&":$AP$"&$R6+1+MATCH(K$2,'Planning Americain'!$B$1:$B$179,0))="",COLUMN($E$3:$AP$3)-4))*COLUMN($F$3:$AQ$3)-5)>0,COLUMN($F$3:$AQ$3)-5,"FAUX"),$B6)),"")} | L6: {=IFERROR(INDEX('Planning Americain'!$F$2:$AQ$2,0,SMALL(IF((ISNUMBER(IF(ISTEXT(INDIRECT("'Planning Americain'!$F$"&$R6+1+MATCH(K$2,'Planning Americain'!$B$1:$B$179,0)&":$AQ$"&$R6+1+MATCH(K$2,'Planning Americain'!$B$1:$B$179,0))),COLUMN($F$3:$AQ$3)-5)))*(ISNUMBER(IF(INDIRECT("'Planning Americain'!$G$"&$R6+1+MATCH(K$2,'Planning Americain'!$B$1:$B$179,0)&":$AR$"&$R6+1+MATCH(K$2,'Planning Americain'!$B$1:$B$179,0))="",COLUMN($G$3:$AR$3)-6))*COLUMN($F$3:$AQ$3)-5)>0,COLUMN($F$3:$AQ$3)-4,"FAUX"),$B6)),"")} | M6: {=IFERROR(INDEX('Planning Americain'!$F$2:$AQ$2,0,SMALL(IF((ISNUMBER(IF(ISTEXT(INDIRECT("'Planning Americain'!$F$"&$R6+1+MATCH(M$2,'Planning Americain'!$B$1:$B$179,0)&":$AQ$"&$R6+1+MATCH(M$2,'Planning Americain'!$B$1:$B$179,0))),COLUMN($F$3:$AQ$3)-5)))*(ISNUMBER(IF(INDIRECT("'Planning Americain'!$E$"&$R6+1+MATCH(M$2,'Planning Americain'!$B$1:$B$179,0)&":$AP$"&$R6+1+MATCH(M$2,'Planning Americain'!$B$1:$B$179,0))="",COLUMN($E$3:$AP$3)-4))*COLUMN($F$3:$AQ$3)-5)>0,COLUMN($F$3:$AQ$3)-5,"FAUX"),$B6)),"")} | N6: {=IFERROR(INDEX('Planning Americain'!$F$2:$AQ$2,0,SMALL(IF((ISNUMBER(IF(ISTEXT(INDIRECT("'Planning Americain'!$F$"&$R6+1+MATCH(M$2,'Planning Americain'!$B$1:$B$179,0)&":$AQ$"&$R6+1+MATCH(M$2,'Planning Americain'!$B$1:$B$179,0))),COLUMN($F$3:$AQ$3)-5)))*(ISNUMBER(IF(INDIRECT("'Planning Americain'!$G$"&$R6+1+MATCH(M$2,'Planning Americain'!$B$1:$B$179,0)&":$AR$"&$R6+1+MATCH(M$2,'Planning Americain'!$B$1:$B$179,0))="",COLUMN($G$3:$AR$3)-6))*COLUMN($F$3:$AQ$3)-5)>0,COLUMN($F$3:$AQ$3)-4,"FAUX"),$B6)),"")} | O6: {=IFERROR(INDEX('Planning Americain'!$F$2:$AQ$2,0,SMALL(IF((ISNUMBER(IF(ISTEXT(INDIRECT("'Planning Americain'!$F$"&$R6+1+MATCH(O$2,'Planning Americain'!$B$1:$B$179,0)&":$AQ$"&$R6+1+MATCH(O$2,'Planning Americain'!$B$1:$B$179,0))),COLUMN($F$3:$AQ$3)-5)))*(ISNUMBER(IF(INDIRECT("'Planning Americain'!$E$"&$R6+1+MATCH(O$2,'Planning Americain'!$B$1:$B$179,0)&":$AP$"&$R6+1+MATCH(O$2,'Planning Americain'!$B$1:$B$179,0))="",COLUMN($E$3:$AP$3)-4))*COLUMN($F$3:$AQ$3)-5)>0,COLUMN($F$3:$AQ$3)-5,"FAUX"),$B6)),"")} | P6: {=IFERROR(INDEX('Planning Americain'!$F$2:$AQ$2,0,SMALL(IF((ISNUMBER(IF(ISTEXT(INDIRECT("'Planning Americain'!$F$"&$R6+1+MATCH(O$2,'Planning Americain'!$B$1:$B$179,0)&":$AQ$"&$R6+1+MATCH(O$2,'Planning Americain'!$B$1:$B$179,0))),COLUMN($F$3:$AQ$3)-5)))*(ISNUMBER(IF(INDIRECT("'Planning Americain'!$G$"&$R6+1+MATCH(O$2,'Planning Americain'!$B$1:$B$179,0)&":$AR$"&$R6+1+MATCH(O$2,'Planning Americain'!$B$1:$B$179,0))="",COLUMN($G$3:$AR$3)-6))*COLUMN($F$3:$AQ$3)-5)>0,COLUMN($F$3:$AQ$3)-4,"FAUX"),$B6)),"")} | R6: =MID(A$3,7,2) -> 1
D7: 0.27083333 | F7: 0.16666667 | H7: 0 | J7: 0 | L7: 0 | N7: 0 | P7: 0
A8: TOTAL | B8: 0.4375
A9: Poste 2 | B9: 1 | C9: {=IFERROR(INDEX('Planning Americain'!$F$2:$AQ$2,0,SMALL(IF((ISNUMBER(IF(ISTEXT(INDIRECT("'Planning Americain'!$F$"&$R9+1+MATCH(C$2,'Planning Americain'!$B$1:$B$179,0)&":$AQ$"&$R9+1+MATCH(C$2,'Planning Americain'!$B$1:$B$179,0))),COLUMN($F$3:$AQ$3)-5)))*(ISNUMBER(IF(INDIRECT("'Planning Americain'!$E$"&$R9+1+MATCH(C$2,'Planning Americain'!$B$1:$B$179,0)&":$AP$"&$R9+1+MATCH(C$2,'Planning Americain'!$B$1:$B$179,0))="",COLUMN($E$3:$AP$3)-4))*COLUMN($F$3:$AQ$3)-5)>0,COLUMN($F$3:$AQ$3)-5,"FAUX"),$B9)),"")} -> 0.27083333 | D9: {=IFERROR(INDEX('Planning Americain'!$F$2:$AQ$2,0,SMALL(IF((ISNUMBER(IF(ISTEXT(INDIRECT("'Planning Americain'!$F$"&$R9+1+MATCH(C$2,'Planning Americain'!$B$1:$B$179,0)&":$AQ$"&$R9+1+MATCH(C$2,'Planning Americain'!$B$1:$B$179,0))),COLUMN($F$3:$AQ$3)-5)))*(ISNUMBER(IF(INDIRECT("'Planning Americain'!$G$"&$R9+1+MATCH(C$2,'Planning Americain'!$B$1:$B$179,0)&":$AR$"&$R9+1+MATCH(C$2,'Planning Americain'!$B$1:$B$179,0))="",COLUMN($G$3:$AR$3)-6))*COLUMN($F$3:$AQ$3)-5)>0,COLUMN($F$3:$AQ$3)-4,"FAUX"),$B9)),"")} -> 0.3125 | E9: {=IFERROR(INDEX('Planning Americain'!$F$2:$AQ$2,0,SMALL(IF((ISNUMBER(IF(ISTEXT(INDIRECT("'Planning Americain'!$F$"&$R9+1+MATCH(E$2,'Planning Americain'!$B$1:$B$179,0)&":$AQ$"&$R9+1+MATCH(E$2,'Planning Americain'!$B$1:$B$179,0))),COLUMN($F$3:$AQ$3)-5)))*(ISNUMBER(IF(INDIRECT("'Planning Americain'!$E$"&$R9+1+MATCH(E$2,'Planning Americain'!$B$1:$B$179,0)&":$AP$"&$R9+1+MATCH(E$2,'Planning Americain'!$B$1:$B$179,0))="",COLUMN($E$3:$AP$3)-4))*COLUMN($F$3:$AQ$3)-5)>0,COLUMN($F$3:$AQ$3)-5,"FAUX"),$B9)),"")} -> 0.3125 | F9: {=IFERROR(INDEX('Planning Americain'!$F$2:$AQ$2,0,SMALL(IF((ISNUMBER(IF(ISTEXT(INDIRECT("'Planning Americain'!$F$"&$R9+1+MATCH(E$2,'Planning Americain'!$B$1:$B$179,0)&":$AQ$"&$R9+1+MATCH(E$2,'Planning Americain'!$B$1:$B$179,0))),COLUMN($F$3:$AQ$3)-5)))*(ISNUMBER(IF(INDIRECT("'Planning Americain'!$G$"&$R9+1+MATCH(E$2,'Planning Americain'!$B$1:$B$179,0)&":$AR$"&$R9+1+MATCH(E$2,'Planning Americain'!$B$1:$B$179,0))="",COLUMN($G$3:$AR$3)-6))*COLUMN($F$3:$AQ$3)-5)>0,COLUMN($F$3:$AQ$3)-4,"FAUX"),$B9)),"")} -> 0.33333333 | G9: {=IFERROR(INDEX('Planning Americain'!$F$2:$AQ$2,0,SMALL(IF((ISNUMBER(IF(ISTEXT(INDIRECT("'Planning Americain'!$F$"&$R9+1+MATCH(G$2,'Planning Americain'!$B$1:$B$179,0)&":$AQ$"&$R9+1+MATCH(G$2,'Planning Americain'!$B$1:$B$179,0))),COLUMN($F$3:$AQ$3)-5)))*(ISNUMBER(IF(INDIRECT("'Planning Americain'!$E$"&$R9+1+MATCH(G$2,'Planning Americain'!$B$1:$B$179,0)&":$AP$"&$R9+1+MATCH(G$2,'Planning Americain'!$B$1:$B$179,0))="",COLUMN($E$3:$AP$3)-4))*COLUMN($F$3:$AQ$3)-5)>0,COLUMN($F$3:$AQ$3)-5,"FAUX"),$B9)),"")} -> 0.33333333 | H9: {=IFERROR(INDEX('Planning Americain'!$F$2:$AQ$2,0,SMALL(IF((ISNUMBER(IF(ISTEXT(INDIRECT("'Planning Americain'!$F$"&$R9+1+MATCH(G$2,'Planning Americain'!$B$1:$B$179,0)&":$AQ$"&$R9+1+MATCH(G$2,'Planning Americain'!$B$1:$B$179,0))),COLUMN($F$3:$AQ$3)-5)))*(ISNUMBER(IF(INDIRECT("'Planning Americain'!$G$"&$R9+1+MATCH(G$2,'Planning Americain'!$B$1:$B$179,0)&":$AR$"&$R9+1+MATCH(G$2,'Planning Americain'!$B$1:$B$179,0))="",COLUMN($G$3:$AR$3)-6))*COLUMN($F$3:$AQ$3)-5)>0,COLUMN($F$3:$AQ$3)-4,"FAUX"),$B9)),"")} -> 0.41666667 | I9: {=IFERROR(INDEX('Planning Americain'!$F$2:$AQ$2,0,SMALL(IF((ISNUMBER(IF(ISTEXT(INDIRECT("'Planning Americain'!$F$"&$R9+1+MATCH(I$2,'Planning Americain'!$B$1:$B$179,0)&":$AQ$"&$R9+1+MATCH(I$2,'Planning Americain'!$B$1:$B$179,0))),COLUMN($F$3:$AQ$3)-5)))*(ISNUMBER(IF(INDIRECT("'Planning Americain'!$E$"&$R9+1+MATCH(I$2,'Planning Americain'!$B$1:$B$179,0)&":$AP$"&$R9+1+MATCH(I$2,'Planning Americain'!$B$1:$B$179,0))="",COLUMN($E$3:$AP$3)-4))*COLUMN($F$3:$AQ$3)-5)>0,COLUMN($F$3:$AQ$3)-5,"FAUX"),$B9)),"")} -> 0.3125 | J9: {=IFERROR(INDEX('Planning Americain'!$F$2:$AQ$2,0,SMALL(IF((ISNUMBER(IF(ISTEXT(INDIRECT("'Planning Americain'!$F$"&$R9+1+MATCH(I$2,'Planning Americain'!$B$1:$B$179,0)&":$AQ$"&$R9+1+MATCH(I$2,'Planning Americain'!$B$1:$B$179,0))),COLUMN($F$3:$AQ$3)-5)))*(ISNUMBER(IF(INDIRECT("'Planning Americain'!$G$"&$R9+1+MATCH(I$2,'Planning Americain'!$B$1:$B$179,0)&":$AR$"&$R9+1+MATCH(I$2,'Planning Americain'!$B$1:$B$179,0))="",COLUMN($G$3:$AR$3)-6))*COLUMN($F$3:$AQ$3)-5)>0,COLUMN($F$3:$AQ$3)-4,"FAUX"),$B9)),"")} -> 0.39583333 | K9: {=IFERROR(INDEX('Planning Americain'!$F$2:$AQ$2,0,SMALL(IF((ISNUMBER(IF(ISTEXT(INDIRECT("'Planning Americain'!$F$"&$R9+1+MATCH(K$2,'Planning Americain'!$B$1:$B$179,0)&":$AQ$"&$R9+1+MATCH(K$2,'Planning Americain'!$B$1:$B$179,0))),COLUMN($F$3:$AQ$3)-5)))*(ISNUMBER(IF(INDIRECT("'Planning Americain'!$E$"&$R9+1+MATCH(K$2,'Planning Americain'!$B$1:$B$179,0)&":$AP$"&$R9+1+MATCH(K$2,'Planning Americain'!$B$1:$B$179,0))="",COLUMN($E$3:$AP$3)-4))*COLUMN($F$3:$AQ$3)-5)>0,COLUMN($F$3:$AQ$3)-5,"FAUX"),$B9)),"")} -> 0.41666667 | L9: {=IFERROR(INDEX('Planning Americain'!$F$2:$AQ$2,0,SMALL(IF((ISNUMBER(IF(ISTEXT(INDIRECT("'Planning Americain'!$F$"&$R9+1+MATCH(K$2,'Planning Americain'!$B$1:$B$179,0)&":$AQ$"&$R9+1+MATCH(K$2,'Planning Americain'!$B$1:$B$179,0))),COLUMN($F$3:$AQ$3)-5)))*(ISNUMBER(IF(INDIRECT("'Planning Americain'!$G$"&$R9+1+MATCH(K$2,'Planning Americain'!$B$1:$B$179,0)&":$AR$"&$R9+1+MATCH(K$2,'Planning Americain'!$B$1:$B$179,0))="",COLUMN($G$3:$AR$3)-6))*COLUMN($F$3:$AQ$3)-5)>0,COLUMN($F$3:$AQ$3)-4,"FAUX"),$B9)),"")} -> 0.5 | M9: {=IFERROR(INDEX('Planning Americain'!$F$2:$AQ$2,0,SMALL(IF((ISNUMBER(IF(ISTEXT(INDIRECT("'Planning Americain'!$F$"&$R9+1+MATCH(M$2,'Planning Americain'!$B$1:$B$179,0)&":$AQ$"&$R9+1+MATCH(M$2,'Planning Americain'!$B$1:$B$179,0))),COLUMN($F$3:$AQ$3)-5)))*(ISNUMBER(IF(INDIRECT("'Planning Americain'!$E$"&$R9+1+MATCH(M$2,'Planning Americain'!$B$1:$B$179,0)&":$AP$"&$R9+1+MATCH(M$2,'Planning Americain'!$B$1:$B$179,0))="",COLUMN($E$3:$AP$3)-4))*COLUMN($F$3:$AQ$3)-5)>0,COLUMN($F$3:$AQ$3)-5,"FAUX"),$B9)),"")} -> 0.39583333 | N9: {=IFERROR(INDEX('Planning Americain'!$F$2:$AQ$2,0,SMALL(IF((ISNUMBER(IF(ISTEXT(INDIRECT("'Planning Americain'!$F$"&$R9+1+MATCH(M$2,'Planning Americain'!$B$1:$B$179,0)&":$AQ$"&$R9+1+MATCH(M$2,'Planning Americain'!$B$1:$B$179,0))),COLUMN($F$3:$AQ$3)-5)))*(ISNUMBER(IF(INDIRECT("'Planning Americain'!$G$"&$R9+1+MATCH(M$2,'Planning Americain'!$B$1:$B$179,0)&":$AR$"&$R9+1+MATCH(M$2,'Planning Americain'!$B$1:$B$179,0))="",COLUMN($G$3:$AR$3)-6))*COLUMN($F$3:$AQ$3)-5)>0,COLUMN($F$3:$AQ$3)-4,"FAUX"),$B9)),"")} -> 0.47916667 | O9: {=IFERROR(INDEX('Planning Americain'!$F$2:$AQ$2,0,SMALL(IF((ISNUMBER(IF(ISTEXT(INDIRECT("'Planning Americain'!$F$"&$R9+1+MATCH(O$2,'Planning Americain'!$B$1:$B$179,0)&":$AQ$"&$R9+1+MATCH(O$2,'Planning Americain'!$B$1:$B$179,0))),COLUMN($F$3:$AQ$3)-5)))*(ISNUMBER(IF(INDIRECT("'Planning Americain'!$E$"&$R9+1+MATCH(O$2,'Planning Americain'!$B$1:$B$179,0)&":$AP$"&$R9+1+MATCH(O$2,'Planning Americain'!$B$1:$B$179,0))="",COLUMN($E$3:$AP$3)-4))*COLUMN($F$3:$AQ$3)-5)>0,COLUMN($F$3:$AQ$3)-5,"FAUX"),$B9)),"")} -> 0.25 | P9: {=IFERROR(INDEX('Planning Americain'!$F$2:$AQ$2,0,SMALL(IF((ISNUMBER(IF(ISTEXT(INDIRECT("'Planning Americain'!$F$"&$R9+1+MATCH(O$2,'Planning Americain'!$B$1:$B$179,0)&":$AQ$"&$R9+1+MATCH(O$2,'Planning Americain'!$B$1:$B$179,0))),COLUMN($F$3:$AQ$3)-5)))*(ISNUMBER(IF(INDIRECT("'Planning Americain'!$G$"&$R9+1+MATCH(O$2,'Planning Americain'!$B$1:$B$179,0)&":$AR$"&$R9+1+MATCH(O$2,'Planning Americain'!$B$1:$B$179,0))="",COLUMN($G$3:$AR$3)-6))*COLUMN($F$3:$AQ$3)-5)>0,COLUMN($F$3:$AQ$3)-4,"FAUX"),$B9)),"")} -> 0.33333333 | R9: =MID(A$9,7,2) -> 2
B10: 2 | C10: {=IFERROR(INDEX('Planning Americain'!$F$2:$AQ$2,0,SMALL(IF((ISNUMBER(IF(ISTEXT(INDIRECT("'Planning Americain'!$F$"&$R10+1+MATCH(C$2,'Planning Americain'!$B$1:$B$179,0)&":$AQ$"&$R10+1+MATCH(C$2,'Planning Americain'!$B$1:$B$179,0))),COLUMN($F$3:$AQ$3)-5)))*(ISNUMBER(IF(INDIRECT("'Planning Americain'!$E$"&$R10+1+MATCH(C$2,'Planning Americain'!$B$1:$B$179,0)&":$AP$"&$R10+1+MATCH(C$2,'Planning Americain'!$B$1:$B$179,0))="",COLUMN($E$3:$AP$3)-4))*COLUMN($F$3:$AQ$3)-5)>0,COLUMN($F$3:$AQ$3)-5,"FAUX"),$B10)),"")} -> 0.35416667 | D10: {=IFERROR(INDEX('Planning Americain'!$F$2:$AQ$2,0,SMALL(IF((ISNUMBER(IF(ISTEXT(INDIRECT("'Planning Americain'!$F$"&$R10+1+MATCH(C$2,'Planning Americain'!$B$1:$B$179,0)&":$AQ$"&$R10+1+MATCH(C$2,'Planning Americain'!$B$1:$B$179,0))),COLUMN($F$3:$AQ$3)-5)))*(ISNUMBER(IF(INDIRECT("'Planning Americain'!$G$"&$R10+1+MATCH(C$2,'Planning Americain'!$B$1:$B$179,0)&":$AR$"&$R10+1+MATCH(C$2,'Planning Americain'!$B$1:$B$179,0))="",COLUMN($G$3:$AR$3)-6))*COLUMN($F$3:$AQ$3)-5)>0,COLUMN($F$3:$AQ$3)-4,"FAUX"),$B10)),"")} -> 0.39583333 | E10: {=IFERROR(INDEX('Planning Americain'!$F$2:$AQ$2,0,SMALL(IF((ISNUMBER(IF(ISTEXT(INDIRECT("'Planning Americain'!$F$"&$R10+1+MATCH(E$2,'Planning Americain'!$B$1:$B$179,0)&":$AQ$"&$R10+1+MATCH(E$2,'Planning Americain'!$B$1:$B$179,0))),COLUMN($F$3:$AQ$3)-5)))*(ISNUMBER(IF(INDIRECT("'Planning Americain'!$E$"&$R10+1+MATCH(E$2,'Planning Americain'!$B$1:$B$179,0)&":$AP$"&$R10+1+MATCH(E$2,'Planning Americain'!$B$1:$B$179,0))="",COLUMN($E$3:$AP$3)-4))*COLUMN($F$3:$AQ$3)-5)>0,COLUMN($F$3:$AQ$3)-5,"FAUX"),$B10)),"")} -> 0.35416667 | F10: {=IFERROR(INDEX('Planning Americain'!$F$2:$AQ$2,0,SMALL(IF((ISNUMBER(IF(ISTEXT(INDIRECT("'Planning Americain'!$F$"&$R10+1+MATCH(E$2,'Planning Americain'!$B$1:$B$179,0)&":$AQ$"&$R10+1+MATCH(E$2,'Planning Americain'!$B$1:$B$179,0))),COLUMN($F$3:$AQ$3)-5)))*(ISNUMBER(IF(INDIRECT("'Planning Americain'!$G$"&$R10+1+MATCH(E$2,'Planning Americain'!$B$1:$B$179,0)&":$AR$"&$R10+1+MATCH(E$2,'Planning Americain'!$B$1:$B$179,0))="",COLUMN($G$3:$AR$3)-6))*COLUMN($F$3:$AQ$3)-5)>0,COLUMN($F$3:$AQ$3)-4,"FAUX"),$B10)),"")} -> 0.45833333 | G10: {=IFERROR(INDEX('Planning Americain'!$F$2:$AQ$2,0,SMALL(IF((ISNUMBER(IF(ISTEXT(INDIRECT("'Planning Americain'!$F$"&$R10+1+MATCH(G$2,'Planning Americain'!$B$1:$B$179,0)&":$AQ$"&$R10+1+MATCH(G$2,'Planning Americain'!$B$1:$B$179,0))),COLUMN($F$3:$AQ$3)-5)))*(ISNUMBER(IF(INDIRECT("'Planning Americain'!$E$"&$R10+1+MATCH(G$2,'Planning Americain'!$B$1:$B$179,0)&":$AP$"&$R10+1+MATCH(G$2,'Planning Americain'!$B$1:$B$179,0))="",COLUMN($E$3:$AP$3)-4))*COLUMN($F$3:$AQ$3)-5)>0,COLUMN($F$3:$AQ$3)-5,"FAUX"),$B10)),"")} -> 0.5 | H10: {=IFERROR(INDEX('Planning Americain'!$F$2:$AQ$2,0,SMALL(IF((ISNUMBER(IF(ISTEXT(INDIRECT("'Planning Americain'!$F$"&$R10+1+MATCH(G$2,'Planning Americain'!$B$1:$B$179,0)&":$AQ$"&$R10+1+MATCH(G$2,'Planning Americain'!$B$1:$B$179,0))),COLUMN($F$3:$AQ$3)-5)))*(ISNUMBER(IF(INDIRECT("'Planning Americain'!$G$"&$R10+1+MATCH(G$2,'Planning Americain'!$B$1:$B$179,0)&":$AR$"&$R10+1+MATCH(G$2,'Planning Americain'!$B$1:$B$179,0))="",COLUMN($G$3:$AR$3)-6))*COLUMN($F$3:$AQ$3)-5)>0,COLUMN($F$3:$AQ$3)-4,"FAUX"),$B10)),"")} -> 0.58333333 | I10: {=IFERROR(INDEX('Planning Americain'!$F$2:$AQ$2,0,SMALL(IF((ISNUMBER(IF(ISTEXT(INDIRECT("'Planning Americain'!$F$"&$R10+1+MATCH(I$2,'Planning Americain'!$B$1:$B$179,0)&":$AQ$"&$R10+1+MATCH(I$2,'Planning Americain'!$B$1:$B$179,0))),COLUMN($F$3:$AQ$3)-5)))*(ISNUMBER(IF(INDIRECT("'Planning Americain'!$E$"&$R10+1+MATCH(I$2,'Planning Americain'!$B$1:$B$179,0)&":$AP$"&$R10+1+MATCH(I$2,'Planning Americain'!$B$1:$B$179,0))="",COLUMN($E$3:$AP$3)-4))*COLUMN($F$3:$AQ$3)-5)>0,COLUMN($F$3:$AQ$3)-5,"FAUX"),$B10)),"")} -> 0.47916667 | J10: {=IFERROR(INDEX('Planning Americain'!$F$2:$AQ$2,0,SMALL(IF((ISNUMBER(IF(ISTEXT(INDIRECT("'Planning Americain'!$F$"&$R10+1+MATCH(I$2,'Planning Americain'!$B$1:$B$179,0)&":$AQ$"&$R10+1+MATCH(I$2,'Planning Americain'!$B$1:$B$179,0))),COLUMN($F$3:$AQ$3)-5)))*(ISNUMBER(IF(INDIRECT("'Planning Americain'!$G$"&$R10+1+MATCH(I$2,'Planning Americain'!$B$1:$B$179,0)&":$AR$"&$R10+1+MATCH(I$2,'Planning Americain'!$B$1:$B$179,0))="",COLUMN($G$3:$AR$3)-6))*COLUMN($F$3:$AQ$3)-5)>0,COLUMN($F$3:$AQ$3)-4,"FAUX"),$B10)),"")} -> 0.5625 | K10: {=IFERROR(INDEX('Planning Americain'!$F$2:$AQ$2,0,SMALL(IF((ISNUMBER(IF(ISTEXT(INDIRECT("'Planning Americain'!$F$"&$R10+1+MATCH(K$2,'Planning Americain'!$B$1:$B$179,0)&":$AQ$"&$R10+1+MATCH(K$2,'Planning Americain'!$B$1:$B$179,0))),COLUMN($F$3:$AQ$3)-5)))*(ISNUMBER(IF(INDIRECT("'Planning Americain'!$E$"&$R10+1+MATCH(K$2,'Planning Americain'!$B$1:$B$179,0)&":$AP$"&$R10+1+MATCH(K$2,'Planning Americain'!$B$1:$B$179,0))="",COLUMN($E$3:$AP$3)-4))*COLUMN($F$3:$AQ$3)-5)>0,COLUMN($F$3:$AQ$3)-5,"FAUX"),$B10)),"")} -> 0.58333333 | L10: {=IFERROR(INDEX('Planning Americain'!$F$2:$AQ$2,0,SMALL(IF((ISNUMBER(IF(ISTEXT(INDIRECT("'Planning Americain'!$F$"&$R10+1+MATCH(K$2,'Planning Americain'!$B$1:$B$179,0)&":$AQ$"&$R10+1+MATCH(K$2,'Planning Americain'!$B$1:$B$179,0))),COLUMN($F$3:$AQ$3)-5)))*(ISNUMBER(IF(INDIRECT("'Planning Americain'!$G$"&$R10+1+MATCH(K$2,'Planning Americain'!$B$1:$B$179,0)&":$AR$"&$R10+1+MATCH(K$2,'Planning Americain'!$B$1:$B$179,0))="",COLUMN($G$3:$AR$3)-6))*COLUMN($F$3:$AQ$3)-5)>0,COLUMN($F$3:$AQ$3)-4,"FAUX"),$B10)),"")} -> 0.66666667 | M10: {=IFERROR(INDEX('Planning Americain'!$F$2:$AQ$2,0,SMALL(IF((ISNUMBER(IF(ISTEXT(INDIRECT("'Planning Americain'!$F$"&$R10+1+MATCH(M$2,'Planning Americain'!$B$1:$B$179,0)&":$AQ$"&$R10+1+MATCH(M$2,'Planning Americain'!$B$1:$B$179,0))),COLUMN($F$3:$AQ$3)-5)))*(ISNUMBER(IF(INDIRECT("'Planning Americain'!$E$"&$R10+1+MATCH(M$2,'Planning Americain'!$B$1:$B$179,0)&":$AP$"&$R10+1+MATCH(M$2,'Planning Americain'!$B$1:$B$179,0))="",COLUMN($E$3:$AP$3)-4))*COLUMN($F$3:$AQ$3)-5)>0,COLUMN($F$3:$AQ$3)-5,"FAUX"),$B10)),"")} -> 0.5625 | N10: {=IFERROR(INDEX('Planning Americain'!$F$2:$AQ$2,0,SMALL(IF((ISNUMBER(IF(ISTEXT(INDIRECT("'Planning Americain'!$F$"&$R10+1+MATCH(M$2,'Planning Americain'!$B$1:$B$179,0)&":$AQ$"&$R10+1+MATCH(M$2,'Planning Americain'!$B$1:$B$179,0))),COLUMN($F$3:$AQ$3)-5)))*(ISNUMBER(IF(INDIRECT("'Planning Americain'!$G$"&$R10+1+MATCH(M$2,'Planning Americain'!$B$1:$B$179,0)&":$AR$"&$R10+1+MATCH(M$2,'Planning Americain'!$B$1:$B$179,0))="",COLUMN($G$3:$AR$3)-6))*COLUMN($F$3:$AQ$3)-5)>0,COLUMN($F$3:$AQ$3)-4,"FAUX"),$B10)),"")} -> 0.64583333 | O10: {=IFERROR(INDEX('Planning Americain'!$F$2:$AQ$2,0,SMALL(IF((ISNUMBER(IF(ISTEXT(INDIRECT("'Planning Americain'!$F$"&$R10+1+MATCH(O$2,'Planning Americain'!$B$1:$B$179,0)&":$AQ$"&$R10+1+MATCH(O$2,'Planning Americain'!$B$1:$B$179,0))),COLUMN($F$3:$AQ$3)-5)))*(ISNUMBER(IF(INDIRECT("'Planning Americain'!$E$"&$R10+1+MATCH(O$2,'Planning Americain'!$B$1:$B$179,0)&":$AP$"&$R10+1+MATCH(O$2,'Planning Americain'!$B$1:$B$179,0))="",COLUMN($E$3:$AP$3)-4))*COLUMN($F$3:$AQ$3)-5)>0,COLUMN($F$3:$AQ$3)-5,"FAUX"),$B10)),"")} -> 0.41666667 | P10: {=IFERROR(INDEX('Planning Americain'!$F$2:$AQ$2,0,SMALL(IF((ISNUMBER(IF(ISTEXT(INDIRECT("'Planning Americain'!$F$"&$R10+1+MATCH(O$2,'Planning Americain'!$B$1:$B$179,0)&":$AQ$"&$R10+1+MATCH(O$2,'Planning Americain'!$B$1:$B$179,0))),COLUMN($F$3:$AQ$3)-5)))*(ISNUMBER(IF(INDIRECT("'Planning Americain'!$G$"&$R10+1+MATCH(O$2,'Planning Americain'!$B$1:$B$179,0)&":$AR$"&$R10+1+MATCH(O$2,'Planning Americain'!$B$1:$B$179,0))="",COLUMN($G$3:$AR$3)-6))*COLUMN($F$3:$AQ$3)-5)>0,COLUMN($F$3:$AQ$3)-4,"FAUX"),$B10)),"")} -> 0.5 | R10: =MID(A$9,7,2) -> 2
