Workbook

Sheet coureurs
A3: Dossard | B3: Nom | C3: Prénom | D3: Sexe | E3: N° Licence | F3: Catégorie | G3: Sous Catégorie | H3: Code classif. | I3: Club | J3: Comité | K3: Team | L3: Âge sur la saison | M3: Nationalité | N3: Engagement | O3: Entité Eng. | P3: Montant | Q3: Uci-Id
A4: 4 | B4: BEAU1 | C4: No1 | D4: H | E4: 50242930028 | F4: U17 | H4: 1.31.0 | I4: Team Cycliste VERTEILLACOISE | J4: NOUVELLE AQUITAINE | L4: 16 | M4: FRA | N4: Titulaires | O4: Team Cycliste VERTEILLACOISE | P4: 8,00 | Q4: 10126168082
A5: 5 | B5: BEAU2 | C5: No2 | D5: H | E5: 50242930026 | F5: U17 | H5: 1.31.0 | I5: Team Cycliste VERTEILLACOISE | J5: NOUVELLE AQUITAINE | L5: 16 | M5: FRA | N5: Titulaires | O5: Team Cycliste VERTEILLACOISE | P5: 8,00 | Q5: 10126167678
A6: 3 | B6: BEAU3 | C6: No3 | D6: H | E6: 50242930015 | F6: U17 | H6: 1.31.0 | I6: Team Cycliste VERTEILLACOISE | J6: NOUVELLE AQUITAINE | L6: 15 | M6: FRA | N6: Titulaires | O6: Team Cycliste VERTEILLACOISE | P6: 8,00 | Q6: 10073773938
A7: 1 | B7: BEAU4 | C7: No4 | D7: H | E7: 50242680109 | F7: U17 | H7: 1.31.0 | I7: UC MONTPONNAISE VALLÉE DE L`ISLE | J7: NOUVELLE AQUITAINE | L7: 16 | M7: FRA | N7: Titulaires | O7: UC MONTPONNAISE VALLÉE DE L'ISLE | P7: 8,00 | Q7: 10111074377
A8: 2 | B8: BEAU5 | C8: No5 | D8: H | E8: 50242680072 | F8: U17 | H8: 1.31.0 | I8: UC MONTPONNAISE VALLÉE DE L`ISLE | J8: NOUVELLE AQUITAINE | L8: 15 | M8: FRA | N8: Titulaires | O8: UC MONTPONNAISE VALLÉE DE L'ISLE | P8: 8,00 | Q8: 10084743123
A9: 9 | B9: BEAU6 | C9: No6 | D9: H | E9: 50242920221 | F9: U17 | H9: 1.31.0 | I9: DORDOGNE SUD CYCLISME | J9: NOUVELLE AQUITAINE | L9: 15 | M9: FRA | N9: Titulaires | O9: DORDOGNE SUD CYCLISME | P9: 8,00 | Q9: 10130219450
A10: 7 | B10: BEAU7 | C10: No7 | D10: H | E10: 50242920200 | F10: U17 | H10: 1.31.0 | I10: DORDOGNE SUD CYCLISME | J10: NOUVELLE AQUITAINE | L10: 16 | M10: FRA | N10: Titulaires | O10: DORDOGNE SUD CYCLISME | P10: 8,00 | Q10: 10137829304
A11: 8 | B11: BEAU8 | C11: No8 | D11: H | E11: 50242920242 | F11: U17 | H11: 1.31.0 | I11: DORDOGNE SUD CYCLISME | J11: NOUVELLE AQUITAINE | L11: 15 | M11: FRA | N11: Titulaires | O11: DORDOGNE SUD CYCLISME | P11: 8,00 | Q11: 10097422235
A12: 11 | B12: BEAU9 | C12: No9 | D12: H | E12: 49505470128 | F12: U17 | H12: 1.31.0 | I12: VELO CLUB LE TEILLEUL | J12: NORMANDIE | L12: 16 | M12: FRA | N12: Titulaires | O12: VELO CLUB LE TEILLEUL | P12: 8,00 | Q12: 10067036074
A13: 6 | B13: BEAU10 | C13: No10 | D13: H | E13: 50330560362 | F13: U17 | H13: 1.31.0 | I13: VC DU SUD GIRONDE | J13: NOUVELLE AQUITAINE | L13: 16 | M13: FRA | N13: Titulaires | O13: VC DU SUD GIRONDE | P13: 8,00 | Q13: 10125563753
A14: 10 | B14: BEAU11 | C14: No11 | D14: H | E14: 50330110261 | F14: U17 | H14: 1.31.0 | I14: AVC LIBOURNE | J14: NOUVELLE AQUITAINE | M14: FRA | N14: Titulaires | O14: AVC LIBOURNE | P14: 8,00 | Q14: 10144916768
A15: 18 | B15: BEAU12 | C15: No12 | D15: H | E15: 50190110176 | F15: U17 | H15: 1.31.0 | I15: UC BRIVISTE | J15: NOUVELLE AQUITAINE | L15: 16 | M15: FRA | N15: Titulaires | O15: UC BRIVISTE
A16: 13 | B16: BEAU13 | C16: No13 | D16: H | E16: 51650100122 | F16: U17 | H16: 1.31.0 | I16: EC MEDOC ATLANTIQUE
A17: 14 | B17: BEAU14 | C17: No14 | D17: H | E17: 50242710087 | F17: U17 | H17: 1.31.0 | I17: SPRINTER CLUB DU PERIGORD | J17: NOUVELLE AQUITAINE | L17: 15 | M17: FRA | N17: Titulaires | O17: SPRINTER CLUB DU PERIGORD | P17: 8,00 | Q17: 10111146725
A18: 12 | B18: BEAU15 | C18: No15 | D18: H | E18: 50242710091 | F18: U17 | H18: 1.31.0 | I18: SPRINTER CLUB DU PERIGORD | J18: NOUVELLE AQUITAINE | L18: 15 | M18: FRA | N18: Titulaires | O18: SPRINTER CLUB DU PERIGORD | P18: 8,00 | Q18: 10114895773
A19: 16 | B19: BEAU16 | C19: No16 | D19: H | E19: 50330110268 | F19: U17 | H19: 1.31.0 | I19: AVC LIBOURNE | J19: NOUVELLE AQUITAINE | L19: 15 | M19: FRA | N19: Titulaires | O19: AVC LIBOURNE | P19: 8,00 | Q19: 10145392573
A20: 17 | B20: BEAU17 | C20: No17 | D20: H | E20: 50330420122 | F20: U17 | H20: 1.31.0 | I20: EC MEDOC ATLANTIQUE
A21: 15 | B21: BEAU18 | C21: No18 | D21: H | E21: 50330420082 | F21: U17 | H21: 1.31.0 | I21: EC MEDOC ATLANTIQUE
A22: 19

Sheet CLM
D2: 2ème Souvenir | M2: Classement Général après étape 1
K4: Dist : 8,5 km
A5: Résultat de l'étape 1 | E5: Dist : 8,5 km | K5: Moy : | L5: =8.5/Q8*"1:0:0" -> 92.44713 | M5: km/h | P5: Délai : | Q5: =Q8*0.25 -> 0.00095775463 | U5: Clubs ayant au moins
U6: 3
A7: Ordre | B7: rang tps | C7: Dossard | D7: Nom | E7: Prénom | F7: Club | G7: Horaire départ | H7: Horaire arrivée | I7: 1/ 100° | J7: Tps CLM | K7: Place | L7: Dossard | M7: Nom | N7: Prénom | O7: Club | P7: Cat | Q7: Tps CLM | R7: 1/ 100° | S7: Écart | U7: coureurs
A8: 1 | B8: =RANK($J8,J$8:J$48,1)+COUNTIF(J$8:J8,J8)-1 -> 12 | C8: 17 | D8: =IF(ISNA(VLOOKUP(C8,coureurs!$A$4:$I$70,2,FALSE)),"",VLOOKUP(C8,coureurs!$A$4:$I$70,2,FALSE)) -> BEAU17 | E8: =IF(ISNA(VLOOKUP(C8,coureurs!$A$4:$I$70,3,FALSE)),"",VLOOKUP(C8,coureurs!$A$4:$I$70,3,FALSE)) -> No17 | F8: =IF(ISNA(VLOOKUP(C8,coureurs!$A$4:$I$70,9,FALSE)),"",VLOOKUP(C8,coureurs!$A$4:$I$70,9,FALSE)) -> EC MEDOC ATLANTIQUE | G8: 0.44444444 | H8: 0.44890046 | I8: 26 | J8: =H8-G8 -> 0.0044560185 | K8: 1 | L8: =VLOOKUP(K8,B$8:J$58,2,FALSE) -> 1 | M8: =IF(ISNA(VLOOKUP(L8,coureurs!$A$4:$Q$70,2,FALSE)),"",VLOOKUP(L8,coureurs!$A$4:$Q$70,2,FALSE)) -> BEAU4 | N8: =IF(ISNA(VLOOKUP(L8,coureurs!$A$4:$Q$70,3,FALSE)),"",VLOOKUP(L8,coureurs!$A$4:$Q$70,3,FALSE)) -> No4 | O8: =IF(ISNA(VLOOKUP(L8,coureurs!$A$4:$Q$70,9,FALSE)),"",VLOOKUP(L8,coureurs!$A$4:$Q$70,9,FALSE)) -> UC MONTPONNAISE VALLÉE DE L`ISLE | P8: =IF(ISNA(VLOOKUP(L8,coureurs!$A$4:$Q$70,6,FALSE)),"",VLOOKUP(L8,coureurs!$A$4:$Q$70,6,FALSE)) -> U17 | Q8: =VLOOKUP(L8,$C$8:$J$42,8,FALSE) -> 0.0038310185 | R8: =I8 -> 26 | U8: {=IFERROR(INDEX($O$8:$O$25,SMALL(IF(COUNTIF($O$8:$O$25,$O$8:$O$25)>=$U$6,ROW($O$8:$O$25)-7),ROW(1:1))),"")} -> EC MEDOC ATLANTIQUE | W8: =IF(U8="","",COUNTIF(U$8:U8,U8)) -> 1
A9: =A8+1 -> 2 | B9: =RANK($J9,J$8:J$48,1)+COUNTIF(J$8:J9,J9)-1 -> 14 | C9: 16 | D9: =IF(ISNA(VLOOKUP(C9,coureurs!$A$4:$I$70,2,FALSE)),"",VLOOKUP(C9,coureurs!$A$4:$I$70,2,FALSE)) -> BEAU16 | E9: =IF(ISNA(VLOOKUP(C9,coureurs!$A$4:$I$70,3,FALSE)),"",VLOOKUP(C9,coureurs!$A$4:$I$70,3,FALSE)) -> No16 | F9: =IF(ISNA(VLOOKUP(C9,coureurs!$A$4:$I$70,9,FALSE)),"",VLOOKUP(C9,coureurs!$A$4:$I$70,9,FALSE)) -> AVC LIBOURNE | G9: 0.44583333 | H9: 0.45042824 | I9: 19 | J9: =H9-G9 -> 0.0045949074 | K9: 2 | L9: =VLOOKUP(K9,B$8:J$58,2,FALSE) -> 6 | M9: =IF(ISNA(VLOOKUP(L9,coureurs!$A$4:$Q$70,2,FALSE)),"",VLOOKUP(L9,coureurs!$A$4:$Q$70,2,FALSE)) -> BEAU10 | N9: =IF(ISNA(VLOOKUP(L9,coureurs!$A$4:$Q$70,3,FALSE)),"",VLOOKUP(L9,coureurs!$A$4:$Q$70,3,FALSE)) -> No10 | O9: =IF(ISNA(VLOOKUP(L9,coureurs!$A$4:$Q$70,9,FALSE)),"",VLOOKUP(L9,coureurs!$A$4:$Q$70,9,FALSE)) -> VC DU SUD GIRONDE | P9: =IF(ISNA(VLOOKUP(L8,coureurs!$A$4:$Q$70,6,FALSE)),"",VLOOKUP(L8,coureurs!$A$4:$Q$70,6,FALSE)) -> U17 | Q9: =VLOOKUP(L9,$C$8:$J$42,8,FALSE) -> 0.0039814815 | R9: =I9 -> 19 | S9: =Q9-Q$8 -> 0.00015046296 | U9: {=IFERROR(INDEX($O$8:$O$25,SMALL(IF(COUNTIF($O$8:$O$25,$O$8:$O$25)>=$U$6,ROW($O$8:$O$25)-7),ROW(2:2))),"")} -> Team Cycliste VERTEILLACOISE | W9: =IF(U9="","",COUNTIF(U$8:U9,U9)) -> 1
A10: =A9+1 -> 3 | B10: =RANK($J10,J$8:J$48,1)+COUNTIF(J$8:J10,J10)-1 -> 5 | C10: 13 | D10: =IF(ISNA(VLOOKUP(C10,coureurs!$A$4:$I$70,2,FALSE)),"",VLOOKUP(C10,coureurs!$A$4:$I$70,2,FALSE)) -> BEAU13 | E10: =IF(ISNA(VLOOKUP(C10,coureurs!$A$4:$I$70,3,FALSE)),"",VLOOKUP(C10,coureurs!$A$4:$I$70,3,FALSE)) -> No13 | F10: =IF(ISNA(VLOOKUP(C10,coureurs!$A$4:$I$70,9,FALSE)),"",VLOOKUP(C10,coureurs!$A$4:$I$70,9,FALSE)) -> EC MEDOC ATLANTIQUE | G10: 0.44722222 | H10: 0.45140046 | I10: 44 | J10: =H10-G10 -> 0.0041782407 | K10: 3 | L10: =VLOOKUP(K10,B$8:J$58,2,FALSE) -> 2 | M10: =IF(ISNA(VLOOKUP(L10,coureurs!$A$4:$Q$70,2,FALSE)),"",VLOOKUP(L10,coureurs!$A$4:$Q$70,2,FALSE)) -> BEAU5 | N10: =IF(ISNA(VLOOKUP(L10,coureurs!$A$4:$Q$70,3,FALSE)),"",VLOOKUP(L10,coureurs!$A$4:$Q$70,3,FALSE)) -> No5 | O10: =IF(ISNA(VLOOKUP(L10,coureurs!$A$4:$Q$70,9,FALSE)),"",VLOOKUP(L10,coureurs!$A$4:$Q$70,9,FALSE)) -> UC MONTPONNAISE VALLÉE DE L`ISLE | P10: =IF(ISNA(VLOOKUP(L9,coureurs!$A$4:$Q$70,6,FALSE)),"",VLOOKUP(L9,coureurs!$A$4:$Q$70,6,FALSE)) -> U17 | Q10: =VLOOKUP(L10,$C$8:$J$42,8,FALSE) -> 0.0040509259 | R10: =I10 -> 44 | S10: =Q10-Q$8 -> 0.00021990741 | U10: {=IFERROR(INDEX($O$8:$O$25,SMALL(IF(COUNTIF($O$8:$O$25,$O$8:$O$25)>=$U$6,ROW($O$8:$O$25)-7),ROW(3:3))),"")} -> DORDOGNE SUD CYCLISME | W10: =IF(U10="","",COUNTIF(U$8:U10,U10)) -> 1
A11: =A10+1 -> 4 | B11: =RANK($J11,J$8:J$48,1)+COUNTIF(J$8:J11,J11)-1 -> 9 | C11: 14 | D11: =IF(ISNA(VLOOKUP(C11,coureurs!$A$4:$I$70,2,FALSE)),"",VLOOKUP(C11,coureurs!$A$4:$I$70,2,FALSE)) -> BEAU14 | E11: =IF(ISNA(VLOOKUP(C11,coureurs!$A$4:$I$70,3,FALSE)),"",VLOOKUP(C11,coureurs!$A$4:$I$70,3,FALSE)) -> No14 | F11: =IF(ISNA(VLOOKUP(C11,coureurs!$A$4:$I$70,9,FALSE)),"",VLOOKUP(C11,coureurs!$A$4:$I$70,9,FALSE)) -> SPRINTER CLUB DU PERIGORD | G11: 0.44861111 | H11: 0.45299769 | I11: 18 | J11: =H11-G11 -> 0.0043865741 | K11: 4 | L11: =VLOOKUP(K11,B$8:J$58,2,FALSE) -> 18 | M11: =IF(ISNA(VLOOKUP(L11,coureurs!$A$4:$Q$70,2,FALSE)),"",VLOOKUP(L11,coureurs!$A$4:$Q$70,2,FALSE)) -> BEAU12 | N11: =IF(ISNA(VLOOKUP(L11,coureurs!$A$4:$Q$70,3,FALSE)),"",VLOOKUP(L11,coureurs!$A$4:$Q$70,3,FALSE)) -> No12 | O11: =IF(ISNA(VLOOKUP(L11,coureurs!$A$4:$Q$70,9,FALSE)),"",VLOOKUP(L11,coureurs!$A$4:$Q$70,9,FALSE)) -> UC BRIVISTE | P11: =IF(ISNA(VLOOKUP(L10,coureurs!$A$4:$Q$70,6,FALSE)),"",VLOOKUP(L10,coureurs!$A$4:$Q$70,6,FALSE)) -> U17 | Q11: =VLOOKUP(L11,$C$8:$J$42,8,FALSE) -> 0.0041203704 | R11: =I11 -> 18 | S11: =Q11-Q$8 -> 0.00028935185 | U11: {=IFERROR(INDEX($O$8:$O$25,SMALL(IF(COUNTIF($O$8:$O$25,$O$8:$O$25)>=$U$6,ROW($O$8:$O$25)-7),ROW(4:4))),"")} -> Team Cycliste VERTEILLACOISE | W11: =IF(U11="","",COUNTIF(U$8:U11,U11)) -> 2
A12: =A11+1 -> 5 | B12: =RANK($J12,J$8:J$48,1)+COUNTIF(J$8:J12,J12)-1 -> 17 | C12: 15 | D12: =IF(ISNA(VLOOKUP(C12,coureurs!$A$4:$I$70,2,FALSE)),"",VLOOKUP(C12,coureurs!$A$4:$I$70,2,FALSE)) -> BEAU18 | E12: =IF(ISNA(VLOOKUP(C12,coureurs!$A$4:$I$70,3,FALSE)),"",VLOOKUP(C12,coureurs!$A$4:$I$70,3,FALSE)) -> No18 | F12: =IF(ISNA(VLOOKUP(C12,coureurs!$A$4:$I$70,9,FALSE)),"",VLOOKUP(C12,coureurs!$A$4:$I$70,9,FALSE)) -> EC MEDOC ATLANTIQUE | G12: 0.45 | H12: 0.45488426 | I12: 43 | J12: =H12-G12 -> 0.0048842593 | K12: 5 | L12: =VLOOKUP(K12,B$8:J$58,2,FALSE) -> 13 | M12: =IF(ISNA(VLOOKUP(L12,coureurs!$A$4:$Q$70,2,FALSE)),"",VLOOKUP(L12,coureurs!$A$4:$Q$70,2,FALSE)) -> BEAU13 | N12: =IF(ISNA(VLOOKUP(L12,coureurs!$A$4:$Q$70,3,FALSE)),"",VLOOKUP(L12,coureurs!$A$4:$Q$70,3,FALSE)) -> No13 | O12: =IF(ISNA(VLOOKUP(L12,coureurs!$A$4:$Q$70,9,FALSE)),"",VLOOKUP(L12,coureurs!$A$4:$Q$70,9,FALSE)) -> EC MEDOC ATLANTIQUE | P12: =IF(ISNA(VLOOKUP(L11,coureurs!$A$4:$Q$70,6,FALSE)),"",VLOOKUP(L11,coureurs!$A$4:$Q$70,6,FALSE)) -> U17 | Q12: =VLOOKUP(L12,$C$8:$J$42,8,FALSE) -> 0.0041782407 | R12: =I12 -> 43 | S12: =Q12-Q$8 -> 0.00034722222 | U12: {=IFERROR(INDEX($O$8:$O$25,SMALL(IF(COUNTIF($O$8:$O$25,$O$8:$O$25)>=$U$6,ROW($O$8:$O$25)-7),ROW(5:5))),"")} -> EC MEDOC ATLANTIQUE | W12: =IF(U12="","",COUNTIF(U$8:U12,U12)) -> 2
A13: =A12+1 -> 6 | B13: =RANK($J13,J$8:J$48,1)+COUNTIF(J$8:J13,J13)-1 -> 11 | C13: 12 | D13: =IF(ISNA(VLOOKUP(C13,coureurs!$A$4:$I$70,2,FALSE)),"",VLOOKUP(C13,coureurs!$A$4:$I$70,2,FALSE)) -> BEAU15 | E13: =IF(ISNA(VLOOKUP(C13,coureurs!$A$4:$I$70,3,FALSE)),"",VLOOKUP(C13,coureurs!$A$4:$I$70,3,FALSE)) -> No15 | F13: =IF(ISNA(VLOOKUP(C13,coureurs!$A$4:$I$70,9,FALSE)),"",VLOOKUP(C13,coureurs!$A$4:$I$70,9,FALSE)) -> SPRINTER CLUB DU PERIGORD | G13: 0.45138889 | H13: 0.45578704 | I13: 14 | J13: =H13-G13 -> 0.0043981481 | K13: 6 | L13: =VLOOKUP(K13,B$8:J$58,2,FALSE) -> 3 | M13: =IF(ISNA(VLOOKUP(L13,coureurs!$A$4:$Q$70,2,FALSE)),"",VLOOKUP(L13,coureurs!$A$4:$Q$70,2,FALSE)) -> BEAU3 | N13: =IF(ISNA(VLOOKUP(L13,coureurs!$A$4:$Q$70,3,FALSE)),"",VLOOKUP(L13,coureurs!$A$4:$Q$70,3,FALSE)) -> No3 | O13: =IF(ISNA(VLOOKUP(L13,coureurs!$A$4:$Q$70,9,FALSE)),"",VLOOKUP(L13,coureurs!$A$4:$Q$70,9,FALSE)) -> Team Cycliste VERTEILLACOISE | P13: =IF(ISNA(VLOOKUP(L12,coureurs!$A$4:$Q$70,6,FALSE)),"",VLOOKUP(L12,coureurs!$A$4:$Q$70,6,FALSE)) -> U17 | Q13: =VLOOKUP(L13,$C$8:$J$42,8,FALSE) -> 0.0041782407 | R13: =I13 -> 14 | S13: =Q13-Q$8 -> 0.00034722222 | U13: {=IFERROR(INDEX($O$8:$O$25,SMALL(IF(COUNTIF($O$8:$O$25,$O$8:$O$25)>=$U$6,ROW($O$8:$O$25)-7),ROW(6:6))),"")} -> DORDOGNE SUD CYCLISME | W13: =IF(U13="","",COUNTIF(U$8:U13,U13)) -> 2
A14: =A13+1 -> 7 | B14: =RANK($J14,J$8:J$48,1)+COUNTIF(J$8:J14,J14)-1 -> 18 | C14: 11 | D14: =IF(ISNA(VLOOKUP(C14,coureurs!$A$4:$I$70,2,FALSE)),"",VLOOKUP(C14,coureurs!$A$4:$I$70,2,FALSE)) -> BEAU9 | E14: =IF(ISNA(VLOOKUP(C14,coureurs!$A$4:$I$70,3,FALSE)),"",VLOOKUP(C14,coureurs!$A$4:$I$70,3,FALSE)) -> No9 | F14: =IF(ISNA(VLOOKUP(C14,coureurs!$A$4:$I$70,9,FALSE)),"",VLOOKUP(C14,coureurs!$A$4:$I$70,9,FALSE)) -> VELO CLUB LE TEILLEUL | G14: 0.45208333 | H14: 0.48356481 | I14: 35 | J14: =H14-G14 -> 0.031481481 | K14: 7 | L14: =VLOOKUP(K14,B$8:J$58,2,FALSE) -> 7 | M14: =IF(ISNA(VLOOKUP(L14,coureurs!$A$4:$Q$70,2,FALSE)),"",VLOOKUP(L14,coureurs!$A$4:$Q$70,2,FALSE)) -> BEAU7 | N14: =IF(ISNA(VLOOKUP(L14,coureurs!$A$4:$Q$70,3,FALSE)),"",VLOOKUP(L14,coureurs!$A$4:$Q$70,3,FALSE)) -> No7 | O14: =IF(ISNA(VLOOKUP(L14,coureurs!$A$4:$Q$70,9,FALSE)),"",VLOOKUP(L14,coureurs!$A$4:$Q$70,9,FALSE)) -> DORDOGNE SUD CYCLISME | P14: =IF(ISNA(VLOOKUP(L13,coureurs!$A$4:$Q$70,6,FALSE)),"",VLOOKUP(L13,coureurs!$A$4:$Q$70,6,FALSE)) -> U17 | Q14: =VLOOKUP(L14,$C$8:$J$42,8,FALSE) -> 0.0041898148 | R14: =I14 -> 35 | S14: =Q14-Q$8 -> 0.0003587963 | U14: {=IFERROR(INDEX($O$8:$O$25,SMALL(IF(COUNTIF($O$8:$O$25,$O$8:$O$25)>=$U$6,ROW($O$8:$O$25)-7),ROW(7:7))),"")} -> Team Cycliste VERTEILLACOISE | W14: =IF(U14="","",COUNTIF(U$8:U14,U14)) -> 3
A15: =A14+1 -> 8 | B15: =RANK($J15,J$8:J$48,1)+COUNTIF(J$8:J15,J15)-1 -> 10 | C15: 10 | D15: =IF(ISNA(VLOOKUP(C15,coureurs!$A$4:$I$70,2,FALSE)),"",VLOOKUP(C15,coureurs!$A$4:$I$70,2,FALSE)) -> BEAU11 | E15: =IF(ISNA(VLOOKUP(C15,coureurs!$A$4:$I$70,3,FALSE)),"",VLOOKUP(C15,coureurs!$A$4:$I$70,3,FALSE)) -> No11 | F15: =IF(ISNA(VLOOKUP(C15,coureurs!$A$4:$I$70,9,FALSE)),"",VLOOKUP(C15,coureurs!$A$4:$I$70,9,FALSE)) -> AVC LIBOURNE | G15: 0.45277778 | H15: 0.45716435 | I15: 58 | J15: =H15-G15 -> 0.0043865741 | K15: 8 | L15: =VLOOKUP(K15,B$8:J$58,2,FALSE) -> 4 | M15: =IF(ISNA(VLOOKUP(L15,coureurs!$A$4:$Q$70,2,FALSE)),"",VLOOKUP(L15,coureurs!$A$4:$Q$70,2,FALSE)) -> BEAU1 | N15: =IF(ISNA(VLOOKUP(L15,coureurs!$A$4:$Q$70,3,FALSE)),"",VLOOKUP(L15,coureurs!$A$4:$Q$70,3,FALSE)) -> No1 | O15: =IF(ISNA(VLOOKUP(L15,coureurs!$A$4:$Q$70,9,FALSE)),"",VLOOKUP(L15,coureurs!$A$4:$Q$70,9,FALSE)) -> Team Cycliste VERTEILLACOISE | P15: =IF(ISNA(VLOOKUP(L14,coureurs!$A$4:$Q$70,6,FALSE)),"",VLOOKUP(L14,coureurs!$A$4:$Q$70,6,FALSE)) -> U17 | Q15: =VLOOKUP(L15,$C$8:$J$42,8,FALSE) -> 0.0042361111 | R15: =I15 -> 58 | S15: =Q15-Q$8 -> 0.00040509259 | U15: {=IFERROR(INDEX($O$8:$O$25,SMALL(IF(COUNTIF($O$8:$O$25,$O$8:$O$25)>=$U$6,ROW($O$8:$O$25)-7),ROW(8:8))),"")} -> DORDOGNE SUD CYCLISME | W15: =IF(U15="","",COUNTIF(U$8:U15,U15)) -> 3
A16: =A15+1 -> 9 | B16: =RANK($J16,J$8:J$48,1)+COUNTIF(J$8:J16,J16)-1 -> 13 | C16: 9 | D16: =IF(ISNA(VLOOKUP(C16,coureurs!$A$4:$I$70,2,FALSE)),"",VLOOKUP(C16,coureurs!$A$4:$I$70,2,FALSE)) -> BEAU6 | E16: =IF(ISNA(VLOOKUP(C16,coureurs!$A$4:$I$70,3,FALSE)),"",VLOOKUP(C16,coureurs!$A$4:$I$70,3,FALSE)) -> No6 | F16: =IF(ISNA(VLOOKUP(C16,coureurs!$A$4:$I$70,9,FALSE)),"",VLOOKUP(C16,coureurs!$A$4:$I$70,9,FALSE)) -> DORDOGNE SUD CYCLISME | G16: 0.45555556 | H16: 0.46011574 | I16: 25 | J16: =H16-G16 -> 0.0045601852 | K16: 9 | L16: =VLOOKUP(K16,B$8:J$58,2,FALSE) -> 14 | M16: =IF(ISNA(VLOOKUP(L16,coureurs!$A$4:$Q$70,2,FALSE)),"",VLOOKUP(L16,coureurs!$A$4:$Q$70,2,FALSE)) -> BEAU14 | N16: =IF(ISNA(VLOOKUP(L16,coureurs!$A$4:$Q$70,3,FALSE)),"",VLOOKUP(L16,coureurs!$A$4:$Q$70,3,FALSE)) -> No14 | O16: =IF(ISNA(VLOOKUP(L16,coureurs!$A$4:$Q$70,9,FALSE)),"",VLOOKUP(L16,coureurs!$A$4:$Q$70,9,FALSE)) -> SPRINTER CLUB DU PERIGORD | P16: =IF(ISNA(VLOOKUP(L15,coureurs!$A$4:$Q$70,6,FALSE)),"",VLOOKUP(L15,coureurs!$A$4:$Q$70,6,FALSE)) -> U17 | Q16: =VLOOKUP(L16,$C$8:$J$42,8,FALSE) -> 0.0043865741 | R16: =I16 -> 25 | S16: =Q16-Q$8 -> 0.00055555556 | U16: {=IFERROR(INDEX($O$8:$O$25,SMALL(IF(COUNTIF($O$8:$O$25,$O$8:$O$25)>=$U$6,ROW($O$8:$O$25)-7),ROW(9:9))),"")} -> EC MEDOC ATLANTIQUE | W16: =IF(U16="","",COUNTIF(U$8:U16,U16)) -> 3
A17: =A16+1 -> 10 | B17: =RANK($J17,J$8:J$48,1)+COUNTIF(J$8:J17,J17)-1 -> 16 | C17: 8 | D17: =IF(ISNA(VLOOKUP(C17,coureurs!$A$4:$I$70,2,FALSE)),"",VLOOKUP(C17,coureurs!$A$4:$I$70,2,FALSE)) -> BEAU8 | E17: =IF(ISNA(VLOOKUP(C17,coureurs!$A$4:$I$70,3,FALSE)),"",VLOOKUP(C17,coureurs!$A$4:$I$70,3,FALSE)) -> No8 | F17: =IF(ISNA(VLOOKUP(C17,coureurs!$A$4:$I$70,9,FALSE)),"",VLOOKUP(C17,coureurs!$A$4:$I$70,9,FALSE)) -> DORDOGNE SUD CYCLISME | G17: 0.45694444 | H17: 0.46168981 | I17: 8 | J17: =H17-G17 -> 0.0047453704 | K17: 10 | L17: =VLOOKUP(K17,B$8:J$58,2,FALSE) -> 10 | M17: =IF(ISNA(VLOOKUP(L17,coureurs!$A$4:$Q$70,2,FALSE)),"",VLOOKUP(L17,coureurs!$A$4:$Q$70,2,FALSE)) -> BEAU11 | N17: =IF(ISNA(VLOOKUP(L17,coureurs!$A$4:$Q$70,3,FALSE)),"",VLOOKUP(L17,coureurs!$A$4:$Q$70,3,FALSE)) -> No11 | O17: =IF(ISNA(VLOOKUP(L17,coureurs!$A$4:$Q$70,9,FALSE)),"",VLOOKUP(L17,coureurs!$A$4:$Q$70,9,FALSE)) -> AVC LIBOURNE | P17: =IF(ISNA(VLOOKUP(L16,coureurs!$A$4:$Q$70,6,FALSE)),"",VLOOKUP(L16,coureurs!$A$4:$Q$70,6,FALSE)) -> U17 | Q17: =VLOOKUP(L17,$C$8:$J$42,8,FALSE) -> 0.0043865741 | R17: =I17 -> 8 | S17: =Q17-Q$8 -> 0.00055555556 | U17: {=IFERROR(INDEX($O$8:$O$25,SMALL(IF(COUNTIF($O$8:$O$25,$O$8:$O$25)>=$U$6,ROW($O$8:$O$25)-7),ROW(10:10))),"")} | W17: =IF(U17="","",COUNTIF(U$8:U17,U17))
A18: =A17+1 -> 11 | B18: =RANK($J18,J$8:J$48,1)+COUNTIF(J$8:J18,J18)-1 -> 7 | C18: 7 | D18: =IF(ISNA(VLOOKUP(C18,coureurs!$A$4:$I$70,2,FALSE)),"",VLOOKUP(C18,coureurs!$A$4:$I$70,2,FALSE)) -> BEAU7 | E18: =IF(ISNA(VLOOKUP(C18,coureurs!$A$4:$I$70,3,FALSE)),"",VLOOKUP(C18,coureurs!$A$4:$I$70,3,FALSE)) -> No7 | F18: =IF(ISNA(VLOOKUP(C18,coureurs!$A$4:$I$70,9,FALSE)),"",VLOOKUP(C18,coureurs!$A$4:$I$70,9,FALSE)) -> DORDOGNE SUD CYCLISME | G18: 0.45833333 | H18: 0.46252315 | I18: 51 | J18: =H18-G18 -> 0.0041898148 | K18: 11 | L18: =VLOOKUP(K18,B$8:J$58,2,FALSE) -> 12 | M18: =IF(ISNA(VLOOKUP(L18,coureurs!$A$4:$Q$70,2,FALSE)),"",VLOOKUP(L18,coureurs!$A$4:$Q$70,2,FALSE)) -> BEAU15 | N18: =IF(ISNA(VLOOKUP(L18,coureurs!$A$4:$Q$70,3,FALSE)),"",VLOOKUP(L18,coureurs!$A$4:$Q$70,3,FALSE)) -> No15 | O18: =IF(ISNA(VLOOKUP(L18,coureurs!$A$4:$Q$70,9,FALSE)),"",VLOOKUP(L18,coureurs!$A$4:$Q$70,9,FALSE)) -> SPRINTER CLUB DU PERIGORD | P18: =IF(ISNA(VLOOKUP(L17,coureurs!$A$4:$Q$70,6,FALSE)),"",VLOOKUP(L17,coureurs!$A$4:$Q$70,6,FALSE)) -> U17 | Q18: =VLOOKUP(L18,$C$8:$J$42,8,FALSE) -> 0.0043981481 | R18: =I18 -> 51 | S18: =Q18-Q$8 -> 0.00056712963 | U18: {=IFERROR(INDEX($O$8:$O$25,SMALL(IF(COUNTIF($O$8:$O$25,$O$8:$O$25)>=$U$6,ROW($O$8:$O$25)-7),ROW(11:11))),"")} | W18: =IF(U18="","",COUNTIF(U$8:U18,U18))
A19: =A18+1 -> 12 | B19: =RANK($J19,J$8:J$48,1)+COUNTIF(J$8:J19,J19)-1 -> 2 | C19: 6 | D19: =IF(ISNA(VLOOKUP(C19,coureurs!$A$4:$I$70,2,FALSE)),"",VLOOKUP(C19,coureurs!$A$4:$I$70,2,FALSE)) -> BEAU10 | E19: =IF(ISNA(VLOOKUP(C19,coureurs!$A$4:$I$70,3,FALSE)),"",VLOOKUP(C19,coureurs!$A$4:$I$70,3,FALSE)) -> No10 | F19: =IF(ISNA(VLOOKUP(C19,coureurs!$A$4:$I$70,9,FALSE)),"",VLOOKUP(C19,coureurs!$A$4:$I$70,9,FALSE)) -> VC DU SUD GIRONDE | G19: 0.45972222 | H19: 0.4637037 | I19: 40 | J19: =H19-G19 -> 0.0039814815 | K19: 12 | L19: =VLOOKUP(K19,B$8:J$58,2,FALSE) -> 17 | M19: =IF(ISNA(VLOOKUP(L19,coureurs!$A$4:$Q$70,2,FALSE)),"",VLOOKUP(L19,coureurs!$A$4:$Q$70,2,FALSE)) -> BEAU17 | N19: =IF(ISNA(VLOOKUP(L19,coureurs!$A$4:$Q$70,3,FALSE)),"",VLOOKUP(L19,coureurs!$A$4:$Q$70,3,FALSE)) -> No17 | O19: =IF(ISNA(VLOOKUP(L19,coureurs!$A$4:$Q$70,9,FALSE)),"",VLOOKUP(L19,coureurs!$A$4:$Q$70,9,FALSE)) -> EC MEDOC ATLANTIQUE | P19: =IF(ISNA(VLOOKUP(L18,coureurs!$A$4:$Q$70,6,FALSE)),"",VLOOKUP(L18,coureurs!$A$4:$Q$70,6,FALSE)) -> U17 | Q19: =VLOOKUP(L19,$C$8:$J$42,8,FALSE) -> 0.0044560185 | R19: =I19 -> 40 | S19: =Q19-Q$8 -> 0.000625 | U19: {=IFERROR(INDEX($O$8:$O$25,SMALL(IF(COUNTIF($O$8:$O$25,$O$8:$O$25)>=$U$6,ROW($O$8:$O$25)-7),ROW(12:12))),"")} | W19: =IF(U19="","",COUNTIF(U$8:U19,U19))
A20: =A19+1 -> 13 | B20: =RANK($J20,J$8:J$48,1)+COUNTIF(J$8:J20,J20)-1 -> 15 | C20: 5 | D20: =IF(ISNA(VLOOKUP(C20,coureurs!$A$4:$I$70,2,FALSE)),"",VLOOKUP(C20,coureurs!$A$4:$I$70,2,FALSE)) -> BEAU2 | E20: =IF(ISNA(VLOOKUP(C20,coureurs!$A$4:$I$70,3,FALSE)),"",VLOOKUP(C20,coureurs!$A$4:$I$70,3,FALSE)) -> No2 | F20: =IF(ISNA(VLOOKUP(C20,coureurs!$A$4:$I$70,9,FALSE)),"",VLOOKUP(C20,coureurs!$A$4:$I$70,9,FALSE)) -> Team Cycliste VERTEILLACOISE | G20: 0.46111111 | H20: 0.46583333 | I20: 34 | J20: =H20-G20 -> 0.0047222222 | K20: 13 | L20: =VLOOKUP(K20,B$8:J$58,2,FALSE) -> 9 | M20: =IF(ISNA(VLOOKUP(L20,coureurs!$A$4:$Q$70,2,FALSE)),"",VLOOKUP(L20,coureurs!$A$4:$Q$70,2,FALSE)) -> BEAU6 | N20: =IF(ISNA(VLOOKUP(L20,coureurs!$A$4:$Q$70,3,FALSE)),"",VLOOKUP(L20,coureurs!$A$4:$Q$70,3,FALSE)) -> No6 | O20: =IF(ISNA(VLOOKUP(L20,coureurs!$A$4:$Q$70,9,FALSE)),"",VLOOKUP(L20,coureurs!$A$4:$Q$70,9,FALSE)) -> DORDOGNE SUD CYCLISME | P20: =IF(ISNA(VLOOKUP(L19,coureurs!$A$4:$Q$70,6,FALSE)),"",VLOOKUP(L19,coureurs!$A$4:$Q$70,6,FALSE)) -> U17 | Q20: =VLOOKUP(L20,$C$8:$J$42,8,FALSE) -> 0.0045601852 | R20: =I20 -> 34 | S20: =Q20-Q$8 -> 0.00072916667 | U20: {=IFERROR(INDEX($O$8:$O$25,SMALL(IF(COUNTIF($O$8:$O$25,$O$8:$O$25)>=$U$6,ROW($O$8:$O$25)-7),ROW(13:13))),"")} | W20: =IF(U20="","",COUNTIF(U$8:U20,U20))
A21: =A20+1 -> 14 | B21: =RANK($J21,J$8:J$48,1)+COUNTIF(J$8:J21,J21)-1 -> 8 | C21: 4 | D21: =IF(ISNA(VLOOKUP(C21,coureurs!$A$4:$I$70,2,FALSE)),"",VLOOKUP(C21,coureurs!$A$4:$I$70,2,FALSE)) -> BEAU1 | E21: =IF(ISNA(VLOOKUP(C21,coureurs!$A$4:$I$70,3,FALSE)),"",VLOOKUP(C21,coureurs!$A$4:$I$70,3,FALSE)) -> No1 | F21: =IF(ISNA(VLOOKUP(C21,coureurs!$A$4:$I$70,9,FALSE)),"",VLOOKUP(C21,coureurs!$A$4:$I$70,9,FALSE)) -> Team Cycliste VERTEILLACOISE | G21: 0.4625 | H21: 0.46673611 | I21: 44 | J21: =H21-G21 -> 0.0042361111 | K21: 14 | L21: =VLOOKUP(K21,B$8:J$58,2,FALSE) -> 16 | M21: =IF(ISNA(VLOOKUP(L21,coureurs!$A$4:$Q$70,2,FALSE)),"",VLOOKUP(L21,coureurs!$A$4:$Q$70,2,FALSE)) -> BEAU16 | N21: =IF(ISNA(VLOOKUP(L21,coureurs!$A$4:$Q$70,3,FALSE)),"",VLOOKUP(L21,coureurs!$A$4:$Q$70,3,FALSE)) -> No16 | O21: =IF(ISNA(VLOOKUP(L21,coureurs!$A$4:$Q$70,9,FALSE)),"",VLOOKUP(L21,coureurs!$A$4:$Q$70,9,FALSE)) -> AVC LIBOURNE | P21: =IF(ISNA(VLOOKUP(L20,coureurs!$A$4:$Q$70,6,FALSE)),"",VLOOKUP(L20,coureurs!$A$4:$Q$70,6,FALSE)) -> U17 | Q21: =VLOOKUP(L21,$C$8:$J$42,8,FALSE) -> 0.0045949074 | R21: =I21 -> 44 | S21: =Q21-Q$8 -> 0.00076388889 | U21: {=IFERROR(INDEX($O$8:$O$25,SMALL(IF(COUNTIF($O$8:$O$25,$O$8:$O$25)>=$U$6,ROW($O$8:$O$25)-7),ROW(14:14))),"")} | W21: =IF(U21="","",COUNTIF(U$8:U21,U21))
A22: =A21+1 -> 15 | B22: =RANK($J22,J$8:J$48,1)+COUNTIF(J$8:J22,J22)-1 -> 6 | C22: 3 | D22: =IF(ISNA(VLOOKUP(C22,coureurs!$A$4:$I$70,2,FALSE)),"",VLOOKUP(C22,coureurs!$A$4:$I$70,2,FALSE)) -> BEAU3 | E22: =IF(ISNA(VLOOKUP(C22,coureurs!$A$4:$I$70,3,FALSE)),"",VLOOKUP(C22,coureurs!$A$4:$I$70,3,FALSE)) -> No3 | F22: =IF(ISNA(VLOOKUP(C22,coureurs!$A$4:$I$70,9,FALSE)),"",VLOOKUP(C22,coureurs!$A$4:$I$70,9,FALSE)) -> Team Cycliste VERTEILLACOISE | G22: 0.46388889 | H22: 0.46806713 | I22: 59 | J22: =H22-G22 -> 0.0041782407 | K22: 15 | L22: =VLOOKUP(K22,B$8:J$58,2,FALSE) -> 5 | M22: =IF(ISNA(VLOOKUP(L22,coureurs!$A$4:$Q$70,2,FALSE)),"",VLOOKUP(L22,coureurs!$A$4:$Q$70,2,FALSE)) -> BEAU2 | N22: =IF(ISNA(VLOOKUP(L22,coureurs!$A$4:$Q$70,3,FALSE)),"",VLOOKUP(L22,coureurs!$A$4:$Q$70,3,FALSE)) -> No2 | O22: =IF(ISNA(VLOOKUP(L22,coureurs!$A$4:$Q$70,9,FALSE)),"",VLOOKUP(L22,coureurs!$A$4:$Q$70,9,FALSE)) -> Team Cycliste VERTEILLACOISE | P22: =IF(ISNA(VLOOKUP(L21,coureurs!$A$4:$Q$70,6,FALSE)),"",VLOOKUP(L21,coureurs!$A$4:$Q$70,6,FALSE)) -> U17 | Q22: =VLOOKUP(L22,$C$8:$J$42,8,FALSE) -> 0.0047222222 | R22: =I22 -> 59 | S22: =Q22-Q$8 -> 0.0008912037 | U22: {=IFERROR(INDEX($O$8:$O$25,SMALL(IF(COUNTIF($O$8:$O$25,$O$8:$O$25)>=$U$6,ROW($O$8:$O$25)-7),ROW(15:15))),"")} | W22: =IF(U22="","",COUNTIF(U$8:U22,U22))
A23: =A22+1 -> 16 | B23: =RANK($J23,J$8:J$48,1)+COUNTIF(J$8:J23,J23)-1 -> 3 | C23: 2 | D23: =IF(ISNA(VLOOKUP(C23,coureurs!$A$4:$I$70,2,FALSE)),"",VLOOKUP(C23,coureurs!$A$4:$I$70,2,FALSE)) -> BEAU5 | E23: =IF(ISNA(VLOOKUP(C23,coureurs!$A$4:$I$70,3,FALSE)),"",VLOOKUP(C23,coureurs!$A$4:$I$70,3,FALSE)) -> No5 | F23: =IF(ISNA(VLOOKUP(C23,coureurs!$A$4:$I$70,9,FALSE)),"",VLOOKUP(C23,coureurs!$A$4:$I$70,9,FALSE)) -> UC MONTPONNAISE VALLÉE DE L`ISLE | G23: 0.46527778 | H23: 0.4693287 | I23: 58 | J23: =H23-G23 -> 0.0040509259 | K23: 16 | L23: =VLOOKUP(K23,B$8:J$58,2,FALSE) -> 8 | M23: =IF(ISNA(VLOOKUP(L23,coureurs!$A$4:$Q$70,2,FALSE)),"",VLOOKUP(L23,coureurs!$A$4:$Q$70,2,FALSE)) -> BEAU8 | N23: =IF(ISNA(VLOOKUP(L23,coureurs!$A$4:$Q$70,3,FALSE)),"",VLOOKUP(L23,coureurs!$A$4:$Q$70,3,FALSE)) -> No8 | O23: =IF(ISNA(VLOOKUP(L23,coureurs!$A$4:$Q$70,9,FALSE)),"",VLOOKUP(L23,coureurs!$A$4:$Q$70,9,FALSE)) -> DORDOGNE SUD CYCLISME | P23: =IF(ISNA(VLOOKUP(L22,coureurs!$A$4:$Q$70,6,FALSE)),"",VLOOKUP(L22,coureurs!$A$4:$Q$70,6,FALSE)) -> U17 | Q23: =VLOOKUP(L23,$C$8:$J$42,8,FALSE) -> 0.0047453704 | R23: =I23 -> 58 | S23: =Q23-Q$8 -> 0.00091435185 | U23: {=IFERROR(INDEX($O$8:$O$25,SMALL(IF(COUNTIF($O$8:$O$25,$O$8:$O$25)>=$U$6,ROW($O$8:$O$25)-7),ROW(16:16))),"")} | W23: =IF(U23="","",COUNTIF(U$8:U23,U23))
A24: =A23+1 -> 17 | B24: =RANK($J24,J$8:J$48,1)+COUNTIF(J$8:J24,J24)-1 -> 1 | C24: 1 | D24: =IF(ISNA(VLOOKUP(C24,coureurs!$A$4:$I$70,2,FALSE)),"",VLOOKUP(C24,coureurs!$A$4:$I$70,2,FALSE)) -> BEAU4 | E24: =IF(ISNA(VLOOKUP(C24,coureurs!$A$4:$I$70,3,FALSE)),"",VLOOKUP(C24,coureurs!$A$4:$I$70,3,FALSE)) -> No4 | F24: =IF(ISNA(VLOOKUP(C24,coureurs!$A$4:$I$70,9,FALSE)),"",VLOOKUP(C24,coureurs!$A$4:$I$70,9,FALSE)) -> UC MONTPONNAISE VALLÉE DE L`ISLE | G24: 0.46666667 | H24: 0.47049769 | I24: 37 | J24: =H24-G24 -> 0.0038310185 | K24: 17 | L24: =VLOOKUP(K24,B$8:J$58,2,FALSE) -> 15 | M24: =IF(ISNA(VLOOKUP(L24,coureurs!$A$4:$Q$70,2,FALSE)),"",VLOOKUP(L24,coureurs!$A$4:$Q$70,2,FALSE)) -> BEAU18 | N24: =IF(ISNA(VLOOKUP(L24,coureurs!$A$4:$Q$70,3,FALSE)),"",VLOOKUP(L24,coureurs!$A$4:$Q$70,3,FALSE)) -> No18 | O24: =IF(ISNA(VLOOKUP(L24,coureurs!$A$4:$Q$70,9,FALSE)),"",VLOOKUP(L24,coureurs!$A$4:$Q$70,9,FALSE)) -> EC MEDOC ATLANTIQUE | P24: =IF(ISNA(VLOOKUP(L23,coureurs!$A$4:$Q$70,6,FALSE)),"",VLOOKUP(L23,coureurs!$A$4:$Q$70,6,FALSE)) -> U17 | Q24: =VLOOKUP(L24,$C$8:$J$42,8,FALSE) -> 0.0048842593 | R24: =I24 -> 37 | S24: =Q24-Q$8 -> 0.0010532407 | U24: {=IFERROR(INDEX($O$8:$O$25,SMALL(IF(COUNTIF($O$8:$O$25,$O$8:$O$25)>=$U$6,ROW($O$8:$O$25)-7),ROW(17:17))),"")} | W24: =IF(U24="","",COUNTIF(U$8:U24,U24))
A25: =A24+1 -> 18 | B25: =RANK($J25,J$8:J$48,1)+COUNTIF(J$8:J25,J25)-1 -> 4 | C25: 18 | D25: =IF(ISNA(VLOOKUP(C25,coureurs!$A$4:$I$70,2,FALSE)),"",VLOOKUP(C25,coureurs!$A$4:$I$70,2,FALSE)) -> BEAU12 | E25: =IF(ISNA(VLOOKUP(C25,coureurs!$A$4:$I$70,3,FALSE)),"",VLOOKUP(C25,coureurs!$A$4:$I$70,3,FALSE)) -> No12 | F25: =IF(ISNA(VLOOKUP(C25,coureurs!$A$4:$I$70,9,FALSE)),"",VLOOKUP(C25,coureurs!$A$4:$I$70,9,FALSE)) -> UC BRIVISTE | G25: 0.46805556 | H25: 0.47217593 | I25: 32 | J25: =H25-G25 -> 0.0041203704 | K25: 18 | L25: =VLOOKUP(K25,B$8:J$58,2,FALSE) -> 11 | M25: =IF(ISNA(VLOOKUP(L25,coureurs!$A$4:$Q$70,2,FALSE)),"",VLOOKUP(L25,coureurs!$A$4:$Q$70,2,FALSE)) -> BEAU9 | N25: =IF(ISNA(VLOOKUP(L25,coureurs!$A$4:$Q$70,3,FALSE)),"",VLOOKUP(L25,coureurs!$A$4:$Q$70,3,FALSE)) -> No9 | O25: =IF(ISNA(VLOOKUP(L25,coureurs!$A$4:$Q$70,9,FALSE)),"",VLOOKUP(L25,coureurs!$A$4:$Q$70,9,FALSE)) -> VELO CLUB LE TEILLEUL | P25: =IF(ISNA(VLOOKUP(L24,coureurs!$A$4:$Q$70,6,FALSE)),"",VLOOKUP(L24,coureurs!$A$4:$Q$70,6,FALSE)) -> U17 | Q25: =VLOOKUP(L25,$C$8:$J$42,8,FALSE) -> 0.031481481 | R25: =I25 -> 32 | S25: =Q25-Q$8 -> 0.027650463 | U25: {=IFERROR(INDEX($O$8:$O$25,SMALL(IF(COUNTIF($O$8:$O$25,$O$8:$O$25)>=$U$6,ROW($O$8:$O$25)-7),ROW(18:18))),"")} | W25: =IF(U25="","",COUNTIF(U$8:U25,U25))
A26: =A25+1 -> 19 | B26: =RANK($J26,J$8:J$48,1)+COUNTIF(J$8:J26,J26)-1 -> #N/A | D26: =IF(ISNA(VLOOKUP(C26,coureurs!$A$4:$I$70,2,FALSE)),"",VLOOKUP(C26,coureurs!$A$4:$I$70,2,FALSE)) | E26: =IF(ISNA(VLOOKUP(C26,coureurs!$A$4:$I$70,3,FALSE)),"",VLOOKUP(C26,coureurs!$A$4:$I$70,3,FALSE)) | F26: =IF(ISNA(VLOOKUP(C26,coureurs!$A$4:$I$70,9,FALSE)),"",VLOOKUP(C26,coureurs!$A$4:$I$70,9,FALSE)) | G26: 0.46944444 | K26: 19 | L26: =VLOOKUP(K26,B$8:J$58,2,FALSE) -> #N/A | M26: =IF(ISNA(VLOOKUP(L26,coureurs!$A$4:$Q$70,2,FALSE)),"",VLOOKUP(L26,coureurs!$A$4:$Q$70,2,FALSE)) | N26: =IF(ISNA(VLOOKUP(L26,coureurs!$A$4:$Q$70,3,FALSE)),"",VLOOKUP(L26,coureurs!$A$4:$Q$70,3,FALSE)) | O26: =IF(ISNA(VLOOKUP(L26,coureurs!$A$4:$Q$70,9,FALSE)),"",VLOOKUP(L26,coureurs!$A$4:$Q$70,9,FALSE)) | P26: =IF(ISNA(VLOOKUP(L25,coureurs!$A$4:$Q$70,6,FALSE)),"",VLOOKUP(L25,coureurs!$A$4:$Q$70,6,FALSE)) -> U17 | Q26: =VLOOKUP(L26,$C$8:$J$42,8,FALSE) -> #N/A | R26: =I26 -> 0 | S26: =Q26-Q$8 -> #N/A | U26: {=IFERROR(INDEX($O$8:$O$25,SMALL(IF(COUNTIF($O$8:$O$25,$O$8:$O$25)>=$U$6,ROW($O$8:$O$25)-7),ROW(19:19))),"")} | W26: =IF(U26="","",COUNTIF(U$8:U26,U26))
A27: =A26+1 -> 20 | B27: =RANK($J27,J$8:J$48,1)+COUNTIF(J$8:J27,J27)-1 -> #N/A | D27: =IF(ISNA(VLOOKUP(C27,coureurs!$A$4:$I$70,2,FALSE)),"",VLOOKUP(C27,coureurs!$A$4:$I$70,2,FALSE)) | E27: =IF(ISNA(VLOOKUP(C27,coureurs!$A$4:$I$70,3,FALSE)),"",VLOOKUP(C27,coureurs!$A$4:$I$70,3,FALSE)) | F27: =IF(ISNA(VLOOKUP(C27,coureurs!$A$4:$I$70,9,FALSE)),"",VLOOKUP(C27,coureurs!$A$4:$I$70,9,FALSE)) | G27: 0.47083333 | K27: 20 | L27: =VLOOKUP(K27,B$8:J$58,2,FALSE) -> #N/A | M27: =IF(ISNA(VLOOKUP(L27,coureurs!$A$4:$Q$70,2,FALSE)),"",VLOOKUP(L27,coureurs!$A$4:$Q$70,2,FALSE)) | N27: =IF(ISNA(VLOOKUP(L27,coureurs!$A$4:$Q$70,3,FALSE)),"",VLOOKUP(L27,coureurs!$A$4:$Q$70,3,FALSE)) | O27: =IF(ISNA(VLOOKUP(L27,coureurs!$A$4:$Q$70,9,FALSE)),"",VLOOKUP(L27,coureurs!$A$4:$Q$70,9,FALSE)) | P27: =IF(ISNA(VLOOKUP(L26,coureurs!$A$4:$Q$70,6,FALSE)),"",VLOOKUP(L26,coureurs!$A$4:$Q$70,6,FALSE)) | Q27: =VLOOKUP(L27,$C$8:$J$42,8,FALSE) -> #N/A | R27: =I27 -> 0 | S27: =Q27-Q$8 -> #N/A | U27: {=IFERROR(INDEX($O$8:$O$25,SMALL(IF(COUNTIF($O$8:$O$25,$O$8:$O$25)>=$U$6,ROW($O$8:$O$25)-7),ROW(20:20))),"")} | W27: =IF(U27="","",COUNTIF(U$8:U27,U27))
A28: =A27+1 -> 21 | B28: =RANK($J28,J$8:J$48,1)+COUNTIF(J$8:J28,J28)-1 -> #N/A | D28: =IF(ISNA(VLOOKUP(C28,coureurs!$A$4:$I$70,2,FALSE)),"",VLOOKUP(C28,coureurs!$A$4:$I$70,2,FALSE)) | E28: =IF(ISNA(VLOOKUP(C28,coureurs!$A$4:$I$70,3,FALSE)),"",VLOOKUP(C28,coureurs!$A$4:$I$70,3,FALSE)) | F28: =IF(ISNA(VLOOKUP(C28,coureurs!$A$4:$I$70,9,FALSE)),"",VLOOKUP(C28,coureurs!$A$4:$I$70,9,FALSE)) | G28: 0.47222222 | K28: 21 | L28: =VLOOKUP(K28,B$8:J$58,2,FALSE) -> #N/A | M28: =IF(ISNA(VLOOKUP(L28,coureurs!$A$4:$Q$70,2,FALSE)),"",VLOOKUP(L28,coureurs!$A$4:$Q$70,2,FALSE)) | N28: =IF(ISNA(VLOOKUP(L28,coureurs!$A$4:$Q$70,3,FALSE)),"",VLOOKUP(L28,coureurs!$A$4:$Q$70,3,FALSE)) | O28: =IF(ISNA(VLOOKUP(L28,coureurs!$A$4:$Q$70,9,FALSE)),"",VLOOKUP(L28,coureurs!$A$4:$Q$70,9,FALSE)) | P28: =IF(ISNA(VLOOKUP(L27,coureurs!$A$4:$Q$70,6,FALSE)),"",VLOOKUP(L27,coureurs!$A$4:$Q$70,6,FALSE)) | Q28: =VLOOKUP(L28,$C$8:$J$42,8,FALSE) -> #N/A | R28: =I28 -> 0 | S28: =Q28-Q$8 -> #N/A | U28: {=IFERROR(INDEX($O$8:$O$25,SMALL(IF(COUNTIF($O$8:$O$25,$O$8:$O$25)>=$U$6,ROW($O$8:$O$25)-7),ROW(21:21))),"")} | W28: =IF(U28="","",COUNTIF(U$8:U28,U28))
A29: =A28+1 -> 22 | B29: =RANK($J29,J$8:J$48,1)+COUNTIF(J$8:J29,J29)-1 -> #N/A | D29: =IF(ISNA(VLOOKUP(C29,coureurs!$A$4:$I$70,2,FALSE)),"",VLOOKUP(C29,coureurs!$A$4:$I$70,2,FALSE)) | E29: =IF(ISNA(VLOOKUP(C29,coureurs!$A$4:$I$70,3,FALSE)),"",VLOOKUP(C29,coureurs!$A$4:$I$70,3,FALSE)) | F29: =IF(ISNA(VLOOKUP(C29,coureurs!$A$4:$I$70,9,FALSE)),"",VLOOKUP(C29,coureurs!$A$4:$I$70,9,FALSE)) | K29: 22 | L29: =VLOOKUP(K29,B$8:J$58,2,FALSE) -> #N/A | M29: =IF(ISNA(VLOOKUP(L29,coureurs!$A$4:$Q$70,2,FALSE)),"",VLOOKUP(L29,coureurs!$A$4:$Q$70,2,FALSE)) | N29: =IF(ISNA(VLOOKUP(L29,coureurs!$A$4:$Q$70,3,FALSE)),"",VLOOKUP(L29,coureurs!$A$4:$Q$70,3,FALSE)) | O29: =IF(ISNA(VLOOKUP(L29,coureurs!$A$4:$Q$70,9,FALSE)),"",VLOOKUP(L29,coureurs!$A$4:$Q$70,9,FALSE)) | P29: =IF(ISNA(VLOOKUP(L28,coureurs!$A$4:$Q$70,6,FALSE)),"",VLOOKUP(L28,coureurs!$A$4:$Q$70,6,FALSE)) | Q29: =VLOOKUP(L29,$C$8:$J$42,8,FALSE) -> #N/A | R29: =I29 -> 0 | S29: =Q29-Q$8 -> #N/A | U29: {=IFERROR(INDEX($O$8:$O$25,SMALL(IF(COUNTIF($O$8:$O$25,$O$8:$O$25)>=$U$6,ROW($O$8:$O$25)-7),ROW(22:22))),"")} | W29: =IF(U29="","",COUNTIF(U$8:U29,U29))
A30: =A29+1 -> 23 | B30: =RANK($J30,J$8:J$48,1)+COUNTIF(J$8:J30,J30)-1 -> #N/A | D30: =IF(ISNA(VLOOKUP(C30,coureurs!$A$4:$I$70,2,FALSE)),"",VLOOKUP(C30,coureurs!$A$4:$I$70,2,FALSE)) | E30: =IF(ISNA(VLOOKUP(C30,coureurs!$A$4:$I$70,3,FALSE)),"",VLOOKUP(C30,coureurs!$A$4:$I$70,3,FALSE)) | F30: =IF(ISNA(VLOOKUP(C30,coureurs!$A$4:$I$70,9,FALSE)),"",VLOOKUP(C30,coureurs!$A$4:$I$70,9,FALSE)) | K30: 23 | L30: =VLOOKUP(K30,B$8:J$58,2,FALSE) -> #N/A | M30: =IF(ISNA(VLOOKUP(L30,coureurs!$A$4:$Q$70,2,FALSE)),"",VLOOKUP(L30,coureurs!$A$4:$Q$70,2,FALSE)) | N30: =IF(ISNA(VLOOKUP(L30,coureurs!$A$4:$Q$70,3,FALSE)),"",VLOOKUP(L30,coureurs!$A$4:$Q$70,3,FALSE)) | O30: =IF(ISNA(VLOOKUP(L30,coureurs!$A$4:$Q$70,9,FALSE)),"",VLOOKUP(L30,coureurs!$A$4:$Q$70,9,FALSE)) | P30: =IF(ISNA(VLOOKUP(L29,coureurs!$A$4:$Q$70,6,FALSE)),"",VLOOKUP(L29,coureurs!$A$4:$Q$70,6,FALSE)) | Q30: =VLOOKUP(L30,$C$8:$J$42,8,FALSE) -> #N/A | R30: =I30 -> 0 | S30: =Q30-Q$8 -> #N/A | U30: {=IFERROR(INDEX($O$8:$O$25,SMALL(IF(COUNTIF($O$8:$O$25,$O$8:$O$25)>=$U$6,ROW($O$8:$O$25)-7),ROW(23:23))),"")} | W30: =IF(U30="","",COUNTIF(U$8:U30,U30))
A31: =A30+1 -> 24 | B31: =RANK($J31,J$8:J$48,1)+COUNTIF(J$8:J31,J31)-1 -> #N/A | D31: =IF(ISNA(VLOOKUP(C31,coureurs!$A$4:$I$70,2,FALSE)),"",VLOOKUP(C31,coureurs!$A$4:$I$70,2,FALSE)) | E31: =IF(ISNA(VLOOKUP(C31,coureurs!$A$4:$I$70,3,FALSE)),"",VLOOKUP(C31,coureurs!$A$4:$I$70,3,FALSE)) | F31: =IF(ISNA(VLOOKUP(C31,coureurs!$A$4:$I$70,9,FALSE)),"",VLOOKUP(C31,coureurs!$A$4:$I$70,9,FALSE)) | K31: 24 | L31: =VLOOKUP(K31,B$8:J$58,2,FALSE) -> #N/A | M31: =IF(ISNA(VLOOKUP(L31,coureurs!$A$4:$Q$70,2,FALSE)),"",VLOOKUP(L31,coureurs!$A$4:$Q$70,2,FALSE)) | N31: =IF(ISNA(VLOOKUP(L31,coureurs!$A$4:$Q$70,3,FALSE)),"",VLOOKUP(L31,coureurs!$A$4:$Q$70,3,FALSE)) | O31: =IF(ISNA(VLOOKUP(L31,coureurs!$A$4:$Q$70,9,FALSE)),"",VLOOKUP(L31,coureurs!$A$4:$Q$70,9,FALSE)) | P31: =IF(ISNA(VLOOKUP(L30,coureurs!$A$4:$Q$70,6,FALSE)),"",VLOOKUP(L30,coureurs!$A$4:$Q$70,6,FALSE)) | Q31: =VLOOKUP(L31,$C$8:$J$42,8,FALSE) -> #N/A | R31: =I31 -> 0 | S31: =Q31-Q$8 -> #N/A | U31: {=IFERROR(INDEX($O$8:$O$25,SMALL(IF(COUNTIF($O$8:$O$25,$O$8:$O$25)>=$U$6,ROW($O$8:$O$25)-7),ROW(24:24))),"")} | W31: =IF(U31="","",COUNTIF(U$8:U31,U31))
A32: =A31+1 -> 25 | B32: =RANK($J32,J$8:J$48,1)+COUNTIF(J$8:J32,J32)-1 -> #N/A | D32: =IF(ISNA(VLOOKUP(C32,coureurs!$A$4:$I$70,2,FALSE)),"",VLOOKUP(C32,coureurs!$A$4:$I$70,2,FALSE)) | E32: =IF(ISNA(VLOOKUP(C32,coureurs!$A$4:$I$70,3,FALSE)),"",VLOOKUP(C32,coureurs!$A$4:$I$70,3,FALSE)) | F32: =IF(ISNA(VLOOKUP(C32,coureurs!$A$4:$I$70,9,FALSE)),"",VLOOKUP(C32,coureurs!$A$4:$I$70,9,FALSE)) | K32: 25 | L32: =VLOOKUP(K32,B$8:J$58,2,FALSE) -> #N/A | M32: =IF(ISNA(VLOOKUP(L32,coureurs!$A$4:$Q$70,2,FALSE)),"",VLOOKUP(L32,coureurs!$A$4:$Q$70,2,FALSE)) | N32: =IF(ISNA(VLOOKUP(L32,coureurs!$A$4:$Q$70,3,FALSE)),"",VLOOKUP(L32,coureurs!$A$4:$Q$70,3,FALSE)) | O32: =IF(ISNA(VLOOKUP(L32,coureurs!$A$4:$Q$70,9,FALSE)),"",VLOOKUP(L32,coureurs!$A$4:$Q$70,9,FALSE)) | P32: =IF(ISNA(VLOOKUP(L31,coureurs!$A$4:$Q$70,6,FALSE)),"",VLOOKUP(L31,coureurs!$A$4:$Q$70,6,FALSE)) | Q32: =VLOOKUP(L32,$C$8:$J$42,8,FALSE) -> #N/A | R32: =I32 -> 0 | S32: =Q32-Q$8 -> #N/A | U32: {=IFERROR(INDEX($O$8:$O$25,SMALL(IF(COUNTIF($O$8:$O$25,$O$8:$O$25)>=$U$6,ROW($O$8:$O$25)-7),ROW(25:25))),"")} | W32: =IF(U32="","",COUNTIF(U$8:U32,U32))
A33: =A32+1 -> 26 | B33: =RANK($J33,J$8:J$48,1)+COUNTIF(J$8:J33,J33)-1 -> #N/A | D33: =IF(ISNA(VLOOKUP(C33,coureurs!$A$4:$I$70,2,FALSE)),"",VLOOKUP(C33,coureurs!$A$4:$I$70,2,FALSE)) | E33: =IF(ISNA(VLOOKUP(C33,coureurs!$A$4:$I$70,3,FALSE)),"",VLOOKUP(C33,coureurs!$A$4:$I$70,3,FALSE)) | F33: =IF(ISNA(VLOOKUP(C33,coureurs!$A$4:$I$70,9,FALSE)),"",VLOOKUP(C33,coureurs!$A$4:$I$70,9,FALSE)) | K33: 26 | L33: =VLOOKUP(K33,B$8:J$58,2,FALSE) -> #N/A | M33: =IF(ISNA(VLOOKUP(L33,coureurs!$A$4:$Q$70,2,FALSE)),"",VLOOKUP(L33,coureurs!$A$4:$Q$70,2,FALSE)) | N33: =IF(ISNA(VLOOKUP(L33,coureurs!$A$4:$Q$70,3,FALSE)),"",VLOOKUP(L33,coureurs!$A$4:$Q$70,3,FALSE)) | O33: =IF(ISNA(VLOOKUP(L33,coureurs!$A$4:$Q$70,9,FALSE)),"",VLOOKUP(L33,coureurs!$A$4:$Q$70,9,FALSE)) | P33: =IF(ISNA(VLOOKUP(L32,coureurs!$A$4:$Q$70,6,FALSE)),"",VLOOKUP(L32,coureurs!$A$4:$Q$70,6,FALSE)) | Q33: =VLOOKUP(L33,$C$8:$J$42,8,FALSE) -> #N/A | R33: =I33 -> 0 | S33: =Q33-Q$8 -> #N/A | U33: {=IFERROR(INDEX($O$8:$O$25,SMALL(IF(COUNTIF($O$8:$O$25,$O$8:$O$25)>=$U$6,ROW($O$8:$O$25)-7),ROW(26:26))),"")} | W33: =IF(U33="","",COUNTIF(U$8:U33,U33))
A34: =A33+1 -> 27 | B34: =RANK($J34,J$8:J$48,1)+COUNTIF(J$8:J34,J34)-1 -> #N/A | D34: =IF(ISNA(VLOOKUP(C34,coureurs!$A$4:$I$70,2,FALSE)),"",VLOOKUP(C34,coureurs!$A$4:$I$70,2,FALSE)) | E34: =IF(ISNA(VLOOKUP(C34,coureurs!$A$4:$I$70,3,FALSE)),"",VLOOKUP(C34,coureurs!$A$4:$I$70,3,FALSE)) | F34: =IF(ISNA(VLOOKUP(C34,coureurs!$A$4:$I$70,9,FALSE)),"",VLOOKUP(C34,coureurs!$A$4:$I$70,9,FALSE)) | K34: 27 | L34: =VLOOKUP(K34,B$8:J$58,2,FALSE) -> #N/A | M34: =IF(ISNA(VLOOKUP(L34,coureurs!$A$4:$Q$70,2,FALSE)),"",VLOOKUP(L34,coureurs!$A$4:$Q$70,2,FALSE)) | N34: =IF(ISNA(VLOOKUP(L34,coureurs!$A$4:$Q$70,3,FALSE)),"",VLOOKUP(L34,coureurs!$A$4:$Q$70,3,FALSE)) | O34: =IF(ISNA(VLOOKUP(L34,coureurs!$A$4:$Q$70,9,FALSE)),"",VLOOKUP(L34,coureurs!$A$4:$Q$70,9,FALSE)) | P34: =IF(ISNA(VLOOKUP(L33,coureurs!$A$4:$Q$70,6,FALSE)),"",VLOOKUP(L33,coureurs!$A$4:$Q$70,6,FALSE)) | Q34: =VLOOKUP(L34,$C$8:$J$42,8,FALSE) -> #N/A | R34: =I34 -> 0 | S34: =Q34-Q$8 -> #N/A | U34: {=IFERROR(INDEX($O$8:$O$25,SMALL(IF(COUNTIF($O$8:$O$25,$O$8:$O$25)>=$U$6,ROW($O$8:$O$25)-7),ROW(27:27))),"")} | W34: =IF(U34="","",COUNTIF(U$8:U34,U34))
A35: =A34+1 -> 28 | B35: =RANK($J35,J$8:J$48,1)+COUNTIF(J$8:J35,J35)-1 -> #N/A | D35: =IF(ISNA(VLOOKUP(C35,coureurs!$A$4:$I$70,2,FALSE)),"",VLOOKUP(C35,coureurs!$A$4:$I$70,2,FALSE)) | E35: =IF(ISNA(VLOOKUP(C35,coureurs!$A$4:$I$70,3,FALSE)),"",VLOOKUP(C35,coureurs!$A$4:$I$70,3,FALSE)) | F35: =IF(ISNA(VLOOKUP(C35,coureurs!$A$4:$I$70,9,FALSE)),"",VLOOKUP(C35,coureurs!$A$4:$I$70,9,FALSE)) | K35: 28 | L35: =VLOOKUP(K35,B$8:J$58,2,FALSE) -> #N/A | M35: =IF(ISNA(VLOOKUP(L35,coureurs!$A$4:$Q$70,2,FALSE)),"",VLOOKUP(L35,coureurs!$A$4:$Q$70,2,FALSE)) | N35: =IF(ISNA(VLOOKUP(L35,coureurs!$A$4:$Q$70,3,FALSE)),"",VLOOKUP(L35,coureurs!$A$4:$Q$70,3,FALSE)) | O35: =IF(ISNA(VLOOKUP(L35,coureurs!$A$4:$Q$70,9,FALSE)),"",VLOOKUP(L35,coureurs!$A$4:$Q$70,9,FALSE)) | P35: =IF(ISNA(VLOOKUP(L34,coureurs!$A$4:$Q$70,6,FALSE)),"",VLOOKUP(L34,coureurs!$A$4:$Q$70,6,FALSE)) | Q35: =VLOOKUP(L35,$C$8:$J$42,8,FALSE) -> #N/A | R35: =I35 -> 0 | S35: =Q35-Q$8 -> #N/A | U35: {=IFERROR(INDEX($O$8:$O$25,SMALL(IF(COUNTIF($O$8:$O$25,$O$8:$O$25)>=$U$6,ROW($O$8:$O$25)-7),ROW(28:28))),"")} | W35: =IF(U35="","",COUNTIF(U$8:U35,U35))
A36: =A35+1 -> 29 | B36: =RANK($J36,J$8:J$48,1)+COUNTIF(J$8:J36,J36)-1 -> #N/A | D36: =IF(ISNA(VLOOKUP(C36,coureurs!$A$4:$I$70,2,FALSE)),"",VLOOKUP(C36,coureurs!$A$4:$I$70,2,FALSE)) | E36: =IF(ISNA(VLOOKUP(C36,coureurs!$A$4:$I$70,3,FALSE)),"",VLOOKUP(C36,coureurs!$A$4:$I$70,3,FALSE)) | F36: =IF(ISNA(VLOOKUP(C36,coureurs!$A$4:$I$70,9,FALSE)),"",VLOOKUP(C36,coureurs!$A$4:$I$70,9,FALSE)) | K36: 29 | L36: =VLOOKUP(K36,B$8:J$58,2,FALSE) -> #N/A | M36: =IF(ISNA(VLOOKUP(L36,coureurs!$A$4:$Q$70,2,FALSE)),"",VLOOKUP(L36,coureurs!$A$4:$Q$70,2,FALSE)) | N36: =IF(ISNA(VLOOKUP(L36,coureurs!$A$4:$Q$70,3,FALSE)),"",VLOOKUP(L36,coureurs!$A$4:$Q$70,3,FALSE)) | O36: =IF(ISNA(VLOOKUP(L36,coureurs!$A$4:$Q$70,9,FALSE)),"",VLOOKUP(L36,coureurs!$A$4:$Q$70,9,FALSE)) | P36: =IF(ISNA(VLOOKUP(L35,coureurs!$A$4:$Q$70,6,FALSE)),"",VLOOKUP(L35,coureurs!$A$4:$Q$70,6,FALSE)) | Q36: =VLOOKUP(L36,$C$8:$J$42,8,FALSE) -> #N/A | R36: =I36 -> 0 | S36: =Q36-Q$8 -> #N/A | U36: {=IFERROR(INDEX($O$8:$O$25,SMALL(IF(COUNTIF($O$8:$O$25,$O$8:$O$25)>=$U$6,ROW($O$8:$O$25)-7),ROW(29:29))),"")} | W36: =IF(U36="","",COUNTIF(U$8:U36,U36))
A37: =A36+1 -> 30 | B37: =RANK($J37,J$8:J$48,1)+COUNTIF(J$8:J37,J37)-1 -> #N/A | D37: =IF(ISNA(VLOOKUP(C37,coureurs!$A$4:$I$70,2,FALSE)),"",VLOOKUP(C37,coureurs!$A$4:$I$70,2,FALSE)) | E37: =IF(ISNA(VLOOKUP(C37,coureurs!$A$4:$I$70,3,FALSE)),"",VLOOKUP(C37,coureurs!$A$4:$I$70,3,FALSE)) | F37: =IF(ISNA(VLOOKUP(C37,coureurs!$A$4:$I$70,9,FALSE)),"",VLOOKUP(C37,coureurs!$A$4:$I$70,9,FALSE)) | K37: 30 | L37: =VLOOKUP(K37,B$8:J$58,2,FALSE) -> #N/A | M37: =IF(ISNA(VLOOKUP(L37,coureurs!$A$4:$Q$70,2,FALSE)),"",VLOOKUP(L37,coureurs!$A$4:$Q$70,2,FALSE)) | N37: =IF(ISNA(VLOOKUP(L37,coureurs!$A$4:$Q$70,3,FALSE)),"",VLOOKUP(L37,coureurs!$A$4:$Q$70,3,FALSE)) | O37: =IF(ISNA(VLOOKUP(L37,coureurs!$A$4:$Q$70,9,FALSE)),"",VLOOKUP(L37,coureurs!$A$4:$Q$70,9,FALSE)) | P37: =IF(ISNA(VLOOKUP(L36,coureurs!$A$4:$Q$70,6,FALSE)),"",VLOOKUP(L36,coureurs!$A$4:$Q$70,6,FALSE)) | Q37: =VLOOKUP(L37,$C$8:$J$42,8,FALSE) -> #N/A | R37: =I37 -> 0 | S37: =Q37-Q$8 -> #N/A | U37: {=IFERROR(INDEX($O$8:$O$25,SMALL(IF(COUNTIF($O$8:$O$25,$O$8:$O$25)>=$U$6,ROW($O$8:$O$25)-7),ROW(30:30))),"")} | W37: =IF(U37="","",COUNTIF(U$8:U37,U37))
A38: =A37+1 -> 31 | B38: =RANK($J38,J$8:J$48,1)+COUNTIF(J$8:J38,J38)-1 -> #N/A | D38: =IF(ISNA(VLOOKUP(C38,coureurs!$A$4:$I$70,2,FALSE)),"",VLOOKUP(C38,coureurs!$A$4:$I$70,2,FALSE)) | E38: =IF(ISNA(VLOOKUP(C38,coureurs!$A$4:$I$70,3,FALSE)),"",VLOOKUP(C38,coureurs!$A$4:$I$70,3,FALSE)) | F38: =IF(ISNA(VLOOKUP(C38,coureurs!$A$4:$I$70,9,FALSE)),"",VLOOKUP(C38,coureurs!$A$4:$I$70,9,FALSE)) | K38: 31 | L38: =VLOOKUP(K38,B$8:J$58,2,FALSE) -> #N/A | M38: =IF(ISNA(VLOOKUP(L38,coureurs!$A$4:$Q$70,2,FALSE)),"",VLOOKUP(L38,coureurs!$A$4:$Q$70,2,FALSE)) | N38: =IF(ISNA(VLOOKUP(L38,coureurs!$A$4:$Q$70,3,FALSE)),"",VLOOKUP(L38,coureurs!$A$4:$Q$70,3,FALSE)) | O38: =IF(ISNA(VLOOKUP(L38,coureurs!$A$4:$Q$70,9,FALSE)),"",VLOOKUP(L38,coureurs!$A$4:$Q$70,9,FALSE)) | P38: =IF(ISNA(VLOOKUP(L37,coureurs!$A$4:$Q$70,6,FALSE)),"",VLOOKUP(L37,coureurs!$A$4:$Q$70,6,FALSE)) | Q38: =VLOOKUP(L38,$C$8:$J$42,8,FALSE) -> #N/A | R38: =I38 -> 0 | S38: =Q38-Q$8 -> #N/A | U38: {=IFERROR(INDEX($O$8:$O$25,SMALL(IF(COUNTIF($O$8:$O$25,$O$8:$O$25)>=$U$6,ROW($O$8:$O$25)-7),ROW(31:31))),"")} | W38: =IF(U38="","",COUNTIF(U$8:U38,U38))
A39: =A38+1 -> 32 | B39: =RANK($J39,J$8:J$48,1)+COUNTIF(J$8:J39,J39)-1 -> #N/A | D39: =IF(ISNA(VLOOKUP(C39,coureurs!$A$4:$I$70,2,FALSE)),"",VLOOKUP(C39,coureurs!$A$4:$I$70,2,FALSE)) | E39: =IF(ISNA(VLOOKUP(C39,coureurs!$A$4:$I$70,3,FALSE)),"",VLOOKUP(C39,coureurs!$A$4:$I$70,3,FALSE)) | F39: =IF(ISNA(VLOOKUP(C39,coureurs!$A$4:$I$70,9,FALSE)),"",VLOOKUP(C39,coureurs!$A$4:$I$70,9,FALSE)) | K39: 32 | L39: =VLOOKUP(K39,B$8:J$58,2,FALSE) -> #N/A | M39: =IF(ISNA(VLOOKUP(L39,coureurs!$A$4:$Q$70,2,FALSE)),"",VLOOKUP(L39,coureurs!$A$4:$Q$70,2,FALSE)) | N39: =IF(ISNA(VLOOKUP(L39,coureurs!$A$4:$Q$70,3,FALSE)),"",VLOOKUP(L39,coureurs!$A$4:$Q$70,3,FALSE)) | O39: =IF(ISNA(VLOOKUP(L39,coureurs!$A$4:$Q$70,9,FALSE)),"",VLOOKUP(L39,coureurs!$A$4:$Q$70,9,FALSE)) | P39: =IF(ISNA(VLOOKUP(L38,coureurs!$A$4:$Q$70,6,FALSE)),"",VLOOKUP(L38,coureurs!$A$4:$Q$70,6,FALSE)) | Q39: =VLOOKUP(L39,$C$8:$J$42,8,FALSE) -> #N/A | R39: =I39 -> 0 | S39: =Q39-Q$8 -> #N/A | U39: {=IFERROR(INDEX($O$8:$O$25,SMALL(IF(COUNTIF($O$8:$O$25,$O$8:$O$25)>=$U$6,ROW($O$8:$O$25)-7),ROW(32:32))),"")} | W39: =IF(U39="","",COUNTIF(U$8:U39,U39))
A40: =A39+1 -> 33 | B40: =RANK($J40,J$8:J$48,1)+COUNTIF(J$8:J40,J40)-1 -> #N/A | D40: =IF(ISNA(VLOOKUP(C40,coureurs!$A$4:$I$70,2,FALSE)),"",VLOOKUP(C40,coureurs!$A$4:$I$70,2,FALSE)) | E40: =IF(ISNA(VLOOKUP(C40,coureurs!$A$4:$I$70,3,FALSE)),"",VLOOKUP(C40,coureurs!$A$4:$I$70,3,FALSE)) | F40: =IF(ISNA(VLOOKUP(C40,coureurs!$A$4:$I$70,9,FALSE)),"",VLOOKUP(C40,coureurs!$A$4:$I$70,9,FALSE)) | K40: 33 | L40: =VLOOKUP(K40,B$8:J$58,2,FALSE) -> #N/A | M40: =IF(ISNA(VLOOKUP(L40,coureurs!$A$4:$Q$70,2,FALSE)),"",VLOOKUP(L40,coureurs!$A$4:$Q$70,2,FALSE)) | N40: =IF(ISNA(VLOOKUP(L40,coureurs!$A$4:$Q$70,3,FALSE)),"",VLOOKUP(L40,coureurs!$A$4:$Q$70,3,FALSE)) | O40: =IF(ISNA(VLOOKUP(L40,coureurs!$A$4:$Q$70,9,FALSE)),"",VLOOKUP(L40,coureurs!$A$4:$Q$70,9,FALSE)) | P40: =IF(ISNA(VLOOKUP(L39,coureurs!$A$4:$Q$70,6,FALSE)),"",VLOOKUP(L39,coureurs!$A$4:$Q$70,6,FALSE)) | Q40: =VLOOKUP(L40,$C$8:$J$42,8,FALSE) -> #N/A | R40: =I40 -> 0 | S40: =Q40-Q$8 -> #N/A | U40: {=IFERROR(INDEX($O$8:$O$25,SMALL(IF(COUNTIF($O$8:$O$25,$O$8:$O$25)>=$U$6,ROW($O$8:$O$25)-7),ROW(33:33))),"")} | W40: =IF(U40="","",COUNTIF(U$8:U40,U40))
A41: =A40+1 -> 34 | B41: =RANK($J41,J$8:J$48,1)+COUNTIF(J$8:J41,J41)-1 -> #N/A | D41: =IF(ISNA(VLOOKUP(C41,coureurs!$A$4:$I$70,2,FALSE)),"",VLOOKUP(C41,coureurs!$A$4:$I$70,2,FALSE)) | E41: =IF(ISNA(VLOOKUP(C41,coureurs!$A$4:$I$70,3,FALSE)),"",VLOOKUP(C41,coureurs!$A$4:$I$70,3,FALSE)) | F41: =IF(ISNA(VLOOKUP(C41,coureurs!$A$4:$I$70,9,FALSE)),"",VLOOKUP(C41,coureurs!$A$4:$I$70,9,FALSE)) | K41: 34 | L41: =VLOOKUP(K41,B$8:J$58,2,FALSE) -> #N/A | M41: =IF(ISNA(VLOOKUP(L41,coureurs!$A$4:$Q$70,2,FALSE)),"",VLOOKUP(L41,coureurs!$A$4:$Q$70,2,FALSE)) | N41: =IF(ISNA(VLOOKUP(L41,coureurs!$A$4:$Q$70,3,FALSE)),"",VLOOKUP(L41,coureurs!$A$4:$Q$70,3,FALSE)) | O41: =IF(ISNA(VLOOKUP(L41,coureurs!$A$4:$Q$70,9,FALSE)),"",VLOOKUP(L41,coureurs!$A$4:$Q$70,9,FALSE)) | P41: =IF(ISNA(VLOOKUP(L40,coureurs!$A$4:$Q$70,6,FALSE)),"",VLOOKUP(L40,coureurs!$A$4:$Q$70,6,FALSE)) | Q41: =VLOOKUP(L41,$C$8:$J$42,8,FALSE) -> #N/A | R41: =I41 -> 0 | S41: =Q41-Q$8 -> #N/A | U41: {=IFERROR(INDEX($O$8:$O$25,SMALL(IF(COUNTIF($O$8:$O$25,$O$8:$O$25)>=$U$6,ROW($O$8:$O$25)-7),ROW(34:34))),"")} | W41: =IF(U41="","",COUNTIF(U$8:U41,U41))
A42: =A41+1 -> 35 | B42: =RANK($J42,J$8:J$48,1)+COUNTIF(J$8:J42,J42)-1 -> #N/A | D42: =IF(ISNA(VLOOKUP(C42,coureurs!$A$4:$I$70,2,FALSE)),"",VLOOKUP(C42,coureurs!$A$4:$I$70,2,FALSE)) | E42: =IF(ISNA(VLOOKUP(C42,coureurs!$A$4:$I$70,3,FALSE)),"",VLOOKUP(C42,coureurs!$A$4:$I$70,3,FALSE)) | F42: =IF(ISNA(VLOOKUP(C42,coureurs!$A$4:$I$70,9,FALSE)),"",VLOOKUP(C42,coureurs!$A$4:$I$70,9,FALSE)) | K42: 35 | L42: =VLOOKUP(K42,B$8:J$58,2,FALSE) -> #N/A | M42: =IF(ISNA(VLOOKUP(L42,coureurs!$A$4:$Q$70,2,FALSE)),"",VLOOKUP(L42,coureurs!$A$4:$Q$70,2,FALSE)) | N42: =IF(ISNA(VLOOKUP(L42,coureurs!$A$4:$Q$70,3,FALSE)),"",VLOOKUP(L42,coureurs!$A$4:$Q$70,3,FALSE)) | O42: =IF(ISNA(VLOOKUP(L42,coureurs!$A$4:$Q$70,9,FALSE)),"",VLOOKUP(L42,coureurs!$A$4:$Q$70,9,FALSE)) | P42: =IF(ISNA(VLOOKUP(L41,coureurs!$A$4:$Q$70,6,FALSE)),"",VLOOKUP(L41,coureurs!$A$4:$Q$70,6,FALSE)) | Q42: =VLOOKUP(L42,$C$8:$J$42,8,FALSE) -> #N/A | R42: =I42 -> 0 | S42: =Q42-Q$8 -> #N/A | U42: {=IFERROR(INDEX($O$8:$O$25,SMALL(IF(COUNTIF($O$8:$O$25,$O$8:$O$25)>=$U$6,ROW($O$8:$O$25)-7),ROW(35:35))),"")} | W42: =IF(U42="","",COUNTIF(U$8:U42,U42))
A43: 36 | D43: =IF(ISNA(VLOOKUP(C43,coureurs!$A$4:$I$70,2,FALSE)),"",VLOOKUP(C43,coureurs!$A$4:$I$70,2,FALSE)) | E43: =IF(ISNA(VLOOKUP(C43,coureurs!$A$4:$I$70,3,FALSE)),"",VLOOKUP(C43,coureurs!$A$4:$I$70,3,FALSE)) | F43: =IF(ISNA(VLOOKUP(C43,coureurs!$A$4:$I$70,9,FALSE)),"",VLOOKUP(C43,coureurs!$A$4:$I$70,9,FALSE)) | K43: 36 | L43: =VLOOKUP(K43,B$8:J$58,2,FALSE) -> #N/A | M43: =IF(ISNA(VLOOKUP(L43,coureurs!$A$4:$Q$70,2,FALSE)),"",VLOOKUP(L43,coureurs!$A$4:$Q$70,2,FALSE)) | N43: =IF(ISNA(VLOOKUP(L43,coureurs!$A$4:$Q$70,3,FALSE)),"",VLOOKUP(L43,coureurs!$A$4:$Q$70,3,FALSE)) | O43: =IF(ISNA(VLOOKUP(L43,coureurs!$A$4:$Q$70,9,FALSE)),"",VLOOKUP(L43,coureurs!$A$4:$Q$70,9,FALSE)) | P43: =IF(ISNA(VLOOKUP(L42,coureurs!$A$4:$Q$70,6,FALSE)),"",VLOOKUP(L42,coureurs!$A$4:$Q$70,6,FALSE)) | Q43: =VLOOKUP(L43,$C$8:$J$42,8,FALSE) -> #N/A | R43: =I43 -> 0 | S43: =Q43-Q$8 -> #N/A | U43: {=IFERROR(INDEX($O$8:$O$25,SMALL(IF(COUNTIF($O$8:$O$25,$O$8:$O$25)>=$U$6,ROW($O$8:$O$25)-7),ROW(36:36))),"")} | W43: =IF(U43="","",COUNTIF(U$8:U43,U43))
A44: 37 | D44: =IF(ISNA(VLOOKUP(C44,coureurs!$A$4:$I$70,2,FALSE)),"",VLOOKUP(C44,coureurs!$A$4:$I$70,2,FALSE)) | E44: =IF(ISNA(VLOOKUP(C44,coureurs!$A$4:$I$70,3,FALSE)),"",VLOOKUP(C44,coureurs!$A$4:$I$70,3,FALSE)) | F44: =IF(ISNA(VLOOKUP(C44,coureurs!$A$4:$I$70,9,FALSE)),"",VLOOKUP(C44,coureurs!$A$4:$I$70,9,FALSE)) | K44: 37 | L44: =VLOOKUP(K44,B$8:J$58,2,FALSE) -> #N/A | M44: =IF(ISNA(VLOOKUP(L44,coureurs!$A$4:$Q$70,2,FALSE)),"",VLOOKUP(L44,coureurs!$A$4:$Q$70,2,FALSE)) | N44: =IF(ISNA(VLOOKUP(L44,coureurs!$A$4:$Q$70,3,FALSE)),"",VLOOKUP(L44,coureurs!$A$4:$Q$70,3,FALSE)) | O44: =IF(ISNA(VLOOKUP(L44,coureurs!$A$4:$Q$70,9,FALSE)),"",VLOOKUP(L44,coureurs!$A$4:$Q$70,9,FALSE)) | P44: =IF(ISNA(VLOOKUP(L43,coureurs!$A$4:$Q$70,6,FALSE)),"",VLOOKUP(L43,coureurs!$A$4:$Q$70,6,FALSE)) | Q44: =VLOOKUP(L44,$C$8:$J$42,8,FALSE) -> #N/A | R44: =I44 -> 0 | S44: =Q44-Q$8 -> #N/A | U44: {=IFERROR(INDEX($O$8:$O$25,SMALL(IF(COUNTIF($O$8:$O$25,$O$8:$O$25)>=$U$6,ROW($O$8:$O$25)-7),ROW(37:37))),"")} | W44: =IF(U44="","",COUNTIF(U$8:U44,U44))
A45: 38 | D45: =IF(ISNA(VLOOKUP(C45,coureurs!$A$4:$I$70,2,FALSE)),"",VLOOKUP(C45,coureurs!$A$4:$I$70,2,FALSE)) | E45: =IF(ISNA(VLOOKUP(C45,coureurs!$A$4:$I$70,3,FALSE)),"",VLOOKUP(C45,coureurs!$A$4:$I$70,3,FALSE)) | F45: =IF(ISNA(VLOOKUP(C45,coureurs!$A$4:$I$70,9,FALSE)),"",VLOOKUP(C45,coureurs!$A$4:$I$70,9,FALSE)) | K45: 38 | L45: =VLOOKUP(K45,B$8:J$58,2,FALSE) -> #N/A | M45: =IF(ISNA(VLOOKUP(L45,coureurs!$A$4:$Q$70,2,FALSE)),"",VLOOKUP(L45,coureurs!$A$4:$Q$70,2,FALSE)) | N45: =IF(ISNA(VLOOKUP(L45,coureurs!$A$4:$Q$70,3,FALSE)),"",VLOOKUP(L45,coureurs!$A$4:$Q$70,3,FALSE)) | O45: =IF(ISNA(VLOOKUP(L45,coureurs!$A$4:$Q$70,9,FALSE)),"",VLOOKUP(L45,coureurs!$A$4:$Q$70,9,FALSE)) | P45: =IF(ISNA(VLOOKUP(L44,coureurs!$A$4:$Q$70,6,FALSE)),"",VLOOKUP(L44,coureurs!$A$4:$Q$70,6,FALSE)) | Q45: =VLOOKUP(L45,$C$8:$J$42,8,FALSE) -> #N/A | R45: =I45 -> 0 | S45: =Q45-Q$8 -> #N/A | U45: {=IFERROR(INDEX($O$8:$O$25,SMALL(IF(COUNTIF($O$8:$O$25,$O$8:$O$25)>=$U$6,ROW($O$8:$O$25)-7),ROW(38:38))),"")} | W45: =IF(U45="","",COUNTIF(U$8:U45,U45))
A46: 39 | D46: =IF(ISNA(VLOOKUP(C46,coureurs!$A$4:$I$70,2,FALSE)),"",VLOOKUP(C46,coureurs!$A$4:$I$70,2,FALSE)) | E46: =IF(ISNA(VLOOKUP(C46,coureurs!$A$4:$I$70,3,FALSE)),"",VLOOKUP(C46,coureurs!$A$4:$I$70,3,FALSE)) | F46: =IF(ISNA(VLOOKUP(C46,coureurs!$A$4:$I$70,9,FALSE)),"",VLOOKUP(C46,coureurs!$A$4:$I$70,9,FALSE)) | K46: 39 | L46: =VLOOKUP(K46,B$8:J$58,2,FALSE) -> #N/A | M46: =IF(ISNA(VLOOKUP(L46,coureurs!$A$4:$Q$70,2,FALSE)),"",VLOOKUP(L46,coureurs!$A$4:$Q$70,2,FALSE)) | N46: =IF(ISNA(VLOOKUP(L46,coureurs!$A$4:$Q$70,3,FALSE)),"",VLOOKUP(L46,coureurs!$A$4:$Q$70,3,FALSE)) | O46: =IF(ISNA(VLOOKUP(L46,coureurs!$A$4:$Q$70,9,FALSE)),"",VLOOKUP(L46,coureurs!$A$4:$Q$70,9,FALSE)) | P46: =IF(ISNA(VLOOKUP(L45,coureurs!$A$4:$Q$70,6,FALSE)),"",VLOOKUP(L45,coureurs!$A$4:$Q$70,6,FALSE)) | Q46: =VLOOKUP(L46,$C$8:$J$42,8,FALSE) -> #N/A | R46: =I46 -> 0 | S46: =Q46-Q$8 -> #N/A | U46: {=IFERROR(INDEX($O$8:$O$25,SMALL(IF(COUNTIF($O$8:$O$25,$O$8:$O$25)>=$U$6,ROW($O$8:$O$25)-7),ROW(39:39))),"")} | W46: =IF(U46="","",COUNTIF(U$8:U46,U46))
A47: 40 | D47: =IF(ISNA(VLOOKUP(C47,coureurs!$A$4:$I$70,2,FALSE)),"",VLOOKUP(C47,coureurs!$A$4:$I$70,2,FALSE)) | E47: =IF(ISNA(VLOOKUP(C47,coureurs!$A$4:$I$70,3,FALSE)),"",VLOOKUP(C47,coureurs!$A$4:$I$70,3,FALSE)) | F47: =IF(ISNA(VLOOKUP(C47,coureurs!$A$4:$I$70,9,FALSE)),"",VLOOKUP(C47,coureurs!$A$4:$I$70,9,FALSE)) | K47: 40 | L47: =VLOOKUP(K47,B$8:J$58,2,FALSE) -> #N/A | M47: =IF(ISNA(VLOOKUP(L47,coureurs!$A$4:$Q$70,2,FALSE)),"",VLOOKUP(L47,coureurs!$A$4:$Q$70,2,FALSE)) | N47: =IF(ISNA(VLOOKUP(L47,coureurs!$A$4:$Q$70,3,FALSE)),"",VLOOKUP(L47,coureurs!$A$4:$Q$70,3,FALSE)) | O47: =IF(ISNA(VLOOKUP(L47,coureurs!$A$4:$Q$70,9,FALSE)),"",VLOOKUP(L47,coureurs!$A$4:$Q$70,9,FALSE)) | P47: =IF(ISNA(VLOOKUP(L46,coureurs!$A$4:$Q$70,6,FALSE)),"",VLOOKUP(L46,coureurs!$A$4:$Q$70,6,FALSE)) | Q47: =VLOOKUP(L47,$C$8:$J$42,8,FALSE) -> #N/A | R47: =I47 -> 0 | S47: =Q47-Q$8 -> #N/A | U47: {=IFERROR(INDEX($O$8:$O$25,SMALL(IF(COUNTIF($O$8:$O$25,$O$8:$O$25)>=$U$6,ROW($O$8:$O$25)-7),ROW(40:40))),"")} | W47: =IF(U47="","",COUNTIF(U$8:U47,U47))
A48: 41 | D48: =IF(ISNA(VLOOKUP(C48,coureurs!$A$4:$I$70,2,FALSE)),"",VLOOKUP(C48,coureurs!$A$4:$I$70,2,FALSE)) | E48: =IF(ISNA(VLOOKUP(C48,coureurs!$A$4:$I$70,3,FALSE)),"",VLOOKUP(C48,coureurs!$A$4:$I$70,3,FALSE)) | F48: =IF(ISNA(VLOOKUP(C48,coureurs!$A$4:$I$70,9,FALSE)),"",VLOOKUP(C48,coureurs!$A$4:$I$70,9,FALSE)) | K48: 41 | L48: =VLOOKUP(K48,B$8:J$58,2,FALSE) -> #N/A | M48: =IF(ISNA(VLOOKUP(L48,coureurs!$A$4:$Q$70,2,FALSE)),"",VLOOKUP(L48,coureurs!$A$4:$Q$70,2,FALSE)) | N48: =IF(ISNA(VLOOKUP(L48,coureurs!$A$4:$Q$70,3,FALSE)),"",VLOOKUP(L48,coureurs!$A$4:$Q$70,3,FALSE)) | O48: =IF(ISNA(VLOOKUP(L48,coureurs!$A$4:$Q$70,9,FALSE)),"",VLOOKUP(L48,coureurs!$A$4:$Q$70,9,FALSE)) | P48: =IF(ISNA(VLOOKUP(L47,coureurs!$A$4:$Q$70,6,FALSE)),"",VLOOKUP(L47,coureurs!$A$4:$Q$70,6,FALSE)) | Q48: =VLOOKUP(L48,$C$8:$J$42,8,FALSE) -> #N/A | R48: =I48 -> 0 | S48: =Q48-Q$8 -> #N/A | U48: {=IFERROR(INDEX($O$8:$O$25,SMALL(IF(COUNTIF($O$8:$O$25,$O$8:$O$25)>=$U$6,ROW($O$8:$O$25)-7),ROW(41:41))),"")} | W48: =IF(U48="","",COUNTIF(U$8:U48,U48))
A49: 42 | D49: =IF(ISNA(VLOOKUP(C49,coureurs!$A$4:$I$70,2,FALSE)),"",VLOOKUP(C49,coureurs!$A$4:$I$70,2,FALSE)) | E49: =IF(ISNA(VLOOKUP(C49,coureurs!$A$4:$I$70,3,FALSE)),"",VLOOKUP(C49,coureurs!$A$4:$I$70,3,FALSE)) | F49: =IF(ISNA(VLOOKUP(C49,coureurs!$A$4:$I$70,9,FALSE)),"",VLOOKUP(C49,coureurs!$A$4:$I$70,9,FALSE)) | K49: 42 | L49: =VLOOKUP(K49,B$8:J$58,2,FALSE) -> #N/A | M49: =IF(ISNA(VLOOKUP(L49,coureurs!$A$4:$Q$70,2,FALSE)),"",VLOOKUP(L49,coureurs!$A$4:$Q$70,2,FALSE)) | N49: =IF(ISNA(VLOOKUP(L49,coureurs!$A$4:$Q$70,3,FALSE)),"",VLOOKUP(L49,coureurs!$A$4:$Q$70,3,FALSE)) | O49: =IF(ISNA(VLOOKUP(L49,coureurs!$A$4:$Q$70,9,FALSE)),"",VLOOKUP(L49,coureurs!$A$4:$Q$70,9,FALSE)) | P49: =IF(ISNA(VLOOKUP(L48,coureurs!$A$4:$Q$70,6,FALSE)),"",VLOOKUP(L48,coureurs!$A$4:$Q$70,6,FALSE)) | Q49: =VLOOKUP(L49,$C$8:$J$42,8,FALSE) -> #N/A | R49: =I49 -> 0 | S49: =Q49-Q$8 -> #N/A | U49: {=IFERROR(INDEX($O$8:$O$25,SMALL(IF(COUNTIF($O$8:$O$25,$O$8:$O$25)>=$U$6,ROW($O$8:$O$25)-7),ROW(42:42))),"")} | W49: =IF(U49="","",COUNTIF(U$8:U49,U49))
A50: 43 | D50: =IF(ISNA(VLOOKUP(C50,coureurs!$A$4:$I$70,2,FALSE)),"",VLOOKUP(C50,coureurs!$A$4:$I$70,2,FALSE)) | E50: =IF(ISNA(VLOOKUP(C50,coureurs!$A$4:$I$70,3,FALSE)),"",VLOOKUP(C50,coureurs!$A$4:$I$70,3,FALSE)) | F50: =IF(ISNA(VLOOKUP(C50,coureurs!$A$4:$I$70,9,FALSE)),"",VLOOKUP(C50,coureurs!$A$4:$I$70,9,FALSE)) | K50: 43 | L50: =VLOOKUP(K50,B$8:J$58,2,FALSE) -> #N/A | M50: =IF(ISNA(VLOOKUP(L50,coureurs!$A$4:$Q$70,2,FALSE)),"",VLOOKUP(L50,coureurs!$A$4:$Q$70,2,FALSE)) | N50: =IF(ISNA(VLOOKUP(L50,coureurs!$A$4:$Q$70,3,FALSE)),"",VLOOKUP(L50,coureurs!$A$4:$Q$70,3,FALSE)) | O50: =IF(ISNA(VLOOKUP(L50,coureurs!$A$4:$Q$70,9,FALSE)),"",VLOOKUP(L50,coureurs!$A$4:$Q$70,9,FALSE)) | P50: =IF(ISNA(VLOOKUP(L49,coureurs!$A$4:$Q$70,6,FALSE)),"",VLOOKUP(L49,coureurs!$A$4:$Q$70,6,FALSE)) | Q50: =VLOOKUP(L50,$C$8:$J$42,8,FALSE) -> #N/A | R50: =I50 -> 0 | S50: =Q50-Q$8 -> #N/A | U50: {=IFERROR(INDEX($O$8:$O$25,SMALL(IF(COUNTIF($O$8:$O$25,$O$8:$O$25)>=$U$6,ROW($O$8:$O$25)-7),ROW(43:43))),"")} | W50: =IF(U50="","",COUNTIF(U$8:U50,U50))
A51: 44 | D51: =IF(ISNA(VLOOKUP(C51,coureurs!$A$4:$I$70,2,FALSE)),"",VLOOKUP(C51,coureurs!$A$4:$I$70,2,FALSE)) | E51: =IF(ISNA(VLOOKUP(C51,coureurs!$A$4:$I$70,3,FALSE)),"",VLOOKUP(C51,coureurs!$A$4:$I$70,3,FALSE)) | F51: =IF(ISNA(VLOOKUP(C51,coureurs!$A$4:$I$70,9,FALSE)),"",VLOOKUP(C51,coureurs!$A$4:$I$70,9,FALSE)) | K51: 44 | L51: =VLOOKUP(K51,B$8:J$58,2,FALSE) -> #N/A | M51: =IF(ISNA(VLOOKUP(L51,coureurs!$A$4:$Q$70,2,FALSE)),"",VLOOKUP(L51,coureurs!$A$4:$Q$70,2,FALSE)) | N51: =IF(ISNA(VLOOKUP(L51,coureurs!$A$4:$Q$70,3,FALSE)),"",VLOOKUP(L51,coureurs!$A$4:$Q$70,3,FALSE)) | O51: =IF(ISNA(VLOOKUP(L51,coureurs!$A$4:$Q$70,9,FALSE)),"",VLOOKUP(L51,coureurs!$A$4:$Q$70,9,FALSE)) | P51: =IF(ISNA(VLOOKUP(L50,coureurs!$A$4:$Q$70,6,FALSE)),"",VLOOKUP(L50,coureurs!$A$4:$Q$70,6,FALSE)) | Q51: =VLOOKUP(L51,$C$8:$J$42,8,FALSE) -> #N/A | R51: =I51 -> 0 | S51: =Q51-Q$8 -> #N/A | U51: {=IFERROR(INDEX($O$8:$O$25,SMALL(IF(COUNTIF($O$8:$O$25,$O$8:$O$25)>=$U$6,ROW($O$8:$O$25)-7),ROW(44:44))),"")} | W51: =IF(U51="","",COUNTIF(U$8:U51,U51))
A52: 45 | D52: =IF(ISNA(VLOOKUP(C52,coureurs!$A$4:$I$70,2,FALSE)),"",VLOOKUP(C52,coureurs!$A$4:$I$70,2,FALSE)) | E52: =IF(ISNA(VLOOKUP(C52,coureurs!$A$4:$I$70,3,FALSE)),"",VLOOKUP(C52,coureurs!$A$4:$I$70,3,FALSE)) | F52: =IF(ISNA(VLOOKUP(C52,coureurs!$A$4:$I$70,9,FALSE)),"",VLOOKUP(C52,coureurs!$A$4:$I$70,9,FALSE)) | K52: 45 | L52: =VLOOKUP(K52,B$8:J$58,2,FALSE) -> #N/A | M52: =IF(ISNA(VLOOKUP(L52,coureurs!$A$4:$Q$70,2,FALSE)),"",VLOOKUP(L52,coureurs!$A$4:$Q$70,2,FALSE)) | N52: =IF(ISNA(VLOOKUP(L52,coureurs!$A$4:$Q$70,3,FALSE)),"",VLOOKUP(L52,coureurs!$A$4:$Q$70,3,FALSE)) | O52: =IF(ISNA(VLOOKUP(L52,coureurs!$A$4:$Q$70,9,FALSE)),"",VLOOKUP(L52,coureurs!$A$4:$Q$70,9,FALSE)) | P52: =IF(ISNA(VLOOKUP(L51,coureurs!$A$4:$Q$70,6,FALSE)),"",VLOOKUP(L51,coureurs!$A$4:$Q$70,6,FALSE)) | Q52: =VLOOKUP(L52,$C$8:$J$42,8,FALSE) -> #N/A | R52: =I52 -> 0 | S52: =Q52-Q$8 -> #N/A | U52: {=IFERROR(INDEX($O$8:$O$25,SMALL(IF(COUNTIF($O$8:$O$25,$O$8:$O$25)>=$U$6,ROW($O$8:$O$25)-7),ROW(45:45))),"")} | W52: =IF(U52="","",COUNTIF(U$8:U52,U52))
A53: 46 | D53: =IF(ISNA(VLOOKUP(C53,coureurs!$A$4:$I$70,2,FALSE)),"",VLOOKUP(C53,coureurs!$A$4:$I$70,2,FALSE)) | E53: =IF(ISNA(VLOOKUP(C53,coureurs!$A$4:$I$70,3,FALSE)),"",VLOOKUP(C53,coureurs!$A$4:$I$70,3,FALSE)) | F53: =IF(ISNA(VLOOKUP(C53,coureurs!$A$4:$I$70,9,FALSE)),"",VLOOKUP(C53,coureurs!$A$4:$I$70,9,FALSE)) | K53: 46 | L53: =VLOOKUP(K53,B$8:J$58,2,FALSE) -> #N/A | M53: =IF(ISNA(VLOOKUP(L53,coureurs!$A$4:$Q$70,2,FALSE)),"",VLOOKUP(L53,coureurs!$A$4:$Q$70,2,FALSE)) | N53: =IF(ISNA(VLOOKUP(L53,coureurs!$A$4:$Q$70,3,FALSE)),"",VLOOKUP(L53,coureurs!$A$4:$Q$70,3,FALSE)) | O53: =IF(ISNA(VLOOKUP(L53,coureurs!$A$4:$Q$70,9,FALSE)),"",VLOOKUP(L53,coureurs!$A$4:$Q$70,9,FALSE)) | P53: =IF(ISNA(VLOOKUP(L52,coureurs!$A$4:$Q$70,6,FALSE)),"",VLOOKUP(L52,coureurs!$A$4:$Q$70,6,FALSE)) | Q53: =VLOOKUP(L53,$C$8:$J$42,8,FALSE) -> #N/A | R53: =I53 -> 0 | S53: =Q53-Q$8 -> #N/A | U53: {=IFERROR(INDEX($O$8:$O$25,SMALL(IF(COUNTIF($O$8:$O$25,$O$8:$O$25)>=$U$6,ROW($O$8:$O$25)-7),ROW(46:46))),"")} | W53: =IF(U53="","",COUNTIF(U$8:U53,U53))
A54: 47 | D54: =IF(ISNA(VLOOKUP(C54,coureurs!$A$4:$I$70,2,FALSE)),"",VLOOKUP(C54,coureurs!$A$4:$I$70,2,FALSE)) | E54: =IF(ISNA(VLOOKUP(C54,coureurs!$A$4:$I$70,3,FALSE)),"",VLOOKUP(C54,coureurs!$A$4:$I$70,3,FALSE)) | F54: =IF(ISNA(VLOOKUP(C54,coureurs!$A$4:$I$70,9,FALSE)),"",VLOOKUP(C54,coureurs!$A$4:$I$70,9,FALSE)) | K54: 47 | L54: =VLOOKUP(K54,B$8:J$58,2,FALSE) -> #N/A | M54: =IF(ISNA(VLOOKUP(L54,coureurs!$A$4:$Q$70,2,FALSE)),"",VLOOKUP(L54,coureurs!$A$4:$Q$70,2,FALSE)) | N54: =IF(ISNA(VLOOKUP(L54,coureurs!$A$4:$Q$70,3,FALSE)),"",VLOOKUP(L54,coureurs!$A$4:$Q$70,3,FALSE)) | O54: =IF(ISNA(VLOOKUP(L54,coureurs!$A$4:$Q$70,9,FALSE)),"",VLOOKUP(L54,coureurs!$A$4:$Q$70,9,FALSE)) | P54: =IF(ISNA(VLOOKUP(L53,coureurs!$A$4:$Q$70,6,FALSE)),"",VLOOKUP(L53,coureurs!$A$4:$Q$70,6,FALSE)) | Q54: =VLOOKUP(L54,$C$8:$J$42,8,FALSE) -> #N/A | R54: =I54 -> 0 | S54: =Q54-Q$8 -> #N/A | U54: {=IFERROR(INDEX($O$8:$O$25,SMALL(IF(COUNTIF($O$8:$O$25,$O$8:$O$25)>=$U$6,ROW($O$8:$O$25)-7),ROW(47:47))),"")} | W54: =IF(U54="","",COUNTIF(U$8:U54,U54))
A55: 48 | D55: =IF(ISNA(VLOOKUP(C55,coureurs!$A$4:$I$70,2,FALSE)),"",VLOOKUP(C55,coureurs!$A$4:$I$70,2,FALSE)) | E55: =IF(ISNA(VLOOKUP(C55,coureurs!$A$4:$I$70,3,FALSE)),"",VLOOKUP(C55,coureurs!$A$4:$I$70,3,FALSE)) | F55: =IF(ISNA(VLOOKUP(C55,coureurs!$A$4:$I$70,9,FALSE)),"",VLOOKUP(C55,coureurs!$A$4:$I$70,9,FALSE)) | K55: 48 | L55: =VLOOKUP(K55,B$8:J$58,2,FALSE) -> #N/A | M55: =IF(ISNA(VLOOKUP(L55,coureurs!$A$4:$Q$70,2,FALSE)),"",VLOOKUP(L55,coureurs!$A$4:$Q$70,2,FALSE)) | N55: =IF(ISNA(VLOOKUP(L55,coureurs!$A$4:$Q$70,3,FALSE)),"",VLOOKUP(L55,coureurs!$A$4:$Q$70,3,FALSE)) | O55: =IF(ISNA(VLOOKUP(L55,coureurs!$A$4:$Q$70,9,FALSE)),"",VLOOKUP(L55,coureurs!$A$4:$Q$70,9,FALSE)) | P55: =IF(ISNA(VLOOKUP(L54,coureurs!$A$4:$Q$70,6,FALSE)),"",VLOOKUP(L54,coureurs!$A$4:$Q$70,6,FALSE)) | Q55: =VLOOKUP(L55,$C$8:$J$42,8,FALSE) -> #N/A | R55: =I55 -> 0 | S55: =Q55-Q$8 -> #N/A | U55: {=IFERROR(INDEX($O$8:$O$25,SMALL(IF(COUNTIF($O$8:$O$25,$O$8:$O$25)>=$U$6,ROW($O$8:$O$25)-7),ROW(48:48))),"")} | W55: =IF(U55="","",COUNTIF(U$8:U55,U55))

Sheet Dep CLM
D2: 2ème Souvenir
A4: Horaires départ CLM
A6: Ordre | B6: rang Pts | C6: Dossard | D6: Nom | E6: Prénom | F6: Club | G6: Horaire départ
A7: 1 | B7: =RANK(#REF!,#REF!,1)+COUNTIF(#REF!,#REF!)-1 -> #REF! | C7: 17 | D7: =VLOOKUP(C7,coureurs!$A$4:$B$70,2,FALSE) -> BEAU17 | E7: =VLOOKUP($C7,coureurs!$A$4:$Q$70,3,FALSE) -> No17 | F7: =VLOOKUP($C7,coureurs!$A$4:$Q$70,9,FALSE) -> EC MEDOC ATLANTIQUE | G7: 0.44444444
A8: =A7+1 -> 2 | B8: =RANK(#REF!,#REF!,1)+COUNTIF(#REF!,#REF!)-1 -> #REF! | C8: 16 | D8: =IF(ISNA(VLOOKUP(C8,coureurs!$A$4:$B$70,2,FALSE)),"",VLOOKUP(C8,coureurs!$A$4:$B$70,2,FALSE)) -> BEAU16 | E8: =VLOOKUP($C8,coureurs!$A$4:$Q$70,3,FALSE) -> No16 | F8: =VLOOKUP($C8,coureurs!$A$4:$Q$70,9,FALSE) -> AVC LIBOURNE | G8: 0.44583333
A9: =A8+1 -> 3 | B9: =RANK(#REF!,#REF!,1)+COUNTIF(#REF!,#REF!)-1 -> #REF! | C9: 15 | D9: =IF(ISNA(VLOOKUP(C9,coureurs!$A$4:$B$70,2,FALSE)),"",VLOOKUP(C9,coureurs!$A$4:$B$70,2,FALSE)) -> BEAU18 | E9: =VLOOKUP($C9,coureurs!$A$4:$Q$70,3,FALSE) -> No18 | F9: =VLOOKUP($C9,coureurs!$A$4:$Q$70,9,FALSE) -> EC MEDOC ATLANTIQUE | G9: 0.44722222
A10: =A9+1 -> 4 | B10: =RANK(#REF!,#REF!,1)+COUNTIF(#REF!,#REF!)-1 -> #REF! | C10: 14 | D10: =IF(ISNA(VLOOKUP(C10,coureurs!$A$4:$B$70,2,FALSE)),"",VLOOKUP(C10,coureurs!$A$4:$B$70,2,FALSE)) -> BEAU14 | E10: =VLOOKUP($C10,coureurs!$A$4:$Q$70,3,FALSE) -> No14 | F10: =VLOOKUP($C10,coureurs!$A$4:$Q$70,9,FALSE) -> SPRINTER CLUB DU PERIGORD | G10: 0.44861111
A11: =A10+1 -> 5 | B11: =RANK(#REF!,#REF!,1)+COUNTIF(#REF!,#REF!)-1 -> #REF! | C11: 13 | D11: =IF(ISNA(VLOOKUP(C11,coureurs!$A$4:$B$70,2,FALSE)),"",VLOOKUP(C11,coureurs!$A$4:$B$70,2,FALSE)) -> BEAU13 | E11: =VLOOKUP($C11,coureurs!$A$4:$Q$70,3,FALSE) -> No13 | F11: =VLOOKUP($C11,coureurs!$A$4:$Q$70,9,FALSE) -> EC MEDOC ATLANTIQUE | G11: 0.45
A12: =A11+1 -> 6 | B12: =RANK(#REF!,#REF!,1)+COUNTIF(#REF!,#REF!)-1 -> #REF! | C12: 12 | D12: =IF(ISNA(VLOOKUP(C12,coureurs!$A$4:$B$70,2,FALSE)),"",VLOOKUP(C12,coureurs!$A$4:$B$70,2,FALSE)) -> BEAU15 | E12: =VLOOKUP($C12,coureurs!$A$4:$Q$70,3,FALSE) -> No15 | F12: =VLOOKUP($C12,coureurs!$A$4:$Q$70,9,FALSE) -> SPRINTER CLUB DU PERIGORD | G12: 0.45138889
A13: =A12+1 -> 7 | B13: =RANK(#REF!,#REF!,1)+COUNTIF(#REF!,#REF!)-1 -> #REF! | C13: 11 | D13: =IF(ISNA(VLOOKUP(C13,coureurs!$A$4:$B$70,2,FALSE)),"",VLOOKUP(C13,coureurs!$A$4:$B$70,2,FALSE)) -> BEAU9 | E13: =VLOOKUP($C13,coureurs!$A$4:$Q$70,3,FALSE) -> No9 | F13: =VLOOKUP($C13,coureurs!$A$4:$Q$70,9,FALSE) -> VELO CLUB LE TEILLEUL | G13: 0.45277778
A14: =A13+1 -> 8 | B14: =RANK(#REF!,#REF!,1)+COUNTIF(#REF!,#REF!)-1 -> #REF! | C14: 10 | D14: =IF(ISNA(VLOOKUP(C14,coureurs!$A$4:$B$70,2,FALSE)),"",VLOOKUP(C14,coureurs!$A$4:$B$70,2,FALSE)) -> BEAU11 | E14: =VLOOKUP($C14,coureurs!$A$4:$Q$70,3,FALSE) -> No11 | F14: =VLOOKUP($C14,coureurs!$A$4:$Q$70,9,FALSE) -> AVC LIBOURNE | G14: 0.45416667
A15: =A14+1 -> 9 | B15: =RANK(#REF!,#REF!,1)+COUNTIF(#REF!,#REF!)-1 -> #REF! | C15: 9 | D15: =IF(ISNA(VLOOKUP(C15,coureurs!$A$4:$B$70,2,FALSE)),"",VLOOKUP(C15,coureurs!$A$4:$B$70,2,FALSE)) -> BEAU6 | E15: =VLOOKUP($C15,coureurs!$A$4:$Q$70,3,FALSE) -> No6 | F15: =VLOOKUP($C15,coureurs!$A$4:$Q$70,9,FALSE) -> DORDOGNE SUD CYCLISME | G15: 0.45555556
A16: =A15+1 -> 10 | B16: =RANK(#REF!,#REF!,1)+COUNTIF(#REF!,#REF!)-1 -> #REF! | C16: 8 | D16: =IF(ISNA(VLOOKUP(C16,coureurs!$A$4:$B$70,2,FALSE)),"",VLOOKUP(C16,coureurs!$A$4:$B$70,2,FALSE)) -> BEAU8 | E16: =VLOOKUP($C16,coureurs!$A$4:$Q$70,3,FALSE) -> No8 | F16: =VLOOKUP($C16,coureurs!$A$4:$Q$70,9,FALSE) -> DORDOGNE SUD CYCLISME | G16: 0.45694444
A17: =A16+1 -> 11 | B17: =RANK(#REF!,#REF!,1)+COUNTIF(#REF!,#REF!)-1 -> #REF! | C17: 7 | D17: =IF(ISNA(VLOOKUP(C17,coureurs!$A$4:$B$70,2,FALSE)),"",VLOOKUP(C17,coureurs!$A$4:$B$70,2,FALSE)) -> BEAU7 | E17: =VLOOKUP($C17,coureurs!$A$4:$Q$70,3,FALSE) -> No7 | F17: =VLOOKUP($C17,coureurs!$A$4:$Q$70,9,FALSE) -> DORDOGNE SUD CYCLISME | G17: 0.45833333
A18: =A17+1 -> 12 | B18: =RANK(#REF!,#REF!,1)+COUNTIF(#REF!,#REF!)-1 -> #REF! | C18: 6 | D18: =IF(ISNA(VLOOKUP(C18,coureurs!$A$4:$B$70,2,FALSE)),"",VLOOKUP(C18,coureurs!$A$4:$B$70,2,FALSE)) -> BEAU10 | E18: =VLOOKUP($C18,coureurs!$A$4:$Q$70,3,FALSE) -> No10 | F18: =VLOOKUP($C18,coureurs!$A$4:$Q$70,9,FALSE) -> VC DU SUD GIRONDE | G18: 0.45972222
A19: =A18+1 -> 13 | B19: =RANK(#REF!,#REF!,1)+COUNTIF(#REF!,#REF!)-1 -> #REF! | C19: 5 | D19: =IF(ISNA(VLOOKUP(C19,coureurs!$A$4:$B$70,2,FALSE)),"",VLOOKUP(C19,coureurs!$A$4:$B$70,2,FALSE)) -> BEAU2 | E19: =VLOOKUP($C19,coureurs!$A$4:$Q$70,3,FALSE) -> No2 | F19: =VLOOKUP($C19,coureurs!$A$4:$Q$70,9,FALSE) -> Team Cycliste VERTEILLACOISE | G19: 0.46111111
... A23: =A22+1 -> 17 | B23: =RANK(#REF!,#REF!,1)+COUNTIF(#REF!,#REF!)-1 -> #REF! | C23: 1 | D23: =IF(ISNA(VLOOKUP(C23,coureurs!$A$4:$B$70,2,FALSE)),"",VLOOKUP(C23,coureurs!$A$4:$B$70,2,FALSE)) -> BEAU4 | E23: =VLOOKUP($C23,coureurs!$A$4:$Q$70,3,FALSE) -> No4 | F23: =VLOOKUP($C23,coureurs!$A$4:$Q$70,9,FALSE) -> UC MONTPONNAISE VALLÉE DE L`ISLE | G23: 0.46666667
A24: =A23+1 -> 18 | B24: =RANK(#REF!,#REF!,1)+COUNTIF(#REF!,#REF!)-1 -> #REF! | D24: =IF(ISNA(VLOOKUP(C24,coureurs!$A$4:$B$70,2,FALSE)),"",VLOOKUP(C24,coureurs!$A$4:$B$70,2,FALSE)) | E24: =VLOOKUP($C24,coureurs!$A$4:$Q$70,3,FALSE) -> #N/A | F24: =VLOOKUP($C24,coureurs!$A$4:$Q$70,9,FALSE) -> #N/A | G24: 0.46805556
A25: =A24+1 -> 19 | B25: =RANK(#REF!,#REF!,1)+COUNTIF(#REF!,#REF!)-1 -> #REF! | D25: =IF(ISNA(VLOOKUP(C25,coureurs!$A$4:$B$70,2,FALSE)),"",VLOOKUP(C25,coureurs!$A$4:$B$70,2,FALSE)) | E25: =VLOOKUP($C25,coureurs!$A$4:$Q$70,3,FALSE) -> #N/A | F25: =VLOOKUP($C25,coureurs!$A$4:$Q$70,9,FALSE) -> #N/A | G25: 0.46944444
A26: =A25+1 -> 20 | B26: =RANK(#REF!,#REF!,1)+COUNTIF(#REF!,#REF!)-1 -> #REF! | D26: =IF(ISNA(VLOOKUP(C26,coureurs!$A$4:$B$70,2,FALSE)),"",VLOOKUP(C26,coureurs!$A$4:$B$70,2,FALSE)) | E26: =VLOOKUP($C26,coureurs!$A$4:$Q$70,3,FALSE) -> #N/A | F26: =VLOOKUP($C26,coureurs!$A$4:$Q$70,9,FALSE) -> #N/A | G26: 0.47083333
A27: =A26+1 -> 21 | B27: =RANK(#REF!,#REF!,1)+COUNTIF(#REF!,#REF!)-1 -> #REF! | D27: =IF(ISNA(VLOOKUP(C27,coureurs!$A$4:$B$70,2,FALSE)),"",VLOOKUP(C27,coureurs!$A$4:$B$70,2,FALSE)) | E27: =VLOOKUP($C27,coureurs!$A$4:$Q$70,3,FALSE) -> #N/A | F27: =VLOOKUP($C27,coureurs!$A$4:$Q$70,9,FALSE) -> #N/A | G27: 0.47222222
A28: =A27+1 -> 22 | B28: =RANK(#REF!,#REF!,1)+COUNTIF(#REF!,#REF!)-1 -> #REF! | D28: =IF(ISNA(VLOOKUP(C28,coureurs!$A$4:$B$70,2,FALSE)),"",VLOOKUP(C28,coureurs!$A$4:$B$70,2,FALSE)) | E28: =VLOOKUP($C28,coureurs!$A$4:$Q$70,3,FALSE) -> #N/A | F28: =VLOOKUP($C28,coureurs!$A$4:$Q$70,9,FALSE) -> #N/A
A29: =A28+1 -> 23 | B29: =RANK(#REF!,#REF!,1)+COUNTIF(#REF!,#REF!)-1 -> #REF! | D29: =IF(ISNA(VLOOKUP(C29,coureurs!$A$4:$B$70,2,FALSE)),"",VLOOKUP(C29,coureurs!$A$4:$B$70,2,FALSE)) | E29: =VLOOKUP($C29,coureurs!$A$4:$Q$70,3,FALSE) -> #N/A | F29: =VLOOKUP($C29,coureurs!$A$4:$Q$70,9,FALSE) -> #N/A
A30: =A29+1 -> 24 | B30: =RANK(#REF!,#REF!,1)+COUNTIF(#REF!,#REF!)-1 -> #REF! | D30: =IF(ISNA(VLOOKUP(C30,coureurs!$A$4:$B$70,2,FALSE)),"",VLOOKUP(C30,coureurs!$A$4:$B$70,2,FALSE)) | E30: =VLOOKUP($C30,coureurs!$A$4:$Q$70,3,FALSE) -> #N/A | F30: =VLOOKUP($C30,coureurs!$A$4:$Q$70,9,FALSE) -> #N/A
A31: =A30+1 -> 25 | B31: =RANK(#REF!,#REF!,1)+COUNTIF(#REF!,#REF!)-1 -> #REF! | D31: =IF(ISNA(VLOOKUP(C31,coureurs!$A$4:$B$70,2,FALSE)),"",VLOOKUP(C31,coureurs!$A$4:$B$70,2,FALSE)) | E31: =VLOOKUP($C31,coureurs!$A$4:$Q$70,3,FALSE) -> #N/A | F31: =VLOOKUP($C31,coureurs!$A$4:$Q$70,9,FALSE) -> #N/A
A32: =A31+1 -> 26 | B32: =RANK(#REF!,#REF!,1)+COUNTIF(#REF!,#REF!)-1 -> #REF! | D32: =IF(ISNA(VLOOKUP(C32,coureurs!$A$4:$B$70,2,FALSE)),"",VLOOKUP(C32,coureurs!$A$4:$B$70,2,FALSE)) | E32: =VLOOKUP($C32,coureurs!$A$4:$Q$70,3,FALSE) -> #N/A | F32: =VLOOKUP($C32,coureurs!$A$4:$Q$70,9,FALSE) -> #N/A
A33: =A32+1 -> 27 | B33: =RANK(#REF!,#REF!,1)+COUNTIF(#REF!,#REF!)-1 -> #REF! | D33: =IF(ISNA(VLOOKUP(C33,coureurs!$A$4:$B$70,2,FALSE)),"",VLOOKUP(C33,coureurs!$A$4:$B$70,2,FALSE)) | E33: =VLOOKUP($C33,coureurs!$A$4:$Q$70,3,FALSE) -> #N/A | F33: =VLOOKUP($C33,coureurs!$A$4:$Q$70,9,FALSE) -> #N/A
A34: =A33+1 -> 28 | B34: =RANK(#REF!,#REF!,1)+COUNTIF(#REF!,#REF!)-1 -> #REF! | D34: =IF(ISNA(VLOOKUP(C34,coureurs!$A$4:$B$70,2,FALSE)),"",VLOOKUP(C34,coureurs!$A$4:$B$70,2,FALSE)) | E34: =IF(ISNA(VLOOKUP(D34,coureurs!$A$4:$B$70,2,FALSE)),"",VLOOKUP(D34,coureurs!$A$4:$B$70,2,FALSE)) | F34: =IF(ISNA(VLOOKUP(E34,coureurs!$A$4:$B$70,2,FALSE)),"",VLOOKUP(E34,coureurs!$A$4:$B$70,2,FALSE))
A35: =A34+1 -> 29 | B35: =RANK(#REF!,#REF!,1)+COUNTIF(#REF!,#REF!)-1 -> #REF! | D35: =IF(ISNA(VLOOKUP(C35,coureurs!$A$4:$B$70,2,FALSE)),"",VLOOKUP(C35,coureurs!$A$4:$B$70,2,FALSE)) | E35: =IF(ISNA(VLOOKUP(D35,coureurs!$A$4:$B$70,2,FALSE)),"",VLOOKUP(D35,coureurs!$A$4:$B$70,2,FALSE)) | F35: =IF(ISNA(VLOOKUP(E35,coureurs!$A$4:$B$70,2,FALSE)),"",VLOOKUP(E35,coureurs!$A$4:$B$70,2,FALSE))
A36: =A35+1 -> 30 | B36: =RANK(#REF!,#REF!,1)+COUNTIF(#REF!,#REF!)-1 -> #REF! | D36: =IF(ISNA(VLOOKUP(C36,coureurs!$A$4:$B$70,2,FALSE)),"",VLOOKUP(C36,coureurs!$A$4:$B$70,2,FALSE)) | E36: =IF(ISNA(VLOOKUP(D36,coureurs!$A$4:$B$70,2,FALSE)),"",VLOOKUP(D36,coureurs!$A$4:$B$70,2,FALSE)) | F36: =IF(ISNA(VLOOKUP(E36,coureurs!$A$4:$B$70,2,FALSE)),"",VLOOKUP(E36,coureurs!$A$4:$B$70,2,FALSE))

Sheet Clas Eq1
C3: {=IFERROR(INDEX(CLM!$U$8:$U$55,SMALL(IF(CLM!$W$8:$W$55=1,ROW($O$8:$O$55)-7),F3)),"")} -> EC MEDOC ATLANTIQUE | F3: 1
C4: Dossard | D4: Temps | E4: Place
B5: 1 | C5: {=IFERROR(INDEX(CLM!$L$8:$L$55,SMALL(IF(CLM!$O$8:$O$55=C$3,ROW($O$8:$O$55)-7),B5)),"")} -> 13 | D5: {=IFERROR(INDEX(CLM!$Q$8:$Q$55,SMALL(IF(CLM!$O$8:$O$55=C$3,ROW($O$8:$O$55)-7),B5)),"")} -> 0.0041782407 | E5: {=IFERROR(INDEX(CLM!$K$8:$K$55,SMALL(IF(CLM!$O$8:$O$55=C$3,ROW($O$8:$O$55)-7),B5)),"")} -> 5
B6: 2 | C6: {=IFERROR(INDEX(CLM!$L$8:$L$55,SMALL(IF(CLM!$O$8:$O$55=C$3,ROW($O$8:$O$55)-7),B6)),"")} -> 17 | D6: {=IFERROR(INDEX(CLM!$Q$8:$Q$55,SMALL(IF(CLM!$O$8:$O$55=C$3,ROW($O$8:$O$55)-7),B6)),"")} -> 0.0044560185 | E6: {=IFERROR(INDEX(CLM!$K$8:$K$55,SMALL(IF(CLM!$O$8:$O$55=C$3,ROW($O$8:$O$55)-7),B6)),"")} -> 12
B7: 3 | C7: {=IFERROR(INDEX(CLM!$L$8:$L$55,SMALL(IF(CLM!$O$8:$O$55=C$3,ROW($O$8:$O$55)-7),B7)),"")} -> 15 | D7: {=IFERROR(INDEX(CLM!$Q$8:$Q$55,SMALL(IF(CLM!$O$8:$O$55=C$3,ROW($O$8:$O$55)-7),B7)),"")} -> 0.0048842593 | E7: {=IFERROR(INDEX(CLM!$K$8:$K$55,SMALL(IF(CLM!$O$8:$O$55=C$3,ROW($O$8:$O$55)-7),B7)),"")} -> 17
E8: Total | F8: =SUM(D5:D7) -> 0.013518519 | G8: =SUM(E5:E7) -> 34
C10: {=IFERROR(INDEX(CLM!$U$8:$U$55,SMALL(IF(CLM!$W$8:$W$55=1,ROW($O$8:$O$55)-7),F10)),"")} -> Team Cycliste VERTEILLACOISE | F10: 2
C11: Dossard | D11: Temps | E11: Place
B12: 1 | C12: {=IFERROR(INDEX(CLM!$L$8:$L$55,SMALL(IF(CLM!$O$8:$O$55=C$10,ROW($O$8:$O$55)-7),B12)),"")} -> 3 | D12: {=IFERROR(INDEX(CLM!$Q$8:$Q$55,SMALL(IF(CLM!$O$8:$O$55=C$10,ROW($O$8:$O$55)-7),B12)),"")} -> 0.0041782407 | E12: {=IFERROR(INDEX(CLM!$K$8:$K$55,SMALL(IF(CLM!$O$8:$O$55=C$10,ROW($O$8:$O$55)-7),B12)),"")} -> 6
B13: 2 | C13: {=IFERROR(INDEX(CLM!$L$8:$L$55,SMALL(IF(CLM!$O$8:$O$55=C$10,ROW($O$8:$O$55)-7),B13)),"")} -> 4 | D13: {=IFERROR(INDEX(CLM!$Q$8:$Q$55,SMALL(IF(CLM!$O$8:$O$55=C$10,ROW($O$8:$O$55)-7),B13)),"")} -> 0.0042361111 | E13: {=IFERROR(INDEX(CLM!$K$8:$K$55,SMALL(IF(CLM!$O$8:$O$55=C$10,ROW($O$8:$O$55)-7),B13)),"")} -> 8
B14: 3 | C14: {=IFERROR(INDEX(CLM!$L$8:$L$55,SMALL(IF(CLM!$O$8:$O$55=C$10,ROW($O$8:$O$55)-7),B14)),"")} -> 5 | D14: {=IFERROR(INDEX(CLM!$Q$8:$Q$55,SMALL(IF(CLM!$O$8:$O$55=C$10,ROW($O$8:$O$55)-7),B14)),"")} -> 0.0047222222 | E14: {=IFERROR(INDEX(CLM!$K$8:$K$55,SMALL(IF(CLM!$O$8:$O$55=C$10,ROW($O$8:$O$55)-7),B14)),"")} -> 15
E15: Total | F15: =SUM(D12:D14) -> 0.013136574 | G15: =SUM(E12:E14) -> 29
C17: {=IFERROR(INDEX(CLM!$U$8:$U$55,SMALL(IF(CLM!$W$8:$W$55=1,ROW($O$8:$O$55)-7),F17)),"")} -> DORDOGNE SUD CYCLISME | F17: 3
C18: Dossard | D18: Temps | E18: Place
B19: 1 | C19: {=IFERROR(INDEX(CLM!$L$8:$L$55,SMALL(IF(CLM!$O$8:$O$55=C$17,ROW($O$8:$O$55)-7),B19)),"")} -> 7 | D19: {=IFERROR(INDEX(CLM!$Q$8:$Q$55,SMALL(IF(CLM!$O$8:$O$55=C$17,ROW($O$8:$O$55)-7),B19)),"")} -> 0.0041898148 | E19: {=IFERROR(INDEX(CLM!$K$8:$K$55,SMALL(IF(CLM!$O$8:$O$55=C$17,ROW($O$8:$O$55)-7),B19)),"")} -> 7
B20: 2 | C20: {=IFERROR(INDEX(CLM!$L$8:$L$55,SMALL(IF(CLM!$O$8:$O$55=C$17,ROW($O$8:$O$55)-7),B20)),"")} -> 9 | D20: {=IFERROR(INDEX(CLM!$Q$8:$Q$55,SMALL(IF(CLM!$O$8:$O$55=C$17,ROW($O$8:$O$55)-7),B20)),"")} -> 0.0045601852 | E20: {=IFERROR(INDEX(CLM!$K$8:$K$55,SMALL(IF(CLM!$O$8:$O$55=C$17,ROW($O$8:$O$55)-7),B20)),"")} -> 13
B21: 3 | C21: {=IFERROR(INDEX(CLM!$L$8:$L$55,SMALL(IF(CLM!$O$8:$O$55=C$17,ROW($O$8:$O$55)-7),B21)),"")} -> 8 | D21: {=IFERROR(INDEX(CLM!$Q$8:$Q$55,SMALL(IF(CLM!$O$8:$O$55=C$17,ROW($O$8:$O$55)-7),B21)),"")} -> 0.0047453704 | E21: {=IFERROR(INDEX(CLM!$K$8:$K$55,SMALL(IF(CLM!$O$8:$O$55=C$17,ROW($O$8:$O$55)-7),B21)),"")} -> 16
E22: Total | F22: =SUM(D19:D21) -> 0.01349537 | G22: =SUM(E19:E21) -> 36
C24: {=IFERROR(INDEX(CLM!$U$8:$U$55,SMALL(IF(CLM!$W$8:$W$55=1,ROW($O$8:$O$55)-7),F24)),"")} | F24: 4
C25: Dossard | D25: Temps | E25: Place
B26: 1 | C26: {=IFERROR(INDEX(CLM!$L$8:$L$55,SMALL(IF(CLM!$O$8:$O$55=C$24,ROW($O$8:$O$55)-7),B26)),"")} | D26: {=IFERROR(INDEX(CLM!$Q$8:$Q$55,SMALL(IF(CLM!$O$8:$O$55=C$24,ROW($O$8:$O$55)-7),B26)),"")} | E26: {=IFERROR(INDEX(CLM!$K$8:$K$55,SMALL(IF(CLM!$O$8:$O$55=C$24,ROW($O$8:$O$55)-7),B26)),"")} -> 19
B27: 2 | C27: {=IFERROR(INDEX(CLM!$L$8:$L$55,SMALL(IF(CLM!$O$8:$O$55=C$24,ROW($O$8:$O$55)-7),B27)),"")} | D27: {=IFERROR(INDEX(CLM!$Q$8:$Q$55,SMALL(IF(CLM!$O$8:$O$55=C$24,ROW($O$8:$O$55)-7),B27)),"")} | E27: {=IFERROR(INDEX(CLM!$K$8:$K$55,SMALL(IF(CLM!$O$8:$O$55=C$24,ROW($O$8:$O$55)-7),B27)),"")} -> 20
B28: 3 | C28: {=IFERROR(INDEX(CLM!$L$8:$L$55,SMALL(IF(CLM!$O$8:$O$55=C$24,ROW($O$8:$O$55)-7),B28)),"")} | D28: {=IFERROR(INDEX(CLM!$Q$8:$Q$55,SMALL(IF(CLM!$O$8:$O$55=C$24,ROW($O$8:$O$55)-7),B28)),"")} | E28: {=IFERROR(INDEX(CLM!$K$8:$K$55,SMALL(IF(CLM!$O$8:$O$55=C$24,ROW($O$8:$O$55)-7),B28)),"")} -> 21
E29: Total | F29: =SUM(D26:D28) -> 0 | G29: =SUM(E26:E28) -> 60
C31: {=IFERROR(INDEX(CLM!$U$8:$U$55,SMALL(IF(CLM!$W$8:$W$55=1,ROW($O$8:$O$55)-7),F31)),"")} | F31: 5
C32: Dossard | D32: Temps | E32: Place
B33: 1 | C33: {=IFERROR(INDEX(CLM!$L$8:$L$55,SMALL(IF(CLM!$O$8:$O$55=C$31,ROW($O$8:$O$55)-7),B33)),"")} | D33: {=IFERROR(INDEX(CLM!$Q$8:$Q$55,SMALL(IF(CLM!$O$8:$O$55=C$31,ROW($O$8:$O$55)-7),B33)),"")} | E33: {=IFERROR(INDEX(CLM!$K$8:$K$55,SMALL(IF(CLM!$O$8:$O$55=C$31,ROW($O$8:$O$55)-7),B33)),"")} -> 19
B34: 2 | C34: {=IFERROR(INDEX(CLM!$L$8:$L$55,SMALL(IF(CLM!$O$8:$O$55=C$31,ROW($O$8:$O$55)-7),B34)),"")} | D34: {=IFERROR(INDEX(CLM!$Q$8:$Q$55,SMALL(IF(CLM!$O$8:$O$55=C$31,ROW($O$8:$O$55)-7),B34)),"")} | E34: {=IFERROR(INDEX(CLM!$K$8:$K$55,SMALL(IF(CLM!$O$8:$O$55=C$31,ROW($O$8:$O$55)-7),B34)),"")} -> 20
B35: 3 | C35: {=IFERROR(INDEX(CLM!$L$8:$L$55,SMALL(IF(CLM!$O$8:$O$55=C$31,ROW($O$8:$O$55)-7),B35)),"")} | D35: {=IFERROR(INDEX(CLM!$Q$8:$Q$55,SMALL(IF(CLM!$O$8:$O$55=C$31,ROW($O$8:$O$55)-7),B35)),"")} | E35: {=IFERROR(INDEX(CLM!$K$8:$K$55,SMALL(IF(CLM!$O$8:$O$55=C$31,ROW($O$8:$O$55)-7),B35)),"")} -> 21
E36: Total | F36: =SUM(D33:D35) -> 0 | G36: =SUM(E33:E35) -> 60
C38: {=IFERROR(INDEX(CLM!$U$8:$U$55,SMALL(IF(CLM!$W$8:$W$55=1,ROW($O$8:$O$55)-7),F38)),"")} | F38: 6
C39: Dossard | D39: Temps | E39: Place
B40: 1 | C40: {=IFERROR(INDEX(CLM!$L$8:$L$55,SMALL(IF(CLM!$O$8:$O$55=C$38,ROW($O$8:$O$55)-7),B40)),"")} | D40: {=IFERROR(INDEX(CLM!$Q$8:$Q$55,SMALL(IF(CLM!$O$8:$O$55=C$38,ROW($O$8:$O$55)-7),B40)),"")} | E40: {=IFERROR(INDEX(CLM!$K$8:$K$55,SMALL(IF(CLM!$O$8:$O$55=C$38,ROW($O$8:$O$55)-7),B40)),"")} -> 19
B41: 2 | C41: {=IFERROR(INDEX(CLM!$L$8:$L$55,SMALL(IF(CLM!$O$8:$O$55=C$38,ROW($O$8:$O$55)-7),B41)),"")} | D41: {=IFERROR(INDEX(CLM!$Q$8:$Q$55,SMALL(IF(CLM!$O$8:$O$55=C$38,ROW($O$8:$O$55)-7),B41)),"")} | E41: {=IFERROR(INDEX(CLM!$K$8:$K$55,SMALL(IF(CLM!$O$8:$O$55=C$38,ROW($O$8:$O$55)-7),B41)),"")} -> 20
B42: 3 | C42: {=IFERROR(INDEX(CLM!$L$8:$L$55,SMALL(IF(CLM!$O$8:$O$55=C$38,ROW($O$8:$O$55)-7),B42)),"")} | D42: {=IFERROR(INDEX(CLM!$Q$8:$Q$55,SMALL(IF(CLM!$O$8:$O$55=C$38,ROW($O$8:$O$55)-7),B42)),"")} | E42: {=IFERROR(INDEX(CLM!$K$8:$K$55,SMALL(IF(CLM!$O$8:$O$55=C$38,ROW($O$8:$O$55)-7),B42)),"")} -> 21
E43: Total | F43: =SUM(D40:D42) -> 0 | G43: =SUM(E40:E42) -> 60
C45: {=IFERROR(INDEX(CLM!$U$8:$U$55,SMALL(IF(CLM!$W$8:$W$55=1,ROW($O$8:$O$55)-7),F45)),"")} | F45: 7
C46: Dossard | D46: Temps | E46: Place
B47: 1 | C47: {=IFERROR(INDEX(CLM!$L$8:$L$55,SMALL(IF(CLM!$O$8:$O$55=C$45,ROW($O$8:$O$55)-7),B47)),"")} | D47: {=IFERROR(INDEX(CLM!$Q$8:$Q$55,SMALL(IF(CLM!$O$8:$O$55=C$45,ROW($O$8:$O$55)-7),B47)),"")} | E47: {=IFERROR(INDEX(CLM!$K$8:$K$55,SMALL(IF(CLM!$O$8:$O$55=C$45,ROW($O$8:$O$55)-7),B47)),"")} -> 19
B48: 2 | C48: {=IFERROR(INDEX(CLM!$L$8:$L$55,SMALL(IF(CLM!$O$8:$O$55=C$45,ROW($O$8:$O$55)-7),B48)),"")} | D48: {=IFERROR(INDEX(CLM!$Q$8:$Q$55,SMALL(IF(CLM!$O$8:$O$55=C$45,ROW($O$8:$O$55)-7),B48)),"")} | E48: {=IFERROR(INDEX(CLM!$K$8:$K$55,SMALL(IF(CLM!$O$8:$O$55=C$45,ROW($O$8:$O$55)-7),B48)),"")} -> 20
B49: 3 | C49: {=IFERROR(INDEX(CLM!$L$8:$L$55,SMALL(IF(CLM!$O$8:$O$55=C$45,ROW($O$8:$O$55)-7),B49)),"")} | D49: {=IFERROR(INDEX(CLM!$Q$8:$Q$55,SMALL(IF(CLM!$O$8:$O$55=C$45,ROW($O$8:$O$55)-7),B49)),"")} | E49: {=IFERROR(INDEX(CLM!$K$8:$K$55,SMALL(IF(CLM!$O$8:$O$55=C$45,ROW($O$8:$O$55)-7),B49)),"")} -> 21
E50: Total | F50: =SUM(D47:D49) -> 0 | G50: =SUM(E47:E49) -> 60
C52: {=IFERROR(INDEX(CLM!$U$8:$U$55,SMALL(IF(CLM!$W$8:$W$55=1,ROW($O$8:$O$55)-7),F52)),"")} | F52: 8
C53: Dossard | D53: Temps | E53: Place
B54: 1 | C54: {=IFERROR(INDEX(CLM!$L$8:$L$55,SMALL(IF(CLM!$O$8:$O$55=C$52,ROW($O$8:$O$55)-7),B54)),"")} | D54: {=IFERROR(INDEX(CLM!$Q$8:$Q$55,SMALL(IF(CLM!$O$8:$O$55=C$52,ROW($O$8:$O$55)-7),B54)),"")} | E54: {=IFERROR(INDEX(CLM!$K$8:$K$55,SMALL(IF(CLM!$O$8:$O$55=C$52,ROW($O$8:$O$55)-7),B54)),"")} -> 19
B55: 2 | C55: {=IFERROR(INDEX(CLM!$L$8:$L$55,SMALL(IF(CLM!$O$8:$O$55=C$52,ROW($O$8:$O$55)-7),B55)),"")} | D55: {=IFERROR(INDEX(CLM!$Q$8:$Q$55,SMALL(IF(CLM!$O$8:$O$55=C$52,ROW($O$8:$O$55)-7),B55)),"")} | E55: {=IFERROR(INDEX(CLM!$K$8:$K$55,SMALL(IF(CLM!$O$8:$O$55=C$52,ROW($O$8:$O$55)-7),B55)),"")} -> 20
B56: 3 | C56: {=IFERROR(INDEX(CLM!$L$8:$L$55,SMALL(IF(CLM!$O$8:$O$55=C$52,ROW($O$8:$O$55)-7),B56)),"")} | D56: {=IFERROR(INDEX(CLM!$Q$8:$Q$55,SMALL(IF(CLM!$O$8:$O$55=C$52,ROW($O$8:$O$55)-7),B56)),"")} | E56: {=IFERROR(INDEX(CLM!$K$8:$K$55,SMALL(IF(CLM!$O$8:$O$55=C$52,ROW($O$8:$O$55)-7),B56)),"")} -> 21
E57: Total | F57: =SUM(D54:D56) -> 0 | G57: =SUM(E54:E56) -> 60
C59: {=IFERROR(INDEX(CLM!$U$8:$U$55,SMALL(IF(CLM!$W$8:$W$55=1,ROW($O$8:$O$55)-7),F59)),"")} | F59: 9
C60: Dossard | D60: Temps | E60: Place
B61: 1 | C61: {=IFERROR(INDEX(CLM!$L$8:$L$55,SMALL(IF(CLM!$O$8:$O$55=C$59,ROW($O$8:$O$55)-7),B61)),"")} | D61: {=IFERROR(INDEX(CLM!$Q$8:$Q$55,SMALL(IF(CLM!$O$8:$O$55=C$59,ROW($O$8:$O$55)-7),B61)),"")} | E61: {=IFERROR(INDEX(CLM!$K$8:$K$55,SMALL(IF(CLM!$O$8:$O$55=C$59,ROW($O$8:$O$55)-7),B61)),"")} -> 19
B62: 2 | C62: {=IFERROR(INDEX(CLM!$L$8:$L$55,SMALL(IF(CLM!$O$8:$O$55=C$59,ROW($O$8:$O$55)-7),B62)),"")} | D62: {=IFERROR(INDEX(CLM!$Q$8:$Q$55,SMALL(IF(CLM!$O$8:$O$55=C$59,ROW($O$8:$O$55)-7),B62)),"")} | E62: {=IFERROR(INDEX(CLM!$K$8:$K$55,SMALL(IF(CLM!$O$8:$O$55=C$59,ROW($O$8:$O$55)-7),B62)),"")} -> 20
B63: 3 | C63: {=IFERROR(INDEX(CLM!$L$8:$L$55,SMALL(IF(CLM!$O$8:$O$55=C$59,ROW($O$8:$O$55)-7),B63)),"")} | D63: {=IFERROR(INDEX(CLM!$Q$8:$Q$55,SMALL(IF(CLM!$O$8:$O$55=C$59,ROW($O$8:$O$55)-7),B63)),"")} | E63: {=IFERROR(INDEX(CLM!$K$8:$K$55,SMALL(IF(CLM!$O$8:$O$55=C$59,ROW($O$8:$O$55)-7),B63)),"")} -> 21
E64: Total | F64: =SUM(D61:D63) -> 0 | G64: =SUM(E61:E63) -> 60
C66: {=IFERROR(INDEX(CLM!$U$8:$U$55,SMALL(IF(CLM!$W$8:$W$55=1,ROW($O$8:$O$55)-7),F66)),"")} | F66: 10
C67: Dossard | D67: Temps | E67: Place
B68: 1 | C68: {=IFERROR(INDEX(CLM!$L$8:$L$55,SMALL(IF(CLM!$O$8:$O$55=C$66,ROW($O$8:$O$55)-7),B68)),"")} | D68: {=IFERROR(INDEX(CLM!$Q$8:$Q$55,SMALL(IF(CLM!$O$8:$O$55=C$66,ROW($O$8:$O$55)-7),B68)),"")} | E68: {=IFERROR(INDEX(CLM!$K$8:$K$55,SMALL(IF(CLM!$O$8:$O$55=C$66,ROW($O$8:$O$55)-7),B68)),"")} -> 19
B69: 2 | C69: {=IFERROR(INDEX(CLM!$L$8:$L$55,SMALL(IF(CLM!$O$8:$O$55=C$66,ROW($O$8:$O$55)-7),B69)),"")} | D69: {=IFERROR(INDEX(CLM!$Q$8:$Q$55,SMALL(IF(CLM!$O$8:$O$55=C$66,ROW($O$8:$O$55)-7),B69)),"")} | E69: {=IFERROR(INDEX(CLM!$K$8:$K$55,SMALL(IF(CLM!$O$8:$O$55=C$66,ROW($O$8:$O$55)-7),B69)),"")} -> 20
B70: 3 | C70: {=IFERROR(INDEX(CLM!$L$8:$L$55,SMALL(IF(CLM!$O$8:$O$55=C$66,ROW($O$8:$O$55)-7),B70)),"")} | D70: {=IFERROR(INDEX(CLM!$Q$8:$Q$55,SMALL(IF(CLM!$O$8:$O$55=C$66,ROW($O$8:$O$55)-7),B70)),"")} | E70: {=IFERROR(INDEX(CLM!$K$8:$K$55,SMALL(IF(CLM!$O$8:$O$55=C$66,ROW($O$8:$O$55)-7),B70)),"")} -> 21
E71: Total | F71: =SUM(D68:D70) -> 0 | G71: =SUM(E68:E70) -> 60

Sheet Etap2
D2: 2ème Souvenir | O2: 2ème Souvenir
A5: Classement de l'étape 2 | M5: Classement Général après étape 2
A7: Place | B7: Rang corrigé | C7: Dos | D7: Nom | E7: Prénom | F7: Club | G7: Tps étape | H7: écart | I7: Temps Général | J7: rang Gal | K7: 1/100° | L7: somP | M7: Place | N7: Dos | O7: Nom | P7: Prénom | Q7: Club | R7: Temps | S7: écart
A8: 1 | B8: =RANK(I8,$I$8:$I$24,1)+COUNTIFS($I$8:$I$24,I8,$K$8:$K$24,"<"&$K8) -> 2 | C8: 2 | D8: =IF(ISNA(VLOOKUP(C8,coureurs!$A$4:$I$70,2,FALSE)),"",VLOOKUP(C8,coureurs!$A$4:$I$70,2,FALSE)) -> BEAU5 | E8: =IF(ISNA(VLOOKUP(C8,coureurs!$A$4:$I$70,3,FALSE)),"",VLOOKUP(C8,coureurs!$A$4:$I$70,3,FALSE)) -> No5 | F8: =IF(ISNA(VLOOKUP(C8,coureurs!$A$4:$I$70,9,FALSE)),"",VLOOKUP(C8,coureurs!$A$4:$I$70,9,FALSE)) -> UC MONTPONNAISE VALLÉE DE L`ISLE | G8: 0.067858796 | I8: =VLOOKUP(C8,$C$8:$H$42,5,FALSE)+VLOOKUP(C8,CLM!$L$8:$R$42,6,FALSE) -> 0.071909722 | J8: =RANK(I8,$I$8:$I$24,1) -> 2 | K8: =VLOOKUP(C8,CLM!$L$8:$R$42,7,FALSE) -> 44 | L8: =VLOOKUP(C8,$C$8:$H$42,6,FALSE)+VLOOKUP(C8,CLM!$L$8:$R$42,6,FALSE) -> 0.0040509259 | M8: 1 | N8: =VLOOKUP(M8,$B$8:$J32,2,FALSE) -> 6 | O8: =IF(ISNA(VLOOKUP(N8,coureurs!$A$4:$I$70,2,FALSE)),"",VLOOKUP(N8,coureurs!$A$4:$I$70,2,FALSE)) -> BEAU10 | P8: =IF(ISNA(VLOOKUP(N8,coureurs!$A$4:$I$70,3,FALSE)),"",VLOOKUP(N8,coureurs!$A$4:$I$70,3,FALSE)) -> No10 | Q8: =IF(ISNA(VLOOKUP(N8,coureurs!$A$4:$I$70,9,FALSE)),"",VLOOKUP(N8,coureurs!$A$4:$I$70,9,FALSE)) -> VC DU SUD GIRONDE | R8: =VLOOKUP(N8,$C$8:$I$70,7,FALSE) -> 0.071840278
A9: =A8+1 -> 2 | B9: =RANK(I9,$I$8:$I$24,1)+COUNTIFS($I$8:$I$24,I9,$K$8:$K$24,"<"&$K9) -> 1 | C9: 6 | D9: =IF(ISNA(VLOOKUP(C9,coureurs!$A$4:$I$70,2,FALSE)),"",VLOOKUP(C9,coureurs!$A$4:$I$70,2,FALSE)) -> BEAU10 | E9: =IF(ISNA(VLOOKUP(C9,coureurs!$A$4:$I$70,3,FALSE)),"",VLOOKUP(C9,coureurs!$A$4:$I$70,3,FALSE)) -> No10 | F9: =IF(ISNA(VLOOKUP(C9,coureurs!$A$4:$I$70,9,FALSE)),"",VLOOKUP(C9,coureurs!$A$4:$I$70,9,FALSE)) -> VC DU SUD GIRONDE | G9: 0.067858796 | H9: =G9-G$8 -> 0 | I9: =VLOOKUP(C9,$C$8:$H$42,5,FALSE)+VLOOKUP(C9,CLM!$L$8:$R$42,6,FALSE) -> 0.071840278 | J9: =RANK(I9,$I$8:$I$24,1) -> 1 | K9: =VLOOKUP(C9,CLM!$L$8:$R$42,7,FALSE) -> 19 | L9: =VLOOKUP(C9,$C$8:$H$42,6,FALSE)+VLOOKUP(C9,CLM!$L$8:$R$42,6,FALSE) -> 0.0039814815 | M9: =M8+1 -> 2 | N9: =VLOOKUP(M9,$B$8:$J33,2,FALSE) -> 2 | O9: =IF(ISNA(VLOOKUP(N9,coureurs!$A$4:$I$70,2,FALSE)),"",VLOOKUP(N9,coureurs!$A$4:$I$70,2,FALSE)) -> BEAU5 | P9: =IF(ISNA(VLOOKUP(N9,coureurs!$A$4:$I$70,3,FALSE)),"",VLOOKUP(N9,coureurs!$A$4:$I$70,3,FALSE)) -> No5 | Q9: =IF(ISNA(VLOOKUP(N9,coureurs!$A$4:$I$70,9,FALSE)),"",VLOOKUP(N9,coureurs!$A$4:$I$70,9,FALSE)) -> UC MONTPONNAISE VALLÉE DE L`ISLE | R9: =VLOOKUP(N9,$C$8:$I$70,7,FALSE) -> 0.071909722 | S9: =R9-R$8 -> 6.9444444e-05
A10: =A9+1 -> 3 | B10: =RANK(I10,$I$8:$I$24,1)+COUNTIFS($I$8:$I$24,I10,$K$8:$K$24,"<"&$K10) -> 3 | C10: 3 | D10: =IF(ISNA(VLOOKUP(C10,coureurs!$A$4:$I$70,2,FALSE)),"",VLOOKUP(C10,coureurs!$A$4:$I$70,2,FALSE)) -> BEAU3 | E10: =IF(ISNA(VLOOKUP(C10,coureurs!$A$4:$I$70,3,FALSE)),"",VLOOKUP(C10,coureurs!$A$4:$I$70,3,FALSE)) -> No3 | F10: =IF(ISNA(VLOOKUP(C10,coureurs!$A$4:$I$70,9,FALSE)),"",VLOOKUP(C10,coureurs!$A$4:$I$70,9,FALSE)) -> Team Cycliste VERTEILLACOISE | G10: 0.068865741 | H10: =G10-G$8 -> 0.0010069444 | I10: =VLOOKUP(C10,$C$8:$H$42,5,FALSE)+VLOOKUP(C10,CLM!$L$8:$R$42,6,FALSE) -> 0.073043981 | J10: =RANK(I10,$I$8:$I$24,1) -> 3 | K10: =VLOOKUP(C10,CLM!$L$8:$R$42,7,FALSE) -> 14 | L10: =VLOOKUP(C10,$C$8:$H$42,6,FALSE)+VLOOKUP(C10,CLM!$L$8:$R$42,6,FALSE) -> 0.0051851852 | M10: =M9+1 -> 3 | N10: =VLOOKUP(M10,$B$8:$J34,2,FALSE) -> 3 | O10: =IF(ISNA(VLOOKUP(N10,coureurs!$A$4:$I$70,2,FALSE)),"",VLOOKUP(N10,coureurs!$A$4:$I$70,2,FALSE)) -> BEAU3 | P10: =IF(ISNA(VLOOKUP(N10,coureurs!$A$4:$I$70,3,FALSE)),"",VLOOKUP(N10,coureurs!$A$4:$I$70,3,FALSE)) -> No3 | Q10: =IF(ISNA(VLOOKUP(N10,coureurs!$A$4:$I$70,9,FALSE)),"",VLOOKUP(N10,coureurs!$A$4:$I$70,9,FALSE)) -> Team Cycliste VERTEILLACOISE | R10: =VLOOKUP(N10,$C$8:$I$70,7,FALSE) -> 0.073043981 | S10: =R10-R$8 -> 0.0012037037
A11: =A10+1 -> 4 | B11: =RANK(I11,$I$8:$I$24,1)+COUNTIFS($I$8:$I$24,I11,$K$8:$K$24,"<"&$K11) -> 4 | C11: 1 | D11: =IF(ISNA(VLOOKUP(C11,coureurs!$A$4:$I$70,2,FALSE)),"",VLOOKUP(C11,coureurs!$A$4:$I$70,2,FALSE)) -> BEAU4 | E11: =IF(ISNA(VLOOKUP(C11,coureurs!$A$4:$I$70,3,FALSE)),"",VLOOKUP(C11,coureurs!$A$4:$I$70,3,FALSE)) -> No4 | F11: =IF(ISNA(VLOOKUP(C11,coureurs!$A$4:$I$70,9,FALSE)),"",VLOOKUP(C11,coureurs!$A$4:$I$70,9,FALSE)) -> UC MONTPONNAISE VALLÉE DE L`ISLE | G11: 0.069918981 | H11: =G11-G$8 -> 0.0020601852 | I11: =VLOOKUP(C11,$C$8:$H$42,5,FALSE)+VLOOKUP(C11,CLM!$L$8:$R$42,6,FALSE) -> 0.07375 | J11: =RANK(I11,$I$8:$I$24,1) -> 4 | K11: =VLOOKUP(C11,CLM!$L$8:$R$42,7,FALSE) -> 26 | L11: =VLOOKUP(C11,$C$8:$H$42,6,FALSE)+VLOOKUP(C11,CLM!$L$8:$R$42,6,FALSE) -> 0.0058912037 | M11: =M10+1 -> 4 | N11: =VLOOKUP(M11,$B$8:$J35,2,FALSE) -> 1 | O11: =IF(ISNA(VLOOKUP(N11,coureurs!$A$4:$I$70,2,FALSE)),"",VLOOKUP(N11,coureurs!$A$4:$I$70,2,FALSE)) -> BEAU4 | P11: =IF(ISNA(VLOOKUP(N11,coureurs!$A$4:$I$70,3,FALSE)),"",VLOOKUP(N11,coureurs!$A$4:$I$70,3,FALSE)) -> No4 | Q11: =IF(ISNA(VLOOKUP(N11,coureurs!$A$4:$I$70,9,FALSE)),"",VLOOKUP(N11,coureurs!$A$4:$I$70,9,FALSE)) -> UC MONTPONNAISE VALLÉE DE L`ISLE | R11: =VLOOKUP(N11,$C$8:$I$70,7,FALSE) -> 0.07375 | S11: =R11-R$8 -> 0.0019097222
A12: =A11+1 -> 5 | B12: =RANK(I12,$I$8:$I$24,1)+COUNTIFS($I$8:$I$24,I12,$K$8:$K$24,"<"&$K12) -> 6 | C12: 4 | D12: =IF(ISNA(VLOOKUP(C12,coureurs!$A$4:$I$70,2,FALSE)),"",VLOOKUP(C12,coureurs!$A$4:$I$70,2,FALSE)) -> BEAU1 | E12: =IF(ISNA(VLOOKUP(C12,coureurs!$A$4:$I$70,3,FALSE)),"",VLOOKUP(C12,coureurs!$A$4:$I$70,3,FALSE)) -> No1 | F12: =IF(ISNA(VLOOKUP(C12,coureurs!$A$4:$I$70,9,FALSE)),"",VLOOKUP(C12,coureurs!$A$4:$I$70,9,FALSE)) -> Team Cycliste VERTEILLACOISE | G12: 0.071030093 | H12: =G12-G$8 -> 0.0031712963 | I12: =VLOOKUP(C12,$C$8:$H$42,5,FALSE)+VLOOKUP(C12,CLM!$L$8:$R$42,6,FALSE) -> 0.075266204 | J12: =RANK(I12,$I$8:$I$24,1) -> 6 | K12: =VLOOKUP(C12,CLM!$L$8:$R$42,7,FALSE) -> 58 | L12: =VLOOKUP(C12,$C$8:$H$42,6,FALSE)+VLOOKUP(C12,CLM!$L$8:$R$42,6,FALSE) -> 0.0074074074 | M12: =M11+1 -> 5 | N12: =VLOOKUP(M12,$B$8:$J36,2,FALSE) -> 18 | O12: =IF(ISNA(VLOOKUP(N12,coureurs!$A$4:$I$70,2,FALSE)),"",VLOOKUP(N12,coureurs!$A$4:$I$70,2,FALSE)) -> BEAU12 | P12: =IF(ISNA(VLOOKUP(N12,coureurs!$A$4:$I$70,3,FALSE)),"",VLOOKUP(N12,coureurs!$A$4:$I$70,3,FALSE)) -> No12 | Q12: =IF(ISNA(VLOOKUP(N12,coureurs!$A$4:$I$70,9,FALSE)),"",VLOOKUP(N12,coureurs!$A$4:$I$70,9,FALSE)) -> UC BRIVISTE | R12: =VLOOKUP(N12,$C$8:$I$70,7,FALSE) -> 0.075150463 | S12: =R12-R$8 -> 0.0033101852
A13: =A12+1 -> 6 | B13: =RANK(I13,$I$8:$I$24,1)+COUNTIFS($I$8:$I$24,I13,$K$8:$K$24,"<"&$K13) -> 5 | C13: 18 | D13: =IF(ISNA(VLOOKUP(C13,coureurs!$A$4:$I$70,2,FALSE)),"",VLOOKUP(C13,coureurs!$A$4:$I$70,2,FALSE)) -> BEAU12 | E13: =IF(ISNA(VLOOKUP(C13,coureurs!$A$4:$I$70,3,FALSE)),"",VLOOKUP(C13,coureurs!$A$4:$I$70,3,FALSE)) -> No12 | F13: =IF(ISNA(VLOOKUP(C13,coureurs!$A$4:$I$70,9,FALSE)),"",VLOOKUP(C13,coureurs!$A$4:$I$70,9,FALSE)) -> UC BRIVISTE | G13: 0.071030093 | H13: =G13-G$8 -> 0.0031712963 | I13: =VLOOKUP(C13,$C$8:$H$42,5,FALSE)+VLOOKUP(C13,CLM!$L$8:$R$42,6,FALSE) -> 0.075150463 | J13: =RANK(I13,$I$8:$I$24,1) -> 5 | K13: =VLOOKUP(C13,CLM!$L$8:$R$42,7,FALSE) -> 18 | L13: =VLOOKUP(C13,$C$8:$H$42,6,FALSE)+VLOOKUP(C13,CLM!$L$8:$R$42,6,FALSE) -> 0.0072916667 | M13: =M12+1 -> 6 | N13: =VLOOKUP(M13,$B$8:$J37,2,FALSE) -> 4 | O13: =IF(ISNA(VLOOKUP(N13,coureurs!$A$4:$I$70,2,FALSE)),"",VLOOKUP(N13,coureurs!$A$4:$I$70,2,FALSE)) -> BEAU1 | P13: =IF(ISNA(VLOOKUP(N13,coureurs!$A$4:$I$70,3,FALSE)),"",VLOOKUP(N13,coureurs!$A$4:$I$70,3,FALSE)) -> No1 | Q13: =IF(ISNA(VLOOKUP(N13,coureurs!$A$4:$I$70,9,FALSE)),"",VLOOKUP(N13,coureurs!$A$4:$I$70,9,FALSE)) -> Team Cycliste VERTEILLACOISE | R13: =VLOOKUP(N13,$C$8:$I$70,7,FALSE) -> 0.075266204 | S13: =R13-R$8 -> 0.0034259259
A14: =A13+1 -> 7 | B14: =RANK(I14,$I$8:$I$24,1)+COUNTIFS($I$8:$I$24,I14,$K$8:$K$24,"<"&$K14) -> 7 | C14: 10 | D14: =IF(ISNA(VLOOKUP(C14,coureurs!$A$4:$I$70,2,FALSE)),"",VLOOKUP(C14,coureurs!$A$4:$I$70,2,FALSE)) -> BEAU11 | E14: =IF(ISNA(VLOOKUP(C14,coureurs!$A$4:$I$70,3,FALSE)),"",VLOOKUP(C14,coureurs!$A$4:$I$70,3,FALSE)) -> No11 | F14: =IF(ISNA(VLOOKUP(C14,coureurs!$A$4:$I$70,9,FALSE)),"",VLOOKUP(C14,coureurs!$A$4:$I$70,9,FALSE)) -> AVC LIBOURNE | G14: 0.071030093 | H14: =G14-G$8 -> 0.0031712963 | I14: =VLOOKUP(C14,$C$8:$H$42,5,FALSE)+VLOOKUP(C14,CLM!$L$8:$R$42,6,FALSE) -> 0.075416667 | J14: =RANK(I14,$I$8:$I$24,1) -> 7 | K14: =VLOOKUP(C14,CLM!$L$8:$R$42,7,FALSE) -> 8 | L14: =VLOOKUP(C14,$C$8:$H$42,6,FALSE)+VLOOKUP(C14,CLM!$L$8:$R$42,6,FALSE) -> 0.0075578704 | M14: =M13+1 -> 7 | N14: =VLOOKUP(M14,$B$8:$J38,2,FALSE) -> 10 | O14: =IF(ISNA(VLOOKUP(N14,coureurs!$A$4:$I$70,2,FALSE)),"",VLOOKUP(N14,coureurs!$A$4:$I$70,2,FALSE)) -> BEAU11 | P14: =IF(ISNA(VLOOKUP(N14,coureurs!$A$4:$I$70,3,FALSE)),"",VLOOKUP(N14,coureurs!$A$4:$I$70,3,FALSE)) -> No11 | Q14: =IF(ISNA(VLOOKUP(N14,coureurs!$A$4:$I$70,9,FALSE)),"",VLOOKUP(N14,coureurs!$A$4:$I$70,9,FALSE)) -> AVC LIBOURNE | R14: =VLOOKUP(N14,$C$8:$I$70,7,FALSE) -> 0.075416667 | S14: =R14-R$8 -> 0.0035763889
A15: =A14+1 -> 8 | B15: =RANK(I15,$I$8:$I$24,1)+COUNTIFS($I$8:$I$24,I15,$K$8:$K$24,"<"&$K15) -> 8 | C15: 14 | D15: =IF(ISNA(VLOOKUP(C15,coureurs!$A$4:$I$70,2,FALSE)),"",VLOOKUP(C15,coureurs!$A$4:$I$70,2,FALSE)) -> BEAU14 | E15: =IF(ISNA(VLOOKUP(C15,coureurs!$A$4:$I$70,3,FALSE)),"",VLOOKUP(C15,coureurs!$A$4:$I$70,3,FALSE)) -> No14 | F15: =IF(ISNA(VLOOKUP(C15,coureurs!$A$4:$I$70,9,FALSE)),"",VLOOKUP(C15,coureurs!$A$4:$I$70,9,FALSE)) -> SPRINTER CLUB DU PERIGORD | G15: 0.071030093 | H15: =G15-G$8 -> 0.0031712963 | I15: =VLOOKUP(C15,$C$8:$H$42,5,FALSE)+VLOOKUP(C15,CLM!$L$8:$R$42,6,FALSE) -> 0.075416667 | J15: =RANK(I15,$I$8:$I$24,1) -> 7 | K15: =VLOOKUP(C15,CLM!$L$8:$R$42,7,FALSE) -> 25 | L15: =VLOOKUP(C15,$C$8:$H$42,6,FALSE)+VLOOKUP(C15,CLM!$L$8:$R$42,6,FALSE) -> 0.0075578704 | M15: =M14+1 -> 8 | N15: =VLOOKUP(M15,$B$8:$J39,2,FALSE) -> 14 | O15: =IF(ISNA(VLOOKUP(N15,coureurs!$A$4:$I$70,2,FALSE)),"",VLOOKUP(N15,coureurs!$A$4:$I$70,2,FALSE)) -> BEAU14 | P15: =IF(ISNA(VLOOKUP(N15,coureurs!$A$4:$I$70,3,FALSE)),"",VLOOKUP(N15,coureurs!$A$4:$I$70,3,FALSE)) -> No14 | Q15: =IF(ISNA(VLOOKUP(N15,coureurs!$A$4:$I$70,9,FALSE)),"",VLOOKUP(N15,coureurs!$A$4:$I$70,9,FALSE)) -> SPRINTER CLUB DU PERIGORD | R15: =VLOOKUP(N15,$C$8:$I$70,7,FALSE) -> 0.075416667 | S15: =R15-R$8 -> 0.0035763889
A16: =A15+1 -> 9 | B16: =RANK(I16,$I$8:$I$24,1)+COUNTIFS($I$8:$I$24,I16,$K$8:$K$24,"<"&$K16) -> 17 | C16: 11 | D16: =IF(ISNA(VLOOKUP(C16,coureurs!$A$4:$I$70,2,FALSE)),"",VLOOKUP(C16,coureurs!$A$4:$I$70,2,FALSE)) -> BEAU9 | E16: =IF(ISNA(VLOOKUP(C16,coureurs!$A$4:$I$70,3,FALSE)),"",VLOOKUP(C16,coureurs!$A$4:$I$70,3,FALSE)) -> No9 | F16: =IF(ISNA(VLOOKUP(C16,coureurs!$A$4:$I$70,9,FALSE)),"",VLOOKUP(C16,coureurs!$A$4:$I$70,9,FALSE)) -> VELO CLUB LE TEILLEUL | G16: 0.071030093 | H16: =G16-G$8 -> 0.0031712963 | I16: =VLOOKUP(C16,$C$8:$H$42,5,FALSE)+VLOOKUP(C16,CLM!$L$8:$R$42,6,FALSE) -> 0.10251157 | J16: =RANK(I16,$I$8:$I$24,1) -> 17 | K16: =VLOOKUP(C16,CLM!$L$8:$R$42,7,FALSE) -> 32 | L16: =VLOOKUP(C16,$C$8:$H$42,6,FALSE)+VLOOKUP(C16,CLM!$L$8:$R$42,6,FALSE) -> 0.034652778 | M16: =M15+1 -> 9 | N16: =VLOOKUP(M16,$B$8:$J40,2,FALSE) -> 8 | O16: =IF(ISNA(VLOOKUP(N16,coureurs!$A$4:$I$70,2,FALSE)),"",VLOOKUP(N16,coureurs!$A$4:$I$70,2,FALSE)) -> BEAU8 | P16: =IF(ISNA(VLOOKUP(N16,coureurs!$A$4:$I$70,3,FALSE)),"",VLOOKUP(N16,coureurs!$A$4:$I$70,3,FALSE)) -> No8 | Q16: =IF(ISNA(VLOOKUP(N16,coureurs!$A$4:$I$70,9,FALSE)),"",VLOOKUP(N16,coureurs!$A$4:$I$70,9,FALSE)) -> DORDOGNE SUD CYCLISME | R16: =VLOOKUP(N16,$C$8:$I$70,7,FALSE) -> 0.075775463 | S16: =R16-R$8 -> 0.0039351852
A17: =A16+1 -> 10 | B17: =RANK(I17,$I$8:$I$24,1)+COUNTIFS($I$8:$I$24,I17,$K$8:$K$24,"<"&$K17) -> 9 | C17: 8 | D17: =IF(ISNA(VLOOKUP(C17,coureurs!$A$4:$I$70,2,FALSE)),"",VLOOKUP(C17,coureurs!$A$4:$I$70,2,FALSE)) -> BEAU8 | E17: =IF(ISNA(VLOOKUP(C17,coureurs!$A$4:$I$70,3,FALSE)),"",VLOOKUP(C17,coureurs!$A$4:$I$70,3,FALSE)) -> No8 | F17: =IF(ISNA(VLOOKUP(C17,coureurs!$A$4:$I$70,9,FALSE)),"",VLOOKUP(C17,coureurs!$A$4:$I$70,9,FALSE)) -> DORDOGNE SUD CYCLISME | G17: 0.071030093 | H17: =G17-G$8 -> 0.0031712963 | I17: =VLOOKUP(C17,$C$8:$H$42,5,FALSE)+VLOOKUP(C17,CLM!$L$8:$R$42,6,FALSE) -> 0.075775463 | J17: =RANK(I17,$I$8:$I$24,1) -> 9 | K17: =VLOOKUP(C17,CLM!$L$8:$R$42,7,FALSE) -> 58 | L17: =VLOOKUP(C17,$C$8:$H$42,6,FALSE)+VLOOKUP(C17,CLM!$L$8:$R$42,6,FALSE) -> 0.0079166667 | M17: =M16+1 -> 10 | N17: =VLOOKUP(M17,$B$8:$J41,2,FALSE) -> 7 | O17: =IF(ISNA(VLOOKUP(N17,coureurs!$A$4:$I$70,2,FALSE)),"",VLOOKUP(N17,coureurs!$A$4:$I$70,2,FALSE)) -> BEAU7 | P17: =IF(ISNA(VLOOKUP(N17,coureurs!$A$4:$I$70,3,FALSE)),"",VLOOKUP(N17,coureurs!$A$4:$I$70,3,FALSE)) -> No7 | Q17: =IF(ISNA(VLOOKUP(N17,coureurs!$A$4:$I$70,9,FALSE)),"",VLOOKUP(N17,coureurs!$A$4:$I$70,9,FALSE)) -> DORDOGNE SUD CYCLISME | R17: =VLOOKUP(N17,$C$8:$I$70,7,FALSE) -> 0.07681713 | S17: =R17-R$8 -> 0.0049768519
A18: =A17+1 -> 11 | B18: =RANK(I18,$I$8:$I$24,1)+COUNTIFS($I$8:$I$24,I18,$K$8:$K$24,"<"&$K18) -> 10 | C18: 7 | D18: =IF(ISNA(VLOOKUP(C18,coureurs!$A$4:$I$70,2,FALSE)),"",VLOOKUP(C18,coureurs!$A$4:$I$70,2,FALSE)) -> BEAU7 | E18: =IF(ISNA(VLOOKUP(C18,coureurs!$A$4:$I$70,3,FALSE)),"",VLOOKUP(C18,coureurs!$A$4:$I$70,3,FALSE)) -> No7 | F18: =IF(ISNA(VLOOKUP(C18,coureurs!$A$4:$I$70,9,FALSE)),"",VLOOKUP(C18,coureurs!$A$4:$I$70,9,FALSE)) -> DORDOGNE SUD CYCLISME | G18: 0.072627315 | H18: =G18-G$8 -> 0.0047685185 | I18: =VLOOKUP(C18,$C$8:$H$42,5,FALSE)+VLOOKUP(C18,CLM!$L$8:$R$42,6,FALSE) -> 0.07681713 | J18: =RANK(I18,$I$8:$I$24,1) -> 10 | K18: =VLOOKUP(C18,CLM!$L$8:$R$42,7,FALSE) -> 35 | L18: =VLOOKUP(C18,$C$8:$H$42,6,FALSE)+VLOOKUP(C18,CLM!$L$8:$R$42,6,FALSE) -> 0.0089583333 | M18: =M17+1 -> 11 | N18: =VLOOKUP(M18,$B$8:$J42,2,FALSE) -> 9 | O18: =IF(ISNA(VLOOKUP(N18,coureurs!$A$4:$I$70,2,FALSE)),"",VLOOKUP(N18,coureurs!$A$4:$I$70,2,FALSE)) -> BEAU6 | P18: =IF(ISNA(VLOOKUP(N18,coureurs!$A$4:$I$70,3,FALSE)),"",VLOOKUP(N18,coureurs!$A$4:$I$70,3,FALSE)) -> No6 | Q18: =IF(ISNA(VLOOKUP(N18,coureurs!$A$4:$I$70,9,FALSE)),"",VLOOKUP(N18,coureurs!$A$4:$I$70,9,FALSE)) -> DORDOGNE SUD CYCLISME | R18: =VLOOKUP(N18,$C$8:$I$70,7,FALSE) -> 0.0771875 | S18: =R18-R$8 -> 0.0053472222
A19: =A18+1 -> 12 | B19: =RANK(I19,$I$8:$I$24,1)+COUNTIFS($I$8:$I$24,I19,$K$8:$K$24,"<"&$K19) -> 12 | C19: 5 | D19: =IF(ISNA(VLOOKUP(C19,coureurs!$A$4:$I$70,2,FALSE)),"",VLOOKUP(C19,coureurs!$A$4:$I$70,2,FALSE)) -> BEAU2 | E19: =IF(ISNA(VLOOKUP(C19,coureurs!$A$4:$I$70,3,FALSE)),"",VLOOKUP(C19,coureurs!$A$4:$I$70,3,FALSE)) -> No2 | F19: =IF(ISNA(VLOOKUP(C19,coureurs!$A$4:$I$70,9,FALSE)),"",VLOOKUP(C19,coureurs!$A$4:$I$70,9,FALSE)) -> Team Cycliste VERTEILLACOISE | G19: 0.072627315 | H19: =G19-G$8 -> 0.0047685185 | I19: =VLOOKUP(C19,$C$8:$H$42,5,FALSE)+VLOOKUP(C19,CLM!$L$8:$R$42,6,FALSE) -> 0.077349537 | J19: =RANK(I19,$I$8:$I$24,1) -> 12 | K19: =VLOOKUP(C19,CLM!$L$8:$R$42,7,FALSE) -> 59 | L19: =VLOOKUP(C19,$C$8:$H$42,6,FALSE)+VLOOKUP(C19,CLM!$L$8:$R$42,6,FALSE) -> 0.0094907407 | M19: =M18+1 -> 12 | N19: =VLOOKUP(M19,$B$8:$J42,2,FALSE) -> 5 | O19: =IF(ISNA(VLOOKUP(N19,coureurs!$A$4:$I$70,2,FALSE)),"",VLOOKUP(N19,coureurs!$A$4:$I$70,2,FALSE)) -> BEAU2 | P19: =IF(ISNA(VLOOKUP(N19,coureurs!$A$4:$I$70,3,FALSE)),"",VLOOKUP(N19,coureurs!$A$4:$I$70,3,FALSE)) -> No2 | Q19: =IF(ISNA(VLOOKUP(N19,coureurs!$A$4:$I$70,9,FALSE)),"",VLOOKUP(N19,coureurs!$A$4:$I$70,9,FALSE)) -> Team Cycliste VERTEILLACOISE | R19: =VLOOKUP(N19,$C$8:$I$70,7,FALSE) -> 0.077349537 | S19: =R19-R$8 -> 0.0055092593
A20: =A19+1 -> 13 | B20: =RANK(I20,$I$8:$I$24,1)+COUNTIFS($I$8:$I$24,I20,$K$8:$K$24,"<"&$K20) -> 11 | C20: 9 | D20: =IF(ISNA(VLOOKUP(C20,coureurs!$A$4:$I$70,2,FALSE)),"",VLOOKUP(C20,coureurs!$A$4:$I$70,2,FALSE)) -> BEAU6 | E20: =IF(ISNA(VLOOKUP(C20,coureurs!$A$4:$I$70,3,FALSE)),"",VLOOKUP(C20,coureurs!$A$4:$I$70,3,FALSE)) -> No6 | F20: =IF(ISNA(VLOOKUP(C20,coureurs!$A$4:$I$70,9,FALSE)),"",VLOOKUP(C20,coureurs!$A$4:$I$70,9,FALSE)) -> DORDOGNE SUD CYCLISME | G20: 0.072627315 | H20: =G20-G$8 -> 0.0047685185 | I20: =VLOOKUP(C20,$C$8:$H$42,5,FALSE)+VLOOKUP(C20,CLM!$L$8:$R$42,6,FALSE) -> 0.0771875 | J20: =RANK(I20,$I$8:$I$24,1) -> 11 | K20: =VLOOKUP(C20,CLM!$L$8:$R$42,7,FALSE) -> 34 | L20: =VLOOKUP(C20,$C$8:$H$42,6,FALSE)+VLOOKUP(C20,CLM!$L$8:$R$42,6,FALSE) -> 0.0093287037 | M20: =M19+1 -> 13 | N20: =VLOOKUP(M20,$B$8:$J42,2,FALSE) -> 13 | O20: =IF(ISNA(VLOOKUP(N20,coureurs!$A$4:$I$70,2,FALSE)),"",VLOOKUP(N20,coureurs!$A$4:$I$70,2,FALSE)) -> BEAU13 | P20: =IF(ISNA(VLOOKUP(N20,coureurs!$A$4:$I$70,3,FALSE)),"",VLOOKUP(N20,coureurs!$A$4:$I$70,3,FALSE)) -> No13 | Q20: =IF(ISNA(VLOOKUP(N20,coureurs!$A$4:$I$70,9,FALSE)),"",VLOOKUP(N20,coureurs!$A$4:$I$70,9,FALSE)) -> EC MEDOC ATLANTIQUE | R20: =VLOOKUP(N20,$C$8:$I$70,7,FALSE) -> 0.077511574 | S20: =R20-R$8 -> 0.0056712963
A21: =A20+1 -> 14 | B21: =RANK(I21,$I$8:$I$24,1)+COUNTIFS($I$8:$I$24,I21,$K$8:$K$24,"<"&$K21) -> 14 | C21: 12 | D21: =IF(ISNA(VLOOKUP(C21,coureurs!$A$4:$I$70,2,FALSE)),"",VLOOKUP(C21,coureurs!$A$4:$I$70,2,FALSE)) -> BEAU15 | E21: =IF(ISNA(VLOOKUP(C21,coureurs!$A$4:$I$70,3,FALSE)),"",VLOOKUP(C21,coureurs!$A$4:$I$70,3,FALSE)) -> No15 | F21: =IF(ISNA(VLOOKUP(C21,coureurs!$A$4:$I$70,9,FALSE)),"",VLOOKUP(C21,coureurs!$A$4:$I$70,9,FALSE)) -> SPRINTER CLUB DU PERIGORD | G21: 0.073194444 | H21: =G21-G$8 -> 0.0053356481 | I21: =VLOOKUP(C21,$C$8:$H$42,5,FALSE)+VLOOKUP(C21,CLM!$L$8:$R$42,6,FALSE) -> 0.077592593 | J21: =RANK(I21,$I$8:$I$24,1) -> 14 | K21: =VLOOKUP(C21,CLM!$L$8:$R$42,7,FALSE) -> 51 | L21: =VLOOKUP(C21,$C$8:$H$42,6,FALSE)+VLOOKUP(C21,CLM!$L$8:$R$42,6,FALSE) -> 0.0097337963 | M21: =M20+1 -> 14 | N21: =VLOOKUP(M21,$B$8:$J42,2,FALSE) -> 12 | O21: =IF(ISNA(VLOOKUP(N21,coureurs!$A$4:$I$70,2,FALSE)),"",VLOOKUP(N21,coureurs!$A$4:$I$70,2,FALSE)) -> BEAU15 | P21: =IF(ISNA(VLOOKUP(N21,coureurs!$A$4:$I$70,3,FALSE)),"",VLOOKUP(N21,coureurs!$A$4:$I$70,3,FALSE)) -> No15 | Q21: =IF(ISNA(VLOOKUP(N21,coureurs!$A$4:$I$70,9,FALSE)),"",VLOOKUP(N21,coureurs!$A$4:$I$70,9,FALSE)) -> SPRINTER CLUB DU PERIGORD | R21: =VLOOKUP(N21,$C$8:$I$70,7,FALSE) -> 0.077592593 | S21: =R21-R$8 -> 0.0057523148
A22: =A21+1 -> 15 | B22: =RANK(I22,$I$8:$I$24,1)+COUNTIFS($I$8:$I$24,I22,$K$8:$K$24,"<"&$K22) -> 16 | C22: 16 | D22: =IF(ISNA(VLOOKUP(C22,coureurs!$A$4:$I$70,2,FALSE)),"",VLOOKUP(C22,coureurs!$A$4:$I$70,2,FALSE)) -> BEAU16 | E22: =IF(ISNA(VLOOKUP(C22,coureurs!$A$4:$I$70,3,FALSE)),"",VLOOKUP(C22,coureurs!$A$4:$I$70,3,FALSE)) -> No16 | F22: =IF(ISNA(VLOOKUP(C22,coureurs!$A$4:$I$70,9,FALSE)),"",VLOOKUP(C22,coureurs!$A$4:$I$70,9,FALSE)) -> AVC LIBOURNE | G22: 0.073333333 | H22: =G22-G$8 -> 0.005474537 | I22: =VLOOKUP(C22,$C$8:$H$42,5,FALSE)+VLOOKUP(C22,CLM!$L$8:$R$42,6,FALSE) -> 0.077928241 | J22: =RANK(I22,$I$8:$I$24,1) -> 16 | K22: =VLOOKUP(C22,CLM!$L$8:$R$42,7,FALSE) -> 44 | L22: =VLOOKUP(C22,$C$8:$H$42,6,FALSE)+VLOOKUP(C22,CLM!$L$8:$R$42,6,FALSE) -> 0.010069444 | M22: =M21+1 -> 15 | N22: =VLOOKUP(M22,$B$8:$J42,2,FALSE) -> 17 | O22: =IF(ISNA(VLOOKUP(N22,coureurs!$A$4:$I$70,2,FALSE)),"",VLOOKUP(N22,coureurs!$A$4:$I$70,2,FALSE)) -> BEAU17 | P22: =IF(ISNA(VLOOKUP(N22,coureurs!$A$4:$I$70,3,FALSE)),"",VLOOKUP(N22,coureurs!$A$4:$I$70,3,FALSE)) -> No17 | Q22: =IF(ISNA(VLOOKUP(N22,coureurs!$A$4:$I$70,9,FALSE)),"",VLOOKUP(N22,coureurs!$A$4:$I$70,9,FALSE)) -> EC MEDOC ATLANTIQUE | R22: =VLOOKUP(N22,$C$8:$I$70,7,FALSE) -> 0.077789352 | S22: =R22-R$8 -> 0.0059490741
A23: =A22+1 -> 16 | B23: =RANK(I23,$I$8:$I$24,1)+COUNTIFS($I$8:$I$24,I23,$K$8:$K$24,"<"&$K23) -> 15 | C23: 17 | D23: =IF(ISNA(VLOOKUP(C23,coureurs!$A$4:$I$70,2,FALSE)),"",VLOOKUP(C23,coureurs!$A$4:$I$70,2,FALSE)) -> BEAU17 | E23: =IF(ISNA(VLOOKUP(C23,coureurs!$A$4:$I$70,3,FALSE)),"",VLOOKUP(C23,coureurs!$A$4:$I$70,3,FALSE)) -> No17 | F23: =IF(ISNA(VLOOKUP(C23,coureurs!$A$4:$I$70,9,FALSE)),"",VLOOKUP(C23,coureurs!$A$4:$I$70,9,FALSE)) -> EC MEDOC ATLANTIQUE | G23: 0.073333333 | H23: =G23-G$8 -> 0.005474537 | I23: =VLOOKUP(C23,$C$8:$H$42,5,FALSE)+VLOOKUP(C23,CLM!$L$8:$R$42,6,FALSE) -> 0.077789352 | J23: =RANK(I23,$I$8:$I$24,1) -> 15 | K23: =VLOOKUP(C23,CLM!$L$8:$R$42,7,FALSE) -> 40 | L23: =VLOOKUP(C23,$C$8:$H$42,6,FALSE)+VLOOKUP(C23,CLM!$L$8:$R$42,6,FALSE) -> 0.0099305556 | M23: =M22+1 -> 16 | N23: =VLOOKUP(M23,$B$8:$J42,2,FALSE) -> 16 | O23: =IF(ISNA(VLOOKUP(N23,coureurs!$A$4:$I$70,2,FALSE)),"",VLOOKUP(N23,coureurs!$A$4:$I$70,2,FALSE)) -> BEAU16 | P23: =IF(ISNA(VLOOKUP(N23,coureurs!$A$4:$I$70,3,FALSE)),"",VLOOKUP(N23,coureurs!$A$4:$I$70,3,FALSE)) -> No16 | Q23: =IF(ISNA(VLOOKUP(N23,coureurs!$A$4:$I$70,9,FALSE)),"",VLOOKUP(N23,coureurs!$A$4:$I$70,9,FALSE)) -> AVC LIBOURNE | R23: =VLOOKUP(N23,$C$8:$I$70,7,FALSE) -> 0.077928241 | S23: =R23-R$8 -> 0.006087963
A24: =A23+1 -> 17 | B24: =RANK(I24,$I$8:$I$24,1)+COUNTIFS($I$8:$I$24,I24,$K$8:$K$24,"<"&$K24) -> 13 | C24: 13 | D24: =IF(ISNA(VLOOKUP(C24,coureurs!$A$4:$I$70,2,FALSE)),"",VLOOKUP(C24,coureurs!$A$4:$I$70,2,FALSE)) -> BEAU13 | E24: =IF(ISNA(VLOOKUP(C24,coureurs!$A$4:$I$70,3,FALSE)),"",VLOOKUP(C24,coureurs!$A$4:$I$70,3,FALSE)) -> No13 | F24: =IF(ISNA(VLOOKUP(C24,coureurs!$A$4:$I$70,9,FALSE)),"",VLOOKUP(C24,coureurs!$A$4:$I$70,9,FALSE)) -> EC MEDOC ATLANTIQUE | G24: 0.073333333 | H24: =G24-G$8 -> 0.005474537 | I24: =VLOOKUP(C24,$C$8:$H$42,5,FALSE)+VLOOKUP(C24,CLM!$L$8:$R$42,6,FALSE) -> 0.077511574 | J24: =RANK(I24,$I$8:$I$24,1) -> 13 | K24: =VLOOKUP(C24,CLM!$L$8:$R$42,7,FALSE) -> 43 | L24: =VLOOKUP(C24,$C$8:$H$42,6,FALSE)+VLOOKUP(C24,CLM!$L$8:$R$42,6,FALSE) -> 0.0096527778 | M24: =M23+1 -> 17 | N24: =VLOOKUP(M24,$B$8:$J42,2,FALSE) -> 11 | O24: =IF(ISNA(VLOOKUP(N24,coureurs!$A$4:$I$70,2,FALSE)),"",VLOOKUP(N24,coureurs!$A$4:$I$70,2,FALSE)) -> BEAU9 | P24: =IF(ISNA(VLOOKUP(N24,coureurs!$A$4:$I$70,3,FALSE)),"",VLOOKUP(N24,coureurs!$A$4:$I$70,3,FALSE)) -> No9 | Q24: =IF(ISNA(VLOOKUP(N24,coureurs!$A$4:$I$70,9,FALSE)),"",VLOOKUP(N24,coureurs!$A$4:$I$70,9,FALSE)) -> VELO CLUB LE TEILLEUL | R24: =VLOOKUP(N24,$C$8:$I$70,7,FALSE) -> 0.10251157 | S24: =R24-R$8 -> 0.030671296
A25: =A24+1 -> 18 | B25: =RANK(I25,$I$8:$I$24,1)+COUNTIFS($I$8:$I$24,I25,$K$8:$K$24,"<"&$K25) -> #N/A | D25: =IF(ISNA(VLOOKUP(C25,coureurs!$A$4:$I$70,2,FALSE)),"",VLOOKUP(C25,coureurs!$A$4:$I$70,2,FALSE)) | E25: =IF(ISNA(VLOOKUP(C25,coureurs!$A$4:$I$70,3,FALSE)),"",VLOOKUP(C25,coureurs!$A$4:$I$70,3,FALSE)) | F25: =IF(ISNA(VLOOKUP(C25,coureurs!$A$4:$I$70,9,FALSE)),"",VLOOKUP(C25,coureurs!$A$4:$I$70,9,FALSE)) | H25: =G25-G$8 -> -0.067858796 | I25: =VLOOKUP(C25,$C$8:$H$42,5,FALSE)+VLOOKUP(C25,CLM!$L$8:$R$42,6,FALSE) -> #N/A | J25: =RANK(I25,$I$8:$I$24,1) -> #N/A | K25: =VLOOKUP(C25,CLM!$L$8:$R$42,7,FALSE) -> #N/A | L25: =VLOOKUP(C25,$C$8:$H$42,6,FALSE)+VLOOKUP(C25,CLM!$L$8:$R$42,6,FALSE) -> #N/A | M25: =M24+1 -> 18 | N25: =VLOOKUP(M25,$B$8:$J42,2,FALSE) -> #N/A | O25: =IF(ISNA(VLOOKUP(N25,coureurs!$A$4:$I$70,2,FALSE)),"",VLOOKUP(N25,coureurs!$A$4:$I$70,2,FALSE)) | P25: =IF(ISNA(VLOOKUP(N25,coureurs!$A$4:$I$70,3,FALSE)),"",VLOOKUP(N25,coureurs!$A$4:$I$70,3,FALSE)) | Q25: =IF(ISNA(VLOOKUP(N25,coureurs!$A$4:$I$70,9,FALSE)),"",VLOOKUP(N25,coureurs!$A$4:$I$70,9,FALSE)) | R25: =VLOOKUP(N25,$C$8:$I$70,7,FALSE) -> #N/A | S25: =R25-R$8 -> #N/A
A26: =A25+1 -> 19 | B26: =RANK(I26,$I$8:$I$24,1)+COUNTIFS($I$8:$I$24,I26,$K$8:$K$24,"<"&$K26) -> #N/A | D26: =IF(ISNA(VLOOKUP(C26,coureurs!$A$4:$I$70,2,FALSE)),"",VLOOKUP(C26,coureurs!$A$4:$I$70,2,FALSE)) | E26: =IF(ISNA(VLOOKUP(C26,coureurs!$A$4:$I$70,3,FALSE)),"",VLOOKUP(C26,coureurs!$A$4:$I$70,3,FALSE)) | F26: =IF(ISNA(VLOOKUP(C26,coureurs!$A$4:$I$70,9,FALSE)),"",VLOOKUP(C26,coureurs!$A$4:$I$70,9,FALSE)) | H26: =G26-G$8 -> -0.067858796 | I26: =VLOOKUP(C26,$C$8:$H$42,5,FALSE)+VLOOKUP(C26,CLM!$L$8:$R$42,6,FALSE) -> #N/A | J26: =RANK(I26,$I$8:$I$24,1) -> #N/A | K26: =VLOOKUP(C26,CLM!$L$8:$R$42,7,FALSE) -> #N/A | L26: =VLOOKUP(C26,$C$8:$H$42,6,FALSE)+VLOOKUP(C26,CLM!$L$8:$R$42,6,FALSE) -> #N/A | M26: =M25+1 -> 19 | N26: =VLOOKUP(M26,$B$8:$J42,2,FALSE) -> #N/A | O26: =IF(ISNA(VLOOKUP(N26,coureurs!$A$4:$I$70,2,FALSE)),"",VLOOKUP(N26,coureurs!$A$4:$I$70,2,FALSE)) | P26: =IF(ISNA(VLOOKUP(N26,coureurs!$A$4:$I$70,3,FALSE)),"",VLOOKUP(N26,coureurs!$A$4:$I$70,3,FALSE)) | Q26: =IF(ISNA(VLOOKUP(N26,coureurs!$A$4:$I$70,9,FALSE)),"",VLOOKUP(N26,coureurs!$A$4:$I$70,9,FALSE)) | R26: =VLOOKUP(N26,$C$8:$I$70,7,FALSE) -> #N/A | S26: =R26-R$8 -> #N/A
A27: =A26+1 -> 20 | B27: =RANK(I27,$I$8:$I$24,1)+COUNTIFS($I$8:$I$24,I27,$K$8:$K$24,"<"&$K27) -> #N/A | D27: =IF(ISNA(VLOOKUP(C27,coureurs!$A$4:$I$70,2,FALSE)),"",VLOOKUP(C27,coureurs!$A$4:$I$70,2,FALSE)) | E27: =IF(ISNA(VLOOKUP(C27,coureurs!$A$4:$I$70,3,FALSE)),"",VLOOKUP(C27,coureurs!$A$4:$I$70,3,FALSE)) | F27: =IF(ISNA(VLOOKUP(C27,coureurs!$A$4:$I$70,9,FALSE)),"",VLOOKUP(C27,coureurs!$A$4:$I$70,9,FALSE)) | H27: =G27-G$8 -> -0.067858796 | I27: =VLOOKUP(C27,$C$8:$H$42,5,FALSE)+VLOOKUP(C27,CLM!$L$8:$R$42,6,FALSE) -> #N/A | J27: =RANK(I27,$I$8:$I$24,1) -> #N/A | K27: =VLOOKUP(C27,CLM!$L$8:$R$42,7,FALSE) -> #N/A | L27: =VLOOKUP(C27,$C$8:$H$42,6,FALSE)+VLOOKUP(C27,CLM!$L$8:$R$42,6,FALSE) -> #N/A | M27: =M26+1 -> 20 | N27: =VLOOKUP(M27,$B$8:$J42,2,FALSE) -> #N/A | O27: =IF(ISNA(VLOOKUP(N27,coureurs!$A$4:$I$70,2,FALSE)),"",VLOOKUP(N27,coureurs!$A$4:$I$70,2,FALSE)) | P27: =IF(ISNA(VLOOKUP(N27,coureurs!$A$4:$I$70,3,FALSE)),"",VLOOKUP(N27,coureurs!$A$4:$I$70,3,FALSE)) | Q27: =IF(ISNA(VLOOKUP(N27,coureurs!$A$4:$I$70,9,FALSE)),"",VLOOKUP(N27,coureurs!$A$4:$I$70,9,FALSE)) | R27: =VLOOKUP(N27,$C$8:$I$70,7,FALSE) -> #N/A | S27: =R27-R$8 -> #N/A
A28: =A27+1 -> 21 | B28: =RANK(I28,$I$8:$I$24,1)+COUNTIFS($I$8:$I$24,I28,$K$8:$K$24,"<"&$K28) -> #N/A | D28: =IF(ISNA(VLOOKUP(C28,coureurs!$A$4:$I$70,2,FALSE)),"",VLOOKUP(C28,coureurs!$A$4:$I$70,2,FALSE)) | E28: =IF(ISNA(VLOOKUP(C28,coureurs!$A$4:$I$70,3,FALSE)),"",VLOOKUP(C28,coureurs!$A$4:$I$70,3,FALSE)) | F28: =IF(ISNA(VLOOKUP(C28,coureurs!$A$4:$I$70,9,FALSE)),"",VLOOKUP(C28,coureurs!$A$4:$I$70,9,FALSE)) | H28: =G28-G$8 -> -0.067858796 | I28: =VLOOKUP(C28,$C$8:$H$42,5,FALSE)+VLOOKUP(C28,CLM!$L$8:$R$42,6,FALSE) -> #N/A | J28: =RANK(I28,$I$8:$I$24,1) -> #N/A | K28: =VLOOKUP(C28,CLM!$L$8:$R$42,7,FALSE) -> #N/A | L28: =VLOOKUP(C28,$C$8:$H$42,6,FALSE)+VLOOKUP(C28,CLM!$L$8:$R$42,6,FALSE) -> #N/A | M28: =M27+1 -> 21 | N28: =VLOOKUP(M28,$B$8:$J42,2,FALSE) -> #N/A | O28: =IF(ISNA(VLOOKUP(N28,coureurs!$A$4:$I$70,2,FALSE)),"",VLOOKUP(N28,coureurs!$A$4:$I$70,2,FALSE)) | P28: =IF(ISNA(VLOOKUP(N28,coureurs!$A$4:$I$70,3,FALSE)),"",VLOOKUP(N28,coureurs!$A$4:$I$70,3,FALSE)) | Q28: =IF(ISNA(VLOOKUP(N28,coureurs!$A$4:$I$70,9,FALSE)),"",VLOOKUP(N28,coureurs!$A$4:$I$70,9,FALSE)) | R28: =VLOOKUP(N28,$C$8:$I$70,7,FALSE) -> #N/A | S28: =R28-R$8 -> #N/A
A29: =A28+1 -> 22 | B29: =RANK(I29,$I$8:$I$24,1)+COUNTIFS($I$8:$I$24,I29,$K$8:$K$24,"<"&$K29) -> #N/A | D29: =IF(ISNA(VLOOKUP(C29,coureurs!$A$4:$I$70,2,FALSE)),"",VLOOKUP(C29,coureurs!$A$4:$I$70,2,FALSE)) | E29: =IF(ISNA(VLOOKUP(C29,coureurs!$A$4:$I$70,3,FALSE)),"",VLOOKUP(C29,coureurs!$A$4:$I$70,3,FALSE)) | F29: =IF(ISNA(VLOOKUP(C29,coureurs!$A$4:$I$70,9,FALSE)),"",VLOOKUP(C29,coureurs!$A$4:$I$70,9,FALSE)) | H29: =G29-G$8 -> -0.067858796 | I29: =VLOOKUP(C29,$C$8:$H$42,5,FALSE)+VLOOKUP(C29,CLM!$L$8:$R$42,6,FALSE) -> #N/A | J29: =RANK(I29,$I$8:$I$24,1) -> #N/A | K29: =VLOOKUP(C29,CLM!$L$8:$R$42,7,FALSE) -> #N/A | L29: =VLOOKUP(C29,$C$8:$H$42,6,FALSE)+VLOOKUP(C29,CLM!$L$8:$R$42,6,FALSE) -> #N/A | M29: =M28+1 -> 22 | N29: =VLOOKUP(M29,$B$8:$J42,2,FALSE) -> #N/A | O29: =IF(ISNA(VLOOKUP(N29,coureurs!$A$4:$I$70,2,FALSE)),"",VLOOKUP(N29,coureurs!$A$4:$I$70,2,FALSE)) | P29: =IF(ISNA(VLOOKUP(N29,coureurs!$A$4:$I$70,3,FALSE)),"",VLOOKUP(N29,coureurs!$A$4:$I$70,3,FALSE)) | Q29: =IF(ISNA(VLOOKUP(N29,coureurs!$A$4:$I$70,9,FALSE)),"",VLOOKUP(N29,coureurs!$A$4:$I$70,9,FALSE)) | R29: =VLOOKUP(N29,$C$8:$I$70,7,FALSE) -> #N/A | S29: =R29-R$8 -> #N/A
A30: =A29+1 -> 23 | B30: =RANK(I30,$I$8:$I$24,1)+COUNTIFS($I$8:$I$24,I30,$K$8:$K$24,"<"&$K30) -> #N/A | D30: =IF(ISNA(VLOOKUP(C30,coureurs!$A$4:$I$70,2,FALSE)),"",VLOOKUP(C30,coureurs!$A$4:$I$70,2,FALSE)) | E30: =IF(ISNA(VLOOKUP(C30,coureurs!$A$4:$I$70,3,FALSE)),"",VLOOKUP(C30,coureurs!$A$4:$I$70,3,FALSE)) | F30: =IF(ISNA(VLOOKUP(C30,coureurs!$A$4:$I$70,9,FALSE)),"",VLOOKUP(C30,coureurs!$A$4:$I$70,9,FALSE)) | H30: =G30-G$8 -> -0.067858796 | I30: =VLOOKUP(C30,$C$8:$H$42,5,FALSE)+VLOOKUP(C30,CLM!$L$8:$R$42,6,FALSE) -> #N/A | J30: =RANK(I30,$I$8:$I$24,1) -> #N/A | K30: =VLOOKUP(C30,CLM!$L$8:$R$42,7,FALSE) -> #N/A | L30: =VLOOKUP(C30,$C$8:$H$42,6,FALSE)+VLOOKUP(C30,CLM!$L$8:$R$42,6,FALSE) -> #N/A | M30: =M29+1 -> 23 | N30: =VLOOKUP(M30,$B$8:$J42,2,FALSE) -> #N/A | O30: =IF(ISNA(VLOOKUP(N30,coureurs!$A$4:$I$70,2,FALSE)),"",VLOOKUP(N30,coureurs!$A$4:$I$70,2,FALSE)) | P30: =IF(ISNA(VLOOKUP(N30,coureurs!$A$4:$I$70,3,FALSE)),"",VLOOKUP(N30,coureurs!$A$4:$I$70,3,FALSE)) | Q30: =IF(ISNA(VLOOKUP(N30,coureurs!$A$4:$I$70,9,FALSE)),"",VLOOKUP(N30,coureurs!$A$4:$I$70,9,FALSE)) | R30: =VLOOKUP(N30,$C$8:$I$70,7,FALSE) -> #N/A | S30: =R30-R$8 -> #N/A
A31: =A30+1 -> 24 | B31: =RANK(I31,$I$8:$I$24,1)+COUNTIFS($I$8:$I$24,I31,$K$8:$K$24,"<"&$K31) -> #N/A | D31: =IF(ISNA(VLOOKUP(C31,coureurs!$A$4:$I$70,2,FALSE)),"",VLOOKUP(C31,coureurs!$A$4:$I$70,2,FALSE)) | E31: =IF(ISNA(VLOOKUP(C31,coureurs!$A$4:$I$70,3,FALSE)),"",VLOOKUP(C31,coureurs!$A$4:$I$70,3,FALSE)) | F31: =IF(ISNA(VLOOKUP(C31,coureurs!$A$4:$I$70,9,FALSE)),"",VLOOKUP(C31,coureurs!$A$4:$I$70,9,FALSE)) | H31: =G31-G$8 -> -0.067858796 | I31: =VLOOKUP(C31,$C$8:$H$42,5,FALSE)+VLOOKUP(C31,CLM!$L$8:$R$42,6,FALSE) -> #N/A | J31: =RANK(I31,$I$8:$I$24,1) -> #N/A | K31: =VLOOKUP(C31,CLM!$L$8:$R$42,7,FALSE) -> #N/A | L31: =VLOOKUP(C31,$C$8:$H$42,6,FALSE)+VLOOKUP(C31,CLM!$L$8:$R$42,6,FALSE) -> #N/A | M31: =M30+1 -> 24 | N31: =VLOOKUP(M31,$B$8:$J42,2,FALSE) -> #N/A | O31: =IF(ISNA(VLOOKUP(N31,coureurs!$A$4:$I$70,2,FALSE)),"",VLOOKUP(N31,coureurs!$A$4:$I$70,2,FALSE)) | P31: =IF(ISNA(VLOOKUP(N31,coureurs!$A$4:$I$70,3,FALSE)),"",VLOOKUP(N31,coureurs!$A$4:$I$70,3,FALSE)) | Q31: =IF(ISNA(VLOOKUP(N31,coureurs!$A$4:$I$70,9,FALSE)),"",VLOOKUP(N31,coureurs!$A$4:$I$70,9,FALSE)) | R31: =VLOOKUP(N31,$C$8:$I$70,7,FALSE) -> #N/A | S31: =R31-R$8 -> #N/A
A32: =A31+1 -> 25 | B32: =RANK(I32,$I$8:$I$24,1)+COUNTIFS($I$8:$I$24,I32,$K$8:$K$24,"<"&$K32) -> #N/A | D32: =IF(ISNA(VLOOKUP(C32,coureurs!$A$4:$I$70,2,FALSE)),"",VLOOKUP(C32,coureurs!$A$4:$I$70,2,FALSE)) | E32: =IF(ISNA(VLOOKUP(C32,coureurs!$A$4:$I$70,3,FALSE)),"",VLOOKUP(C32,coureurs!$A$4:$I$70,3,FALSE)) | F32: =IF(ISNA(VLOOKUP(C32,coureurs!$A$4:$I$70,9,FALSE)),"",VLOOKUP(C32,coureurs!$A$4:$I$70,9,FALSE)) | H32: =G32-G$8 -> -0.067858796 | I32: =VLOOKUP(C32,$C$8:$H$42,5,FALSE)+VLOOKUP(C32,CLM!$L$8:$R$42,6,FALSE) -> #N/A | J32: =RANK(I32,$I$8:$I$24,1) -> #N/A | K32: =VLOOKUP(C32,CLM!$L$8:$R$42,7,FALSE) -> #N/A | L32: =VLOOKUP(C32,$C$8:$H$42,6,FALSE)+VLOOKUP(C32,CLM!$L$8:$R$42,6,FALSE) -> #N/A | M32: =M31+1 -> 25 | N32: =VLOOKUP(M32,$B$8:$J43,2,FALSE) -> #N/A | O32: =IF(ISNA(VLOOKUP(N32,coureurs!$A$4:$I$70,2,FALSE)),"",VLOOKUP(N32,coureurs!$A$4:$I$70,2,FALSE)) | P32: =IF(ISNA(VLOOKUP(N32,coureurs!$A$4:$I$70,3,FALSE)),"",VLOOKUP(N32,coureurs!$A$4:$I$70,3,FALSE)) | Q32: =IF(ISNA(VLOOKUP(N32,coureurs!$A$4:$I$70,9,FALSE)),"",VLOOKUP(N32,coureurs!$A$4:$I$70,9,FALSE)) | R32: =VLOOKUP(N32,$C$8:$I$70,7,FALSE) -> #N/A | S32: =R32-R$8 -> #N/A
A33: =A32+1 -> 26 | B33: =RANK(I33,$I$8:$I$24,1)+COUNTIFS($I$8:$I$24,I33,$K$8:$K$24,"<"&$K33) -> #N/A | D33: =IF(ISNA(VLOOKUP(C33,coureurs!$A$4:$I$70,2,FALSE)),"",VLOOKUP(C33,coureurs!$A$4:$I$70,2,FALSE)) | E33: =IF(ISNA(VLOOKUP(C33,coureurs!$A$4:$I$70,3,FALSE)),"",VLOOKUP(C33,coureurs!$A$4:$I$70,3,FALSE)) | F33: =IF(ISNA(VLOOKUP(C33,coureurs!$A$4:$I$70,9,FALSE)),"",VLOOKUP(C33,coureurs!$A$4:$I$70,9,FALSE)) | H33: =G33-G$8 -> -0.067858796 | I33: =VLOOKUP(C33,$C$8:$H$42,5,FALSE)+VLOOKUP(C33,CLM!$L$8:$R$42,6,FALSE) -> #N/A | J33: =RANK(I33,$I$8:$I$24,1) -> #N/A | K33: =VLOOKUP(C33,CLM!$L$8:$R$42,7,FALSE) -> #N/A | L33: =VLOOKUP(C33,$C$8:$H$42,6,FALSE)+VLOOKUP(C33,CLM!$L$8:$R$42,6,FALSE) -> #N/A | M33: =M32+1 -> 26 | O33: =IF(ISNA(VLOOKUP(N33,coureurs!$A$4:$I$70,2,FALSE)),"",VLOOKUP(N33,coureurs!$A$4:$I$70,2,FALSE)) | P33: =IF(ISNA(VLOOKUP(N33,coureurs!$A$4:$I$70,3,FALSE)),"",VLOOKUP(N33,coureurs!$A$4:$I$70,3,FALSE)) | Q33: =IF(ISNA(VLOOKUP(N33,coureurs!$A$4:$I$70,9,FALSE)),"",VLOOKUP(N33,coureurs!$A$4:$I$70,9,FALSE)) | R33: =VLOOKUP(N33,$C$8:$I$70,7,FALSE) -> #N/A | S33: =R33-R$8 -> #N/A
A34: =A33+1 -> 27 | B34: =RANK(I34,$I$8:$I$24,1)+COUNTIFS($I$8:$I$24,I34,$K$8:$K$24,"<"&$K34) -> #N/A | D34: =IF(ISNA(VLOOKUP(C34,coureurs!$A$4:$I$70,2,FALSE)),"",VLOOKUP(C34,coureurs!$A$4:$I$70,2,FALSE)) | E34: =IF(ISNA(VLOOKUP(C34,coureurs!$A$4:$I$70,3,FALSE)),"",VLOOKUP(C34,coureurs!$A$4:$I$70,3,FALSE)) | F34: =IF(ISNA(VLOOKUP(C34,coureurs!$A$4:$I$70,9,FALSE)),"",VLOOKUP(C34,coureurs!$A$4:$I$70,9,FALSE)) | H34: =G34-G$8 -> -0.067858796 | I34: =VLOOKUP(C34,$C$8:$H$42,5,FALSE)+VLOOKUP(C34,CLM!$L$8:$R$42,6,FALSE) -> #N/A | J34: =RANK(I34,$I$8:$I$24,1) -> #N/A | K34: =VLOOKUP(C34,CLM!$L$8:$R$42,7,FALSE) -> #N/A | L34: =VLOOKUP(C34,$C$8:$H$42,6,FALSE)+VLOOKUP(C34,CLM!$L$8:$R$42,6,FALSE) -> #N/A | M34: =M33+1 -> 27 | O34: =IF(ISNA(VLOOKUP(N34,coureurs!$A$4:$I$70,2,FALSE)),"",VLOOKUP(N34,coureurs!$A$4:$I$70,2,FALSE)) | P34: =IF(ISNA(VLOOKUP(N34,coureurs!$A$4:$I$70,3,FALSE)),"",VLOOKUP(N34,coureurs!$A$4:$I$70,3,FALSE)) | Q34: =IF(ISNA(VLOOKUP(N34,coureurs!$A$4:$I$70,9,FALSE)),"",VLOOKUP(N34,coureurs!$A$4:$I$70,9,FALSE)) | R34: =VLOOKUP(N34,$C$8:$I$70,7,FALSE) -> #N/A | S34: =R34-R$8 -> #N/A
A35: =A34+1 -> 28 | B35: =RANK(I35,$I$8:$I$24,1)+COUNTIFS($I$8:$I$24,I35,$K$8:$K$24,"<"&$K35) -> #N/A | D35: =IF(ISNA(VLOOKUP(C35,coureurs!$A$4:$I$70,2,FALSE)),"",VLOOKUP(C35,coureurs!$A$4:$I$70,2,FALSE)) | E35: =IF(ISNA(VLOOKUP(C35,coureurs!$A$4:$I$70,3,FALSE)),"",VLOOKUP(C35,coureurs!$A$4:$I$70,3,FALSE)) | F35: =IF(ISNA(VLOOKUP(C35,coureurs!$A$4:$I$70,9,FALSE)),"",VLOOKUP(C35,coureurs!$A$4:$I$70,9,FALSE)) | H35: =G35-G$8 -> -0.067858796 | I35: =VLOOKUP(C35,$C$8:$H$42,5,FALSE)+VLOOKUP(C35,CLM!$L$8:$R$42,6,FALSE) -> #N/A | J35: =RANK(I35,$I$8:$I$24,1) -> #N/A | K35: =VLOOKUP(C35,CLM!$L$8:$R$42,7,FALSE) -> #N/A | L35: =VLOOKUP(C35,$C$8:$H$42,6,FALSE)+VLOOKUP(C35,CLM!$L$8:$R$42,6,FALSE) -> #N/A | M35: =M34+1 -> 28 | O35: =IF(ISNA(VLOOKUP(N35,coureurs!$A$4:$I$70,2,FALSE)),"",VLOOKUP(N35,coureurs!$A$4:$I$70,2,FALSE)) | P35: =IF(ISNA(VLOOKUP(N35,coureurs!$A$4:$I$70,3,FALSE)),"",VLOOKUP(N35,coureurs!$A$4:$I$70,3,FALSE)) | Q35: =IF(ISNA(VLOOKUP(N35,coureurs!$A$4:$I$70,9,FALSE)),"",VLOOKUP(N35,coureurs!$A$4:$I$70,9,FALSE)) | R35: =VLOOKUP(N35,$C$8:$I$70,7,FALSE) -> #N/A | S35: =R35-R$8 -> #N/A
A36: =A35+1 -> 29 | B36: =RANK(I36,$I$8:$I$24,1)+COUNTIFS($I$8:$I$24,I36,$K$8:$K$24,"<"&$K36) -> #N/A | D36: =IF(ISNA(VLOOKUP(C36,coureurs!$A$4:$I$70,2,FALSE)),"",VLOOKUP(C36,coureurs!$A$4:$I$70,2,FALSE)) | E36: =IF(ISNA(VLOOKUP(C36,coureurs!$A$4:$I$70,3,FALSE)),"",VLOOKUP(C36,coureurs!$A$4:$I$70,3,FALSE)) | F36: =IF(ISNA(VLOOKUP(C36,coureurs!$A$4:$I$70,9,FALSE)),"",VLOOKUP(C36,coureurs!$A$4:$I$70,9,FALSE)) | H36: =G36-G$8 -> -0.067858796 | I36: =VLOOKUP(C36,$C$8:$H$42,5,FALSE)+VLOOKUP(C36,CLM!$L$8:$R$42,6,FALSE) -> #N/A | J36: =RANK(I36,$I$8:$I$24,1) -> #N/A | K36: =VLOOKUP(C36,CLM!$L$8:$R$42,7,FALSE) -> #N/A | L36: =VLOOKUP(C36,$C$8:$H$42,6,FALSE)+VLOOKUP(C36,CLM!$L$8:$R$42,6,FALSE) -> #N/A | M36: =M35+1 -> 29 | O36: =IF(ISNA(VLOOKUP(N36,coureurs!$A$4:$I$70,2,FALSE)),"",VLOOKUP(N36,coureurs!$A$4:$I$70,2,FALSE)) | P36: =IF(ISNA(VLOOKUP(N36,coureurs!$A$4:$I$70,3,FALSE)),"",VLOOKUP(N36,coureurs!$A$4:$I$70,3,FALSE)) | Q36: =IF(ISNA(VLOOKUP(N36,coureurs!$A$4:$I$70,9,FALSE)),"",VLOOKUP(N36,coureurs!$A$4:$I$70,9,FALSE)) | R36: =VLOOKUP(N36,$C$8:$I$70,7,FALSE) -> #N/A | S36: =R36-R$8 -> #N/A
A37: =A36+1 -> 30 | B37: =RANK(I37,$I$8:$I$24,1)+COUNTIFS($I$8:$I$24,I37,$K$8:$K$24,"<"&$K37) -> #N/A | D37: =IF(ISNA(VLOOKUP(C37,coureurs!$A$4:$I$70,2,FALSE)),"",VLOOKUP(C37,coureurs!$A$4:$I$70,2,FALSE)) | E37: =IF(ISNA(VLOOKUP(C37,coureurs!$A$4:$I$70,3,FALSE)),"",VLOOKUP(C37,coureurs!$A$4:$I$70,3,FALSE)) | F37: =IF(ISNA(VLOOKUP(C37,coureurs!$A$4:$I$70,9,FALSE)),"",VLOOKUP(C37,coureurs!$A$4:$I$70,9,FALSE)) | H37: =G37-G$8 -> -0.067858796 | I37: =VLOOKUP(C37,$C$8:$H$42,5,FALSE)+VLOOKUP(C37,CLM!$L$8:$R$42,6,FALSE) -> #N/A | J37: =RANK(I37,$I$8:$I$24,1) -> #N/A | K37: =VLOOKUP(C37,CLM!$L$8:$R$42,7,FALSE) -> #N/A | L37: =VLOOKUP(C37,$C$8:$H$42,6,FALSE)+VLOOKUP(C37,CLM!$L$8:$R$42,6,FALSE) -> #N/A | M37: =M36+1 -> 30 | O37: =IF(ISNA(VLOOKUP(N37,coureurs!$A$4:$I$70,2,FALSE)),"",VLOOKUP(N37,coureurs!$A$4:$I$70,2,FALSE)) | P37: =IF(ISNA(VLOOKUP(N37,coureurs!$A$4:$I$70,3,FALSE)),"",VLOOKUP(N37,coureurs!$A$4:$I$70,3,FALSE)) | Q37: =IF(ISNA(VLOOKUP(N37,coureurs!$A$4:$I$70,9,FALSE)),"",VLOOKUP(N37,coureurs!$A$4:$I$70,9,FALSE)) | R37: =VLOOKUP(N37,$C$8:$I$70,7,FALSE) -> #N/A | S37: =R37-R$8 -> #N/A
A38: =A37+1 -> 31 | B38: =RANK(I38,$I$8:$I$24,1)+COUNTIFS($I$8:$I$24,I38,$K$8:$K$24,"<"&$K38) -> #N/A | D38: =IF(ISNA(VLOOKUP(C38,coureurs!$A$4:$I$70,2,FALSE)),"",VLOOKUP(C38,coureurs!$A$4:$I$70,2,FALSE)) | E38: =IF(ISNA(VLOOKUP(C38,coureurs!$A$4:$I$70,3,FALSE)),"",VLOOKUP(C38,coureurs!$A$4:$I$70,3,FALSE)) | F38: =IF(ISNA(VLOOKUP(C38,coureurs!$A$4:$I$70,9,FALSE)),"",VLOOKUP(C38,coureurs!$A$4:$I$70,9,FALSE)) | H38: =G38-G$8 -> -0.067858796 | I38: =VLOOKUP(C38,$C$8:$H$42,5,FALSE)+VLOOKUP(C38,CLM!$L$8:$R$42,6,FALSE) -> #N/A | J38: =RANK(I38,$I$8:$I$24,1) -> #N/A | K38: =VLOOKUP(C38,CLM!$L$8:$R$42,7,FALSE) -> #N/A | L38: =VLOOKUP(C38,$C$8:$H$42,6,FALSE)+VLOOKUP(C38,CLM!$L$8:$R$42,6,FALSE) -> #N/A | M38: =M37+1 -> 31 | O38: =IF(ISNA(VLOOKUP(N38,coureurs!$A$4:$I$70,2,FALSE)),"",VLOOKUP(N38,coureurs!$A$4:$I$70,2,FALSE)) | P38: =IF(ISNA(VLOOKUP(N38,coureurs!$A$4:$I$70,3,FALSE)),"",VLOOKUP(N38,coureurs!$A$4:$I$70,3,FALSE)) | Q38: =IF(ISNA(VLOOKUP(N38,coureurs!$A$4:$I$70,9,FALSE)),"",VLOOKUP(N38,coureurs!$A$4:$I$70,9,FALSE)) | R38: =VLOOKUP(N38,$C$8:$I$70,7,FALSE) -> #N/A | S38: =R38-R$8 -> #N/A
A39: =A38+1 -> 32 | B39: =RANK(I39,$I$8:$I$24,1)+COUNTIFS($I$8:$I$24,I39,$K$8:$K$24,"<"&$K39) -> #N/A | D39: =IF(ISNA(VLOOKUP(C39,coureurs!$A$4:$I$70,2,FALSE)),"",VLOOKUP(C39,coureurs!$A$4:$I$70,2,FALSE)) | E39: =IF(ISNA(VLOOKUP(C39,coureurs!$A$4:$I$70,3,FALSE)),"",VLOOKUP(C39,coureurs!$A$4:$I$70,3,FALSE)) | F39: =IF(ISNA(VLOOKUP(C39,coureurs!$A$4:$I$70,9,FALSE)),"",VLOOKUP(C39,coureurs!$A$4:$I$70,9,FALSE)) | H39: =G39-G$8 -> -0.067858796 | I39: =VLOOKUP(C39,$C$8:$H$42,5,FALSE)+VLOOKUP(C39,CLM!$L$8:$R$42,6,FALSE) -> #N/A | J39: =RANK(I39,$I$8:$I$24,1) -> #N/A | K39: =VLOOKUP(C39,CLM!$L$8:$R$42,7,FALSE) -> #N/A | L39: =VLOOKUP(C39,$C$8:$H$42,6,FALSE)+VLOOKUP(C39,CLM!$L$8:$R$42,6,FALSE) -> #N/A | M39: =M38+1 -> 32 | O39: =IF(ISNA(VLOOKUP(N39,coureurs!$A$4:$I$70,2,FALSE)),"",VLOOKUP(N39,coureurs!$A$4:$I$70,2,FALSE)) | P39: =IF(ISNA(VLOOKUP(N39,coureurs!$A$4:$I$70,3,FALSE)),"",VLOOKUP(N39,coureurs!$A$4:$I$70,3,FALSE)) | Q39: =IF(ISNA(VLOOKUP(N39,coureurs!$A$4:$I$70,9,FALSE)),"",VLOOKUP(N39,coureurs!$A$4:$I$70,9,FALSE)) | R39: =VLOOKUP(N39,$C$8:$I$70,7,FALSE) -> #N/A | S39: =R39-R$8 -> #N/A
A40: =A39+1 -> 33 | B40: =RANK(I40,$I$8:$I$24,1)+COUNTIFS($I$8:$I$24,I40,$K$8:$K$24,"<"&$K40) -> #N/A | D40: =IF(ISNA(VLOOKUP(C40,coureurs!$A$4:$I$70,2,FALSE)),"",VLOOKUP(C40,coureurs!$A$4:$I$70,2,FALSE)) | E40: =IF(ISNA(VLOOKUP(C40,coureurs!$A$4:$I$70,3,FALSE)),"",VLOOKUP(C40,coureurs!$A$4:$I$70,3,FALSE)) | F40: =IF(ISNA(VLOOKUP(C40,coureurs!$A$4:$I$70,9,FALSE)),"",VLOOKUP(C40,coureurs!$A$4:$I$70,9,FALSE)) | H40: =G40-G$8 -> -0.067858796 | I40: =VLOOKUP(C40,$C$8:$H$42,5,FALSE)+VLOOKUP(C40,CLM!$L$8:$R$42,6,FALSE) -> #N/A | J40: =RANK(I40,$I$8:$I$24,1) -> #N/A | K40: =VLOOKUP(C40,CLM!$L$8:$R$42,7,FALSE) -> #N/A | L40: =VLOOKUP(C40,$C$8:$H$42,6,FALSE)+VLOOKUP(C40,CLM!$L$8:$R$42,6,FALSE) -> #N/A | M40: =M39+1 -> 33 | O40: =IF(ISNA(VLOOKUP(N40,coureurs!$A$4:$I$70,2,FALSE)),"",VLOOKUP(N40,coureurs!$A$4:$I$70,2,FALSE)) | P40: =IF(ISNA(VLOOKUP(N40,coureurs!$A$4:$I$70,3,FALSE)),"",VLOOKUP(N40,coureurs!$A$4:$I$70,3,FALSE)) | Q40: =IF(ISNA(VLOOKUP(N40,coureurs!$A$4:$I$70,9,FALSE)),"",VLOOKUP(N40,coureurs!$A$4:$I$70,9,FALSE)) | R40: =VLOOKUP(N40,$C$8:$I$70,7,FALSE) -> #N/A | S40: =R40-R$8 -> #N/A
A41: =A40+1 -> 34 | B41: =RANK(I41,$I$8:$I$24,1)+COUNTIFS($I$8:$I$24,I41,$K$8:$K$24,"<"&$K41) -> #N/A | D41: =IF(ISNA(VLOOKUP(C41,coureurs!$A$4:$I$70,2,FALSE)),"",VLOOKUP(C41,coureurs!$A$4:$I$70,2,FALSE)) | E41: =IF(ISNA(VLOOKUP(C41,coureurs!$A$4:$I$70,3,FALSE)),"",VLOOKUP(C41,coureurs!$A$4:$I$70,3,FALSE)) | F41: =IF(ISNA(VLOOKUP(C41,coureurs!$A$4:$I$70,9,FALSE)),"",VLOOKUP(C41,coureurs!$A$4:$I$70,9,FALSE)) | H41: =G41-G$8 -> -0.067858796 | I41: =VLOOKUP(C41,$C$8:$H$42,5,FALSE)+VLOOKUP(C41,CLM!$L$8:$R$42,6,FALSE) -> #N/A | J41: =RANK(I41,$I$8:$I$24,1) -> #N/A | K41: =VLOOKUP(C41,CLM!$L$8:$R$42,7,FALSE) -> #N/A | L41: =VLOOKUP(C41,$C$8:$H$42,6,FALSE)+VLOOKUP(C41,CLM!$L$8:$R$42,6,FALSE) -> #N/A | M41: =M40+1 -> 34 | O41: =IF(ISNA(VLOOKUP(N41,coureurs!$A$4:$I$70,2,FALSE)),"",VLOOKUP(N41,coureurs!$A$4:$I$70,2,FALSE)) | P41: =IF(ISNA(VLOOKUP(N41,coureurs!$A$4:$I$70,3,FALSE)),"",VLOOKUP(N41,coureurs!$A$4:$I$70,3,FALSE)) | Q41: =IF(ISNA(VLOOKUP(N41,coureurs!$A$4:$I$70,9,FALSE)),"",VLOOKUP(N41,coureurs!$A$4:$I$70,9,FALSE)) | R41: =VLOOKUP(N41,$C$8:$I$70,7,FALSE) -> #N/A | S41: =R41-R$8 -> #N/A
A42: =A41+1 -> 35 | B42: =RANK(I42,$I$8:$I$24,1)+COUNTIFS($I$8:$I$24,I42,$K$8:$K$24,"<"&$K42) -> #N/A | D42: =IF(ISNA(VLOOKUP(C42,coureurs!$A$4:$I$70,2,FALSE)),"",VLOOKUP(C42,coureurs!$A$4:$I$70,2,FALSE)) | E42: =IF(ISNA(VLOOKUP(C42,coureurs!$A$4:$I$70,3,FALSE)),"",VLOOKUP(C42,coureurs!$A$4:$I$70,3,FALSE)) | F42: =IF(ISNA(VLOOKUP(C42,coureurs!$A$4:$I$70,9,FALSE)),"",VLOOKUP(C42,coureurs!$A$4:$I$70,9,FALSE)) | H42: =G42-G$8 -> -0.067858796 | I42: =VLOOKUP(C42,$C$8:$H$42,5,FALSE)+VLOOKUP(C42,CLM!$L$8:$R$42,6,FALSE) -> #N/A | J42: =RANK(I42,$I$8:$I$24,1) -> #N/A | K42: =VLOOKUP(C42,CLM!$L$8:$R$42,7,FALSE) -> #N/A | L42: =VLOOKUP(C42,$C$8:$H$42,6,FALSE)+VLOOKUP(C42,CLM!$L$8:$R$42,6,FALSE) -> #N/A | M42: =M41+1 -> 35 | O42: =IF(ISNA(VLOOKUP(N42,coureurs!$A$4:$I$70,2,FALSE)),"",VLOOKUP(N42,coureurs!$A$4:$I$70,2,FALSE)) | P42: =IF(ISNA(VLOOKUP(N42,coureurs!$A$4:$I$70,3,FALSE)),"",VLOOKUP(N42,coureurs!$A$4:$I$70,3,FALSE)) | Q42: =IF(ISNA(VLOOKUP(N42,coureurs!$A$4:$I$70,9,FALSE)),"",VLOOKUP(N42,coureurs!$A$4:$I$70,9,FALSE)) | R42: =VLOOKUP(N42,$C$8:$I$70,7,FALSE) -> #N/A | S42: =R42-R$8 -> #N/A
A43: 36 | B43: =RANK(I43,$I$8:$I$24,1)+COUNTIFS($I$8:$I$24,I43,$K$8:$K$24,"<"&$K43) -> #N/A | D43: =IF(ISNA(VLOOKUP(C43,coureurs!$A$4:$I$70,2,FALSE)),"",VLOOKUP(C43,coureurs!$A$4:$I$70,2,FALSE)) | E43: =IF(ISNA(VLOOKUP(C43,coureurs!$A$4:$I$70,3,FALSE)),"",VLOOKUP(C43,coureurs!$A$4:$I$70,3,FALSE)) | F43: =IF(ISNA(VLOOKUP(C43,coureurs!$A$4:$I$70,9,FALSE)),"",VLOOKUP(C43,coureurs!$A$4:$I$70,9,FALSE)) | H43: =G43-G$8 -> -0.067858796 | I43: =VLOOKUP(C43,$C$8:$H$42,5,FALSE)+VLOOKUP(C43,CLM!$L$8:$R$42,6,FALSE) -> #N/A | J43: =RANK(I43,$I$8:$I$24,1) -> #N/A | K43: =VLOOKUP(C43,CLM!$L$8:$R$42,7,FALSE) -> #N/A | L43: =VLOOKUP(C43,$C$8:$H$42,6,FALSE)+VLOOKUP(C43,CLM!$L$8:$R$42,6,FALSE) -> #N/A | M43: =M42+1 -> 36 | O43: =IF(ISNA(VLOOKUP(N43,coureurs!$A$4:$I$70,2,FALSE)),"",VLOOKUP(N43,coureurs!$A$4:$I$70,2,FALSE)) | P43: =IF(ISNA(VLOOKUP(N43,coureurs!$A$4:$I$70,3,FALSE)),"",VLOOKUP(N43,coureurs!$A$4:$I$70,3,FALSE)) | Q43: =IF(ISNA(VLOOKUP(N43,coureurs!$A$4:$I$70,9,FALSE)),"",VLOOKUP(N43,coureurs!$A$4:$I$70,9,FALSE)) | R43: =VLOOKUP(N43,$C$8:$I$70,7,FALSE) -> #N/A | S43: =R43-R$8 -> #N/A
A44: 37 | B44: =RANK(I44,$I$8:$I$24,1)+COUNTIFS($I$8:$I$24,I44,$K$8:$K$24,"<"&$K44) -> #N/A | D44: =IF(ISNA(VLOOKUP(C44,coureurs!$A$4:$I$70,2,FALSE)),"",VLOOKUP(C44,coureurs!$A$4:$I$70,2,FALSE)) | E44: =IF(ISNA(VLOOKUP(C44,coureurs!$A$4:$I$70,3,FALSE)),"",VLOOKUP(C44,coureurs!$A$4:$I$70,3,FALSE)) | F44: =IF(ISNA(VLOOKUP(C44,coureurs!$A$4:$I$70,9,FALSE)),"",VLOOKUP(C44,coureurs!$A$4:$I$70,9,FALSE)) | H44: =G44-G$8 -> -0.067858796 | I44: =VLOOKUP(C44,$C$8:$H$42,5,FALSE)+VLOOKUP(C44,CLM!$L$8:$R$42,6,FALSE) -> #N/A | J44: =RANK(I44,$I$8:$I$24,1) -> #N/A | K44: =VLOOKUP(C44,CLM!$L$8:$R$42,7,FALSE) -> #N/A | L44: =VLOOKUP(C44,$C$8:$H$42,6,FALSE)+VLOOKUP(C44,CLM!$L$8:$R$42,6,FALSE) -> #N/A | M44: =M43+1 -> 37 | O44: =IF(ISNA(VLOOKUP(N44,coureurs!$A$4:$I$70,2,FALSE)),"",VLOOKUP(N44,coureurs!$A$4:$I$70,2,FALSE)) | P44: =IF(ISNA(VLOOKUP(N44,coureurs!$A$4:$I$70,3,FALSE)),"",VLOOKUP(N44,coureurs!$A$4:$I$70,3,FALSE)) | Q44: =IF(ISNA(VLOOKUP(N44,coureurs!$A$4:$I$70,9,FALSE)),"",VLOOKUP(N44,coureurs!$A$4:$I$70,9,FALSE)) | R44: =VLOOKUP(N44,$C$8:$I$70,7,FALSE) -> #N/A | S44: =R44-R$8 -> #N/A
A45: 38 | B45: =RANK(I45,$I$8:$I$24,1)+COUNTIFS($I$8:$I$24,I45,$K$8:$K$24,"<"&$K45) -> #N/A | D45: =IF(ISNA(VLOOKUP(C45,coureurs!$A$4:$I$70,2,FALSE)),"",VLOOKUP(C45,coureurs!$A$4:$I$70,2,FALSE)) | E45: =IF(ISNA(VLOOKUP(C45,coureurs!$A$4:$I$70,3,FALSE)),"",VLOOKUP(C45,coureurs!$A$4:$I$70,3,FALSE)) | F45: =IF(ISNA(VLOOKUP(C45,coureurs!$A$4:$I$70,9,FALSE)),"",VLOOKUP(C45,coureurs!$A$4:$I$70,9,FALSE)) | H45: =G45-G$8 -> -0.067858796 | I45: =VLOOKUP(C45,$C$8:$H$42,5,FALSE)+VLOOKUP(C45,CLM!$L$8:$R$42,6,FALSE) -> #N/A | J45: =RANK(I45,$I$8:$I$24,1) -> #N/A | K45: =VLOOKUP(C45,CLM!$L$8:$R$42,7,FALSE) -> #N/A | L45: =VLOOKUP(C45,$C$8:$H$42,6,FALSE)+VLOOKUP(C45,CLM!$L$8:$R$42,6,FALSE) -> #N/A | M45: =M44+1 -> 38 | O45: =IF(ISNA(VLOOKUP(N45,coureurs!$A$4:$I$70,2,FALSE)),"",VLOOKUP(N45,coureurs!$A$4:$I$70,2,FALSE)) | P45: =IF(ISNA(VLOOKUP(N45,coureurs!$A$4:$I$70,3,FALSE)),"",VLOOKUP(N45,coureurs!$A$4:$I$70,3,FALSE)) | Q45: =IF(ISNA(VLOOKUP(N45,coureurs!$A$4:$I$70,9,FALSE)),"",VLOOKUP(N45,coureurs!$A$4:$I$70,9,FALSE)) | R45: =VLOOKUP(N45,$C$8:$I$70,7,FALSE) -> #N/A | S45: =R45-R$8 -> #N/A
A46: 39 | B46: =RANK(I46,$I$8:$I$24,1)+COUNTIFS($I$8:$I$24,I46,$K$8:$K$24,"<"&$K46) -> #N/A | D46: =IF(ISNA(VLOOKUP(C46,coureurs!$A$4:$I$70,2,FALSE)),"",VLOOKUP(C46,coureurs!$A$4:$I$70,2,FALSE)) | E46: =IF(ISNA(VLOOKUP(C46,coureurs!$A$4:$I$70,3,FALSE)),"",VLOOKUP(C46,coureurs!$A$4:$I$70,3,FALSE)) | F46: =IF(ISNA(VLOOKUP(C46,coureurs!$A$4:$I$70,9,FALSE)),"",VLOOKUP(C46,coureurs!$A$4:$I$70,9,FALSE)) | H46: =G46-G$8 -> -0.067858796 | I46: =VLOOKUP(C46,$C$8:$H$42,5,FALSE)+VLOOKUP(C46,CLM!$L$8:$R$42,6,FALSE) -> #N/A | J46: =RANK(I46,$I$8:$I$24,1) -> #N/A | K46: =VLOOKUP(C46,CLM!$L$8:$R$42,7,FALSE) -> #N/A | L46: =VLOOKUP(C46,$C$8:$H$42,6,FALSE)+VLOOKUP(C46,CLM!$L$8:$R$42,6,FALSE) -> #N/A | M46: =M45+1 -> 39 | O46: =IF(ISNA(VLOOKUP(N46,coureurs!$A$4:$I$70,2,FALSE)),"",VLOOKUP(N46,coureurs!$A$4:$I$70,2,FALSE)) | P46: =IF(ISNA(VLOOKUP(N46,coureurs!$A$4:$I$70,3,FALSE)),"",VLOOKUP(N46,coureurs!$A$4:$I$70,3,FALSE)) | Q46: =IF(ISNA(VLOOKUP(N46,coureurs!$A$4:$I$70,9,FALSE)),"",VLOOKUP(N46,coureurs!$A$4:$I$70,9,FALSE)) | R46: =VLOOKUP(N46,$C$8:$I$70,7,FALSE) -> #N/A | S46: =R46-R$8 -> #N/A
A47: 40 | B47: =RANK(I47,$I$8:$I$24,1)+COUNTIFS($I$8:$I$24,I47,$K$8:$K$24,"<"&$K47) -> #N/A | D47: =IF(ISNA(VLOOKUP(C47,coureurs!$A$4:$I$70,2,FALSE)),"",VLOOKUP(C47,coureurs!$A$4:$I$70,2,FALSE)) | E47: =IF(ISNA(VLOOKUP(C47,coureurs!$A$4:$I$70,3,FALSE)),"",VLOOKUP(C47,coureurs!$A$4:$I$70,3,FALSE)) | F47: =IF(ISNA(VLOOKUP(C47,coureurs!$A$4:$I$70,9,FALSE)),"",VLOOKUP(C47,coureurs!$A$4:$I$70,9,FALSE)) | H47: =G47-G$8 -> -0.067858796 | I47: =VLOOKUP(C47,$C$8:$H$42,5,FALSE)+VLOOKUP(C47,CLM!$L$8:$R$42,6,FALSE) -> #N/A | J47: =RANK(I47,$I$8:$I$24,1) -> #N/A | K47: =VLOOKUP(C47,CLM!$L$8:$R$42,7,FALSE) -> #N/A | L47: =VLOOKUP(C47,$C$8:$H$42,6,FALSE)+VLOOKUP(C47,CLM!$L$8:$R$42,6,FALSE) -> #N/A | M47: =M46+1 -> 40 | O47: =IF(ISNA(VLOOKUP(N47,coureurs!$A$4:$I$70,2,FALSE)),"",VLOOKUP(N47,coureurs!$A$4:$I$70,2,FALSE)) | P47: =IF(ISNA(VLOOKUP(N47,coureurs!$A$4:$I$70,3,FALSE)),"",VLOOKUP(N47,coureurs!$A$4:$I$70,3,FALSE)) | Q47: =IF(ISNA(VLOOKUP(N47,coureurs!$A$4:$I$70,9,FALSE)),"",VLOOKUP(N47,coureurs!$A$4:$I$70,9,FALSE)) | R47: =VLOOKUP(N47,$C$8:$I$70,7,FALSE) -> #N/A | S47: =R47-R$8 -> #N/A
A48: 41 | B48: =RANK(I48,$I$8:$I$24,1)+COUNTIFS($I$8:$I$24,I48,$K$8:$K$24,"<"&$K48) -> #N/A | D48: =IF(ISNA(VLOOKUP(C48,coureurs!$A$4:$I$70,2,FALSE)),"",VLOOKUP(C48,coureurs!$A$4:$I$70,2,FALSE)) | E48: =IF(ISNA(VLOOKUP(C48,coureurs!$A$4:$I$70,3,FALSE)),"",VLOOKUP(C48,coureurs!$A$4:$I$70,3,FALSE)) | F48: =IF(ISNA(VLOOKUP(C48,coureurs!$A$4:$I$70,9,FALSE)),"",VLOOKUP(C48,coureurs!$A$4:$I$70,9,FALSE)) | H48: =G48-G$8 -> -0.067858796 | I48: =VLOOKUP(C48,$C$8:$H$42,5,FALSE)+VLOOKUP(C48,CLM!$L$8:$R$42,6,FALSE) -> #N/A | J48: =RANK(I48,$I$8:$I$24,1) -> #N/A | K48: =VLOOKUP(C48,CLM!$L$8:$R$42,7,FALSE) -> #N/A | L48: =VLOOKUP(C48,$C$8:$H$42,6,FALSE)+VLOOKUP(C48,CLM!$L$8:$R$42,6,FALSE) -> #N/A | M48: =M47+1 -> 41 | O48: =IF(ISNA(VLOOKUP(N48,coureurs!$A$4:$I$70,2,FALSE)),"",VLOOKUP(N48,coureurs!$A$4:$I$70,2,FALSE)) | P48: =IF(ISNA(VLOOKUP(N48,coureurs!$A$4:$I$70,3,FALSE)),"",VLOOKUP(N48,coureurs!$A$4:$I$70,3,FALSE)) | Q48: =IF(ISNA(VLOOKUP(N48,coureurs!$A$4:$I$70,9,FALSE)),"",VLOOKUP(N48,coureurs!$A$4:$I$70,9,FALSE)) | R48: =VLOOKUP(N48,$C$8:$I$70,7,FALSE) -> #N/A | S48: =R48-R$8 -> #N/A
A49: 42 | B49: =RANK(I49,$I$8:$I$24,1)+COUNTIFS($I$8:$I$24,I49,$K$8:$K$24,"<"&$K49) -> #N/A | D49: =IF(ISNA(VLOOKUP(C49,coureurs!$A$4:$I$70,2,FALSE)),"",VLOOKUP(C49,coureurs!$A$4:$I$70,2,FALSE)) | E49: =IF(ISNA(VLOOKUP(C49,coureurs!$A$4:$I$70,3,FALSE)),"",VLOOKUP(C49,coureurs!$A$4:$I$70,3,FALSE)) | F49: =IF(ISNA(VLOOKUP(C49,coureurs!$A$4:$I$70,9,FALSE)),"",VLOOKUP(C49,coureurs!$A$4:$I$70,9,FALSE)) | H49: =G49-G$8 -> -0.067858796 | I49: =VLOOKUP(C49,$C$8:$H$42,5,FALSE)+VLOOKUP(C49,CLM!$L$8:$R$42,6,FALSE) -> #N/A | J49: =RANK(I49,$I$8:$I$24,1) -> #N/A | K49: =VLOOKUP(C49,CLM!$L$8:$R$42,7,FALSE) -> #N/A | L49: =VLOOKUP(C49,$C$8:$H$42,6,FALSE)+VLOOKUP(C49,CLM!$L$8:$R$42,6,FALSE) -> #N/A | M49: =M48+1 -> 42 | O49: =IF(ISNA(VLOOKUP(N49,coureurs!$A$4:$I$70,2,FALSE)),"",VLOOKUP(N49,coureurs!$A$4:$I$70,2,FALSE)) | P49: =IF(ISNA(VLOOKUP(N49,coureurs!$A$4:$I$70,3,FALSE)),"",VLOOKUP(N49,coureurs!$A$4:$I$70,3,FALSE)) | Q49: =IF(ISNA(VLOOKUP(N49,coureurs!$A$4:$I$70,9,FALSE)),"",VLOOKUP(N49,coureurs!$A$4:$I$70,9,FALSE)) | R49: =VLOOKUP(N49,$C$8:$I$70,7,FALSE) -> #N/A | S49: =R49-R$8 -> #N/A
A50: 43 | B50: =RANK(I50,$I$8:$I$24,1)+COUNTIFS($I$8:$I$24,I50,$K$8:$K$24,"<"&$K50) -> #N/A | D50: =IF(ISNA(VLOOKUP(C50,coureurs!$A$4:$I$70,2,FALSE)),"",VLOOKUP(C50,coureurs!$A$4:$I$70,2,FALSE)) | E50: =IF(ISNA(VLOOKUP(C50,coureurs!$A$4:$I$70,3,FALSE)),"",VLOOKUP(C50,coureurs!$A$4:$I$70,3,FALSE)) | F50: =IF(ISNA(VLOOKUP(C50,coureurs!$A$4:$I$70,9,FALSE)),"",VLOOKUP(C50,coureurs!$A$4:$I$70,9,FALSE)) | H50: =G50-G$8 -> -0.067858796 | I50: =VLOOKUP(C50,$C$8:$H$42,5,FALSE)+VLOOKUP(C50,CLM!$L$8:$R$42,6,FALSE) -> #N/A | J50: =RANK(I50,$I$8:$I$24,1) -> #N/A | K50: =VLOOKUP(C50,CLM!$L$8:$R$42,7,FALSE) -> #N/A | L50: =VLOOKUP(C50,$C$8:$H$42,6,FALSE)+VLOOKUP(C50,CLM!$L$8:$R$42,6,FALSE) -> #N/A | M50: =M49+1 -> 43 | O50: =IF(ISNA(VLOOKUP(N50,coureurs!$A$4:$I$70,2,FALSE)),"",VLOOKUP(N50,coureurs!$A$4:$I$70,2,FALSE)) | P50: =IF(ISNA(VLOOKUP(N50,coureurs!$A$4:$I$70,3,FALSE)),"",VLOOKUP(N50,coureurs!$A$4:$I$70,3,FALSE)) | Q50: =IF(ISNA(VLOOKUP(N50,coureurs!$A$4:$I$70,9,FALSE)),"",VLOOKUP(N50,coureurs!$A$4:$I$70,9,FALSE)) | R50: =VLOOKUP(N50,$C$8:$I$70,7,FALSE) -> #N/A | S50: =R50-R$8 -> #N/A
A51: 44 | B51: =RANK(I51,$I$8:$I$24,1)+COUNTIFS($I$8:$I$24,I51,$K$8:$K$24,"<"&$K51) -> #N/A | D51: =IF(ISNA(VLOOKUP(C51,coureurs!$A$4:$I$70,2,FALSE)),"",VLOOKUP(C51,coureurs!$A$4:$I$70,2,FALSE)) | E51: =IF(ISNA(VLOOKUP(C51,coureurs!$A$4:$I$70,3,FALSE)),"",VLOOKUP(C51,coureurs!$A$4:$I$70,3,FALSE)) | F51: =IF(ISNA(VLOOKUP(C51,coureurs!$A$4:$I$70,9,FALSE)),"",VLOOKUP(C51,coureurs!$A$4:$I$70,9,FALSE)) | H51: =G51-G$8 -> -0.067858796 | I51: =VLOOKUP(C51,$C$8:$H$42,5,FALSE)+VLOOKUP(C51,CLM!$L$8:$R$42,6,FALSE) -> #N/A | J51: =RANK(I51,$I$8:$I$24,1) -> #N/A | K51: =VLOOKUP(C51,CLM!$L$8:$R$42,7,FALSE) -> #N/A | L51: =VLOOKUP(C51,$C$8:$H$42,6,FALSE)+VLOOKUP(C51,CLM!$L$8:$R$42,6,FALSE) -> #N/A | M51: =M50+1 -> 44 | O51: =IF(ISNA(VLOOKUP(N51,coureurs!$A$4:$I$70,2,FALSE)),"",VLOOKUP(N51,coureurs!$A$4:$I$70,2,FALSE)) | P51: =IF(ISNA(VLOOKUP(N51,coureurs!$A$4:$I$70,3,FALSE)),"",VLOOKUP(N51,coureurs!$A$4:$I$70,3,FALSE)) | Q51: =IF(ISNA(VLOOKUP(N51,coureurs!$A$4:$I$70,9,FALSE)),"",VLOOKUP(N51,coureurs!$A$4:$I$70,9,FALSE)) | R51: =VLOOKUP(N51,$C$8:$I$70,7,FALSE) -> #N/A | S51: =R51-R$8 -> #N/A
A52: 45 | B52: =RANK(I52,$I$8:$I$24,1)+COUNTIFS($I$8:$I$24,I52,$K$8:$K$24,"<"&$K52) -> #N/A | D52: =IF(ISNA(VLOOKUP(C52,coureurs!$A$4:$I$70,2,FALSE)),"",VLOOKUP(C52,coureurs!$A$4:$I$70,2,FALSE)) | E52: =IF(ISNA(VLOOKUP(C52,coureurs!$A$4:$I$70,3,FALSE)),"",VLOOKUP(C52,coureurs!$A$4:$I$70,3,FALSE)) | F52: =IF(ISNA(VLOOKUP(C52,coureurs!$A$4:$I$70,9,FALSE)),"",VLOOKUP(C52,coureurs!$A$4:$I$70,9,FALSE)) | H52: =G52-G$8 -> -0.067858796 | I52: =VLOOKUP(C52,$C$8:$H$42,5,FALSE)+VLOOKUP(C52,CLM!$L$8:$R$42,6,FALSE) -> #N/A | J52: =RANK(I52,$I$8:$I$24,1) -> #N/A | K52: =VLOOKUP(C52,CLM!$L$8:$R$42,7,FALSE) -> #N/A | L52: =VLOOKUP(C52,$C$8:$H$42,6,FALSE)+VLOOKUP(C52,CLM!$L$8:$R$42,6,FALSE) -> #N/A | M52: =M51+1 -> 45 | O52: =IF(ISNA(VLOOKUP(N52,coureurs!$A$4:$I$70,2,FALSE)),"",VLOOKUP(N52,coureurs!$A$4:$I$70,2,FALSE)) | P52: =IF(ISNA(VLOOKUP(N52,coureurs!$A$4:$I$70,3,FALSE)),"",VLOOKUP(N52,coureurs!$A$4:$I$70,3,FALSE)) | Q52: =IF(ISNA(VLOOKUP(N52,coureurs!$A$4:$I$70,9,FALSE)),"",VLOOKUP(N52,coureurs!$A$4:$I$70,9,FALSE)) | R52: =VLOOKUP(N52,$C$8:$I$70,7,FALSE) -> #N/A | S52: =R52-R$8 -> #N/A
A53: 46 | B53: =RANK(I53,$I$8:$I$24,1)+COUNTIFS($I$8:$I$24,I53,$K$8:$K$24,"<"&$K53) -> #N/A | D53: =IF(ISNA(VLOOKUP(C53,coureurs!$A$4:$I$70,2,FALSE)),"",VLOOKUP(C53,coureurs!$A$4:$I$70,2,FALSE)) | E53: =IF(ISNA(VLOOKUP(C53,coureurs!$A$4:$I$70,3,FALSE)),"",VLOOKUP(C53,coureurs!$A$4:$I$70,3,FALSE)) | F53: =IF(ISNA(VLOOKUP(C53,coureurs!$A$4:$I$70,9,FALSE)),"",VLOOKUP(C53,coureurs!$A$4:$I$70,9,FALSE)) | H53: =G53-G$8 -> -0.067858796 | I53: =VLOOKUP(C53,$C$8:$H$42,5,FALSE)+VLOOKUP(C53,CLM!$L$8:$R$42,6,FALSE) -> #N/A | J53: =RANK(I53,$I$8:$I$24,1) -> #N/A | K53: =VLOOKUP(C53,CLM!$L$8:$R$42,7,FALSE) -> #N/A | L53: =VLOOKUP(C53,$C$8:$H$42,6,FALSE)+VLOOKUP(C53,CLM!$L$8:$R$42,6,FALSE) -> #N/A | M53: =M52+1 -> 46 | O53: =IF(ISNA(VLOOKUP(N53,coureurs!$A$4:$I$70,2,FALSE)),"",VLOOKUP(N53,coureurs!$A$4:$I$70,2,FALSE)) | P53: =IF(ISNA(VLOOKUP(N53,coureurs!$A$4:$I$70,3,FALSE)),"",VLOOKUP(N53,coureurs!$A$4:$I$70,3,FALSE)) | Q53: =IF(ISNA(VLOOKUP(N53,coureurs!$A$4:$I$70,9,FALSE)),"",VLOOKUP(N53,coureurs!$A$4:$I$70,9,FALSE)) | R53: =VLOOKUP(N53,$C$8:$I$70,7,FALSE) -> #N/A | S53: =R53-R$8 -> #N/A
A54: 47 | B54: =RANK(I54,$I$8:$I$24,1)+COUNTIFS($I$8:$I$24,I54,$K$8:$K$24,"<"&$K54) -> #N/A | D54: =IF(ISNA(VLOOKUP(C54,coureurs!$A$4:$I$70,2,FALSE)),"",VLOOKUP(C54,coureurs!$A$4:$I$70,2,FALSE)) | E54: =IF(ISNA(VLOOKUP(C54,coureurs!$A$4:$I$70,3,FALSE)),"",VLOOKUP(C54,coureurs!$A$4:$I$70,3,FALSE)) | F54: =IF(ISNA(VLOOKUP(C54,coureurs!$A$4:$I$70,9,FALSE)),"",VLOOKUP(C54,coureurs!$A$4:$I$70,9,FALSE)) | H54: =G54-G$8 -> -0.067858796 | I54: =VLOOKUP(C54,$C$8:$H$42,5,FALSE)+VLOOKUP(C54,CLM!$L$8:$R$42,6,FALSE) -> #N/A | J54: =RANK(I54,$I$8:$I$24,1) -> #N/A | K54: =VLOOKUP(C54,CLM!$L$8:$R$42,7,FALSE) -> #N/A | L54: =VLOOKUP(C54,$C$8:$H$42,6,FALSE)+VLOOKUP(C54,CLM!$L$8:$R$42,6,FALSE) -> #N/A | M54: =M53+1 -> 47 | O54: =IF(ISNA(VLOOKUP(N54,coureurs!$A$4:$I$70,2,FALSE)),"",VLOOKUP(N54,coureurs!$A$4:$I$70,2,FALSE)) | P54: =IF(ISNA(VLOOKUP(N54,coureurs!$A$4:$I$70,3,FALSE)),"",VLOOKUP(N54,coureurs!$A$4:$I$70,3,FALSE)) | Q54: =IF(ISNA(VLOOKUP(N54,coureurs!$A$4:$I$70,9,FALSE)),"",VLOOKUP(N54,coureurs!$A$4:$I$70,9,FALSE)) | R54: =VLOOKUP(N54,$C$8:$I$70,7,FALSE) -> #N/A | S54: =R54-R$8 -> #N/A
A55: 48 | B55: =RANK(I55,$I$8:$I$24,1)+COUNTIFS($I$8:$I$24,I55,$K$8:$K$24,"<"&$K55) -> #N/A | D55: =IF(ISNA(VLOOKUP(C55,coureurs!$A$4:$I$70,2,FALSE)),"",VLOOKUP(C55,coureurs!$A$4:$I$70,2,FALSE)) | E55: =IF(ISNA(VLOOKUP(C55,coureurs!$A$4:$I$70,3,FALSE)),"",VLOOKUP(C55,coureurs!$A$4:$I$70,3,FALSE)) | F55: =IF(ISNA(VLOOKUP(C55,coureurs!$A$4:$I$70,9,FALSE)),"",VLOOKUP(C55,coureurs!$A$4:$I$70,9,FALSE)) | H55: =G55-G$8 -> -0.067858796 | I55: =VLOOKUP(C55,$C$8:$H$42,5,FALSE)+VLOOKUP(C55,CLM!$L$8:$R$42,6,FALSE) -> #N/A | J55: =RANK(I55,$I$8:$I$24,1) -> #N/A | K55: =VLOOKUP(C55,CLM!$L$8:$R$42,7,FALSE) -> #N/A | L55: =VLOOKUP(C55,$C$8:$H$42,6,FALSE)+VLOOKUP(C55,CLM!$L$8:$R$42,6,FALSE) -> #N/A | M55: =M54+1 -> 48 | O55: =IF(ISNA(VLOOKUP(N55,coureurs!$A$4:$I$70,2,FALSE)),"",VLOOKUP(N55,coureurs!$A$4:$I$70,2,FALSE)) | P55: =IF(ISNA(VLOOKUP(N55,coureurs!$A$4:$I$70,3,FALSE)),"",VLOOKUP(N55,coureurs!$A$4:$I$70,3,FALSE)) | Q55: =IF(ISNA(VLOOKUP(N55,coureurs!$A$4:$I$70,9,FALSE)),"",VLOOKUP(N55,coureurs!$A$4:$I$70,9,FALSE)) | R55: =VLOOKUP(N55,$C$8:$I$70,7,FALSE) -> #N/A | S55: =R55-R$8 -> #N/A

Sheet ClAnx-1
A1: Classements annexes - Étape 2 | M1: Classement MG Étape 2
B3: rang | C3: MG | D3: km 12 | E3: km 33,1 | F3: km 41,6 | G3: km 63,2 | H3: km 70,7 | I3: Total étape 1 | J3: pl1 | K3: Place Etape | M3: Place | N3: Dos | O3: Nom | P3: Prénom | Q3: Club | R3: Total pts | S3: Places 1
B4: =RANK($I4,$I$4:$I$15,0)+COUNTIFS($I$4:$I$15,I4,$J$4:$J$15,">"&$J4)+COUNTIFS($I$4:$I$15,I4,$J$4:$J$15,$J4,$K$4:$K$15,">"&$K4) -> 2 | C4: 1 | D4: 3 | E4: 3 | I4: =SUM(D4:H4) -> 6 | J4: =IF(D4=MAX($D$4:$D$15),1,0)+IF(G4=MAX($G$4:$G$15),1,0)+IF(H4=MAX($H$4:$H$15),1,0)+IF(E4=MAX($E$4:$E$15),1,0)+IF(F4=MAX($F$4:$F$15),1,0) -> 2 | K4: =IFERROR(INDEX(Etap2!$B$8:$B$33,MATCH('ClAnx-1'!C4,Etap2!$C$8:$C$33,0),1),"") -> 4 | M4: 1 | N4: =VLOOKUP(M4,$B$4:$H$15,2,FALSE) -> 17 | O4: =IF(ISNA(VLOOKUP(N4,coureurs!$A$4:$I$70,2,FALSE)),"",VLOOKUP(N4,coureurs!$A$4:$I$70,2,FALSE)) -> BEAU17 | P4: =IF(ISNA(VLOOKUP(N4,coureurs!$A$4:$I$70,3,FALSE)),"",VLOOKUP(N4,coureurs!$A$4:$I$70,3,FALSE)) -> No17 | Q4: =IF(ISNA(VLOOKUP(N4,coureurs!$A$4:$I$70,9,FALSE)),"",VLOOKUP(N4,coureurs!$A$4:$I$70,9,FALSE)) -> EC MEDOC ATLANTIQUE | R4: =VLOOKUP($N4,$C$4:$J$15,7,FALSE) -> 7 | S4: =VLOOKUP($N4,$C$4:$J$15,8,FALSE) -> 0
B5: =RANK($I5,$I$4:$I$15,0)+COUNTIFS($I$4:$I$15,I5,$J$4:$J$15,">"&$J5)+COUNTIFS($I$4:$I$15,I5,$J$4:$J$15,$J5,$K$4:$K$15,">"&$K5) -> 1 | C5: 17 | D5: 2 | E5: 2 | F5: 2 | H5: 1 | I5: =SUM(D5:H5) -> 7 | J5: =IF(D5=MAX($D$4:$D$15),1,0)+IF(G5=MAX($G$4:$G$15),1,0)+IF(H5=MAX($H$4:$H$15),1,0)+IF(E5=MAX($E$4:$E$15),1,0)+IF(F5=MAX($F$4:$F$15),1,0) -> 0 | K5: =IFERROR(INDEX(CLM!$B$8:$B$33,MATCH('ClAnx-1'!C5,CLM!$C$8:$C$33,0),1),"") -> 12 | M5: 2 | N5: =VLOOKUP(M5,$B$4:$H$15,2,FALSE) -> 1 | O5: =IF(ISNA(VLOOKUP(N5,coureurs!$A$4:$I$70,2,FALSE)),"",VLOOKUP(N5,coureurs!$A$4:$I$70,2,FALSE)) -> BEAU4 | P5: =IF(ISNA(VLOOKUP(N5,coureurs!$A$4:$I$70,3,FALSE)),"",VLOOKUP(N5,coureurs!$A$4:$I$70,3,FALSE)) -> No4 | Q5: =IF(ISNA(VLOOKUP(N5,coureurs!$A$4:$I$70,9,FALSE)),"",VLOOKUP(N5,coureurs!$A$4:$I$70,9,FALSE)) -> UC MONTPONNAISE VALLÉE DE L`ISLE | R5: =VLOOKUP($N5,$C$4:$J$15,7,FALSE) -> 6 | S5: =VLOOKUP($N5,$C$4:$J$15,8,FALSE) -> 2
B6: =RANK($I6,$I$4:$I$15,0)+COUNTIFS($I$4:$I$15,I6,$J$4:$J$15,">"&$J6)+COUNTIFS($I$4:$I$15,I6,$J$4:$J$15,$J6,$K$4:$K$15,">"&$K6) -> 3 | C6: 2 | D6: 1 | E6: 1 | F6: 3 | I6: =SUM(D6:H6) -> 5 | J6: =IF(D6=MAX($D$4:$D$15),1,0)+IF(G6=MAX($G$4:$G$15),1,0)+IF(H6=MAX($H$4:$H$15),1,0)+IF(E6=MAX($E$4:$E$15),1,0)+IF(F6=MAX($F$4:$F$15),1,0) -> 1 | K6: =IFERROR(INDEX(CLM!$B$8:$B$33,MATCH('ClAnx-1'!C6,CLM!$C$8:$C$33,0),1),"") -> 3 | M6: 3 | N6: =VLOOKUP(M6,$B$4:$H$15,2,FALSE) -> 2 | O6: =IF(ISNA(VLOOKUP(N6,coureurs!$A$4:$I$70,2,FALSE)),"",VLOOKUP(N6,coureurs!$A$4:$I$70,2,FALSE)) -> BEAU5 | P6: =IF(ISNA(VLOOKUP(N6,coureurs!$A$4:$I$70,3,FALSE)),"",VLOOKUP(N6,coureurs!$A$4:$I$70,3,FALSE)) -> No5 | Q6: =IF(ISNA(VLOOKUP(N6,coureurs!$A$4:$I$70,9,FALSE)),"",VLOOKUP(N6,coureurs!$A$4:$I$70,9,FALSE)) -> UC MONTPONNAISE VALLÉE DE L`ISLE | R6: =VLOOKUP($N6,$C$4:$J$15,7,FALSE) -> 5 | S6: =VLOOKUP($N6,$C$4:$J$15,8,FALSE) -> 1
B7: =RANK($I7,$I$4:$I$15,0)+COUNTIFS($I$4:$I$15,I7,$J$4:$J$15,">"&$J7)+COUNTIFS($I$4:$I$15,I7,$J$4:$J$15,$J7,$K$4:$K$15,">"&$K7) -> 5 | C7: 14 | F7: 1 | G7: 3 | I7: =SUM(D7:H7) -> 4 | J7: =IF(D7=MAX($D$4:$D$15),1,0)+IF(G7=MAX($G$4:$G$15),1,0)+IF(H7=MAX($H$4:$H$15),1,0)+IF(E7=MAX($E$4:$E$15),1,0)+IF(F7=MAX($F$4:$F$15),1,0) -> 1 | K7: =IFERROR(INDEX(CLM!$B$8:$B$33,MATCH('ClAnx-1'!C7,CLM!$C$8:$C$33,0),1),"") -> 9 | M7: 4 | N7: =VLOOKUP(M7,$B$4:$H$15,2,FALSE) -> 6 | O7: =IF(ISNA(VLOOKUP(N7,coureurs!$A$4:$I$70,2,FALSE)),"",VLOOKUP(N7,coureurs!$A$4:$I$70,2,FALSE)) -> BEAU10 | P7: =IF(ISNA(VLOOKUP(N7,coureurs!$A$4:$I$70,3,FALSE)),"",VLOOKUP(N7,coureurs!$A$4:$I$70,3,FALSE)) -> No10 | Q7: =IF(ISNA(VLOOKUP(N7,coureurs!$A$4:$I$70,9,FALSE)),"",VLOOKUP(N7,coureurs!$A$4:$I$70,9,FALSE)) -> VC DU SUD GIRONDE | R7: =VLOOKUP($N7,$C$4:$J$15,7,FALSE) -> 5 | S7: =VLOOKUP($N7,$C$4:$J$15,8,FALSE) -> 1
B8: =RANK($I8,$I$4:$I$15,0)+COUNTIFS($I$4:$I$15,I8,$J$4:$J$15,">"&$J8)+COUNTIFS($I$4:$I$15,I8,$J$4:$J$15,$J8,$K$4:$K$15,">"&$K8) -> 4 | C8: 6 | G8: 2 | H8: 3 | I8: =SUM(D8:H8) -> 5 | J8: =IF(D8=MAX($D$4:$D$15),1,0)+IF(G8=MAX($G$4:$G$15),1,0)+IF(H8=MAX($H$4:$H$15),1,0)+IF(E8=MAX($E$4:$E$15),1,0)+IF(F8=MAX($F$4:$F$15),1,0) -> 1 | K8: =IFERROR(INDEX(CLM!$B$8:$B$33,MATCH('ClAnx-1'!C8,CLM!$C$8:$C$33,0),1),"") -> 2 | M8: 5 | N8: =VLOOKUP(M8,$B$4:$H$15,2,FALSE) -> 14 | O8: =IF(ISNA(VLOOKUP(N8,coureurs!$A$4:$I$70,2,FALSE)),"",VLOOKUP(N8,coureurs!$A$4:$I$70,2,FALSE)) -> BEAU14 | P8: =IF(ISNA(VLOOKUP(N8,coureurs!$A$4:$I$70,3,FALSE)),"",VLOOKUP(N8,coureurs!$A$4:$I$70,3,FALSE)) -> No14 | Q8: =IF(ISNA(VLOOKUP(N8,coureurs!$A$4:$I$70,9,FALSE)),"",VLOOKUP(N8,coureurs!$A$4:$I$70,9,FALSE)) -> SPRINTER CLUB DU PERIGORD | R8: =VLOOKUP($N8,$C$4:$J$15,7,FALSE) -> 4 | S8: =VLOOKUP($N8,$C$4:$J$15,8,FALSE) -> 1
B9: =RANK($I9,$I$4:$I$15,0)+COUNTIFS($I$4:$I$15,I9,$J$4:$J$15,">"&$J9)+COUNTIFS($I$4:$I$15,I9,$J$4:$J$15,$J9,$K$4:$K$15,">"&$K9) -> 7 | C9: 9 | G9: 1 | I9: =SUM(D9:H9) -> 1 | J9: =IF(D9=MAX($D$4:$D$15),1,0)+IF(G9=MAX($G$4:$G$15),1,0)+IF(H9=MAX($H$4:$H$15),1,0)+IF(E9=MAX($E$4:$E$15),1,0)+IF(F9=MAX($F$4:$F$15),1,0) -> 0 | K9: =IFERROR(INDEX(CLM!$B$8:$B$33,MATCH('ClAnx-1'!C9,CLM!$C$8:$C$33,0),1),"") -> 13 | M9: 6 | N9: =VLOOKUP(M9,$B$4:$H$15,2,FALSE) -> 12 | O9: =IF(ISNA(VLOOKUP(N9,coureurs!$A$4:$I$70,2,FALSE)),"",VLOOKUP(N9,coureurs!$A$4:$I$70,2,FALSE)) -> BEAU15 | P9: =IF(ISNA(VLOOKUP(N9,coureurs!$A$4:$I$70,3,FALSE)),"",VLOOKUP(N9,coureurs!$A$4:$I$70,3,FALSE)) -> No15 | Q9: =IF(ISNA(VLOOKUP(N9,coureurs!$A$4:$I$70,9,FALSE)),"",VLOOKUP(N9,coureurs!$A$4:$I$70,9,FALSE)) -> SPRINTER CLUB DU PERIGORD | R9: =VLOOKUP($N9,$C$4:$J$15,7,FALSE) -> 2 | S9: =VLOOKUP($N9,$C$4:$J$15,8,FALSE) -> 0
B10: =RANK($I10,$I$4:$I$15,0)+COUNTIFS($I$4:$I$15,I10,$J$4:$J$15,">"&$J10)+COUNTIFS($I$4:$I$15,I10,$J$4:$J$15,$J10,$K$4:$K$15,">"&$K10) -> 6 | C10: 12 | H10: 2 | I10: =SUM(D10:H10) -> 2 | J10: =IF(D10=MAX($D$4:$D$15),1,0)+IF(G10=MAX($G$4:$G$15),1,0)+IF(H10=MAX($H$4:$H$15),1,0)+IF(E10=MAX($E$4:$E$15),1,0)+IF(F10=MAX($F$4:$F$15),1,0) -> 0 | K10: =IFERROR(INDEX(CLM!$B$8:$B$33,MATCH('ClAnx-1'!C10,CLM!$C$8:$C$33,0),1),"") -> 11 | M10: 7 | N10: =VLOOKUP(M10,$B$4:$H$15,2,FALSE) -> 9 | O10: =IF(ISNA(VLOOKUP(N10,coureurs!$A$4:$I$70,2,FALSE)),"",VLOOKUP(N10,coureurs!$A$4:$I$70,2,FALSE)) -> BEAU6 | P10: =IF(ISNA(VLOOKUP(N10,coureurs!$A$4:$I$70,3,FALSE)),"",VLOOKUP(N10,coureurs!$A$4:$I$70,3,FALSE)) -> No6 | Q10: =IF(ISNA(VLOOKUP(N10,coureurs!$A$4:$I$70,9,FALSE)),"",VLOOKUP(N10,coureurs!$A$4:$I$70,9,FALSE)) -> DORDOGNE SUD CYCLISME | R10: =VLOOKUP($N10,$C$4:$J$15,7,FALSE) -> 1 | S10: =VLOOKUP($N10,$C$4:$J$15,8,FALSE) -> 0
B11: =RANK($I11,$I$4:$I$15,0)+COUNTIFS($I$4:$I$15,I11,$J$4:$J$15,">"&$J11)+COUNTIFS($I$4:$I$15,I11,$J$4:$J$15,$J11,$K$4:$K$15,">"&$K11) -> 8 | I11: =SUM(D11:H11) -> 0 | J11: =IF(D11=MAX($D$4:$D$15),1,0)+IF(G11=MAX($G$4:$G$15),1,0)+IF(H11=MAX($H$4:$H$15),1,0)+IF(E11=MAX($E$4:$E$15),1,0)+IF(F11=MAX($F$4:$F$15),1,0) -> 0 | K11: =IFERROR(INDEX(CLM!$B$8:$B$33,MATCH('ClAnx-1'!C11,CLM!$C$8:$C$33,0),1),"") | M11: 8 | N11: =VLOOKUP(M11,$B$4:$H$15,2,FALSE) -> 0 | O11: =IF(ISNA(VLOOKUP(N11,coureurs!$A$4:$I$70,2,FALSE)),"",VLOOKUP(N11,coureurs!$A$4:$I$70,2,FALSE)) | P11: =IF(ISNA(VLOOKUP(N11,coureurs!$A$4:$I$70,3,FALSE)),"",VLOOKUP(N11,coureurs!$A$4:$I$70,3,FALSE)) | Q11: =IF(ISNA(VLOOKUP(N11,coureurs!$A$4:$I$70,9,FALSE)),"",VLOOKUP(N11,coureurs!$A$4:$I$70,9,FALSE)) | R11: =VLOOKUP($N11,$C$4:$J$15,7,FALSE) -> #N/A | S11: =VLOOKUP($N11,$C$4:$J$15,8,FALSE) -> #N/A
B12: =RANK($I12,$I$4:$I$15,0)+COUNTIFS($I$4:$I$15,I12,$J$4:$J$15,">"&$J12)+COUNTIFS($I$4:$I$15,I12,$J$4:$J$15,$J12,$K$4:$K$15,">"&$K12) -> 8 | I12: =SUM(D12:H12) -> 0 | J12: =IF(D12=MAX($D$4:$D$15),1,0)+IF(G12=MAX($G$4:$G$15),1,0)+IF(H12=MAX($H$4:$H$15),1,0)+IF(E12=MAX($E$4:$E$15),1,0)+IF(F12=MAX($F$4:$F$15),1,0) -> 0 | K12: =IFERROR(INDEX(CLM!$B$8:$B$33,MATCH('ClAnx-1'!C12,CLM!$C$8:$C$33,0),1),"") | M12: 9 | N12: =VLOOKUP(M12,$B$4:$H$15,2,FALSE) -> #N/A | O12: =IF(ISNA(VLOOKUP(N12,coureurs!$A$4:$I$70,2,FALSE)),"",VLOOKUP(N12,coureurs!$A$4:$I$70,2,FALSE)) | P12: =IF(ISNA(VLOOKUP(N12,coureurs!$A$4:$I$70,3,FALSE)),"",VLOOKUP(N12,coureurs!$A$4:$I$70,3,FALSE)) | Q12: =IF(ISNA(VLOOKUP(N12,coureurs!$A$4:$I$70,9,FALSE)),"",VLOOKUP(N12,coureurs!$A$4:$I$70,9,FALSE)) | R12: =VLOOKUP($N12,$C$4:$J$15,7,FALSE) -> #N/A | S12: =VLOOKUP($N12,$C$4:$J$15,8,FALSE) -> #N/A
B13: =RANK($I13,$I$4:$I$15,0)+COUNTIFS($I$4:$I$15,I13,$J$4:$J$15,">"&$J13)+COUNTIFS($I$4:$I$15,I13,$J$4:$J$15,$J13,$K$4:$K$15,">"&$K13) -> 8 | I13: =SUM(D13:H13) -> 0 | J13: =IF(D13=MAX($D$4:$D$15),1,0)+IF(G13=MAX($G$4:$G$15),1,0)+IF(H13=MAX($H$4:$H$15),1,0)+IF(E13=MAX($E$4:$E$15),1,0)+IF(F13=MAX($F$4:$F$15),1,0) -> 0 | K13: =IFERROR(INDEX(CLM!$B$8:$B$33,MATCH('ClAnx-1'!C13,CLM!$C$8:$C$33,0),1),"") | M13: 10 | N13: =VLOOKUP(M13,$B$4:$H$15,2,FALSE) -> #N/A | O13: =IF(ISNA(VLOOKUP(N13,coureurs!$A$4:$I$70,2,FALSE)),"",VLOOKUP(N13,coureurs!$A$4:$I$70,2,FALSE)) | P13: =IF(ISNA(VLOOKUP(N13,coureurs!$A$4:$I$70,3,FALSE)),"",VLOOKUP(N13,coureurs!$A$4:$I$70,3,FALSE)) | Q13: =IF(ISNA(VLOOKUP(N13,coureurs!$A$4:$I$70,9,FALSE)),"",VLOOKUP(N13,coureurs!$A$4:$I$70,9,FALSE)) | R13: =VLOOKUP($N13,$C$4:$J$15,7,FALSE) -> #N/A | S13: =VLOOKUP($N13,$C$4:$J$15,8,FALSE) -> #N/A
B14: =RANK($I14,$I$4:$I$15,0)+COUNTIFS($I$4:$I$15,I14,$J$4:$J$15,">"&$J14)+COUNTIFS($I$4:$I$15,I14,$J$4:$J$15,$J14,$K$4:$K$15,">"&$K14) -> 8 | I14: =SUM(D14:H14) -> 0 | J14: =IF(D14=MAX($D$4:$D$15),1,0)+IF(G14=MAX($G$4:$G$15),1,0)+IF(H14=MAX($H$4:$H$15),1,0)+IF(E14=MAX($E$4:$E$15),1,0)+IF(F14=MAX($F$4:$F$15),1,0) -> 0 | K14: =IFERROR(INDEX(CLM!$B$8:$B$33,MATCH('ClAnx-1'!C14,CLM!$C$8:$C$33,0),1),"")
B15: =RANK($I15,$I$4:$I$15,0)+COUNTIFS($I$4:$I$15,I15,$J$4:$J$15,">"&$J15)+COUNTIFS($I$4:$I$15,I15,$J$4:$J$15,$J15,$K$4:$K$15,">"&$K15) -> 8 | I15: =SUM(D15:H15) -> 0 | J15: =IF(D15=MAX($D$4:$D$15),1,0)+IF(G15=MAX($G$4:$G$15),1,0)+IF(H15=MAX($H$4:$H$15),1,0)+IF(E15=MAX($E$4:$E$15),1,0)+IF(F15=MAX($F$4:$F$15),1,0) -> 0 | K15: =IFERROR(INDEX(CLM!$B$8:$B$33,MATCH('ClAnx-1'!C15,CLM!$C$8:$C$33,0),1),"")
C16: Total | D16: =SUM(D4:D15) -> 6 | E16: =SUM(E4:E15) -> 6 | F16: =SUM(F4:F15) -> 6 | G16: =SUM(G4:G15) -> 6 | H16: =SUM(H4:H15) -> 6 | I16: =SUM(I4:I15) -> 30 | J16: =SUM(J4:J15) -> 5
M19: Classement MS Étape 2
B21: rang | C21: MS | D21: km 3,9 | E21: km 23,1 | F21: km 48,1 | G21: km 56,2 | H21: km 81,9 | I21: Total étape 1 | J21: pl1 | K21: Place Etape | M21: Place | N21: Dos | O21: Nom | P21: Prénom | Q21: Club | R21: Total pts | S21: Places 1
B22: =RANK($I22,$I$22:$I$33,0)+COUNTIFS($I$22:$I$33,I22,$J$22:$J$33,">"&$J22)+COUNTIFS($I$22:$I$33,I22,$J$22:$J$33,$J22,$K$22:$K$33,">"&$K22) -> 4 | C22: 3 | D22: 3 | E22: 2 | F22: 1 | I22: =H22+G22+D22 -> 3 | J22: =IF(D22=MAX($D$22:$D$33),1,0)+IF(G22=MAX($G$22:$G$33),1,0)+IF(H22=MAX($H$22:$H$33),1,0)+IF(E22=MAX($E$22:$E$33),1,0)+IF(F22=MAX($F$22:$F$33),1,0) -> 1 | K22: =IFERROR(INDEX(CLM!$B$8:$B$33,MATCH('ClAnx-1'!C22,CLM!$C$8:$C$33,0),1),"") -> 6 | M22: 1 | N22: =VLOOKUP(M22,$B$22:$H$33,2,FALSE) -> 2 | O22: =IF(ISNA(VLOOKUP(N22,coureurs!$A$4:$I$70,2,FALSE)),"",VLOOKUP(N22,coureurs!$A$4:$I$70,2,FALSE)) -> BEAU5 | P22: =IF(ISNA(VLOOKUP(N22,coureurs!$A$4:$I$70,3,FALSE)),"",VLOOKUP(N22,coureurs!$A$4:$I$70,3,FALSE)) -> No5 | Q22: =IF(ISNA(VLOOKUP(N22,coureurs!$A$4:$I$70,9,FALSE)),"",VLOOKUP(N22,coureurs!$A$4:$I$70,9,FALSE)) -> UC MONTPONNAISE VALLÉE DE L`ISLE | R22: =VLOOKUP($N22,$C$22:$J$33,7,FALSE) -> 4 | S22: =VLOOKUP($N22,$C$22:$J$33,8,FALSE) -> 1
B23: =RANK($I23,$I$22:$I$33,0)+COUNTIFS($I$22:$I$33,I23,$J$22:$J$33,">"&$J23)+COUNTIFS($I$22:$I$33,I23,$J$22:$J$33,$J23,$K$22:$K$33,">"&$K23) -> 5 | C23: 5 | D23: 2 | E23: 3 | I23: =H23+G23+D23 -> 2 | J23: =IF(D23=MAX($D$22:$D$33),1,0)+IF(G23=MAX($G$22:$G$33),1,0)+IF(H23=MAX($H$22:$H$33),1,0)+IF(E23=MAX($E$22:$E$33),1,0)+IF(F23=MAX($F$22:$F$33),1,0) -> 1 | K23: =IFERROR(INDEX(CLM!$B$8:$B$33,MATCH('ClAnx-1'!C23,CLM!$C$8:$C$33,0),1),"") -> 15 | M23: 2 | N23: =VLOOKUP(M23,$B$22:$H$33,2,FALSE) -> 12 | O23: =IF(ISNA(VLOOKUP(N23,coureurs!$A$4:$I$70,2,FALSE)),"",VLOOKUP(N23,coureurs!$A$4:$I$70,2,FALSE)) -> BEAU15 | P23: =IF(ISNA(VLOOKUP(N23,coureurs!$A$4:$I$70,3,FALSE)),"",VLOOKUP(N23,coureurs!$A$4:$I$70,3,FALSE)) -> No15 | Q23: =IF(ISNA(VLOOKUP(N23,coureurs!$A$4:$I$70,9,FALSE)),"",VLOOKUP(N23,coureurs!$A$4:$I$70,9,FALSE)) -> SPRINTER CLUB DU PERIGORD | R23: =VLOOKUP($N23,$C$22:$J$33,7,FALSE) -> 4 | S23: =VLOOKUP($N23,$C$22:$J$33,8,FALSE) -> 0
B24: =RANK($I24,$I$22:$I$33,0)+COUNTIFS($I$22:$I$33,I24,$J$22:$J$33,">"&$J24)+COUNTIFS($I$22:$I$33,I24,$J$22:$J$33,$J24,$K$22:$K$33,">"&$K24) -> 1 | C24: 2 | D24: 1 | E24: 1 | H24: 3 | I24: =H24+G24+D24 -> 4 | J24: =IF(D24=MAX($D$22:$D$33),1,0)+IF(G24=MAX($G$22:$G$33),1,0)+IF(H24=MAX($H$22:$H$33),1,0)+IF(E24=MAX($E$22:$E$33),1,0)+IF(F24=MAX($F$22:$F$33),1,0) -> 1 | K24: =IFERROR(INDEX(CLM!$B$8:$B$33,MATCH('ClAnx-1'!C24,CLM!$C$8:$C$33,0),1),"") -> 3 | M24: 3 | N24: =VLOOKUP(M24,$B$22:$H$33,2,FALSE) -> 11 | O24: =IF(ISNA(VLOOKUP(N24,coureurs!$A$4:$I$70,2,FALSE)),"",VLOOKUP(N24,coureurs!$A$4:$I$70,2,FALSE)) -> BEAU9 | P24: =IF(ISNA(VLOOKUP(N24,coureurs!$A$4:$I$70,3,FALSE)),"",VLOOKUP(N24,coureurs!$A$4:$I$70,3,FALSE)) -> No9 | Q24: =IF(ISNA(VLOOKUP(N24,coureurs!$A$4:$I$70,9,FALSE)),"",VLOOKUP(N24,coureurs!$A$4:$I$70,9,FALSE)) -> VELO CLUB LE TEILLEUL | R24: =VLOOKUP($N24,$C$22:$J$33,7,FALSE) -> 3 | S24: =VLOOKUP($N24,$C$22:$J$33,8,FALSE) -> 2
B25: =RANK($I25,$I$22:$I$33,0)+COUNTIFS($I$22:$I$33,I25,$J$22:$J$33,">"&$J25)+COUNTIFS($I$22:$I$33,I25,$J$22:$J$33,$J25,$K$22:$K$33,">"&$K25) -> 3 | C25: 11 | F25: 3 | G25: 3 | I25: =H25+G25+D25 -> 3 | J25: =IF(D25=MAX($D$22:$D$33),1,0)+IF(G25=MAX($G$22:$G$33),1,0)+IF(H25=MAX($H$22:$H$33),1,0)+IF(E25=MAX($E$22:$E$33),1,0)+IF(F25=MAX($F$22:$F$33),1,0) -> 2 | K25: =IFERROR(INDEX(CLM!$B$8:$B$33,MATCH('ClAnx-1'!C25,CLM!$C$8:$C$33,0),1),"") -> 18 | M25: 4 | N25: =VLOOKUP(M25,$B$22:$H$33,2,FALSE) -> 3 | O25: =IF(ISNA(VLOOKUP(N25,coureurs!$A$4:$I$70,2,FALSE)),"",VLOOKUP(N25,coureurs!$A$4:$I$70,2,FALSE)) -> BEAU3 | P25: =IF(ISNA(VLOOKUP(N25,coureurs!$A$4:$I$70,3,FALSE)),"",VLOOKUP(N25,coureurs!$A$4:$I$70,3,FALSE)) -> No3 | Q25: =IF(ISNA(VLOOKUP(N25,coureurs!$A$4:$I$70,9,FALSE)),"",VLOOKUP(N25,coureurs!$A$4:$I$70,9,FALSE)) -> Team Cycliste VERTEILLACOISE | R25: =VLOOKUP($N25,$C$22:$J$33,7,FALSE) -> 3 | S25: =VLOOKUP($N25,$C$22:$J$33,8,FALSE) -> 1
B26: =RANK($I26,$I$22:$I$33,0)+COUNTIFS($I$22:$I$33,I26,$J$22:$J$33,">"&$J26)+COUNTIFS($I$22:$I$33,I26,$J$22:$J$33,$J26,$K$22:$K$33,">"&$K26) -> 2 | C26: 12 | G26: 2 | H26: 2 | I26: =H26+G26+D26 -> 4 | J26: =IF(D26=MAX($D$22:$D$33),1,0)+IF(G26=MAX($G$22:$G$33),1,0)+IF(H26=MAX($H$22:$H$33),1,0)+IF(E26=MAX($E$22:$E$33),1,0)+IF(F26=MAX($F$22:$F$33),1,0) -> 0 | K26: =IFERROR(INDEX(CLM!$B$8:$B$33,MATCH('ClAnx-1'!C26,CLM!$C$8:$C$33,0),1),"") -> 11 | M26: 5 | N26: =VLOOKUP(M26,$B$22:$H$33,2,FALSE) -> 5 | O26: =IF(ISNA(VLOOKUP(N26,coureurs!$A$4:$I$70,2,FALSE)),"",VLOOKUP(N26,coureurs!$A$4:$I$70,2,FALSE)) -> BEAU2 | P26: =IF(ISNA(VLOOKUP(N26,coureurs!$A$4:$I$70,3,FALSE)),"",VLOOKUP(N26,coureurs!$A$4:$I$70,3,FALSE)) -> No2 | Q26: =IF(ISNA(VLOOKUP(N26,coureurs!$A$4:$I$70,9,FALSE)),"",VLOOKUP(N26,coureurs!$A$4:$I$70,9,FALSE)) -> Team Cycliste VERTEILLACOISE | R26: =VLOOKUP($N26,$C$22:$J$33,7,FALSE) -> 2 | S26: =VLOOKUP($N26,$C$22:$J$33,8,FALSE) -> 1
B27: =RANK($I27,$I$22:$I$33,0)+COUNTIFS($I$22:$I$33,I27,$J$22:$J$33,">"&$J27)+COUNTIFS($I$22:$I$33,I27,$J$22:$J$33,$J27,$K$22:$K$33,">"&$K27) -> 6 | C27: 15 | F27: 2 | G27: 1 | I27: =H27+G27+D27 -> 1 | J27: =IF(D27=MAX($D$22:$D$33),1,0)+IF(G27=MAX($G$22:$G$33),1,0)+IF(H27=MAX($H$22:$H$33),1,0)+IF(E27=MAX($E$22:$E$33),1,0)+IF(F27=MAX($F$22:$F$33),1,0) -> 0 | K27: =IFERROR(INDEX(CLM!$B$8:$B$33,MATCH('ClAnx-1'!C27,CLM!$C$8:$C$33,0),1),"") -> 17 | M27: 6 | N27: =VLOOKUP(M27,$B$22:$H$33,2,FALSE) -> 15 | O27: =IF(ISNA(VLOOKUP(N27,coureurs!$A$4:$I$70,2,FALSE)),"",VLOOKUP(N27,coureurs!$A$4:$I$70,2,FALSE)) -> BEAU18 | P27: =IF(ISNA(VLOOKUP(N27,coureurs!$A$4:$I$70,3,FALSE)),"",VLOOKUP(N27,coureurs!$A$4:$I$70,3,FALSE)) -> No18 | Q27: =IF(ISNA(VLOOKUP(N27,coureurs!$A$4:$I$70,9,FALSE)),"",VLOOKUP(N27,coureurs!$A$4:$I$70,9,FALSE)) -> EC MEDOC ATLANTIQUE | R27: =VLOOKUP($N27,$C$22:$J$33,7,FALSE) -> 1 | S27: =VLOOKUP($N27,$C$22:$J$33,8,FALSE) -> 0
B28: =RANK($I28,$I$22:$I$33,0)+COUNTIFS($I$22:$I$33,I28,$J$22:$J$33,">"&$J28)+COUNTIFS($I$22:$I$33,I28,$J$22:$J$33,$J28,$K$22:$K$33,">"&$K28) -> 7 | C28: 16 | H28: 1 | I28: =H28+G28+D28 -> 1 | J28: =IF(D28=MAX($D$22:$D$33),1,0)+IF(G28=MAX($G$22:$G$33),1,0)+IF(H28=MAX($H$22:$H$33),1,0)+IF(E28=MAX($E$22:$E$33),1,0)+IF(F28=MAX($F$22:$F$33),1,0) -> 0 | K28: =IFERROR(INDEX(CLM!$B$8:$B$33,MATCH('ClAnx-1'!C28,CLM!$C$8:$C$33,0),1),"") -> 14 | M28: 7 | N28: =VLOOKUP(M28,$B$22:$H$33,2,FALSE) -> 16 | O28: =IF(ISNA(VLOOKUP(N28,coureurs!$A$4:$I$70,2,FALSE)),"",VLOOKUP(N28,coureurs!$A$4:$I$70,2,FALSE)) -> BEAU16 | P28: =IF(ISNA(VLOOKUP(N28,coureurs!$A$4:$I$70,3,FALSE)),"",VLOOKUP(N28,coureurs!$A$4:$I$70,3,FALSE)) -> No16 | Q28: =IF(ISNA(VLOOKUP(N28,coureurs!$A$4:$I$70,9,FALSE)),"",VLOOKUP(N28,coureurs!$A$4:$I$70,9,FALSE)) -> AVC LIBOURNE | R28: =VLOOKUP($N28,$C$22:$J$33,7,FALSE) -> 1 | S28: =VLOOKUP($N28,$C$22:$J$33,8,FALSE) -> 0
B29: =RANK($I29,$I$22:$I$33,0)+COUNTIFS($I$22:$I$33,I29,$J$22:$J$33,">"&$J29)+COUNTIFS($I$22:$I$33,I29,$J$22:$J$33,$J29,$K$22:$K$33,">"&$K29) -> 8 | I29: =H29+G29+D29 -> 0 | J29: =IF(D29=MAX($D$22:$D$33),1,0)+IF(G29=MAX($G$22:$G$33),1,0)+IF(H29=MAX($H$22:$H$33),1,0)+IF(E29=MAX($E$22:$E$33),1,0)+IF(F29=MAX($F$22:$F$33),1,0) -> 0 | K29: =IFERROR(INDEX(CLM!$B$8:$B$33,MATCH('ClAnx-1'!C29,CLM!$C$8:$C$33,0),1),"") | M29: 8 | N29: =VLOOKUP(M29,$B$22:$H$33,2,FALSE) -> 0 | O29: =IF(ISNA(VLOOKUP(N29,coureurs!$A$4:$I$70,2,FALSE)),"",VLOOKUP(N29,coureurs!$A$4:$I$70,2,FALSE)) | P29: =IF(ISNA(VLOOKUP(N29,coureurs!$A$4:$I$70,3,FALSE)),"",VLOOKUP(N29,coureurs!$A$4:$I$70,3,FALSE)) | Q29: =IF(ISNA(VLOOKUP(N29,coureurs!$A$4:$I$70,9,FALSE)),"",VLOOKUP(N29,coureurs!$A$4:$I$70,9,FALSE)) | R29: =VLOOKUP($N29,$C$22:$J$33,7,FALSE) -> #N/A | S29: =VLOOKUP($N29,$C$22:$J$33,8,FALSE) -> #N/A
B30: =RANK($I30,$I$22:$I$33,0)+COUNTIFS($I$22:$I$33,I30,$J$22:$J$33,">"&$J30)+COUNTIFS($I$22:$I$33,I30,$J$22:$J$33,$J30,$K$22:$K$33,">"&$K30) -> 8 | I30: =H30+G30+D30 -> 0 | J30: =IF(D30=MAX($D$22:$D$33),1,0)+IF(G30=MAX($G$22:$G$33),1,0)+IF(H30=MAX($H$22:$H$33),1,0)+IF(E30=MAX($E$22:$E$33),1,0)+IF(F30=MAX($F$22:$F$33),1,0) -> 0 | K30: =IFERROR(INDEX(CLM!$B$8:$B$33,MATCH('ClAnx-1'!C30,CLM!$C$8:$C$33,0),1),"") | M30: 9 | N30: =VLOOKUP(M30,$B$22:$H$33,2,FALSE) -> #N/A | O30: =IF(ISNA(VLOOKUP(N30,coureurs!$A$4:$I$70,2,FALSE)),"",VLOOKUP(N30,coureurs!$A$4:$I$70,2,FALSE)) | P30: =IF(ISNA(VLOOKUP(N30,coureurs!$A$4:$I$70,3,FALSE)),"",VLOOKUP(N30,coureurs!$A$4:$I$70,3,FALSE)) | Q30: =IF(ISNA(VLOOKUP(N30,coureurs!$A$4:$I$70,9,FALSE)),"",VLOOKUP(N30,coureurs!$A$4:$I$70,9,FALSE)) | R30: =VLOOKUP($N30,$C$22:$J$33,7,FALSE) -> #N/A | S30: =VLOOKUP($N30,$C$22:$J$33,8,FALSE) -> #N/A
B31: =RANK($I31,$I$22:$I$33,0)+COUNTIFS($I$22:$I$33,I31,$J$22:$J$33,">"&$J31)+COUNTIFS($I$22:$I$33,I31,$J$22:$J$33,$J31,$K$22:$K$33,">"&$K31) -> 8 | I31: =H31+G31+D31 -> 0 | J31: =IF(D31=MAX($D$22:$D$33),1,0)+IF(G31=MAX($G$22:$G$33),1,0)+IF(H31=MAX($H$22:$H$33),1,0)+IF(E31=MAX($E$22:$E$33),1,0)+IF(F31=MAX($F$22:$F$33),1,0) -> 0 | K31: =IFERROR(INDEX(CLM!$B$8:$B$33,MATCH('ClAnx-1'!C31,CLM!$C$8:$C$33,0),1),"") | M31: 10 | N31: =VLOOKUP(M31,$B$22:$H$33,2,FALSE) -> #N/A | O31: =IF(ISNA(VLOOKUP(N31,coureurs!$A$4:$I$70,2,FALSE)),"",VLOOKUP(N31,coureurs!$A$4:$I$70,2,FALSE)) | P31: =IF(ISNA(VLOOKUP(N31,coureurs!$A$4:$I$70,3,FALSE)),"",VLOOKUP(N31,coureurs!$A$4:$I$70,3,FALSE)) | Q31: =IF(ISNA(VLOOKUP(N31,coureurs!$A$4:$I$70,9,FALSE)),"",VLOOKUP(N31,coureurs!$A$4:$I$70,9,FALSE)) | R31: =VLOOKUP($N31,$C$22:$J$33,7,FALSE) -> #N/A | S31: =VLOOKUP($N31,$C$22:$J$33,8,FALSE) -> #N/A
B32: =RANK($I32,$I$22:$I$33,0)+COUNTIFS($I$22:$I$33,I32,$J$22:$J$33,">"&$J32)+COUNTIFS($I$22:$I$33,I32,$J$22:$J$33,$J32,$K$22:$K$33,">"&$K32) -> 8 | I32: =H32+G32+D32 -> 0 | J32: =IF(D32=MAX($D$22:$D$33),1,0)+IF(G32=MAX($G$22:$G$33),1,0)+IF(H32=MAX($H$22:$H$33),1,0)+IF(E32=MAX($E$22:$E$33),1,0)+IF(F32=MAX($F$22:$F$33),1,0) -> 0 | K32: =IFERROR(INDEX(CLM!$B$8:$B$33,MATCH('ClAnx-1'!C32,CLM!$C$8:$C$33,0),1),"")
B33: =RANK($I33,$I$22:$I$33,0)+COUNTIFS($I$22:$I$33,I33,$J$22:$J$33,">"&$J33)+COUNTIFS($I$22:$I$33,I33,$J$22:$J$33,$J33,$K$22:$K$33,">"&$K33) -> 8 | I33: =H33+G33+D33 -> 0 | J33: =IF(D33=MAX($D$22:$D$33),1,0)+IF(G33=MAX($G$22:$G$33),1,0)+IF(H33=MAX($H$22:$H$33),1,0)+IF(E33=MAX($E$22:$E$33),1,0)+IF(F33=MAX($F$22:$F$33),1,0) -> 0 | K33: =IFERROR(INDEX(CLM!$B$8:$B$33,MATCH('ClAnx-1'!C33,CLM!$C$8:$C$33,0),1),"")
C34: Total | D34: =SUM(D22:D33) -> 6 | E34: =SUM(E22:E33) -> 6 | F34: =SUM(F22:F33) -> 6 | G34: =SUM(G22:G33) -> 6 | H34: =SUM(H22:H33) -> 6 | I34: =SUM(I22:I33) -> 18
