Workbook

Sheet coureurs
A3: Dossard | B3: Nom | C3: Prénom | D3: Sexe | E3: N° Licence | F3: Catégorie | G3: Sous Catégorie | H3: Code classif. | I3: Club | J3: Comité | K3: Team | L3: Âge sur la saison | M3: Nationalité | N3: Engagement | O3: Entité Eng. | P3: Montant | Q3: Uci-Id
A4: 4 | B4: BEAU1 | C4: No1 | D4: H | E4: 50242930028 | F4: U17 | H4: 1.31.0 | I4: Team Cycliste VERTEILLACOISE | J4: NOUVELLE AQUITAINE | L4: 16 | M4: FRA | N4: Titulaires | O4: Team Cycliste VERTEILLACOISE | P4: 8,00 | Q4: 10126168082
A5: 5 | B5: BEAU2 | C5: No2 | D5: H | E5: 50242930026 | F5: U17 | H5: 1.31.0 | I5: Team Cycliste VERTEILLACOISE | J5: NOUVELLE AQUITAINE | L5: 16 | M5: FRA | N5: Titulaires | O5: Team Cycliste VERTEILLACOISE | P5: 8,00 | Q5: 10126167678
A6: 3 | B6: BEAU3 | C6: No3 | D6: H | E6: 50242930015 | F6: U17 | H6: 1.31.0 | I6: Team Cycliste VERTEILLACOISE | J6: NOUVELLE AQUITAINE | L6: 15 | M6: FRA | N6: Titulaires | O6: Team Cycliste VERTEILLACOISE | P6: 8,00 | Q6: 10073773938
A7: 1 | B7: BEAU4 | C7: No4 | D7: H | E7: 50242680109 | F7: U17 | H7: 1.31.0 | I7: UC MONTPONNAISE VALLÉE DE L`ISLE | J7: NOUVELLE AQUITAINE | L7: 16 | M7: FRA | N7: Titulaires | O7: UC MONTPONNAISE VALLÉE DE L'ISLE | P7: 8,00 | Q7: 10111074377
A8: 2 | B8: BEAU5 | C8: No5 | D8: H | E8: 50242680072 | F8: U17 | H8: 1.31.0 | I8: UC MONTPONNAISE VALLÉE DE L`ISLE | J8: NOUVELLE AQUITAINE | L8: 15 | M8: FRA | N8: Titulaires | O8: UC MONTPONNAISE VALLÉE DE L'ISLE | P8: 8,00 | Q8: 10084743123
A9: 9 | B9: BEAU6 | C9: No6 | D9: H | E9: 50242920221 | F9: U17 | H9: 1.31.0 | I9: DORDOGNE SUD CYCLISME | J9: NOUVELLE AQUITAINE | L9: 15 | M9: FRA | N9: Titulaires | O9: DORDOGNE SUD CYCLISME | P9: 8,00 | Q9: 10130219450
A10: 7 | B10: BEAU7 | C10: No7 | D10: H | E10: 50242920200 | F10: U17 | H10: 1.31.0 | I10: DORDOGNE SUD CYCLISME | J10: NOUVELLE AQUITAINE | L10: 16 | M10: FRA | N10: Titulaires | O10: DORDOGNE SUD CYCLISME | P10: 8,00 | Q10: 10137829304
A11: 8 | B11: BEAU8 | C11: No8 | D11: H | E11: 50242920242 | F11: U17 | H11: 1.31.0 | I11: DORDOGNE SUD CYCLISME | J11: NOUVELLE AQUITAINE | L11: 15 | M11: FRA | N11: Titulaires | O11: DORDOGNE SUD CYCLISME | P11: 8,00 | Q11: 10097422235
A12: 11 | B12: BEAU9 | C12: No9 | D12: H | E12: 49505470128 | F12: U17 | H12: 1.31.0 | I12: VELO CLUB LE TEILLEUL | J12: NORMANDIE | L12: 16 | M12: FRA | N12: Titulaires | O12: VELO CLUB LE TEILLEUL | P12: 8,00 | Q12: 10067036074
A13: 6 | B13: BEAU10 | C13: No10 | D13: H | E13: 50330560362 | F13: U17 | H13: 1.31.0 | I13: VC DU SUD GIRONDE | J13: NOUVELLE AQUITAINE | L13: 16 | M13: FRA | N13: Titulaires | O13: VC DU SUD GIRONDE | P13: 8,00 | Q13: 10125563753
A14: 10 | B14: BEAU11 | C14: No11 | D14: H | E14: 50330110261 | F14: U17 | H14: 1.31.0 | I14: AVC LIBOURNE | J14: NOUVELLE AQUITAINE | M14: FRA | N14: Titulaires | O14: AVC LIBOURNE | P14: 8,00 | Q14: 10144916768
A15: 18 | B15: BEAU12 | C15: No12 | D15: H | E15: 50190110176 | F15: U17 | H15: 1.31.0 | I15: UC BRIVISTE | J15: NOUVELLE AQUITAINE | L15: 16 | M15: FRA | N15: Titulaires | O15: UC BRIVISTE
A16: 13 | B16: BEAU13 | C16: No13 | D16: H | E16: 51650100122 | F16: U17 | H16: 1.31.0 | I16: EC MEDOC ATLANTIQUE
A17: 14 | B17: BEAU14 | C17: No14 | D17: H | E17: 50242710087 | F17: U17 | H17: 1.31.0 | I17: SPRINTER CLUB DU PERIGORD | J17: NOUVELLE AQUITAINE | L17: 15 | M17: FRA | N17: Titulaires | O17: SPRINTER CLUB DU PERIGORD | P17: 8,00 | Q17: 10111146725
A18: 12 | B18: BEAU15 | C18: No15 | D18: H | E18: 50242710091 | F18: U17 | H18: 1.31.0 | I18: SPRINTER CLUB DU PERIGORD | J18: NOUVELLE AQUITAINE | L18: 15 | M18: FRA | N18: Titulaires | O18: SPRINTER CLUB DU PERIGORD | P18: 8,00 | Q18: 10114895773
A19: 16 | B19: BEAU16 | C19: No16 | D19: H | E19: 50330110268 | F19: U17 | H19: 1.31.0 | I19: AVC LIBOURNE | J19: NOUVELLE AQUITAINE | L19: 15 | M19: FRA | N19: Titulaires | O19: AVC LIBOURNE | P19: 8,00 | Q19: 10145392573
A20: 17 | B20: BEAU17 | C20: No17 | D20: H | E20: 50330420122 | F20: U17 | H20: 1.31.0 | I20: EC MEDOC ATLANTIQUE
A21: 15 | B21: BEAU18 | C21: No18 | D21: H | E21: 50330420082 | F21: U17 | H21: 1.31.0 | I21: EC MEDOC ATLANTIQUE
A22: 19

Sheet CLM
D2: 2ème Souvenir | M2: Classement Général après étape 1
K4: Dist : 8,5 km
A5: Résultat de l'étape 1 | E5: Dist : 8,5 km | K5: Moy : | L5: =8.5/Q8*"1:0:0" -> 92.44713 | M5: km/h | P5: Délai : | Q5: =Q8*0.25 -> 0.00095775463 | U5: Clubs ayant au moins
U6: 3
A7: Ordre | B7: rang tps | C7: Dossard | D7: Nom | E7: Prénom | F7: Club | G7: Horaire départ | H7: Horaire arrivée | I7: 1/ 100° | J7: Tps CLM | K7: Place | L7: Dossard | M7: Nom | N7: Prénom | O7: Club | P7: Cat | Q7: Tps CLM | R7: 1/ 100° | S7: Écart | U7: coureurs
A8: 1 | B8: =RANK($J8,J$8:J$48,1)+COUNTIF(J$8:J8,J8)-1 -> 12 | C8: 17 | D8: =IF(ISNA(VLOOKUP(C8,coureurs!$A$4:$I$70,2,FALSE)),"",VLOOKUP(C8,coureurs!$A$4:$I$70,2,FALSE)) -> BEAU17 | E8: =IF(ISNA(VLOOKUP(C8,coureurs!$A$4:$I$70,3,FALSE)),"",VLOOKUP(C8,coureurs!$A$4:$I$70,3,FALSE)) -> No17 | F8: =IF(ISNA(VLOOKUP(C8,coureurs!$A$4:$I$70,9,FALSE)),"",VLOOKUP(C8,coureurs!$A$4:$I$70,9,FALSE)) -> EC MEDOC ATLANTIQUE | G8: 0.44444444 | H8: 0.44890046 | I8: 26 | J8: =H8-G8 -> 0.0044560185 | K8: 1 | L8: =VLOOKUP(K8,B$8:J$58,2,FALSE) -> 1 | M8: =IF(ISNA(VLOOKUP(L8,coureurs!$A$4:$Q$70,2,FALSE)),"",VLOOKUP(L8,coureurs!$A$4:$Q$70,2,FALSE)) -> BEAU4 | N8: =IF(ISNA(VLOOKUP(L8,coureurs!$A$4:$Q$70,3,FALSE)),"",VLOOKUP(L8,coureurs!$A$4:$Q$70,3,FALSE)) -> No4 | O8: =IF(ISNA(VLOOKUP(L8,coureurs!$A$4:$Q$70,9,FALSE)),"",VLOOKUP(L8,coureurs!$A$4:$Q$70,9,FALSE)) -> UC MONTPONNAISE VALLÉE DE L`ISLE | P8: =IF(ISNA(VLOOKUP(L8,coureurs!$A$4:$Q$70,6,FALSE)),"",VLOOKUP(L8,coureurs!$A$4:$Q$70,6,FALSE)) -> U17 | Q8: =VLOOKUP(L8,$C$8:$J$42,8,FALSE) -> 0.0038310185 | R8: =I8 -> 26 | U8: {=IFERROR(INDEX($O$8:$O$25,SMALL(IF(COUNTIF($O$8:$O$25,$O$8:$O$25)>=$U$6,ROW($O$8:$O$25)-7),ROW(1:1))),"")} -> EC MEDOC ATLANTIQUE | W8: =IF(U8="","",COUNTIF(U$8:U8,U8)) -> 1
A9: =A8+1 -> 2 | B9: =RANK($J9,J$8:J$48,1)+COUNTIF(J$8:J9,J9)-1 -> 14 | C9: 16 | D9: =IF(ISNA(VLOOKUP(C9,coureurs!$A$4:$I$70,2,FALSE)),"",VLOOKUP(C9,coureurs!$A$4:$I$70,2,FALSE)) -> BEAU16 | E9: =IF(ISNA(VLOOKUP(C9,coureurs!$A$4:$I$70,3,FALSE)),"",VLOOKUP(C9,coureurs!$A$4:$I$70,3,FALSE)) -> No16 | F9: =IF(ISNA(VLOOKUP(C9,coureurs!$A$4:$I$70,9,FALSE)),"",VLOOKUP(C9,coureurs!$A$4:$I$70,9,FALSE)) -> AVC LIBOURNE | G9: 0.44583333 | H9: 0.45042824 | I9: 19 | J9: =H9-G9 -> 0.0045949074 | K9: 2 | L9: =VLOOKUP(K9,B$8:J$58,2,FALSE) -> 6 | M9: =IF(ISNA(VLOOKUP(L9,coureurs!$A$4:$Q$70,2,FALSE)),"",VLOOKUP(L9,coureurs!$A$4:$Q$70,2,FALSE)) -> BEAU10 | N9: =IF(ISNA(VLOOKUP(L9,coureurs!$A$4:$Q$70,3,FALSE)),"",VLOOKUP(L9,coureurs!$A$4:$Q$70,3,FALSE)) -> No10 | O9: =IF(ISNA(VLOOKUP(L9,coureurs!$A$4:$Q$70,9,FALSE)),"",VLOOKUP(L9,coureurs!$A$4:$Q$70,9,FALSE)) -> VC DU SUD GIRONDE | P9: =IF(ISNA(VLOOKUP(L8,coureurs!$A$4:$Q$70,6,FALSE)),"",VLOOKUP(L8,coureurs!$A$4:$Q$70,6,FALSE)) -> U17 | Q9: =VLOOKUP(L9,$C$8:$J$42,8,FALSE) -> 0.0039814815 | R9: =I9 -> 19 | S9: =Q9-Q$8 -> 0.00015046296 | U9: {=IFERROR(INDEX($O$8:$O$25,SMALL(IF(COUNTIF($O$8:$O$25,$O$8:$O$25)>=$U$6,ROW($O$8:$O$25)-7),ROW(2:2))),"")} -> Team Cycliste VERTEILLACOISE | W9: =IF(U9="","",COUNTIF(U$8:U9,U9)) -> 1
A10: =A9+1 -> 3 | B10: =RANK($J10,J$8:J$48,1)+COUNTIF(J$8:J10,J10)-1 -> 5 | C10: 13 | D10: =IF(ISNA(VLOOKUP(C10,coureurs!$A$4:$I$70,2,FALSE)),"",VLOOKUP(C10,coureurs!$A$4:$I$70,2,FALSE)) -> BEAU13 | E10: =IF(ISNA(VLOOKUP(C10,coureurs!$A$4:$I$70,3,FALSE)),"",VLOOKUP(C10,coureurs!$A$4:$I$70,3,FALSE)) -> No13 | F10: =IF(ISNA(VLOOKUP(C10,coureurs!$A$4:$I$70,9,FALSE)),"",VLOOKUP(C10,coureurs!$A$4:$I$70,9,FALSE)) -> EC MEDOC ATLANTIQUE | G10: 0.44722222 | H10: 0.45140046 | I10: 44 | J10: =H10-G10 -> 0.0041782407 | K10: 3 | L10: =VLOOKUP(K10,B$8:J$58,2,FALSE) -> 2 | M10: =IF(ISNA(VLOOKUP(L10,coureurs!$A$4:$Q$70,2,FALSE)),"",VLOOKUP(L10,coureurs!$A$4:$Q$70,2,FALSE)) -> BEAU5 | N10: =IF(ISNA(VLOOKUP(L10,coureurs!$A$4:$Q$70,3,FALSE)),"",VLOOKUP(L10,coureurs!$A$4:$Q$70,3,FALSE)) -> No5 | O10: =IF(ISNA(VLOOKUP(L10,coureurs!$A$4:$Q$70,9,FALSE)),"",VLOOKUP(L10,coureurs!$A$4:$Q$70,9,FALSE)) -> UC MONTPONNAISE VALLÉE DE L`ISLE | P10: =IF(ISNA(VLOOKUP(L9,coureurs!$A$4:$Q$70,6,FALSE)),"",VLOOKUP(L9,coureurs!$A$4:$Q$70,6,FALSE)) -> U17 | Q10: =VLOOKUP(L10,$C$8:$J$42,8,FALSE) -> 0.0040509259 | R10: =I10 -> 44 | S10: =Q10-Q$8 -> 0.00021990741 | U10: {=IFERROR(INDEX($O$8:$O$25,SMALL(IF(COUNTIF($O$8:$O$25,$O$8:$O$25)>=$U$6,ROW($O$8:$O$25)-7),ROW(3:3))),"")} -> DORDOGNE SUD CYCLISME | W10: =IF(U10="","",COUNTIF(U$8:U10,U10)) -> 1
A11: =A10+1 -> 4 | B11: =RANK($J11,J$8:J$48,1)+COUNTIF(J$8:J11,J11)-1 -> 9 | C11: 14 | D11: =IF(ISNA(VLOOKUP(C11,coureurs!$A$4:$I$70,2,FALSE)),"",VLOOKUP(C11,coureurs!$A$4:$I$70,2,FALSE)) -> BEAU14 | E11: =IF(ISNA(VLOOKUP(C11,coureurs!$A$4:$I$70,3,FALSE)),"",VLOOKUP(C11,coureurs!$A$4:$I$70,3,FALSE)) -> No14 | F11: =IF(ISNA(VLOOKUP(C11,coureurs!$A$4:$I$70,9,FALSE)),"",VLOOKUP(C11,coureurs!$A$4:$I$70,9,FALSE)) -> SPRINTER CLUB DU PERIGORD | G11: 0.44861111 | H11: 0.45299769 | I11: 18 | J11: =H11-G11 -> 0.0043865741 | K11: 4 | L11: =VLOOKUP(K11,B$8:J$58,2,FALSE) -> 18 | M11: =IF(ISNA(VLOOKUP(L11,coureurs!$A$4:$Q$70,2,FALSE)),"",VLOOKUP(L11,coureurs!$A$4:$Q$70,2,FALSE)) -> BEAU12 | N11: =IF(ISNA(VLOOKUP(L11,coureurs!$A$4:$Q$70,3,FALSE)),"",VLOOKUP(L11,coureurs!$A$4:$Q$70,3,FALSE)) -> No12 | O11: =IF(ISNA(VLOOKUP(L11,coureurs!$A$4:$Q$70,9,FALSE)),"",VLOOKUP(L11,coureurs!$A$4:$Q$70,9,FALSE)) -> UC BRIVISTE | P11: =IF(ISNA(VLOOKUP(L10,coureurs!$A$4:$Q$70,6,FALSE)),"",VLOOKUP(L10,coureurs!$A$4:$Q$70,6,FALSE)) -> U17 | Q11: =VLOOKUP(L11,$C$8:$J$42,8,FALSE) -> 0.0041203704 | R11: =I11 -> 18 | S11: =Q11-Q$8 -> 0.00028935185 | U11: {=IFERROR(INDEX($O$8:$O$25,SMALL(IF(COUNTIF($O$8:$O$25,$O$8:$O$25)>=$U$6,ROW($O$8:$O$25)-7),ROW(4:4))),"")} -> Team Cycliste VERTEILLACOISE | W11: =IF(U11="","",COUNTIF(U$8:U11,U11)) -> 2
A12: =A11+1 -> 5 | B12: =RANK($J12,J$8:J$48,1)+COUNTIF(J$8:J12,J12)-1 -> 17 | C12: 15 | D12: =IF(ISNA(VLOOKUP(C12,coureurs!$A$4:$I$70,2,FALSE)),"",VLOOKUP(C12,coureurs!$A$4:$I$70,2,FALSE)) -> BEAU18 | E12: =IF(ISNA(VLOOKUP(C12,coureurs!$A$4:$I$70,3,FALSE)),"",VLOOKUP(C12,coureurs!$A$4:$I$70,3,FALSE)) -> No18 | F12: =IF(ISNA(VLOOKUP(C12,coureurs!$A$4:$I$70,9,FALSE)),"",VLOOKUP(C12,coureurs!$A$4:$I$70,9,FALSE)) -> EC MEDOC ATLANTIQUE | G12: 0.45 | H12: 0.45488426 | I12: 43 | J12: =H12-G12 -> 0.0048842593 | K12: 5 | L12: =VLOOKUP(K12,B$8:J$58,2,FALSE) -> 13 | M12: =IF(ISNA(VLOOKUP(L12,coureurs!$A$4:$Q$70,2,FALSE)),"",VLOOKUP(L12,coureurs!$A$4:$Q$70,2,FALSE)) -> BEAU13 | N12: =IF(ISNA(VLOOKUP(L12,coureurs!$A$4:$Q$70,3,FALSE)),"",VLOOKUP(L12,coureurs!$A$4:$Q$70,3,FALSE)) -> No13 | O12: =IF(ISNA(VLOOKUP(L12,coureurs!$A$4:$Q$70,9,FALSE)),"",VLOOKUP(L12,coureurs!$A$4:$Q$70,9,FALSE)) -> EC MEDOC ATLANTIQUE | P12: =IF(ISNA(VLOOKUP(L11,coureurs!$A$4:$Q$70,6,FALSE)),"",VLOOKUP(L11,coureurs!$A$4:$Q$70,6,FALSE)) -> U17 | Q12: =VLOOKUP(L12,$C$8:$J$42,8,FALSE) -> 0.0041782407 | R12: =I12 -> 43 | S12: =Q12-Q$8 -> 0.00034722222 | U12: {=IFERROR(INDEX($O$8:$O$25,SMALL(IF(COUNTIF($O$8:$O$25,$O$8:$O$25)>=$U$6,ROW($O$8:$O$25)-7),ROW(5:5))),"")} -> EC MEDOC ATLANTIQUE | W12: =IF(U12="","",COUNTIF(U$8:U12,U12)) -> 2
A13: =A12+1 -> 6 | B13: =RANK($J13,J$8:J$48,1)+COUNTIF(J$8:J13,J13)-1 -> 11 | C13: 12 | D13: =IF(ISNA(VLOOKUP(C13,coureurs!$A$4:$I$70,2,FALSE)),"",VLOOKUP(C13,coureurs!$A$4:$I$70,2,FALSE)) -> BEAU15 | E13: =IF(ISNA(VLOOKUP(C13,coureurs!$A$4:$I$70,3,FALSE)),"",VLOOKUP(C13,coureurs!$A$4:$I$70,3,FALSE)) -> No15 | F13: =IF(ISNA(VLOOKUP(C13,coureurs!$A$4:$I$70,9,FALSE)),"",VLOOKUP(C13,coureurs!$A$4:$I$70,9,FALSE)) -> SPRINTER CLUB DU PERIGORD | G13: 0.45138889 | H13: 0.45578704 | I13: 14 | J13: =H13-G13 -> 0.0043981481 | K13: 6 | L13: =VLOOKUP(K13,B$8:J$58,2,FALSE) -> 3 | M13: =IF(ISNA(VLOOKUP(L13,coureurs!$A$4:$Q$70,2,FALSE)),"",VLOOKUP(L13,coureurs!$A$4:$Q$70,2,FALSE)) -> BEAU3 | N13: =IF(ISNA(VLOOKUP(L13,coureurs!$A$4:$Q$70,3,FALSE)),"",VLOOKUP(L13,coureurs!$A$4:$Q$70,3,FALSE)) -> No3 | O13: =IF(ISNA(VLOOKUP(L13,coureurs!$A$4:$Q$70,9,FALSE)),"",VLOOKUP(L13,coureurs!$A$4:$Q$70,9,FALSE)) -> Team Cycliste VERTEILLACOISE | P13: =IF(ISNA(VLOOKUP(L12,coureurs!$A$4:$Q$70,6,FALSE)),"",VLOOKUP(L12,coureurs!$A$4:$Q$70,6,FALSE)) -> U17 | Q13: =VLOOKUP(L13,$C$8:$J$42,8,FALSE) -> 0.0041782407 | R13: =I13 -> 14 | S13: =Q13-Q$8 -> 0.00034722222 | U13: {=IFERROR(INDEX($O$8:$O$25,SMALL(IF(COUNTIF($O$8:$O$25,$O$8:$O$25)>=$U$6,ROW($O$8:$O$25)-7),ROW(6:6))),"")} -> DORDOGNE SUD CYCLISME | W13: =IF(U13="","",COUNTIF(U$8:U13,U13)) -> 2
A14: =A13+1 -> 7 | B14: =RANK($J14,J$8:J$48,1)+COUNTIF(J$8:J14,J14)-1 -> 18 | C14: 11 | D14: =IF(ISNA(VLOOKUP(C14,coureurs!$A$4:$I$70,2,FALSE)),"",VLOOKUP(C14,coureurs!$A$4:$I$70,2,FALSE)) -> BEAU9 | E14: =IF(ISNA(VLOOKUP(C14,coureurs!$A$4:$I$70,3,FALSE)),"",VLOOKUP(C14,coureurs!$A$4:$I$70,3,FALSE)) -> No9 | F14: =IF(ISNA(VLOOKUP(C14,coureurs!$A$4:$I$70,9,FALSE)),"",VLOOKUP(C14,coureurs!$A$4:$I$70,9,FALSE)) -> VELO CLUB LE TEILLEUL | G14: 0.45208333 | H14: 0.48356481 | I14: 35 | J14: =H14-G14 -> 0.031481481 | K14: 7 | L14: =VLOOKUP(K14,B$8:J$58,2,FALSE) -> 7 | M14: =IF(ISNA(VLOOKUP(L14,coureurs!$A$4:$Q$70,2,FALSE)),"",VLOOKUP(L14,coureurs!$A$4:$Q$70,2,FALSE)) -> BEAU7 | N14: =IF(ISNA(VLOOKUP(L14,coureurs!$A$4:$Q$70,3,FALSE)),"",VLOOKUP(L14,coureurs!$A$4:$Q$70,3,FALSE)) -> No7 | O14: =IF(ISNA(VLOOKUP(L14,coureurs!$A$4:$Q$70,9,FALSE)),"",VLOOKUP(L14,coureurs!$A$4:$Q$70,9,FALSE)) -> DORDOGNE SUD CYCLISME | P14: =IF(ISNA(VLOOKUP(L13,coureurs!$A$4:$Q$70,6,FALSE)),"",VLOOKUP(L13,coureurs!$A$4:$Q$70,6,FALSE)) -> U17 | Q14: =VLOOKUP(L14,$C$8:$J$42,8,FALSE) -> 0.0041898148 | R14: =I14 -> 35 | S14: =Q14-Q$8 -> 0.0003587963 | U14: {=IFERROR(INDEX($O$8:$O$25,SMALL(IF(COUNTIF($O$8:$O$25,$O$8:$O$25)>=$U$6,ROW($O$8:$O$25)-7),ROW(7:7))),"")} -> Team Cycliste VERTEILLACOISE | W14: =IF(U14="","",COUNTIF(U$8:U14,U14)) -> 3
A15: =A14+1 -> 8 | B15: =RANK($J15,J$8:J$48,1)+COUNTIF(J$8:J15,J15)-1 -> 10 | C15: 10 | D15: =IF(ISNA(VLOOKUP(C15,coureurs!$A$4:$I$70,2,FALSE)),"",VLOOKUP(C15,coureurs!$A$4:$I$70,2,FALSE)) -> BEAU11 | E15: =IF(ISNA(VLOOKUP(C15,coureurs!$A$4:$I$70,3,FALSE)),"",VLOOKUP(C15,coureurs!$A$4:$I$70,3,FALSE)) -> No11 | F15: =IF(ISNA(VLOOKUP(C15,coureurs!$A$4:$I$70,9,FALSE)),"",VLOOKUP(C15,coureurs!$A$4:$I$70,9,FALSE)) -> AVC LIBOURNE | G15: 0.45277778 | H15: 0.45716435 | I15: 58 | J15: =H15-G15 -> 0.0043865741 | K15: 8 | L15: =VLOOKUP(K15,B$8:J$58,2,FALSE) -> 4 | M15: =IF(ISNA(VLOOKUP(L15,coureurs!$A$4:$Q$70,2,FALSE)),"",VLOOKUP(L15,coureurs!$A$4:$Q$70,2,FALSE)) -> BEAU1 | N15: =IF(ISNA(VLOOKUP(L15,coureurs!$A$4:$Q$70,3,FALSE)),"",VLOOKUP(L15,coureurs!$A$4:$Q$70,3,FALSE)) -> No1 | O15: =IF(ISNA(VLOOKUP(L15,coureurs!$A$4:$Q$70,9,FALSE)),"",VLOOKUP(L15,coureurs!$A$4:$Q$70,9,FALSE)) -> Team Cycliste VERTEILLACOISE | P15: =IF(ISNA(VLOOKUP(L14,coureurs!$A$4:$Q$70,6,FALSE)),"",VLOOKUP(L14,coureurs!$A$4:$Q$70,6,FALSE)) -> U17 | Q15: =VLOOKUP(L15,$C$8:$J$42,8,FALSE) -> 0.0042361111 | R15: =I15 -> 58 | S15: =Q15-Q$8 -> 0.00040509259 | U15: {=IFERROR(INDEX($O$8:$O$25,SMALL(IF(COUNTIF($O$8:$O$25,$O$8:$O$25)>=$U$6,ROW($O$8:$O$25)-7),ROW(8:8))),"")} -> DORDOGNE SUD CYCLISME | W15: =IF(U15="","",COUNTIF(U$8:U15,U15)) -> 3
A16: =A15+1 -> 9 | B16: =RANK($J16,J$8:J$48,1)+COUNTIF(J$8:J16,J16)-1 -> 13 | C16: 9 | D16: =IF(ISNA(VLOOKUP(C16,coureurs!$A$4:$I$70,2,FALSE)),"",VLOOKUP(C16,coureurs!$A$4:$I$70,2,FALSE)) -> BEAU6 | E16: =IF(ISNA(VLOOKUP(C16,coureurs!$A$4:$I$70,3,FALSE)),"",VLOOKUP(C16,coureurs!$A$4:$I$70,3,FALSE)) -> No6 | F16: =IF(ISNA(VLOOKUP(C16,coureurs!$A$4:$I$70,9,FALSE)),"",VLOOKUP(C16,coureurs!$A$4:$I$70,9,FALSE)) -> DORDOGNE SUD CYCLISME | G16: 0.45555556 | H16: 0.46011574 | I16: 25 | J16: =H16-G16 -> 0.0045601852 | K16: 9 | L16: =VLOOKUP(K16,B$8:J$58,2,FALSE) -> 14 | M16: =IF(ISNA(VLOOKUP(L16,coureurs!$A$4:$Q$70,2,FALSE)),"",VLOOKUP(L16,coureurs!$A$4:$Q$70,2,FALSE)) -> BEAU14 | N16: =IF(ISNA(VLOOKUP(L16,coureurs!$A$4:$Q$70,3,FALSE)),"",VLOOKUP(L16,coureurs!$A$4:$Q$70,3,FALSE)) -> No14 | O16: =IF(ISNA(VLOOKUP(L16,coureurs!$A$4:$Q$70,9,FALSE)),"",VLOOKUP(L16,coureurs!$A$4:$Q$70,9,FALSE)) -> SPRINTER CLUB DU PERIGORD | P16: =IF(ISNA(VLOOKUP(L15,coureurs!$A$4:$Q$70,6,FALSE)),"",VLOOKUP(L15,coureurs!$A$4:$Q$70,6,FALSE)) -> U17 | Q16: =VLOOKUP(L16,$C$8:$J$42,8,FALSE) -> 0.0043865741 | R16: =I16 -> 25 | S16: =Q16-Q$8 -> 0.00055555556 | U16: {=IFERROR(INDEX($O$8:$O$25,SMALL(IF(COUNTIF($O$8:$O$25,$O$8:$O$25)>=$U$6,ROW($O$8:$O$25)-7),ROW(9:9))),"")} -> EC MEDOC ATLANTIQUE | W16: =IF(U16="","",COUNTIF(U$8:U16,U16)) -> 3
A17: =A16+1 -> 10 | B17: =RANK($J17,J$8:J$48,1)+COUNTIF(J$8:J17,J17)-1 -> 16 | C17: 8 | D17: =IF(ISNA(VLOOKUP(C17,coureurs!$A$4:$I$70,2,FALSE)),"",VLOOKUP(C17,coureurs!$A$4:$I$70,2,FALSE)) -> BEAU8 | E17: =IF(ISNA(VLOOKUP(C17,coureurs!$A$4:$I$70,3,FALSE)),"",VLOOKUP(C17,coureurs!$A$4:$I$70,3,FALSE)) -> No8 | F17: =IF(ISNA(VLOOKUP(C17,coureurs!$A$4:$I$70,9,FALSE)),"",VLOOKUP(C17,coureurs!$A$4:$I$70,9,FALSE)) -> DORDOGNE SUD CYCLISME | G17: 0.45694444 | H17: 0.46168981 | I17: 8 | J17: =H17-G17 -> 0.0047453704 | K17: 10 | L17: =VLOOKUP(K17,B$8:J$58,2,FALSE) -> 10 | M17: =IF(ISNA(VLOOKUP(L17,coureurs!$A$4:$Q$70,2,FALSE)),"",VLOOKUP(L17,coureurs!$A$4:$Q$70,2,FALSE)) -> BEAU11 | N17: =IF(ISNA(VLOOKUP(L17,coureurs!$A$4:$Q$70,3,FALSE)),"",VLOOKUP(L17,coureurs!$A$4:$Q$70,3,FALSE)) -> No11 | O17: =IF(ISNA(VLOOKUP(L17,coureurs!$A$4:$Q$70,9,FALSE)),"",VLOOKUP(L17,coureurs!$A$4:$Q$70,9,FALSE)) -> AVC LIBOURNE | P17: =IF(ISNA(VLOOKUP(L16,coureurs!$A$4:$Q$70,6,FALSE)),"",VLOOKUP(L16,coureurs!$A$4:$Q$70,6,FALSE)) -> U17 | Q17: =VLOOKUP(L17,$C$8:$J$42,8,FALSE) -> 0.0043865741 | R17: =I17 -> 8 | S17: =Q17-Q$8 -> 0.00055555556 | U17: {=IFERROR(INDEX($O$8:$O$25,SMALL(IF(COUNTIF($O$8:$O$25,$O$8:$O$25)>=$U$6,ROW($O$8:$O$25)-7),ROW(10:10))),"")} | W17: =IF(U17="","",COUNTIF(U$8:U17,U17))
A18: =A17+1 -> 11 | B18: =RANK($J18,J$8:J$48,1)+COUNTIF(J$8:J18,J18)-1 -> 7 | C18: 7 | D18: =IF(ISNA(VLOOKUP(C18,coureurs!$A$4:$I$70,2,FALSE)),"",VLOOKUP(C18,coureurs!$A$4:$I$70,2,FALSE)) -> BEAU7 | E18: =IF(ISNA(VLOOKUP(C18,coureurs!$A$4:$I$70,3,FALSE)),"",VLOOKUP(C18,coureurs!$A$4:$I$70,3,FALSE)) -> No7 | F18: =IF(ISNA(VLOOKUP(C18,coureurs!$A$4:$I$70,9,FALSE)),"",VLOOKUP(C18,coureurs!$A$4:$I$70,9,FALSE)) -> DORDOGNE SUD CYCLISME | G18: 0.45833333 | H18: 0.46252315 | I18: 51 | J18: =H18-G18 -> 0.0041898148 | K18: 11 | L18: =VLOOKUP(K18,B$8:J$58,2,FALSE) -> 12 | M18: =IF(ISNA(VLOOKUP(L18,coureurs!$A$4:$Q$70,2,FALSE)),"",VLOOKUP(L18,coureurs!$A$4:$Q$70,2,FALSE)) -> BEAU15 | N18: =IF(ISNA(VLOOKUP(L18,coureurs!$A$4:$Q$70,3,FALSE)),"",VLOOKUP(L18,coureurs!$A$4:$Q$70,3,FALSE)) -> No15 | O18: =IF(ISNA(VLOOKUP(L18,coureurs!$A$4:$Q$70,9,FALSE)),"",VLOOKUP(L18,coureurs!$A$4:$Q$70,9,FALSE)) -> SPRINTER CLUB DU PERIGORD | P18: =IF(ISNA(VLOOKUP(L17,coureurs!$A$4:$Q$70,6,FALSE)),"",VLOOKUP(L17,coureurs!$A$4:$Q$70,6,FALSE)) -> U17 | Q18: =VLOOKUP(L18,$C$8:$J$42,8,FALSE) -> 0.0043981481 | R18: =I18 -> 51 | S18: =Q18-Q$8 -> 0.00056712963 | U18: {=IFERROR(INDEX($O$8:$O$25,SMALL(IF(COUNTIF($O$8:$O$25,$O$8:$O$25)>=$U$6,ROW($O$8:$O$25)-7),ROW(11:11))),"")} | W18: =IF(U18="","",COUNTIF(U$8:U18,U18))
A19: =A18+1 -> 12 | B19: =RANK($J19,J$8:J$48,1)+COUNTIF(J$8:J19,J19)-1 -> 2 | C19: 6 | D19: =IF(ISNA(VLOOKUP(C19,coureurs!$A$4:$I$70,2,FALSE)),"",VLOOKUP(C19,coureurs!$A$4:$I$70,2,FALSE)) -> BEAU10 | E19: =IF(ISNA(VLOOKUP(C19,coureurs!$A$4:$I$70,3,FALSE)),"",VLOOKUP(C19,coureurs!$A$4:$I$70,3,FALSE)) -> No10 | F19: =IF(ISNA(VLOOKUP(C19,coureurs!$A$4:$I$70,9,FALSE)),"",VLOOKUP(C19,coureurs!$A$4:$I$70,9,FALSE)) -> VC DU SUD GIRONDE | G19: 0.45972222 | H19: 0.4637037 | I19: 40 | J19: =H19-G19 -> 0.0039814815 | K19: 12 | L19: =VLOOKUP(K19,B$8:J$58,2,FALSE) -> 17 | M19: =IF(ISNA(VLOOKUP(L19,coureurs!$A$4:$Q$70,2,FALSE)),"",VLOOKUP(L19,coureurs!$A$4:$Q$70,2,FALSE)) -> BEAU17 | N19: =IF(ISNA(VLOOKUP(L19,coureurs!$A$4:$Q$70,3,FALSE)),"",VLOOKUP(L19,coureurs!$A$4:$Q$70,3,FALSE)) -> No17 | O19: =IF(ISNA(VLOOKUP(L19,coureurs!$A$4:$Q$70,9,FALSE)),"",VLOOKUP(L19,coureurs!$A$4:$Q$70,9,FALSE)) -> EC MEDOC ATLANTIQUE | P19: =IF(ISNA(VLOOKUP(L18,coureurs!$A$4:$Q$70,6,FALSE)),"",VLOOKUP(L18,coureurs!$A$4:$Q$70,6,FALSE)) -> U17 | Q19: =VLOOKUP(L19,$C$8:$J$42,8,FALSE) -> 0.0044560185 | R19: =I19 -> 40 | S19: =Q19-Q$8 -> 0.000625 | U19: {=IFERROR(INDEX($O$8:$O$25,SMALL(IF(COUNTIF($O$8:$O$25,$O$8:$O$25)>=$U$6,ROW($O$8:$O$25)-7),ROW(12:12))),"")} | W19: =IF(U19="","",COUNTIF(U$8:U19,U19))
A20: =A19+1 -> 13 | B20: =RANK($J20,J$8:J$48,1)+COUNTIF(J$8:J20,J20)-1 -> 15 | C20: 5 | D20: =IF(ISNA(VLOOKUP(C20,coureurs!$A$4:$I$70,2,FALSE)),"",VLOOKUP(C20,coureurs!$A$4:$I$70,2,FALSE)) -> BEAU2 | E20: =IF(ISNA(VLOOKUP(C20,coureurs!$A$4:$I$70,3,FALSE)),"",VLOOKUP(C20,coureurs!$A$4:$I$70,3,FALSE)) -> No2 | F20: =IF(ISNA(VLOOKUP(C20,coureurs!$A$4:$I$70,9,FALSE)),"",VLOOKUP(C20,coureurs!$A$4:$I$70,9,FALSE)) -> Team Cycliste VERTEILLACOISE | G20: 0.46111111 | H20: 0.46583333 | I20: 34 | J20: =H20-G20 -> 0.0047222222 | K20: 13 | L20: =VLOOKUP(K20,B$8:J$58,2,FALSE) -> 9 | M20: =IF(ISNA(VLOOKUP(L20,coureurs!$A$4:$Q$70,2,FALSE)),"",VLOOKUP(L20,coureurs!$A$4:$Q$70,2,FALSE)) -> BEAU6 | N20: =IF(ISNA(VLOOKUP(L20,coureurs!$A$4:$Q$70,3,FALSE)),"",VLOOKUP(L20,coureurs!$A$4:$Q$70,3,FALSE)) -> No6 | O20: =IF(ISNA(VLOOKUP(L20,coureurs!$A$4:$Q$70,9,FALSE)),"",VLOOKUP(L20,coureurs!$A$4:$Q$70,9,FALSE)) -> DORDOGNE SUD CYCLISME | P20: =IF(ISNA(VLOOKUP(L19,coureurs!$A$4:$Q$70,6,FALSE)),"",VLOOKUP(L19,coureurs!$A$4:$Q$70,6,FALSE)) -> U17 | Q20: =VLOOKUP(L20,$C$8:$J$42,8,FALSE) -> 0.0045601852 | R20: =I20 -> 34 | S20: =Q20-Q$8 -> 0.00072916667 | U20: {=IFERROR(INDEX($O$8:$O$25,SMALL(IF(COUNTIF($O$8:$O$25,$O$8:$O$25)>=$U$6,ROW($O$8:$O$25)-7),ROW(13:13))),"")} | W20: =IF(U20="","",COUNTIF(U$8:U20,U20))
A21: =A20+1 -> 14 | B21: =RANK($J21,J$8:J$48,1)+COUNTIF(J$8:J21,J21)-1 -> 8 | C21: 4 | D21: =IF(ISNA(VLOOKUP(C21,coureurs!$A$4:$I$70,2,FALSE)),"",VLOOKUP(C21,coureurs!$A$4:$I$70,2,FALSE)) -> BEAU1 | E21: =IF(ISNA(VLOOKUP(C21,coureurs!$A$4:$I$70,3,FALSE)),"",VLOOKUP(C21,coureurs!$A$4:$I$70,3,FALSE)) -> No1 | F21: =IF(ISNA(VLOOKUP(C21,coureurs!$A$4:$I$70,9,FALSE)),"",VLOOKUP(C21,coureurs!$A$4:$I$70,9,FALSE)) -> Team Cycliste VERTEILLACOISE | G21: 0.4625 | H21: 0.46673611 | I21: 44 | J21: =H21-G21 -> 0.0042361111 | K21: 14 | L21: =VLOOKUP(K21,B$8:J$58,2,FALSE) -> 16 | M21: =IF(ISNA(VLOOKUP(L21,coureurs!$A$4:$Q$70,2,FALSE)),"",VLOOKUP(L21,coureurs!$A$4:$Q$70,2,FALSE)) -> BEAU16 | N21: =IF(ISNA(VLOOKUP(L21,coureurs!$A$4:$Q$70,3,FALSE)),"",VLOOKUP(L21,coureurs!$A$4:$Q$70,3,FALSE)) -> No16 | O21: =IF(ISNA(VLOOKUP(L21,coureurs!$A$4:$Q$70,9,FALSE)),"",VLOOKUP(L21,coureurs!$A$4:$Q$70,9,FALSE)) -> AVC LIBOURNE | P21: =IF(ISNA(VLOOKUP(L20,coureurs!$A$4:$Q$70,6,FALSE)),"",VLOOKUP(L20,coureurs!$A$4:$Q$70,6,FALSE)) -> U17 | Q21: =VLOOKUP(L21,$C$8:$J$42,8,FALSE) -> 0.0045949074 | R21: =I21 -> 44 | S21: =Q21-Q$8 -> 0.00076388889 | U21: {=IFERROR(INDEX($O$8:$O$25,SMALL(IF(COUNTIF($O$8:$O$25,$O$8:$O$25)>=$U$6,ROW($O$8:$O$25)-7),ROW(14:14))),"")} | W21: =IF(U21="","",COUNTIF(U$8:U21,U21))
A22: =A21+1 -> 15 | B22: =RANK($J22,J$8:J$48,1)+COUNTIF(J$8:J22,J22)-1 -> 6 | C22: 3 | D22: =IF(ISNA(VLOOKUP(C22,coureurs!$A$4:$I$70,2,FALSE)),"",VLOOKUP(C22,coureurs!$A$4:$I$70,2,FALSE)) -> BEAU3 | E22: =IF(ISNA(VLOOKUP(C22,coureurs!$A$4:$I$70,3,FALSE)),"",VLOOKUP(C22,coureurs!$A$4:$I$70,3,FALSE)) -> No3 | F22: =IF(ISNA(VLOOKUP(C22,coureurs!$A$4:$I$70,9,FALSE)),"",VLOOKUP(C22,coureurs!$A$4:$I$70,9,FALSE)) -> Team Cycliste VERTEILLACOISE | G22: 0.46388889 | H22: 0.46806713 | I22: 59 | J22: =H22-G22 -> 0.0041782407 | K22: 15 | L22: =VLOOKUP(K22,B$8:J$58,2,FALSE) -> 5 | M22: =IF(ISNA(VLOOKUP(L22,coureurs!$A$4:$Q$70,2,FALSE)),"",VLOOKUP(L22,coureurs!$A$4:$Q$70,2,FALSE)) -> BEAU2 | N22: =IF(ISNA(VLOOKUP(L22,coureurs!$A$4:$Q$70,3,FALSE)),"",VLOOKUP(L22,coureurs!$A$4:$Q$70,3,FALSE)) -> No2 | O22: =IF(ISNA(VLOOKUP(L22,coureurs!$A$4:$Q$70,9,FALSE)),"",VLOOKUP(L22,coureurs!$A$4:$Q$70,9,FALSE)) -> Team Cycliste VERTEILLACOISE | P22: =IF(ISNA(VLOOKUP(L21,coureurs!$A$4:$Q$70,6,FALSE)),"",VLOOKUP(L21,coureurs!$A$4:$Q$70,6,FALSE)) -> U17 | Q22: =VLOOKUP(L22,$C$8:$J$42,8,FALSE) -> 0.0047222222 | R22: =I22 -> 59 | S22: =Q22-Q$8 -> 0.0008912037 | U22: {=IFERROR(INDEX($O$8:$O$25,SMALL(IF(COUNTIF($O$8:$O$25,$O$8:$O$25)>=$U$6,ROW($O$8:$O$25)-7),ROW(15:15))),"")} | W22: =IF(U22="","",COUNTIF(U$8:U22,U22))
A23: =A22+1 -> 16 | B23: =RANK($J23,J$8:J$48,1)+COUNTIF(J$8:J23,J23)-1 -> 3 | C23: 2 | D23: =IF(ISNA(VLOOKUP(C23,coureurs!$A$4:$I$70,2,FALSE)),"",VLOOKUP(C23,coureurs!$A$4:$I$70,2,FALSE)) -> BEAU5 | E23: =IF(ISNA(VLOOKUP(C23,coureurs!$A$4:$I$70,3,FALSE)),"",VLOOKUP(C23,coureurs!$A$4:$I$70,3,FALSE)) -> No5 | F23: =IF(ISNA(VLOOKUP(C23,coureurs!$A$4:$I$70,9,FALSE)),"",VLOOKUP(C23,coureurs!$A$4:$I$70,9,FALSE)) -> UC MONTPONNAISE VALLÉE DE L`ISLE | G23: 0.46527778 | H23: 0.4693287 | I23: 58 | J23: =H23-G23 -> 0.0040509259 | K23: 16 | L23: =VLOOKUP(K23,B$8:J$58,2,FALSE) -> 8 | M23: =IF(ISNA(VLOOKUP(L23,coureurs!$A$4:$Q$70,2,FALSE)),"",VLOOKUP(L23,coureurs!$A$4:$Q$70,2,FALSE)) -> BEAU8 | N23: =IF(ISNA(VLOOKUP(L23,coureurs!$A$4:$Q$70,3,FALSE)),"",VLOOKUP(L23,coureurs!$A$4:$Q$70,3,FALSE)) -> No8 | O23: =IF(ISNA(VLOOKUP(L23,coureurs!$A$4:$Q$70,9,FALSE)),"",VLOOKUP(L23,coureurs!$A$4:$Q$70,9,FALSE)) -> DORDOGNE SUD CYCLISME | P23: =IF(ISNA(VLOOKUP(L22,coureurs!$A$4:$Q$70,6,FALSE)),"",VLOOKUP(L22,coureurs!$A$4:$Q$70,6,FALSE)) -> U17 | Q23: =VLOOKUP(L23,$C$8:$J$42,8,FALSE) -> 0.0047453704 | R23: =I23 -> 58 | S23: =Q23-Q$8 -> 0.00091435185 | U23: {=IFERROR(INDEX($O$8:$O$25,SMALL(IF(COUNTIF($O$8:$O$25,$O$8:$O$25)>=$U$6,ROW($O$8:$O$25)-7),ROW(16:16))),"")} | W23: =IF(U23="","",COUNTIF(U$8:U23,U23))
A24: =A23+1 -> 17 | B24: =RANK($J24,J$8:J$48,1)+COUNTIF(J$8:J24,J24)-1 -> 1 | C24: 1 | D24: =IF(ISNA(VLOOKUP(C24,coureurs!$A$4:$I$70,2,FALSE)),"",VLOOKUP(C24,coureurs!$A$4:$I$70,2,FALSE)) -> BEAU4 | E24: =IF(ISNA(VLOOKUP(C24,coureurs!$A$4:$I$70,3,FALSE)),"",VLOOKUP(C24,coureurs!$A$4:$I$70,3,FALSE)) -> No4 | F24: =IF(ISNA(VLOOKUP(C24,coureurs!$A$4:$I$70,9,FALSE)),"",VLOOKUP(C24,coureurs!$A$4:$I$70,9,FALSE)) -> UC MONTPONNAISE VALLÉE DE L`ISLE | G24: 0.46666667 | H24: 0.47049769 | I24: 37 | J24: =H24-G24 -> 0.0038310185 | K24: 17 | L24: =VLOOKUP(K24,B$8:J$58,2,FALSE) -> 15 | M24: =IF(ISNA(VLOOKUP(L24,coureurs!$A$4:$Q$70,2,FALSE)),"",VLOOKUP(L24,coureurs!$A$4:$Q$70,2,FALSE)) -> BEAU18 | N24: =IF(ISNA(VLOOKUP(L24,coureurs!$A$4:$Q$70,3,FALSE)),"",VLOOKUP(L24,coureurs!$A$4:$Q$70,3,FALSE)) -> No18 | O24: =IF(ISNA(VLOOKUP(L24,coureurs!$A$4:$Q$70,9,FALSE)),"",VLOOKUP(L24,coureurs!$A$4:$Q$70,9,FALSE)) -> EC MEDOC ATLANTIQUE | P24: =IF(ISNA(VLOOKUP(L23,coureurs!$A$4:$Q$70,6,FALSE)),"",VLOOKUP(L23,coureurs!$A$4:$Q$70,6,FALSE)) -> U17 | Q24: =VLOOKUP(L24,$C$8:$J$42,8,FALSE) -> 0.0048842593 | R24: =I24 -> 37 | S24: =Q24-Q$8 -> 0.0010532407 | U24: {=IFERROR(INDEX($O$8:$O$25,SMALL(IF(COUNTIF($O$8:$O$25,$O$8:$O$25)>=$U$6,ROW($O$8:$O$25)-7),ROW(17:17))),"")} | W24: =IF(U24="","",COUNTIF(U$8:U24,U24))
A25: =A24+1 -> 18 | B25: =RANK($J25,J$8:J$48,1)+COUNTIF(J$8:J25,J25)-1 -> 4 | C25: 18 | D25: =IF(ISNA(VLOOKUP(C25,coureurs!$A$4:$I$70,2,FALSE)),"",VLOOKUP(C25,coureurs!$A$4:$I$70,2,FALSE)) -> BEAU12 | E25: =IF(ISNA(VLOOKUP(C25,coureurs!$A$4:$I$70,3,FALSE)),"",VLOOKUP(C25,coureurs!$A$4:$I$70,3,FALSE)) -> No12 | F25: =IF(ISNA(VLOOKUP(C25,coureurs!$A$4:$I$70,9,FALSE)),"",VLOOKUP(C25,coureurs!$A$4:$I$70,9,FALSE)) -> UC BRIVISTE | G25: 0.46805556 | H25: 0.47217593 | I25: 32 | J25: =H25-G25 -> 0.0041203704 | K25: 18 | L25: =VLOOKUP(K25,B$8:J$58,2,FALSE) -> 11 | M25: =IF(ISNA(VLOOKUP(L25,coureurs!$A$4:$Q$70,2,FALSE)),"",VLOOKUP(L25,coureurs!$A$4:$Q$70,2,FALSE)) -> BEAU9 | N25: =IF(ISNA(VLOOKUP(L25,coureurs!$A$4:$Q$70,3,FALSE)),"",VLOOKUP(L25,coureurs!$A$4:$Q$70,3,FALSE)) -> No9 | O25: =IF(ISNA(VLOOKUP(L25,coureurs!$A$4:$Q$70,9,FALSE)),"",VLOOKUP(L25,coureurs!$A$4:$Q$70,9,FALSE)) -> VELO CLUB LE TEILLEUL | P25: =IF(ISNA(VLOOKUP(L24,coureurs!$A$4:$Q$70,6,FALSE)),"",VLOOKUP(L24,coureurs!$A$4:$Q$70,6,FALSE)) -> U17 | Q25: =VLOOKUP(L25,$C$8:$J$42,8,FALSE) -> 0.031481481 | R25: =I25 -> 32 | S25: =Q25-Q$8 -> 0.027650463 | U25: {=IFERROR(INDEX($O$8:$O$25,SMALL(IF(COUNTIF($O$8:$O$25,$O$8:$O$25)>=$U$6,ROW($O$8:$O$25)-7),ROW(18:18))),"")} | W25: =IF(U25="","",COUNTIF(U$8:U25,U25))
A26: =A25+1 -> 19 | B26: =RANK($J26,J$8:J$48,1)+COUNTIF(J$8:J26,J26)-1 -> #N/A | D26: =IF(ISNA(VLOOKUP(C26,coureurs!$A$4:$I$70,2,FALSE)),"",VLOOKUP(C26,coureurs!$A$4:$I$70,2,FALSE)) | E26: =IF(ISNA(VLOOKUP(C26,coureurs!$A$4:$I$70,3,FALSE)),"",VLOOKUP(C26,coureurs!$A$4:$I$70,3,FALSE)) | F26: =IF(ISNA(VLOOKUP(C26,coureurs!$A$4:$I$70,9,FALSE)),"",VLOOKUP(C26,coureurs!$A$4:$I$70,9,FALSE)) | G26: 0.46944444 | K26: 19 | L26: =VLOOKUP(K26,B$8:J$58,2,FALSE) -> #N/A | M26: =IF(ISNA(VLOOKUP(L26,coureurs!$A$4:$Q$70,2,FALSE)),"",VLOOKUP(L26,coureurs!$A$4:$Q$70,2,FALSE)) | N26: =IF(ISNA(VLOOKUP(L26,coureurs!$A$4:$Q$70,3,FALSE)),"",VLOOKUP(L26,coureurs!$A$4:$Q$70,3,FALSE)) | O26: =IF(ISNA(VLOOKUP(L26,coureurs!$A$4:$Q$70,9,FALSE)),"",VLOOKUP(L26,coureurs!$A$4:$Q$70,9,FALSE)) | P26: =IF(ISNA(VLOOKUP(L25,coureurs!$A$4:$Q$70,6,FALSE)),"",VLOOKUP(L25,coureurs!$A$4:$Q$70,6,FALSE)) -> U17 | Q26: =VLOOKUP(L26,$C$8:$J$42,8,FALSE) -> #N/A | R26: =I26 -> 0 | S26: =Q26-Q$8 -> #N/A | U26: {=IFERROR(INDEX($O$8:$O$25,SMALL(IF(COUNTIF($O$8:$O$25,$O$8:$O$25)>=$U$6,ROW($O$8:$O$25)-7),ROW(19:19))),"")} | W26: =IF(U26="","",COUNTIF(U$8:U26,U26))
A27: =A26+1 -> 20 | B27: =RANK($J27,J$8:J$48,1)+COUNTIF(J$8:J27,J27)-1 -> #N/A | D27: =IF(ISNA(VLOOKUP(C27,coureurs!$A$4:$I$70,2,FALSE)),"",VLOOKUP(C27,coureurs!$A$4:$I$70,2,FALSE)) | E27: =IF(ISNA(VLOOKUP(C27,coureurs!$A$4:$I$70,3,FALSE)),"",VLOOKUP(C27,coureurs!$A$4:$I$70,3,FALSE)) | F27: =IF(ISNA(VLOOKUP(C27,coureurs!$A$4:$I$70,9,FALSE)),"",VLOOKUP(C27,coureurs!$A$4:$I$70,9,FALSE)) | G27: 0.47083333 | K27: 20 | L27: =VLOOKUP(K27,B$8:J$58,2,FALSE) -> #N/A | M27: =IF(ISNA(VLOOKUP(L27,coureurs!$A$4:$Q$70,2,FALSE)),"",VLOOKUP(L27,coureurs!$A$4:$Q$70,2,FALSE)) | N27: =IF(ISNA(VLOOKUP(L27,coureurs!$A$4:$Q$70,3,FALSE)),"",VLOOKUP(L27,coureurs!$A$4:$Q$70,3,FALSE)) | O27: =IF(ISNA(VLOOKUP(L27,coureurs!$A$4:$Q$70,9,FALSE)),"",VLOOKUP(L27,coureurs!$A$4:$Q$70,9,FALSE)) | P27: =IF(ISNA(VLOOKUP(L26,coureurs!$A$4:$Q$70,6,FALSE)),"",VLOOKUP(L26,coureurs!$A$4:$Q$70,6,FALSE)) | Q27: =VLOOKUP(L27,$C$8:$J$42,8,FALSE) -> #N/A | R27: =I27 -> 0 | S27: =Q27-Q$8 -> #N/A | U27: {=IFERROR(INDEX($O$8:$O$25,SMALL(IF(COUNTIF($O$8:$O$25,$O$8:$O$25)>=$U$6,ROW($O$8:$O$25)-7),ROW(20:20))),"")} | W27: =IF(U27="","",COUNTIF(U$8:U27,U27))
A28: =A27+1 -> 21 | B28: =RANK($J28,J$8:J$48,1)+COUNTIF(J$8:J28,J28)-1 -> #N/A | D28: =IF(ISNA(VLOOKUP(C28,coureurs!$A$4:$I$70,2,FALSE)),"",VLOOKUP(C28,coureurs!$A$4:$I$70,2,FALSE)) | E28: =IF(ISNA(VLOOKUP(C28,coureurs!$A$4:$I$70,3,FALSE)),"",VLOOKUP(C28,coureurs!$A$4:$I$70,3,FALSE)) | F28: =IF(ISNA(VLOOKUP(C28,coureurs!$A$4:$I$70,9,FALSE)),"",VLOOKUP(C28,coureurs!$A$4:$I$70,9,FALSE)) | G28: 0.47222222 | K28: 21 | L28: =VLOOKUP(K28,B$8:J$58,2,FALSE) -> #N/A | M28: =IF(ISNA(VLOOKUP(L28,coureurs!$A$4:$Q$70,2,FALSE)),"",VLOOKUP(L28,coureurs!$A$4:$Q$70,2,FALSE)) | N28: =IF(ISNA(VLOOKUP(L28,coureurs!$A$4:$Q$70,3,FALSE)),"",VLOOKUP(L28,coureurs!$A$4:$Q$70,3,FALSE)) | O28: =IF(ISNA(VLOOKUP(L28,coureurs!$A$4:$Q$70,9,FALSE)),"",VLOOKUP(L28,coureurs!$A$4:$Q$70,9,FALSE)) | P28: =IF(ISNA(VLOOKUP(L27,coureurs!$A$4:$Q$70,6,FALSE)),"",VLOOKUP(L27,coureurs!$A$4:$Q$70,6,FALSE)) | Q28: =VLOOKUP(L28,$C$8:$J$42,8,FALSE) -> #N/A | R28: =I28 -> 0 | S28: =Q28-Q$8 -> #N/A | U28: {=IFERROR(INDEX($O$8:$O$25,SMALL(IF(COUNTIF($O$8:$O$25,$O$8:$O$25)>=$U$6,ROW($O$8:$O$25)-7),ROW(21:21))),"")} | W28: =IF(U28="","",COUNTIF(U$8:U28,U28))
A29: =A28+1 -> 22 | B29: =RANK($J29,J$8:J$48,1)+COUNTIF(J$8:J29,J29)-1 -> #N/A | D29: =IF(ISNA(VLOOKUP(C29,coureurs!$A$4:$I$70,2,FALSE)),"",VLOOKUP(C29,coureurs!$A$4:$I$70,2,FALSE)) | E29: =IF(ISNA(VLOOKUP(C29,coureurs!$A$4:$I$70,3,FALSE)),"",VLOOKUP(C29,coureurs!$A$4:$I$70,3,FALSE)) | F29: =IF(ISNA(VLOOKUP(C29,coureurs!$A$4:$I$70,9,FALSE)),"",VLOOKUP(C29,coureurs!$A$4:$I$70,9,FALSE)) | K29: 22 | L29: =VLOOKUP(K29,B$8:J$58,2,FALSE) -> #N/A | M29: =IF(ISNA(VLOOKUP(L29,coureurs!$A$4:$Q$70,2,FALSE)),"",VLOOKUP(L29,coureurs!$A$4:$Q$70,2,FALSE)) | N29: =IF(ISNA(VLOOKUP(L29,coureurs!$A$4:$Q$70,3,FALSE)),"",VLOOKUP(L29,coureurs!$A$4:$Q$70,3,FALSE)) | O29: =IF(ISNA(VLOOKUP(L29,coureurs!$A$4:$Q$70,9,FALSE)),"",VLOOKUP(L29,coureurs!$A$4:$Q$70,9,FALSE)) | P29: =IF(ISNA(VLOOKUP(L28,coureurs!$A$4:$Q$70,6,FALSE)),"",VLOOKUP(L28,coureurs!$A$4:$Q$70,6,FALSE)) | Q29: =VLOOKUP(L29,$C$8:$J$42,8,FALSE) -> #N/A | R29: =I29 -> 0 | S29: =Q29-Q$8 -> #N/A | U29: {=IFERROR(INDEX($O$8:$O$25,SMALL(IF(COUNTIF($O$8:$O$25,$O$8:$O$25)>=$U$6,ROW($O$8:$O$25)-7),ROW(22:22))),"")} | W29: =IF(U29="","",COUNTIF(U$8:U29,U29))
A30: =A29+1 -> 23 | B30: =RANK($J30,J$8:J$48,1)+COUNTIF(J$8:J30,J30)-1 -> #N/A | D30: =IF(ISNA(VLOOKUP(C30,coureurs!$A$4:$I$70,2,FALSE)),"",VLOOKUP(C30,coureurs!$A$4:$I$70,2,FALSE)) | E30: =IF(ISNA(VLOOKUP(C30,coureurs!$A$4:$I$70,3,FALSE)),"",VLOOKUP(C30,coureurs!$A$4:$I$70,3,FALSE)) | F30: =IF(ISNA(VLOOKUP(C30,coureurs!$A$4:$I$70,9,FALSE)),"",VLOOKUP(C30,coureurs!$A$4:$I$70,9,FALSE)) | K30: 23 | L30: =VLOOKUP(K30,B$8:J$58,2,FALSE) -> #N/A | M30: =IF(ISNA(VLOOKUP(L30,coureurs!$A$4:$Q$70,2,FALSE)),"",VLOOKUP(L30,coureurs!$A$4:$Q$70,2,FALSE)) | N30: =IF(ISNA(VLOOKUP(L30,coureurs!$A$4:$Q$70,3,FALSE)),"",VLOOKUP(L30,coureurs!$A$4:$Q$70,3,FALSE)) | O30: =IF(ISNA(VLOOKUP(L30,coureurs!$A$4:$Q$70,9,FALSE)),"",VLOOKUP(L30,coureurs!$A$4:$Q$70,9,FALSE)) | P30: =IF(ISNA(VLOOKUP(L29,coureurs!$A$4:$Q$70,6,FALSE)),"",VLOOKUP(L29,coureurs!$A$4:$Q$70,6,FALSE)) | Q30: =VLOOKUP(L30,$C$8:$J$42,8,FALSE) -> #N/A | R30: =I30 -> 0 | S30: =Q30-Q$8 -> #N/A | U30: {=IFERROR(INDEX($O$8:$O$25,SMALL(IF(COUNTIF($O$8:$O$25,$O$8:$O$25)>=$U$6,ROW($O$8:$O$25)-7),ROW(23:23))),"")} | W30: =IF(U30="","",COUNTIF(U$8:U30,U30))
A31: =A30+1 -> 24 | B31: =RANK($J31,J$8:J$48,1)+COUNTIF(J$8:J31,J31)-1 -> #N/A | D31: =IF(ISNA(VLOOKUP(C31,coureurs!$A$4:$I$70,2,FALSE)),"",VLOOKUP(C31,coureurs!$A$4:$I$70,2,FALSE)) | E31: =IF(ISNA(VLOOKUP(C31,coureurs!$A$4:$I$70,3,FALSE)),"",VLOOKUP(C31,coureurs!$A$4:$I$70,3,FALSE)) | F31: =IF(ISNA(VLOOKUP(C31,coureurs!$A$4:$I$70,9,FALSE)),"",VLOOKUP(C31,coureurs!$A$4:$I$70,9,FALSE)) | K31: 24 | L31: =VLOOKUP(K31,B$8:J$58,2,FALSE) -> #N/A | M31: =IF(ISNA(VLOOKUP(L31,coureurs!$A$4:$Q$70,2,FALSE)),"",VLOOKUP(L31,coureurs!$A$4:$Q$70,2,FALSE)) | N31: =IF(ISNA(VLOOKUP(L31,coureurs!$A$4:$Q$70,3,FALSE)),"",VLOOKUP(L31,coureurs!$A$4:$Q$70,3,FALSE)) | O31: =IF(ISNA(VLOOKUP(L31,coureurs!$A$4:$Q$70,9,FALSE)),"",VLOOKUP(L31,coureurs!$A$4:$Q$70,9,FALSE)) | P31: =IF(ISNA(VLOOKUP(L30,coureurs!$A$4:$Q$70,6,FALSE)),"",VLOOKUP(L30,coureurs!$A$4:$Q$70,6,FALSE)) | Q31: =VLOOKUP(L31,$C$8:$J$42,8,FALSE) -> #N/A | R31: =I31 -> 0 | S31: =Q31-Q$8 -> #N/A | U31: {=IFERROR(INDEX($O$8:$O$25,SMALL(IF(COUNTIF($O$8:$O$25,$O$8:$O$25)>=$U$6,ROW($O$8:$O$25)-7),ROW(24:24))),"")} | W31: =IF(U31="","",COUNTIF(U$8:U31,U31))
A32: =A31+1 -> 25 | B32: =RANK($J32,J$8:J$48,1)+COUNTIF(J$8:J32,J32)-1 -> #N/A | D32: =IF(ISNA(VLOOKUP(C32,coureurs!$A$4:$I$70,2,FALSE)),"",VLOOKUP(C32,coureurs!$A$4:$I$70,2,FALSE)) | E32: =IF(ISNA(VLOOKUP(C32,coureurs!$A$4:$I$70,3,FALSE)),"",VLOOKUP(C32,coureurs!$A$4:$I$70,3,FALSE)) | F32: =IF(ISNA(VLOOKUP(C32,coureurs!$A$4:$I$70,9,FALSE)),"",VLOOKUP(C32,coureurs!$A$4:$I$70,9,FALSE)) | K32: 25 | L32: =VLOOKUP(K32,B$8:J$58,2,FALSE) -> #N/A | M32: =IF(ISNA(VLOOKUP(L32,coureurs!$A$4:$Q$70,2,FALSE)),"",VLOOKUP(L32,coureurs!$A$4:$Q$70,2,FALSE)) | N32: =IF(ISNA(VLOOKUP(L32,coureurs!$A$4:$Q$70,3,FALSE)),"",VLOOKUP(L32,coureurs!$A$4:$Q$70,3,FALSE)) | O32: =IF(ISNA(VLOOKUP(L32,coureurs!$A$4:$Q$70,9,FALSE)),"",VLOOKUP(L32,coureurs!$A$4:$Q$70,9,FALSE)) | P32: =IF(ISNA(VLOOKUP(L31,coureurs!$A$4:$Q$70,6,FALSE)),"",VLOOKUP(L31,coureurs!$A$4:$Q$70,6,FALSE)) | Q32: =VLOOKUP(L32,$C$8:$J$42,8,FALSE) -> #N/A | R32: =I32 -> 0 | S32: =Q32-Q$8 -> #N/A | U32: {=IFERROR(INDEX($O$8:$O$25,SMALL(IF(COUNTIF($O$8:$O$25,$O$8:$O$25)>=$U$6,ROW($O$8:$O$25)-7),ROW(25:25))),"")} | W32: =IF(U32="","",COUNTIF(U$8:U32,U32))
A33: =A32+1 -> 26 | B33: =RANK($J33,J$8:J$48,1)+COUNTIF(J$8:J33,J33)-1 -> #N/A | D33: =IF(ISNA(VLOOKUP(C33,coureurs!$A$4:$I$70,2,FALSE)),"",VLOOKUP(C33,coureurs!$A$4:$I$70,2,FALSE)) | E33: =IF(ISNA(VLOOKUP(C33,coureurs!$A$4:$I$70,3,FALSE)),"",VLOOKUP(C33,coureurs!$A$4:$I$70,3,FALSE)) | F33: =IF(ISNA(VLOOKUP(C33,coureurs!$A$4:$I$70,9,FALSE)),"",VLOOKUP(C33,coureurs!$A$4:$I$70,9,FALSE)) | K33: 26 | L33: =VLOOKUP(K33,B$8:J$58,2,FALSE) -> #N/A | M33: =IF(ISNA(VLOOKUP(L33,coureurs!$A$4:$Q$70,2,FALSE)),"",VLOOKUP(L33,coureurs!$A$4:$Q$70,2,FALSE)) | N33: =IF(ISNA(VLOOKUP(L33,coureurs!$A$4:$Q$70,3,FALSE)),"",VLOOKUP(L33,coureurs!$A$4:$Q$70,3,FALSE)) | O33: =IF(ISNA(VLOOKUP(L33,coureurs!$A$4:$Q$70,9,FALSE)),"",VLOOKUP(L33,coureurs!$A$4:$Q$70,9,FALSE)) | P33: =IF(ISNA(VLOOKUP(L32,coureurs!$A$4:$Q$70,6,FALSE)),"",VLOOKUP(L32,coureurs!$A$4:$Q$70,6,FALSE)) | Q33: =VLOOKUP(L33,$C$8:$J$42,8,FALSE) -> #N/A | R33: =I33 -> 0 | S33: =Q33-Q$8 -> #N/A | U33: {=IFERROR(INDEX($O$8:$O$25,SMALL(IF(COUNTIF($O$8:$O$25,$O$8:$O$25)>=$U$6,ROW($O$8:$O$25)-7),ROW(26:26))),"")} | W33: =IF(U33="","",COUNTIF(U$8:U33,U33))
A34: =A33+1 -> 27 | B34: =RANK($J34,J$8:J$48,1)+COUNTIF(J$8:J34,J34)-1 -> #N/A | D34: =IF(ISNA(VLOOKUP(C34,coureurs!$A$4:$I$70,2,FALSE)),"",VLOOKUP(C34,coureurs!$A$4:$I$70,2,FALSE)) | E34: =IF(ISNA(VLOOKUP(C34,coureurs!$A$4:$I$70,3,FALSE)),"",VLOOKUP(C34,coureurs!$A$4:$I$70,3,FALSE)) | F34: =IF(ISNA(VLOOKUP(C34,coureurs!$A$4:$I$70,9,FALSE)),"",VLOOKUP(C34,coureurs!$A$4:$I$70,9,FALSE)) | K34: 27 | L34: =VLOOKUP(K34,B$8:J$58,2,FALSE) -> #N/A | M34: =IF(ISNA(VLOOKUP(L34,coureurs!$A$4:$Q$70,2,FALSE)),"",VLOOKUP(L34,coureurs!$A$4:$Q$70,2,FALSE)) | N34: =IF(ISNA(VLOOKUP(L34,coureurs!$A$4:$Q$70,3,FALSE)),"",VLOOKUP(L34,coureurs!$A$4:$Q$70,3,FALSE)) | O34: =IF(ISNA(VLOOKUP(L34,coureurs!$A$4:$Q$70,9,FALSE)),"",VLOOKUP(L34,coureurs!$A$4:$Q$70,9,FALSE)) | P34: =IF(ISNA(VLOOKUP(L33,coureurs!$A$4:$Q$70,6,FALSE)),"",VLOOKUP(L33,coureurs!$A$4:$Q$70,6,FALSE)) | Q34: =VLOOKUP(L34,$C$8:$J$42,8,FALSE) -> #N/A | R34: =I34 -> 0 | S34: =Q34-Q$8 -> #N/A | U34: {=IFERROR(INDEX($O$8:$O$25,SMALL(IF(COUNTIF($O$8:$O$25,$O$8:$O$25)>=$U$6,ROW($O$8:$O$25)-7),ROW(27:27))),"")} | W34: =IF(U34="","",COUNTIF(U$8:U34,U34))
A35: =A34+1 -> 28 | B35: =RANK($J35,J$8:J$48,1)+COUNTIF(J$8:J35,J35)-1 -> #N/A | D35: =IF(ISNA(VLOOKUP(C35,coureurs!$A$4:$I$70,2,FALSE)),"",VLOOKUP(C35,coureurs!$A$4:$I$70,2,FALSE)) | E35: =IF(ISNA(VLOOKUP(C35,coureurs!$A$4:$I$70,3,FALSE)),"",VLOOKUP(C35,coureurs!$A$4:$I$70,3,FALSE)) | F35: =IF(ISNA(VLOOKUP(C35,coureurs!$A$4:$I$70,9,FALSE)),"",VLOOKUP(C35,coureurs!$A$4:$I$70,9,FALSE)) | K35: 28 | L35: =VLOOKUP(K35,B$8:J$58,2,FALSE) -> #N/A | M35: =IF(ISNA(VLOOKUP(L35,coureurs!$A$4:$Q$70,2,FALSE)),"",VLOOKUP(L35,coureurs!$A$4:$Q$70,2,FALSE)) | N35: =IF(ISNA(VLOOKUP(L35,coureurs!$A$4:$Q$70,3,FALSE)),"",VLOOKUP(L35,coureurs!$A$4:$Q$70,3,FALSE)) | O35: =IF(ISNA(VLOOKUP(L35,coureurs!$A$4:$Q$70,9,FALSE)),"",VLOOKUP(L35,coureurs!$A$4:$Q$70,9,FALSE)) | P35: =IF(ISNA(VLOOKUP(L34,coureurs!$A$4:$Q$70,6,FALSE)),"",VLOOKUP(L34,coureurs!$A$4:$Q$70,6,FALSE)) | Q35: =VLOOKUP(L35,$C$8:$J$42,8,FALSE) -> #N/A | R35: =I35 -> 0 | S35: =Q35-Q$8 -> #N/A | U35: {=IFERROR(INDEX($O$8:$O$25,SMALL(IF(COUNTIF($O$8:$O$25,$O$8:$O$25)>=$U$6,ROW($O$8:$O$25)-7),ROW(28:28))),"")} | W35: =IF(U35="","",COUNTIF(U$8:U35,U35))
A36: =A35+1 -> 29 | B36: =RANK($J36,J$8:J$48,1)+COUNTIF(J$8:J36,J36)-1 -> #N/A | D36: =IF(ISNA(VLOOKUP(C36,coureurs!$A$4:$I$70,2,FALSE)),"",VLOOKUP(C36,coureurs!$A$4:$I$70,2,FALSE)) | E36: =IF(ISNA(VLOOKUP(C36,coureurs!$A$4:$I$70,3,FALSE)),"",VLOOKUP(C36,coureurs!$A$4:$I$70,3,FALSE)) | F36: =IF(ISNA(VLOOKUP(C36,coureurs!$A$4:$I$70,9,FALSE)),"",VLOOKUP(C36,coureurs!$A$4:$I$70,9,FALSE)) | K36: 29 | L36: =VLOOKUP(K36,B$8:J$58,2,FALSE) -> #N/A | M36: =IF(ISNA(VLOOKUP(L36,coureurs!$A$4:$Q$70,2,FALSE)),"",VLOOKUP(L36,coureurs!$A$4:$Q$70,2,FALSE)) | N36: =IF(ISNA(VLOOKUP(L36,coureurs!$A$4:$Q$70,3,FALSE)),"",VLOOKUP(L36,coureurs!$A$4:$Q$70,3,FALSE)) | O36: =IF(ISNA(VLOOKUP(L36,coureurs!$A$4:$Q$70,9,FALSE)),"",VLOOKUP(L36,coureurs!$A$4:$Q$70,9,FALSE)) | P36: =IF(ISNA(VLOOKUP(L35,coureurs!$A$4:$Q$70,6,FALSE)),"",VLOOKUP(L35,coureurs!$A$4:$Q$70,6,FALSE)) | Q36: =VLOOKUP(L36,$C$8:$J$42,8,FALSE) -> #N/A | R36: =I36 -> 0 | S36: =Q36-Q$8 -> #N/A | U36: {=IFERROR(INDEX($O$8:$O$25,SMALL(IF(COUNTIF($O$8:$O$25,$O$8:$O$25)>=$U$6,ROW($O$8:$O$25)-7),ROW(29:29))),"")} | W36: =IF(U36="","",COUNTIF(U$8:U36,U36))
A37: =A36+1 -> 30 | B37: =RANK($J37,J$8:J$48,1)+COUNTIF(J$8:J37,J37)-1 -> #N/A | D37: =IF(ISNA(VLOOKUP(C37,coureurs!$A$4:$I$70,2,FALSE)),"",VLOOKUP(C37,coureurs!$A$4:$I$70,2,FALSE)) | E37: =IF(ISNA(VLOOKUP(C37,coureurs!$A$4:$I$70,3,FALSE)),"",VLOOKUP(C37,coureurs!$A$4:$I$70,3,FALSE)) | F37: =IF(ISNA(VLOOKUP(C37,coureurs!$A$4:$I$70,9,FALSE)),"",VLOOKUP(C37,coureurs!$A$4:$I$70,9,FALSE)) | K37: 30 | L37: =VLOOKUP(K37,B$8:J$58,2,FALSE) -> #N/A | M37: =IF(ISNA(VLOOKUP(L37,coureurs!$A$4:$Q$70,2,FALSE)),"",VLOOKUP(L37,coureurs!$A$4:$Q$70,2,FALSE)) | N37: =IF(ISNA(VLOOKUP(L37,coureurs!$A$4:$Q$70,3,FALSE)),"",VLOOKUP(L37,coureurs!$A$4:$Q$70,3,FALSE)) | O37: =IF(ISNA(VLOOKUP(L37,coureurs!$A$4:$Q$70,9,FALSE)),"",VLOOKUP(L37,coureurs!$A$4:$Q$70,9,FALSE)) | P37: =IF(ISNA(VLOOKUP(L36,coureurs!$A$4:$Q$70,6,FALSE)),"",VLOOKUP(L36,coureurs!$A$4:$Q$70,6,FALSE)) | Q37: =VLOOKUP(L37,$C$8:$J$42,8,FALSE) -> #N/A | R37: =I37 -> 0 | S37: =Q37-Q$8 -> #N/A | U37: {=IFERROR(INDEX($O$8:$O$25,SMALL(IF(COUNTIF($O$8:$O$25,$O$8:$O$25)>=$U$6,ROW($O$8:$O$25)-7),ROW(30:30))),"")} | W37: =IF(U37="","",COUNTIF(U$8:U37,U37))
A38: =A37+1 -> 31 | B38: =RANK($J38,J$8:J$48,1)+COUNTIF(J$8:J38,J38)-1 -> #N/A | D38: =IF(ISNA(VLOOKUP(C38,coureurs!$A$4:$I$70,2,FALSE)),"",VLOOKUP(C38,coureurs!$A$4:$I$70,2,FALSE)) | E38: =IF(ISNA(VLOOKUP(C38,coureurs!$A$4:$I$70,3,FALSE)),"",VLOOKUP(C38,coureurs!$A$4:$I$70,3,FALSE)) | F38: =IF(ISNA(VLOOKUP(C38,coureurs!$A$4:$I$70,9,FALSE)),"",VLOOKUP(C38,coureurs!$A$4:$I$70,9,FALSE)) | K38: 31 | L38: =VLOOKUP(K38,B$8:J$58,2,FALSE) -> #N/A | M38: =IF(ISNA(VLOOKUP(L38,coureurs!$A$4:$Q$70,2,FALSE)),"",VLOOKUP(L38,coureurs!$A$4:$Q$70,2,FALSE)) | N38: =IF(ISNA(VLOOKUP(L38,coureurs!$A$4:$Q$70,3,FALSE)),"",VLOOKUP(L38,coureurs!$A$4:$Q$70,3,FALSE)) | O38: =IF(ISNA(VLOOKUP(L38,coureurs!$A$4:$Q$70,9,FALSE)),"",VLOOKUP(L38,coureurs!$A$4:$Q$70,9,FALSE)) | P38: =IF(ISNA(VLOOKUP(L37,coureurs!$A$4:$Q$70,6,FALSE)),"",VLOOKUP(L37,coureurs!$A$4:$Q$70,6,FALSE)) | Q38: =VLOOKUP(L38,$C$8:$J$42,8,FALSE) -> #N/A | R38: =I38 -> 0 | S38: =Q38-Q$8 -> #N/A | U38: {=IFERROR(INDEX($O$8:$O$25,SMALL(IF(COUNTIF($O$8:$O$25,$O$8:$O$25)>=$U$6,ROW($O$8:$O$25)-7),ROW(31:31))),"")} | W38: =IF(U38="","",COUNTIF(U$8:U38,U38))
A39: =A38+1 -> 32 | B39: =RANK($J39,J$8:J$48,1)+COUNTIF(J$8:J39,J39)-1 -> #N/A | D39: =IF(ISNA(VLOOKUP(C39,coureurs!$A$4:$I$70,2,FALSE)),"",VLOOKUP(C39,coureurs!$A$4:$I$70,2,FALSE)) | E39: =IF(ISNA(VLOOKUP(C39,coureurs!$A$4:$I$70,3,FALSE)),"",VLOOKUP(C39,coureurs!$A$4:$I$70,3,FALSE)) | F39: =IF(ISNA(VLOOKUP(C39,coureurs!$A$4:$I$70,9,FALSE)),"",VLOOKUP(C39,coureurs!$A$4:$I$70,9,FALSE)) | K39: 32 | L39: =VLOOKUP(K39,B$8:J$58,2,FALSE) -> #N/A | M39: =IF(ISNA(VLOOKUP(L39,coureurs!$A$4:$Q$70,2,FALSE)),"",VLOOKUP(L39,coureurs!$A$4:$Q$70,2,FALSE)) | N39: =IF(ISNA(VLOOKUP(L39,coureurs!$A$4:$Q$70,3,FALSE)),"",VLOOKUP(L39,coureurs!$A$4:$Q$70,3,FALSE)) | O39: =IF(ISNA(VLOOKUP(L39,coureurs!$A$4:$Q$70,9,FALSE)),"",VLOOKUP(L39,coureurs!$A$4:$Q$70,9,FALSE)) | P39: =IF(ISNA(VLOOKUP(L38,coureurs!$A$4:$Q$70,6,FALSE)),"",VLOOKUP(L38,coureurs!$A$4:$Q$70,6,FALSE)) | Q39: =VLOOKUP(L39,$C$8:$J$42,8,FALSE) -> #N/A | R39: =I39 -> 0 | S39: =Q39-Q$8 -> #N/A | U39: {=IFERROR(INDEX($O$8:$O$25,SMALL(IF(COUNTIF($O$8:$O$25,$O$8:$O$25)>=$U$6,ROW($O$8:$O$25)-7),ROW(32:32))),"")} | W39: =IF(U39="","",COUNTIF(U$8:U39,U39))
A40: =A39+1 -> 33 | B40: =RANK($J40,J$8:J$48,1)+COUNTIF(J$8:J40,J40)-1 -> #N/A | D40: =IF(ISNA(VLOOKUP(C40,coureurs!$A$4:$I$70,2,FALSE)),"",VLOOKUP(C40,coureurs!$A$4:$I$70,2,FALSE)) | E40: =IF(ISNA(VLOOKUP(C40,coureurs!$A$4:$I$70,3,FALSE)),"",VLOOKUP(C40,coureurs!$A$4:$I$70,3,FALSE)) | F40: =IF(ISNA(VLOOKUP(C40,coureurs!$A$4:$I$70,9,FALSE)),"",VLOOKUP(C40,coureurs!$A$4:$I$70,9,FALSE)) | K40: 33 | L40: =VLOOKUP(K40,B$8:J$58,2,FALSE) -> #N/A | M40: =IF(ISNA(VLOOKUP(L40,coureurs!$A$4:$Q$70,2,FALSE)),"",VLOOKUP(L40,coureurs!$A$4:$Q$70,2,FALSE)) | N40: =IF(ISNA(VLOOKUP(L40,coureurs!$A$4:$Q$70,3,FALSE)),"",VLOOKUP(L40,coureurs!$A$4:$Q$70,3,FALSE)) | O40: =IF(ISNA(VLOOKUP(L40,coureurs!$A$4:$Q$70,9,FALSE)),"",VLOOKUP(L40,coureurs!$A$4:$Q$70,9,FALSE)) | P40: =IF(ISNA(VLOOKUP(L39,coureurs!$A$4:$Q$70,6,FALSE)),"",VLOOKUP(L39,coureurs!$A$4:$Q$70,6,FALSE)) | Q40: =VLOOKUP(L40,$C$8:$J$42,8,FALSE) -> #N/A | R40: =I40 -> 0 | S40: =Q40-Q$8 -> #N/A | U40: {=IFERROR(INDEX($O$8:$O$25,SMALL(IF(COUNTIF($O$8:$O$25,$O$8:$O$25)>=$U$6,ROW($O$8:$O$25)-7),ROW(33:33))),"")} | W40: =IF(U40="","",COUNTIF(U$8:U40,U40))
A41: =A40+1 -> 34 | B41: =RANK($J41,J$8:J$48,1)+COUNTIF(J$8:J41,J41)-1 -> #N/A | D41: =IF(ISNA(VLOOKUP(C41,coureurs!$A$4:$I$70,2,FALSE)),"",VLOOKUP(C41,coureurs!$A$4:$I$70,2,FALSE)) | E41: =IF(ISNA(VLOOKUP(C41,coureurs!$A$4:$I$70,3,FALSE)),"",VLOOKUP(C41,coureurs!$A$4:$I$70,3,FALSE)) | F41: =IF(ISNA(VLOOKUP(C41,coureurs!$A$4:$I$70,9,FALSE)),"",VLOOKUP(C41,coureurs!$A$4:$I$70,9,FALSE)) | K41: 34 | L41: =VLOOKUP(K41,B$8:J$58,2,FALSE) -> #N/A | M41: =IF(ISNA(VLOOKUP(L41,coureurs!$A$4:$Q$70,2,FALSE)),"",VLOOKUP(L41,coureurs!$A$4:$Q$70,2,FALSE)) | N41: =IF(ISNA(VLOOKUP(L41,coureurs!$A$4:$Q$70,3,FALSE)),"",VLOOKUP(L41,coureurs!$A$4:$Q$70,3,FALSE)) | O41: =IF(ISNA(VLOOKUP(L41,coureurs!$A$4:$Q$70,9,FALSE)),"",VLOOKUP(L41,coureurs!$A$4:$Q$70,9,FALSE)) | P41: =IF(ISNA(VLOOKUP(L40,coureurs!$A$4:$Q$70,6,FALSE)),"",VLOOKUP(L40,coureurs!$A$4:$Q$70,6,FALSE)) | Q41: =VLOOKUP(L41,$C$8:$J$42,8,FALSE) -> #N/A | R41: =I41 -> 0 | S41: =Q41-Q$8 -> #N/A | U41: {=IFERROR(INDEX($O$8:$O$25,SMALL(IF(COUNTIF($O$8:$O$25,$O$8:$O$25)>=$U$6,ROW($O$8:$O$25)-7),ROW(34:34))),"")} | W41: =IF(U41="","",COUNTIF(U$8:U41,U41))
A42: =A41+1 -> 35 | B42: =RANK($J42,J$8:J$48,1)+COUNTIF(J$8:J42,J42)-1 -> #N/A | D42: =IF(ISNA(VLOOKUP(C42,coureurs!$A$4:$I$70,2,FALSE)),"",VLOOKUP(C42,coureurs!$A$4:$I$70,2,FALSE)) | E42: =IF(ISNA(VLOOKUP(C42,coureurs!$A$4:$I$70,3,FALSE)),"",VLOOKUP(C42,coureurs!$A$4:$I$70,3,FALSE)) | F42: =IF(ISNA(VLOOKUP(C42,coureurs!$A$4:$I$70,9,FALSE)),"",VLOOKUP(C42,coureurs!$A$4:$I$70,9,FALSE)) | K42: 35 | L42: =VLOOKUP(K42,B$8:J$58,2,FALSE) -> #N/A | M42: =IF(ISNA(VLOOKUP(L42,coureurs!$A$4:$Q$70,2,FALSE)),"",VLOOKUP(L42,coureurs!$A$4:$Q$70,2,FALSE)) | N42: =IF(ISNA(VLOOKUP(L42,coureurs!$A$4:$Q$70,3,FALSE)),"",VLOOKUP(L42,coureurs!$A$4:$Q$70,3,FALSE)) | O42: =IF(ISNA(VLOOKUP(L42,coureurs!$A$4:$Q$70,9,FALSE)),"",VLOOKUP(L42,coureurs!$A$4:$Q$70,9,FALSE)) | P42: =IF(ISNA(VLOOKUP(L41,coureurs!$A$4:$Q$70,6,FALSE)),"",VLOOKUP(L41,coureurs!$A$4:$Q$70,6,FALSE)) | Q42: =VLOOKUP(L42,$C$8:$J$42,8,FALSE) -> #N/A | R42: =I42 -> 0 | S42: =Q42-Q$8 -> #N/A | U42: {=IFERROR(INDEX($O$8:$O$25,SMALL(IF(COUNTIF($O$8:$O$25,$O$8:$O$25)>=$U$6,ROW($O$8:$O$25)-7),ROW(35:35))),"")} | W42: =IF(U42="","",COUNTIF(U$8:U42,U42))
...

Sheet Dep CLM
D2: 2ème Souvenir
A4: Horaires départ CLM
A6: Ordre | B6: rang Pts | C6: Dossard | D6: Nom | E6: Prénom | F6: Club | G6: Horaire départ
A7: 1 | B7: =RANK(#REF!,#REF!,1)+COUNTIF(#REF!,#REF!)-1 -> #REF! | C7: 17 | D7: =VLOOKUP(C7,coureurs!$A$4:$B$70,2,FALSE) -> BEAU17 | E7: =VLOOKUP($C7,coureurs!$A$4:$Q$70,3,FALSE) -> No17 | F7: =VLOOKUP($C7,coureurs!$A$4:$Q$70,9,FALSE) -> EC MEDOC ATLANTIQUE | G7: 0.44444444
A8: =A7+1 -> 2 | B8: =RANK(#REF!,#REF!,1)+COUNTIF(#REF!,#REF!)-1 -> #REF! | C8: 16 | D8: =IF(ISNA(VLOOKUP(C8,coureurs!$A$4:$B$70,2,FALSE)),"",VLOOKUP(C8,coureurs!$A$4:$B$70,2,FALSE)) -> BEAU16 | E8: =VLOOKUP($C8,coureurs!$A$4:$Q$70,3,FALSE) -> No16 | F8: =VLOOKUP($C8,coureurs!$A$4:$Q$70,9,FALSE) -> AVC LIBOURNE | G8: 0.44583333
A9: =A8+1 -> 3 | B9: =RANK(#REF!,#REF!,1)+COUNTIF(#REF!,#REF!)-1 -> #REF! | C9: 15 | D9: =IF(ISNA(VLOOKUP(C9,coureurs!$A$4:$B$70,2,FALSE)),"",VLOOKUP(C9,coureurs!$A$4:$B$70,2,FALSE)) -> BEAU18 | E9: =VLOOKUP($C9,coureurs!$A$4:$Q$70,3,FALSE) -> No18 | F9: =VLOOKUP($C9,coureurs!$A$4:$Q$70,9,FALSE) -> EC MEDOC ATLANTIQUE | G9: 0.44722222
A10: =A9+1 -> 4 | B10: =RANK(#REF!,#REF!,1)+COUNTIF(#REF!,#REF!)-1 -> #REF! | C10: 14 | D10: =IF(ISNA(VLOOKUP(C10,coureurs!$A$4:$B$70,2,FALSE)),"",VLOOKUP(C10,coureurs!$A$4:$B$70,2,FALSE)) -> BEAU14 | E10: =VLOOKUP($C10,coureurs!$A$4:$Q$70,3,FALSE) -> No14 | F10: =VLOOKUP($C10,coureurs!$A$4:$Q$70,9,FALSE) -> SPRINTER CLUB DU PERIGORD | G10: 0.44861111
A11: =A10+1 -> 5 | B11: =RANK(#REF!,#REF!,1)+COUNTIF(#REF!,#REF!)-1 -> #REF! | C11: 13 | D11: =IF(ISNA(VLOOKUP(C11,coureurs!$A$4:$B$70,2,FALSE)),"",VLOOKUP(C11,coureurs!$A$4:$B$70,2,FALSE)) -> BEAU13 | E11: =VLOOKUP($C11,coureurs!$A$4:$Q$70,3,FALSE) -> No13 | F11: =VLOOKUP($C11,coureurs!$A$4:$Q$70,9,FALSE) -> EC MEDOC ATLANTIQUE | G11: 0.45
A12: =A11+1 -> 6 | B12: =RANK(#REF!,#REF!,1)+COUNTIF(#REF!,#REF!)-1 -> #REF! | C12: 12 | D12: =IF(ISNA(VLOOKUP(C12,coureurs!$A$4:$B$70,2,FALSE)),"",VLOOKUP(C12,coureurs!$A$4:$B$70,2,FALSE)) -> BEAU15 | E12: =VLOOKUP($C12,coureurs!$A$4:$Q$70,3,FALSE) -> No15 | F12: =VLOOKUP($C12,coureurs!$A$4:$Q$70,9,FALSE) -> SPRINTER CLUB DU PERIGORD | G12: 0.45138889
A13: =A12+1 -> 7 | B13: =RANK(#REF!,#REF!,1)+COUNTIF(#REF!,#REF!)-1 -> #REF! | C13: 11 | D13: =IF(ISNA(VLOOKUP(C13,coureurs!$A$4:$B$70,2,FALSE)),"",VLOOKUP(C13,coureurs!$A$4:$B$70,2,FALSE)) -> BEAU9 | E13: =VLOOKUP($C13,coureurs!$A$4:$Q$70,3,FALSE) -> No9 | F13: =VLOOKUP($C13,coureurs!$A$4:$Q$70,9,FALSE) -> VELO CLUB LE TEILLEUL | G13: 0.45277778
A14: =A13+1 -> 8 | B14: =RANK(#REF!,#REF!,1)+COUNTIF(#REF!,#REF!)-1 -> #REF! | C14: 10 | D14: =IF(ISNA(VLOOKUP(C14,coureurs!$A$4:$B$70,2,FALSE)),"",VLOOKUP(C14,coureurs!$A$4:$B$70,2,FALSE)) -> BEAU11 | E14: =VLOOKUP($C14,coureurs!$A$4:$Q$70,3,FALSE) -> No11 | F14: =VLOOKUP($C14,coureurs!$A$4:$Q$70,9,FALSE) -> AVC LIBOURNE | G14: 0.45416667
A15: =A14+1 -> 9 | B15: =RANK(#REF!,#REF!,1)+COUNTIF(#REF!,#REF!)-1 -> #REF! | C15: 9 | D15: =IF(ISNA(VLOOKUP(C15,coureurs!$A$4:$B$70,2,FALSE)),"",VLOOKUP(C15,coureurs!$A$4:$B$70,2,FALSE)) -> BEAU6 | E15: =VLOOKUP($C15,coureurs!$A$4:$Q$70,3,FALSE) -> No6 | F15: =VLOOKUP($C15,coureurs!$A$4:$Q$70,9,FALSE) -> DORDOGNE SUD CYCLISME | G15: 0.45555556
A16: =A15+1 -> 10 | B16: =RANK(#REF!,#REF!,1)+COUNTIF(#REF!,#REF!)-1 -> #REF! | C16: 8 | D16: =IF(ISNA(VLOOKUP(C16,coureurs!$A$4:$B$70,2,FALSE)),"",VLOOKUP(C16,coureurs!$A$4:$B$70,2,FALSE)) -> BEAU8 | E16: =VLOOKUP($C16,coureurs!$A$4:$Q$70,3,FALSE) -> No8 | F16: =VLOOKUP($C16,coureurs!$A$4:$Q$70,9,FALSE) -> DORDOGNE SUD CYCLISME | G16: 0.45694444
A17: =A16+1 -> 11 | B17: =RANK(#REF!,#REF!,1)+COUNTIF(#REF!,#REF!)-1 -> #REF! | C17: 7 | D17: =IF(ISNA(VLOOKUP(C17,coureurs!$A$4:$B$70,2,FALSE)),"",VLOOKUP(C17,coureurs!$A$4:$B$70,2,FALSE)) -> BEAU7 | E17: =VLOOKUP($C17,coureurs!$A$4:$Q$70,3,FALSE) -> No7 | F17: =VLOOKUP($C17,coureurs!$A$4:$Q$70,9,FALSE) -> DORDOGNE SUD CYCLISME | G17: 0.45833333
A18: =A17+1 -> 12 | B18: =RANK(#REF!,#REF!,1)+COUNTIF(#REF!,#REF!)-1 -> #REF! | C18: 6 | D18: =IF(ISNA(VLOOKUP(C18,coureurs!$A$4:$B$70,2,FALSE)),"",VLOOKUP(C18,coureurs!$A$4:$B$70,2,FALSE)) -> BEAU10 | E18: =VLOOKUP($C18,coureurs!$A$4:$Q$70,3,FALSE) -> No10 | F18: =VLOOKUP($C18,coureurs!$A$4:$Q$70,9,FALSE) -> VC DU SUD GIRONDE | G18: 0.45972222
A19: =A18+1 -> 13 | B19: =RANK(#REF!,#REF!,1)+COUNTIF(#REF!,#REF!)-1 -> #REF! | C19: 5 | D19: =IF(ISNA(VLOOKUP(C19,coureurs!$A$4:$B$70,2,FALSE)),"",VLOOKUP(C19,coureurs!$A$4:$B$70,2,FALSE)) -> BEAU2 | E19: =VLOOKUP($C19,coureurs!$A$4:$Q$70,3,FALSE) -> No2 | F19: =VLOOKUP($C19,coureurs!$A$4:$Q$70,9,FALSE) -> Team Cycliste VERTEILLACOISE | G19: 0.46111111
... A23: =A22+1 -> 17 | B23: =RANK(#REF!,#REF!,1)+COUNTIF(#REF!,#REF!)-1 -> #REF! | C23: 1 | D23: =IF(ISNA(VLOOKUP(C23,coureurs!$A$4:$B$70,2,FALSE)),"",VLOOKUP(C23,coureurs!$A$4:$B$70,2,FALSE)) -> BEAU4 | E23: =VLOOKUP($C23,coureurs!$A$4:$Q$70,3,FALSE) -> No4 | F23: =VLOOKUP($C23,coureurs!$A$4:$Q$70,9,FALSE) -> UC MONTPONNAISE VALLÉE DE L`ISLE | G23: 0.46666667
A24: =A23+1 -> 18 | B24: =RANK(#REF!,#REF!,1)+COUNTIF(#REF!,#REF!)-1 -> #REF! | D24: =IF(ISNA(VLOOKUP(C24,coureurs!$A$4:$B$70,2,FALSE)),"",VLOOKUP(C24,coureurs!$A$4:$B$70,2,FALSE)) | E24: =VLOOKUP($C24,coureurs!$A$4:$Q$70,3,FALSE) -> #N/A | F24: =VLOOKUP($C24,coureurs!$A$4:$Q$70,9,FALSE) -> #N/A | G24: 0.46805556
A25: =A24+1 -> 19 | B25: =RANK(#REF!,#REF!,1)+COUNTIF(#REF!,#REF!)-1 -> #REF! | D25: =IF(ISNA(VLOOKUP(C25,coureurs!$A$4:$B$70,2,FALSE)),"",VLOOKUP(C25,coureurs!$A$4:$B$70,2,FALSE)) | E25: =VLOOKUP($C25,coureurs!$A$4:$Q$70,3,FALSE) -> #N/A | F25: =VLOOKUP($C25,coureurs!$A$4:$Q$70,9,FALSE) -> #N/A | G25: 0.46944444
A26: =A25+1 -> 20 | B26: =RANK(#REF!,#REF!,1)+COUNTIF(#REF!,#REF!)-1 -> #REF! | D26: =IF(ISNA(VLOOKUP(C26,coureurs!$A$4:$B$70,2,FALSE)),"",VLOOKUP(C26,coureurs!$A$4:$B$70,2,FALSE)) | E26: =VLOOKUP($C26,coureurs!$A$4:$Q$70,3,FALSE) -> #N/A | F26: =VLOOKUP($C26,coureurs!$A$4:$Q$70,9,FALSE) -> #N/A | G26: 0.47083333
A27: =A26+1 -> 21 | B27: =RANK(#REF!,#REF!,1)+COUNTIF(#REF!,#REF!)-1 -> #REF! | D27: =IF(ISNA(VLOOKUP(C27,coureurs!$A$4:$B$70,2,FALSE)),"",VLOOKUP(C27,coureurs!$A$4:$B$70,2,FALSE)) | E27: =VLOOKUP($C27,coureurs!$A$4:$Q$70,3,FALSE) -> #N/A | F27: =VLOOKUP($C27,coureurs!$A$4:$Q$70,9,FALSE) -> #N/A | G27: 0.47222222
A28: =A27+1 -> 22 | B28: =RANK(#REF!,#REF!,1)+COUNTIF(#REF!,#REF!)-1 -> #REF! | D28: =IF(ISNA(VLOOKUP(C28,coureurs!$A$4:$B$70,2,FALSE)),"",VLOOKUP(C28,coureurs!$A$4:$B$70,2,FALSE)) | E28: =VLOOKUP($C28,coureurs!$A$4:$Q$70,3,FALSE) -> #N/A | F28: =VLOOKUP($C28,coureurs!$A$4:$Q$70,9,FALSE) -> #N/A
A29: =A28+1 -> 23 | B29: =RANK(#REF!,#REF!,1)+COUNTIF(#REF!,#REF!)-1 -> #REF! | D29: =IF(ISNA(VLOOKUP(C29,coureurs!$A$4:$B$70,2,FALSE)),"",VLOOKUP(C29,coureurs!$A$4:$B$70,2,FALSE)) | E29: =VLOOKUP($C29,coureurs!$A$4:$Q$70,3,FALSE) -> #N/A | F29: =VLOOKUP($C29,coureurs!$A$4:$Q$70,9,FALSE) -> #N/A
A30: =A29+1 -> 24 | B30: =RANK(#REF!,#REF!,1)+COUNTIF(#REF!,#REF!)-1 -> #REF! | D30: =IF(ISNA(VLOOKUP(C30,coureurs!$A$4:$B$70,2,FALSE)),"",VLOOKUP(C30,coureurs!$A$4:$B$70,2,FALSE)) | E30: =VLOOKUP($C30,coureurs!$A$4:$Q$70,3,FALSE) -> #N/A | F30: =VLOOKUP($C30,coureurs!$A$4:$Q$70,9,FALSE) -> #N/A
A31: =A30+1 -> 25 | B31: =RANK(#REF!,#REF!,1)+COUNTIF(#REF!,#REF!)-1 -> #REF! | D31: =IF(ISNA(VLOOKUP(C31,coureurs!$A$4:$B$70,2,FALSE)),"",VLOOKUP(C31,coureurs!$A$4:$B$70,2,FALSE)) | E31: =VLOOKUP($C31,coureurs!$A$4:$Q$70,3,FALSE) -> #N/A | F31: =VLOOKUP($C31,coureurs!$A$4:$Q$70,9,FALSE) -> #N/A
A32: =A31+1 -> 26 | B32: =RANK(#REF!,#REF!,1)+COUNTIF(#REF!,#REF!)-1 -> #REF! | D32: =IF(ISNA(VLOOKUP(C32,coureurs!$A$4:$B$70,2,FALSE)),"",VLOOKUP(C32,coureurs!$A$4:$B$70,2,FALSE)) | E32: =VLOOKUP($C32,coureurs!$A$4:$Q$70,3,FALSE) -> #N/A | F32: =VLOOKUP($C32,coureurs!$A$4:$Q$70,9,FALSE) -> #N/A
A33: =A32+1 -> 27 | B33: =RANK(#REF!,#REF!,1)+COUNTIF(#REF!,#REF!)-1 -> #REF! | D33: =IF(ISNA(VLOOKUP(C33,coureurs!$A$4:$B$70,2,FALSE)),"",VLOOKUP(C33,coureurs!$A$4:$B$70,2,FALSE)) | E33: =VLOOKUP($C33,coureurs!$A$4:$Q$70,3,FALSE) -> #N/A | F33: =VLOOKUP($C33,coureurs!$A$4:$Q$70,9,FALSE) -> #N/A
A34: =A33+1 -> 28 | B34: =RANK(#REF!,#REF!,1)+COUNTIF(#REF!,#REF!)-1 -> #REF! | D34: =IF(ISNA(VLOOKUP(C34,coureurs!$A$4:$B$70,2,FALSE)),"",VLOOKUP(C34,coureurs!$A$4:$B$70,2,FALSE)) | E34: =IF(ISNA(VLOOKUP(D34,coureurs!$A$4:$B$70,2,FALSE)),"",VLOOKUP(D34,coureurs!$A$4:$B$70,2,FALSE)) | F34: =IF(ISNA(VLOOKUP(E34,coureurs!$A$4:$B$70,2,FALSE)),"",VLOOKUP(E34,coureurs!$A$4:$B$70,2,FALSE))
A35: =A34+1 -> 29 | B35: =RANK(#REF!,#REF!,1)+COUNTIF(#REF!,#REF!)-1 -> #REF! | D35: =IF(ISNA(VLOOKUP(C35,coureurs!$A$4:$B$70,2,FALSE)),"",VLOOKUP(C35,coureurs!$A$4:$B$70,2,FALSE)) | E35: =IF(ISNA(VLOOKUP(D35,coureurs!$A$4:$B$70,2,FALSE)),"",VLOOKUP(D35,coureurs!$A$4:$B$70,2,FALSE)) | F35: =IF(ISNA(VLOOKUP(E35,coureurs!$A$4:$B$70,2,FALSE)),"",VLOOKUP(E35,coureurs!$A$4:$B$70,2,FALSE))
A36: =A35+1 -> 30 | B36: =RANK(#REF!,#REF!,1)+COUNTIF(#REF!,#REF!)-1 -> #REF! | D36: =IF(ISNA(VLOOKUP(C36,coureurs!$A$4:$B$70,2,FALSE)),"",VLOOKUP(C36,coureurs!$A$4:$B$70,2,FALSE)) | E36: =IF(ISNA(VLOOKUP(D36,coureurs!$A$4:$B$70,2,FALSE)),"",VLOOKUP(D36,coureurs!$A$4:$B$70,2,FALSE)) | F36: =IF(ISNA(VLOOKUP(E36,coureurs!$A$4:$B$70,2,FALSE)),"",VLOOKUP(E36,coureurs!$A$4:$B$70,2,FALSE))

Sheet Clas Eq1
C3: {=IFERROR(INDEX(CLM!$U$8:$U$55,SMALL(IF(CLM!$W$8:$W$55=1,ROW($O$8:$O$55)-7),F3)),"")} -> EC MEDOC ATLANTIQUE | F3: 1
C4: Dossard | D4: Temps | E4: Place
B5: 1 | C5: {=IFERROR(INDEX(CLM!$L$8:$L$55,SMALL(IF(CLM!$O$8:$O$55=C$3,ROW($O$8:$O$55)-7),B5)),"")} -> 13 | D5: {=IFERROR(INDEX(CLM!$Q$8:$Q$55,SMALL(IF(CLM!$O$8:$O$55=C$3,ROW($O$8:$O$55)-7),B5)),"")} -> 0.0041782407 | E5: {=IFERROR(INDEX(CLM!$K$8:$K$55,SMALL(IF(CLM!$O$8:$O$55=C$3,ROW($O$8:$O$55)-7),B5)),"")} -> 5
B6: 2 | C6: {=IFERROR(INDEX(CLM!$L$8:$L$55,SMALL(IF(CLM!$O$8:$O$55=C$3,ROW($O$8:$O$55)-7),B6)),"")} -> 17 | D6: {=IFERROR(INDEX(CLM!$Q$8:$Q$55,SMALL(IF(CLM!$O$8:$O$55=C$3,ROW($O$8:$O$55)-7),B6)),"")} -> 0.0044560185 | E6: {=IFERROR(INDEX(CLM!$K$8:$K$55,SMALL(IF(CLM!$O$8:$O$55=C$3,ROW($O$8:$O$55)-7),B6)),"")} -> 12
B7: 3 | C7: {=IFERROR(INDEX(CLM!$L$8:$L$55,SMALL(IF(CLM!$O$8:$O$55=C$3,ROW($O$8:$O$55)-7),B7)),"")} -> 15 | D7: {=IFERROR(INDEX(CLM!$Q$8:$Q$55,SMALL(IF(CLM!$O$8:$O$55=C$3,ROW($O$8:$O$55)-7),B7)),"")} -> 0.0048842593 | E7: {=IFERROR(INDEX(CLM!$K$8:$K$55,SMALL(IF(CLM!$O$8:$O$55=C$3,ROW($O$8:$O$55)-7),B7)),"")} -> 17
E8: Total | F8: =SUM(D5:D7) -> 0.013518519 | G8: =SUM(E5:E7) -> 34
C10: {=IFERROR(INDEX(CLM!$U$8:$U$55,SMALL(IF(CLM!$W$8:$W$55=1,ROW($O$8:$O$55)-7),F10)),"")} -> Team Cycliste VERTEILLACOISE | F10: 2
C11: Dossard | D11: Temps | E11: Place
B12: 1 | C12: {=IFERROR(INDEX(CLM!$L$8:$L$55,SMALL(IF(CLM!$O$8:$O$55=C$10,ROW($O$8:$O$55)-7),B12)),"")} -> 3 | D12: {=IFERROR(INDEX(CLM!$Q$8:$Q$55,SMALL(IF(CLM!$O$8:$O$55=C$10,ROW($O$8:$O$55)-7),B12)),"")} -> 0.0041782407 | E12: {=IFERROR(INDEX(CLM!$K$8:$K$55,SMALL(IF(CLM!$O$8:$O$55=C$10,ROW($O$8:$O$55)-7),B12)),"")} -> 6
B13: 2 | C13: {=IFERROR(INDEX(CLM!$L$8:$L$55,SMALL(IF(CLM!$O$8:$O$55=C$10,ROW($O$8:$O$55)-7),B13)),"")} -> 4 | D13: {=IFERROR(INDEX(CLM!$Q$8:$Q$55,SMALL(IF(CLM!$O$8:$O$55=C$10,ROW($O$8:$O$55)-7),B13)),"")} -> 0.0042361111 | E13: {=IFERROR(INDEX(CLM!$K$8:$K$55,SMALL(IF(CLM!$O$8:$O$55=C$10,ROW($O$8:$O$55)-7),B13)),"")} -> 8
B14: 3 | C14: {=IFERROR(INDEX(CLM!$L$8:$L$55,SMALL(IF(CLM!$O$8:$O$55=C$10,ROW($O$8:$O$55)-7),B14)),"")} -> 5 | D14: {=IFERROR(INDEX(CLM!$Q$8:$Q$55,SMALL(IF(CLM!$O$8:$O$55=C$10,ROW($O$8:$O$55)-7),B14)),"")} -> 0.0047222222 | E14: {=IFERROR(INDEX(CLM!$K$8:$K$55,SMALL(IF(CLM!$O$8:$O$55=C$10,ROW($O$8:$O$55)-7),B14)),"")} -> 15
E15: Total | F15: =SUM(D12:D14) -> 0.013136574 | G15: =SUM(E12:E14) -> 29
C17: {=IFERROR(INDEX(CLM!$U$8:$U$55,SMALL(IF(CLM!$W$8:$W$55=1,ROW($O$8:$O$55)-7),F17)),"")} -> DORDOGNE SUD CYCLISME | F17: 3
C18: Dossard | D18: Temps | E18: Place
B19: 1 | C19: {=IFERROR(INDEX(CLM!$L$8:$L$55,SMALL(IF(CLM!$O$8:$O$55=C$17,ROW($O$8:$O$55)-7),B19)),"")} -> 7 | D19: {=IFERROR(INDEX(CLM!$Q$8:$Q$55,SMALL(IF(CLM!$O$8:$O$55=C$17,ROW($O$8:$O$55)-7),B19)),"")} -> 0.0041898148 | E19: {=IFERROR(INDEX(CLM!$K$8:$K$55,SMALL(IF(CLM!$O$8:$O$55=C$17,ROW($O$8:$O$55)-7),B19)),"")} -> 7
B20: 2 | C20: {=IFERROR(INDEX(CLM!$L$8:$L$55,SMALL(IF(CLM!$O$8:$O$55=C$17,ROW($O$8:$O$55)-7),B20)),"")} -> 9 | D20: {=IFERROR(INDEX(CLM!$Q$8:$Q$55,SMALL(IF(CLM!$O$8:$O$55=C$17,ROW($O$8:$O$55)-7),B20)),"")} -> 0.0045601852 | E20: {=IFERROR(INDEX(CLM!$K$8:$K$55,SMALL(IF(CLM!$O$8:$O$55=C$17,ROW($O$8:$O$55)-7),B20)),"")} -> 13
B21: 3 | C21: {=IFERROR(INDEX(CLM!$L$8:$L$55,SMALL(IF(CLM!$O$8:$O$55=C$17,ROW($O$8:$O$55)-7),B21)),"")} -> 8 | D21: {=IFERROR(INDEX(CLM!$Q$8:$Q$55,SMALL(IF(CLM!$O$8:$O$55=C$17,ROW($O$8:$O$55)-7),B21)),"")} -> 0.0047453704 | E21: {=IFERROR(INDEX(CLM!$K$8:$K$55,SMALL(IF(CLM!$O$8:$O$55=C$17,ROW($O$8:$O$55)-7),B21)),"")} -> 16
E22: Total | F22: =SUM(D19:D21) -> 0.01349537 | G22: =SUM(E19:E21) -> 36
C24: {=IFERROR(INDEX(CLM!$U$8:$U$55,SMALL(IF(CLM!$W$8:$W$55=1,ROW($O$8:$O$55)-7),F24)),"")} | F24: 4
C25: Dossard | D25: Temps | E25: Place
