Workbook
Name CC: #REF!

Sheet Planning general
A1: M | B1: S | C1: S | D1: J | E1: J | F1: THIBAUT | H1: LOIC | I1: CHRISTOPHE | J1: BERTRAND
A2: 01 | B2: 01 | C2: 01 | D2: lundi | E2: 01 | H2: serveur2019 | I2: Auriol-cote pour GO | J2: IFSI/auvent/VOL
A3: 01 | C3: 01 | D3: mardi | E3: 02 | H3: serveur/2019 | I3: Auriol-cote /pour GO | J3: IFSI auvent-VOL
A4: 01 | C4: 01 | D4: mercredi | E4: 03 | F4: IFSI auvent-DDC | G4: Safran-synthese | H4: serveur2019 | I4: Vetrotex/poteau/R+7/R+10/DDF | J4: IFSI auvent-VOL
A5: 01 | C5: 01 | D5: jeudi | E5: 04 | H5: NIMES/ecran VOL / synthese | I5: Vetrotex-poteau-R+7-à R+10 DDF | J5: Vetrotex/GC1/R+6/EXE
A6: 01 | C6: 01 | D6: vendredi | E6: 05 | H6: NIMES-ecran VOL et synthese | I6: Vetrotex-poteau-R+7-à R+10 DDF | J6: Vetrotex-GC1 R+6 -EXE
A7: 01 | B7: 02 | C7: 02 | D7: lundi | E7: 08 | F7: Safran-NDC | G7: Passerelle morge-Synthese | H7: La ruche/courette anglaise/syntheses | I7: Flaubert-cloture-EXE | J7: Vetrotex-GC1 R+6 -EXE
A8: 01 | C8: 02 | D8: mardi | E8: 09 | F8: La ruche -synthese pour porte treillis | H8: NIMES/localisation/planning | I8: Flaubert-cloture-EXE | J8: Vetrotex-GC1 R+6 -EXE

Sheet Dess 1
B1: NOM | C1: CHRISTOPHE
B2: semaine | C2: 01
A3: Tâches | B3: lundi | C3: mardi | D3: mercredi | E3: jeudi | F3: vendredi
A4: 1 | B4: {=IFERROR(MID("/"&INDEX('Planning general'!$H$2:$J$8,SUMPRODUCT((('Planning general'!$C$2:$C$8=$C$2)*('Planning general'!$D$2:$D$8=B$3)=1)*ROW($A$2:$A$8))-1,MATCH($C$1,'Planning general'!$H$1:$J$1,0))&"/",FIND("#",SUBSTITUTE("/"&INDEX('Planning general'!$H$2:$J$8,SUMPRODUCT((('Planning general'!$C$2:$C$8=$C$2)*('Planning general'!$D$2:$D$8=B$3)=1)*ROW($A$2:$A$8))-1,MATCH($C$1,'Planning general'!$H$1:$J$1,0))&"/","/","#",ROW(1:1)))+1,FIND("#",SUBSTITUTE("/"&INDEX('Planning general'!$H$2:$J$8,SUMPRODUCT((('Planning general'!$C$2:$C$8=$C$2)*('Planning general'!$D$2:$D$8=B$3)=1)*ROW($A$2:$A$8))-1,MATCH($C$1,'Planning general'!$H$1:$J$1,0))&"/","/","#",ROW(2:2)))-FIND("#",SUBSTITUTE("/"&INDEX('Planning general'!$H$2:$J$8,SUMPRODUCT((('Planning general'!$C$2:$C$8=$C$2)*('Planning general'!$D$2:$D$8=B$3)=1)*ROW($A$2:$A$8))-1,MATCH($C$1,'Planning general'!$H$1:$J$1,0))&"/","/","#",ROW(1:1)))-1),"rien d'autre")} -> Auriol-cote pour GO | C4: {=IFERROR(MID("/"&INDEX('Planning general'!$H$2:$J$8,SUMPRODUCT((('Planning general'!$C$2:$C$8=$C$2)*('Planning general'!$D$2:$D$8=C$3)=1)*ROW($A$2:$A$8))-1,MATCH($C$1,'Planning general'!$H$1:$J$1,0))&"/",FIND("#",SUBSTITUTE("/"&INDEX('Planning general'!$H$2:$J$8,SUMPRODUCT((('Planning general'!$C$2:$C$8=$C$2)*('Planning general'!$D$2:$D$8=C$3)=1)*ROW($A$2:$A$8))-1,MATCH($C$1,'Planning general'!$H$1:$J$1,0))&"/","/","#",ROW(1:1)))+1,FIND("#",SUBSTITUTE("/"&INDEX('Planning general'!$H$2:$J$8,SUMPRODUCT((('Planning general'!$C$2:$C$8=$C$2)*('Planning general'!$D$2:$D$8=C$3)=1)*ROW($A$2:$A$8))-1,MATCH($C$1,'Planning general'!$H$1:$J$1,0))&"/","/","#",ROW(2:2)))-FIND("#",SUBSTITUTE("/"&INDEX('Planning general'!$H$2:$J$8,SUMPRODUCT((('Planning general'!$C$2:$C$8=$C$2)*('Planning general'!$D$2:$D$8=C$3)=1)*ROW($A$2:$A$8))-1,MATCH($C$1,'Planning general'!$H$1:$J$1,0))&"/","/","#",ROW(1:1)))-1),"rien d'autre")} -> Auriol-cote | D4: {=IFERROR(MID("/"&INDEX('Planning general'!$H$2:$J$8,SUMPRODUCT((('Planning general'!$C$2:$C$8=$C$2)*('Planning general'!$D$2:$D$8=D$3)=1)*ROW($A$2:$A$8))-1,MATCH($C$1,'Planning general'!$H$1:$J$1,0))&"/",FIND("#",SUBSTITUTE("/"&INDEX('Planning general'!$H$2:$J$8,SUMPRODUCT((('Planning general'!$C$2:$C$8=$C$2)*('Planning general'!$D$2:$D$8=D$3)=1)*ROW($A$2:$A$8))-1,MATCH($C$1,'Planning general'!$H$1:$J$1,0))&"/","/","#",ROW(1:1)))+1,FIND("#",SUBSTITUTE("/"&INDEX('Planning general'!$H$2:$J$8,SUMPRODUCT((('Planning general'!$C$2:$C$8=$C$2)*('Planning general'!$D$2:$D$8=D$3)=1)*ROW($A$2:$A$8))-1,MATCH($C$1,'Planning general'!$H$1:$J$1,0))&"/","/","#",ROW(2:2)))-FIND("#",SUBSTITUTE("/"&INDEX('Planning general'!$H$2:$J$8,SUMPRODUCT((('Planning general'!$C$2:$C$8=$C$2)*('Planning general'!$D$2:$D$8=D$3)=1)*ROW($A$2:$A$8))-1,MATCH($C$1,'Planning general'!$H$1:$J$1,0))&"/","/","#",ROW(1:1)))-1),"rien d'autre")} -> Vetrotex | E4: {=IFERROR(MID("/"&INDEX('Planning general'!$H$2:$J$8,SUMPRODUCT((('Planning general'!$C$2:$C$8=$C$2)*('Planning general'!$D$2:$D$8=E$3)=1)*ROW($A$2:$A$8))-1,MATCH($C$1,'Planning general'!$H$1:$J$1,0))&"/",FIND("#",SUBSTITUTE("/"&INDEX('Planning general'!$H$2:$J$8,SUMPRODUCT((('Planning general'!$C$2:$C$8=$C$2)*('Planning general'!$D$2:$D$8=E$3)=1)*ROW($A$2:$A$8))-1,MATCH($C$1,'Planning general'!$H$1:$J$1,0))&"/","/","#",ROW(1:1)))+1,FIND("#",SUBSTITUTE("/"&INDEX('Planning general'!$H$2:$J$8,SUMPRODUCT((('Planning general'!$C$2:$C$8=$C$2)*('Planning general'!$D$2:$D$8=E$3)=1)*ROW($A$2:$A$8))-1,MATCH($C$1,'Planning general'!$H$1:$J$1,0))&"/","/","#",ROW(2:2)))-FIND("#",SUBSTITUTE("/"&INDEX('Planning general'!$H$2:$J$8,SUMPRODUCT((('Planning general'!$C$2:$C$8=$C$2)*('Planning general'!$D$2:$D$8=E$3)=1)*ROW($A$2:$A$8))-1,MATCH($C$1,'Planning general'!$H$1:$J$1,0))&"/","/","#",ROW(1:1)))-1),"rien d'autre")} -> Vetrotex-poteau-R+7-à R+10 DDF | F4: {=IFERROR(MID("/"&INDEX('Planning general'!$H$2:$J$8,SUMPRODUCT((('Planning general'!$C$2:$C$8=$C$2)*('Planning general'!$D$2:$D$8=F$3)=1)*ROW($A$2:$A$8))-1,MATCH($C$1,'Planning general'!$H$1:$J$1,0))&"/",FIND("#",SUBSTITUTE("/"&INDEX('Planning general'!$H$2:$J$8,SUMPRODUCT((('Planning general'!$C$2:$C$8=$C$2)*('Planning general'!$D$2:$D$8=F$3)=1)*ROW($A$2:$A$8))-1,MATCH($C$1,'Planning general'!$H$1:$J$1,0))&"/","/","#",ROW(1:1)))+1,FIND("#",SUBSTITUTE("/"&INDEX('Planning general'!$H$2:$J$8,SUMPRODUCT((('Planning general'!$C$2:$C$8=$C$2)*('Planning general'!$D$2:$D$8=F$3)=1)*ROW($A$2:$A$8))-1,MATCH($C$1,'Planning general'!$H$1:$J$1,0))&"/","/","#",ROW(2:2)))-FIND("#",SUBSTITUTE("/"&INDEX('Planning general'!$H$2:$J$8,SUMPRODUCT((('Planning general'!$C$2:$C$8=$C$2)*('Planning general'!$D$2:$D$8=F$3)=1)*ROW($A$2:$A$8))-1,MATCH($C$1,'Planning general'!$H$1:$J$1,0))&"/","/","#",ROW(1:1)))-1),"rien d'autre")} -> Vetrotex-poteau-R+7-à R+10 DDF
A5: 2 | B5: {=IFERROR(MID("/"&INDEX('Planning general'!$H$2:$J$8,SUMPRODUCT((('Planning general'!$C$2:$C$8=$C$2)*('Planning general'!$D$2:$D$8=B$3)=1)*ROW($A$2:$A$8))-1,MATCH($C$1,'Planning general'!$H$1:$J$1,0))&"/",FIND("#",SUBSTITUTE("/"&INDEX('Planning general'!$H$2:$J$8,SUMPRODUCT((('Planning general'!$C$2:$C$8=$C$2)*('Planning general'!$D$2:$D$8=B$3)=1)*ROW($A$2:$A$8))-1,MATCH($C$1,'Planning general'!$H$1:$J$1,0))&"/","/","#",ROW(2:2)))+1,FIND("#",SUBSTITUTE("/"&INDEX('Planning general'!$H$2:$J$8,SUMPRODUCT((('Planning general'!$C$2:$C$8=$C$2)*('Planning general'!$D$2:$D$8=B$3)=1)*ROW($A$2:$A$8))-1,MATCH($C$1,'Planning general'!$H$1:$J$1,0))&"/","/","#",ROW(3:3)))-FIND("#",SUBSTITUTE("/"&INDEX('Planning general'!$H$2:$J$8,SUMPRODUCT((('Planning general'!$C$2:$C$8=$C$2)*('Planning general'!$D$2:$D$8=B$3)=1)*ROW($A$2:$A$8))-1,MATCH($C$1,'Planning general'!$H$1:$J$1,0))&"/","/","#",ROW(2:2)))-1),"rien d'autre")} -> rien d'autre | C5: {=IFERROR(MID("/"&INDEX('Planning general'!$H$2:$J$8,SUMPRODUCT((('Planning general'!$C$2:$C$8=$C$2)*('Planning general'!$D$2:$D$8=C$3)=1)*ROW($A$2:$A$8))-1,MATCH($C$1,'Planning general'!$H$1:$J$1,0))&"/",FIND("#",SUBSTITUTE("/"&INDEX('Planning general'!$H$2:$J$8,SUMPRODUCT((('Planning general'!$C$2:$C$8=$C$2)*('Planning general'!$D$2:$D$8=C$3)=1)*ROW($A$2:$A$8))-1,MATCH($C$1,'Planning general'!$H$1:$J$1,0))&"/","/","#",ROW(2:2)))+1,FIND("#",SUBSTITUTE("/"&INDEX('Planning general'!$H$2:$J$8,SUMPRODUCT((('Planning general'!$C$2:$C$8=$C$2)*('Planning general'!$D$2:$D$8=C$3)=1)*ROW($A$2:$A$8))-1,MATCH($C$1,'Planning general'!$H$1:$J$1,0))&"/","/","#",ROW(3:3)))-FIND("#",SUBSTITUTE("/"&INDEX('Planning general'!$H$2:$J$8,SUMPRODUCT((('Planning general'!$C$2:$C$8=$C$2)*('Planning general'!$D$2:$D$8=C$3)=1)*ROW($A$2:$A$8))-1,MATCH($C$1,'Planning general'!$H$1:$J$1,0))&"/","/","#",ROW(2:2)))-1),"rien d'autre")} -> pour GO | D5: {=IFERROR(MID("/"&INDEX('Planning general'!$H$2:$J$8,SUMPRODUCT((('Planning general'!$C$2:$C$8=$C$2)*('Planning general'!$D$2:$D$8=D$3)=1)*ROW($A$2:$A$8))-1,MATCH($C$1,'Planning general'!$H$1:$J$1,0))&"/",FIND("#",SUBSTITUTE("/"&INDEX('Planning general'!$H$2:$J$8,SUMPRODUCT((('Planning general'!$C$2:$C$8=$C$2)*('Planning general'!$D$2:$D$8=D$3)=1)*ROW($A$2:$A$8))-1,MATCH($C$1,'Planning general'!$H$1:$J$1,0))&"/","/","#",ROW(2:2)))+1,FIND("#",SUBSTITUTE("/"&INDEX('Planning general'!$H$2:$J$8,SUMPRODUCT((('Planning general'!$C$2:$C$8=$C$2)*('Planning general'!$D$2:$D$8=D$3)=1)*ROW($A$2:$A$8))-1,MATCH($C$1,'Planning general'!$H$1:$J$1,0))&"/","/","#",ROW(3:3)))-FIND("#",SUBSTITUTE("/"&INDEX('Planning general'!$H$2:$J$8,SUMPRODUCT((('Planning general'!$C$2:$C$8=$C$2)*('Planning general'!$D$2:$D$8=D$3)=1)*ROW($A$2:$A$8))-1,MATCH($C$1,'Planning general'!$H$1:$J$1,0))&"/","/","#",ROW(2:2)))-1),"rien d'autre")} -> poteau | E5: {=IFERROR(MID("/"&INDEX('Planning general'!$H$2:$J$8,SUMPRODUCT((('Planning general'!$C$2:$C$8=$C$2)*('Planning general'!$D$2:$D$8=E$3)=1)*ROW($A$2:$A$8))-1,MATCH($C$1,'Planning general'!$H$1:$J$1,0))&"/",FIND("#",SUBSTITUTE("/"&INDEX('Planning general'!$H$2:$J$8,SUMPRODUCT((('Planning general'!$C$2:$C$8=$C$2)*('Planning general'!$D$2:$D$8=E$3)=1)*ROW($A$2:$A$8))-1,MATCH($C$1,'Planning general'!$H$1:$J$1,0))&"/","/","#",ROW(2:2)))+1,FIND("#",SUBSTITUTE("/"&INDEX('Planning general'!$H$2:$J$8,SUMPRODUCT((('Planning general'!$C$2:$C$8=$C$2)*('Planning general'!$D$2:$D$8=E$3)=1)*ROW($A$2:$A$8))-1,MATCH($C$1,'Planning general'!$H$1:$J$1,0))&"/","/","#",ROW(3:3)))-FIND("#",SUBSTITUTE("/"&INDEX('Planning general'!$H$2:$J$8,SUMPRODUCT((('Planning general'!$C$2:$C$8=$C$2)*('Planning general'!$D$2:$D$8=E$3)=1)*ROW($A$2:$A$8))-1,MATCH($C$1,'Planning general'!$H$1:$J$1,0))&"/","/","#",ROW(2:2)))-1),"rien d'autre")} -> rien d'autre | F5: {=IFERROR(MID("/"&INDEX('Planning general'!$H$2:$J$8,SUMPRODUCT((('Planning general'!$C$2:$C$8=$C$2)*('Planning general'!$D$2:$D$8=F$3)=1)*ROW($A$2:$A$8))-1,MATCH($C$1,'Planning general'!$H$1:$J$1,0))&"/",FIND("#",SUBSTITUTE("/"&INDEX('Planning general'!$H$2:$J$8,SUMPRODUCT((('Planning general'!$C$2:$C$8=$C$2)*('Planning general'!$D$2:$D$8=F$3)=1)*ROW($A$2:$A$8))-1,MATCH($C$1,'Planning general'!$H$1:$J$1,0))&"/","/","#",ROW(2:2)))+1,FIND("#",SUBSTITUTE("/"&INDEX('Planning general'!$H$2:$J$8,SUMPRODUCT((('Planning general'!$C$2:$C$8=$C$2)*('Planning general'!$D$2:$D$8=F$3)=1)*ROW($A$2:$A$8))-1,MATCH($C$1,'Planning general'!$H$1:$J$1,0))&"/","/","#",ROW(3:3)))-FIND("#",SUBSTITUTE("/"&INDEX('Planning general'!$H$2:$J$8,SUMPRODUCT((('Planning general'!$C$2:$C$8=$C$2)*('Planning general'!$D$2:$D$8=F$3)=1)*ROW($A$2:$A$8))-1,MATCH($C$1,'Planning general'!$H$1:$J$1,0))&"/","/","#",ROW(2:2)))-1),"rien d'autre")} -> rien d'autre
A6: 3 | B6: {=IFERROR(MID("/"&INDEX('Planning general'!$H$2:$J$8,SUMPRODUCT((('Planning general'!$C$2:$C$8=$C$2)*('Planning general'!$D$2:$D$8=B$3)=1)*ROW($A$2:$A$8))-1,MATCH($C$1,'Planning general'!$H$1:$J$1,0))&"/",FIND("#",SUBSTITUTE("/"&INDEX('Planning general'!$H$2:$J$8,SUMPRODUCT((('Planning general'!$C$2:$C$8=$C$2)*('Planning general'!$D$2:$D$8=B$3)=1)*ROW($A$2:$A$8))-1,MATCH($C$1,'Planning general'!$H$1:$J$1,0))&"/","/","#",ROW(3:3)))+1,FIND("#",SUBSTITUTE("/"&INDEX('Planning general'!$H$2:$J$8,SUMPRODUCT((('Planning general'!$C$2:$C$8=$C$2)*('Planning general'!$D$2:$D$8=B$3)=1)*ROW($A$2:$A$8))-1,MATCH($C$1,'Planning general'!$H$1:$J$1,0))&"/","/","#",ROW(4:4)))-FIND("#",SUBSTITUTE("/"&INDEX('Planning general'!$H$2:$J$8,SUMPRODUCT((('Planning general'!$C$2:$C$8=$C$2)*('Planning general'!$D$2:$D$8=B$3)=1)*ROW($A$2:$A$8))-1,MATCH($C$1,'Planning general'!$H$1:$J$1,0))&"/","/","#",ROW(3:3)))-1),"rien d'autre")} -> rien d'autre | C6: {=IFERROR(MID("/"&INDEX('Planning general'!$H$2:$J$8,SUMPRODUCT((('Planning general'!$C$2:$C$8=$C$2)*('Planning general'!$D$2:$D$8=C$3)=1)*ROW($A$2:$A$8))-1,MATCH($C$1,'Planning general'!$H$1:$J$1,0))&"/",FIND("#",SUBSTITUTE("/"&INDEX('Planning general'!$H$2:$J$8,SUMPRODUCT((('Planning general'!$C$2:$C$8=$C$2)*('Planning general'!$D$2:$D$8=C$3)=1)*ROW($A$2:$A$8))-1,MATCH($C$1,'Planning general'!$H$1:$J$1,0))&"/","/","#",ROW(3:3)))+1,FIND("#",SUBSTITUTE("/"&INDEX('Planning general'!$H$2:$J$8,SUMPRODUCT((('Planning general'!$C$2:$C$8=$C$2)*('Planning general'!$D$2:$D$8=C$3)=1)*ROW($A$2:$A$8))-1,MATCH($C$1,'Planning general'!$H$1:$J$1,0))&"/","/","#",ROW(4:4)))-FIND("#",SUBSTITUTE("/"&INDEX('Planning general'!$H$2:$J$8,SUMPRODUCT((('Planning general'!$C$2:$C$8=$C$2)*('Planning general'!$D$2:$D$8=C$3)=1)*ROW($A$2:$A$8))-1,MATCH($C$1,'Planning general'!$H$1:$J$1,0))&"/","/","#",ROW(3:3)))-1),"rien d'autre")} -> rien d'autre | D6: {=IFERROR(MID("/"&INDEX('Planning general'!$H$2:$J$8,SUMPRODUCT((('Planning general'!$C$2:$C$8=$C$2)*('Planning general'!$D$2:$D$8=D$3)=1)*ROW($A$2:$A$8))-1,MATCH($C$1,'Planning general'!$H$1:$J$1,0))&"/",FIND("#",SUBSTITUTE("/"&INDEX('Planning general'!$H$2:$J$8,SUMPRODUCT((('Planning general'!$C$2:$C$8=$C$2)*('Planning general'!$D$2:$D$8=D$3)=1)*ROW($A$2:$A$8))-1,MATCH($C$1,'Planning general'!$H$1:$J$1,0))&"/","/","#",ROW(3:3)))+1,FIND("#",SUBSTITUTE("/"&INDEX('Planning general'!$H$2:$J$8,SUMPRODUCT((('Planning general'!$C$2:$C$8=$C$2)*('Planning general'!$D$2:$D$8=D$3)=1)*ROW($A$2:$A$8))-1,MATCH($C$1,'Planning general'!$H$1:$J$1,0))&"/","/","#",ROW(4:4)))-FIND("#",SUBSTITUTE("/"&INDEX('Planning general'!$H$2:$J$8,SUMPRODUCT((('Planning general'!$C$2:$C$8=$C$2)*('Planning general'!$D$2:$D$8=D$3)=1)*ROW($A$2:$A$8))-1,MATCH($C$1,'Planning general'!$H$1:$J$1,0))&"/","/","#",ROW(3:3)))-1),"rien d'autre")} -> R+7 | E6: {=IFERROR(MID("/"&INDEX('Planning general'!$H$2:$J$8,SUMPRODUCT((('Planning general'!$C$2:$C$8=$C$2)*('Planning general'!$D$2:$D$8=E$3)=1)*ROW($A$2:$A$8))-1,MATCH($C$1,'Planning general'!$H$1:$J$1,0))&"/",FIND("#",SUBSTITUTE("/"&INDEX('Planning general'!$H$2:$J$8,SUMPRODUCT((('Planning general'!$C$2:$C$8=$C$2)*('Planning general'!$D$2:$D$8=E$3)=1)*ROW($A$2:$A$8))-1,MATCH($C$1,'Planning general'!$H$1:$J$1,0))&"/","/","#",ROW(3:3)))+1,FIND("#",SUBSTITUTE("/"&INDEX('Planning general'!$H$2:$J$8,SUMPRODUCT((('Planning general'!$C$2:$C$8=$C$2)*('Planning general'!$D$2:$D$8=E$3)=1)*ROW($A$2:$A$8))-1,MATCH($C$1,'Planning general'!$H$1:$J$1,0))&"/","/","#",ROW(4:4)))-FIND("#",SUBSTITUTE("/"&INDEX('Planning general'!$H$2:$J$8,SUMPRODUCT((('Planning general'!$C$2:$C$8=$C$2)*('Planning general'!$D$2:$D$8=E$3)=1)*ROW($A$2:$A$8))-1,MATCH($C$1,'Planning general'!$H$1:$J$1,0))&"/","/","#",ROW(3:3)))-1),"rien d'autre")} -> rien d'autre | F6: {=IFERROR(MID("/"&INDEX('Planning general'!$H$2:$J$8,SUMPRODUCT((('Planning general'!$C$2:$C$8=$C$2)*('Planning general'!$D$2:$D$8=F$3)=1)*ROW($A$2:$A$8))-1,MATCH($C$1,'Planning general'!$H$1:$J$1,0))&"/",FIND("#",SUBSTITUTE("/"&INDEX('Planning general'!$H$2:$J$8,SUMPRODUCT((('Planning general'!$C$2:$C$8=$C$2)*('Planning general'!$D$2:$D$8=F$3)=1)*ROW($A$2:$A$8))-1,MATCH($C$1,'Planning general'!$H$1:$J$1,0))&"/","/","#",ROW(3:3)))+1,FIND("#",SUBSTITUTE("/"&INDEX('Planning general'!$H$2:$J$8,SUMPRODUCT((('Planning general'!$C$2:$C$8=$C$2)*('Planning general'!$D$2:$D$8=F$3)=1)*ROW($A$2:$A$8))-1,MATCH($C$1,'Planning general'!$H$1:$J$1,0))&"/","/","#",ROW(4:4)))-FIND("#",SUBSTITUTE("/"&INDEX('Planning general'!$H$2:$J$8,SUMPRODUCT((('Planning general'!$C$2:$C$8=$C$2)*('Planning general'!$D$2:$D$8=F$3)=1)*ROW($A$2:$A$8))-1,MATCH($C$1,'Planning general'!$H$1:$J$1,0))&"/","/","#",ROW(3:3)))-1),"rien d'autre")} -> rien d'autre
A7: 4 | B7: {=IFERROR(MID("/"&INDEX('Planning general'!$H$2:$J$8,SUMPRODUCT((('Planning general'!$C$2:$C$8=$C$2)*('Planning general'!$D$2:$D$8=B$3)=1)*ROW($A$2:$A$8))-1,MATCH($C$1,'Planning general'!$H$1:$J$1,0))&"/",FIND("#",SUBSTITUTE("/"&INDEX('Planning general'!$H$2:$J$8,SUMPRODUCT((('Planning general'!$C$2:$C$8=$C$2)*('Planning general'!$D$2:$D$8=B$3)=1)*ROW($A$2:$A$8))-1,MATCH($C$1,'Planning general'!$H$1:$J$1,0))&"/","/","#",ROW(4:4)))+1,FIND("#",SUBSTITUTE("/"&INDEX('Planning general'!$H$2:$J$8,SUMPRODUCT((('Planning general'!$C$2:$C$8=$C$2)*('Planning general'!$D$2:$D$8=B$3)=1)*ROW($A$2:$A$8))-1,MATCH($C$1,'Planning general'!$H$1:$J$1,0))&"/","/","#",ROW(5:5)))-FIND("#",SUBSTITUTE("/"&INDEX('Planning general'!$H$2:$J$8,SUMPRODUCT((('Planning general'!$C$2:$C$8=$C$2)*('Planning general'!$D$2:$D$8=B$3)=1)*ROW($A$2:$A$8))-1,MATCH($C$1,'Planning general'!$H$1:$J$1,0))&"/","/","#",ROW(4:4)))-1),"rien d'autre")} -> rien d'autre | C7: {=IFERROR(MID("/"&INDEX('Planning general'!$H$2:$J$8,SUMPRODUCT((('Planning general'!$C$2:$C$8=$C$2)*('Planning general'!$D$2:$D$8=C$3)=1)*ROW($A$2:$A$8))-1,MATCH($C$1,'Planning general'!$H$1:$J$1,0))&"/",FIND("#",SUBSTITUTE("/"&INDEX('Planning general'!$H$2:$J$8,SUMPRODUCT((('Planning general'!$C$2:$C$8=$C$2)*('Planning general'!$D$2:$D$8=C$3)=1)*ROW($A$2:$A$8))-1,MATCH($C$1,'Planning general'!$H$1:$J$1,0))&"/","/","#",ROW(4:4)))+1,FIND("#",SUBSTITUTE("/"&INDEX('Planning general'!$H$2:$J$8,SUMPRODUCT((('Planning general'!$C$2:$C$8=$C$2)*('Planning general'!$D$2:$D$8=C$3)=1)*ROW($A$2:$A$8))-1,MATCH($C$1,'Planning general'!$H$1:$J$1,0))&"/","/","#",ROW(5:5)))-FIND("#",SUBSTITUTE("/"&INDEX('Planning general'!$H$2:$J$8,SUMPRODUCT((('Planning general'!$C$2:$C$8=$C$2)*('Planning general'!$D$2:$D$8=C$3)=1)*ROW($A$2:$A$8))-1,MATCH($C$1,'Planning general'!$H$1:$J$1,0))&"/","/","#",ROW(4:4)))-1),"rien d'autre")} -> rien d'autre | D7: {=IFERROR(MID("/"&INDEX('Planning general'!$H$2:$J$8,SUMPRODUCT((('Planning general'!$C$2:$C$8=$C$2)*('Planning general'!$D$2:$D$8=D$3)=1)*ROW($A$2:$A$8))-1,MATCH($C$1,'Planning general'!$H$1:$J$1,0))&"/",FIND("#",SUBSTITUTE("/"&INDEX('Planning general'!$H$2:$J$8,SUMPRODUCT((('Planning general'!$C$2:$C$8=$C$2)*('Planning general'!$D$2:$D$8=D$3)=1)*ROW($A$2:$A$8))-1,MATCH($C$1,'Planning general'!$H$1:$J$1,0))&"/","/","#",ROW(4:4)))+1,FIND("#",SUBSTITUTE("/"&INDEX('Planning general'!$H$2:$J$8,SUMPRODUCT((('Planning general'!$C$2:$C$8=$C$2)*('Planning general'!$D$2:$D$8=D$3)=1)*ROW($A$2:$A$8))-1,MATCH($C$1,'Planning general'!$H$1:$J$1,0))&"/","/","#",ROW(5:5)))-FIND("#",SUBSTITUTE("/"&INDEX('Planning general'!$H$2:$J$8,SUMPRODUCT((('Planning general'!$C$2:$C$8=$C$2)*('Planning general'!$D$2:$D$8=D$3)=1)*ROW($A$2:$A$8))-1,MATCH($C$1,'Planning general'!$H$1:$J$1,0))&"/","/","#",ROW(4:4)))-1),"rien d'autre")} -> R+10 | E7: {=IFERROR(MID("/"&INDEX('Planning general'!$H$2:$J$8,SUMPRODUCT((('Planning general'!$C$2:$C$8=$C$2)*('Planning general'!$D$2:$D$8=E$3)=1)*ROW($A$2:$A$8))-1,MATCH($C$1,'Planning general'!$H$1:$J$1,0))&"/",FIND("#",SUBSTITUTE("/"&INDEX('Planning general'!$H$2:$J$8,SUMPRODUCT((('Planning general'!$C$2:$C$8=$C$2)*('Planning general'!$D$2:$D$8=E$3)=1)*ROW($A$2:$A$8))-1,MATCH($C$1,'Planning general'!$H$1:$J$1,0))&"/","/","#",ROW(4:4)))+1,FIND("#",SUBSTITUTE("/"&INDEX('Planning general'!$H$2:$J$8,SUMPRODUCT((('Planning general'!$C$2:$C$8=$C$2)*('Planning general'!$D$2:$D$8=E$3)=1)*ROW($A$2:$A$8))-1,MATCH($C$1,'Planning general'!$H$1:$J$1,0))&"/","/","#",ROW(5:5)))-FIND("#",SUBSTITUTE("/"&INDEX('Planning general'!$H$2:$J$8,SUMPRODUCT((('Planning general'!$C$2:$C$8=$C$2)*('Planning general'!$D$2:$D$8=E$3)=1)*ROW($A$2:$A$8))-1,MATCH($C$1,'Planning general'!$H$1:$J$1,0))&"/","/","#",ROW(4:4)))-1),"rien d'autre")} -> rien d'autre | F7: {=IFERROR(MID("/"&INDEX('Planning general'!$H$2:$J$8,SUMPRODUCT((('Planning general'!$C$2:$C$8=$C$2)*('Planning general'!$D$2:$D$8=F$3)=1)*ROW($A$2:$A$8))-1,MATCH($C$1,'Planning general'!$H$1:$J$1,0))&"/",FIND("#",SUBSTITUTE("/"&INDEX('Planning general'!$H$2:$J$8,SUMPRODUCT((('Planning general'!$C$2:$C$8=$C$2)*('Planning general'!$D$2:$D$8=F$3)=1)*ROW($A$2:$A$8))-1,MATCH($C$1,'Planning general'!$H$1:$J$1,0))&"/","/","#",ROW(4:4)))+1,FIND("#",SUBSTITUTE("/"&INDEX('Planning general'!$H$2:$J$8,SUMPRODUCT((('Planning general'!$C$2:$C$8=$C$2)*('Planning general'!$D$2:$D$8=F$3)=1)*ROW($A$2:$A$8))-1,MATCH($C$1,'Planning general'!$H$1:$J$1,0))&"/","/","#",ROW(5:5)))-FIND("#",SUBSTITUTE("/"&INDEX('Planning general'!$H$2:$J$8,SUMPRODUCT((('Planning general'!$C$2:$C$8=$C$2)*('Planning general'!$D$2:$D$8=F$3)=1)*ROW($A$2:$A$8))-1,MATCH($C$1,'Planning general'!$H$1:$J$1,0))&"/","/","#",ROW(4:4)))-1),"rien d'autre")} -> rien d'autre
A8: 5 | B8: {=IFERROR(MID("/"&INDEX('Planning general'!$H$2:$J$8,SUMPRODUCT((('Planning general'!$C$2:$C$8=$C$2)*('Planning general'!$D$2:$D$8=B$3)=1)*ROW($A$2:$A$8))-1,MATCH($C$1,'Planning general'!$H$1:$J$1,0))&"/",FIND("#",SUBSTITUTE("/"&INDEX('Planning general'!$H$2:$J$8,SUMPRODUCT((('Planning general'!$C$2:$C$8=$C$2)*('Planning general'!$D$2:$D$8=B$3)=1)*ROW($A$2:$A$8))-1,MATCH($C$1,'Planning general'!$H$1:$J$1,0))&"/","/","#",ROW(5:5)))+1,FIND("#",SUBSTITUTE("/"&INDEX('Planning general'!$H$2:$J$8,SUMPRODUCT((('Planning general'!$C$2:$C$8=$C$2)*('Planning general'!$D$2:$D$8=B$3)=1)*ROW($A$2:$A$8))-1,MATCH($C$1,'Planning general'!$H$1:$J$1,0))&"/","/","#",ROW(6:6)))-FIND("#",SUBSTITUTE("/"&INDEX('Planning general'!$H$2:$J$8,SUMPRODUCT((('Planning general'!$C$2:$C$8=$C$2)*('Planning general'!$D$2:$D$8=B$3)=1)*ROW($A$2:$A$8))-1,MATCH($C$1,'Planning general'!$H$1:$J$1,0))&"/","/","#",ROW(5:5)))-1),"rien d'autre")} -> rien d'autre | C8: {=IFERROR(MID("/"&INDEX('Planning general'!$H$2:$J$8,SUMPRODUCT((('Planning general'!$C$2:$C$8=$C$2)*('Planning general'!$D$2:$D$8=C$3)=1)*ROW($A$2:$A$8))-1,MATCH($C$1,'Planning general'!$H$1:$J$1,0))&"/",FIND("#",SUBSTITUTE("/"&INDEX('Planning general'!$H$2:$J$8,SUMPRODUCT((('Planning general'!$C$2:$C$8=$C$2)*('Planning general'!$D$2:$D$8=C$3)=1)*ROW($A$2:$A$8))-1,MATCH($C$1,'Planning general'!$H$1:$J$1,0))&"/","/","#",ROW(5:5)))+1,FIND("#",SUBSTITUTE("/"&INDEX('Planning general'!$H$2:$J$8,SUMPRODUCT((('Planning general'!$C$2:$C$8=$C$2)*('Planning general'!$D$2:$D$8=C$3)=1)*ROW($A$2:$A$8))-1,MATCH($C$1,'Planning general'!$H$1:$J$1,0))&"/","/","#",ROW(6:6)))-FIND("#",SUBSTITUTE("/"&INDEX('Planning general'!$H$2:$J$8,SUMPRODUCT((('Planning general'!$C$2:$C$8=$C$2)*('Planning general'!$D$2:$D$8=C$3)=1)*ROW($A$2:$A$8))-1,MATCH($C$1,'Planning general'!$H$1:$J$1,0))&"/","/","#",ROW(5:5)))-1),"rien d'autre")} -> rien d'autre | D8: {=IFERROR(MID("/"&INDEX('Planning general'!$H$2:$J$8,SUMPRODUCT((('Planning general'!$C$2:$C$8=$C$2)*('Planning general'!$D$2:$D$8=D$3)=1)*ROW($A$2:$A$8))-1,MATCH($C$1,'Planning general'!$H$1:$J$1,0))&"/",FIND("#",SUBSTITUTE("/"&INDEX('Planning general'!$H$2:$J$8,SUMPRODUCT((('Planning general'!$C$2:$C$8=$C$2)*('Planning general'!$D$2:$D$8=D$3)=1)*ROW($A$2:$A$8))-1,MATCH($C$1,'Planning general'!$H$1:$J$1,0))&"/","/","#",ROW(5:5)))+1,FIND("#",SUBSTITUTE("/"&INDEX('Planning general'!$H$2:$J$8,SUMPRODUCT((('Planning general'!$C$2:$C$8=$C$2)*('Planning general'!$D$2:$D$8=D$3)=1)*ROW($A$2:$A$8))-1,MATCH($C$1,'Planning general'!$H$1:$J$1,0))&"/","/","#",ROW(6:6)))-FIND("#",SUBSTITUTE("/"&INDEX('Planning general'!$H$2:$J$8,SUMPRODUCT((('Planning general'!$C$2:$C$8=$C$2)*('Planning general'!$D$2:$D$8=D$3)=1)*ROW($A$2:$A$8))-1,MATCH($C$1,'Planning general'!$H$1:$J$1,0))&"/","/","#",ROW(5:5)))-1),"rien d'autre")} -> DDF | E8: {=IFERROR(MID("/"&INDEX('Planning general'!$H$2:$J$8,SUMPRODUCT((('Planning general'!$C$2:$C$8=$C$2)*('Planning general'!$D$2:$D$8=E$3)=1)*ROW($A$2:$A$8))-1,MATCH($C$1,'Planning general'!$H$1:$J$1,0))&"/",FIND("#",SUBSTITUTE("/"&INDEX('Planning general'!$H$2:$J$8,SUMPRODUCT((('Planning general'!$C$2:$C$8=$C$2)*('Planning general'!$D$2:$D$8=E$3)=1)*ROW($A$2:$A$8))-1,MATCH($C$1,'Planning general'!$H$1:$J$1,0))&"/","/","#",ROW(5:5)))+1,FIND("#",SUBSTITUTE("/"&INDEX('Planning general'!$H$2:$J$8,SUMPRODUCT((('Planning general'!$C$2:$C$8=$C$2)*('Planning general'!$D$2:$D$8=E$3)=1)*ROW($A$2:$A$8))-1,MATCH($C$1,'Planning general'!$H$1:$J$1,0))&"/","/","#",ROW(6:6)))-FIND("#",SUBSTITUTE("/"&INDEX('Planning general'!$H$2:$J$8,SUMPRODUCT((('Planning general'!$C$2:$C$8=$C$2)*('Planning general'!$D$2:$D$8=E$3)=1)*ROW($A$2:$A$8))-1,MATCH($C$1,'Planning general'!$H$1:$J$1,0))&"/","/","#",ROW(5:5)))-1),"rien d'autre")} -> rien d'autre | F8: {=IFERROR(MID("/"&INDEX('Planning general'!$H$2:$J$8,SUMPRODUCT((('Planning general'!$C$2:$C$8=$C$2)*('Planning general'!$D$2:$D$8=F$3)=1)*ROW($A$2:$A$8))-1,MATCH($C$1,'Planning general'!$H$1:$J$1,0))&"/",FIND("#",SUBSTITUTE("/"&INDEX('Planning general'!$H$2:$J$8,SUMPRODUCT((('Planning general'!$C$2:$C$8=$C$2)*('Planning general'!$D$2:$D$8=F$3)=1)*ROW($A$2:$A$8))-1,MATCH($C$1,'Planning general'!$H$1:$J$1,0))&"/","/","#",ROW(5:5)))+1,FIND("#",SUBSTITUTE("/"&INDEX('Planning general'!$H$2:$J$8,SUMPRODUCT((('Planning general'!$C$2:$C$8=$C$2)*('Planning general'!$D$2:$D$8=F$3)=1)*ROW($A$2:$A$8))-1,MATCH($C$1,'Planning general'!$H$1:$J$1,0))&"/","/","#",ROW(6:6)))-FIND("#",SUBSTITUTE("/"&INDEX('Planning general'!$H$2:$J$8,SUMPRODUCT((('Planning general'!$C$2:$C$8=$C$2)*('Planning general'!$D$2:$D$8=F$3)=1)*ROW($A$2:$A$8))-1,MATCH($C$1,'Planning general'!$H$1:$J$1,0))&"/","/","#",ROW(5:5)))-1),"rien d'autre")} -> rien d'autre
A9: 6 | B9: {=IFERROR(MID("/"&INDEX('Planning general'!$H$2:$J$8,SUMPRODUCT((('Planning general'!$C$2:$C$8=$C$2)*('Planning general'!$D$2:$D$8=B$3)=1)*ROW($A$2:$A$8))-1,MATCH($C$1,'Planning general'!$H$1:$J$1,0))&"/",FIND("#",SUBSTITUTE("/"&INDEX('Planning general'!$H$2:$J$8,SUMPRODUCT((('Planning general'!$C$2:$C$8=$C$2)*('Planning general'!$D$2:$D$8=B$3)=1)*ROW($A$2:$A$8))-1,MATCH($C$1,'Planning general'!$H$1:$J$1,0))&"/","/","#",ROW(6:6)))+1,FIND("#",SUBSTITUTE("/"&INDEX('Planning general'!$H$2:$J$8,SUMPRODUCT((('Planning general'!$C$2:$C$8=$C$2)*('Planning general'!$D$2:$D$8=B$3)=1)*ROW($A$2:$A$8))-1,MATCH($C$1,'Planning general'!$H$1:$J$1,0))&"/","/","#",ROW(7:7)))-FIND("#",SUBSTITUTE("/"&INDEX('Planning general'!$H$2:$J$8,SUMPRODUCT((('Planning general'!$C$2:$C$8=$C$2)*('Planning general'!$D$2:$D$8=B$3)=1)*ROW($A$2:$A$8))-1,MATCH($C$1,'Planning general'!$H$1:$J$1,0))&"/","/","#",ROW(6:6)))-1),"rien d'autre")} -> rien d'autre | C9: {=IFERROR(MID("/"&INDEX('Planning general'!$H$2:$J$8,SUMPRODUCT((('Planning general'!$C$2:$C$8=$C$2)*('Planning general'!$D$2:$D$8=C$3)=1)*ROW($A$2:$A$8))-1,MATCH($C$1,'Planning general'!$H$1:$J$1,0))&"/",FIND("#",SUBSTITUTE("/"&INDEX('Planning general'!$H$2:$J$8,SUMPRODUCT((('Planning general'!$C$2:$C$8=$C$2)*('Planning general'!$D$2:$D$8=C$3)=1)*ROW($A$2:$A$8))-1,MATCH($C$1,'Planning general'!$H$1:$J$1,0))&"/","/","#",ROW(6:6)))+1,FIND("#",SUBSTITUTE("/"&INDEX('Planning general'!$H$2:$J$8,SUMPRODUCT((('Planning general'!$C$2:$C$8=$C$2)*('Planning general'!$D$2:$D$8=C$3)=1)*ROW($A$2:$A$8))-1,MATCH($C$1,'Planning general'!$H$1:$J$1,0))&"/","/","#",ROW(7:7)))-FIND("#",SUBSTITUTE("/"&INDEX('Planning general'!$H$2:$J$8,SUMPRODUCT((('Planning general'!$C$2:$C$8=$C$2)*('Planning general'!$D$2:$D$8=C$3)=1)*ROW($A$2:$A$8))-1,MATCH($C$1,'Planning general'!$H$1:$J$1,0))&"/","/","#",ROW(6:6)))-1),"rien d'autre")} -> rien d'autre | D9: {=IFERROR(MID("/"&INDEX('Planning general'!$H$2:$J$8,SUMPRODUCT((('Planning general'!$C$2:$C$8=$C$2)*('Planning general'!$D$2:$D$8=D$3)=1)*ROW($A$2:$A$8))-1,MATCH($C$1,'Planning general'!$H$1:$J$1,0))&"/",FIND("#",SUBSTITUTE("/"&INDEX('Planning general'!$H$2:$J$8,SUMPRODUCT((('Planning general'!$C$2:$C$8=$C$2)*('Planning general'!$D$2:$D$8=D$3)=1)*ROW($A$2:$A$8))-1,MATCH($C$1,'Planning general'!$H$1:$J$1,0))&"/","/","#",ROW(6:6)))+1,FIND("#",SUBSTITUTE("/"&INDEX('Planning general'!$H$2:$J$8,SUMPRODUCT((('Planning general'!$C$2:$C$8=$C$2)*('Planning general'!$D$2:$D$8=D$3)=1)*ROW($A$2:$A$8))-1,MATCH($C$1,'Planning general'!$H$1:$J$1,0))&"/","/","#",ROW(7:7)))-FIND("#",SUBSTITUTE("/"&INDEX('Planning general'!$H$2:$J$8,SUMPRODUCT((('Planning general'!$C$2:$C$8=$C$2)*('Planning general'!$D$2:$D$8=D$3)=1)*ROW($A$2:$A$8))-1,MATCH($C$1,'Planning general'!$H$1:$J$1,0))&"/","/","#",ROW(6:6)))-1),"rien d'autre")} -> rien d'autre | E9: {=IFERROR(MID("/"&INDEX('Planning general'!$H$2:$J$8,SUMPRODUCT((('Planning general'!$C$2:$C$8=$C$2)*('Planning general'!$D$2:$D$8=E$3)=1)*ROW($A$2:$A$8))-1,MATCH($C$1,'Planning general'!$H$1:$J$1,0))&"/",FIND("#",SUBSTITUTE("/"&INDEX('Planning general'!$H$2:$J$8,SUMPRODUCT((('Planning general'!$C$2:$C$8=$C$2)*('Planning general'!$D$2:$D$8=E$3)=1)*ROW($A$2:$A$8))-1,MATCH($C$1,'Planning general'!$H$1:$J$1,0))&"/","/","#",ROW(6:6)))+1,FIND("#",SUBSTITUTE("/"&INDEX('Planning general'!$H$2:$J$8,SUMPRODUCT((('Planning general'!$C$2:$C$8=$C$2)*('Planning general'!$D$2:$D$8=E$3)=1)*ROW($A$2:$A$8))-1,MATCH($C$1,'Planning general'!$H$1:$J$1,0))&"/","/","#",ROW(7:7)))-FIND("#",SUBSTITUTE("/"&INDEX('Planning general'!$H$2:$J$8,SUMPRODUCT((('Planning general'!$C$2:$C$8=$C$2)*('Planning general'!$D$2:$D$8=E$3)=1)*ROW($A$2:$A$8))-1,MATCH($C$1,'Planning general'!$H$1:$J$1,0))&"/","/","#",ROW(6:6)))-1),"rien d'autre")} -> rien d'autre | F9: {=IFERROR(MID("/"&INDEX('Planning general'!$H$2:$J$8,SUMPRODUCT((('Planning general'!$C$2:$C$8=$C$2)*('Planning general'!$D$2:$D$8=F$3)=1)*ROW($A$2:$A$8))-1,MATCH($C$1,'Planning general'!$H$1:$J$1,0))&"/",FIND("#",SUBSTITUTE("/"&INDEX('Planning general'!$H$2:$J$8,SUMPRODUCT((('Planning general'!$C$2:$C$8=$C$2)*('Planning general'!$D$2:$D$8=F$3)=1)*ROW($A$2:$A$8))-1,MATCH($C$1,'Planning general'!$H$1:$J$1,0))&"/","/","#",ROW(6:6)))+1,FIND("#",SUBSTITUTE("/"&INDEX('Planning general'!$H$2:$J$8,SUMPRODUCT((('Planning general'!$C$2:$C$8=$C$2)*('Planning general'!$D$2:$D$8=F$3)=1)*ROW($A$2:$A$8))-1,MATCH($C$1,'Planning general'!$H$1:$J$1,0))&"/","/","#",ROW(7:7)))-FIND("#",SUBSTITUTE("/"&INDEX('Planning general'!$H$2:$J$8,SUMPRODUCT((('Planning general'!$C$2:$C$8=$C$2)*('Planning general'!$D$2:$D$8=F$3)=1)*ROW($A$2:$A$8))-1,MATCH($C$1,'Planning general'!$H$1:$J$1,0))&"/","/","#",ROW(6:6)))-1),"rien d'autre")} -> rien d'autre
