Workbook

Sheet Suivi global
A1: Région | B1: Analytique | C1: Agence / magasin | D1: Total aide reçu contrat en cours | E1: Total aide reçu 2021 | F1: Total aide reçu 2022 | G1: Total aide reçu 2023 | H1: Total aide reçu 2024 | I1: Total aide reçu 2025 | J1: Total aide reçu 2026 | K1: Total aide reçu 2027 | L1: Total aide reçu 2028 | M1: Total aide reçu 2029
A2: Violet | B2: 536 | D2: =SUMIF('contrat en cours '!B:B,B2,'contrat en cours '!G:G) -> 4166.74
A3: Total | D3: =SUM(D2) -> 4166.74
A5: Jaune | B5: 249 | D5: =SUMIF('contrat en cours '!B:B,B5,'contrat en cours '!G:G) -> 0
B6: 531 | D6: =SUMIF('contrat en cours '!B:B,B6,'contrat en cours '!G:G) -> 8000
B7: 554 | D7: =SUMIF('contrat en cours '!B:B,B7,'contrat en cours '!G:G) -> 2000
B8: 562 | D8: =SUMIF('contrat en cours '!B:B,B8,'contrat en cours '!G:G) -> 0
B9: 753 | D9: =SUMIF('contrat en cours '!B:B,B9,'contrat en cours '!G:G) -> 0
A10: Total | D10: =SUM(D6:D9) -> 10000
A12: Vert | B12: 259 | D12: =SUMIF('contrat en cours '!B:B,B12,'contrat en cours '!G:G) -> 0
B13: 532 | D13: =SUMIF('contrat en cours '!B:B,B13,'contrat en cours '!G:G) -> 1500
B14: 535 | D14: =SUMIF('contrat en cours '!B:B,B14,'contrat en cours '!G:G) -> 1000
B15: 542 | D15: =SUMIF('contrat en cours '!B:B,B15,'contrat en cours '!G:G) -> 0
B16: 551 | D16: =SUMIF('contrat en cours '!B:B,B16,'contrat en cours '!G:G) -> 0
B17: 558 | D17: =SUMIF('contrat en cours '!B:B,B17,'contrat en cours '!G:G) -> 0
B18: 751 | D18: =SUMIF('contrat en cours '!B:B,B18,'contrat en cours '!G:G) -> 0
B19: 752 | D19: =SUMIF('contrat en cours '!B:B,B19,'contrat en cours '!G:G) -> 0
B20: 755 | D20: =SUMIF('contrat en cours '!B:B,B20,'contrat en cours '!G:G) -> 0
B21: 771 | D21: =SUMIF('contrat en cours '!B:B,B21,'contrat en cours '!G:G) -> 0
A22: Total | D22: =SUM(D13:D21) -> 2500
A24: Rose | B24: 289 | D24: =SUMIF('contrat en cours '!B:B,B24,'contrat en cours '!G:G) -> 500
B25: 325 | D25: =SUMIF('contrat en cours '!B:B,B25,'contrat en cours '!G:G) -> 0
B26: 541 | D26: =SUMIF('contrat en cours '!B:B,B26,'contrat en cours '!G:G) -> 6000
B27: 543 | D27: =SUMIF('contrat en cours '!B:B,B27,'contrat en cours '!G:G) -> 0
B28: 548 | D28: =SUMIF('contrat en cours '!B:B,B28,'contrat en cours '!G:G) -> 0
B29: 555 | D29: =SUMIF('contrat en cours '!B:B,B29,'contrat en cours '!G:G) -> 0
B30: 784 | D30: =SUMIF('contrat en cours '!B:B,B30,'contrat en cours '!G:G) -> 0
B31: 793 | D31: =SUMIF('contrat en cours '!B:B,B31,'contrat en cours '!G:G) -> 0
B32: 355 | D32: =SUMIF('contrat en cours '!B:B,B32,'contrat en cours '!G:G) -> 0
B33: 356 | D33: =SUMIF('contrat en cours '!B:B,B33,'contrat en cours '!G:G) -> 0
B34: 5001 | D34: =SUMIF('contrat en cours '!B:B,B34,'contrat en cours '!G:G) -> 0
A35: Total | D35: =SUM(D25:D34) -> 6000
A37: Rouge | B37: 290 | D37: =SUMIF('contrat en cours '!B:B,B37,'contrat en cours '!G:G) -> 1700
B38: 765 | D38: =SUMIF('contrat en cours '!B:B,B38,'contrat en cours '!G:G) -> 0
B39: 766 | D39: =SUMIF('contrat en cours '!B:B,B39,'contrat en cours '!G:G) -> 0
B40: 775 | D40: =SUMIF('contrat en cours '!B:B,B40,'contrat en cours '!G:G) -> 0
B41: 778 | D41: =SUMIF('contrat en cours '!B:B,B41,'contrat en cours '!G:G) -> 0
B42: 795 | D42: =SUMIF('contrat en cours '!B:B,B42,'contrat en cours '!G:G) -> 0
B43: 813 | D43: =SUMIF('contrat en cours '!B:B,B43,'contrat en cours '!G:G) -> 0
B44: 824 | D44: =SUMIF('contrat en cours '!B:B,B44,'contrat en cours '!G:G) -> 0
...

Sheet contrat en cours 
A1: Région | B1: Agence / magasin | C1: Nom | D1: Prénom | E1: Date Début contrat | F1: Date fin contrat | G1: Total aides recues | H1: AIDE RECU
H2: M+0 | I2: M+1 | J2: M+2 | K2: M+3 | L2: M+4 | M2: M+5 | N2: M+6 | O2: M+7 | P2: M+8 | Q2: M+9 | R2: M+10 | S2: M+11 | T2: M+12 | U2: M+13 | V2: M+14 | W2: M+15 | X2: M+16 | Y2: M+17 | Z2: M+18 | AA2: M+19 | AB2: M+20 | AC2: M+21 | AD2: M+22 | AE2: M+23 | AF2: M+24 | AG2: M+25 | AH2: M+26 | AI2: M+27 | AJ2: M+28 | AK2: M+29 | AL2: M+30 | AM2: M+31 | AN2: M+32 | AO2: M+33 | AP2: M+34 | AQ2: M+35 | AR2: M+36
B3: 249 | E3: 44809.083 | G3: =SUM(H4:YL4) -> 0 | H3: =EDATE($E3,RIGHT(H$2,LEN(H$2)-2)) -> 44809 | I3: =EDATE($E3,RIGHT(I$2,LEN(I$2)-2)) -> 44839 | J3: =EDATE($E3,RIGHT(J$2,LEN(J$2)-2)) -> 44870 | K3: =EDATE($E3,RIGHT(K$2,LEN(K$2)-2)) -> 44900 | L3: =EDATE($E3,RIGHT(L$2,LEN(L$2)-2)) -> 44931 | M3: =EDATE($E3,RIGHT(M$2,LEN(M$2)-2)) -> 44962 | N3: =EDATE($E3,RIGHT(N$2,LEN(N$2)-2)) -> 44990 | O3: =EDATE($E3,RIGHT(O$2,LEN(O$2)-2)) -> 45021 | ... AF3: =EDATE($E3,RIGHT(AF$2,LEN(AF$2)-2)) -> 45540
B5: 531 | E5: 45139.083 | G5: =SUM(H6:YL6) -> 2000 | H5: =EDATE($E5,RIGHT(H$2,LEN(H$2)-2)) -> 45139 | I5: =EDATE($E5,RIGHT(I$2,LEN(I$2)-2)) -> 45170 | J5: =EDATE($E5,RIGHT(J$2,LEN(J$2)-2)) -> 45200 | K5: =EDATE($E5,RIGHT(K$2,LEN(K$2)-2)) -> 45231 | L5: =EDATE($E5,RIGHT(L$2,LEN(L$2)-2)) -> 45261 | M5: =EDATE($E5,RIGHT(M$2,LEN(M$2)-2)) -> 45292 | N5: =EDATE($E5,RIGHT(N$2,LEN(N$2)-2)) -> 45323 | O5: =EDATE($E5,RIGHT(O$2,LEN(O$2)-2)) -> 45352 | ... AF5: =EDATE($E5,RIGHT(AF$2,LEN(AF$2)-2)) -> 45870
H6: 500 | I6: 500 | J6: 500 | L6: 500
B7: 531 | E7: 44440.083 | G7: =SUM(H8:YL8) -> 2500 | H7: =EDATE($E7,RIGHT(H$2,LEN(H$2)-2)) -> 44440 | I7: =EDATE($E7,RIGHT(I$2,LEN(I$2)-2)) -> 44470 | J7: =EDATE($E7,RIGHT(J$2,LEN(J$2)-2)) -> 44501 | K7: =EDATE($E7,RIGHT(K$2,LEN(K$2)-2)) -> 44531 | L7: =EDATE($E7,RIGHT(L$2,LEN(L$2)-2)) -> 44562 | M7: =EDATE($E7,RIGHT(M$2,LEN(M$2)-2)) -> 44593 | N7: =EDATE($E7,RIGHT(N$2,LEN(N$2)-2)) -> 44621 | O7: =EDATE($E7,RIGHT(O$2,LEN(O$2)-2)) -> 44652 | ... AR7: =EDATE($E7,RIGHT(AR$2,LEN(AR$2)-2)) -> 45536
AD8: 500 | AE8: 500 | AF8: 500 | AG8: 500 | AI8: 500
B9: 531 | E9: 45108.083 | G9: =SUM(H10:YL10) -> 2000 | H9: =EDATE($E9,RIGHT(H$2,LEN(H$2)-2)) -> 45108 | I9: =EDATE($E9,RIGHT(I$2,LEN(I$2)-2)) -> 45139 | J9: =EDATE($E9,RIGHT(J$2,LEN(J$2)-2)) -> 45170 | K9: =EDATE($E9,RIGHT(K$2,LEN(K$2)-2)) -> 45200 | L9: =EDATE($E9,RIGHT(L$2,LEN(L$2)-2)) -> 45231 | M9: =EDATE($E9,RIGHT(M$2,LEN(M$2)-2)) -> 45261 | N9: =EDATE($E9,RIGHT(N$2,LEN(N$2)-2)) -> 45292 | O9: =EDATE($E9,RIGHT(O$2,LEN(O$2)-2)) -> 45323 | ... AF9: =EDATE($E9,RIGHT(AF$2,LEN(AF$2)-2)) -> 45839
H10: 500 | I10: 500 | J10: 500 | K10: 500
B11: 531 | E11: 45139.083 | G11: =SUM(H12:YL12) -> 1500 | H11: =EDATE($E11,RIGHT(H$2,LEN(H$2)-2)) -> 45139 | I11: =EDATE($E11,RIGHT(I$2,LEN(I$2)-2)) -> 45170 | J11: =EDATE($E11,RIGHT(J$2,LEN(J$2)-2)) -> 45200 | K11: =EDATE($E11,RIGHT(K$2,LEN(K$2)-2)) -> 45231 | L11: =EDATE($E11,RIGHT(L$2,LEN(L$2)-2)) -> 45261 | M11: =EDATE($E11,RIGHT(M$2,LEN(M$2)-2)) -> 45292 | N11: =EDATE($E11,RIGHT(N$2,LEN(N$2)-2)) -> 45323 | O11: =EDATE($E11,RIGHT(O$2,LEN(O$2)-2)) -> 45352 | ... AF11: =EDATE($E11,RIGHT(AF$2,LEN(AF$2)-2)) -> 45870
H12: 500 | I12: 500 | J12: 500
B13: 531 | E13: 45232 | G13: =SUM(H14:YL14) -> 0 | H13: =EDATE($E13,RIGHT(H$2,LEN(H$2)-2)) -> 45232 | I13: =EDATE($E13,RIGHT(I$2,LEN(I$2)-2)) -> 45262 | J13: =EDATE($E13,RIGHT(J$2,LEN(J$2)-2)) -> 45293 | K13: =EDATE($E13,RIGHT(K$2,LEN(K$2)-2)) -> 45324 | L13: =EDATE($E13,RIGHT(L$2,LEN(L$2)-2)) -> 45353 | M13: =EDATE($E13,RIGHT(M$2,LEN(M$2)-2)) -> 45384 | N13: =EDATE($E13,RIGHT(N$2,LEN(N$2)-2)) -> 45414 | O13: =EDATE($E13,RIGHT(O$2,LEN(O$2)-2)) -> 45445 | ... AF13: =EDATE($E13,RIGHT(AF$2,LEN(AF$2)-2)) -> 45963
B15: 554 | E15: 45000.042 | G15: =SUM(H16:YL16) -> 2000 | H15: =EDATE($E15,RIGHT(H$2,LEN(H$2)-2)) -> 45000 | I15: =EDATE($E15,RIGHT(I$2,LEN(I$2)-2)) -> 45031 | J15: =EDATE($E15,RIGHT(J$2,LEN(J$2)-2)) -> 45061 | K15: =EDATE($E15,RIGHT(K$2,LEN(K$2)-2)) -> 45092 | L15: =EDATE($E15,RIGHT(L$2,LEN(L$2)-2)) -> 45122 | M15: =EDATE($E15,RIGHT(M$2,LEN(M$2)-2)) -> 45153 | N15: =EDATE($E15,RIGHT(N$2,LEN(N$2)-2)) -> 45184 | O15: =EDATE($E15,RIGHT(O$2,LEN(O$2)-2)) -> 45214 | ... AF15: =EDATE($E15,RIGHT(AF$2,LEN(AF$2)-2)) -> 45731
N16: 500 | O16: 500 | P16: 500 | Q16: 500
B17: 562 | E17: 43710.083 | G17: =SUM(H18:YL18) -> 0 | H17: =EDATE($E17,RIGHT(H$2,LEN(H$2)-2)) -> 43710 | I17: =EDATE($E17,RIGHT(I$2,LEN(I$2)-2)) -> 43740 | J17: =EDATE($E17,RIGHT(J$2,LEN(J$2)-2)) -> 43771 | K17: =EDATE($E17,RIGHT(K$2,LEN(K$2)-2)) -> 43801 | L17: =EDATE($E17,RIGHT(L$2,LEN(L$2)-2)) -> 43832 | M17: =EDATE($E17,RIGHT(M$2,LEN(M$2)-2)) -> 43863 | N17: =EDATE($E17,RIGHT(N$2,LEN(N$2)-2)) -> 43892 | O17: =EDATE($E17,RIGHT(O$2,LEN(O$2)-2)) -> 43923 | ... AF17: =EDATE($E17,RIGHT(AF$2,LEN(AF$2)-2)) -> 44441
B20: 259 | E20: 45173.083 | G20: =SUM(H21:YL21) -> 0 | H20: =EDATE($E20,RIGHT(H$2,LEN(H$2)-2)) -> 45173 | I20: =EDATE($E20,RIGHT(I$2,LEN(I$2)-2)) -> 45203 | J20: =EDATE($E20,RIGHT(J$2,LEN(J$2)-2)) -> 45234 | K20: =EDATE($E20,RIGHT(K$2,LEN(K$2)-2)) -> 45264 | L20: =EDATE($E20,RIGHT(L$2,LEN(L$2)-2)) -> 45295 | M20: =EDATE($E20,RIGHT(M$2,LEN(M$2)-2)) -> 45326 | N20: =EDATE($E20,RIGHT(N$2,LEN(N$2)-2)) -> 45355 | O20: =EDATE($E20,RIGHT(O$2,LEN(O$2)-2)) -> 45386 | ... AF20: =EDATE($E20,RIGHT(AF$2,LEN(AF$2)-2)) -> 45904
B22: 532 | E22: 45173.083 | G22: =SUM(H23:YL23) -> 1500 | H22: =EDATE($E22,RIGHT(H$2,LEN(H$2)-2)) -> 45173 | I22: =EDATE($E22,RIGHT(I$2,LEN(I$2)-2)) -> 45203 | J22: =EDATE($E22,RIGHT(J$2,LEN(J$2)-2)) -> 45234 | K22: =EDATE($E22,RIGHT(K$2,LEN(K$2)-2)) -> 45264 | L22: =EDATE($E22,RIGHT(L$2,LEN(L$2)-2)) -> 45295 | M22: =EDATE($E22,RIGHT(M$2,LEN(M$2)-2)) -> 45326 | N22: =EDATE($E22,RIGHT(N$2,LEN(N$2)-2)) -> 45355 | O22: =EDATE($E22,RIGHT(O$2,LEN(O$2)-2)) -> 45386 | ... AF22: =EDATE($E22,RIGHT(AF$2,LEN(AF$2)-2)) -> 45904
H23: 500 | I23: 500 | K23: 500
B24: 535 | E24: 45173.083 | G24: =SUM(H25:YL25) -> 1000 | H24: =EDATE($E24,RIGHT(H$2,LEN(H$2)-2)) -> 45173 | I24: =EDATE($E24,RIGHT(I$2,LEN(I$2)-2)) -> 45203 | J24: =EDATE($E24,RIGHT(J$2,LEN(J$2)-2)) -> 45234 | K24: =EDATE($E24,RIGHT(K$2,LEN(K$2)-2)) -> 45264 | L24: =EDATE($E24,RIGHT(L$2,LEN(L$2)-2)) -> 45295 | M24: =EDATE($E24,RIGHT(M$2,LEN(M$2)-2)) -> 45326 | N24: =EDATE($E24,RIGHT(N$2,LEN(N$2)-2)) -> 45355 | O24: =EDATE($E24,RIGHT(O$2,LEN(O$2)-2)) -> 45386 | ... AF24: =EDATE($E24,RIGHT(AF$2,LEN(AF$2)-2)) -> 45904
H25: 500 | I25: 500
B26: 551 | E26: 44809.083 | G26: =SUM(H27:YL27) -> 0 | H26: =EDATE($E26,RIGHT(H$2,LEN(H$2)-2)) -> 44809 | I26: =EDATE($E26,RIGHT(I$2,LEN(I$2)-2)) -> 44839 | J26: =EDATE($E26,RIGHT(J$2,LEN(J$2)-2)) -> 44870 | K26: =EDATE($E26,RIGHT(K$2,LEN(K$2)-2)) -> 44900 | L26: =EDATE($E26,RIGHT(L$2,LEN(L$2)-2)) -> 44931 | M26: =EDATE($E26,RIGHT(M$2,LEN(M$2)-2)) -> 44962 | N26: =EDATE($E26,RIGHT(N$2,LEN(N$2)-2)) -> 44990 | O26: =EDATE($E26,RIGHT(O$2,LEN(O$2)-2)) -> 45021 | ... AF26: =EDATE($E26,RIGHT(AF$2,LEN(AF$2)-2)) -> 45540
B28: 771 | E28: 44823.083 | G28: =SUM(H29:YL29) -> 0 | H28: =EDATE($E28,RIGHT(H$2,LEN(H$2)-2)) -> 44823 | I28: =EDATE($E28,RIGHT(I$2,LEN(I$2)-2)) -> 44853 | J28: =EDATE($E28,RIGHT(J$2,LEN(J$2)-2)) -> 44884 | K28: =EDATE($E28,RIGHT(K$2,LEN(K$2)-2)) -> 44914 | L28: =EDATE($E28,RIGHT(L$2,LEN(L$2)-2)) -> 44945 | M28: =EDATE($E28,RIGHT(M$2,LEN(M$2)-2)) -> 44976 | N28: =EDATE($E28,RIGHT(N$2,LEN(N$2)-2)) -> 45004 | O28: =EDATE($E28,RIGHT(O$2,LEN(O$2)-2)) -> 45035 | ... AF28: =EDATE($E28,RIGHT(AF$2,LEN(AF$2)-2)) -> 45554
B31: 289 | E31: 45170 | G31: =SUM(H32:YL32) -> 500 | H31: =EDATE($E31,RIGHT(H$2,LEN(H$2)-2)) -> 45170 | I31: =EDATE($E31,RIGHT(I$2,LEN(I$2)-2)) -> 45200 | J31: =EDATE($E31,RIGHT(J$2,LEN(J$2)-2)) -> 45231 | K31: =EDATE($E31,RIGHT(K$2,LEN(K$2)-2)) -> 45261 | L31: =EDATE($E31,RIGHT(L$2,LEN(L$2)-2)) -> 45292 | M31: =EDATE($E31,RIGHT(M$2,LEN(M$2)-2)) -> 45323 | N31: =EDATE($E31,RIGHT(N$2,LEN(N$2)-2)) -> 45352 | O31: =EDATE($E31,RIGHT(O$2,LEN(O$2)-2)) -> 45383 | ... AF31: =EDATE($E31,RIGHT(AF$2,LEN(AF$2)-2)) -> 45901
I32: 500
B33: 541 | E33: 45170.083 | G33: =SUM(H34:YL34) -> 6000 | H33: =EDATE($E33,RIGHT(H$2,LEN(H$2)-2)) -> 45170 | I33: =EDATE($E33,RIGHT(I$2,LEN(I$2)-2)) -> 45200 | J33: =EDATE($E33,RIGHT(J$2,LEN(J$2)-2)) -> 45231 | K33: =EDATE($E33,RIGHT(K$2,LEN(K$2)-2)) -> 45261 | L33: =EDATE($E33,RIGHT(L$2,LEN(L$2)-2)) -> 45292 | M33: =EDATE($E33,RIGHT(M$2,LEN(M$2)-2)) -> 45323 | N33: =EDATE($E33,RIGHT(N$2,LEN(N$2)-2)) -> 45352 | O33: =EDATE($E33,RIGHT(O$2,LEN(O$2)-2)) -> 45383 | ... AF33: =EDATE($E33,RIGHT(AF$2,LEN(AF$2)-2)) -> 45901
H34: 500 | I34: 500 | J34: 500 | K34: 500 | L34: 500 | M34: 500 | N34: 500 | O34: 500 | P34: 500 | Q34: 500 | R34: 500 | S34: 500
B35: 541 | E35: 44809.083 | G35: =SUM(H36:YL36) -> 0 | H35: =EDATE($E35,RIGHT(H$2,LEN(H$2)-2)) -> 44809 | I35: =EDATE($E35,RIGHT(I$2,LEN(I$2)-2)) -> 44839 | J35: =EDATE($E35,RIGHT(J$2,LEN(J$2)-2)) -> 44870 | K35: =EDATE($E35,RIGHT(K$2,LEN(K$2)-2)) -> 44900 | L35: =EDATE($E35,RIGHT(L$2,LEN(L$2)-2)) -> 44931 | M35: =EDATE($E35,RIGHT(M$2,LEN(M$2)-2)) -> 44962 | N35: =EDATE($E35,RIGHT(N$2,LEN(N$2)-2)) -> 44990 | O35: =EDATE($E35,RIGHT(O$2,LEN(O$2)-2)) -> 45021 | ... AF35: =EDATE($E35,RIGHT(AF$2,LEN(AF$2)-2)) -> 45540
B37: 543 | E37: 45170.083 | G37: =SUM(H38:YL38) -> 0 | H37: =EDATE($E37,RIGHT(H$2,LEN(H$2)-2)) -> 45170 | I37: =EDATE($E37,RIGHT(I$2,LEN(I$2)-2)) -> 45200 | J37: =EDATE($E37,RIGHT(J$2,LEN(J$2)-2)) -> 45231 | K37: =EDATE($E37,RIGHT(K$2,LEN(K$2)-2)) -> 45261 | L37: =EDATE($E37,RIGHT(L$2,LEN(L$2)-2)) -> 45292 | M37: =EDATE($E37,RIGHT(M$2,LEN(M$2)-2)) -> 45323 | N37: =EDATE($E37,RIGHT(N$2,LEN(N$2)-2)) -> 45352 | O37: =EDATE($E37,RIGHT(O$2,LEN(O$2)-2)) -> 45383 | ... AF37: =EDATE($E37,RIGHT(AF$2,LEN(AF$2)-2)) -> 45901
B39: 555 | E39: 45170.083 | G39: =SUM(H40:YL40) -> 0 | H39: =EDATE($E39,RIGHT(H$2,LEN(H$2)-2)) -> 45170 | I39: =EDATE($E39,RIGHT(I$2,LEN(I$2)-2)) -> 45200 | J39: =EDATE($E39,RIGHT(J$2,LEN(J$2)-2)) -> 45231 | K39: =EDATE($E39,RIGHT(K$2,LEN(K$2)-2)) -> 45261 | L39: =EDATE($E39,RIGHT(L$2,LEN(L$2)-2)) -> 45292 | M39: =EDATE($E39,RIGHT(M$2,LEN(M$2)-2)) -> 45323 | N39: =EDATE($E39,RIGHT(N$2,LEN(N$2)-2)) -> 45352 | O39: =EDATE($E39,RIGHT(O$2,LEN(O$2)-2)) -> 45383 | ... AF39: =EDATE($E39,RIGHT(AF$2,LEN(AF$2)-2)) -> 45901
B41: 784 | E41: 44809.083 | G41: =SUM(H42:YL42) -> 0 | H41: =EDATE($E41,RIGHT(H$2,LEN(H$2)-2)) -> 44809 | I41: =EDATE($E41,RIGHT(I$2,LEN(I$2)-2)) -> 44839 | J41: =EDATE($E41,RIGHT(J$2,LEN(J$2)-2)) -> 44870 | K41: =EDATE($E41,RIGHT(K$2,LEN(K$2)-2)) -> 44900 | L41: =EDATE($E41,RIGHT(L$2,LEN(L$2)-2)) -> 44931 | M41: =EDATE($E41,RIGHT(M$2,LEN(M$2)-2)) -> 44962 | N41: =EDATE($E41,RIGHT(N$2,LEN(N$2)-2)) -> 44990 | O41: =EDATE($E41,RIGHT(O$2,LEN(O$2)-2)) -> 45021 | ... AF41: =EDATE($E41,RIGHT(AF$2,LEN(AF$2)-2)) -> 45540
B43: 793 | E43: 43710.083 | G43: =SUM(H44:YL44) -> 0 | H43: =EDATE($E43,RIGHT(H$2,LEN(H$2)-2)) -> 43710 | I43: =EDATE($E43,RIGHT(I$2,LEN(I$2)-2)) -> 43740 | J43: =EDATE($E43,RIGHT(J$2,LEN(J$2)-2)) -> 43771 | K43: =EDATE($E43,RIGHT(K$2,LEN(K$2)-2)) -> 43801 | L43: =EDATE($E43,RIGHT(L$2,LEN(L$2)-2)) -> 43832 | M43: =EDATE($E43,RIGHT(M$2,LEN(M$2)-2)) -> 43863 | N43: =EDATE($E43,RIGHT(N$2,LEN(N$2)-2)) -> 43892 | O43: =EDATE($E43,RIGHT(O$2,LEN(O$2)-2)) -> 43923 | ... AF43: =EDATE($E43,RIGHT(AF$2,LEN(AF$2)-2)) -> 44441
B45: 793 | E45: 45170.083 | G45: =SUM(H46:YL46) -> 0 | H45: =EDATE($E45,RIGHT(H$2,LEN(H$2)-2)) -> 45170 | I45: =EDATE($E45,RIGHT(I$2,LEN(I$2)-2)) -> 45200 | J45: =EDATE($E45,RIGHT(J$2,LEN(J$2)-2)) -> 45231 | K45: =EDATE($E45,RIGHT(K$2,LEN(K$2)-2)) -> 45261 | L45: =EDATE($E45,RIGHT(L$2,LEN(L$2)-2)) -> 45292 | M45: =EDATE($E45,RIGHT(M$2,LEN(M$2)-2)) -> 45323 | N45: =EDATE($E45,RIGHT(N$2,LEN(N$2)-2)) -> 45352 | O45: =EDATE($E45,RIGHT(O$2,LEN(O$2)-2)) -> 45383 | ... AF45: =EDATE($E45,RIGHT(AF$2,LEN(AF$2)-2)) -> 45901
B48: 536 | E48: 45173.083 | G48: =SUM(H49:YL49) -> 1500 | H48: =EDATE($E48,RIGHT(H$2,LEN(H$2)-2)) -> 45173 | I48: =EDATE($E48,RIGHT(I$2,LEN(I$2)-2)) -> 45203 | J48: =EDATE($E48,RIGHT(J$2,LEN(J$2)-2)) -> 45234 | K48: =EDATE($E48,RIGHT(K$2,LEN(K$2)-2)) -> 45264 | L48: =EDATE($E48,RIGHT(L$2,LEN(L$2)-2)) -> 45295 | M48: =EDATE($E48,RIGHT(M$2,LEN(M$2)-2)) -> 45326 | N48: =EDATE($E48,RIGHT(N$2,LEN(N$2)-2)) -> 45355 | O48: =EDATE($E48,RIGHT(O$2,LEN(O$2)-2)) -> 45386 | ... AF48: =EDATE($E48,RIGHT(AF$2,LEN(AF$2)-2)) -> 45904
H49: 500 | I49: 500 | K49: 500
B50: 536 | E50: 45170.083 | G50: =SUM(H51:YL51) -> 2000 | H50: =EDATE($E50,RIGHT(H$2,LEN(H$2)-2)) -> 45170 | I50: =EDATE($E50,RIGHT(I$2,LEN(I$2)-2)) -> 45200 | J50: =EDATE($E50,RIGHT(J$2,LEN(J$2)-2)) -> 45231 | K50: =EDATE($E50,RIGHT(K$2,LEN(K$2)-2)) -> 45261 | L50: =EDATE($E50,RIGHT(L$2,LEN(L$2)-2)) -> 45292 | M50: =EDATE($E50,RIGHT(M$2,LEN(M$2)-2)) -> 45323 | N50: =EDATE($E50,RIGHT(N$2,LEN(N$2)-2)) -> 45352 | O50: =EDATE($E50,RIGHT(O$2,LEN(O$2)-2)) -> 45383 | ... AF50: =EDATE($E50,RIGHT(AF$2,LEN(AF$2)-2)) -> 45901
H51: 500 | I51: 500 | J51: 500 | K51: 500
B52: 536 | E52: 44839.083 | G52: =SUM(H53:YL53) -> 666.74 | H52: =EDATE($E52,RIGHT(H$2,LEN(H$2)-2)) -> 44839 | I52: =EDATE($E52,RIGHT(I$2,LEN(I$2)-2)) -> 44870 | J52: =EDATE($E52,RIGHT(J$2,LEN(J$2)-2)) -> 44900 | K52: =EDATE($E52,RIGHT(K$2,LEN(K$2)-2)) -> 44931 | L52: =EDATE($E52,RIGHT(L$2,LEN(L$2)-2)) -> 44962 | M52: =EDATE($E52,RIGHT(M$2,LEN(M$2)-2)) -> 44990 | N52: =EDATE($E52,RIGHT(N$2,LEN(N$2)-2)) -> 45021 | O52: =EDATE($E52,RIGHT(O$2,LEN(O$2)-2)) -> 45051 | ... AF52: =EDATE($E52,RIGHT(AF$2,LEN(AF$2)-2)) -> 45570
S53: 666.74
B55: 290 | E55: 45170.083 | G55: =SUM(H56:YL56) -> 0 | H55: =EDATE($E55,RIGHT(H$2,LEN(H$2)-2)) -> 45170 | I55: =EDATE($E55,RIGHT(I$2,LEN(I$2)-2)) -> 45200 | J55: =EDATE($E55,RIGHT(J$2,LEN(J$2)-2)) -> 45231 | K55: =EDATE($E55,RIGHT(K$2,LEN(K$2)-2)) -> 45261 | L55: =EDATE($E55,RIGHT(L$2,LEN(L$2)-2)) -> 45292 | M55: =EDATE($E55,RIGHT(M$2,LEN(M$2)-2)) -> 45323 | N55: =EDATE($E55,RIGHT(N$2,LEN(N$2)-2)) -> 45352 | O55: =EDATE($E55,RIGHT(O$2,LEN(O$2)-2)) -> 45383 | ... AF55: =EDATE($E55,RIGHT(AF$2,LEN(AF$2)-2)) -> 45901
B57: 290 | E57: 45173.083 | G57: =SUM(H58:YL58) -> 1700 | H57: =EDATE($E57,RIGHT(H$2,LEN(H$2)-2)) -> 45173 | I57: =EDATE($E57,RIGHT(I$2,LEN(I$2)-2)) -> 45203 | J57: =EDATE($E57,RIGHT(J$2,LEN(J$2)-2)) -> 45234 | K57: =EDATE($E57,RIGHT(K$2,LEN(K$2)-2)) -> 45264 | L57: =EDATE($E57,RIGHT(L$2,LEN(L$2)-2)) -> 45295 | M57: =EDATE($E57,RIGHT(M$2,LEN(M$2)-2)) -> 45326 | N57: =EDATE($E57,RIGHT(N$2,LEN(N$2)-2)) -> 45355 | O57: =EDATE($E57,RIGHT(O$2,LEN(O$2)-2)) -> 45386 | ... AF57: =EDATE($E57,RIGHT(AF$2,LEN(AF$2)-2)) -> 45904
...
