Workbook

Sheet Liste
B2: EQUIPE | C2: SIGLE | D2: CAPITAINE | E2: JOUEURS | F2: LICENCE
B3: SENS DE BRETAGNE 3 | C3: BIC-3 | D3: Sylvain GICQUEL | E3: AMICE Franck | F3: 7493723
B4: GEVEZE 3 | C4: ASG-3 | D4: Guillaume SIMON | E4: AUZENAT Charlotte | F4: 6752703
B5: ROMILLE 1 | C5: ASR-1 | D5: Tony LEMEUNIER | E5: DELATOUCHE Martin | F5: 7543379
B6: GUIGNEN 4 | C6: USGBAD-4 | D6: Elise ESNAULT | E6: GAY Mallaury | F6: 7286928
B7: MONTREUIL SUR ILLE 2 | C7: BBI-2 | D7: Michel MORIN | E7: LEFAUCONNIER Mattéo | F7: 7188068
B8: MONTAUBAN DE BRETAGNE 4 | C8: OCM-4 | D8: Thierry SERMANT | E8: LEJOSNE Clara | F8: 6577260
B9: REC 6 | C9: REC-6 | D9: Fanny SIMON | E9: LHOTELLIER Allan | F9: 379587
B10: JA ST SERVAN 3 | C10: JASS-3 | D10: Franck AMICE | E10: LINDERER Catherine | F10: 211510
B11: FIB CHAVAGNE 4 | C11: FIB Chavagne-4 | D11: Mickael GIRARD | E11: ROUSSEL Yael | F11: 6958931
B12: LA MEZIERE 1 | C12: TBLM-1 | D12: Guillaume MONTAGNE | E12: SCHUTZ Guillaume | F12: 203181
B13: ST GILLES 3 | C13: USSGBAD-3 | D13: Mickael CHAPON | E13: TO VIET Thiem | F13: 7205911
B14: ST AUBIN 4 | C14: B2CV-4 | D14: Marc LOQUEN

Sheet Feuille Domicile
A1: CHAMPIONNAT INTERCLUBS 35 SENIORS | I1: Divsion | J1: Poule | K1: Journée | M1: Date rencontre | O1: Heure début | P1: Heure fin
A2: Saison 2023/2024 | I2: 5 | J2: D
B3: Equipe à domicile | D3: JA ST SERVAN 3 | G3: Sigle: | H3: {=VLOOKUP(D3,Liste!B3:B14,Liste!C3:C14)} -> #N/A | J3: Equipe à l'extérieur | M3: SENS DE BRETAGNE 3 | P3: Sigle: | Q3: =LOOKUP(M3,Liste!B3:B14,Liste!C3:C14) -> TBLM-1
B5: Joueurs | H5: Résultats | K5: Résultats | M5: Joueurs
B6: Nom et prénom | E6: N° Licence | F6: Class. | G6: Matchs | H6: Sets | I6: Points | J6: Points | K6: Sets | L6: Matchs | M6: Class. | N6: N° Licence | O6: Nom et prénom
A7: S.H.1 | B7: TO VIET Thiem | E7: =LOOKUP(B7,Liste!$E$3:$E$14,Liste!$F$3:$F$14) -> 7205911 | G7: =IF((H7+H8+H9)=2,1,0) -> 0 | H7: =IF((I7-J7)<=0,"0",1) -> 0 | K7: =IF((J7-I7)<=0,"0",1) -> 0 | L7: =IF((K7+K8+K9)=2,1,0) -> 0
H8: =IF((I8-J8)<=0,"0",1) -> 0 | K8: =IF((J8-I8)<=0,"0",1) -> 0
H9: =IF((I9-J9)<=0,"0",1) -> 0 | K9: =IF((J9-I9)<=0,"0",1) -> 0
A10: S.H.2 | B10: SCHUTZ Guillaume | E10: =LOOKUP(B10,Liste!$E$3:$E$14,Liste!$F$3:$F$14) -> 203181 | G10: =IF((H10+H11+H12)=2,1,0) -> 0 | H10: =IF((I10-J10)<=0,"0",1) -> 0 | K10: =IF((J10-I10)<=0,"0",1) -> 0 | L10: =IF((K10+K11+K12)=2,1,0) -> 0
H11: =IF((I11-J11)<=0,"0",1) -> 0 | K11: =IF((J11-I11)<=0,"0",1) -> 0
H12: =IF((I12-J12)<=0,"0",1) -> 0 | K12: =IF((J12-I12)<=0,"0",1) -> 0
A13: S.D.1 | B13: LEJOSNE Clara | E13: =LOOKUP(B13,Liste!$E$3:$E$14,Liste!$F$3:$F$14) -> 6577260 | G13: =IF((H13+H14+H15)=2,1,0) -> 0 | H13: =IF((I13-J13)<=0,"0",1) -> 0 | K13: =IF((J13-I13)<=0,"0",1) -> 0 | L13: =IF((K13+K14+K15)=2,1,0) -> 0
H14: =IF((I14-J14)<=0,"0",1) -> 0 | K14: =IF((J14-I14)<=0,"0",1) -> 0
H15: =IF((I15-J15)<=0,"0",1) -> 0 | K15: =IF((J15-I15)<=0,"0",1) -> 0
A16: D.H. | B16: SCHUTZ Guillaume | E16: =LOOKUP(B16,Liste!$E$3:$E$14,Liste!$F$3:$F$14) -> 203181 | G16: =IF((SUM(H16:H21))=2,1,0) -> 0 | H16: =IF((I16-J16)<=0,"0",1) -> 0 | K16: =IF((J16-I16)<=0,"0",1) -> 0 | L16: =IF((SUM(K16:K21))=2,1,0) -> 0
H18: =IF((I18-J18)<=0,"0",1) -> 0 | K18: =IF((J18-I18)<=0,"0",1) -> 0
B19: AMICE Franck | E19: =LOOKUP(B19,Liste!$E$3:$E$14,Liste!$F$3:$F$14) -> 7493723
H20: =IF((I20-J20)<=0,"0",1) -> 0 | K20: =IF((J20-I20)<=0,"0",1) -> 0
A22: D.D. | B22: LEJOSNE Clara | E22: =LOOKUP(B22,Liste!$E$3:$E$14,Liste!$F$3:$F$14) -> 6577260 | G22: =IF((SUM(H22:H27))=2,1,0) -> 0 | H22: =IF((I22-J22)<=0,"0",1) -> 0 | K22: =IF((J22-I22)<=0,"0",1) -> 0 | L22: =IF((SUM(K22:K27))=2,1,0) -> 0
H24: =IF((I24-J24)<=0,"0",1) -> 0 | K24: =IF((J24-I24)<=0,"0",1) -> 0
B25: GAY Mallaury | E25: =LOOKUP(B25,Liste!$E$3:$E$14,Liste!$F$3:$F$14) -> 7286928
H26: =IF((I26-J26)<=0,"0",1) -> 0 | K26: =IF((J26-I26)<=0,"0",1) -> 0
A28: D.M. 1 | B28: AMICE Franck | E28: =LOOKUP(B28,Liste!$E$3:$E$14,Liste!$F$3:$F$14) -> 7493723 | G28: =IF((SUM(H28:H33))=2,1,0) -> 0 | H28: =IF((I28-J28)<=0,"0",1) -> 0 | K28: =IF((J28-I28)<=0,"0",1) -> 0 | L28: =IF((SUM(K28:K33))=2,1,0) -> 0
H30: =IF((I30-J30)<=0,"0",1) -> 0 | K30: =IF((J30-I30)<=0,"0",1) -> 0
B31: LINDERER Catherine | E31: =LOOKUP(B31,Liste!$E$3:$E$14,Liste!$F$3:$F$14) -> 211510
H32: =IF((I32-J32)<=0,"0",1) -> 0 | K32: =IF((J32-I32)<=0,"0",1) -> 0
A34: D.M. 2 | B34: SCHUTZ Guillaume | E34: =LOOKUP(B34,Liste!$E$3:$E$14,Liste!$F$3:$F$14) -> 203181 | G34: =IF((SUM(H34:H39))=2,1,0) -> 0 | H34: =IF((I34-J34)<=0,"0",1) -> 0 | K34: =IF((J34-I34)<=0,"0",1) -> 0 | L34: =IF((SUM(K34:K39))=2,1,0) -> 0
H36: =IF((I36-J36)<=0,"0",1) -> 0 | K36: =IF((J36-I36)<=0,"0",1) -> 0
B37: GAY Mallaury | E37: =LOOKUP(B37,Liste!$E$3:$E$14,Liste!$F$3:$F$14) -> 7286928
H38: =IF((I38-J38)<=0,"0",1) -> 0 | K38: =IF((J38-I38)<=0,"0",1) -> 0
A40: Nom du Capitaine et signature | F40: Totaux | G40: =IF(SUM(G7:G39)=0," ",SUM(G7:G39)) | H40: =IF(SUM(H7:H39)=0," ",SUM(H7:H39)) | I40: =IF(SUM(I7:I39)=0," ",SUM(I7:I39)) | J40: =IF(SUM(J7:J39)=0," ",SUM(J7:J39)) | K40: =IF(SUM(K7:K39)=0," ",SUM(K7:K39)) | L40: =IF(SUM(L7:L39)=0," ",SUM(L7:L39)) | M40: Totaux | N40: Nom du Capitaine et signature
A41: =LOOKUP(D3,Liste!B3:B14,Liste!D3:D14) -> #N/A | N41: =LOOKUP(M3,Liste!B3:B14,Liste!D3:D14) -> Guillaume MONTAGNE
A43: à retourner par mail sous 48 heures à Olivier EVAIN : oevain@gmail.com
