Workbook

Sheet Grille
G3: Note * | I3: Hors sujet (x) | J3: Sous- moy | K3: Moy | M3: Justifiez si noté 1 ou 2 | N3: Pistes d'améliorations au vu de l'analyse
B4: Item 1
B5: ….................... | I5: x | J5: =SUM(G5:H8)/(COUNT(G5:H8)-COUNTIF(G5:H8,"=0")) -> 1 | K5: =(J5+J9+J12)/3 -> #DIV/0!
B6: …....................
B7: ….................... | G7: 1
B8: …....................
B9: ….................... | J9: =SUM(G9:G11)/(COUNT(G9:G11)-COUNTIF(G9:G11,"=0")) -> 1
B10: ….................... | G10: 1
B11: …....................
B12: ….................... | J12: =SUM(G12)/(COUNT(G12)-COUNTIF(G12,"=0")) -> #DIV/0!
G14: Note * | I14: Hors sujet (x) | J14: Sous- moy | K14: Moy | M14: Justifiez si noté 1 ou 2 | N14: Pistes d'améliorations au vu de l'analyse
B15: Item 2
B16: ….................... | G16: 2 | J16: =SUM(G16:H18)/(COUNT(G16:H18)-COUNTIF(G16:H18,"=0")) -> 2 | K16: =(J16+J19+J21)/3 -> 1.6666667
B17: ….................... | I17: x
B18: ….................... | I18: x
B19: ….................... | G19: 1 | J19: =SUM(G19:H20)/(COUNT(G19:H20)-COUNTIF(G19:H20,"=0")) -> 1
B20: ….................... | G20: 1
B21: ….................... | I21: x | J21: =SUM(G21:H22)/(COUNT(G21:H22)-COUNTIF(G21:H22,"=0")) -> 2
B22: ….................... | G22: 2
G24: Note * | I24: Hors sujet (x) | J24: Sous- moy | K24: Moy | M24: Justifiez si noté 1 ou 2 | N24: Pistes d'améliorations au vu de l'analyse
B25: Item 3
B26: ….................... | I26: x | J26: =SUM(G26:H30)/(COUNT(G26:H30)-COUNTIF(G26:H30,"=0")) -> 1 | K26: =(J26+J31+J33)/3 -> 1
B27: ….................... | I27: x
B28: ….................... | I28: x
B29: ….................... | G29: 1
B30: ….................... | I30: x
B31: ….................... | I31: x | J31: =SUM(G31:H32)/(COUNT(G31:H32)-COUNTIF(G31:H32,"=0")) -> 1
B32: ….................... | G32: 1 | I32: x
B33: ….................... | I33: x | J33: =SUM(G33:H35)/(COUNT(G33:H35)-COUNTIF(G33:H35,"=0")) -> 1
B34: ….................... | G34: 1
B35: ….................... | G35: 1
G37: Note * | I37: Hors sujet (x) | J37: Sous- moy | K37: Moy | M37: Justifiez si noté 1 ou 2 | N37: Pistes d'améliorations au vu de l'analyse
B38: Item 4
B39: ….................... | G39: 1 | J39: =SUM(G39:H40)/(COUNT(G39:H40)-COUNTIF(G39:H40,"=0")) -> 1 | K39: =(J39+J41+J43)/3 -> 1.1666667
B40: ….................... | G40: 1
B41: ….................... | G41: 2 | J41: =SUM(G41:H42)/(COUNT(G41:H42)-COUNTIF(G41:H42,"=0")) -> 1.5
B42: ….................... | G42: 1
B43: ….................... | G43: 1 | I43: x | J43: =SUM(G43)/(COUNT(G43)-COUNTIF(G43,"=0")) -> 1
A47: Item 1 | G47: =K5 -> #DIV/0!
C48: ….................... | G48: =J5 -> 1
C49: ….................... | G49: =J9 -> 1
C50: ….................... | G50: =J12 -> #DIV/0!
A51: Item 2 | G51: =K16 -> 1.6666667
C52: ….................... | G52: =J16 -> 2
C53: ….................... | G53: =J19 -> 1
C54: ….................... | G54: =J21 -> 2
A55: Item 3 | G55: =K26 -> 1
C56: ….................... | G56: =J26 -> 1
C57: ….................... | G57: =J31 -> 1
C58: ….................... | G58: =J33 -> 1
A59: Item 4 | G59: =K39 -> 1.1666667
C60: ….................... | G60: =J39 -> 1
C61: ….................... | G61: =J41 -> 1.5
C62: ….................... | G62: =J43 -> 1

Sheet Feuil1
A3: Item 1
B4: Sous-moy | C4: Moy
A5: ….................... | B5: =Grille!J5 -> 1 | C5: =Grille!K5 -> #DIV/0!
A6: ….................... | B6: =Grille!J9 -> 1 | C6: =Grille!K5 -> #DIV/0!
A7: ….................... | B7: =Grille!J12 -> #DIV/0! | C7: =Grille!K5 -> #DIV/0!
A10: Item 2
B11: Sous-Moy | C11: Moy
A12: ….................... | B12: =Grille!J16 -> 2 | C12: =Grille!K16 -> 1.6666667
A13: ….................... | B13: =Grille!J19 -> 1 | C13: =Grille!K16 -> 1.6666667
A14: ….................... | B14: =Grille!J21 -> 2 | C14: =Grille!K16 -> 1.6666667
A17: Item 3
B18: Sous-Moy | C18: Moy
A19: ….................... | B19: =Grille!J26 -> 1 | C19: =Grille!K26 -> 1
A20: ….................... | B20: =Grille!J31 -> 1 | C20: =Grille!K26 -> 1
A21: ….................... | B21: =Grille!J33 -> 1 | C21: =Grille!K26 -> 1
A25: Item 4
B26: Sous-Moy | C26: Moy
A27: ….................... | B27: =Grille!J39 -> 1 | C27: =Grille!K39 -> 1.1666667
A28: ….................... | B28: =Grille!J41 -> 1.5 | C28: =Grille!K39 -> 1.1666667
A29: ….................... | B29: =Grille!J43 -> 1 | C29: =Grille!K39 -> 1.1666667
A33: Item 1 | B33: =C5 -> #DIV/0!
A34: Item 2 | B34: =C12 -> 1.6666667
A35: Item 3 | B35: =C19 -> 1
A36: Item 4 | B36: =C27 -> 1.1666667
