Workbook

Sheet Inventaire Crétalaison
A1: Motif | B1: Date | C1: =VLOOKUP(C2,Données!$A:$C,2,TRUE) -> Martini | G1: =VLOOKUP(G2,Données!$A:$C,2,TRUE) -> Suze | K1: =VLOOKUP(K2,Données!$A:$C,2,TRUE) -> Trojka | O1: =VLOOKUP(O2,Données!$A:$C,2,TRUE) -> Captain Morgan | S1: =VLOOKUP(S2,Données!$A:$C,2,TRUE) -> Nom article alcool | W1: =VLOOKUP(W2,Données!$A:$C,2,TRUE) -> Nom article alcool | AA1: =VLOOKUP(AA2,Données!$A:$C,2,TRUE) -> Nom article alcool | AE1: =VLOOKUP(AE2,Données!$A:$C,2,TRUE) -> Nom article alcool | AI1: =VLOOKUP(AI2,Données!$A:$C,2,TRUE) -> Nom article alcool | AM1: =VLOOKUP(AM2,Données!$A:$C,2,TRUE) -> Nom article alcool | AQ1: =VLOOKUP(AQ2,Données!$A:$C,2,TRUE) -> Nom article alcool | AU1: =VLOOKUP(AU2,Données!$A:$C,2,TRUE) -> Nom article alcool | AY1: =VLOOKUP(AY2,Données!$A:$C,2,TRUE) -> Nom article alcool | BC1: =VLOOKUP(BC2,Données!$A:$C,2,TRUE) -> Nom article alcool | BG1: =VLOOKUP(BG2,Données!$A:$C,2,TRUE) -> Nom article alcool | BK1: =VLOOKUP(BK2,Données!$A:$C,2,TRUE) -> Nom article alcool | BO1: =VLOOKUP(BO2,Données!$A:$C,2,TRUE) -> Nom article alcool | BS1: =VLOOKUP(BS2,Données!$A:$C,2,TRUE) -> Nom article alcool | BW1: =VLOOKUP(BW2,Données!$A:$C,2,TRUE) -> Nom article alcool | CA1: =VLOOKUP(CA2,Données!$A:$C,2,TRUE) -> Nom article alcool | CE1: =VLOOKUP(CE2,Données!$A:$C,2,TRUE) -> Nom article minérales | CI1: =VLOOKUP(CI2,Données!$A:$C,2,TRUE) -> Nom article minérales | CM1: =VLOOKUP(CM2,Données!$A:$C,2,TRUE) -> Nom article minérales | CQ1: =VLOOKUP(CQ2,Données!$A:$C,2,TRUE) -> Nom article minérales | CU1: =VLOOKUP(CU2,Données!$A:$C,2,TRUE) -> Nom article minérales | CY1: =VLOOKUP(CY2,Données!$A:$C,2,TRUE) -> Nom article minérales | DC1: =VLOOKUP(DC2,Données!$A:$C,2,TRUE) -> Nom article minérales | DG1: =VLOOKUP(DG2,Données!$A:$C,2,TRUE) -> Nom article minérales | DK1: =VLOOKUP(DK2,Données!$A:$C,2,TRUE) -> Nom article minérales | DO1: =VLOOKUP(DO2,Données!$A:$C,2,TRUE) -> Nom article minérales | DS1: =VLOOKUP(DS2,Données!$A:$C,2,TRUE) -> Nom article minérales | DW1: =VLOOKUP(DW2,Données!$A:$C,2,TRUE) -> Nom article minérales | EA1: =VLOOKUP(EA2,Données!$A:$C,2,TRUE) -> Nom article minérales | EE1: =VLOOKUP(EE2,Données!$A:$C,2,TRUE) -> Nom article minérales | EI1: =VLOOKUP(EI2,Données!$A:$C,2,TRUE) -> Nom article minérales | EM1: =VLOOKUP(EM2,Données!$A:$C,2,TRUE) -> Nom article minérales | EQ1: =VLOOKUP(EQ2,Données!$A:$C,2,TRUE) -> Nom article minérales | EU1: =VLOOKUP(EU2,Données!$A:$C,2,TRUE) -> Nom article minérales | EY1: =VLOOKUP(EY2,Données!$A:$C,2,TRUE) -> Nom article minérales | FC1: =VLOOKUP(FC2,Données!$A:$C,2,TRUE) -> Nom article minérales | FG1: =VLOOKUP(FG2,Données!$A:$C,2,TRUE) -> Nom article Nourriture | FK1: =VLOOKUP(FK2,Données!$A:$C,2,TRUE) -> Nom article Nourriture | FO1: =VLOOKUP(FO2,Données!$A:$C,2,TRUE) -> Nom article Nourriture | FS1: =VLOOKUP(FS2,Données!$A:$C,2,TRUE) -> Nom article Nourriture | FW1: =VLOOKUP(FW2,Données!$A:$C,2,TRUE) -> Nom article Nourriture | GA1: =VLOOKUP(GA2,Données!$A:$C,2,TRUE) -> Nom article Nourriture | GE1: =VLOOKUP(GE2,Données!$A:$C,2,TRUE) -> Nom article Nourriture | GI1: =VLOOKUP(GI2,Données!$A:$C,2,TRUE) -> Nom article Nourriture | GM1: =VLOOKUP(GM2,Données!$A:$C,2,TRUE) -> #N/A | GQ1: =VLOOKUP(GQ2,Données!$A:$C,2,TRUE) -> Nom article Nourriture | GU1: =VLOOKUP(GU2,Données!$A:$C,2,TRUE) -> Nom article Nourriture | GY1: =VLOOKUP(GY2,Données!$A:$C,2,TRUE) -> Nom article Nourriture | HC1: =VLOOKUP(HC2,Données!$A:$C,2,TRUE) -> Nom article Nourriture | HG1: =VLOOKUP(HG2,Données!$A:$C,2,TRUE) -> Nom article Nourriture | HK1: =VLOOKUP(HK2,Données!$A:$C,2,TRUE) -> Nom article Nourriture | HO1: =VLOOKUP(HO2,Données!$A:$C,2,TRUE) -> Nom article Nourriture | HS1: =VLOOKUP(HS2,Données!$A:$C,2,TRUE) -> Nom article Nourriture | HW1: =VLOOKUP(HW2,Données!$A:$C,2,TRUE) -> Nom article Nourriture | IA1: =VLOOKUP(IA2,Données!$A:$C,2,TRUE) -> Nom article Nourriture | IE1: =VLOOKUP(IE2,Données!$A:$C,2,TRUE) -> Nom article Nourriture | II1: =VLOOKUP(II2,Données!$A:$C,2,TRUE) -> Nom article Ustensile | IM1: =VLOOKUP(IM2,Données!$A:$C,2,TRUE) -> Nom article Ustensile | IQ1: =VLOOKUP(IQ2,Données!$A:$C,2,TRUE) -> Nom article Ustensile | IU1: =VLOOKUP(IU2,Données!$A:$C,2,TRUE) -> Nom article Ustensile | IY1: =VLOOKUP(IY2,Données!$A:$C,2,TRUE) -> Nom article Ustensile | JC1: =VLOOKUP(JC2,Données!$A:$C,2,TRUE) -> Nom article Ustensile | JG1: =VLOOKUP(JG2,Données!$A:$C,2,TRUE) -> Nom article Ustensile | JK1: =VLOOKUP(JK2,Données!$A:$C,2,TRUE) -> Nom article Ustensile | JO1: =VLOOKUP(JO2,Données!$A:$C,2,TRUE) -> Nom article Ustensile | JS1: =VLOOKUP(JS2,Données!$A:$C,2,TRUE) -> Nom article Ustensile | JW1: =VLOOKUP(JW2,Données!$A:$C,2,TRUE) -> Nom article Ustensile | KA1: =VLOOKUP(KA2,Données!$A:$C,2,TRUE) -> Nom article Ustensile | KE1: =VLOOKUP(KE2,Données!$A:$C,2,TRUE) -> Nom article Ustensile | KI1: =VLOOKUP(KI2,Données!$A:$C,2,TRUE) -> Nom article Ustensile | KM1: =VLOOKUP(KM2,Données!$A:$C,2,TRUE) -> Nom article Ustensile | KQ1: =VLOOKUP(KQ2,Données!$A:$C,2,TRUE) -> Nom article Ustensile | KU1: =VLOOKUP(KU2,Données!$A:$C,2,TRUE) -> Nom article Ustensile | KY1: =VLOOKUP(KY2,Données!$A:$C,2,TRUE) -> Nom article Ustensile | LC1: =VLOOKUP(LC2,Données!$A:$C,2,TRUE) -> Nom article Ustensile | LG1: =VLOOKUP(LG2,Données!$A:$C,2,TRUE) -> Nom article Ustensile | LK1: =VLOOKUP(LK2,Données!$A:$C,2,TRUE) -> Nom article Nettoyage | LO1: =VLOOKUP(LO2,Données!$A:$C,2,TRUE) -> Nom article Nettoyage | LS1: =VLOOKUP(LS2,Données!$A:$C,2,TRUE) -> Nom article Nettoyage | LW1: =VLOOKUP(LW2,Données!$A:$C,2,TRUE) -> Nom article Nettoyage | MA1: =VLOOKUP(MA2,Données!$A:$C,2,TRUE) -> Nom article Nettoyage | ME1: =VLOOKUP(ME2,Données!$A:$C,2,TRUE) -> Nom article Nettoyage | MI1: =VLOOKUP(MI2,Données!$A:$C,2,TRUE) -> Nom article Nettoyage | MM1: =VLOOKUP(MM2,Données!$A:$C,2,TRUE) -> Nom article Nettoyage | MQ1: =VLOOKUP(MQ2,Données!$A:$C,2,TRUE) -> Nom article Nettoyage | MU1: =VLOOKUP(MU2,Données!$A:$C,2,TRUE) -> Nom article Nettoyage | MY1: =VLOOKUP(MY2,Données!$A:$C,2,TRUE) -> Nom article Nettoyage | NC1: =VLOOKUP(NC2,Données!$A:$C,2,TRUE) -> Nom article Nettoyage | NG1: =VLOOKUP(NG2,Données!$A:$C,2,TRUE) -> Nom article Nettoyage | NK1: =VLOOKUP(NK2,Données!$A:$C,2,TRUE) -> Nom article Nettoyage | NO1: =VLOOKUP(NO2,Données!$A:$C,2,TRUE) -> Nom article Nettoyage | NS1: =VLOOKUP(NS2,Données!$A:$C,2,TRUE) -> Nom article Nettoyage | NW1: =VLOOKUP(NW2,Données!$A:$C,2,TRUE) -> Nom article Nettoyage | OA1: =VLOOKUP(OA2,Données!$A:$C,2,TRUE) -> Nom article Nettoyage | OE1: =VLOOKUP(OE2,Données!$A:$C,2,TRUE) -> Nom article Nettoyage | OI1: =VLOOKUP(OI2,Données!$A:$C,2,TRUE) -> Nom article Nettoyage | OM1: =VLOOKUP(OM2,Données!$A:$C,2,TRUE) -> Nom article Autre | OQ1: =VLOOKUP(OQ2,Données!$A:$C,2,TRUE) -> Nom article Autre | OU1: =VLOOKUP(OU2,Données!$A:$C,2,TRUE) -> Nom article Autre | OY1: =VLOOKUP(OY2,Données!$A:$C,2,TRUE) -> Nom article Autre | PC1: =VLOOKUP(PC2,Données!$A:$C,2,TRUE) -> Nom article Autre | PG1: =VLOOKUP(PG2,Données!$A:$C,2,TRUE) -> Nom article Autre | PK1: =VLOOKUP(PK2,Données!$A:$C,2,TRUE) -> Nom article Autre | PO1: =VLOOKUP(PO2,Données!$A:$C,2,TRUE) -> Nom article Autre | PS1: =VLOOKUP(PS2,Données!$A:$C,2,TRUE) -> Nom article Autre | PW1: =VLOOKUP(PW2,Données!$A:$C,2,TRUE) -> Nom article Autre | QA1: =VLOOKUP(QA2,Données!$A:$C,2,TRUE) -> Nom article Autre | QE1: =VLOOKUP(QE2,Données!$A:$C,2,TRUE) -> Nom article Autre | QI1: =VLOOKUP(QI2,Données!$A:$C,2,TRUE) -> Nom article Autre | QM1: =VLOOKUP(QM2,Données!$A:$C,2,TRUE) -> Nom article Autre | QQ1: =VLOOKUP(QQ2,Données!$A:$C,2,TRUE) -> Nom article Autre | QU1: =VLOOKUP(QU2,Données!$A:$C,2,TRUE) -> Nom article Autre | QY1: =VLOOKUP(QY2,Données!$A:$C,2,TRUE) -> Nom article Autre | RC1: =VLOOKUP(RC2,Données!$A:$C,2,TRUE) -> Nom article Autre | RG1: =VLOOKUP(RG2,Données!$A:$C,2,TRUE) -> Nom article Autre | RK1: =VLOOKUP(RK2,Données!$A:$C,2,TRUE) -> Nom article Autre
C2: 101 | G2: 102 | K2: 103 | O2: 104 | S2: 105 | W2: 106 | AA2: 107 | AE2: 108 | AI2: 109 | AM2: 110 | AQ2: 111 | AU2: 112 | AY2: 113 | BC2: 114 | BG2: 115 | BK2: 116 | BO2: 117 | BS2: 118 | BW2: 119 | CA2: 120 | CE2: 201 | CI2: 202 | CM2: 203 | CQ2: 204 | CU2: 205 | CY2: 206 | DC2: 207 | DG2: 208 | DK2: 209 | DO2: 210 | DS2: 211 | DW2: 212 | EA2: 213 | EE2: 214 | EI2: 215 | EM2: 216 | EQ2: 217 | EU2: 218 | EY2: 219 | FC2: 220 | FG2: 301 | FK2: 302 | FO2: 303 | FS2: 304 | FW2: 305 | GA2: 306 | GE2: 307 | GI2: 308 | GM2: $ | GQ2: 310 | GU2: 311 | GY2: 312 | HC2: 313 | HG2: 314 | HK2: 315 | HO2: 316 | HS2: 317 | HW2: 318 | IA2: 319 | IE2: 320 | II2: 401 | IM2: 402 | IQ2: 403 | IU2: 404 | IY2: 405 | JC2: 406 | JG2: 407 | JK2: 408 | JO2: 409 | JS2: 410 | JW2: 411 | KA2: 412 | KE2: 413 | KI2: 414 | KM2: 415 | KQ2: 416 | KU2: 417 | KY2: 418 | LC2: 419 | LG2: 420 | LK2: 501 | LO2: 502 | LS2: 503 | LW2: 504 | MA2: 505 | ME2: 506 | MI2: 507 | MM2: 508 | MQ2: 509 | MU2: 510 | MY2: 511 | NC2: 512 | NG2: 513 | NK2: 514 | NO2: 515 | NS2: 516 | NW2: 517 | OA2: 518 | OE2: 519 | OI2: 520 | OM2: 601 | OQ2: 602 | OU2: 603 | OY2: 604 | PC2: 605 | PG2: 606 | PK2: 607 | PO2: 608 | PS2: 609 | PW2: 610 | QA2: 611 | QE2: 612 | QI2: 613 | QM2: 614 | QQ2: 615 | QU2: 616 | QY2: 617 | RC2: 618 | RG2: 619 | RK2: 620
C3: Entrée | D3: Sortie | E3: Retour | F3: Solde | G3: Entrée | H3: Sortie | I3: Retour | J3: Solde | K3: Entrée | L3: Sortie | M3: Retour | N3: Solde | O3: Entrée | P3: Sortie | Q3: Retour | R3: Solde | S3: Entrée | T3: Sortie | U3: Retour | V3: Solde | W3: Entrée | X3: Sortie | Y3: Retour | Z3: Solde | AA3: Entrée | AB3: Sortie | AC3: Retour | AD3: Solde | AE3: Entrée | AF3: Sortie | AG3: Retour | AH3: Solde | AI3: Entrée | AJ3: Sortie | AK3: Retour | AL3: Solde | AM3: Entrée | AN3: Sortie | AO3: Retour | AP3: Solde | AQ3: Entrée | AR3: Sortie | AS3: Retour | AT3: Solde | AU3: Entrée | AV3: Sortie | AW3: Retour | AX3: Solde | AY3: Entrée | AZ3: Sortie | BA3: Retour | BB3: Solde | BC3: Entrée | BD3: Sortie | BE3: Retour | BF3: Solde | BG3: Entrée | BH3: Sortie | BI3: Retour | BJ3: Solde | BK3: Entrée | BL3: Sortie | BM3: Retour | BN3: Solde | BO3: Entrée | BP3: Sortie | BQ3: Retour | BR3: Solde | BS3: Entrée | BT3: Sortie | BU3: Retour | BV3: Solde | BW3: Entrée | BX3: Sortie | BY3: Retour | BZ3: Solde | CA3: Entrée | CB3: Sortie | CC3: Retour | CD3: Solde | CE3: Entrée | CF3: Sortie | CG3: Retour | CH3: Solde | CI3: Entrée | CJ3: Sortie | CK3: Retour | CL3: Solde | CM3: Entrée | CN3: Sortie | CO3: Retour | CP3: Solde | CQ3: Entrée | CR3: Sortie | CS3: Retour | CT3: Solde | CU3: Entrée | CV3: Sortie | CW3: Retour | CX3: Solde | CY3: Entrée | CZ3: Sortie | DA3: Retour | DB3: Solde | DC3: Entrée | DD3: Sortie | DE3: Retour | DF3: Solde | DG3: Entrée | DH3: Sortie | DI3: Retour | DJ3: Solde | DK3: Entrée | DL3: Sortie | DM3: Retour | DN3: Solde | DO3: Entrée | DP3: Sortie | DQ3: Retour | DR3: Solde | DS3: Entrée | DT3: Sortie | DU3: Retour | DV3: Solde | DW3: Entrée | DX3: Sortie | DY3: Retour | DZ3: Solde | EA3: Entrée | EB3: Sortie | EC3: Retour | ED3: Solde | EE3: Entrée | EF3: Sortie | EG3: Retour | EH3: Solde | EI3: Entrée | EJ3: Sortie | EK3: Retour | EL3: Solde | EM3: Entrée | EN3: Sortie | EO3: Retour | EP3: Solde | EQ3: Entrée | ER3: Sortie | ES3: Retour | ET3: Solde | EU3: Entrée | EV3: Sortie | EW3: Retour | EX3: Solde | EY3: Entrée | EZ3: Sortie | FA3: Retour | FB3: Solde | FC3: Entrée | FD3: Sortie | FE3: Retour | FF3: Solde | FG3: Entrée | FH3: Sortie | FI3: Retour | FJ3: Solde | FK3: Entrée | FL3: Sortie | FM3: Retour | FN3: Solde | FO3: Entrée | FP3: Sortie | FQ3: Retour | FR3: Solde | FS3: Entrée | FT3: Sortie | FU3: Retour | FV3: Solde | FW3: Entrée | FX3: Sortie | FY3: Retour | FZ3: Solde | GA3: Entrée | GB3: Sortie | GC3: Retour | GD3: Solde | GE3: Entrée | GF3: Sortie | GG3: Retour | GH3: Solde | GI3: Entrée | GJ3: Sortie | GK3: Retour | GL3: Solde | GM3: Entrée | GN3: Sortie | GO3: Retour | GP3: Solde | GQ3: Entrée | GR3: Sortie | GS3: Retour | GT3: Solde | GU3: Entrée | GV3: Sortie | GW3: Retour | GX3: Solde | GY3: Entrée | GZ3: Sortie | HA3: Retour | HB3: Solde | HC3: Entrée | HD3: Sortie | HE3: Retour | HF3: Solde | HG3: Entrée | HH3: Sortie | HI3: Retour | HJ3: Solde | HK3: Entrée | HL3: Sortie | HM3: Retour | HN3: Solde | HO3: Entrée | HP3: Sortie | HQ3: Retour | HR3: Solde | HS3: Entrée | HT3: Sortie | HU3: Retour | HV3: Solde | HW3: Entrée | HX3: Sortie | HY3: Retour | HZ3: Solde | IA3: Entrée | IB3: Sortie | IC3: Retour | ID3: Solde | IE3: Entrée | IF3: Sortie | IG3: Retour | IH3: Solde | II3: Entrée | IJ3: Sortie | IK3: Retour | IL3: Solde | IM3: Entrée | IN3: Sortie | IO3: Retour | IP3: Solde | IQ3: Entrée | IR3: Sortie | IS3: Retour | IT3: Solde | IU3: Entrée | IV3: Sortie | IW3: Retour | IX3: Solde | IY3: Entrée | IZ3: Sortie | JA3: Retour | JB3: Solde | JC3: Entrée | JD3: Sortie | JE3: Retour | JF3: Solde | JG3: Entrée | JH3: Sortie | JI3: Retour | JJ3: Solde | JK3: Entrée | JL3: Sortie | JM3: Retour | JN3: Solde | JO3: Entrée | JP3: Sortie | JQ3: Retour | JR3: Solde | JS3: Entrée | JT3: Sortie | JU3: Retour | JV3: Solde | JW3: Entrée | JX3: Sortie | JY3: Retour | JZ3: Solde | KA3: Entrée | KB3: Sortie | KC3: Retour | KD3: Solde | KE3: Entrée | KF3: Sortie | KG3: Retour | KH3: Solde | KI3: Entrée | KJ3: Sortie | KK3: Retour | KL3: Solde | KM3: Entrée | KN3: Sortie | KO3: Retour | KP3: Solde | KQ3: Entrée | KR3: Sortie | KS3: Retour | KT3: Solde | KU3: Entrée | KV3: Sortie | KW3: Retour | KX3: Solde | KY3: Entrée | KZ3: Sortie | LA3: Retour | LB3: Solde | LC3: Entrée | LD3: Sortie | LE3: Retour | LF3: Solde | LG3: Entrée | LH3: Sortie | LI3: Retour | LJ3: Solde | LK3: Entrée | LL3: Sortie | LM3: Retour | LN3: Solde | LO3: Entrée | LP3: Sortie | LQ3: Retour | LR3: Solde | LS3: Entrée | LT3: Sortie | LU3: Retour | LV3: Solde | LW3: Entrée | LX3: Sortie | LY3: Retour | LZ3: Solde | MA3: Entrée | MB3: Sortie | MC3: Retour | MD3: Solde | ME3: Entrée | MF3: Sortie | MG3: Retour | MH3: Solde | MI3: Entrée | MJ3: Sortie | MK3: Retour | ML3: Solde | MM3: Entrée | MN3: Sortie | MO3: Retour | MP3: Solde | MQ3: Entrée | MR3: Sortie | MS3: Retour | MT3: Solde | MU3: Entrée | MV3: Sortie | MW3: Retour | MX3: Solde | MY3: Entrée | MZ3: Sortie | NA3: Retour | NB3: Solde | NC3: Entrée | ND3: Sortie | NE3: Retour | NF3: Solde | NG3: Entrée | NH3: Sortie | NI3: Retour | NJ3: Solde | NK3: Entrée | NL3: Sortie | NM3: Retour | NN3: Solde | NO3: Entrée | NP3: Sortie | NQ3: Retour | NR3: Solde | NS3: Entrée | NT3: Sortie | NU3: Retour | NV3: Solde | NW3: Entrée | NX3: Sortie | NY3: Retour | NZ3: Solde | OA3: Entrée | OB3: Sortie | OC3: Retour | OD3: Solde | OE3: Entrée | OF3: Sortie | OG3: Retour | OH3: Solde | OI3: Entrée | OJ3: Sortie | OK3: Retour | OL3: Solde | OM3: Entrée | ON3: Sortie | OO3: Retour | OP3: Solde | OQ3: Entrée | OR3: Sortie | OS3: Retour | OT3: Solde | OU3: Entrée | OV3: Sortie | OW3: Retour | OX3: Solde | OY3: Entrée | OZ3: Sortie | PA3: Retour | PB3: Solde | PC3: Entrée | PD3: Sortie | PE3: Retour | PF3: Solde | PG3: Entrée | PH3: Sortie | PI3: Retour | PJ3: Solde | PK3: Entrée | PL3: Sortie | PM3: Retour | PN3: Solde | PO3: Entrée | PP3: Sortie | PQ3: Retour | PR3: Solde | PS3: Entrée | PT3: Sortie | PU3: Retour | PV3: Solde | PW3: Entrée | PX3: Sortie | PY3: Retour | PZ3: Solde | QA3: Entrée | QB3: Sortie | QC3: Retour | QD3: Solde | QE3: Entrée | QF3: Sortie | QG3: Retour | QH3: Solde | QI3: Entrée | QJ3: Sortie | QK3: Retour | QL3: Solde | QM3: Entrée | QN3: Sortie | QO3: Retour | QP3: Solde | QQ3: Entrée | QR3: Sortie | QS3: Retour | QT3: Solde | QU3: Entrée | QV3: Sortie | QW3: Retour | QX3: Solde | QY3: Entrée | QZ3: Sortie | RA3: Retour | RB3: Solde | RC3: Entrée | RD3: Sortie | RE3: Retour | RF3: Solde | RG3: Entrée | RH3: Sortie | RI3: Retour | RJ3: Solde | RK3: Entrée | RL3: Sortie | RM3: Retour | RN3: Solde
A4: Inventaire Local | B4: 45647 | C4: =C50 -> 100 | F4: =C4-D4+E4 -> 100 | G4: =G50 -> 80 | J4: =G4-H4+I4 -> 80 | K4: =K50 -> 50 | N4: =K4-L4+M4 -> 50 | O4: =O50 -> 20 | R4: =O4-P4+Q4 -> 20 | S4: =S50 -> 0 | V4: =S4-T4+U4 -> 0 | W4: =W50 -> 0 | Z4: =W4-X4+Y4 -> 0 | AA4: =AA50 -> 0 | AD4: =AA4-AB4+AC4 -> 0 | AE4: =AE50 -> 0 | AH4: =AE4-AF4+AG4 -> 0 | AI4: =AI50 -> 0 | AL4: =AI4-AJ4+AK4 -> 0 | AM4: =AM50 -> 0 | AP4: =AM4-AN4+AO4 -> 0 | AQ4: =AQ50 -> 0 | AT4: =AQ4-AR4+AS4 -> 0 | AU4: =AU50 -> 0 | AX4: =AU4-AV4+AW4 -> 0 | AY4: =AY50 -> 0 | BB4: =AY4-AZ4+BA4 -> 0 | BC4: =BC50 -> 0 | BF4: =BC4-BD4+BE4 -> 0 | BG4: =BG50 -> 0 | BJ4: =BG4-BH4+BI4 -> 0 | BK4: =BK50 -> 0 | BN4: =BK4-BL4+BM4 -> 0 | BO4: =BO50 -> 0 | BR4: =BO4-BP4+BQ4 -> 0 | BS4: =BS50 -> 0 | BV4: =BS4-BT4+BU4 -> 0 | BW4: =BW50 -> 0 | BZ4: =BW4-BX4+BY4 -> 0 | CA4: =CA50 -> 0 | CD4: =CA4-CB4+CC4 -> 0 | CE4: =CE50 -> 0 | CH4: =CE4-CF4+CG4 -> 0 | CI4: =CI50 -> 0 | CL4: =CI4-CJ4+CK4 -> 0 | CM4: =CM50 -> 0 | CP4: =CM4-CN4+CO4 -> 0 | CQ4: =CQ50 -> 0 | CT4: =CQ4-CR4+CS4 -> 0 | CU4: =CU50 -> 0 | CX4: =CU4-CV4+CW4 -> 0 | CY4: =CY50 -> 0 | DB4: =CY4-CZ4+DA4 -> 0 | DC4: =DC50 -> 0 | DF4: =DC4-DD4+DE4 -> 0 | DG4: =DG50 -> 0 | DJ4: =DG4-DH4+DI4 -> 0 | DK4: =DK50 -> 0 | DN4: =DK4-DL4+DM4 -> 0 | DO4: =DO50 -> 0 | DR4: =DO4-DP4+DQ4 -> 0 | DS4: =DS50 -> 0 | DV4: =DS4-DT4+DU4 -> 0 | DW4: =DW50 -> 0 | DZ4: =DW4-DX4+DY4 -> 0 | EA4: =EA50 -> 0 | ED4: =EA4-EB4+EC4 -> 0 | EE4: =EE50 -> 0 | EH4: =EE4-EF4+EG4 -> 0 | EI4: =EI50 -> 0 | EL4: =EI4-EJ4+EK4 -> 0 | EM4: =EM50 -> 0 | EP4: =EM4-EN4+EO4 -> 0 | EQ4: =EQ50 -> 0 | ET4: =EQ4-ER4+ES4 -> 0 | EU4: =EU50 -> 0 | EX4: =EU4-EV4+EW4 -> 0 | EY4: =EY50 -> 0 | FB4: =EY4-EZ4+FA4 -> 0 | FC4: =FC50 -> 0 | FF4: =FC4-FD4+FE4 -> 0 | FG4: =FG50 -> 0 | FJ4: =FG4-FH4+FI4 -> 0 | FK4: =FK50 -> 0 | FN4: =FK4-FL4+FM4 -> 0 | FO4: =FO50 -> 0 | FR4: =FO4-FP4+FQ4 -> 0 | FS4: =FS50 -> 0 | FV4: =FS4-FT4+FU4 -> 0 | FW4: =FW50 -> 0 | FZ4: =FW4-FX4+FY4 -> 0 | GA4: =GA50 -> 0 | GD4: =GA4-GB4+GC4 -> 0 | GE4: =GE50 -> 0 | GH4: =GE4-GF4+GG4 -> 0 | GI4: =GI50 -> 0 | GL4: =GI4-GJ4+GK4 -> 0 | GM4: =GM50 -> #N/A | GP4: =GM4-GN4+GO4 -> #N/A | GQ4: =GQ50 -> 0 | GT4: =GQ4-GR4+GS4 -> 0 | GU4: =GU50 -> 0 | GX4: =GU4-GV4+GW4 -> 0 | GY4: =GY50 -> 0 | HB4: =GY4-GZ4+HA4 -> 0 | HC4: =HC50 -> 0 | HF4: =HC4-HD4+HE4 -> 0 | HG4: =HG50 -> 0 | HJ4: =HG4-HH4+HI4 -> 0 | HK4: =HK50 -> 0 | HN4: =HK4-HL4+HM4 -> 0 | HO4: =HO50 -> 0 | HR4: =HO4-HP4+HQ4 -> 0 | HS4: =HS50 -> 0 | HV4: =HS4-HT4+HU4 -> 0 | HW4: =HW50 -> 0 | HZ4: =HW4-HX4+HY4 -> 0 | IA4: =IA50 -> 0 | ID4: =IA4-IB4+IC4 -> 0 | IE4: =IE50 -> 0 | IH4: =IE4-IF4+IG4 -> 0 | II4: =II50 -> 0 | IL4: =II4-IJ4+IK4 -> 0 | IM4: =IM50 -> 0 | IP4: =IM4-IN4+IO4 -> 0 | IQ4: =IQ50 -> 0 | IT4: =IQ4-IR4+IS4 -> 0 | IU4: =IU50 -> 0 | IX4: =IU4-IV4+IW4 -> 0 | IY4: =IY50 -> 0 | JB4: =IY4-IZ4+JA4 -> 0 | JC4: =JC50 -> 0 | JF4: =JC4-JD4+JE4 -> 0 | JG4: =JG50 -> 0 | JJ4: =JG4-JH4+JI4 -> 0 | JK4: =JK50 -> 0 | JN4: =JK4-JL4+JM4 -> 0 | JO4: =JO50 -> 0 | JR4: =JO4-JP4+JQ4 -> 0 | JS4: =JS50 -> 0 | JV4: =JS4-JT4+JU4 -> 0 | JW4: =JW50 -> 0 | JZ4: =JW4-JX4+JY4 -> 0 | KA4: =KA50 -> 0 | KD4: =KA4-KB4+KC4 -> 0 | KE4: =KE50 -> 0 | KH4: =KE4-KF4+KG4 -> 0 | KI4: =KI50 -> 0 | KL4: =KI4-KJ4+KK4 -> 0 | KM4: =KM50 -> 0 | KP4: =KM4-KN4+KO4 -> 0 | KQ4: =KQ50 -> 0 | KT4: =KQ4-KR4+KS4 -> 0 | KU4: =KU50 -> 0 | KX4: =KU4-KV4+KW4 -> 0 | KY4: =KY50 -> 0 | LB4: =KY4-KZ4+LA4 -> 0 | LC4: =LC50 -> 0 | LF4: =LC4-LD4+LE4 -> 0 | LG4: =LG50 -> 0 | LJ4: =LG4-LH4+LI4 -> 0 | LK4: =LK50 -> 0 | LN4: =LK4-LL4+LM4 -> 0 | LO4: =LO50 -> 0 | LR4: =LO4-LP4+LQ4 -> 0 | LS4: =LS50 -> 0 | LV4: =LS4-LT4+LU4 -> 0 | LW4: =LW50 -> 0 | LZ4: =LW4-LX4+LY4 -> 0 | MA4: =MA50 -> 0 | MD4: =MA4-MB4+MC4 -> 0 | ME4: =ME50 -> 0 | MH4: =ME4-MF4+MG4 -> 0 | MI4: =MI50 -> 0 | ML4: =MI4-MJ4+MK4 -> 0 | MM4: =MM50 -> 0 | MP4: =MM4-MN4+MO4 -> 0 | MQ4: =MQ50 -> 0 | MT4: =MQ4-MR4+MS4 -> 0 | MU4: =MU50 -> 0 | MX4: =MU4-MV4+MW4 -> 0 | MY4: =MY50 -> 0 | NB4: =MY4-MZ4+NA4 -> 0 | NC4: =NC50 -> 0 | NF4: =NC4-ND4+NE4 -> 0 | NG4: =NG50 -> 0 | NJ4: =NG4-NH4+NI4 -> 0 | NK4: =NK50 -> 0 | NN4: =NK4-NL4+NM4 -> 0 | NO4: =NO50 -> 0 | NR4: =NO4-NP4+NQ4 -> 0 | NS4: =NS50 -> 0 | NV4: =NS4-NT4+NU4 -> 0 | NW4: =NW50 -> 0 | NZ4: =NW4-NX4+NY4 -> 0 | OA4: =OA50 -> 0 | OD4: =OA4-OB4+OC4 -> 0 | OE4: =OE50 -> 0 | OH4: =OE4-OF4+OG4 -> 0 | OI4: =OI50 -> 0 | OL4: =OI4-OJ4+OK4 -> 0 | OM4: =OM50 -> 0 | OP4: =OM4-ON4+OO4 -> 0 | OQ4: =OQ50 -> 0 | OT4: =OQ4-OR4+OS4 -> 0 | OU4: =OU50 -> 0 | OX4: =OU4-OV4+OW4 -> 0 | OY4: =OY50 -> 0 | PB4: =OY4-OZ4+PA4 -> 0 | PC4: =PC50 -> 0 | PF4: =PC4-PD4+PE4 -> 0 | PG4: =PG50 -> 0 | PJ4: =PG4-PH4+PI4 -> 0 | PK4: =PK50 -> 0 | PN4: =PK4-PL4+PM4 -> 0 | PO4: =PO50 -> 0 | PR4: =PO4-PP4+PQ4 -> 0 | PS4: =PS50 -> 0 | PV4: =PS4-PT4+PU4 -> 0 | PW4: =PW50 -> 0 | PZ4: =PW4-PX4+PY4 -> 0 | QA4: =QA50 -> 0 | QD4: =QA4-QB4+QC4 -> 0 | QE4: =QE50 -> 0 | QH4: =QE4-QF4+QG4 -> 0 | QI4: =QI50 -> 0 | QL4: =QI4-QJ4+QK4 -> 0 | QM4: =QM50 -> 0 | QP4: =QM4-QN4+QO4 -> 0 | QQ4: =QQ50 -> 0 | QT4: =QQ4-QR4+QS4 -> 0 | QU4: =QU50 -> 0 | QX4: =QU4-QV4+QW4 -> 0 | QY4: =QY50 -> 0 | RB4: =QY4-QZ4+RA4 -> 0 | RC4: =RC50 -> 0 | RF4: =RC4-RD4+RE4 -> 0 | RG4: =RG50 -> 0 | RJ4: =RG4-RH4+RI4 -> 0 | RK4: =RK50 -> 0 | RN4: =RK4-RL4+RM4 -> 0
A5: Sortie Gambas | B5: 45394 | D5: 50 | F5: =F4+C5-D5+E5 -> 50 | H5: 30 | J5: =J4+G5-H5+I5 -> 50 | N5: =N4+K5-L5+M5 -> 50 | P5: 10 | R5: =R4+O5-P5+Q5 -> 10 | V5: =V4+S5-T5+U5 -> 0 | Z5: =Z4+W5-X5+Y5 -> 0 | AD5: =AD4+AA5-AB5+AC5 -> 0 | AH5: =AH4+AE5-AF5+AG5 -> 0 | AL5: =AL4+AI5-AJ5+AK5 -> 0 | AP5: =AP4+AM5-AN5+AO5 -> 0 | AT5: =AT4+AQ5-AR5+AS5 -> 0 | AX5: =AX4+AU5-AV5+AW5 -> 0 | BB5: =BB4+AY5-AZ5+BA5 -> 0 | BF5: =BF4+BC5-BD5+BE5 -> 0 | BJ5: =BJ4+BG5-BH5+BI5 -> 0 | BN5: =BN4+BK5-BL5+BM5 -> 0 | BR5: =BR4+BO5-BP5+BQ5 -> 0 | BV5: =BV4+BS5-BT5+BU5 -> 0 | BZ5: =BZ4+BW5-BX5+BY5 -> 0 | CD5: =CD4+CA5-CB5+CC5 -> 0 | CH5: =CH4+CE5-CF5+CG5 -> 0 | CL5: =CL4+CI5-CJ5+CK5 -> 0 | CP5: =CP4+CM5-CN5+CO5 -> 0 | CT5: =CT4+CQ5-CR5+CS5 -> 0 | CX5: =CX4+CU5-CV5+CW5 -> 0 | DB5: =DB4+CY5-CZ5+DA5 -> 0 | DF5: =DF4+DC5-DD5+DE5 -> 0 | DJ5: =DJ4+DG5-DH5+DI5 -> 0 | DN5: =DN4+DK5-DL5+DM5 -> 0 | DR5: =DR4+DO5-DP5+DQ5 -> 0 | DV5: =DV4+DS5-DT5+DU5 -> 0 | DZ5: =DZ4+DW5-DX5+DY5 -> 0 | ED5: =ED4+EA5-EB5+EC5 -> 0 | EH5: =EH4+EE5-EF5+EG5 -> 0 | EL5: =EL4+EI5-EJ5+EK5 -> 0 | EP5: =EP4+EM5-EN5+EO5 -> 0 | ET5: =ET4+EQ5-ER5+ES5 -> 0 | EX5: =EX4+EU5-EV5+EW5 -> 0 | FB5: =FB4+EY5-EZ5+FA5 -> 0 | FF5: =FF4+FC5-FD5+FE5 -> 0 | FJ5: =FJ4+FG5-FH5+FI5 -> 0 | FN5: =FN4+FK5-FL5+FM5 -> 0 | FR5: =FR4+FO5-FP5+FQ5 -> 0 | FV5: =FV4+FS5-FT5+FU5 -> 0 | FZ5: =FZ4+FW5-FX5+FY5 -> 0 | GD5: =GD4+GA5-GB5+GC5 -> 0 | GH5: =GH4+GE5-GF5+GG5 -> 0 | GL5: =GL4+GI5-GJ5+GK5 -> 0 | GP5: =GP4+GM5-GN5+GO5 -> #N/A | GT5: =GT4+GQ5-GR5+GS5 -> 0 | GX5: =GX4+GU5-GV5+GW5 -> 0 | HB5: =HB4+GY5-GZ5+HA5 -> 0 | HF5: =HF4+HC5-HD5+HE5 -> 0 | HJ5: =HJ4+HG5-HH5+HI5 -> 0 | HN5: =HN4+HK5-HL5+HM5 -> 0 | HR5: =HR4+HO5-HP5+HQ5 -> 0 | HV5: =HV4+HS5-HT5+HU5 -> 0 | HZ5: =HZ4+HW5-HX5+HY5 -> 0 | ID5: =ID4+IA5-IB5+IC5 -> 0 | IH5: =IH4+IE5-IF5+IG5 -> 0 | IL5: =IL4+II5-IJ5+IK5 -> 0 | IP5: =IP4+IM5-IN5+IO5 -> 0 | IT5: =IT4+IQ5-IR5+IS5 -> 0 | IX5: =IX4+IU5-IV5+IW5 -> 0 | JB5: =JB4+IY5-IZ5+JA5 -> 0 | JF5: =JF4+JC5-JD5+JE5 -> 0 | JJ5: =JJ4+JG5-JH5+JI5 -> 0 | JN5: =JN4+JK5-JL5+JM5 -> 0 | JR5: =JR4+JO5-JP5+JQ5 -> 0 | JV5: =JV4+JS5-JT5+JU5 -> 0 | JZ5: =JZ4+JW5-JX5+JY5 -> 0 | KD5: =KD4+KA5-KB5+KC5 -> 0 | KH5: =KH4+KE5-KF5+KG5 -> 0 | KL5: =KL4+KI5-KJ5+KK5 -> 0 | KP5: =KP4+KM5-KN5+KO5 -> 0 | KT5: =KT4+KQ5-KR5+KS5 -> 0 | KX5: =KX4+KU5-KV5+KW5 -> 0 | LB5: =LB4+KY5-KZ5+LA5 -> 0 | LF5: =LF4+LC5-LD5+LE5 -> 0 | LJ5: =LJ4+LG5-LH5+LI5 -> 0 | LN5: =LN4+LK5-LL5+LM5 -> 0 | LR5: =LR4+LO5-LP5+LQ5 -> 0 | LV5: =LV4+LS5-LT5+LU5 -> 0 | LZ5: =LZ4+LW5-LX5+LY5 -> 0 | MD5: =MD4+MA5-MB5+MC5 -> 0 | MH5: =MH4+ME5-MF5+MG5 -> 0 | ML5: =ML4+MI5-MJ5+MK5 -> 0 | MP5: =MP4+MM5-MN5+MO5 -> 0 | MT5: =MT4+MQ5-MR5+MS5 -> 0 | MX5: =MX4+MU5-MV5+MW5 -> 0 | NB5: =NB4+MY5-MZ5+NA5 -> 0 | NF5: =NF4+NC5-ND5+NE5 -> 0 | NJ5: =NJ4+NG5-NH5+NI5 -> 0 | NN5: =NN4+NK5-NL5+NM5 -> 0 | NR5: =NR4+NO5-NP5+NQ5 -> 0 | NV5: =NV4+NS5-NT5+NU5 -> 0 | NZ5: =NZ4+NW5-NX5+NY5 -> 0 | OD5: =OD4+OA5-OB5+OC5 -> 0 | OH5: =OH4+OE5-OF5+OG5 -> 0 | OL5: =OL4+OI5-OJ5+OK5 -> 0 | OP5: =OP4+OM5-ON5+OO5 -> 0 | OT5: =OT4+OQ5-OR5+OS5 -> 0 | OX5: =OX4+OU5-OV5+OW5 -> 0 | PB5: =PB4+OY5-OZ5+PA5 -> 0 | PF5: =PF4+PC5-PD5+PE5 -> 0 | PJ5: =PJ4+PG5-PH5+PI5 -> 0 | PN5: =PN4+PK5-PL5+PM5 -> 0 | PR5: =PR4+PO5-PP5+PQ5 -> 0 | PV5: =PV4+PS5-PT5+PU5 -> 0 | PZ5: =PZ4+PW5-PX5+PY5 -> 0 | QD5: =QD4+QA5-QB5+QC5 -> 0 | QH5: =QH4+QE5-QF5+QG5 -> 0 | QL5: =QL4+QI5-QJ5+QK5 -> 0 | QP5: =QP4+QM5-QN5+QO5 -> 0 | QT5: =QT4+QQ5-QR5+QS5 -> 0 | QX5: =QX4+QU5-QV5+QW5 -> 0 | RB5: =RB4+QY5-QZ5+RA5 -> 0 | RF5: =RF4+RC5-RD5+RE5 -> 0 | RJ5: =RJ4+RG5-RH5+RI5 -> 0 | RN5: =RN4+RK5-RL5+RM5 -> 0
A6: Retour Gambas | B6: 45395 | E6: 10 | F6: =F5+C6-D6+E6 -> 60 | I6: 15 | J6: =J5+G6-H6+I6 -> 65 | N6: =N5+K6-L6+M6 -> 50 | Q6: 10 | R6: =R5+O6-P6+Q6 -> 20 | V6: =V5+S6-T6+U6 -> 0 | Z6: =Z5+W6-X6+Y6 -> 0 | AD6: =AD5+AA6-AB6+AC6 -> 0 | AH6: =AH5+AE6-AF6+AG6 -> 0 | AL6: =AL5+AI6-AJ6+AK6 -> 0 | AP6: =AP5+AM6-AN6+AO6 -> 0 | AT6: =AT5+AQ6-AR6+AS6 -> 0 | AX6: =AX5+AU6-AV6+AW6 -> 0 | BB6: =BB5+AY6-AZ6+BA6 -> 0 | BF6: =BF5+BC6-BD6+BE6 -> 0 | BJ6: =BJ5+BG6-BH6+BI6 -> 0 | BN6: =BN5+BK6-BL6+BM6 -> 0 | BR6: =BR5+BO6-BP6+BQ6 -> 0 | BV6: =BV5+BS6-BT6+BU6 -> 0 | BZ6: =BZ5+BW6-BX6+BY6 -> 0 | CD6: =CD5+CA6-CB6+CC6 -> 0 | CH6: =CH5+CE6-CF6+CG6 -> 0 | CL6: =CL5+CI6-CJ6+CK6 -> 0 | CP6: =CP5+CM6-CN6+CO6 -> 0 | CT6: =CT5+CQ6-CR6+CS6 -> 0 | CX6: =CX5+CU6-CV6+CW6 -> 0 | DB6: =DB5+CY6-CZ6+DA6 -> 0 | DF6: =DF5+DC6-DD6+DE6 -> 0 | DJ6: =DJ5+DG6-DH6+DI6 -> 0 | DN6: =DN5+DK6-DL6+DM6 -> 0 | DR6: =DR5+DO6-DP6+DQ6 -> 0 | DV6: =DV5+DS6-DT6+DU6 -> 0 | DZ6: =DZ5+DW6-DX6+DY6 -> 0 | ED6: =ED5+EA6-EB6+EC6 -> 0 | EH6: =EH5+EE6-EF6+EG6 -> 0 | EL6: =EL5+EI6-EJ6+EK6 -> 0 | EP6: =EP5+EM6-EN6+EO6 -> 0 | ET6: =ET5+EQ6-ER6+ES6 -> 0 | EX6: =EX5+EU6-EV6+EW6 -> 0 | FB6: =FB5+EY6-EZ6+FA6 -> 0 | FF6: =FF5+FC6-FD6+FE6 -> 0 | FJ6: =FJ5+FG6-FH6+FI6 -> 0 | FN6: =FN5+FK6-FL6+FM6 -> 0 | FR6: =FR5+FO6-FP6+FQ6 -> 0 | FV6: =FV5+FS6-FT6+FU6 -> 0 | FZ6: =FZ5+FW6-FX6+FY6 -> 0 | GD6: =GD5+GA6-GB6+GC6 -> 0 | GH6: =GH5+GE6-GF6+GG6 -> 0 | GL6: =GL5+GI6-GJ6+GK6 -> 0 | GP6: =GP5+GM6-GN6+GO6 -> #N/A | GT6: =GT5+GQ6-GR6+GS6 -> 0 | GX6: =GX5+GU6-GV6+GW6 -> 0 | HB6: =HB5+GY6-GZ6+HA6 -> 0 | HF6: =HF5+HC6-HD6+HE6 -> 0 | HJ6: =HJ5+HG6-HH6+HI6 -> 0 | HN6: =HN5+HK6-HL6+HM6 -> 0 | HR6: =HR5+HO6-HP6+HQ6 -> 0 | HV6: =HV5+HS6-HT6+HU6 -> 0 | HZ6: =HZ5+HW6-HX6+HY6 -> 0 | ID6: =ID5+IA6-IB6+IC6 -> 0 | IH6: =IH5+IE6-IF6+IG6 -> 0 | IL6: =IL5+II6-IJ6+IK6 -> 0 | IP6: =IP5+IM6-IN6+IO6 -> 0 | IT6: =IT5+IQ6-IR6+IS6 -> 0 | IX6: =IX5+IU6-IV6+IW6 -> 0 | JB6: =JB5+IY6-IZ6+JA6 -> 0 | JF6: =JF5+JC6-JD6+JE6 -> 0 | JJ6: =JJ5+JG6-JH6+JI6 -> 0 | JN6: =JN5+JK6-JL6+JM6 -> 0 | JR6: =JR5+JO6-JP6+JQ6 -> 0 | JV6: =JV5+JS6-JT6+JU6 -> 0 | JZ6: =JZ5+JW6-JX6+JY6 -> 0 | KD6: =KD5+KA6-KB6+KC6 -> 0 | KH6: =KH5+KE6-KF6+KG6 -> 0 | KL6: =KL5+KI6-KJ6+KK6 -> 0 | KP6: =KP5+KM6-KN6+KO6 -> 0 | KT6: =KT5+KQ6-KR6+KS6 -> 0 | KX6: =KX5+KU6-KV6+KW6 -> 0 | LB6: =LB5+KY6-KZ6+LA6 -> 0 | LF6: =LF5+LC6-LD6+LE6 -> 0 | LJ6: =LJ5+LG6-LH6+LI6 -> 0 | LN6: =LN5+LK6-LL6+LM6 -> 0 | LR6: =LR5+LO6-LP6+LQ6 -> 0 | LV6: =LV5+LS6-LT6+LU6 -> 0 | LZ6: =LZ5+LW6-LX6+LY6 -> 0 | MD6: =MD5+MA6-MB6+MC6 -> 0 | MH6: =MH5+ME6-MF6+MG6 -> 0 | ML6: =ML5+MI6-MJ6+MK6 -> 0 | MP6: =MP5+MM6-MN6+MO6 -> 0 | MT6: =MT5+MQ6-MR6+MS6 -> 0 | MX6: =MX5+MU6-MV6+MW6 -> 0 | NB6: =NB5+MY6-MZ6+NA6 -> 0 | NF6: =NF5+NC6-ND6+NE6 -> 0 | NJ6: =NJ5+NG6-NH6+NI6 -> 0 | NN6: =NN5+NK6-NL6+NM6 -> 0 | NR6: =NR5+NO6-NP6+NQ6 -> 0 | NV6: =NV5+NS6-NT6+NU6 -> 0 | NZ6: =NZ5+NW6-NX6+NY6 -> 0 | OD6: =OD5+OA6-OB6+OC6 -> 0 | OH6: =OH5+OE6-OF6+OG6 -> 0 | OL6: =OL5+OI6-OJ6+OK6 -> 0 | OP6: =OP5+OM6-ON6+OO6 -> 0 | OT6: =OT5+OQ6-OR6+OS6 -> 0 | OX6: =OX5+OU6-OV6+OW6 -> 0 | PB6: =PB5+OY6-OZ6+PA6 -> 0 | PF6: =PF5+PC6-PD6+PE6 -> 0 | PJ6: =PJ5+PG6-PH6+PI6 -> 0 | PN6: =PN5+PK6-PL6+PM6 -> 0 | PR6: =PR5+PO6-PP6+PQ6 -> 0 | PV6: =PV5+PS6-PT6+PU6 -> 0 | PZ6: =PZ5+PW6-PX6+PY6 -> 0 | QD6: =QD5+QA6-QB6+QC6 -> 0 | QH6: =QH5+QE6-QF6+QG6 -> 0 | QL6: =QL5+QI6-QJ6+QK6 -> 0 | QP6: =QP5+QM6-QN6+QO6 -> 0 | QT6: =QT5+QQ6-QR6+QS6 -> 0 | QX6: =QX5+QU6-QV6+QW6 -> 0 | RB6: =RB5+QY6-QZ6+RA6 -> 0 | RF6: =RF5+RC6-RD6+RE6 -> 0 | RJ6: =RJ5+RG6-RH6+RI6 -> 0 | RN6: =RN5+RK6-RL6+RM6 -> 0
F7: =F6+C7-D7+E7 -> 60 | J7: =J6+G7-H7+I7 -> 65 | N7: =N6+K7-L7+M7 -> 50 | R7: =R6+O7-P7+Q7 -> 20 | V7: =V6+S7-T7+U7 -> 0 | Z7: =Z6+W7-X7+Y7 -> 0 | AD7: =AD6+AA7-AB7+AC7 -> 0 | AH7: =AH6+AE7-AF7+AG7 -> 0 | AL7: =AL6+AI7-AJ7+AK7 -> 0 | AP7: =AP6+AM7-AN7+AO7 -> 0 | AT7: =AT6+AQ7-AR7+AS7 -> 0 | AX7: =AX6+AU7-AV7+AW7 -> 0 | BB7: =BB6+AY7-AZ7+BA7 -> 0 | BF7: =BF6+BC7-BD7+BE7 -> 0 | BJ7: =BJ6+BG7-BH7+BI7 -> 0 | BN7: =BN6+BK7-BL7+BM7 -> 0 | BR7: =BR6+BO7-BP7+BQ7 -> 0 | BV7: =BV6+BS7-BT7+BU7 -> 0 | BZ7: =BZ6+BW7-BX7+BY7 -> 0 | CD7: =CD6+CA7-CB7+CC7 -> 0 | CH7: =CH6+CE7-CF7+CG7 -> 0 | CL7: =CL6+CI7-CJ7+CK7 -> 0 | CP7: =CP6+CM7-CN7+CO7 -> 0 | CT7: =CT6+CQ7-CR7+CS7 -> 0 | CX7: =CX6+CU7-CV7+CW7 -> 0 | DB7: =DB6+CY7-CZ7+DA7 -> 0 | DF7: =DF6+DC7-DD7+DE7 -> 0 | DJ7: =DJ6+DG7-DH7+DI7 -> 0 | DN7: =DN6+DK7-DL7+DM7 -> 0 | DR7: =DR6+DO7-DP7+DQ7 -> 0 | DV7: =DV6+DS7-DT7+DU7 -> 0 | DZ7: =DZ6+DW7-DX7+DY7 -> 0 | ED7: =ED6+EA7-EB7+EC7 -> 0 | EH7: =EH6+EE7-EF7+EG7 -> 0 | EL7: =EL6+EI7-EJ7+EK7 -> 0 | EP7: =EP6+EM7-EN7+EO7 -> 0 | ET7: =ET6+EQ7-ER7+ES7 -> 0 | EX7: =EX6+EU7-EV7+EW7 -> 0 | FB7: =FB6+EY7-EZ7+FA7 -> 0 | FF7: =FF6+FC7-FD7+FE7 -> 0 | FJ7: =FJ6+FG7-FH7+FI7 -> 0 | FN7: =FN6+FK7-FL7+FM7 -> 0 | FR7: =FR6+FO7-FP7+FQ7 -> 0 | FV7: =FV6+FS7-FT7+FU7 -> 0 | FZ7: =FZ6+FW7-FX7+FY7 -> 0 | GD7: =GD6+GA7-GB7+GC7 -> 0 | GH7: =GH6+GE7-GF7+GG7 -> 0 | GL7: =GL6+GI7-GJ7+GK7 -> 0 | GP7: =GP6+GM7-GN7+GO7 -> #N/A | GT7: =GT6+GQ7-GR7+GS7 -> 0 | GX7: =GX6+GU7-GV7+GW7 -> 0 | HB7: =HB6+GY7-GZ7+HA7 -> 0 | HF7: =HF6+HC7-HD7+HE7 -> 0 | HJ7: =HJ6+HG7-HH7+HI7 -> 0 | HN7: =HN6+HK7-HL7+HM7 -> 0 | HR7: =HR6+HO7-HP7+HQ7 -> 0 | HV7: =HV6+HS7-HT7+HU7 -> 0 | HZ7: =HZ6+HW7-HX7+HY7 -> 0 | ID7: =ID6+IA7-IB7+IC7 -> 0 | IH7: =IH6+IE7-IF7+IG7 -> 0 | IL7: =IL6+II7-IJ7+IK7 -> 0 | IP7: =IP6+IM7-IN7+IO7 -> 0 | IT7: =IT6+IQ7-IR7+IS7 -> 0 | IX7: =IX6+IU7-IV7+IW7 -> 0 | JB7: =JB6+IY7-IZ7+JA7 -> 0 | JF7: =JF6+JC7-JD7+JE7 -> 0 | JJ7: =JJ6+JG7-JH7+JI7 -> 0 | JN7: =JN6+JK7-JL7+JM7 -> 0 | JR7: =JR6+JO7-JP7+JQ7 -> 0 | JV7: =JV6+JS7-JT7+JU7 -> 0 | JZ7: =JZ6+JW7-JX7+JY7 -> 0 | KD7: =KD6+KA7-KB7+KC7 -> 0 | KH7: =KH6+KE7-KF7+KG7 -> 0 | KL7: =KL6+KI7-KJ7+KK7 -> 0 | KP7: =KP6+KM7-KN7+KO7 -> 0 | KT7: =KT6+KQ7-KR7+KS7 -> 0 | KX7: =KX6+KU7-KV7+KW7 -> 0 | LB7: =LB6+KY7-KZ7+LA7 -> 0 | LF7: =LF6+LC7-LD7+LE7 -> 0 | LJ7: =LJ6+LG7-LH7+LI7 -> 0 | LN7: =LN6+LK7-LL7+LM7 -> 0 | LR7: =LR6+LO7-LP7+LQ7 -> 0 | LV7: =LV6+LS7-LT7+LU7 -> 0 | LZ7: =LZ6+LW7-LX7+LY7 -> 0 | MD7: =MD6+MA7-MB7+MC7 -> 0 | MH7: =MH6+ME7-MF7+MG7 -> 0 | ML7: =ML6+MI7-MJ7+MK7 -> 0 | MP7: =MP6+MM7-MN7+MO7 -> 0 | MT7: =MT6+MQ7-MR7+MS7 -> 0 | MX7: =MX6+MU7-MV7+MW7 -> 0 | NB7: =NB6+MY7-MZ7+NA7 -> 0 | NF7: =NF6+NC7-ND7+NE7 -> 0 | NJ7: =NJ6+NG7-NH7+NI7 -> 0 | NN7: =NN6+NK7-NL7+NM7 -> 0 | NR7: =NR6+NO7-NP7+NQ7 -> 0 | NV7: =NV6+NS7-NT7+NU7 -> 0 | NZ7: =NZ6+NW7-NX7+NY7 -> 0 | OD7: =OD6+OA7-OB7+OC7 -> 0 | OH7: =OH6+OE7-OF7+OG7 -> 0 | OL7: =OL6+OI7-OJ7+OK7 -> 0 | OP7: =OP6+OM7-ON7+OO7 -> 0 | OT7: =OT6+OQ7-OR7+OS7 -> 0 | OX7: =OX6+OU7-OV7+OW7 -> 0 | PB7: =PB6+OY7-OZ7+PA7 -> 0 | PF7: =PF6+PC7-PD7+PE7 -> 0 | PJ7: =PJ6+PG7-PH7+PI7 -> 0 | PN7: =PN6+PK7-PL7+PM7 -> 0 | PR7: =PR6+PO7-PP7+PQ7 -> 0 | PV7: =PV6+PS7-PT7+PU7 -> 0 | PZ7: =PZ6+PW7-PX7+PY7 -> 0 | QD7: =QD6+QA7-QB7+QC7 -> 0 | QH7: =QH6+QE7-QF7+QG7 -> 0 | QL7: =QL6+QI7-QJ7+QK7 -> 0 | QP7: =QP6+QM7-QN7+QO7 -> 0 | QT7: =QT6+QQ7-QR7+QS7 -> 0 | QX7: =QX6+QU7-QV7+QW7 -> 0 | RB7: =RB6+QY7-QZ7+RA7 -> 0 | RF7: =RF6+RC7-RD7+RE7 -> 0 | RJ7: =RJ6+RG7-RH7+RI7 -> 0 | RN7: =RN6+RK7-RL7+RM7 -> 0
F8: =F7+C8-D8+E8 -> 60 | J8: =J7+G8-H8+I8 -> 65 | N8: =N7+K8-L8+M8 -> 50 | R8: =R7+O8-P8+Q8 -> 20 | V8: =V7+S8-T8+U8 -> 0 | Z8: =Z7+W8-X8+Y8 -> 0 | AD8: =AD7+AA8-AB8+AC8 -> 0 | AH8: =AH7+AE8-AF8+AG8 -> 0 | AL8: =AL7+AI8-AJ8+AK8 -> 0 | AP8: =AP7+AM8-AN8+AO8 -> 0 | AT8: =AT7+AQ8-AR8+AS8 -> 0 | AX8: =AX7+AU8-AV8+AW8 -> 0 | BB8: =BB7+AY8-AZ8+BA8 -> 0 | BF8: =BF7+BC8-BD8+BE8 -> 0 | BJ8: =BJ7+BG8-BH8+BI8 -> 0 | BN8: =BN7+BK8-BL8+BM8 -> 0 | BR8: =BR7+BO8-BP8+BQ8 -> 0 | BV8: =BV7+BS8-BT8+BU8 -> 0 | BZ8: =BZ7+BW8-BX8+BY8 -> 0 | CD8: =CD7+CA8-CB8+CC8 -> 0 | CH8: =CH7+CE8-CF8+CG8 -> 0 | CL8: =CL7+CI8-CJ8+CK8 -> 0 | CP8: =CP7+CM8-CN8+CO8 -> 0 | CT8: =CT7+CQ8-CR8+CS8 -> 0 | CX8: =CX7+CU8-CV8+CW8 -> 0 | DB8: =DB7+CY8-CZ8+DA8 -> 0 | DF8: =DF7+DC8-DD8+DE8 -> 0 | DJ8: =DJ7+DG8-DH8+DI8 -> 0 | DN8: =DN7+DK8-DL8+DM8 -> 0 | DR8: =DR7+DO8-DP8+DQ8 -> 0 | DV8: =DV7+DS8-DT8+DU8 -> 0 | DZ8: =DZ7+DW8-DX8+DY8 -> 0 | ED8: =ED7+EA8-EB8+EC8 -> 0 | EH8: =EH7+EE8-EF8+EG8 -> 0 | EL8: =EL7+EI8-EJ8+EK8 -> 0 | EP8: =EP7+EM8-EN8+EO8 -> 0 | ET8: =ET7+EQ8-ER8+ES8 -> 0 | EX8: =EX7+EU8-EV8+EW8 -> 0 | FB8: =FB7+EY8-EZ8+FA8 -> 0 | FF8: =FF7+FC8-FD8+FE8 -> 0 | FJ8: =FJ7+FG8-FH8+FI8 -> 0 | FN8: =FN7+FK8-FL8+FM8 -> 0 | FR8: =FR7+FO8-FP8+FQ8 -> 0 | FV8: =FV7+FS8-FT8+FU8 -> 0 | FZ8: =FZ7+FW8-FX8+FY8 -> 0 | GD8: =GD7+GA8-GB8+GC8 -> 0 | GH8: =GH7+GE8-GF8+GG8 -> 0 | GL8: =GL7+GI8-GJ8+GK8 -> 0 | GP8: =GP7+GM8-GN8+GO8 -> #N/A | GT8: =GT7+GQ8-GR8+GS8 -> 0 | GX8: =GX7+GU8-GV8+GW8 -> 0 | HB8: =HB7+GY8-GZ8+HA8 -> 0 | HF8: =HF7+HC8-HD8+HE8 -> 0 | HJ8: =HJ7+HG8-HH8+HI8 -> 0 | HN8: =HN7+HK8-HL8+HM8 -> 0 | HR8: =HR7+HO8-HP8+HQ8 -> 0 | HV8: =HV7+HS8-HT8+HU8 -> 0 | HZ8: =HZ7+HW8-HX8+HY8 -> 0 | ID8: =ID7+IA8-IB8+IC8 -> 0 | IH8: =IH7+IE8-IF8+IG8 -> 0 | IL8: =IL7+II8-IJ8+IK8 -> 0 | IP8: =IP7+IM8-IN8+IO8 -> 0 | IT8: =IT7+IQ8-IR8+IS8 -> 0 | IX8: =IX7+IU8-IV8+IW8 -> 0 | JB8: =JB7+IY8-IZ8+JA8 -> 0 | JF8: =JF7+JC8-JD8+JE8 -> 0 | JJ8: =JJ7+JG8-JH8+JI8 -> 0 | JN8: =JN7+JK8-JL8+JM8 -> 0 | JR8: =JR7+JO8-JP8+JQ8 -> 0 | JV8: =JV7+JS8-JT8+JU8 -> 0 | JZ8: =JZ7+JW8-JX8+JY8 -> 0 | KD8: =KD7+KA8-KB8+KC8 -> 0 | KH8: =KH7+KE8-KF8+KG8 -> 0 | KL8: =KL7+KI8-KJ8+KK8 -> 0 | KP8: =KP7+KM8-KN8+KO8 -> 0 | KT8: =KT7+KQ8-KR8+KS8 -> 0 | KX8: =KX7+KU8-KV8+KW8 -> 0 | LB8: =LB7+KY8-KZ8+LA8 -> 0 | LF8: =LF7+LC8-LD8+LE8 -> 0 | LJ8: =LJ7+LG8-LH8+LI8 -> 0 | LN8: =LN7+LK8-LL8+LM8 -> 0 | LR8: =LR7+LO8-LP8+LQ8 -> 0 | LV8: =LV7+LS8-LT8+LU8 -> 0 | LZ8: =LZ7+LW8-LX8+LY8 -> 0 | MD8: =MD7+MA8-MB8+MC8 -> 0 | MH8: =MH7+ME8-MF8+MG8 -> 0 | ML8: =ML7+MI8-MJ8+MK8 -> 0 | MP8: =MP7+MM8-MN8+MO8 -> 0 | MT8: =MT7+MQ8-MR8+MS8 -> 0 | MX8: =MX7+MU8-MV8+MW8 -> 0 | NB8: =NB7+MY8-MZ8+NA8 -> 0 | NF8: =NF7+NC8-ND8+NE8 -> 0 | NJ8: =NJ7+NG8-NH8+NI8 -> 0 | NN8: =NN7+NK8-NL8+NM8 -> 0 | NR8: =NR7+NO8-NP8+NQ8 -> 0 | NV8: =NV7+NS8-NT8+NU8 -> 0 | NZ8: =NZ7+NW8-NX8+NY8 -> 0 | OD8: =OD7+OA8-OB8+OC8 -> 0 | OH8: =OH7+OE8-OF8+OG8 -> 0 | OL8: =OL7+OI8-OJ8+OK8 -> 0 | OP8: =OP7+OM8-ON8+OO8 -> 0 | OT8: =OT7+OQ8-OR8+OS8 -> 0 | OX8: =OX7+OU8-OV8+OW8 -> 0 | PB8: =PB7+OY8-OZ8+PA8 -> 0 | PF8: =PF7+PC8-PD8+PE8 -> 0 | PJ8: =PJ7+PG8-PH8+PI8 -> 0 | PN8: =PN7+PK8-PL8+PM8 -> 0 | PR8: =PR7+PO8-PP8+PQ8 -> 0 | PV8: =PV7+PS8-PT8+PU8 -> 0 | PZ8: =PZ7+PW8-PX8+PY8 -> 0 | QD8: =QD7+QA8-QB8+QC8 -> 0 | QH8: =QH7+QE8-QF8+QG8 -> 0 | QL8: =QL7+QI8-QJ8+QK8 -> 0 | QP8: =QP7+QM8-QN8+QO8 -> 0 | QT8: =QT7+QQ8-QR8+QS8 -> 0 | QX8: =QX7+QU8-QV8+QW8 -> 0 | RB8: =RB7+QY8-QZ8+RA8 -> 0 | RF8: =RF7+RC8-RD8+RE8 -> 0 | RJ8: =RJ7+RG8-RH8+RI8 -> 0 | RN8: =RN7+RK8-RL8+RM8 -> 0
F9: =F8+C9-D9+E9 -> 60 | J9: =J8+G9-H9+I9 -> 65 | N9: =N8+K9-L9+M9 -> 50 | R9: =R8+O9-P9+Q9 -> 20 | V9: =V8+S9-T9+U9 -> 0 | Z9: =Z8+W9-X9+Y9 -> 0 | AD9: =AD8+AA9-AB9+AC9 -> 0 | AH9: =AH8+AE9-AF9+AG9 -> 0 | AL9: =AL8+AI9-AJ9+AK9 -> 0 | AP9: =AP8+AM9-AN9+AO9 -> 0 | AT9: =AT8+AQ9-AR9+AS9 -> 0 | AX9: =AX8+AU9-AV9+AW9 -> 0 | BB9: =BB8+AY9-AZ9+BA9 -> 0 | BF9: =BF8+BC9-BD9+BE9 -> 0 | BJ9: =BJ8+BG9-BH9+BI9 -> 0 | BN9: =BN8+BK9-BL9+BM9 -> 0 | BR9: =BR8+BO9-BP9+BQ9 -> 0 | BV9: =BV8+BS9-BT9+BU9 -> 0 | BZ9: =BZ8+BW9-BX9+BY9 -> 0 | CD9: =CD8+CA9-CB9+CC9 -> 0 | CH9: =CH8+CE9-CF9+CG9 -> 0 | CL9: =CL8+CI9-CJ9+CK9 -> 0 | CP9: =CP8+CM9-CN9+CO9 -> 0 | CT9: =CT8+CQ9-CR9+CS9 -> 0 | CX9: =CX8+CU9-CV9+CW9 -> 0 | DB9: =DB8+CY9-CZ9+DA9 -> 0 | DF9: =DF8+DC9-DD9+DE9 -> 0 | DJ9: =DJ8+DG9-DH9+DI9 -> 0 | DN9: =DN8+DK9-DL9+DM9 -> 0 | DR9: =DR8+DO9-DP9+DQ9 -> 0 | DV9: =DV8+DS9-DT9+DU9 -> 0 | DZ9: =DZ8+DW9-DX9+DY9 -> 0 | ED9: =ED8+EA9-EB9+EC9 -> 0 | EH9: =EH8+EE9-EF9+EG9 -> 0 | EL9: =EL8+EI9-EJ9+EK9 -> 0 | EP9: =EP8+EM9-EN9+EO9 -> 0 | ET9: =ET8+EQ9-ER9+ES9 -> 0 | EX9: =EX8+EU9-EV9+EW9 -> 0 | FB9: =FB8+EY9-EZ9+FA9 -> 0 | FF9: =FF8+FC9-FD9+FE9 -> 0 | FJ9: =FJ8+FG9-FH9+FI9 -> 0 | FN9: =FN8+FK9-FL9+FM9 -> 0 | FR9: =FR8+FO9-FP9+FQ9 -> 0 | FV9: =FV8+FS9-FT9+FU9 -> 0 | FZ9: =FZ8+FW9-FX9+FY9 -> 0 | GD9: =GD8+GA9-GB9+GC9 -> 0 | GH9: =GH8+GE9-GF9+GG9 -> 0 | GL9: =GL8+GI9-GJ9+GK9 -> 0 | GP9: =GP8+GM9-GN9+GO9 -> #N/A | GT9: =GT8+GQ9-GR9+GS9 -> 0 | GX9: =GX8+GU9-GV9+GW9 -> 0 | HB9: =HB8+GY9-GZ9+HA9 -> 0 | HF9: =HF8+HC9-HD9+HE9 -> 0 | HJ9: =HJ8+HG9-HH9+HI9 -> 0 | HN9: =HN8+HK9-HL9+HM9 -> 0 | HR9: =HR8+HO9-HP9+HQ9 -> 0 | HV9: =HV8+HS9-HT9+HU9 -> 0 | HZ9: =HZ8+HW9-HX9+HY9 -> 0 | ID9: =ID8+IA9-IB9+IC9 -> 0 | IH9: =IH8+IE9-IF9+IG9 -> 0 | IL9: =IL8+II9-IJ9+IK9 -> 0 | IP9: =IP8+IM9-IN9+IO9 -> 0 | IT9: =IT8+IQ9-IR9+IS9 -> 0 | IX9: =IX8+IU9-IV9+IW9 -> 0 | JB9: =JB8+IY9-IZ9+JA9 -> 0 | JF9: =JF8+JC9-JD9+JE9 -> 0 | JJ9: =JJ8+JG9-JH9+JI9 -> 0 | JN9: =JN8+JK9-JL9+JM9 -> 0 | JR9: =JR8+JO9-JP9+JQ9 -> 0 | JV9: =JV8+JS9-JT9+JU9 -> 0 | JZ9: =JZ8+JW9-JX9+JY9 -> 0 | KD9: =KD8+KA9-KB9+KC9 -> 0 | KH9: =KH8+KE9-KF9+KG9 -> 0 | KL9: =KL8+KI9-KJ9+KK9 -> 0 | KP9: =KP8+KM9-KN9+KO9 -> 0 | KT9: =KT8+KQ9-KR9+KS9 -> 0 | KX9: =KX8+KU9-KV9+KW9 -> 0 | LB9: =LB8+KY9-KZ9+LA9 -> 0 | LF9: =LF8+LC9-LD9+LE9 -> 0 | LJ9: =LJ8+LG9-LH9+LI9 -> 0 | LN9: =LN8+LK9-LL9+LM9 -> 0 | LR9: =LR8+LO9-LP9+LQ9 -> 0 | LV9: =LV8+LS9-LT9+LU9 -> 0 | LZ9: =LZ8+LW9-LX9+LY9 -> 0 | MD9: =MD8+MA9-MB9+MC9 -> 0 | MH9: =MH8+ME9-MF9+MG9 -> 0 | ML9: =ML8+MI9-MJ9+MK9 -> 0 | MP9: =MP8+MM9-MN9+MO9 -> 0 | MT9: =MT8+MQ9-MR9+MS9 -> 0 | MX9: =MX8+MU9-MV9+MW9 -> 0 | NB9: =NB8+MY9-MZ9+NA9 -> 0 | NF9: =NF8+NC9-ND9+NE9 -> 0 | NJ9: =NJ8+NG9-NH9+NI9 -> 0 | NN9: =NN8+NK9-NL9+NM9 -> 0 | NR9: =NR8+NO9-NP9+NQ9 -> 0 | NV9: =NV8+NS9-NT9+NU9 -> 0 | NZ9: =NZ8+NW9-NX9+NY9 -> 0 | OD9: =OD8+OA9-OB9+OC9 -> 0 | OH9: =OH8+OE9-OF9+OG9 -> 0 | OL9: =OL8+OI9-OJ9+OK9 -> 0 | OP9: =OP8+OM9-ON9+OO9 -> 0 | OT9: =OT8+OQ9-OR9+OS9 -> 0 | OX9: =OX8+OU9-OV9+OW9 -> 0 | PB9: =PB8+OY9-OZ9+PA9 -> 0 | PF9: =PF8+PC9-PD9+PE9 -> 0 | PJ9: =PJ8+PG9-PH9+PI9 -> 0 | PN9: =PN8+PK9-PL9+PM9 -> 0 | PR9: =PR8+PO9-PP9+PQ9 -> 0 | PV9: =PV8+PS9-PT9+PU9 -> 0 | PZ9: =PZ8+PW9-PX9+PY9 -> 0 | QD9: =QD8+QA9-QB9+QC9 -> 0 | QH9: =QH8+QE9-QF9+QG9 -> 0 | QL9: =QL8+QI9-QJ9+QK9 -> 0 | QP9: =QP8+QM9-QN9+QO9 -> 0 | QT9: =QT8+QQ9-QR9+QS9 -> 0 | QX9: =QX8+QU9-QV9+QW9 -> 0 | RB9: =RB8+QY9-QZ9+RA9 -> 0 | RF9: =RF8+RC9-RD9+RE9 -> 0 | RJ9: =RJ8+RG9-RH9+RI9 -> 0 | RN9: =RN8+RK9-RL9+RM9 -> 0
F10: =F9+C10-D10+E10 -> 60 | J10: =J9+G10-H10+I10 -> 65 | N10: =N9+K10-L10+M10 -> 50 | R10: =R9+O10-P10+Q10 -> 20 | V10: =V9+S10-T10+U10 -> 0 | Z10: =Z9+W10-X10+Y10 -> 0 | AD10: =AD9+AA10-AB10+AC10 -> 0 | AH10: =AH9+AE10-AF10+AG10 -> 0 | AL10: =AL9+AI10-AJ10+AK10 -> 0 | AP10: =AP9+AM10-AN10+AO10 -> 0 | AT10: =AT9+AQ10-AR10+AS10 -> 0 | AX10: =AX9+AU10-AV10+AW10 -> 0 | BB10: =BB9+AY10-AZ10+BA10 -> 0 | BF10: =BF9+BC10-BD10+BE10 -> 0 | BJ10: =BJ9+BG10-BH10+BI10 -> 0 | BN10: =BN9+BK10-BL10+BM10 -> 0 | BR10: =BR9+BO10-BP10+BQ10 -> 0 | BV10: =BV9+BS10-BT10+BU10 -> 0 | BZ10: =BZ9+BW10-BX10+BY10 -> 0 | CD10: =CD9+CA10-CB10+CC10 -> 0 | CH10: =CH9+CE10-CF10+CG10 -> 0 | CL10: =CL9+CI10-CJ10+CK10 -> 0 | CP10: =CP9+CM10-CN10+CO10 -> 0 | CT10: =CT9+CQ10-CR10+CS10 -> 0 | CX10: =CX9+CU10-CV10+CW10 -> 0 | DB10: =DB9+CY10-CZ10+DA10 -> 0 | DF10: =DF9+DC10-DD10+DE10 -> 0 | DJ10: =DJ9+DG10-DH10+DI10 -> 0 | DN10: =DN9+DK10-DL10+DM10 -> 0 | DR10: =DR9+DO10-DP10+DQ10 -> 0 | DV10: =DV9+DS10-DT10+DU10 -> 0 | DZ10: =DZ9+DW10-DX10+DY10 -> 0 | ED10: =ED9+EA10-EB10+EC10 -> 0 | EH10: =EH9+EE10-EF10+EG10 -> 0 | EL10: =EL9+EI10-EJ10+EK10 -> 0 | EP10: =EP9+EM10-EN10+EO10 -> 0 | ET10: =ET9+EQ10-ER10+ES10 -> 0 | EX10: =EX9+EU10-EV10+EW10 -> 0 | FB10: =FB9+EY10-EZ10+FA10 -> 0 | FF10: =FF9+FC10-FD10+FE10 -> 0 | FJ10: =FJ9+FG10-FH10+FI10 -> 0 | FN10: =FN9+FK10-FL10+FM10 -> 0 | FR10: =FR9+FO10-FP10+FQ10 -> 0 | FV10: =FV9+FS10-FT10+FU10 -> 0 | FZ10: =FZ9+FW10-FX10+FY10 -> 0 | GD10: =GD9+GA10-GB10+GC10 -> 0 | GH10: =GH9+GE10-GF10+GG10 -> 0 | GL10: =GL9+GI10-GJ10+GK10 -> 0 | GP10: =GP9+GM10-GN10+GO10 -> #N/A | GT10: =GT9+GQ10-GR10+GS10 -> 0 | GX10: =GX9+GU10-GV10+GW10 -> 0 | HB10: =HB9+GY10-GZ10+HA10 -> 0 | HF10: =HF9+HC10-HD10+HE10 -> 0 | HJ10: =HJ9+HG10-HH10+HI10 -> 0 | HN10: =HN9+HK10-HL10+HM10 -> 0 | HR10: =HR9+HO10-HP10+HQ10 -> 0 | HV10: =HV9+HS10-HT10+HU10 -> 0 | HZ10: =HZ9+HW10-HX10+HY10 -> 0 | ID10: =ID9+IA10-IB10+IC10 -> 0 | IH10: =IH9+IE10-IF10+IG10 -> 0 | IL10: =IL9+II10-IJ10+IK10 -> 0 | IP10: =IP9+IM10-IN10+IO10 -> 0 | IT10: =IT9+IQ10-IR10+IS10 -> 0 | IX10: =IX9+IU10-IV10+IW10 -> 0 | JB10: =JB9+IY10-IZ10+JA10 -> 0 | JF10: =JF9+JC10-JD10+JE10 -> 0 | JJ10: =JJ9+JG10-JH10+JI10 -> 0 | JN10: =JN9+JK10-JL10+JM10 -> 0 | JR10: =JR9+JO10-JP10+JQ10 -> 0 | JV10: =JV9+JS10-JT10+JU10 -> 0 | JZ10: =JZ9+JW10-JX10+JY10 -> 0 | KD10: =KD9+KA10-KB10+KC10 -> 0 | KH10: =KH9+KE10-KF10+KG10 -> 0 | KL10: =KL9+KI10-KJ10+KK10 -> 0 | KP10: =KP9+KM10-KN10+KO10 -> 0 | KT10: =KT9+KQ10-KR10+KS10 -> 0 | KX10: =KX9+KU10-KV10+KW10 -> 0 | LB10: =LB9+KY10-KZ10+LA10 -> 0 | LF10: =LF9+LC10-LD10+LE10 -> 0 | LJ10: =LJ9+LG10-LH10+LI10 -> 0 | LN10: =LN9+LK10-LL10+LM10 -> 0 | LR10: =LR9+LO10-LP10+LQ10 -> 0 | LV10: =LV9+LS10-LT10+LU10 -> 0 | LZ10: =LZ9+LW10-LX10+LY10 -> 0 | MD10: =MD9+MA10-MB10+MC10 -> 0 | MH10: =MH9+ME10-MF10+MG10 -> 0 | ML10: =ML9+MI10-MJ10+MK10 -> 0 | MP10: =MP9+MM10-MN10+MO10 -> 0 | MT10: =MT9+MQ10-MR10+MS10 -> 0 | MX10: =MX9+MU10-MV10+MW10 -> 0 | NB10: =NB9+MY10-MZ10+NA10 -> 0 | NF10: =NF9+NC10-ND10+NE10 -> 0 | NJ10: =NJ9+NG10-NH10+NI10 -> 0 | NN10: =NN9+NK10-NL10+NM10 -> 0 | NR10: =NR9+NO10-NP10+NQ10 -> 0 | NV10: =NV9+NS10-NT10+NU10 -> 0 | NZ10: =NZ9+NW10-NX10+NY10 -> 0 | OD10: =OD9+OA10-OB10+OC10 -> 0 | OH10: =OH9+OE10-OF10+OG10 -> 0 | OL10: =OL9+OI10-OJ10+OK10 -> 0 | OP10: =OP9+OM10-ON10+OO10 -> 0 | OT10: =OT9+OQ10-OR10+OS10 -> 0 | OX10: =OX9+OU10-OV10+OW10 -> 0 | PB10: =PB9+OY10-OZ10+PA10 -> 0 | PF10: =PF9+PC10-PD10+PE10 -> 0 | PJ10: =PJ9+PG10-PH10+PI10 -> 0 | PN10: =PN9+PK10-PL10+PM10 -> 0 | PR10: =PR9+PO10-PP10+PQ10 -> 0 | PV10: =PV9+PS10-PT10+PU10 -> 0 | PZ10: =PZ9+PW10-PX10+PY10 -> 0 | QD10: =QD9+QA10-QB10+QC10 -> 0 | QH10: =QH9+QE10-QF10+QG10 -> 0 | QL10: =QL9+QI10-QJ10+QK10 -> 0 | QP10: =QP9+QM10-QN10+QO10 -> 0 | QT10: =QT9+QQ10-QR10+QS10 -> 0 | QX10: =QX9+QU10-QV10+QW10 -> 0 | RB10: =RB9+QY10-QZ10+RA10 -> 0 | RF10: =RF9+RC10-RD10+RE10 -> 0 | RJ10: =RJ9+RG10-RH10+RI10 -> 0 | RN10: =RN9+RK10-RL10+RM10 -> 0
F11: =F10+C11-D11+E11 -> 60 | J11: =J10+G11-H11+I11 -> 65 | N11: =N10+K11-L11+M11 -> 50 | R11: =R10+O11-P11+Q11 -> 20 | V11: =V10+S11-T11+U11 -> 0 | Z11: =Z10+W11-X11+Y11 -> 0 | AD11: =AD10+AA11-AB11+AC11 -> 0 | AH11: =AH10+AE11-AF11+AG11 -> 0 | AL11: =AL10+AI11-AJ11+AK11 -> 0 | AP11: =AP10+AM11-AN11+AO11 -> 0 | AT11: =AT10+AQ11-AR11+AS11 -> 0 | AX11: =AX10+AU11-AV11+AW11 -> 0 | BB11: =BB10+AY11-AZ11+BA11 -> 0 | BF11: =BF10+BC11-BD11+BE11 -> 0 | BJ11: =BJ10+BG11-BH11+BI11 -> 0 | BN11: =BN10+BK11-BL11+BM11 -> 0 | BR11: =BR10+BO11-BP11+BQ11 -> 0 | BV11: =BV10+BS11-BT11+BU11 -> 0 | BZ11: =BZ10+BW11-BX11+BY11 -> 0 | CD11: =CD10+CA11-CB11+CC11 -> 0 | CH11: =CH10+CE11-CF11+CG11 -> 0 | CL11: =CL10+CI11-CJ11+CK11 -> 0 | CP11: =CP10+CM11-CN11+CO11 -> 0 | CT11: =CT10+CQ11-CR11+CS11 -> 0 | CX11: =CX10+CU11-CV11+CW11 -> 0 | DB11: =DB10+CY11-CZ11+DA11 -> 0 | DF11: =DF10+DC11-DD11+DE11 -> 0 | DJ11: =DJ10+DG11-DH11+DI11 -> 0 | DN11: =DN10+DK11-DL11+DM11 -> 0 | DR11: =DR10+DO11-DP11+DQ11 -> 0 | DV11: =DV10+DS11-DT11+DU11 -> 0 | DZ11: =DZ10+DW11-DX11+DY11 -> 0 | ED11: =ED10+EA11-EB11+EC11 -> 0 | EH11: =EH10+EE11-EF11+EG11 -> 0 | EL11: =EL10+EI11-EJ11+EK11 -> 0 | EP11: =EP10+EM11-EN11+EO11 -> 0 | ET11: =ET10+EQ11-ER11+ES11 -> 0 | EX11: =EX10+EU11-EV11+EW11 -> 0 | FB11: =FB10+EY11-EZ11+FA11 -> 0 | FF11: =FF10+FC11-FD11+FE11 -> 0 | FJ11: =FJ10+FG11-FH11+FI11 -> 0 | FN11: =FN10+FK11-FL11+FM11 -> 0 | FR11: =FR10+FO11-FP11+FQ11 -> 0 | FV11: =FV10+FS11-FT11+FU11 -> 0 | FZ11: =FZ10+FW11-FX11+FY11 -> 0 | GD11: =GD10+GA11-GB11+GC11 -> 0 | GH11: =GH10+GE11-GF11+GG11 -> 0 | GL11: =GL10+GI11-GJ11+GK11 -> 0 | GP11: =GP10+GM11-GN11+GO11 -> #N/A | GT11: =GT10+GQ11-GR11+GS11 -> 0 | GX11: =GX10+GU11-GV11+GW11 -> 0 | HB11: =HB10+GY11-GZ11+HA11 -> 0 | HF11: =HF10+HC11-HD11+HE11 -> 0 | HJ11: =HJ10+HG11-HH11+HI11 -> 0 | HN11: =HN10+HK11-HL11+HM11 -> 0 | HR11: =HR10+HO11-HP11+HQ11 -> 0 | HV11: =HV10+HS11-HT11+HU11 -> 0 | HZ11: =HZ10+HW11-HX11+HY11 -> 0 | ID11: =ID10+IA11-IB11+IC11 -> 0 | IH11: =IH10+IE11-IF11+IG11 -> 0 | IL11: =IL10+II11-IJ11+IK11 -> 0 | IP11: =IP10+IM11-IN11+IO11 -> 0 | IT11: =IT10+IQ11-IR11+IS11 -> 0 | IX11: =IX10+IU11-IV11+IW11 -> 0 | JB11: =JB10+IY11-IZ11+JA11 -> 0 | JF11: =JF10+JC11-JD11+JE11 -> 0 | JJ11: =JJ10+JG11-JH11+JI11 -> 0 | JN11: =JN10+JK11-JL11+JM11 -> 0 | JR11: =JR10+JO11-JP11+JQ11 -> 0 | JV11: =JV10+JS11-JT11+JU11 -> 0 | JZ11: =JZ10+JW11-JX11+JY11 -> 0 | KD11: =KD10+KA11-KB11+KC11 -> 0 | KH11: =KH10+KE11-KF11+KG11 -> 0 | KL11: =KL10+KI11-KJ11+KK11 -> 0 | KP11: =KP10+KM11-KN11+KO11 -> 0 | KT11: =KT10+KQ11-KR11+KS11 -> 0 | KX11: =KX10+KU11-KV11+KW11 -> 0 | LB11: =LB10+KY11-KZ11+LA11 -> 0 | LF11: =LF10+LC11-LD11+LE11 -> 0 | LJ11: =LJ10+LG11-LH11+LI11 -> 0 | LN11: =LN10+LK11-LL11+LM11 -> 0 | LR11: =LR10+LO11-LP11+LQ11 -> 0 | LV11: =LV10+LS11-LT11+LU11 -> 0 | LZ11: =LZ10+LW11-LX11+LY11 -> 0 | MD11: =MD10+MA11-MB11+MC11 -> 0 | MH11: =MH10+ME11-MF11+MG11 -> 0 | ML11: =ML10+MI11-MJ11+MK11 -> 0 | MP11: =MP10+MM11-MN11+MO11 -> 0 | MT11: =MT10+MQ11-MR11+MS11 -> 0 | MX11: =MX10+MU11-MV11+MW11 -> 0 | NB11: =NB10+MY11-MZ11+NA11 -> 0 | NF11: =NF10+NC11-ND11+NE11 -> 0 | NJ11: =NJ10+NG11-NH11+NI11 -> 0 | NN11: =NN10+NK11-NL11+NM11 -> 0 | NR11: =NR10+NO11-NP11+NQ11 -> 0 | NV11: =NV10+NS11-NT11+NU11 -> 0 | NZ11: =NZ10+NW11-NX11+NY11 -> 0 | OD11: =OD10+OA11-OB11+OC11 -> 0 | OH11: =OH10+OE11-OF11+OG11 -> 0 | OL11: =OL10+OI11-OJ11+OK11 -> 0 | OP11: =OP10+OM11-ON11+OO11 -> 0 | OT11: =OT10+OQ11-OR11+OS11 -> 0 | OX11: =OX10+OU11-OV11+OW11 -> 0 | PB11: =PB10+OY11-OZ11+PA11 -> 0 | PF11: =PF10+PC11-PD11+PE11 -> 0 | PJ11: =PJ10+PG11-PH11+PI11 -> 0 | PN11: =PN10+PK11-PL11+PM11 -> 0 | PR11: =PR10+PO11-PP11+PQ11 -> 0 | PV11: =PV10+PS11-PT11+PU11 -> 0 | PZ11: =PZ10+PW11-PX11+PY11 -> 0 | QD11: =QD10+QA11-QB11+QC11 -> 0 | QH11: =QH10+QE11-QF11+QG11 -> 0 | QL11: =QL10+QI11-QJ11+QK11 -> 0 | QP11: =QP10+QM11-QN11+QO11 -> 0 | QT11: =QT10+QQ11-QR11+QS11 -> 0 | QX11: =QX10+QU11-QV11+QW11 -> 0 | RB11: =RB10+QY11-QZ11+RA11 -> 0 | RF11: =RF10+RC11-RD11+RE11 -> 0 | RJ11: =RJ10+RG11-RH11+RI11 -> 0 | RN11: =RN10+RK11-RL11+RM11 -> 0
F12: =F11+C12-D12+E12 -> 60 | J12: =J11+G12-H12+I12 -> 65 | N12: =N11+K12-L12+M12 -> 50 | R12: =R11+O12-P12+Q12 -> 20 | V12: =V11+S12-T12+U12 -> 0 | Z12: =Z11+W12-X12+Y12 -> 0 | AD12: =AD11+AA12-AB12+AC12 -> 0 | AH12: =AH11+AE12-AF12+AG12 -> 0 | AL12: =AL11+AI12-AJ12+AK12 -> 0 | AP12: =AP11+AM12-AN12+AO12 -> 0 | AT12: =AT11+AQ12-AR12+AS12 -> 0 | AX12: =AX11+AU12-AV12+AW12 -> 0 | BB12: =BB11+AY12-AZ12+BA12 -> 0 | BF12: =BF11+BC12-BD12+BE12 -> 0 | BJ12: =BJ11+BG12-BH12+BI12 -> 0 | BN12: =BN11+BK12-BL12+BM12 -> 0 | BR12: =BR11+BO12-BP12+BQ12 -> 0 | BV12: =BV11+BS12-BT12+BU12 -> 0 | BZ12: =BZ11+BW12-BX12+BY12 -> 0 | CD12: =CD11+CA12-CB12+CC12 -> 0 | CH12: =CH11+CE12-CF12+CG12 -> 0 | CL12: =CL11+CI12-CJ12+CK12 -> 0 | CP12: =CP11+CM12-CN12+CO12 -> 0 | CT12: =CT11+CQ12-CR12+CS12 -> 0 | CX12: =CX11+CU12-CV12+CW12 -> 0 | DB12: =DB11+CY12-CZ12+DA12 -> 0 | DF12: =DF11+DC12-DD12+DE12 -> 0 | DJ12: =DJ11+DG12-DH12+DI12 -> 0 | DN12: =DN11+DK12-DL12+DM12 -> 0 | DR12: =DR11+DO12-DP12+DQ12 -> 0 | DV12: =DV11+DS12-DT12+DU12 -> 0 | DZ12: =DZ11+DW12-DX12+DY12 -> 0 | ED12: =ED11+EA12-EB12+EC12 -> 0 | EH12: =EH11+EE12-EF12+EG12 -> 0 | EL12: =EL11+EI12-EJ12+EK12 -> 0 | EP12: =EP11+EM12-EN12+EO12 -> 0 | ET12: =ET11+EQ12-ER12+ES12 -> 0 | EX12: =EX11+EU12-EV12+EW12 -> 0 | FB12: =FB11+EY12-EZ12+FA12 -> 0 | FF12: =FF11+FC12-FD12+FE12 -> 0 | FJ12: =FJ11+FG12-FH12+FI12 -> 0 | FN12: =FN11+FK12-FL12+FM12 -> 0 | FR12: =FR11+FO12-FP12+FQ12 -> 0 | FV12: =FV11+FS12-FT12+FU12 -> 0 | FZ12: =FZ11+FW12-FX12+FY12 -> 0 | GD12: =GD11+GA12-GB12+GC12 -> 0 | GH12: =GH11+GE12-GF12+GG12 -> 0 | GL12: =GL11+GI12-GJ12+GK12 -> 0 | GP12: =GP11+GM12-GN12+GO12 -> #N/A | GT12: =GT11+GQ12-GR12+GS12 -> 0 | GX12: =GX11+GU12-GV12+GW12 -> 0 | HB12: =HB11+GY12-GZ12+HA12 -> 0 | HF12: =HF11+HC12-HD12+HE12 -> 0 | HJ12: =HJ11+HG12-HH12+HI12 -> 0 | HN12: =HN11+HK12-HL12+HM12 -> 0 | HR12: =HR11+HO12-HP12+HQ12 -> 0 | HV12: =HV11+HS12-HT12+HU12 -> 0 | HZ12: =HZ11+HW12-HX12+HY12 -> 0 | ID12: =ID11+IA12-IB12+IC12 -> 0 | IH12: =IH11+IE12-IF12+IG12 -> 0 | IL12: =IL11+II12-IJ12+IK12 -> 0 | IP12: =IP11+IM12-IN12+IO12 -> 0 | IT12: =IT11+IQ12-IR12+IS12 -> 0 | IX12: =IX11+IU12-IV12+IW12 -> 0 | JB12: =JB11+IY12-IZ12+JA12 -> 0 | JF12: =JF11+JC12-JD12+JE12 -> 0 | JJ12: =JJ11+JG12-JH12+JI12 -> 0 | JN12: =JN11+JK12-JL12+JM12 -> 0 | JR12: =JR11+JO12-JP12+JQ12 -> 0 | JV12: =JV11+JS12-JT12+JU12 -> 0 | JZ12: =JZ11+JW12-JX12+JY12 -> 0 | KD12: =KD11+KA12-KB12+KC12 -> 0 | KH12: =KH11+KE12-KF12+KG12 -> 0 | KL12: =KL11+KI12-KJ12+KK12 -> 0 | KP12: =KP11+KM12-KN12+KO12 -> 0 | KT12: =KT11+KQ12-KR12+KS12 -> 0 | KX12: =KX11+KU12-KV12+KW12 -> 0 | LB12: =LB11+KY12-KZ12+LA12 -> 0 | LF12: =LF11+LC12-LD12+LE12 -> 0 | LJ12: =LJ11+LG12-LH12+LI12 -> 0 | LN12: =LN11+LK12-LL12+LM12 -> 0 | LR12: =LR11+LO12-LP12+LQ12 -> 0 | LV12: =LV11+LS12-LT12+LU12 -> 0 | LZ12: =LZ11+LW12-LX12+LY12 -> 0 | MD12: =MD11+MA12-MB12+MC12 -> 0 | MH12: =MH11+ME12-MF12+MG12 -> 0 | ML12: =ML11+MI12-MJ12+MK12 -> 0 | MP12: =MP11+MM12-MN12+MO12 -> 0 | MT12: =MT11+MQ12-MR12+MS12 -> 0 | MX12: =MX11+MU12-MV12+MW12 -> 0 | NB12: =NB11+MY12-MZ12+NA12 -> 0 | NF12: =NF11+NC12-ND12+NE12 -> 0 | NJ12: =NJ11+NG12-NH12+NI12 -> 0 | NN12: =NN11+NK12-NL12+NM12 -> 0 | NR12: =NR11+NO12-NP12+NQ12 -> 0 | NV12: =NV11+NS12-NT12+NU12 -> 0 | NZ12: =NZ11+NW12-NX12+NY12 -> 0 | OD12: =OD11+OA12-OB12+OC12 -> 0 | OH12: =OH11+OE12-OF12+OG12 -> 0 | OL12: =OL11+OI12-OJ12+OK12 -> 0 | OP12: =OP11+OM12-ON12+OO12 -> 0 | OT12: =OT11+OQ12-OR12+OS12 -> 0 | OX12: =OX11+OU12-OV12+OW12 -> 0 | PB12: =PB11+OY12-OZ12+PA12 -> 0 | PF12: =PF11+PC12-PD12+PE12 -> 0 | PJ12: =PJ11+PG12-PH12+PI12 -> 0 | PN12: =PN11+PK12-PL12+PM12 -> 0 | PR12: =PR11+PO12-PP12+PQ12 -> 0 | PV12: =PV11+PS12-PT12+PU12 -> 0 | PZ12: =PZ11+PW12-PX12+PY12 -> 0 | QD12: =QD11+QA12-QB12+QC12 -> 0 | QH12: =QH11+QE12-QF12+QG12 -> 0 | QL12: =QL11+QI12-QJ12+QK12 -> 0 | QP12: =QP11+QM12-QN12+QO12 -> 0 | QT12: =QT11+QQ12-QR12+QS12 -> 0 | QX12: =QX11+QU12-QV12+QW12 -> 0 | RB12: =RB11+QY12-QZ12+RA12 -> 0 | RF12: =RF11+RC12-RD12+RE12 -> 0 | RJ12: =RJ11+RG12-RH12+RI12 -> 0 | RN12: =RN11+RK12-RL12+RM12 -> 0
F13: =F12+C13-D13+E13 -> 60 | J13: =J12+G13-H13+I13 -> 65 | N13: =N12+K13-L13+M13 -> 50 | R13: =R12+O13-P13+Q13 -> 20 | V13: =V12+S13-T13+U13 -> 0 | Z13: =Z12+W13-X13+Y13 -> 0 | AD13: =AD12+AA13-AB13+AC13 -> 0 | AH13: =AH12+AE13-AF13+AG13 -> 0 | AL13: =AL12+AI13-AJ13+AK13 -> 0 | AP13: =AP12+AM13-AN13+AO13 -> 0 | AT13: =AT12+AQ13-AR13+AS13 -> 0 | AX13: =AX12+AU13-AV13+AW13 -> 0 | BB13: =BB12+AY13-AZ13+BA13 -> 0 | BF13: =BF12+BC13-BD13+BE13 -> 0 | BJ13: =BJ12+BG13-BH13+BI13 -> 0 | BN13: =BN12+BK13-BL13+BM13 -> 0 | BR13: =BR12+BO13-BP13+BQ13 -> 0 | BV13: =BV12+BS13-BT13+BU13 -> 0 | BZ13: =BZ12+BW13-BX13+BY13 -> 0 | CD13: =CD12+CA13-CB13+CC13 -> 0 | CH13: =CH12+CE13-CF13+CG13 -> 0 | CL13: =CL12+CI13-CJ13+CK13 -> 0 | CP13: =CP12+CM13-CN13+CO13 -> 0 | CT13: =CT12+CQ13-CR13+CS13 -> 0 | CX13: =CX12+CU13-CV13+CW13 -> 0 | DB13: =DB12+CY13-CZ13+DA13 -> 0 | DF13: =DF12+DC13-DD13+DE13 -> 0 | DJ13: =DJ12+DG13-DH13+DI13 -> 0 | DN13: =DN12+DK13-DL13+DM13 -> 0 | DR13: =DR12+DO13-DP13+DQ13 -> 0 | DV13: =DV12+DS13-DT13+DU13 -> 0 | DZ13: =DZ12+DW13-DX13+DY13 -> 0 | ED13: =ED12+EA13-EB13+EC13 -> 0 | EH13: =EH12+EE13-EF13+EG13 -> 0 | EL13: =EL12+EI13-EJ13+EK13 -> 0 | EP13: =EP12+EM13-EN13+EO13 -> 0 | ET13: =ET12+EQ13-ER13+ES13 -> 0 | EX13: =EX12+EU13-EV13+EW13 -> 0 | FB13: =FB12+EY13-EZ13+FA13 -> 0 | FF13: =FF12+FC13-FD13+FE13 -> 0 | FJ13: =FJ12+FG13-FH13+FI13 -> 0 | FN13: =FN12+FK13-FL13+FM13 -> 0 | FR13: =FR12+FO13-FP13+FQ13 -> 0 | FV13: =FV12+FS13-FT13+FU13 -> 0 | FZ13: =FZ12+FW13-FX13+FY13 -> 0 | GD13: =GD12+GA13-GB13+GC13 -> 0 | GH13: =GH12+GE13-GF13+GG13 -> 0 | GL13: =GL12+GI13-GJ13+GK13 -> 0 | GP13: =GP12+GM13-GN13+GO13 -> #N/A | GT13: =GT12+GQ13-GR13+GS13 -> 0 | GX13: =GX12+GU13-GV13+GW13 -> 0 | HB13: =HB12+GY13-GZ13+HA13 -> 0 | HF13: =HF12+HC13-HD13+HE13 -> 0 | HJ13: =HJ12+HG13-HH13+HI13 -> 0 | HN13: =HN12+HK13-HL13+HM13 -> 0 | HR13: =HR12+HO13-HP13+HQ13 -> 0 | HV13: =HV12+HS13-HT13+HU13 -> 0 | HZ13: =HZ12+HW13-HX13+HY13 -> 0 | ID13: =ID12+IA13-IB13+IC13 -> 0 | IH13: =IH12+IE13-IF13+IG13 -> 0 | IL13: =IL12+II13-IJ13+IK13 -> 0 | IP13: =IP12+IM13-IN13+IO13 -> 0 | IT13: =IT12+IQ13-IR13+IS13 -> 0 | IX13: =IX12+IU13-IV13+IW13 -> 0 | JB13: =JB12+IY13-IZ13+JA13 -> 0 | JF13: =JF12+JC13-JD13+JE13 -> 0 | JJ13: =JJ12+JG13-JH13+JI13 -> 0 | JN13: =JN12+JK13-JL13+JM13 -> 0 | JR13: =JR12+JO13-JP13+JQ13 -> 0 | JV13: =JV12+JS13-JT13+JU13 -> 0 | JZ13: =JZ12+JW13-JX13+JY13 -> 0 | KD13: =KD12+KA13-KB13+KC13 -> 0 | KH13: =KH12+KE13-KF13+KG13 -> 0 | KL13: =KL12+KI13-KJ13+KK13 -> 0 | KP13: =KP12+KM13-KN13+KO13 -> 0 | KT13: =KT12+KQ13-KR13+KS13 -> 0 | KX13: =KX12+KU13-KV13+KW13 -> 0 | LB13: =LB12+KY13-KZ13+LA13 -> 0 | LF13: =LF12+LC13-LD13+LE13 -> 0 | LJ13: =LJ12+LG13-LH13+LI13 -> 0 | LN13: =LN12+LK13-LL13+LM13 -> 0 | LR13: =LR12+LO13-LP13+LQ13 -> 0 | LV13: =LV12+LS13-LT13+LU13 -> 0 | LZ13: =LZ12+LW13-LX13+LY13 -> 0 | MD13: =MD12+MA13-MB13+MC13 -> 0 | MH13: =MH12+ME13-MF13+MG13 -> 0 | ML13: =ML12+MI13-MJ13+MK13 -> 0 | MP13: =MP12+MM13-MN13+MO13 -> 0 | MT13: =MT12+MQ13-MR13+MS13 -> 0 | MX13: =MX12+MU13-MV13+MW13 -> 0 | NB13: =NB12+MY13-MZ13+NA13 -> 0 | NF13: =NF12+NC13-ND13+NE13 -> 0 | NJ13: =NJ12+NG13-NH13+NI13 -> 0 | NN13: =NN12+NK13-NL13+NM13 -> 0 | NR13: =NR12+NO13-NP13+NQ13 -> 0 | NV13: =NV12+NS13-NT13+NU13 -> 0 | NZ13: =NZ12+NW13-NX13+NY13 -> 0 | OD13: =OD12+OA13-OB13+OC13 -> 0 | OH13: =OH12+OE13-OF13+OG13 -> 0 | OL13: =OL12+OI13-OJ13+OK13 -> 0 | OP13: =OP12+OM13-ON13+OO13 -> 0 | OT13: =OT12+OQ13-OR13+OS13 -> 0 | OX13: =OX12+OU13-OV13+OW13 -> 0 | PB13: =PB12+OY13-OZ13+PA13 -> 0 | PF13: =PF12+PC13-PD13+PE13 -> 0 | PJ13: =PJ12+PG13-PH13+PI13 -> 0 | PN13: =PN12+PK13-PL13+PM13 -> 0 | PR13: =PR12+PO13-PP13+PQ13 -> 0 | PV13: =PV12+PS13-PT13+PU13 -> 0 | PZ13: =PZ12+PW13-PX13+PY13 -> 0 | QD13: =QD12+QA13-QB13+QC13 -> 0 | QH13: =QH12+QE13-QF13+QG13 -> 0 | QL13: =QL12+QI13-QJ13+QK13 -> 0 | QP13: =QP12+QM13-QN13+QO13 -> 0 | QT13: =QT12+QQ13-QR13+QS13 -> 0 | QX13: =QX12+QU13-QV13+QW13 -> 0 | RB13: =RB12+QY13-QZ13+RA13 -> 0 | RF13: =RF12+RC13-RD13+RE13 -> 0 | RJ13: =RJ12+RG13-RH13+RI13 -> 0 | RN13: =RN12+RK13-RL13+RM13 -> 0
F14: =F13+C14-D14+E14 -> 60 | J14: =J13+G14-H14+I14 -> 65 | N14: =N13+K14-L14+M14 -> 50 | R14: =R13+O14-P14+Q14 -> 20 | V14: =V13+S14-T14+U14 -> 0 | Z14: =Z13+W14-X14+Y14 -> 0 | AD14: =AD13+AA14-AB14+AC14 -> 0 | AH14: =AH13+AE14-AF14+AG14 -> 0 | AL14: =AL13+AI14-AJ14+AK14 -> 0 | AP14: =AP13+AM14-AN14+AO14 -> 0 | AT14: =AT13+AQ14-AR14+AS14 -> 0 | AX14: =AX13+AU14-AV14+AW14 -> 0 | BB14: =BB13+AY14-AZ14+BA14 -> 0 | BF14: =BF13+BC14-BD14+BE14 -> 0 | BJ14: =BJ13+BG14-BH14+BI14 -> 0 | BN14: =BN13+BK14-BL14+BM14 -> 0 | BR14: =BR13+BO14-BP14+BQ14 -> 0 | BV14: =BV13+BS14-BT14+BU14 -> 0 | BZ14: =BZ13+BW14-BX14+BY14 -> 0 | CD14: =CD13+CA14-CB14+CC14 -> 0 | CH14: =CH13+CE14-CF14+CG14 -> 0 | CL14: =CL13+CI14-CJ14+CK14 -> 0 | CP14: =CP13+CM14-CN14+CO14 -> 0 | CT14: =CT13+CQ14-CR14+CS14 -> 0 | CX14: =CX13+CU14-CV14+CW14 -> 0 | DB14: =DB13+CY14-CZ14+DA14 -> 0 | DF14: =DF13+DC14-DD14+DE14 -> 0 | DJ14: =DJ13+DG14-DH14+DI14 -> 0 | DN14: =DN13+DK14-DL14+DM14 -> 0 | DR14: =DR13+DO14-DP14+DQ14 -> 0 | DV14: =DV13+DS14-DT14+DU14 -> 0 | DZ14: =DZ13+DW14-DX14+DY14 -> 0 | ED14: =ED13+EA14-EB14+EC14 -> 0 | EH14: =EH13+EE14-EF14+EG14 -> 0 | EL14: =EL13+EI14-EJ14+EK14 -> 0 | EP14: =EP13+EM14-EN14+EO14 -> 0 | ET14: =ET13+EQ14-ER14+ES14 -> 0 | EX14: =EX13+EU14-EV14+EW14 -> 0 | FB14: =FB13+EY14-EZ14+FA14 -> 0 | FF14: =FF13+FC14-FD14+FE14 -> 0 | FJ14: =FJ13+FG14-FH14+FI14 -> 0 | FN14: =FN13+FK14-FL14+FM14 -> 0 | FR14: =FR13+FO14-FP14+FQ14 -> 0 | FV14: =FV13+FS14-FT14+FU14 -> 0 | FZ14: =FZ13+FW14-FX14+FY14 -> 0 | GD14: =GD13+GA14-GB14+GC14 -> 0 | GH14: =GH13+GE14-GF14+GG14 -> 0 | GL14: =GL13+GI14-GJ14+GK14 -> 0 | GP14: =GP13+GM14-GN14+GO14 -> #N/A | GT14: =GT13+GQ14-GR14+GS14 -> 0 | GX14: =GX13+GU14-GV14+GW14 -> 0 | HB14: =HB13+GY14-GZ14+HA14 -> 0 | HF14: =HF13+HC14-HD14+HE14 -> 0 | HJ14: =HJ13+HG14-HH14+HI14 -> 0 | HN14: =HN13+HK14-HL14+HM14 -> 0 | HR14: =HR13+HO14-HP14+HQ14 -> 0 | HV14: =HV13+HS14-HT14+HU14 -> 0 | HZ14: =HZ13+HW14-HX14+HY14 -> 0 | ID14: =ID13+IA14-IB14+IC14 -> 0 | IH14: =IH13+IE14-IF14+IG14 -> 0 | IL14: =IL13+II14-IJ14+IK14 -> 0 | IP14: =IP13+IM14-IN14+IO14 -> 0 | IT14: =IT13+IQ14-IR14+IS14 -> 0 | IX14: =IX13+IU14-IV14+IW14 -> 0 | JB14: =JB13+IY14-IZ14+JA14 -> 0 | JF14: =JF13+JC14-JD14+JE14 -> 0 | JJ14: =JJ13+JG14-JH14+JI14 -> 0 | JN14: =JN13+JK14-JL14+JM14 -> 0 | JR14: =JR13+JO14-JP14+JQ14 -> 0 | JV14: =JV13+JS14-JT14+JU14 -> 0 | JZ14: =JZ13+JW14-JX14+JY14 -> 0 | KD14: =KD13+KA14-KB14+KC14 -> 0 | KH14: =KH13+KE14-KF14+KG14 -> 0 | KL14: =KL13+KI14-KJ14+KK14 -> 0 | KP14: =KP13+KM14-KN14+KO14 -> 0 | KT14: =KT13+KQ14-KR14+KS14 -> 0 | KX14: =KX13+KU14-KV14+KW14 -> 0 | LB14: =LB13+KY14-KZ14+LA14 -> 0 | LF14: =LF13+LC14-LD14+LE14 -> 0 | LJ14: =LJ13+LG14-LH14+LI14 -> 0 | LN14: =LN13+LK14-LL14+LM14 -> 0 | LR14: =LR13+LO14-LP14+LQ14 -> 0 | LV14: =LV13+LS14-LT14+LU14 -> 0 | LZ14: =LZ13+LW14-LX14+LY14 -> 0 | MD14: =MD13+MA14-MB14+MC14 -> 0 | MH14: =MH13+ME14-MF14+MG14 -> 0 | ML14: =ML13+MI14-MJ14+MK14 -> 0 | MP14: =MP13+MM14-MN14+MO14 -> 0 | MT14: =MT13+MQ14-MR14+MS14 -> 0 | MX14: =MX13+MU14-MV14+MW14 -> 0 | NB14: =NB13+MY14-MZ14+NA14 -> 0 | NF14: =NF13+NC14-ND14+NE14 -> 0 | NJ14: =NJ13+NG14-NH14+NI14 -> 0 | NN14: =NN13+NK14-NL14+NM14 -> 0 | NR14: =NR13+NO14-NP14+NQ14 -> 0 | NV14: =NV13+NS14-NT14+NU14 -> 0 | NZ14: =NZ13+NW14-NX14+NY14 -> 0 | OD14: =OD13+OA14-OB14+OC14 -> 0 | OH14: =OH13+OE14-OF14+OG14 -> 0 | OL14: =OL13+OI14-OJ14+OK14 -> 0 | OP14: =OP13+OM14-ON14+OO14 -> 0 | OT14: =OT13+OQ14-OR14+OS14 -> 0 | OX14: =OX13+OU14-OV14+OW14 -> 0 | PB14: =PB13+OY14-OZ14+PA14 -> 0 | PF14: =PF13+PC14-PD14+PE14 -> 0 | PJ14: =PJ13+PG14-PH14+PI14 -> 0 | PN14: =PN13+PK14-PL14+PM14 -> 0 | PR14: =PR13+PO14-PP14+PQ14 -> 0 | PV14: =PV13+PS14-PT14+PU14 -> 0 | PZ14: =PZ13+PW14-PX14+PY14 -> 0 | QD14: =QD13+QA14-QB14+QC14 -> 0 | QH14: =QH13+QE14-QF14+QG14 -> 0 | QL14: =QL13+QI14-QJ14+QK14 -> 0 | QP14: =QP13+QM14-QN14+QO14 -> 0 | QT14: =QT13+QQ14-QR14+QS14 -> 0 | QX14: =QX13+QU14-QV14+QW14 -> 0 | RB14: =RB13+QY14-QZ14+RA14 -> 0 | RF14: =RF13+RC14-RD14+RE14 -> 0 | RJ14: =RJ13+RG14-RH14+RI14 -> 0 | RN14: =RN13+RK14-RL14+RM14 -> 0
F15: =F14+C15-D15+E15 -> 60 | J15: =J14+G15-H15+I15 -> 65 | N15: =N14+K15-L15+M15 -> 50 | R15: =R14+O15-P15+Q15 -> 20 | V15: =V14+S15-T15+U15 -> 0 | Z15: =Z14+W15-X15+Y15 -> 0 | AD15: =AD14+AA15-AB15+AC15 -> 0 | AH15: =AH14+AE15-AF15+AG15 -> 0 | AL15: =AL14+AI15-AJ15+AK15 -> 0 | AP15: =AP14+AM15-AN15+AO15 -> 0 | AT15: =AT14+AQ15-AR15+AS15 -> 0 | AX15: =AX14+AU15-AV15+AW15 -> 0 | BB15: =BB14+AY15-AZ15+BA15 -> 0 | BF15: =BF14+BC15-BD15+BE15 -> 0 | BJ15: =BJ14+BG15-BH15+BI15 -> 0 | BN15: =BN14+BK15-BL15+BM15 -> 0 | BR15: =BR14+BO15-BP15+BQ15 -> 0 | BV15: =BV14+BS15-BT15+BU15 -> 0 | BZ15: =BZ14+BW15-BX15+BY15 -> 0 | CD15: =CD14+CA15-CB15+CC15 -> 0 | CH15: =CH14+CE15-CF15+CG15 -> 0 | CL15: =CL14+CI15-CJ15+CK15 -> 0 | CP15: =CP14+CM15-CN15+CO15 -> 0 | CT15: =CT14+CQ15-CR15+CS15 -> 0 | CX15: =CX14+CU15-CV15+CW15 -> 0 | DB15: =DB14+CY15-CZ15+DA15 -> 0 | DF15: =DF14+DC15-DD15+DE15 -> 0 | DJ15: =DJ14+DG15-DH15+DI15 -> 0 | DN15: =DN14+DK15-DL15+DM15 -> 0 | DR15: =DR14+DO15-DP15+DQ15 -> 0 | DV15: =DV14+DS15-DT15+DU15 -> 0 | DZ15: =DZ14+DW15-DX15+DY15 -> 0 | ED15: =ED14+EA15-EB15+EC15 -> 0 | EH15: =EH14+EE15-EF15+EG15 -> 0 | EL15: =EL14+EI15-EJ15+EK15 -> 0 | EP15: =EP14+EM15-EN15+EO15 -> 0 | ET15: =ET14+EQ15-ER15+ES15 -> 0 | EX15: =EX14+EU15-EV15+EW15 -> 0 | FB15: =FB14+EY15-EZ15+FA15 -> 0 | FF15: =FF14+FC15-FD15+FE15 -> 0 | FJ15: =FJ14+FG15-FH15+FI15 -> 0 | FN15: =FN14+FK15-FL15+FM15 -> 0 | FR15: =FR14+FO15-FP15+FQ15 -> 0 | FV15: =FV14+FS15-FT15+FU15 -> 0 | FZ15: =FZ14+FW15-FX15+FY15 -> 0 | GD15: =GD14+GA15-GB15+GC15 -> 0 | GH15: =GH14+GE15-GF15+GG15 -> 0 | GL15: =GL14+GI15-GJ15+GK15 -> 0 | GP15: =GP14+GM15-GN15+GO15 -> #N/A | GT15: =GT14+GQ15-GR15+GS15 -> 0 | GX15: =GX14+GU15-GV15+GW15 -> 0 | HB15: =HB14+GY15-GZ15+HA15 -> 0 | HF15: =HF14+HC15-HD15+HE15 -> 0 | HJ15: =HJ14+HG15-HH15+HI15 -> 0 | HN15: =HN14+HK15-HL15+HM15 -> 0 | HR15: =HR14+HO15-HP15+HQ15 -> 0 | HV15: =HV14+HS15-HT15+HU15 -> 0 | HZ15: =HZ14+HW15-HX15+HY15 -> 0 | ID15: =ID14+IA15-IB15+IC15 -> 0 | IH15: =IH14+IE15-IF15+IG15 -> 0 | IL15: =IL14+II15-IJ15+IK15 -> 0 | IP15: =IP14+IM15-IN15+IO15 -> 0 | IT15: =IT14+IQ15-IR15+IS15 -> 0 | IX15: =IX14+IU15-IV15+IW15 -> 0 | JB15: =JB14+IY15-IZ15+JA15 -> 0 | JF15: =JF14+JC15-JD15+JE15 -> 0 | JJ15: =JJ14+JG15-JH15+JI15 -> 0 | JN15: =JN14+JK15-JL15+JM15 -> 0 | JR15: =JR14+JO15-JP15+JQ15 -> 0 | JV15: =JV14+JS15-JT15+JU15 -> 0 | JZ15: =JZ14+JW15-JX15+JY15 -> 0 | KD15: =KD14+KA15-KB15+KC15 -> 0 | KH15: =KH14+KE15-KF15+KG15 -> 0 | KL15: =KL14+KI15-KJ15+KK15 -> 0 | KP15: =KP14+KM15-KN15+KO15 -> 0 | KT15: =KT14+KQ15-KR15+KS15 -> 0 | KX15: =KX14+KU15-KV15+KW15 -> 0 | LB15: =LB14+KY15-KZ15+LA15 -> 0 | LF15: =LF14+LC15-LD15+LE15 -> 0 | LJ15: =LJ14+LG15-LH15+LI15 -> 0 | LN15: =LN14+LK15-LL15+LM15 -> 0 | LR15: =LR14+LO15-LP15+LQ15 -> 0 | LV15: =LV14+LS15-LT15+LU15 -> 0 | LZ15: =LZ14+LW15-LX15+LY15 -> 0 | MD15: =MD14+MA15-MB15+MC15 -> 0 | MH15: =MH14+ME15-MF15+MG15 -> 0 | ML15: =ML14+MI15-MJ15+MK15 -> 0 | MP15: =MP14+MM15-MN15+MO15 -> 0 | MT15: =MT14+MQ15-MR15+MS15 -> 0 | MX15: =MX14+MU15-MV15+MW15 -> 0 | NB15: =NB14+MY15-MZ15+NA15 -> 0 | NF15: =NF14+NC15-ND15+NE15 -> 0 | NJ15: =NJ14+NG15-NH15+NI15 -> 0 | NN15: =NN14+NK15-NL15+NM15 -> 0 | NR15: =NR14+NO15-NP15+NQ15 -> 0 | NV15: =NV14+NS15-NT15+NU15 -> 0 | NZ15: =NZ14+NW15-NX15+NY15 -> 0 | OD15: =OD14+OA15-OB15+OC15 -> 0 | OH15: =OH14+OE15-OF15+OG15 -> 0 | OL15: =OL14+OI15-OJ15+OK15 -> 0 | OP15: =OP14+OM15-ON15+OO15 -> 0 | OT15: =OT14+OQ15-OR15+OS15 -> 0 | OX15: =OX14+OU15-OV15+OW15 -> 0 | PB15: =PB14+OY15-OZ15+PA15 -> 0 | PF15: =PF14+PC15-PD15+PE15 -> 0 | PJ15: =PJ14+PG15-PH15+PI15 -> 0 | PN15: =PN14+PK15-PL15+PM15 -> 0 | PR15: =PR14+PO15-PP15+PQ15 -> 0 | PV15: =PV14+PS15-PT15+PU15 -> 0 | PZ15: =PZ14+PW15-PX15+PY15 -> 0 | QD15: =QD14+QA15-QB15+QC15 -> 0 | QH15: =QH14+QE15-QF15+QG15 -> 0 | QL15: =QL14+QI15-QJ15+QK15 -> 0 | QP15: =QP14+QM15-QN15+QO15 -> 0 | QT15: =QT14+QQ15-QR15+QS15 -> 0 | QX15: =QX14+QU15-QV15+QW15 -> 0 | RB15: =RB14+QY15-QZ15+RA15 -> 0 | RF15: =RF14+RC15-RD15+RE15 -> 0 | RJ15: =RJ14+RG15-RH15+RI15 -> 0 | RN15: =RN14+RK15-RL15+RM15 -> 0
F16: =F15+C16-D16+E16 -> 60 | J16: =J15+G16-H16+I16 -> 65 | N16: =N15+K16-L16+M16 -> 50 | R16: =R15+O16-P16+Q16 -> 20 | V16: =V15+S16-T16+U16 -> 0 | Z16: =Z15+W16-X16+Y16 -> 0 | AD16: =AD15+AA16-AB16+AC16 -> 0 | AH16: =AH15+AE16-AF16+AG16 -> 0 | AL16: =AL15+AI16-AJ16+AK16 -> 0 | AP16: =AP15+AM16-AN16+AO16 -> 0 | AT16: =AT15+AQ16-AR16+AS16 -> 0 | AX16: =AX15+AU16-AV16+AW16 -> 0 | BB16: =BB15+AY16-AZ16+BA16 -> 0 | BF16: =BF15+BC16-BD16+BE16 -> 0 | BJ16: =BJ15+BG16-BH16+BI16 -> 0 | BN16: =BN15+BK16-BL16+BM16 -> 0 | BR16: =BR15+BO16-BP16+BQ16 -> 0 | BV16: =BV15+BS16-BT16+BU16 -> 0 | BZ16: =BZ15+BW16-BX16+BY16 -> 0 | CD16: =CD15+CA16-CB16+CC16 -> 0 | CH16: =CH15+CE16-CF16+CG16 -> 0 | CL16: =CL15+CI16-CJ16+CK16 -> 0 | CP16: =CP15+CM16-CN16+CO16 -> 0 | CT16: =CT15+CQ16-CR16+CS16 -> 0 | CX16: =CX15+CU16-CV16+CW16 -> 0 | DB16: =DB15+CY16-CZ16+DA16 -> 0 | DF16: =DF15+DC16-DD16+DE16 -> 0 | DJ16: =DJ15+DG16-DH16+DI16 -> 0 | DN16: =DN15+DK16-DL16+DM16 -> 0 | DR16: =DR15+DO16-DP16+DQ16 -> 0 | DV16: =DV15+DS16-DT16+DU16 -> 0 | DZ16: =DZ15+DW16-DX16+DY16 -> 0 | ED16: =ED15+EA16-EB16+EC16 -> 0 | EH16: =EH15+EE16-EF16+EG16 -> 0 | EL16: =EL15+EI16-EJ16+EK16 -> 0 | EP16: =EP15+EM16-EN16+EO16 -> 0 | ET16: =ET15+EQ16-ER16+ES16 -> 0 | EX16: =EX15+EU16-EV16+EW16 -> 0 | FB16: =FB15+EY16-EZ16+FA16 -> 0 | FF16: =FF15+FC16-FD16+FE16 -> 0 | FJ16: =FJ15+FG16-FH16+FI16 -> 0 | FN16: =FN15+FK16-FL16+FM16 -> 0 | FR16: =FR15+FO16-FP16+FQ16 -> 0 | FV16: =FV15+FS16-FT16+FU16 -> 0 | FZ16: =FZ15+FW16-FX16+FY16 -> 0 | GD16: =GD15+GA16-GB16+GC16 -> 0 | GH16: =GH15+GE16-GF16+GG16 -> 0 | GL16: =GL15+GI16-GJ16+GK16 -> 0 | GP16: =GP15+GM16-GN16+GO16 -> #N/A | GT16: =GT15+GQ16-GR16+GS16 -> 0 | GX16: =GX15+GU16-GV16+GW16 -> 0 | HB16: =HB15+GY16-GZ16+HA16 -> 0 | HF16: =HF15+HC16-HD16+HE16 -> 0 | HJ16: =HJ15+HG16-HH16+HI16 -> 0 | HN16: =HN15+HK16-HL16+HM16 -> 0 | HR16: =HR15+HO16-HP16+HQ16 -> 0 | HV16: =HV15+HS16-HT16+HU16 -> 0 | HZ16: =HZ15+HW16-HX16+HY16 -> 0 | ID16: =ID15+IA16-IB16+IC16 -> 0 | IH16: =IH15+IE16-IF16+IG16 -> 0 | IL16: =IL15+II16-IJ16+IK16 -> 0 | IP16: =IP15+IM16-IN16+IO16 -> 0 | IT16: =IT15+IQ16-IR16+IS16 -> 0 | IX16: =IX15+IU16-IV16+IW16 -> 0 | JB16: =JB15+IY16-IZ16+JA16 -> 0 | JF16: =JF15+JC16-JD16+JE16 -> 0 | JJ16: =JJ15+JG16-JH16+JI16 -> 0 | JN16: =JN15+JK16-JL16+JM16 -> 0 | JR16: =JR15+JO16-JP16+JQ16 -> 0 | JV16: =JV15+JS16-JT16+JU16 -> 0 | JZ16: =JZ15+JW16-JX16+JY16 -> 0 | KD16: =KD15+KA16-KB16+KC16 -> 0 | KH16: =KH15+KE16-KF16+KG16 -> 0 | KL16: =KL15+KI16-KJ16+KK16 -> 0 | KP16: =KP15+KM16-KN16+KO16 -> 0 | KT16: =KT15+KQ16-KR16+KS16 -> 0 | KX16: =KX15+KU16-KV16+KW16 -> 0 | LB16: =LB15+KY16-KZ16+LA16 -> 0 | LF16: =LF15+LC16-LD16+LE16 -> 0 | LJ16: =LJ15+LG16-LH16+LI16 -> 0 | LN16: =LN15+LK16-LL16+LM16 -> 0 | LR16: =LR15+LO16-LP16+LQ16 -> 0 | LV16: =LV15+LS16-LT16+LU16 -> 0 | LZ16: =LZ15+LW16-LX16+LY16 -> 0 | MD16: =MD15+MA16-MB16+MC16 -> 0 | MH16: =MH15+ME16-MF16+MG16 -> 0 | ML16: =ML15+MI16-MJ16+MK16 -> 0 | MP16: =MP15+MM16-MN16+MO16 -> 0 | MT16: =MT15+MQ16-MR16+MS16 -> 0 | MX16: =MX15+MU16-MV16+MW16 -> 0 | NB16: =NB15+MY16-MZ16+NA16 -> 0 | NF16: =NF15+NC16-ND16+NE16 -> 0 | NJ16: =NJ15+NG16-NH16+NI16 -> 0 | NN16: =NN15+NK16-NL16+NM16 -> 0 | NR16: =NR15+NO16-NP16+NQ16 -> 0 | NV16: =NV15+NS16-NT16+NU16 -> 0 | NZ16: =NZ15+NW16-NX16+NY16 -> 0 | OD16: =OD15+OA16-OB16+OC16 -> 0 | OH16: =OH15+OE16-OF16+OG16 -> 0 | OL16: =OL15+OI16-OJ16+OK16 -> 0 | OP16: =OP15+OM16-ON16+OO16 -> 0 | OT16: =OT15+OQ16-OR16+OS16 -> 0 | OX16: =OX15+OU16-OV16+OW16 -> 0 | PB16: =PB15+OY16-OZ16+PA16 -> 0 | PF16: =PF15+PC16-PD16+PE16 -> 0 | PJ16: =PJ15+PG16-PH16+PI16 -> 0 | PN16: =PN15+PK16-PL16+PM16 -> 0 | PR16: =PR15+PO16-PP16+PQ16 -> 0 | PV16: =PV15+PS16-PT16+PU16 -> 0 | PZ16: =PZ15+PW16-PX16+PY16 -> 0 | QD16: =QD15+QA16-QB16+QC16 -> 0 | QH16: =QH15+QE16-QF16+QG16 -> 0 | QL16: =QL15+QI16-QJ16+QK16 -> 0 | QP16: =QP15+QM16-QN16+QO16 -> 0 | QT16: =QT15+QQ16-QR16+QS16 -> 0 | QX16: =QX15+QU16-QV16+QW16 -> 0 | RB16: =RB15+QY16-QZ16+RA16 -> 0 | RF16: =RF15+RC16-RD16+RE16 -> 0 | RJ16: =RJ15+RG16-RH16+RI16 -> 0 | RN16: =RN15+RK16-RL16+RM16 -> 0
F17: =F16+C17-D17+E17 -> 60 | J17: =J16+G17-H17+I17 -> 65 | N17: =N16+K17-L17+M17 -> 50 | R17: =R16+O17-P17+Q17 -> 20 | V17: =V16+S17-T17+U17 -> 0 | Z17: =Z16+W17-X17+Y17 -> 0 | AD17: =AD16+AA17-AB17+AC17 -> 0 | AH17: =AH16+AE17-AF17+AG17 -> 0 | AL17: =AL16+AI17-AJ17+AK17 -> 0 | AP17: =AP16+AM17-AN17+AO17 -> 0 | AT17: =AT16+AQ17-AR17+AS17 -> 0 | AX17: =AX16+AU17-AV17+AW17 -> 0 | BB17: =BB16+AY17-AZ17+BA17 -> 0 | BF17: =BF16+BC17-BD17+BE17 -> 0 | BJ17: =BJ16+BG17-BH17+BI17 -> 0 | BN17: =BN16+BK17-BL17+BM17 -> 0 | BR17: =BR16+BO17-BP17+BQ17 -> 0 | BV17: =BV16+BS17-BT17+BU17 -> 0 | BZ17: =BZ16+BW17-BX17+BY17 -> 0 | CD17: =CD16+CA17-CB17+CC17 -> 0 | CH17: =CH16+CE17-CF17+CG17 -> 0 | CL17: =CL16+CI17-CJ17+CK17 -> 0 | CP17: =CP16+CM17-CN17+CO17 -> 0 | CT17: =CT16+CQ17-CR17+CS17 -> 0 | CX17: =CX16+CU17-CV17+CW17 -> 0 | DB17: =DB16+CY17-CZ17+DA17 -> 0 | DF17: =DF16+DC17-DD17+DE17 -> 0 | DJ17: =DJ16+DG17-DH17+DI17 -> 0 | DN17: =DN16+DK17-DL17+DM17 -> 0 | DR17: =DR16+DO17-DP17+DQ17 -> 0 | DV17: =DV16+DS17-DT17+DU17 -> 0 | DZ17: =DZ16+DW17-DX17+DY17 -> 0 | ED17: =ED16+EA17-EB17+EC17 -> 0 | EH17: =EH16+EE17-EF17+EG17 -> 0 | EL17: =EL16+EI17-EJ17+EK17 -> 0 | EP17: =EP16+EM17-EN17+EO17 -> 0 | ET17: =ET16+EQ17-ER17+ES17 -> 0 | EX17: =EX16+EU17-EV17+EW17 -> 0 | FB17: =FB16+EY17-EZ17+FA17 -> 0 | FF17: =FF16+FC17-FD17+FE17 -> 0 | FJ17: =FJ16+FG17-FH17+FI17 -> 0 | FN17: =FN16+FK17-FL17+FM17 -> 0 | FR17: =FR16+FO17-FP17+FQ17 -> 0 | FV17: =FV16+FS17-FT17+FU17 -> 0 | FZ17: =FZ16+FW17-FX17+FY17 -> 0 | GD17: =GD16+GA17-GB17+GC17 -> 0 | GH17: =GH16+GE17-GF17+GG17 -> 0 | GL17: =GL16+GI17-GJ17+GK17 -> 0 | GP17: =GP16+GM17-GN17+GO17 -> #N/A | GT17: =GT16+GQ17-GR17+GS17 -> 0 | GX17: =GX16+GU17-GV17+GW17 -> 0 | HB17: =HB16+GY17-GZ17+HA17 -> 0 | HF17: =HF16+HC17-HD17+HE17 -> 0 | HJ17: =HJ16+HG17-HH17+HI17 -> 0 | HN17: =HN16+HK17-HL17+HM17 -> 0 | HR17: =HR16+HO17-HP17+HQ17 -> 0 | HV17: =HV16+HS17-HT17+HU17 -> 0 | HZ17: =HZ16+HW17-HX17+HY17 -> 0 | ID17: =ID16+IA17-IB17+IC17 -> 0 | IH17: =IH16+IE17-IF17+IG17 -> 0 | IL17: =IL16+II17-IJ17+IK17 -> 0 | IP17: =IP16+IM17-IN17+IO17 -> 0 | IT17: =IT16+IQ17-IR17+IS17 -> 0 | IX17: =IX16+IU17-IV17+IW17 -> 0 | JB17: =JB16+IY17-IZ17+JA17 -> 0 | JF17: =JF16+JC17-JD17+JE17 -> 0 | JJ17: =JJ16+JG17-JH17+JI17 -> 0 | JN17: =JN16+JK17-JL17+JM17 -> 0 | JR17: =JR16+JO17-JP17+JQ17 -> 0 | JV17: =JV16+JS17-JT17+JU17 -> 0 | JZ17: =JZ16+JW17-JX17+JY17 -> 0 | KD17: =KD16+KA17-KB17+KC17 -> 0 | KH17: =KH16+KE17-KF17+KG17 -> 0 | KL17: =KL16+KI17-KJ17+KK17 -> 0 | KP17: =KP16+KM17-KN17+KO17 -> 0 | KT17: =KT16+KQ17-KR17+KS17 -> 0 | KX17: =KX16+KU17-KV17+KW17 -> 0 | LB17: =LB16+KY17-KZ17+LA17 -> 0 | LF17: =LF16+LC17-LD17+LE17 -> 0 | LJ17: =LJ16+LG17-LH17+LI17 -> 0 | LN17: =LN16+LK17-LL17+LM17 -> 0 | LR17: =LR16+LO17-LP17+LQ17 -> 0 | LV17: =LV16+LS17-LT17+LU17 -> 0 | LZ17: =LZ16+LW17-LX17+LY17 -> 0 | MD17: =MD16+MA17-MB17+MC17 -> 0 | MH17: =MH16+ME17-MF17+MG17 -> 0 | ML17: =ML16+MI17-MJ17+MK17 -> 0 | MP17: =MP16+MM17-MN17+MO17 -> 0 | MT17: =MT16+MQ17-MR17+MS17 -> 0 | MX17: =MX16+MU17-MV17+MW17 -> 0 | NB17: =NB16+MY17-MZ17+NA17 -> 0 | NF17: =NF16+NC17-ND17+NE17 -> 0 | NJ17: =NJ16+NG17-NH17+NI17 -> 0 | NN17: =NN16+NK17-NL17+NM17 -> 0 | NR17: =NR16+NO17-NP17+NQ17 -> 0 | NV17: =NV16+NS17-NT17+NU17 -> 0 | NZ17: =NZ16+NW17-NX17+NY17 -> 0 | OD17: =OD16+OA17-OB17+OC17 -> 0 | OH17: =OH16+OE17-OF17+OG17 -> 0 | OL17: =OL16+OI17-OJ17+OK17 -> 0 | OP17: =OP16+OM17-ON17+OO17 -> 0 | OT17: =OT16+OQ17-OR17+OS17 -> 0 | OX17: =OX16+OU17-OV17+OW17 -> 0 | PB17: =PB16+OY17-OZ17+PA17 -> 0 | PF17: =PF16+PC17-PD17+PE17 -> 0 | PJ17: =PJ16+PG17-PH17+PI17 -> 0 | PN17: =PN16+PK17-PL17+PM17 -> 0 | PR17: =PR16+PO17-PP17+PQ17 -> 0 | PV17: =PV16+PS17-PT17+PU17 -> 0 | PZ17: =PZ16+PW17-PX17+PY17 -> 0 | QD17: =QD16+QA17-QB17+QC17 -> 0 | QH17: =QH16+QE17-QF17+QG17 -> 0 | QL17: =QL16+QI17-QJ17+QK17 -> 0 | QP17: =QP16+QM17-QN17+QO17 -> 0 | QT17: =QT16+QQ17-QR17+QS17 -> 0 | QX17: =QX16+QU17-QV17+QW17 -> 0 | RB17: =RB16+QY17-QZ17+RA17 -> 0 | RF17: =RF16+RC17-RD17+RE17 -> 0 | RJ17: =RJ16+RG17-RH17+RI17 -> 0 | RN17: =RN16+RK17-RL17+RM17 -> 0
F18: =F17+C18-D18+E18 -> 60 | J18: =J17+G18-H18+I18 -> 65 | N18: =N17+K18-L18+M18 -> 50 | R18: =R17+O18-P18+Q18 -> 20 | V18: =V17+S18-T18+U18 -> 0 | Z18: =Z17+W18-X18+Y18 -> 0 | AD18: =AD17+AA18-AB18+AC18 -> 0 | AH18: =AH17+AE18-AF18+AG18 -> 0 | AL18: =AL17+AI18-AJ18+AK18 -> 0 | AP18: =AP17+AM18-AN18+AO18 -> 0 | AT18: =AT17+AQ18-AR18+AS18 -> 0 | AX18: =AX17+AU18-AV18+AW18 -> 0 | BB18: =BB17+AY18-AZ18+BA18 -> 0 | BF18: =BF17+BC18-BD18+BE18 -> 0 | BJ18: =BJ17+BG18-BH18+BI18 -> 0 | BN18: =BN17+BK18-BL18+BM18 -> 0 | BR18: =BR17+BO18-BP18+BQ18 -> 0 | BV18: =BV17+BS18-BT18+BU18 -> 0 | BZ18: =BZ17+BW18-BX18+BY18 -> 0 | CD18: =CD17+CA18-CB18+CC18 -> 0 | CH18: =CH17+CE18-CF18+CG18 -> 0 | CL18: =CL17+CI18-CJ18+CK18 -> 0 | CP18: =CP17+CM18-CN18+CO18 -> 0 | CT18: =CT17+CQ18-CR18+CS18 -> 0 | CX18: =CX17+CU18-CV18+CW18 -> 0 | DB18: =DB17+CY18-CZ18+DA18 -> 0 | DF18: =DF17+DC18-DD18+DE18 -> 0 | DJ18: =DJ17+DG18-DH18+DI18 -> 0 | DN18: =DN17+DK18-DL18+DM18 -> 0 | DR18: =DR17+DO18-DP18+DQ18 -> 0 | DV18: =DV17+DS18-DT18+DU18 -> 0 | DZ18: =DZ17+DW18-DX18+DY18 -> 0 | ED18: =ED17+EA18-EB18+EC18 -> 0 | EH18: =EH17+EE18-EF18+EG18 -> 0 | EL18: =EL17+EI18-EJ18+EK18 -> 0 | EP18: =EP17+EM18-EN18+EO18 -> 0 | ET18: =ET17+EQ18-ER18+ES18 -> 0 | EX18: =EX17+EU18-EV18+EW18 -> 0 | FB18: =FB17+EY18-EZ18+FA18 -> 0 | FF18: =FF17+FC18-FD18+FE18 -> 0 | FJ18: =FJ17+FG18-FH18+FI18 -> 0 | FN18: =FN17+FK18-FL18+FM18 -> 0 | FR18: =FR17+FO18-FP18+FQ18 -> 0 | FV18: =FV17+FS18-FT18+FU18 -> 0 | FZ18: =FZ17+FW18-FX18+FY18 -> 0 | GD18: =GD17+GA18-GB18+GC18 -> 0 | GH18: =GH17+GE18-GF18+GG18 -> 0 | GL18: =GL17+GI18-GJ18+GK18 -> 0 | GP18: =GP17+GM18-GN18+GO18 -> #N/A | GT18: =GT17+GQ18-GR18+GS18 -> 0 | GX18: =GX17+GU18-GV18+GW18 -> 0 | HB18: =HB17+GY18-GZ18+HA18 -> 0 | HF18: =HF17+HC18-HD18+HE18 -> 0 | HJ18: =HJ17+HG18-HH18+HI18 -> 0 | HN18: =HN17+HK18-HL18+HM18 -> 0 | HR18: =HR17+HO18-HP18+HQ18 -> 0 | HV18: =HV17+HS18-HT18+HU18 -> 0 | HZ18: =HZ17+HW18-HX18+HY18 -> 0 | ID18: =ID17+IA18-IB18+IC18 -> 0 | IH18: =IH17+IE18-IF18+IG18 -> 0 | IL18: =IL17+II18-IJ18+IK18 -> 0 | IP18: =IP17+IM18-IN18+IO18 -> 0 | IT18: =IT17+IQ18-IR18+IS18 -> 0 | IX18: =IX17+IU18-IV18+IW18 -> 0 | JB18: =JB17+IY18-IZ18+JA18 -> 0 | JF18: =JF17+JC18-JD18+JE18 -> 0 | JJ18: =JJ17+JG18-JH18+JI18 -> 0 | JN18: =JN17+JK18-JL18+JM18 -> 0 | JR18: =JR17+JO18-JP18+JQ18 -> 0 | JV18: =JV17+JS18-JT18+JU18 -> 0 | JZ18: =JZ17+JW18-JX18+JY18 -> 0 | KD18: =KD17+KA18-KB18+KC18 -> 0 | KH18: =KH17+KE18-KF18+KG18 -> 0 | KL18: =KL17+KI18-KJ18+KK18 -> 0 | KP18: =KP17+KM18-KN18+KO18 -> 0 | KT18: =KT17+KQ18-KR18+KS18 -> 0 | KX18: =KX17+KU18-KV18+KW18 -> 0 | LB18: =LB17+KY18-KZ18+LA18 -> 0 | LF18: =LF17+LC18-LD18+LE18 -> 0 | LJ18: =LJ17+LG18-LH18+LI18 -> 0 | LN18: =LN17+LK18-LL18+LM18 -> 0 | LR18: =LR17+LO18-LP18+LQ18 -> 0 | LV18: =LV17+LS18-LT18+LU18 -> 0 | LZ18: =LZ17+LW18-LX18+LY18 -> 0 | MD18: =MD17+MA18-MB18+MC18 -> 0 | MH18: =MH17+ME18-MF18+MG18 -> 0 | ML18: =ML17+MI18-MJ18+MK18 -> 0 | MP18: =MP17+MM18-MN18+MO18 -> 0 | MT18: =MT17+MQ18-MR18+MS18 -> 0 | MX18: =MX17+MU18-MV18+MW18 -> 0 | NB18: =NB17+MY18-MZ18+NA18 -> 0 | NF18: =NF17+NC18-ND18+NE18 -> 0 | NJ18: =NJ17+NG18-NH18+NI18 -> 0 | NN18: =NN17+NK18-NL18+NM18 -> 0 | NR18: =NR17+NO18-NP18+NQ18 -> 0 | NV18: =NV17+NS18-NT18+NU18 -> 0 | NZ18: =NZ17+NW18-NX18+NY18 -> 0 | OD18: =OD17+OA18-OB18+OC18 -> 0 | OH18: =OH17+OE18-OF18+OG18 -> 0 | OL18: =OL17+OI18-OJ18+OK18 -> 0 | OP18: =OP17+OM18-ON18+OO18 -> 0 | OT18: =OT17+OQ18-OR18+OS18 -> 0 | OX18: =OX17+OU18-OV18+OW18 -> 0 | PB18: =PB17+OY18-OZ18+PA18 -> 0 | PF18: =PF17+PC18-PD18+PE18 -> 0 | PJ18: =PJ17+PG18-PH18+PI18 -> 0 | PN18: =PN17+PK18-PL18+PM18 -> 0 | PR18: =PR17+PO18-PP18+PQ18 -> 0 | PV18: =PV17+PS18-PT18+PU18 -> 0 | PZ18: =PZ17+PW18-PX18+PY18 -> 0 | QD18: =QD17+QA18-QB18+QC18 -> 0 | QH18: =QH17+QE18-QF18+QG18 -> 0 | QL18: =QL17+QI18-QJ18+QK18 -> 0 | QP18: =QP17+QM18-QN18+QO18 -> 0 | QT18: =QT17+QQ18-QR18+QS18 -> 0 | QX18: =QX17+QU18-QV18+QW18 -> 0 | RB18: =RB17+QY18-QZ18+RA18 -> 0 | RF18: =RF17+RC18-RD18+RE18 -> 0 | RJ18: =RJ17+RG18-RH18+RI18 -> 0 | RN18: =RN17+RK18-RL18+RM18 -> 0
... F48: =F47+C48-D48+E48 -> 60 | J48: =J47+G48-H48+I48 -> 65 | N48: =N47+K48-L48+M48 -> 50 | R48: =R47+O48-P48+Q48 -> 20 | V48: =V47+S48-T48+U48 -> 0 | Z48: =Z47+W48-X48+Y48 -> 0 | AD48: =AD47+AA48-AB48+AC48 -> 0 | AH48: =AH47+AE48-AF48+AG48 -> 0 | AL48: =AL47+AI48-AJ48+AK48 -> 0 | AP48: =AP47+AM48-AN48+AO48 -> 0 | AT48: =AT47+AQ48-AR48+AS48 -> 0 | AX48: =AX47+AU48-AV48+AW48 -> 0 | BB48: =BB47+AY48-AZ48+BA48 -> 0 | BF48: =BF47+BC48-BD48+BE48 -> 0 | BJ48: =BJ47+BG48-BH48+BI48 -> 0 | BN48: =BN47+BK48-BL48+BM48 -> 0 | BR48: =BR47+BO48-BP48+BQ48 -> 0 | BV48: =BV47+BS48-BT48+BU48 -> 0 | BZ48: =BZ47+BW48-BX48+BY48 -> 0 | CD48: =CD47+CA48-CB48+CC48 -> 0 | CH48: =CH47+CE48-CF48+CG48 -> 0 | CL48: =CL47+CI48-CJ48+CK48 -> 0 | CP48: =CP47+CM48-CN48+CO48 -> 0 | CT48: =CT47+CQ48-CR48+CS48 -> 0 | CX48: =CX47+CU48-CV48+CW48 -> 0 | DB48: =DB47+CY48-CZ48+DA48 -> 0 | DF48: =DF47+DC48-DD48+DE48 -> 0 | DJ48: =DJ47+DG48-DH48+DI48 -> 0 | DN48: =DN47+DK48-DL48+DM48 -> 0 | DR48: =DR47+DO48-DP48+DQ48 -> 0 | DV48: =DV47+DS48-DT48+DU48 -> 0 | DZ48: =DZ47+DW48-DX48+DY48 -> 0 | ED48: =ED47+EA48-EB48+EC48 -> 0 | EH48: =EH47+EE48-EF48+EG48 -> 0 | EL48: =EL47+EI48-EJ48+EK48 -> 0 | EP48: =EP47+EM48-EN48+EO48 -> 0 | ET48: =ET47+EQ48-ER48+ES48 -> 0 | EX48: =EX47+EU48-EV48+EW48 -> 0 | FB48: =FB47+EY48-EZ48+FA48 -> 0 | FF48: =FF47+FC48-FD48+FE48 -> 0 | FJ48: =FJ47+FG48-FH48+FI48 -> 0 | FN48: =FN47+FK48-FL48+FM48 -> 0 | FR48: =FR47+FO48-FP48+FQ48 -> 0 | FV48: =FV47+FS48-FT48+FU48 -> 0 | FZ48: =FZ47+FW48-FX48+FY48 -> 0 | GD48: =GD47+GA48-GB48+GC48 -> 0 | GH48: =GH47+GE48-GF48+GG48 -> 0 | GL48: =GL47+GI48-GJ48+GK48 -> 0 | GP48: =GP47+GM48-GN48+GO48 -> #N/A | GT48: =GT47+GQ48-GR48+GS48 -> 0 | GX48: =GX47+GU48-GV48+GW48 -> 0 | HB48: =HB47+GY48-GZ48+HA48 -> 0 | HF48: =HF47+HC48-HD48+HE48 -> 0 | HJ48: =HJ47+HG48-HH48+HI48 -> 0 | HN48: =HN47+HK48-HL48+HM48 -> 0 | HR48: =HR47+HO48-HP48+HQ48 -> 0 | HV48: =HV47+HS48-HT48+HU48 -> 0 | HZ48: =HZ47+HW48-HX48+HY48 -> 0 | ID48: =ID47+IA48-IB48+IC48 -> 0 | IH48: =IH47+IE48-IF48+IG48 -> 0 | IL48: =IL47+II48-IJ48+IK48 -> 0 | IP48: =IP47+IM48-IN48+IO48 -> 0 | IT48: =IT47+IQ48-IR48+IS48 -> 0 | IX48: =IX47+IU48-IV48+IW48 -> 0 | JB48: =JB47+IY48-IZ48+JA48 -> 0 | JF48: =JF47+JC48-JD48+JE48 -> 0 | JJ48: =JJ47+JG48-JH48+JI48 -> 0 | JN48: =JN47+JK48-JL48+JM48 -> 0 | JR48: =JR47+JO48-JP48+JQ48 -> 0 | JV48: =JV47+JS48-JT48+JU48 -> 0 | JZ48: =JZ47+JW48-JX48+JY48 -> 0 | KD48: =KD47+KA48-KB48+KC48 -> 0 | KH48: =KH47+KE48-KF48+KG48 -> 0 | KL48: =KL47+KI48-KJ48+KK48 -> 0 | KP48: =KP47+KM48-KN48+KO48 -> 0 | KT48: =KT47+KQ48-KR48+KS48 -> 0 | KX48: =KX47+KU48-KV48+KW48 -> 0 | LB48: =LB47+KY48-KZ48+LA48 -> 0 | LF48: =LF47+LC48-LD48+LE48 -> 0 | LJ48: =LJ47+LG48-LH48+LI48 -> 0 | LN48: =LN47+LK48-LL48+LM48 -> 0 | LR48: =LR47+LO48-LP48+LQ48 -> 0 | LV48: =LV47+LS48-LT48+LU48 -> 0 | LZ48: =LZ47+LW48-LX48+LY48 -> 0 | MD48: =MD47+MA48-MB48+MC48 -> 0 | MH48: =MH47+ME48-MF48+MG48 -> 0 | ML48: =ML47+MI48-MJ48+MK48 -> 0 | MP48: =MP47+MM48-MN48+MO48 -> 0 | MT48: =MT47+MQ48-MR48+MS48 -> 0 | MX48: =MX47+MU48-MV48+MW48 -> 0 | NB48: =NB47+MY48-MZ48+NA48 -> 0 | NF48: =NF47+NC48-ND48+NE48 -> 0 | NJ48: =NJ47+NG48-NH48+NI48 -> 0 | NN48: =NN47+NK48-NL48+NM48 -> 0 | NR48: =NR47+NO48-NP48+NQ48 -> 0 | NV48: =NV47+NS48-NT48+NU48 -> 0 | NZ48: =NZ47+NW48-NX48+NY48 -> 0 | OD48: =OD47+OA48-OB48+OC48 -> 0 | OH48: =OH47+OE48-OF48+OG48 -> 0 | OL48: =OL47+OI48-OJ48+OK48 -> 0 | OP48: =OP47+OM48-ON48+OO48 -> 0 | OT48: =OT47+OQ48-OR48+OS48 -> 0 | OX48: =OX47+OU48-OV48+OW48 -> 0 | PB48: =PB47+OY48-OZ48+PA48 -> 0 | PF48: =PF47+PC48-PD48+PE48 -> 0 | PJ48: =PJ47+PG48-PH48+PI48 -> 0 | PN48: =PN47+PK48-PL48+PM48 -> 0 | PR48: =PR47+PO48-PP48+PQ48 -> 0 | PV48: =PV47+PS48-PT48+PU48 -> 0 | PZ48: =PZ47+PW48-PX48+PY48 -> 0 | QD48: =QD47+QA48-QB48+QC48 -> 0 | QH48: =QH47+QE48-QF48+QG48 -> 0 | QL48: =QL47+QI48-QJ48+QK48 -> 0 | QP48: =QP47+QM48-QN48+QO48 -> 0 | QT48: =QT47+QQ48-QR48+QS48 -> 0 | QX48: =QX47+QU48-QV48+QW48 -> 0 | RB48: =RB47+QY48-QZ48+RA48 -> 0 | RF48: =RF47+RC48-RD48+RE48 -> 0 | RJ48: =RJ47+RG48-RH48+RI48 -> 0 | RN48: =RN47+RK48-RL48+RM48 -> 0
A49: Report | C49: =SUM(C5:C48) -> 0 | D49: =SUM(D5:D48) -> 50 | E49: =SUM(E5:E48) -> 10 | F49: =F48 -> 60 | G49: =SUM(G5:G48) -> 0 | H49: =SUM(H5:H48) -> 30 | I49: =SUM(I5:I48) -> 15 | J49: =J48 -> 65 | K49: =SUM(K5:K48) -> 0 | L49: =SUM(L5:L48) -> 0 | M49: =SUM(M5:M48) -> 0 | N49: =N48 -> 50 | O49: =SUM(O5:O48) -> 0 | P49: =SUM(P5:P48) -> 10 | Q49: =SUM(Q5:Q48) -> 10 | R49: =R48 -> 20 | S49: =SUM(S5:S48) -> 0 | T49: =SUM(T5:T48) -> 0 | U49: =SUM(U5:U48) -> 0 | V49: =V48 -> 0 | W49: =SUM(W5:W48) -> 0 | X49: =SUM(X5:X48) -> 0 | Y49: =SUM(Y5:Y48) -> 0 | Z49: =Z48 -> 0 | AA49: =SUM(AA5:AA48) -> 0 | AB49: =SUM(AB5:AB48) -> 0 | AC49: =SUM(AC5:AC48) -> 0 | AD49: =AD48 -> 0 | AE49: =SUM(AE5:AE48) -> 0 | AF49: =SUM(AF5:AF48) -> 0 | AG49: =SUM(AG5:AG48) -> 0 | AH49: =AH48 -> 0 | AI49: =SUM(AI5:AI48) -> 0 | AJ49: =SUM(AJ5:AJ48) -> 0 | AK49: =SUM(AK5:AK48) -> 0 | AL49: =AL48 -> 0 | AM49: =SUM(AM5:AM48) -> 0 | AN49: =SUM(AN5:AN48) -> 0 | AO49: =SUM(AO5:AO48) -> 0 | AP49: =AP48 -> 0 | AQ49: =SUM(AQ5:AQ48) -> 0 | AR49: =SUM(AR5:AR48) -> 0 | AS49: =SUM(AS5:AS48) -> 0 | AT49: =AT48 -> 0 | AU49: =SUM(AU5:AU48) -> 0 | AV49: =SUM(AV5:AV48) -> 0 | AW49: =SUM(AW5:AW48) -> 0 | AX49: =AX48 -> 0 | AY49: =SUM(AY5:AY48) -> 0 | AZ49: =SUM(AZ5:AZ48) -> 0 | BA49: =SUM(BA5:BA48) -> 0 | BB49: =BB48 -> 0 | BC49: =SUM(BC5:BC48) -> 0 | BD49: =SUM(BD5:BD48) -> 0 | BE49: =SUM(BE5:BE48) -> 0 | BF49: =BF48 -> 0 | BG49: =SUM(BG5:BG48) -> 0 | BH49: =SUM(BH5:BH48) -> 0 | BI49: =SUM(BI5:BI48) -> 0 | BJ49: =BJ48 -> 0 | BK49: =SUM(BK5:BK48) -> 0 | BL49: =SUM(BL5:BL48) -> 0 | BM49: =SUM(BM5:BM48) -> 0 | BN49: =BN48 -> 0 | BO49: =SUM(BO5:BO48) -> 0 | BP49: =SUM(BP5:BP48) -> 0 | BQ49: =SUM(BQ5:BQ48) -> 0 | BR49: =BR48 -> 0 | BS49: =SUM(BS5:BS48) -> 0 | BT49: =SUM(BT5:BT48) -> 0 | BU49: =SUM(BU5:BU48) -> 0 | BV49: =BV48 -> 0 | BW49: =SUM(BW5:BW48) -> 0 | BX49: =SUM(BX5:BX48) -> 0 | BY49: =SUM(BY5:BY48) -> 0 | BZ49: =BZ48 -> 0 | CA49: =SUM(CA5:CA48) -> 0 | CB49: =SUM(CB5:CB48) -> 0 | CC49: =SUM(CC5:CC48) -> 0 | CD49: =CD48 -> 0 | CE49: =SUM(CE5:CE48) -> 0 | CF49: =SUM(CF5:CF48) -> 0 | CG49: =SUM(CG5:CG48) -> 0 | CH49: =CH48 -> 0 | CI49: =SUM(CI5:CI48) -> 0 | CJ49: =SUM(CJ5:CJ48) -> 0 | CK49: =SUM(CK5:CK48) -> 0 | CL49: =CL48 -> 0 | CM49: =SUM(CM5:CM48) -> 0 | CN49: =SUM(CN5:CN48) -> 0 | CO49: =SUM(CO5:CO48) -> 0 | CP49: =CP48 -> 0 | CQ49: =SUM(CQ5:CQ48) -> 0 | CR49: =SUM(CR5:CR48) -> 0 | CS49: =SUM(CS5:CS48) -> 0 | CT49: =CT48 -> 0 | CU49: =SUM(CU5:CU48) -> 0 | CV49: =SUM(CV5:CV48) -> 0 | CW49: =SUM(CW5:CW48) -> 0 | CX49: =CX48 -> 0 | CY49: =SUM(CY5:CY48) -> 0 | CZ49: =SUM(CZ5:CZ48) -> 0 | DA49: =SUM(DA5:DA48) -> 0 | DB49: =DB48 -> 0 | DC49: =SUM(DC5:DC48) -> 0 | DD49: =SUM(DD5:DD48) -> 0 | DE49: =SUM(DE5:DE48) -> 0 | DF49: =DF48 -> 0 | DG49: =SUM(DG5:DG48) -> 0 | DH49: =SUM(DH5:DH48) -> 0 | DI49: =SUM(DI5:DI48) -> 0 | DJ49: =DJ48 -> 0 | DK49: =SUM(DK5:DK48) -> 0 | DL49: =SUM(DL5:DL48) -> 0 | DM49: =SUM(DM5:DM48) -> 0 | DN49: =DN48 -> 0 | DO49: =SUM(DO5:DO48) -> 0 | DP49: =SUM(DP5:DP48) -> 0 | DQ49: =SUM(DQ5:DQ48) -> 0 | DR49: =DR48 -> 0 | DS49: =SUM(DS5:DS48) -> 0 | DT49: =SUM(DT5:DT48) -> 0 | DU49: =SUM(DU5:DU48) -> 0 | DV49: =DV48 -> 0 | DW49: =SUM(DW5:DW48) -> 0 | DX49: =SUM(DX5:DX48) -> 0 | DY49: =SUM(DY5:DY48) -> 0 | DZ49: =DZ48 -> 0 | EA49: =SUM(EA5:EA48) -> 0 | EB49: =SUM(EB5:EB48) -> 0 | EC49: =SUM(EC5:EC48) -> 0 | ED49: =ED48 -> 0 | EE49: =SUM(EE5:EE48) -> 0 | EF49: =SUM(EF5:EF48) -> 0 | EG49: =SUM(EG5:EG48) -> 0 | EH49: =EH48 -> 0 | EI49: =SUM(EI5:EI48) -> 0 | EJ49: =SUM(EJ5:EJ48) -> 0 | EK49: =SUM(EK5:EK48) -> 0 | EL49: =EL48 -> 0 | EM49: =SUM(EM5:EM48) -> 0 | EN49: =SUM(EN5:EN48) -> 0 | EO49: =SUM(EO5:EO48) -> 0 | EP49: =EP48 -> 0 | EQ49: =SUM(EQ5:EQ48) -> 0 | ER49: =SUM(ER5:ER48) -> 0 | ES49: =SUM(ES5:ES48) -> 0 | ET49: =ET48 -> 0 | EU49: =SUM(EU5:EU48) -> 0 | EV49: =SUM(EV5:EV48) -> 0 | EW49: =SUM(EW5:EW48) -> 0 | EX49: =EX48 -> 0 | EY49: =SUM(EY5:EY48) -> 0 | EZ49: =SUM(EZ5:EZ48) -> 0 | FA49: =SUM(FA5:FA48) -> 0 | FB49: =FB48 -> 0 | FC49: =SUM(FC5:FC48) -> 0 | FD49: =SUM(FD5:FD48) -> 0 | FE49: =SUM(FE5:FE48) -> 0 | FF49: =FF48 -> 0 | FG49: =SUM(FG5:FG48) -> 0 | FH49: =SUM(FH5:FH48) -> 0 | FI49: =SUM(FI5:FI48) -> 0 | FJ49: =FJ48 -> 0 | FK49: =SUM(FK5:FK48) -> 0 | FL49: =SUM(FL5:FL48) -> 0 | FM49: =SUM(FM5:FM48) -> 0 | FN49: =FN48 -> 0 | FO49: =SUM(FO5:FO48) -> 0 | FP49: =SUM(FP5:FP48) -> 0 | FQ49: =SUM(FQ5:FQ48) -> 0 | FR49: =FR48 -> 0 | FS49: =SUM(FS5:FS48) -> 0 | FT49: =SUM(FT5:FT48) -> 0 | FU49: =SUM(FU5:FU48) -> 0 | FV49: =FV48 -> 0 | FW49: =SUM(FW5:FW48) -> 0 | FX49: =SUM(FX5:FX48) -> 0 | FY49: =SUM(FY5:FY48) -> 0 | FZ49: =FZ48 -> 0 | GA49: =SUM(GA5:GA48) -> 0 | GB49: =SUM(GB5:GB48) -> 0 | GC49: =SUM(GC5:GC48) -> 0 | GD49: =GD48 -> 0 | GE49: =SUM(GE5:GE48) -> 0 | GF49: =SUM(GF5:GF48) -> 0 | GG49: =SUM(GG5:GG48) -> 0 | GH49: =GH48 -> 0 | GI49: =SUM(GI5:GI48) -> 0 | GJ49: =SUM(GJ5:GJ48) -> 0 | GK49: =SUM(GK5:GK48) -> 0 | GL49: =GL48 -> 0 | GM49: =SUM(GM5:GM48) -> 0 | GN49: =SUM(GN5:GN48) -> 0 | GO49: =SUM(GO5:GO48) -> 0 | GP49: =GP48 -> #N/A | GQ49: =SUM(GQ5:GQ48) -> 0 | GR49: =SUM(GR5:GR48) -> 0 | GS49: =SUM(GS5:GS48) -> 0 | GT49: =GT48 -> 0 | GU49: =SUM(GU5:GU48) -> 0 | GV49: =SUM(GV5:GV48) -> 0 | GW49: =SUM(GW5:GW48) -> 0 | GX49: =GX48 -> 0 | GY49: =SUM(GY5:GY48) -> 0 | GZ49: =SUM(GZ5:GZ48) -> 0 | HA49: =SUM(HA5:HA48) -> 0 | HB49: =HB48 -> 0 | HC49: =SUM(HC5:HC48) -> 0 | HD49: =SUM(HD5:HD48) -> 0 | HE49: =SUM(HE5:HE48) -> 0 | HF49: =HF48 -> 0 | HG49: =SUM(HG5:HG48) -> 0 | HH49: =SUM(HH5:HH48) -> 0 | HI49: =SUM(HI5:HI48) -> 0 | HJ49: =HJ48 -> 0 | HK49: =SUM(HK5:HK48) -> 0 | HL49: =SUM(HL5:HL48) -> 0 | HM49: =SUM(HM5:HM48) -> 0 | HN49: =HN48 -> 0 | HO49: =SUM(HO5:HO48) -> 0 | HP49: =SUM(HP5:HP48) -> 0 | HQ49: =SUM(HQ5:HQ48) -> 0 | HR49: =HR48 -> 0 | HS49: =SUM(HS5:HS48) -> 0 | HT49: =SUM(HT5:HT48) -> 0 | HU49: =SUM(HU5:HU48) -> 0 | HV49: =HV48 -> 0 | HW49: =SUM(HW5:HW48) -> 0 | HX49: =SUM(HX5:HX48) -> 0 | HY49: =SUM(HY5:HY48) -> 0 | HZ49: =HZ48 -> 0 | IA49: =SUM(IA5:IA48) -> 0 | IB49: =SUM(IB5:IB48) -> 0 | IC49: =SUM(IC5:IC48) -> 0 | ID49: =ID48 -> 0 | IE49: =SUM(IE5:IE48) -> 0 | IF49: =SUM(IF5:IF48) -> 0 | IG49: =SUM(IG5:IG48) -> 0 | IH49: =IH48 -> 0 | II49: =SUM(II5:II48) -> 0 | IJ49: =SUM(IJ5:IJ48) -> 0 | IK49: =SUM(IK5:IK48) -> 0 | IL49: =IL48 -> 0 | IM49: =SUM(IM5:IM48) -> 0 | IN49: =SUM(IN5:IN48) -> 0 | IO49: =SUM(IO5:IO48) -> 0 | IP49: =IP48 -> 0 | IQ49: =SUM(IQ5:IQ48) -> 0 | IR49: =SUM(IR5:IR48) -> 0 | IS49: =SUM(IS5:IS48) -> 0 | IT49: =IT48 -> 0 | IU49: =SUM(IU5:IU48) -> 0 | IV49: =SUM(IV5:IV48) -> 0 | IW49: =SUM(IW5:IW48) -> 0 | IX49: =IX48 -> 0 | IY49: =SUM(IY5:IY48) -> 0 | IZ49: =SUM(IZ5:IZ48) -> 0 | JA49: =SUM(JA5:JA48) -> 0 | JB49: =JB48 -> 0 | JC49: =SUM(JC5:JC48) -> 0 | JD49: =SUM(JD5:JD48) -> 0 | JE49: =SUM(JE5:JE48) -> 0 | JF49: =JF48 -> 0 | JG49: =SUM(JG5:JG48) -> 0 | JH49: =SUM(JH5:JH48) -> 0 | JI49: =SUM(JI5:JI48) -> 0 | JJ49: =JJ48 -> 0 | JK49: =SUM(JK5:JK48) -> 0 | JL49: =SUM(JL5:JL48) -> 0 | JM49: =SUM(JM5:JM48) -> 0 | JN49: =JN48 -> 0 | JO49: =SUM(JO5:JO48) -> 0 | JP49: =SUM(JP5:JP48) -> 0 | JQ49: =SUM(JQ5:JQ48) -> 0 | JR49: =JR48 -> 0 | JS49: =SUM(JS5:JS48) -> 0 | JT49: =SUM(JT5:JT48) -> 0 | JU49: =SUM(JU5:JU48) -> 0 | JV49: =JV48 -> 0 | JW49: =SUM(JW5:JW48) -> 0 | JX49: =SUM(JX5:JX48) -> 0 | JY49: =SUM(JY5:JY48) -> 0 | JZ49: =JZ48 -> 0 | KA49: =SUM(KA5:KA48) -> 0 | KB49: =SUM(KB5:KB48) -> 0 | KC49: =SUM(KC5:KC48) -> 0 | KD49: =KD48 -> 0 | KE49: =SUM(KE5:KE48) -> 0 | KF49: =SUM(KF5:KF48) -> 0 | KG49: =SUM(KG5:KG48) -> 0 | KH49: =KH48 -> 0 | KI49: =SUM(KI5:KI48) -> 0 | KJ49: =SUM(KJ5:KJ48) -> 0 | KK49: =SUM(KK5:KK48) -> 0 | KL49: =KL48 -> 0 | KM49: =SUM(KM5:KM48) -> 0 | KN49: =SUM(KN5:KN48) -> 0 | KO49: =SUM(KO5:KO48) -> 0 | KP49: =KP48 -> 0 | KQ49: =SUM(KQ5:KQ48) -> 0 | KR49: =SUM(KR5:KR48) -> 0 | KS49: =SUM(KS5:KS48) -> 0 | KT49: =KT48 -> 0 | KU49: =SUM(KU5:KU48) -> 0 | KV49: =SUM(KV5:KV48) -> 0 | KW49: =SUM(KW5:KW48) -> 0 | KX49: =KX48 -> 0 | KY49: =SUM(KY5:KY48) -> 0 | KZ49: =SUM(KZ5:KZ48) -> 0 | LA49: =SUM(LA5:LA48) -> 0 | LB49: =LB48 -> 0 | LC49: =SUM(LC5:LC48) -> 0 | LD49: =SUM(LD5:LD48) -> 0 | LE49: =SUM(LE5:LE48) -> 0 | LF49: =LF48 -> 0 | LG49: =SUM(LG5:LG48) -> 0 | LH49: =SUM(LH5:LH48) -> 0 | LI49: =SUM(LI5:LI48) -> 0 | LJ49: =LJ48 -> 0 | LK49: =SUM(LK5:LK48) -> 0 | LL49: =SUM(LL5:LL48) -> 0 | LM49: =SUM(LM5:LM48) -> 0 | LN49: =LN48 -> 0 | LO49: =SUM(LO5:LO48) -> 0 | LP49: =SUM(LP5:LP48) -> 0 | LQ49: =SUM(LQ5:LQ48) -> 0 | LR49: =LR48 -> 0 | LS49: =SUM(LS5:LS48) -> 0 | LT49: =SUM(LT5:LT48) -> 0 | LU49: =SUM(LU5:LU48) -> 0 | LV49: =LV48 -> 0 | LW49: =SUM(LW5:LW48) -> 0 | LX49: =SUM(LX5:LX48) -> 0 | LY49: =SUM(LY5:LY48) -> 0 | LZ49: =LZ48 -> 0 | MA49: =SUM(MA5:MA48) -> 0 | MB49: =SUM(MB5:MB48) -> 0 | MC49: =SUM(MC5:MC48) -> 0 | MD49: =MD48 -> 0 | ME49: =SUM(ME5:ME48) -> 0 | MF49: =SUM(MF5:MF48) -> 0 | MG49: =SUM(MG5:MG48) -> 0 | MH49: =MH48 -> 0 | MI49: =SUM(MI5:MI48) -> 0 | MJ49: =SUM(MJ5:MJ48) -> 0 | MK49: =SUM(MK5:MK48) -> 0 | ML49: =ML48 -> 0 | MM49: =SUM(MM5:MM48) -> 0 | MN49: =SUM(MN5:MN48) -> 0 | MO49: =SUM(MO5:MO48) -> 0 | MP49: =MP48 -> 0 | MQ49: =SUM(MQ5:MQ48) -> 0 | MR49: =SUM(MR5:MR48) -> 0 | MS49: =SUM(MS5:MS48) -> 0 | MT49: =MT48 -> 0 | MU49: =SUM(MU5:MU48) -> 0 | MV49: =SUM(MV5:MV48) -> 0 | MW49: =SUM(MW5:MW48) -> 0 | MX49: =MX48 -> 0 | MY49: =SUM(MY5:MY48) -> 0 | MZ49: =SUM(MZ5:MZ48) -> 0 | NA49: =SUM(NA5:NA48) -> 0 | NB49: =NB48 -> 0 | NC49: =SUM(NC5:NC48) -> 0 | ND49: =SUM(ND5:ND48) -> 0 | NE49: =SUM(NE5:NE48) -> 0 | NF49: =NF48 -> 0 | NG49: =SUM(NG5:NG48) -> 0 | NH49: =SUM(NH5:NH48) -> 0 | NI49: =SUM(NI5:NI48) -> 0 | NJ49: =NJ48 -> 0 | NK49: =SUM(NK5:NK48) -> 0 | NL49: =SUM(NL5:NL48) -> 0 | NM49: =SUM(NM5:NM48) -> 0 | NN49: =NN48 -> 0 | NO49: =SUM(NO5:NO48) -> 0 | NP49: =SUM(NP5:NP48) -> 0 | NQ49: =SUM(NQ5:NQ48) -> 0 | NR49: =NR48 -> 0 | NS49: =SUM(NS5:NS48) -> 0 | NT49: =SUM(NT5:NT48) -> 0 | NU49: =SUM(NU5:NU48) -> 0 | NV49: =NV48 -> 0 | NW49: =SUM(NW5:NW48) -> 0 | NX49: =SUM(NX5:NX48) -> 0 | NY49: =SUM(NY5:NY48) -> 0 | NZ49: =NZ48 -> 0 | OA49: =SUM(OA5:OA48) -> 0 | OB49: =SUM(OB5:OB48) -> 0 | OC49: =SUM(OC5:OC48) -> 0 | OD49: =OD48 -> 0 | OE49: =SUM(OE5:OE48) -> 0 | OF49: =SUM(OF5:OF48) -> 0 | OG49: =SUM(OG5:OG48) -> 0 | OH49: =OH48 -> 0 | OI49: =SUM(OI5:OI48) -> 0 | OJ49: =SUM(OJ5:OJ48) -> 0 | OK49: =SUM(OK5:OK48) -> 0 | OL49: =OL48 -> 0 | OM49: =SUM(OM5:OM48) -> 0 | ON49: =SUM(ON5:ON48) -> 0 | OO49: =SUM(OO5:OO48) -> 0 | OP49: =OP48 -> 0 | OQ49: =SUM(OQ5:OQ48) -> 0 | OR49: =SUM(OR5:OR48) -> 0 | OS49: =SUM(OS5:OS48) -> 0 | OT49: =OT48 -> 0 | OU49: =SUM(OU5:OU48) -> 0 | OV49: =SUM(OV5:OV48) -> 0 | OW49: =SUM(OW5:OW48) -> 0 | OX49: =OX48 -> 0 | OY49: =SUM(OY5:OY48) -> 0 | OZ49: =SUM(OZ5:OZ48) -> 0 | PA49: =SUM(PA5:PA48) -> 0 | PB49: =PB48 -> 0 | PC49: =SUM(PC5:PC48) -> 0 | PD49: =SUM(PD5:PD48) -> 0 | PE49: =SUM(PE5:PE48) -> 0 | PF49: =PF48 -> 0 | PG49: =SUM(PG5:PG48) -> 0 | PH49: =SUM(PH5:PH48) -> 0 | PI49: =SUM(PI5:PI48) -> 0 | PJ49: =PJ48 -> 0 | PK49: =SUM(PK5:PK48) -> 0 | PL49: =SUM(PL5:PL48) -> 0 | PM49: =SUM(PM5:PM48) -> 0 | PN49: =PN48 -> 0 | PO49: =SUM(PO5:PO48) -> 0 | PP49: =SUM(PP5:PP48) -> 0 | PQ49: =SUM(PQ5:PQ48) -> 0 | PR49: =PR48 -> 0 | PS49: =SUM(PS5:PS48) -> 0 | PT49: =SUM(PT5:PT48) -> 0 | PU49: =SUM(PU5:PU48) -> 0 | PV49: =PV48 -> 0 | PW49: =SUM(PW5:PW48) -> 0 | PX49: =SUM(PX5:PX48) -> 0 | PY49: =SUM(PY5:PY48) -> 0 | PZ49: =PZ48 -> 0 | QA49: =SUM(QA5:QA48) -> 0 | QB49: =SUM(QB5:QB48) -> 0 | QC49: =SUM(QC5:QC48) -> 0 | QD49: =QD48 -> 0 | QE49: =SUM(QE5:QE48) -> 0 | QF49: =SUM(QF5:QF48) -> 0 | QG49: =SUM(QG5:QG48) -> 0 | QH49: =QH48 -> 0 | QI49: =SUM(QI5:QI48) -> 0 | QJ49: =SUM(QJ5:QJ48) -> 0 | QK49: =SUM(QK5:QK48) -> 0 | QL49: =QL48 -> 0 | QM49: =SUM(QM5:QM48) -> 0 | QN49: =SUM(QN5:QN48) -> 0 | QO49: =SUM(QO5:QO48) -> 0 | QP49: =QP48 -> 0 | QQ49: =SUM(QQ5:QQ48) -> 0 | QR49: =SUM(QR5:QR48) -> 0 | QS49: =SUM(QS5:QS48) -> 0 | QT49: =QT48 -> 0 | QU49: =SUM(QU5:QU48) -> 0 | QV49: =SUM(QV5:QV48) -> 0 | QW49: =SUM(QW5:QW48) -> 0 | QX49: =QX48 -> 0 | QY49: =SUM(QY5:QY48) -> 0 | QZ49: =SUM(QZ5:QZ48) -> 0 | RA49: =SUM(RA5:RA48) -> 0 | RB49: =RB48 -> 0 | RC49: =SUM(RC5:RC48) -> 0 | RD49: =SUM(RD5:RD48) -> 0 | RE49: =SUM(RE5:RE48) -> 0 | RF49: =RF48 -> 0 | RG49: =SUM(RG5:RG48) -> 0 | RH49: =SUM(RH5:RH48) -> 0 | RI49: =SUM(RI5:RI48) -> 0 | RJ49: =RJ48 -> 0 | RK49: =SUM(RK5:RK48) -> 0 | RL49: =SUM(RL5:RL48) -> 0 | RM49: =SUM(RM5:RM48) -> 0 | RN49: =RN48 -> 0
C50: =VLOOKUP(C2,Données!$A:$C,3,TRUE) -> 100 | G50: =VLOOKUP(G2,Données!$A:$C,3,TRUE) -> 80 | K50: =VLOOKUP(K2,Données!$A:$C,3,TRUE) -> 50 | O50: =VLOOKUP(O2,Données!$A:$C,3,TRUE) -> 20 | S50: =VLOOKUP(S2,Données!$A:$C,3,TRUE) -> 0 | W50: =VLOOKUP(W2,Données!$A:$C,3,TRUE) -> 0 | AA50: =VLOOKUP(AA2,Données!$A:$C,3,TRUE) -> 0 | AE50: =VLOOKUP(AE2,Données!$A:$C,3,TRUE) -> 0 | AI50: =VLOOKUP(AI2,Données!$A:$C,3,TRUE) -> 0 | AM50: =VLOOKUP(AM2,Données!$A:$C,3,TRUE) -> 0 | AQ50: =VLOOKUP(AQ2,Données!$A:$C,3,TRUE) -> 0 | AU50: =VLOOKUP(AU2,Données!$A:$C,3,TRUE) -> 0 | AY50: =VLOOKUP(AY2,Données!$A:$C,3,TRUE) -> 0 | BC50: =VLOOKUP(BC2,Données!$A:$C,3,TRUE) -> 0 | BG50: =VLOOKUP(BG2,Données!$A:$C,3,TRUE) -> 0 | BK50: =VLOOKUP(BK2,Données!$A:$C,3,TRUE) -> 0 | BO50: =VLOOKUP(BO2,Données!$A:$C,3,TRUE) -> 0 | BS50: =VLOOKUP(BS2,Données!$A:$C,3,TRUE) -> 0 | BW50: =VLOOKUP(BW2,Données!$A:$C,3,TRUE) -> 0 | CA50: =VLOOKUP(CA2,Données!$A:$C,3,TRUE) -> 0 | CE50: =VLOOKUP(CE2,Données!$A:$C,3,TRUE) -> 0 | CI50: =VLOOKUP(CI2,Données!$A:$C,3,TRUE) -> 0 | CM50: =VLOOKUP(CM2,Données!$A:$C,3,TRUE) -> 0 | CQ50: =VLOOKUP(CQ2,Données!$A:$C,3,TRUE) -> 0 | CU50: =VLOOKUP(CU2,Données!$A:$C,3,TRUE) -> 0 | CY50: =VLOOKUP(CY2,Données!$A:$C,3,TRUE) -> 0 | DC50: =VLOOKUP(DC2,Données!$A:$C,3,TRUE) -> 0 | DG50: =VLOOKUP(DG2,Données!$A:$C,3,TRUE) -> 0 | DK50: =VLOOKUP(DK2,Données!$A:$C,3,TRUE) -> 0 | DO50: =VLOOKUP(DO2,Données!$A:$C,3,TRUE) -> 0 | DS50: =VLOOKUP(DS2,Données!$A:$C,3,TRUE) -> 0 | DW50: =VLOOKUP(DW2,Données!$A:$C,3,TRUE) -> 0 | EA50: =VLOOKUP(EA2,Données!$A:$C,3,TRUE) -> 0 | EE50: =VLOOKUP(EE2,Données!$A:$C,3,TRUE) -> 0 | EI50: =VLOOKUP(EI2,Données!$A:$C,3,TRUE) -> 0 | EM50: =VLOOKUP(EM2,Données!$A:$C,3,TRUE) -> 0 | EQ50: =VLOOKUP(EQ2,Données!$A:$C,3,TRUE) -> 0 | EU50: =VLOOKUP(EU2,Données!$A:$C,3,TRUE) -> 0 | EY50: =VLOOKUP(EY2,Données!$A:$C,3,TRUE) -> 0 | FC50: =VLOOKUP(FC2,Données!$A:$C,3,TRUE) -> 0 | FG50: =VLOOKUP(FG2,Données!$A:$C,3,TRUE) -> 0 | FK50: =VLOOKUP(FK2,Données!$A:$C,3,TRUE) -> 0 | FO50: =VLOOKUP(FO2,Données!$A:$C,3,TRUE) -> 0 | FS50: =VLOOKUP(FS2,Données!$A:$C,3,TRUE) -> 0 | FW50: =VLOOKUP(FW2,Données!$A:$C,3,TRUE) -> 0 | GA50: =VLOOKUP(GA2,Données!$A:$C,3,TRUE) -> 0 | GE50: =VLOOKUP(GE2,Données!$A:$C,3,TRUE) -> 0 | GI50: =VLOOKUP(GI2,Données!$A:$C,3,TRUE) -> 0 | GM50: =VLOOKUP(GM2,Données!$A:$C,3,TRUE) -> #N/A | GQ50: =VLOOKUP(GQ2,Données!$A:$C,3,TRUE) -> 0 | GU50: =VLOOKUP(GU2,Données!$A:$C,3,TRUE) -> 0 | GY50: =VLOOKUP(GY2,Données!$A:$C,3,TRUE) -> 0 | HC50: =VLOOKUP(HC2,Données!$A:$C,3,TRUE) -> 0 | HG50: =VLOOKUP(HG2,Données!$A:$C,3,TRUE) -> 0 | HK50: =VLOOKUP(HK2,Données!$A:$C,3,TRUE) -> 0 | HO50: =VLOOKUP(HO2,Données!$A:$C,3,TRUE) -> 0 | HS50: =VLOOKUP(HS2,Données!$A:$C,3,TRUE) -> 0 | HW50: =VLOOKUP(HW2,Données!$A:$C,3,TRUE) -> 0 | IA50: =VLOOKUP(IA2,Données!$A:$C,3,TRUE) -> 0 | IE50: =VLOOKUP(IE2,Données!$A:$C,3,TRUE) -> 0 | II50: =VLOOKUP(II2,Données!$A:$C,3,TRUE) -> 0 | IM50: =VLOOKUP(IM2,Données!$A:$C,3,TRUE) -> 0 | IQ50: =VLOOKUP(IQ2,Données!$A:$C,3,TRUE) -> 0 | IU50: =VLOOKUP(IU2,Données!$A:$C,3,TRUE) -> 0 | IY50: =VLOOKUP(IY2,Données!$A:$C,3,TRUE) -> 0 | JC50: =VLOOKUP(JC2,Données!$A:$C,3,TRUE) -> 0 | JG50: =VLOOKUP(JG2,Données!$A:$C,3,TRUE) -> 0 | JK50: =VLOOKUP(JK2,Données!$A:$C,3,TRUE) -> 0 | JO50: =VLOOKUP(JO2,Données!$A:$C,3,TRUE) -> 0 | JS50: =VLOOKUP(JS2,Données!$A:$C,3,TRUE) -> 0 | JW50: =VLOOKUP(JW2,Données!$A:$C,3,TRUE) -> 0 | KA50: =VLOOKUP(KA2,Données!$A:$C,3,TRUE) -> 0 | KE50: =VLOOKUP(KE2,Données!$A:$C,3,TRUE) -> 0 | KI50: =VLOOKUP(KI2,Données!$A:$C,3,TRUE) -> 0 | KM50: =VLOOKUP(KM2,Données!$A:$C,3,TRUE) -> 0 | KQ50: =VLOOKUP(KQ2,Données!$A:$C,3,TRUE) -> 0 | KU50: =VLOOKUP(KU2,Données!$A:$C,3,TRUE) -> 0 | KY50: =VLOOKUP(KY2,Données!$A:$C,3,TRUE) -> 0 | LC50: =VLOOKUP(LC2,Données!$A:$C,3,TRUE) -> 0 | LG50: =VLOOKUP(LG2,Données!$A:$C,3,TRUE) -> 0 | LK50: =VLOOKUP(LK2,Données!$A:$C,3,TRUE) -> 0 | LO50: =VLOOKUP(LO2,Données!$A:$C,3,TRUE) -> 0 | LS50: =VLOOKUP(LS2,Données!$A:$C,3,TRUE) -> 0 | LW50: =VLOOKUP(LW2,Données!$A:$C,3,TRUE) -> 0 | MA50: =VLOOKUP(MA2,Données!$A:$C,3,TRUE) -> 0 | ME50: =VLOOKUP(ME2,Données!$A:$C,3,TRUE) -> 0 | MI50: =VLOOKUP(MI2,Données!$A:$C,3,TRUE) -> 0 | MM50: =VLOOKUP(MM2,Données!$A:$C,3,TRUE) -> 0 | MQ50: =VLOOKUP(MQ2,Données!$A:$C,3,TRUE) -> 0 | MU50: =VLOOKUP(MU2,Données!$A:$C,3,TRUE) -> 0 | MY50: =VLOOKUP(MY2,Données!$A:$C,3,TRUE) -> 0 | NC50: =VLOOKUP(NC2,Données!$A:$C,3,TRUE) -> 0 | NG50: =VLOOKUP(NG2,Données!$A:$C,3,TRUE) -> 0 | NK50: =VLOOKUP(NK2,Données!$A:$C,3,TRUE) -> 0 | NO50: =VLOOKUP(NO2,Données!$A:$C,3,TRUE) -> 0 | NS50: =VLOOKUP(NS2,Données!$A:$C,3,TRUE) -> 0 | NW50: =VLOOKUP(NW2,Données!$A:$C,3,TRUE) -> 0 | OA50: =VLOOKUP(OA2,Données!$A:$C,3,TRUE) -> 0 | OE50: =VLOOKUP(OE2,Données!$A:$C,3,TRUE) -> 0 | OI50: =VLOOKUP(OI2,Données!$A:$C,3,TRUE) -> 0 | OM50: =VLOOKUP(OM2,Données!$A:$C,3,TRUE) -> 0 | OQ50: =VLOOKUP(OQ2,Données!$A:$C,3,TRUE) -> 0 | OU50: =VLOOKUP(OU2,Données!$A:$C,3,TRUE) -> 0 | OY50: =VLOOKUP(OY2,Données!$A:$C,3,TRUE) -> 0 | PC50: =VLOOKUP(PC2,Données!$A:$C,3,TRUE) -> 0 | PG50: =VLOOKUP(PG2,Données!$A:$C,3,TRUE) -> 0 | PK50: =VLOOKUP(PK2,Données!$A:$C,3,TRUE) -> 0 | PO50: =VLOOKUP(PO2,Données!$A:$C,3,TRUE) -> 0 | PS50: =VLOOKUP(PS2,Données!$A:$C,3,TRUE) -> 0 | PW50: =VLOOKUP(PW2,Données!$A:$C,3,TRUE) -> 0 | QA50: =VLOOKUP(QA2,Données!$A:$C,3,TRUE) -> 0 | QE50: =VLOOKUP(QE2,Données!$A:$C,3,TRUE) -> 0 | QI50: =VLOOKUP(QI2,Données!$A:$C,3,TRUE) -> 0 | QM50: =VLOOKUP(QM2,Données!$A:$C,3,TRUE) -> 0 | QQ50: =VLOOKUP(QQ2,Données!$A:$C,3,TRUE) -> 0 | QU50: =VLOOKUP(QU2,Données!$A:$C,3,TRUE) -> 0 | QY50: =VLOOKUP(QY2,Données!$A:$C,3,TRUE) -> 0 | RC50: =VLOOKUP(RC2,Données!$A:$C,3,TRUE) -> 0 | RG50: =VLOOKUP(RG2,Données!$A:$C,3,TRUE) -> 0 | RK50: =VLOOKUP(RK2,Données!$A:$C,3,TRUE) -> 0
C66: =Données!C129 -> 1.1

Sheet Résumés
A1: Gambas
A6: Article utilisé | B6: Numéro article utilisé | C6: Sortie | D6: Retour | E6: Utilisation
A7: Article utilisé 1 | B7: Numéro article utilisé 1 | C7: Nombre article 1 sortis | D7: Nombre article 1 retour | E7: =C7-D7
A8: Article utilisé 2 | B8: Numéro article utilisé 2 | C8: Nombre article 2 sortis | D8: Nombre article 2 retour | E8: =C8-D8

Sheet Données
A1: Numéro | B1: Article | C1: Nombre | I1: Inventaire Local
A2: 101 | B2: Martini | C2: 100 | I2: Sortie Gambas
A3: 102 | B3: Suze | C3: 80 | I3: Retour Gambas
A4: 103 | B4: Trojka | C4: 50 | I4: Sortie Durabilité
A5: 104 | B5: Captain Morgan | C5: 20 | I5: Retour Durabilité
A6: 105 | B6: Nom article alcool | I6: Sortie Foire de Mai
A7: 106 | B7: Nom article alcool | I7: Retour Foire de Mai
A8: 107 | B8: Nom article alcool | I8: Sortie Souper des Anciens
A9: 108 | B9: Nom article alcool | I9: Retour Souper des Anciens
A10: 109 | B10: Nom article alcool | I10: Sortie Biathlon
A11: 110 | B11: Nom article alcool | I11: Retour Biathlon
A12: 111 | B12: Nom article alcool
A13: 112 | B13: Nom article alcool
A14: 113 | B14: Nom article alcool
A15: 114 | B15: Nom article alcool
A16: 115 | B16: Nom article alcool
A17: 116 | B17: Nom article alcool
A18: 117 | B18: Nom article alcool
A19: 118 | B19: Nom article alcool
A20: 119 | B20: Nom article alcool
A21: 120 | B21: Nom article alcool
A22: 201 | B22: Nom article minérales
A23: 202 | B23: Nom article minérales
... A121: 620 | B121: Nom article Autre
A128: Article | C128: Martini | D128: dtrd | E128: ergrtg | F128: Nom article alcool | G128: Nom article alcool | H128: Nom article alcool | I128: Nom article alcool | J128: Nom article alcool | K128: Nom article alcool | L128: Nom article alcool | M128: Nom article alcool | N128: Nom article alcool | O128: Nom article alcool | P128: Nom article alcool | Q128: Nom article alcool | R128: Nom article alcool | S128: Nom article alcool | T128: Nom article alcool | U128: Nom article alcool | V128: Nom article alcool | W128: Nom article minérales | X128: Nom article minérales | Y128: Nom article minérales | Z128: Nom article minérales | AA128: Nom article minérales | AB128: Nom article minérales | AC128: Nom article minérales | AD128: Nom article minérales | AE128: Nom article minérales | AF128: Nom article minérales | AG128: Nom article minérales | AH128: Nom article minérales | AI128: Nom article minérales | AJ128: Nom article minérales | AK128: Nom article minérales | AL128: Nom article minérales | AM128: Nom article minérales | AN128: Nom article minérales | AO128: Nom article minérales | AP128: Nom article minérales | AQ128: Nom article Nourriture | AR128: Nom article Nourriture | AS128: Nom article Nourriture | AT128: Nom article Nourriture | AU128: Nom article Nourriture | AV128: Nom article Nourriture | AW128: Nom article Nourriture | AX128: Nom article Nourriture | AY128: Nom article Nourriture | AZ128: Nom article Nourriture | BA128: Nom article Nourriture | BB128: Nom article Nourriture | BC128: Nom article Nourriture | BD128: Nom article Nourriture | BE128: Nom article Nourriture | BF128: Nom article Nourriture | BG128: Nom article Nourriture | BH128: Nom article Nourriture | BI128: Nom article Nourriture | BJ128: Nom article Nourriture | BK128: Nom article Ustensile | BL128: Nom article Ustensile | BM128: Nom article Ustensile | BN128: Nom article Ustensile | BO128: Nom article Ustensile | BP128: Nom article Ustensile | BQ128: Nom article Ustensile | BR128: Nom article Ustensile | BS128: Nom article Ustensile | BT128: Nom article Ustensile | BU128: Nom article Ustensile | BV128: Nom article Ustensile | BW128: Nom article Ustensile | BX128: Nom article Ustensile | BY128: Nom article Ustensile | BZ128: Nom article Ustensile | CA128: Nom article Ustensile | CB128: Nom article Ustensile | CC128: Nom article Ustensile | CD128: Nom article Ustensile | CE128: Nom article Nettoyage | CF128: Nom article Nettoyage | CG128: Nom article Nettoyage | CH128: Nom article Nettoyage | CI128: Nom article Nettoyage | CJ128: Nom article Nettoyage | CK128: Nom article Nettoyage | CL128: Nom article Nettoyage | CM128: Nom article Nettoyage | CN128: Nom article Nettoyage | CO128: Nom article Nettoyage | CP128: Nom article Nettoyage | CQ128: Nom article Nettoyage | CR128: Nom article Nettoyage | CS128: Nom article Nettoyage | CT128: Nom article Nettoyage | CU128: Nom article Nettoyage | CV128: Nom article Nettoyage | CW128: Nom article Nettoyage | CX128: Nom article Nettoyage | CY128: Nom article Autre | CZ128: Nom article Autre | DA128: Nom article Autre | DB128: Nom article Autre | DC128: Nom article Autre | DD128: Nom article Autre | DE128: Nom article Autre | DF128: Nom article Autre | DG128: Nom article Autre | DH128: Nom article Autre | DI128: Nom article Autre | DJ128: Nom article Autre | DK128: Nom article Autre | DL128: Nom article Autre | DM128: Nom article Autre | DN128: Nom article Autre | DO128: Nom article Autre | DP128: Nom article Autre | DQ128: Nom article Autre | DR128: Nom article Autre
A129: Numéro | C129: 1.1 | D129: 1.2 | E129: 1.3 | F129: 1.4 | G129: 1.5 | H129: 1.6 | I129: 1.7 | J129: 1.8 | K129: 1.9 | L129: 1.10 | M129: 1.11 | N129: 1.12 | O129: 1.13 | P129: 1.14 | Q129: 1.15 | R129: 1.16 | S129: 1.17 | T129: 1.18 | U129: 1.19 | V129: 1.20 | W129: 2.1 | X129: 2.2 | Y129: 2.3 | Z129: 2.4 | AA129: 2.5 | AB129: 2.6 | AC129: 2.7 | AD129: 2.8 | AE129: 2.9 | AF129: 2.10 | AG129: 2.11 | AH129: 2.12 | AI129: 2.13 | AJ129: 2.14 | AK129: 2.15 | AL129: 2.16 | AM129: 2.17 | AN129: 2.18 | AO129: 2.19 | AP129: 2.20 | AQ129: 3.1 | AR129: 3.2 | AS129: 3.3 | AT129: 3.4 | AU129: 3.5 | AV129: 3.6 | AW129: 3.7 | AX129: 3.8 | AY129: 3.9 | AZ129: 3.10 | BA129: 3.11 | BB129: 3.12 | BC129: 3.13 | BD129: 3.14 | BE129: 3.15 | BF129: 3.16 | BG129: 3.17 | BH129: 3.18 | BI129: 3.19 | BJ129: 3.20 | BK129: 4.1 | BL129: 4.2 | BM129: 4.3 | BN129: 4.4 | BO129: 4.5 | BP129: 4.6 | BQ129: 4.7 | BR129: 4.8 | BS129: 4.9 | BT129: 4.10 | BU129: 4.11 | BV129: 4.12 | BW129: 4.13 | BX129: 4.14 | BY129: 4.15 | BZ129: 4.16 | CA129: 4.17 | CB129: 4.18 | CC129: 4.19 | CD129: 4.20 | CE129: 5.1 | CF129: 5.2 | CG129: 5.3 | CH129: 5.4 | CI129: 5.5 | CJ129: 5.6 | CK129: 5.7 | CL129: 5.8 | CM129: 5.9 | CN129: 5.10 | CO129: 5.11 | CP129: 5.12 | CQ129: 5.13 | CR129: 5.14 | CS129: 5.15 | CT129: 5.16 | CU129: 5.17 | CV129: 5.18 | CW129: 5.19 | CX129: 5.20 | CY129: 6.1 | CZ129: 6.2 | DA129: 6.3 | DB129: 6.4 | DC129: 6.5 | DD129: 6.6 | DE129: 6.7 | DF129: 6.8 | DG129: 6.9 | DH129: 6.10 | DI129: 6.11 | DJ129: 6.12 | DK129: 6.13 | DL129: 6.14 | DM129: 6.15 | DN129: 6.16 | DO129: 6.17 | DP129: 6.18 | DQ129: 6.19 | DR129: 6.20
A130: Nombre
