Workbook

Sheet Inventaire Crétalaison
A1: Motif | B1: Date | C1: =VLOOKUP(C2,Données!$A:$C,2,TRUE) -> Martini | G1: =VLOOKUP(G2,Données!$A:$C,2,TRUE) -> Suze | K1: =VLOOKUP(K2,Données!$A:$C,2,TRUE) -> Trojka | O1: =VLOOKUP(O2,Données!$A:$C,2,TRUE) -> Captain Morgan | S1: =VLOOKUP(S2,Données!$A:$C,2,TRUE) -> Nom article alcool | W1: =VLOOKUP(W2,Données!$A:$C,2,TRUE) -> Nom article alcool | AA1: =VLOOKUP(AA2,Données!$A:$C,2,TRUE) -> Nom article alcool | AE1: =VLOOKUP(AE2,Données!$A:$C,2,TRUE) -> Nom article alcool | AI1: =VLOOKUP(AI2,Données!$A:$C,2,TRUE) -> Nom article alcool | AM1: =VLOOKUP(AM2,Données!$A:$C,2,TRUE) -> Nom article alcool | AQ1: =VLOOKUP(AQ2,Données!$A:$C,2,TRUE) -> Nom article alcool | AU1: =VLOOKUP(AU2,Données!$A:$C,2,TRUE) -> Nom article alcool | AY1: =VLOOKUP(AY2,Données!$A:$C,2,TRUE) -> Nom article alcool | BC1: =VLOOKUP(BC2,Données!$A:$C,2,TRUE) -> Nom article alcool | BG1: =VLOOKUP(BG2,Données!$A:$C,2,TRUE) -> Nom article alcool | BK1: =VLOOKUP(BK2,Données!$A:$C,2,TRUE) -> Nom article alcool | BO1: =VLOOKUP(BO2,Données!$A:$C,2,TRUE) -> Nom article alcool | BS1: =VLOOKUP(BS2,Données!$A:$C,2,TRUE) -> Nom article alcool | BW1: =VLOOKUP(BW2,Données!$A:$C,2,TRUE) -> Nom article alcool | CA1: =VLOOKUP(CA2,Données!$A:$C,2,TRUE) -> Nom article alcool | CE1: =VLOOKUP(CE2,Données!$A:$C,2,TRUE) -> Nom article minérales | CI1: =VLOOKUP(CI2,Données!$A:$C,2,TRUE) -> Nom article minérales | CM1: =VLOOKUP(CM2,Données!$A:$C,2,TRUE) -> Nom article minérales | CQ1: =VLOOKUP(CQ2,Données!$A:$C,2,TRUE) -> Nom article minérales | CU1: =VLOOKUP(CU2,Données!$A:$C,2,TRUE) -> Nom article minérales | CY1: =VLOOKUP(CY2,Données!$A:$C,2,TRUE) -> Nom article minérales | DC1: =VLOOKUP(DC2,Données!$A:$C,2,TRUE) -> Nom article minérales | DG1: =VLOOKUP(DG2,Données!$A:$C,2,TRUE) -> Nom article minérales | DK1: =VLOOKUP(DK2,Données!$A:$C,2,TRUE) -> Nom article minérales | DO1: =VLOOKUP(DO2,Données!$A:$C,2,TRUE) -> Nom article minérales | DS1: =VLOOKUP(DS2,Données!$A:$C,2,TRUE) -> Nom article minérales | DW1: =VLOOKUP(DW2,Données!$A:$C,2,TRUE) -> Nom article minérales | EA1: =VLOOKUP(EA2,Données!$A:$C,2,TRUE) -> Nom article minérales | EE1: =VLOOKUP(EE2,Données!$A:$C,2,TRUE) -> Nom article minérales | EI1: =VLOOKUP(EI2,Données!$A:$C,2,TRUE) -> Nom article minérales | EM1: =VLOOKUP(EM2,Données!$A:$C,2,TRUE) -> Nom article minérales | EQ1: =VLOOKUP(EQ2,Données!$A:$C,2,TRUE) -> Nom article minérales | EU1: =VLOOKUP(EU2,Données!$A:$C,2,TRUE) -> Nom article minérales | EY1: =VLOOKUP(EY2,Données!$A:$C,2,TRUE) -> Nom article minérales | FC1: =VLOOKUP(FC2,Données!$A:$C,2,TRUE) -> Nom article minérales | FG1: =VLOOKUP(FG2,Données!$A:$C,2,TRUE) -> Nom article Nourriture | FK1: =VLOOKUP(FK2,Données!$A:$C,2,TRUE) -> Nom article Nourriture | FO1: =VLOOKUP(FO2,Données!$A:$C,2,TRUE) -> Nom article Nourriture | FS1: =VLOOKUP(FS2,Données!$A:$C,2,TRUE) -> Nom article Nourriture | FW1: =VLOOKUP(FW2,Données!$A:$C,2,TRUE) -> Nom article Nourriture | GA1: =VLOOKUP(GA2,Données!$A:$C,2,TRUE) -> Nom article Nourriture | GE1: =VLOOKUP(GE2,Données!$A:$C,2,TRUE) -> Nom article Nourriture | GI1: =VLOOKUP(GI2,Données!$A:$C,2,TRUE) -> Nom article Nourriture | GM1: =VLOOKUP(GM2,Données!$A:$C,2,TRUE) -> #N/A | GQ1: =VLOOKUP(GQ2,Données!$A:$C,2,TRUE) -> Nom article Nourriture | GU1: =VLOOKUP(GU2,Données!$A:$C,2,TRUE) -> Nom article Nourriture | GY1: =VLOOKUP(GY2,Données!$A:$C,2,TRUE) -> Nom article Nourriture | HC1: =VLOOKUP(HC2,Données!$A:$C,2,TRUE) -> Nom article Nourriture | HG1: =VLOOKUP(HG2,Données!$A:$C,2,TRUE) -> Nom article Nourriture | HK1: =VLOOKUP(HK2,Données!$A:$C,2,TRUE) -> Nom article Nourriture | HO1: =VLOOKUP(HO2,Données!$A:$C,2,TRUE) -> Nom article Nourriture | HS1: =VLOOKUP(HS2,Données!$A:$C,2,TRUE) -> Nom article Nourriture | HW1: =VLOOKUP(HW2,Données!$A:$C,2,TRUE) -> Nom article Nourriture | IA1: =VLOOKUP(IA2,Données!$A:$C,2,TRUE) -> Nom article Nourriture | IE1: =VLOOKUP(IE2,Données!$A:$C,2,TRUE) -> Nom article Nourriture | II1: =VLOOKUP(II2,Données!$A:$C,2,TRUE) -> Nom article Ustensile | IM1: =VLOOKUP(IM2,Données!$A:$C,2,TRUE) -> Nom article Ustensile | IQ1: =VLOOKUP(IQ2,Données!$A:$C,2,TRUE) -> Nom article Ustensile | IU1: =VLOOKUP(IU2,Données!$A:$C,2,TRUE) -> Nom article Ustensile | IY1: =VLOOKUP(IY2,Données!$A:$C,2,TRUE) -> Nom article Ustensile | JC1: =VLOOKUP(JC2,Données!$A:$C,2,TRUE) -> Nom article Ustensile | JG1: =VLOOKUP(JG2,Données!$A:$C,2,TRUE) -> Nom article Ustensile | JK1: =VLOOKUP(JK2,Données!$A:$C,2,TRUE) -> Nom article Ustensile | JO1: =VLOOKUP(JO2,Données!$A:$C,2,TRUE) -> Nom article Ustensile | JS1: =VLOOKUP(JS2,Données!$A:$C,2,TRUE) -> Nom article Ustensile | JW1: =VLOOKUP(JW2,Données!$A:$C,2,TRUE) -> Nom article Ustensile | KA1: =VLOOKUP(KA2,Données!$A:$C,2,TRUE) -> Nom article Ustensile | KE1: =VLOOKUP(KE2,Données!$A:$C,2,TRUE) -> Nom article Ustensile | KI1: =VLOOKUP(KI2,Données!$A:$C,2,TRUE) -> Nom article Ustensile | KM1: =VLOOKUP(KM2,Données!$A:$C,2,TRUE) -> Nom article Ustensile | KQ1: =VLOOKUP(KQ2,Données!$A:$C,2,TRUE) -> Nom article Ustensile | KU1: =VLOOKUP(KU2,Données!$A:$C,2,TRUE) -> Nom article Ustensile | KY1: =VLOOKUP(KY2,Données!$A:$C,2,TRUE) -> Nom article Ustensile | LC1: =VLOOKUP(LC2,Données!$A:$C,2,TRUE) -> Nom article Ustensile | LG1: =VLOOKUP(LG2,Données!$A:$C,2,TRUE) -> Nom article Ustensile | LK1: =VLOOKUP(LK2,Données!$A:$C,2,TRUE) -> Nom article Nettoyage | LO1: =VLOOKUP(LO2,Données!$A:$C,2,TRUE) -> Nom article Nettoyage | LS1: =VLOOKUP(LS2,Données!$A:$C,2,TRUE) -> Nom article Nettoyage | LW1: =VLOOKUP(LW2,Données!$A:$C,2,TRUE) -> Nom article Nettoyage | MA1: =VLOOKUP(MA2,Données!$A:$C,2,TRUE) -> Nom article Nettoyage | ME1: =VLOOKUP(ME2,Données!$A:$C,2,TRUE) -> Nom article Nettoyage | MI1: =VLOOKUP(MI2,Données!$A:$C,2,TRUE) -> Nom article Nettoyage | MM1: =VLOOKUP(MM2,Données!$A:$C,2,TRUE) -> Nom article Nettoyage | MQ1: =VLOOKUP(MQ2,Données!$A:$C,2,TRUE) -> Nom article Nettoyage | MU1: =VLOOKUP(MU2,Données!$A:$C,2,TRUE) -> Nom article Nettoyage | MY1: =VLOOKUP(MY2,Données!$A:$C,2,TRUE) -> Nom article Nettoyage | NC1: =VLOOKUP(NC2,Données!$A:$C,2,TRUE) -> Nom article Nettoyage | NG1: =VLOOKUP(NG2,Données!$A:$C,2,TRUE) -> Nom article Nettoyage | NK1: =VLOOKUP(NK2,Données!$A:$C,2,TRUE) -> Nom article Nettoyage | NO1: =VLOOKUP(NO2,Données!$A:$C,2,TRUE) -> Nom article Nettoyage | NS1: =VLOOKUP(NS2,Données!$A:$C,2,TRUE) -> Nom article Nettoyage | NW1: =VLOOKUP(NW2,Données!$A:$C,2,TRUE) -> Nom article Nettoyage | OA1: =VLOOKUP(OA2,Données!$A:$C,2,TRUE) -> Nom article Nettoyage | OE1: =VLOOKUP(OE2,Données!$A:$C,2,TRUE) -> Nom article Nettoyage | OI1: =VLOOKUP(OI2,Données!$A:$C,2,TRUE) -> Nom article Nettoyage | OM1: =VLOOKUP(OM2,Données!$A:$C,2,TRUE) -> Nom article Autre | OQ1: =VLOOKUP(OQ2,Données!$A:$C,2,TRUE) -> Nom article Autre | OU1: =VLOOKUP(OU2,Données!$A:$C,2,TRUE) -> Nom article Autre | OY1: =VLOOKUP(OY2,Données!$A:$C,2,TRUE) -> Nom article Autre | PC1: =VLOOKUP(PC2,Données!$A:$C,2,TRUE) -> Nom article Autre | PG1: =VLOOKUP(PG2,Données!$A:$C,2,TRUE) -> Nom article Autre | PK1: =VLOOKUP(PK2,Données!$A:$C,2,TRUE) -> Nom article Autre | PO1: =VLOOKUP(PO2,Données!$A:$C,2,TRUE) -> Nom article Autre | PS1: =VLOOKUP(PS2,Données!$A:$C,2,TRUE) -> Nom article Autre | PW1: =VLOOKUP(PW2,Données!$A:$C,2,TRUE) -> Nom article Autre | QA1: =VLOOKUP(QA2,Données!$A:$C,2,TRUE) -> Nom article Autre | QE1: =VLOOKUP(QE2,Données!$A:$C,2,TRUE) -> Nom article Autre | QI1: =VLOOKUP(QI2,Données!$A:$C,2,TRUE) -> Nom article Autre | QM1: =VLOOKUP(QM2,Données!$A:$C,2,TRUE) -> Nom article Autre | QQ1: =VLOOKUP(QQ2,Données!$A:$C,2,TRUE) -> Nom article Autre | QU1: =VLOOKUP(QU2,Données!$A:$C,2,TRUE) -> Nom article Autre | QY1: =VLOOKUP(QY2,Données!$A:$C,2,TRUE) -> Nom article Autre | RC1: =VLOOKUP(RC2,Données!$A:$C,2,TRUE) -> Nom article Autre | RG1: =VLOOKUP(RG2,Données!$A:$C,2,TRUE) -> Nom article Autre | RK1: =VLOOKUP(RK2,Données!$A:$C,2,TRUE) -> Nom article Autre
C2: 101 | G2: 102 | K2: 103 | O2: 104 | S2: 105 | W2: 106 | AA2: 107 | AE2: 108 | AI2: 109 | AM2: 110 | AQ2: 111 | AU2: 112 | AY2: 113 | BC2: 114 | BG2: 115 | BK2: 116 | BO2: 117 | BS2: 118 | BW2: 119 | CA2: 120 | CE2: 201 | CI2: 202 | CM2: 203 | CQ2: 204 | CU2: 205 | CY2: 206 | DC2: 207 | DG2: 208 | DK2: 209 | DO2: 210 | DS2: 211 | DW2: 212 | EA2: 213 | EE2: 214 | EI2: 215 | EM2: 216 | EQ2: 217 | EU2: 218 | EY2: 219 | FC2: 220 | FG2: 301 | FK2: 302 | FO2: 303 | FS2: 304 | FW2: 305 | GA2: 306 | GE2: 307 | GI2: 308 | GM2: $ | GQ2: 310 | GU2: 311 | GY2: 312 | HC2: 313 | HG2: 314 | HK2: 315 | HO2: 316 | HS2: 317 | HW2: 318 | IA2: 319 | IE2: 320 | II2: 401 | IM2: 402 | IQ2: 403 | IU2: 404 | IY2: 405 | JC2: 406 | JG2: 407 | JK2: 408 | JO2: 409 | JS2: 410 | JW2: 411 | KA2: 412 | KE2: 413 | KI2: 414 | KM2: 415 | KQ2: 416 | KU2: 417 | KY2: 418 | LC2: 419 | LG2: 420 | LK2: 501 | LO2: 502 | LS2: 503 | LW2: 504 | MA2: 505 | ME2: 506 | MI2: 507 | MM2: 508 | MQ2: 509 | MU2: 510 | MY2: 511 | NC2: 512 | NG2: 513 | NK2: 514 | NO2: 515 | NS2: 516 | NW2: 517 | OA2: 518 | OE2: 519 | OI2: 520 | OM2: 601 | OQ2: 602 | OU2: 603 | OY2: 604 | PC2: 605 | PG2: 606 | PK2: 607 | PO2: 608 | PS2: 609 | PW2: 610 | QA2: 611 | QE2: 612 | QI2: 613 | QM2: 614 | QQ2: 615 | QU2: 616 | QY2: 617 | RC2: 618 | RG2: 619 | RK2: 620
C3: Entrée | D3: Sortie | E3: Retour | F3: Solde | G3: Entrée | H3: Sortie | I3: Retour | J3: Solde | K3: Entrée | L3: Sortie | M3: Retour | N3: Solde | O3: Entrée | P3: Sortie | Q3: Retour | R3: Solde | S3: Entrée | T3: Sortie | U3: Retour | V3: Solde | W3: Entrée | X3: Sortie | Y3: Retour | Z3: Solde | AA3: Entrée | AB3: Sortie | AC3: Retour | AD3: Solde | AE3: Entrée | AF3: Sortie | AG3: Retour | AH3: Solde | AI3: Entrée | AJ3: Sortie | AK3: Retour | AL3: Solde | AM3: Entrée | AN3: Sortie | AO3: Retour | AP3: Solde | AQ3: Entrée | AR3: Sortie | AS3: Retour | AT3: Solde | AU3: Entrée | AV3: Sortie | AW3: Retour | AX3: Solde | AY3: Entrée | AZ3: Sortie | BA3: Retour | BB3: Solde | BC3: Entrée | BD3: Sortie | BE3: Retour | BF3: Solde | BG3: Entrée | BH3: Sortie | BI3: Retour | BJ3: Solde | BK3: Entrée | BL3: Sortie | BM3: Retour | BN3: Solde | BO3: Entrée | BP3: Sortie | BQ3: Retour | BR3: Solde | BS3: Entrée | BT3: Sortie | BU3: Retour | BV3: Solde | BW3: Entrée | BX3: Sortie | BY3: Retour | BZ3: Solde | CA3: Entrée | CB3: Sortie | CC3: Retour | CD3: Solde | CE3: Entrée | CF3: Sortie | CG3: Retour | CH3: Solde | CI3: Entrée | CJ3: Sortie | CK3: Retour | CL3: Solde | CM3: Entrée | CN3: Sortie | CO3: Retour | CP3: Solde | CQ3: Entrée | CR3: Sortie | CS3: Retour | CT3: Solde | CU3: Entrée | CV3: Sortie | CW3: Retour | CX3: Solde | CY3: Entrée | CZ3: Sortie | DA3: Retour | DB3: Solde | DC3: Entrée | DD3: Sortie | DE3: Retour | DF3: Solde | DG3: Entrée | DH3: Sortie | DI3: Retour | DJ3: Solde | DK3: Entrée | DL3: Sortie | DM3: Retour | DN3: Solde | DO3: Entrée | DP3: Sortie | DQ3: Retour | DR3: Solde | DS3: Entrée | DT3: Sortie | DU3: Retour | DV3: Solde | DW3: Entrée | DX3: Sortie | DY3: Retour | DZ3: Solde | EA3: Entrée | EB3: Sortie | EC3: Retour | ED3: Solde | EE3: Entrée | EF3: Sortie | EG3: Retour | EH3: Solde | EI3: Entrée | EJ3: Sortie | EK3: Retour | EL3: Solde | EM3: Entrée | EN3: Sortie | EO3: Retour | EP3: Solde | EQ3: Entrée | ER3: Sortie | ES3: Retour | ET3: Solde | EU3: Entrée | EV3: Sortie | EW3: Retour | EX3: Solde | EY3: Entrée | EZ3: Sortie | FA3: Retour | FB3: Solde | FC3: Entrée | FD3: Sortie | FE3: Retour | FF3: Solde | FG3: Entrée | FH3: Sortie | FI3: Retour | FJ3: Solde | FK3: Entrée | FL3: Sortie | FM3: Retour | FN3: Solde | FO3: Entrée | FP3: Sortie | FQ3: Retour | FR3: Solde | FS3: Entrée | FT3: Sortie | FU3: Retour | FV3: Solde | FW3: Entrée | FX3: Sortie | FY3: Retour | FZ3: Solde | GA3: Entrée | GB3: Sortie | GC3: Retour | GD3: Solde | GE3: Entrée | GF3: Sortie | GG3: Retour | GH3: Solde | GI3: Entrée | GJ3: Sortie | GK3: Retour | GL3: Solde | GM3: Entrée | GN3: Sortie | GO3: Retour | GP3: Solde | GQ3: Entrée | GR3: Sortie | GS3: Retour | GT3: Solde | GU3: Entrée | GV3: Sortie | GW3: Retour | GX3: Solde | GY3: Entrée | GZ3: Sortie | HA3: Retour | HB3: Solde | HC3: Entrée | HD3: Sortie | HE3: Retour | HF3: Solde | HG3: Entrée | HH3: Sortie | HI3: Retour | HJ3: Solde | HK3: Entrée | HL3: Sortie | HM3: Retour | HN3: Solde | HO3: Entrée | HP3: Sortie | HQ3: Retour | HR3: Solde | HS3: Entrée | HT3: Sortie | HU3: Retour | HV3: Solde | HW3: Entrée | HX3: Sortie | HY3: Retour | HZ3: Solde | IA3: Entrée | IB3: Sortie | IC3: Retour | ID3: Solde | IE3: Entrée | IF3: Sortie | IG3: Retour | IH3: Solde | II3: Entrée | IJ3: Sortie | IK3: Retour | IL3: Solde | IM3: Entrée | IN3: Sortie | IO3: Retour | IP3: Solde | IQ3: Entrée | IR3: Sortie | IS3: Retour | IT3: Solde | IU3: Entrée | IV3: Sortie | IW3: Retour | IX3: Solde | IY3: Entrée | IZ3: Sortie | JA3: Retour | JB3: Solde | JC3: Entrée | JD3: Sortie | JE3: Retour | JF3: Solde | JG3: Entrée | JH3: Sortie | JI3: Retour | JJ3: Solde | JK3: Entrée | JL3: Sortie | JM3: Retour | JN3: Solde | JO3: Entrée | JP3: Sortie | JQ3: Retour | JR3: Solde | JS3: Entrée | JT3: Sortie | JU3: Retour | JV3: Solde | JW3: Entrée | JX3: Sortie | JY3: Retour | JZ3: Solde | KA3: Entrée | KB3: Sortie | KC3: Retour | KD3: Solde | KE3: Entrée | KF3: Sortie | KG3: Retour | KH3: Solde | KI3: Entrée | KJ3: Sortie | KK3: Retour | KL3: Solde | KM3: Entrée | KN3: Sortie | KO3: Retour | KP3: Solde | KQ3: Entrée | KR3: Sortie | KS3: Retour | KT3: Solde | KU3: Entrée | KV3: Sortie | KW3: Retour | KX3: Solde | KY3: Entrée | KZ3: Sortie | LA3: Retour | LB3: Solde | LC3: Entrée | LD3: Sortie | LE3: Retour | LF3: Solde | LG3: Entrée | LH3: Sortie | LI3: Retour | LJ3: Solde | LK3: Entrée | LL3: Sortie | LM3: Retour | LN3: Solde | LO3: Entrée | LP3: Sortie | LQ3: Retour | LR3: Solde | LS3: Entrée | LT3: Sortie | LU3: Retour | LV3: Solde | LW3: Entrée | LX3: Sortie | LY3: Retour | LZ3: Solde | MA3: Entrée | MB3: Sortie | MC3: Retour | MD3: Solde | ME3: Entrée | MF3: Sortie | MG3: Retour | MH3: Solde | MI3: Entrée | MJ3: Sortie | MK3: Retour | ML3: Solde | MM3: Entrée | MN3: Sortie | MO3: Retour | MP3: Solde | MQ3: Entrée | MR3: Sortie | MS3: Retour | MT3: Solde | MU3: Entrée | MV3: Sortie | MW3: Retour | MX3: Solde | MY3: Entrée | MZ3: Sortie | NA3: Retour | NB3: Solde | NC3: Entrée | ND3: Sortie | NE3: Retour | NF3: Solde | NG3: Entrée | NH3: Sortie | NI3: Retour | NJ3: Solde | NK3: Entrée | NL3: Sortie | NM3: Retour | NN3: Solde | NO3: Entrée | NP3: Sortie | NQ3: Retour | NR3: Solde | NS3: Entrée | NT3: Sortie | NU3: Retour | NV3: Solde | NW3: Entrée | NX3: Sortie | NY3: Retour | NZ3: Solde | OA3: Entrée | OB3: Sortie | OC3: Retour | OD3: Solde | OE3: Entrée | OF3: Sortie | OG3: Retour | OH3: Solde | OI3: Entrée | OJ3: Sortie | OK3: Retour | OL3: Solde | OM3: Entrée | ON3: Sortie | OO3: Retour | OP3: Solde | OQ3: Entrée | OR3: Sortie | OS3: Retour | OT3: Solde | OU3: Entrée | OV3: Sortie | OW3: Retour | OX3: Solde | OY3: Entrée | OZ3: Sortie | PA3: Retour | PB3: Solde | PC3: Entrée | PD3: Sortie | PE3: Retour | PF3: Solde | PG3: Entrée | PH3: Sortie | PI3: Retour | PJ3: Solde | PK3: Entrée | PL3: Sortie | PM3: Retour | PN3: Solde | PO3: Entrée | PP3: Sortie | PQ3: Retour | PR3: Solde | PS3: Entrée | PT3: Sortie | PU3: Retour | PV3: Solde | PW3: Entrée | PX3: Sortie | PY3: Retour | PZ3: Solde | QA3: Entrée | QB3: Sortie | QC3: Retour | QD3: Solde | QE3: Entrée | QF3: Sortie | QG3: Retour | QH3: Solde | QI3: Entrée | QJ3: Sortie | QK3: Retour | QL3: Solde | QM3: Entrée | QN3: Sortie | QO3: Retour | QP3: Solde | QQ3: Entrée | QR3: Sortie | QS3: Retour | QT3: Solde | QU3: Entrée | QV3: Sortie | QW3: Retour | QX3: Solde | QY3: Entrée | QZ3: Sortie | RA3: Retour | RB3: Solde | RC3: Entrée | RD3: Sortie | RE3: Retour | RF3: Solde | RG3: Entrée | RH3: Sortie | RI3: Retour | RJ3: Solde | RK3: Entrée | RL3: Sortie | RM3: Retour | RN3: Solde
A4: Inventaire Local | B4: 45647 | C4: =C50 -> 100 | F4: =C4-D4+E4 -> 100 | G4: =G50 -> 80 | J4: =G4-H4+I4 -> 80 | K4: =K50 -> 50 | N4: =K4-L4+M4 -> 50 | O4: =O50 -> 20 | R4: =O4-P4+Q4 -> 20 | S4: =S50 -> 0 | V4: =S4-T4+U4 -> 0 | W4: =W50 -> 0 | Z4: =W4-X4+Y4 -> 0 | AA4: =AA50 -> 0 | AD4: =AA4-AB4+AC4 -> 0 | AE4: =AE50 -> 0 | AH4: =AE4-AF4+AG4 -> 0 | AI4: =AI50 -> 0 | AL4: =AI4-AJ4+AK4 -> 0 | AM4: =AM50 -> 0 | AP4: =AM4-AN4+AO4 -> 0 | AQ4: =AQ50 -> 0 | AT4: =AQ4-AR4+AS4 -> 0 | AU4: =AU50 -> 0 | AX4: =AU4-AV4+AW4 -> 0 | AY4: =AY50 -> 0 | BB4: =AY4-AZ4+BA4 -> 0 | BC4: =BC50 -> 0 | BF4: =BC4-BD4+BE4 -> 0 | BG4: =BG50 -> 0 | BJ4: =BG4-BH4+BI4 -> 0 | BK4: =BK50 -> 0 | BN4: =BK4-BL4+BM4 -> 0 | BO4: =BO50 -> 0 | BR4: =BO4-BP4+BQ4 -> 0 | BS4: =BS50 -> 0 | BV4: =BS4-BT4+BU4 -> 0 | BW4: =BW50 -> 0 | BZ4: =BW4-BX4+BY4 -> 0 | CA4: =CA50 -> 0 | CD4: =CA4-CB4+CC4 -> 0 | CE4: =CE50 -> 0 | CH4: =CE4-CF4+CG4 -> 0 | CI4: =CI50 -> 0 | CL4: =CI4-CJ4+CK4 -> 0 | CM4: =CM50 -> 0 | CP4: =CM4-CN4+CO4 -> 0 | CQ4: =CQ50 -> 0 | CT4: =CQ4-CR4+CS4 -> 0 | CU4: =CU50 -> 0 | CX4: =CU4-CV4+CW4 -> 0 | CY4: =CY50 -> 0 | DB4: =CY4-CZ4+DA4 -> 0 | DC4: =DC50 -> 0 | DF4: =DC4-DD4+DE4 -> 0 | DG4: =DG50 -> 0 | DJ4: =DG4-DH4+DI4 -> 0 | DK4: =DK50 -> 0 | DN4: =DK4-DL4+DM4 -> 0 | DO4: =DO50 -> 0 | DR4: =DO4-DP4+DQ4 -> 0 | DS4: =DS50 -> 0 | DV4: =DS4-DT4+DU4 -> 0 | DW4: =DW50 -> 0 | DZ4: =DW4-DX4+DY4 -> 0 | EA4: =EA50 -> 0 | ED4: =EA4-EB4+EC4 -> 0 | EE4: =EE50 -> 0 | EH4: =EE4-EF4+EG4 -> 0 | EI4: =EI50 -> 0 | EL4: =EI4-EJ4+EK4 -> 0 | EM4: =EM50 -> 0 | EP4: =EM4-EN4+EO4 -> 0 | EQ4: =EQ50 -> 0 | ET4: =EQ4-ER4+ES4 -> 0 | EU4: =EU50 -> 0 | EX4: =EU4-EV4+EW4 -> 0 | EY4: =EY50 -> 0 | FB4: =EY4-EZ4+FA4 -> 0 | FC4: =FC50 -> 0 | FF4: =FC4-FD4+FE4 -> 0 | FG4: =FG50 -> 0 | FJ4: =FG4-FH4+FI4 -> 0 | FK4: =FK50 -> 0 | FN4: =FK4-FL4+FM4 -> 0 | FO4: =FO50 -> 0 | FR4: =FO4-FP4+FQ4 -> 0 | FS4: =FS50 -> 0 | FV4: =FS4-FT4+FU4 -> 0 | FW4: =FW50 -> 0 | FZ4: =FW4-FX4+FY4 -> 0 | GA4: =GA50 -> 0 | GD4: =GA4-GB4+GC4 -> 0 | GE4: =GE50 -> 0 | GH4: =GE4-GF4+GG4 -> 0 | GI4: =GI50 -> 0 | GL4: =GI4-GJ4+GK4 -> 0 | GM4: =GM50 -> #N/A | GP4: =GM4-GN4+GO4 -> #N/A | GQ4: =GQ50 -> 0 | GT4: =GQ4-GR4+GS4 -> 0 | GU4: =GU50 -> 0 | GX4: =GU4-GV4+GW4 -> 0 | GY4: =GY50 -> 0 | HB4: =GY4-GZ4+HA4 -> 0 | HC4: =HC50 -> 0 | HF4: =HC4-HD4+HE4 -> 0 | HG4: =HG50 -> 0 | HJ4: =HG4-HH4+HI4 -> 0 | HK4: =HK50 -> 0 | HN4: =HK4-HL4+HM4 -> 0 | HO4: =HO50 -> 0 | HR4: =HO4-HP4+HQ4 -> 0 | HS4: =HS50 -> 0 | HV4: =HS4-HT4+HU4 -> 0 | HW4: =HW50 -> 0 | HZ4: =HW4-HX4+HY4 -> 0 | IA4: =IA50 -> 0 | ID4: =IA4-IB4+IC4 -> 0 | IE4: =IE50 -> 0 | IH4: =IE4-IF4+IG4 -> 0 | II4: =II50 -> 0 | IL4: =II4-IJ4+IK4 -> 0 | IM4: =IM50 -> 0 | IP4: =IM4-IN4+IO4 -> 0 | IQ4: =IQ50 -> 0 | IT4: =IQ4-IR4+IS4 -> 0 | IU4: =IU50 -> 0 | IX4: =IU4-IV4+IW4 -> 0 | IY4: =IY50 -> 0 | JB4: =IY4-IZ4+JA4 -> 0 | JC4: =JC50 -> 0 | JF4: =JC4-JD4+JE4 -> 0 | JG4: =JG50 -> 0 | JJ4: =JG4-JH4+JI4 -> 0 | JK4: =JK50 -> 0 | JN4: =JK4-JL4+JM4 -> 0 | JO4: =JO50 -> 0 | JR4: =JO4-JP4+JQ4 -> 0 | JS4: =JS50 -> 0 | JV4: =JS4-JT4+JU4 -> 0 | JW4: =JW50 -> 0 | JZ4: =JW4-JX4+JY4 -> 0 | KA4: =KA50 -> 0 | KD4: =KA4-KB4+KC4 -> 0 | KE4: =KE50 -> 0 | KH4: =KE4-KF4+KG4 -> 0 | KI4: =KI50 -> 0 | KL4: =KI4-KJ4+KK4 -> 0 | KM4: =KM50 -> 0 | KP4: =KM4-KN4+KO4 -> 0 | KQ4: =KQ50 -> 0 | KT4: =KQ4-KR4+KS4 -> 0 | KU4: =KU50 -> 0 | KX4: =KU4-KV4+KW4 -> 0 | KY4: =KY50 -> 0 | LB4: =KY4-KZ4+LA4 -> 0 | LC4: =LC50 -> 0 | LF4: =LC4-LD4+LE4 -> 0 | LG4: =LG50 -> 0 | LJ4: =LG4-LH4+LI4 -> 0 | LK4: =LK50 -> 0 | LN4: =LK4-LL4+LM4 -> 0 | LO4: =LO50 -> 0 | LR4: =LO4-LP4+LQ4 -> 0 | LS4: =LS50 -> 0 | LV4: =LS4-LT4+LU4 -> 0 | LW4: =LW50 -> 0 | LZ4: =LW4-LX4+LY4 -> 0 | MA4: =MA50 -> 0 | MD4: =MA4-MB4+MC4 -> 0 | ME4: =ME50 -> 0 | MH4: =ME4-MF4+MG4 -> 0 | MI4: =MI50 -> 0 | ML4: =MI4-MJ4+MK4 -> 0 | MM4: =MM50 -> 0 | MP4: =MM4-MN4+MO4 -> 0 | MQ4: =MQ50 -> 0 | MT4: =MQ4-MR4+MS4 -> 0 | MU4: =MU50 -> 0 | MX4: =MU4-MV4+MW4 -> 0 | MY4: =MY50 -> 0 | NB4: =MY4-MZ4+NA4 -> 0 | NC4: =NC50 -> 0 | NF4: =NC4-ND4+NE4 -> 0 | NG4: =NG50 -> 0 | NJ4: =NG4-NH4+NI4 -> 0 | NK4: =NK50 -> 0 | NN4: =NK4-NL4+NM4 -> 0 | NO4: =NO50 -> 0 | NR4: =NO4-NP4+NQ4 -> 0 | NS4: =NS50 -> 0 | NV4: =NS4-NT4+NU4 -> 0 | NW4: =NW50 -> 0 | NZ4: =NW4-NX4+NY4 -> 0 | OA4: =OA50 -> 0 | OD4: =OA4-OB4+OC4 -> 0 | OE4: =OE50 -> 0 | OH4: =OE4-OF4+OG4 -> 0 | OI4: =OI50 -> 0 | OL4: =OI4-OJ4+OK4 -> 0 | OM4: =OM50 -> 0 | OP4: =OM4-ON4+OO4 -> 0 | OQ4: =OQ50 -> 0 | OT4: =OQ4-OR4+OS4 -> 0 | OU4: =OU50 -> 0 | OX4: =OU4-OV4+OW4 -> 0 | OY4: =OY50 -> 0 | PB4: =OY4-OZ4+PA4 -> 0 | PC4: =PC50 -> 0 | PF4: =PC4-PD4+PE4 -> 0 | PG4: =PG50 -> 0 | PJ4: =PG4-PH4+PI4 -> 0 | PK4: =PK50 -> 0 | PN4: =PK4-PL4+PM4 -> 0 | PO4: =PO50 -> 0 | PR4: =PO4-PP4+PQ4 -> 0 | PS4: =PS50 -> 0 | PV4: =PS4-PT4+PU4 -> 0 | PW4: =PW50 -> 0 | PZ4: =PW4-PX4+PY4 -> 0 | QA4: =QA50 -> 0 | QD4: =QA4-QB4+QC4 -> 0 | QE4: =QE50 -> 0 | QH4: =QE4-QF4+QG4 -> 0 | QI4: =QI50 -> 0 | QL4: =QI4-QJ4+QK4 -> 0 | QM4: =QM50 -> 0 | QP4: =QM4-QN4+QO4 -> 0 | QQ4: =QQ50 -> 0 | QT4: =QQ4-QR4+QS4 -> 0 | QU4: =QU50 -> 0 | QX4: =QU4-QV4+QW4 -> 0 | QY4: =QY50 -> 0 | RB4: =QY4-QZ4+RA4 -> 0 | RC4: =RC50 -> 0 | RF4: =RC4-RD4+RE4 -> 0 | RG4: =RG50 -> 0 | RJ4: =RG4-RH4+RI4 -> 0 | RK4: =RK50 -> 0 | RN4: =RK4-RL4+RM4 -> 0
A5: Sortie Gambas | B5: 45394 | D5: 50 | F5: =F4+C5-D5+E5 -> 50 | H5: 30 | J5: =J4+G5-H5+I5 -> 50 | N5: =N4+K5-L5+M5 -> 50 | P5: 10 | R5: =R4+O5-P5+Q5 -> 10 | V5: =V4+S5-T5+U5 -> 0 | Z5: =Z4+W5-X5+Y5 -> 0 | AD5: =AD4+AA5-AB5+AC5 -> 0 | AH5: =AH4+AE5-AF5+AG5 -> 0 | AL5: =AL4+AI5-AJ5+AK5 -> 0 | AP5: =AP4+AM5-AN5+AO5 -> 0 | AT5: =AT4+AQ5-AR5+AS5 -> 0 | AX5: =AX4+AU5-AV5+AW5 -> 0 | BB5: =BB4+AY5-AZ5+BA5 -> 0 | BF5: =BF4+BC5-BD5+BE5 -> 0 | BJ5: =BJ4+BG5-BH5+BI5 -> 0 | BN5: =BN4+BK5-BL5+BM5 -> 0 | BR5: =BR4+BO5-BP5+BQ5 -> 0 | BV5: =BV4+BS5-BT5+BU5 -> 0 | BZ5: =BZ4+BW5-BX5+BY5 -> 0 | CD5: =CD4+CA5-CB5+CC5 -> 0 | CH5: =CH4+CE5-CF5+CG5 -> 0 | CL5: =CL4+CI5-CJ5+CK5 -> 0 | CP5: =CP4+CM5-CN5+CO5 -> 0 | CT5: =CT4+CQ5-CR5+CS5 -> 0 | CX5: =CX4+CU5-CV5+CW5 -> 0 | DB5: =DB4+CY5-CZ5+DA5 -> 0 | DF5: =DF4+DC5-DD5+DE5 -> 0 | DJ5: =DJ4+DG5-DH5+DI5 -> 0 | DN5: =DN4+DK5-DL5+DM5 -> 0 | DR5: =DR4+DO5-DP5+DQ5 -> 0 | DV5: =DV4+DS5-DT5+DU5 -> 0 | DZ5: =DZ4+DW5-DX5+DY5 -> 0 | ED5: =ED4+EA5-EB5+EC5 -> 0 | EH5: =EH4+EE5-EF5+EG5 -> 0 | EL5: =EL4+EI5-EJ5+EK5 -> 0 | EP5: =EP4+EM5-EN5+EO5 -> 0 | ET5: =ET4+EQ5-ER5+ES5 -> 0 | EX5: =EX4+EU5-EV5+EW5 -> 0 | FB5: =FB4+EY5-EZ5+FA5 -> 0 | FF5: =FF4+FC5-FD5+FE5 -> 0 | FJ5: =FJ4+FG5-FH5+FI5 -> 0 | FN5: =FN4+FK5-FL5+FM5 -> 0 | FR5: =FR4+FO5-FP5+FQ5 -> 0 | FV5: =FV4+FS5-FT5+FU5 -> 0 | FZ5: =FZ4+FW5-FX5+FY5 -> 0 | GD5: =GD4+GA5-GB5+GC5 -> 0 | GH5: =GH4+GE5-GF5+GG5 -> 0 | GL5: =GL4+GI5-GJ5+GK5 -> 0 | GP5: =GP4+GM5-GN5+GO5 -> #N/A | GT5: =GT4+GQ5-GR5+GS5 -> 0 | GX5: =GX4+GU5-GV5+GW5 -> 0 | HB5: =HB4+GY5-GZ5+HA5 -> 0 | HF5: =HF4+HC5-HD5+HE5 -> 0 | HJ5: =HJ4+HG5-HH5+HI5 -> 0 | HN5: =HN4+HK5-HL5+HM5 -> 0 | HR5: =HR4+HO5-HP5+HQ5 -> 0 | HV5: =HV4+HS5-HT5+HU5 -> 0 | HZ5: =HZ4+HW5-HX5+HY5 -> 0 | ID5: =ID4+IA5-IB5+IC5 -> 0 | IH5: =IH4+IE5-IF5+IG5 -> 0 | IL5: =IL4+II5-IJ5+IK5 -> 0 | IP5: =IP4+IM5-IN5+IO5 -> 0 | IT5: =IT4+IQ5-IR5+IS5 -> 0 | IX5: =IX4+IU5-IV5+IW5 -> 0 | JB5: =JB4+IY5-IZ5+JA5 -> 0 | JF5: =JF4+JC5-JD5+JE5 -> 0 | JJ5: =JJ4+JG5-JH5+JI5 -> 0 | JN5: =JN4+JK5-JL5+JM5 -> 0 | JR5: =JR4+JO5-JP5+JQ5 -> 0 | JV5: =JV4+JS5-JT5+JU5 -> 0 | JZ5: =JZ4+JW5-JX5+JY5 -> 0 | KD5: =KD4+KA5-KB5+KC5 -> 0 | KH5: =KH4+KE5-KF5+KG5 -> 0 | KL5: =KL4+KI5-KJ5+KK5 -> 0 | KP5: =KP4+KM5-KN5+KO5 -> 0 | KT5: =KT4+KQ5-KR5+KS5 -> 0 | KX5: =KX4+KU5-KV5+KW5 -> 0 | LB5: =LB4+KY5-KZ5+LA5 -> 0 | LF5: =LF4+LC5-LD5+LE5 -> 0 | LJ5: =LJ4+LG5-LH5+LI5 -> 0 | LN5: =LN4+LK5-LL5+LM5 -> 0 | LR5: =LR4+LO5-LP5+LQ5 -> 0 | LV5: =LV4+LS5-LT5+LU5 -> 0 | LZ5: =LZ4+LW5-LX5+LY5 -> 0 | MD5: =MD4+MA5-MB5+MC5 -> 0 | MH5: =MH4+ME5-MF5+MG5 -> 0 | ML5: =ML4+MI5-MJ5+MK5 -> 0 | MP5: =MP4+MM5-MN5+MO5 -> 0 | MT5: =MT4+MQ5-MR5+MS5 -> 0 | MX5: =MX4+MU5-MV5+MW5 -> 0 | NB5: =NB4+MY5-MZ5+NA5 -> 0 | NF5: =NF4+NC5-ND5+NE5 -> 0 | NJ5: =NJ4+NG5-NH5+NI5 -> 0 | NN5: =NN4+NK5-NL5+NM5 -> 0 | NR5: =NR4+NO5-NP5+NQ5 -> 0 | NV5: =NV4+NS5-NT5+NU5 -> 0 | NZ5: =NZ4+NW5-NX5+NY5 -> 0 | OD5: =OD4+OA5-OB5+OC5 -> 0 | OH5: =OH4+OE5-OF5+OG5 -> 0 | OL5: =OL4+OI5-OJ5+OK5 -> 0 | OP5: =OP4+OM5-ON5+OO5 -> 0 | OT5: =OT4+OQ5-OR5+OS5 -> 0 | OX5: =OX4+OU5-OV5+OW5 -> 0 | PB5: =PB4+OY5-OZ5+PA5 -> 0 | PF5: =PF4+PC5-PD5+PE5 -> 0 | PJ5: =PJ4+PG5-PH5+PI5 -> 0 | PN5: =PN4+PK5-PL5+PM5 -> 0 | PR5: =PR4+PO5-PP5+PQ5 -> 0 | PV5: =PV4+PS5-PT5+PU5 -> 0 | PZ5: =PZ4+PW5-PX5+PY5 -> 0 | QD5: =QD4+QA5-QB5+QC5 -> 0 | QH5: =QH4+QE5-QF5+QG5 -> 0 | QL5: =QL4+QI5-QJ5+QK5 -> 0 | QP5: =QP4+QM5-QN5+QO5 -> 0 | QT5: =QT4+QQ5-QR5+QS5 -> 0 | QX5: =QX4+QU5-QV5+QW5 -> 0 | RB5: =RB4+QY5-QZ5+RA5 -> 0 | RF5: =RF4+RC5-RD5+RE5 -> 0 | RJ5: =RJ4+RG5-RH5+RI5 -> 0 | RN5: =RN4+RK5-RL5+RM5 -> 0
A6: Retour Gambas | B6: 45395 | E6: 10 | F6: =F5+C6-D6+E6 -> 60 | I6: 15 | J6: =J5+G6-H6+I6 -> 65 | N6: =N5+K6-L6+M6 -> 50 | Q6: 10 | R6: =R5+O6-P6+Q6 -> 20 | V6: =V5+S6-T6+U6 -> 0 | Z6: =Z5+W6-X6+Y6 -> 0 | AD6: =AD5+AA6-AB6+AC6 -> 0 | AH6: =AH5+AE6-AF6+AG6 -> 0 | AL6: =AL5+AI6-AJ6+AK6 -> 0 | AP6: =AP5+AM6-AN6+AO6 -> 0 | AT6: =AT5+AQ6-AR6+AS6 -> 0 | AX6: =AX5+AU6-AV6+AW6 -> 0 | BB6: =BB5+AY6-AZ6+BA6 -> 0 | BF6: =BF5+BC6-BD6+BE6 -> 0 | BJ6: =BJ5+BG6-BH6+BI6 -> 0 | BN6: =BN5+BK6-BL6+BM6 -> 0 | BR6: =BR5+BO6-BP6+BQ6 -> 0 | BV6: =BV5+BS6-BT6+BU6 -> 0 | BZ6: =BZ5+BW6-BX6+BY6 -> 0 | CD6: =CD5+CA6-CB6+CC6 -> 0 | CH6: =CH5+CE6-CF6+CG6 -> 0 | CL6: =CL5+CI6-CJ6+CK6 -> 0 | CP6: =CP5+CM6-CN6+CO6 -> 0 | CT6: =CT5+CQ6-CR6+CS6 -> 0 | CX6: =CX5+CU6-CV6+CW6 -> 0 | DB6: =DB5+CY6-CZ6+DA6 -> 0 | DF6: =DF5+DC6-DD6+DE6 -> 0 | DJ6: =DJ5+DG6-DH6+DI6 -> 0 | DN6: =DN5+DK6-DL6+DM6 -> 0 | DR6: =DR5+DO6-DP6+DQ6 -> 0 | DV6: =DV5+DS6-DT6+DU6 -> 0 | DZ6: =DZ5+DW6-DX6+DY6 -> 0 | ED6: =ED5+EA6-EB6+EC6 -> 0 | EH6: =EH5+EE6-EF6+EG6 -> 0 | EL6: =EL5+EI6-EJ6+EK6 -> 0 | EP6: =EP5+EM6-EN6+EO6 -> 0 | ET6: =ET5+EQ6-ER6+ES6 -> 0 | EX6: =EX5+EU6-EV6+EW6 -> 0 | FB6: =FB5+EY6-EZ6+FA6 -> 0 | FF6: =FF5+FC6-FD6+FE6 -> 0 | FJ6: =FJ5+FG6-FH6+FI6 -> 0 | FN6: =FN5+FK6-FL6+FM6 -> 0 | FR6: =FR5+FO6-FP6+FQ6 -> 0 | FV6: =FV5+FS6-FT6+FU6 -> 0 | FZ6: =FZ5+FW6-FX6+FY6 -> 0 | GD6: =GD5+GA6-GB6+GC6 -> 0 | GH6: =GH5+GE6-GF6+GG6 -> 0 | GL6: =GL5+GI6-GJ6+GK6 -> 0 | GP6: =GP5+GM6-GN6+GO6 -> #N/A | GT6: =GT5+GQ6-GR6+GS6 -> 0 | GX6: =GX5+GU6-GV6+GW6 -> 0 | HB6: =HB5+GY6-GZ6+HA6 -> 0 | HF6: =HF5+HC6-HD6+HE6 -> 0 | HJ6: =HJ5+HG6-HH6+HI6 -> 0 | HN6: =HN5+HK6-HL6+HM6 -> 0 | HR6: =HR5+HO6-HP6+HQ6 -> 0 | HV6: =HV5+HS6-HT6+HU6 -> 0 | HZ6: =HZ5+HW6-HX6+HY6 -> 0 | ID6: =ID5+IA6-IB6+IC6 -> 0 | IH6: =IH5+IE6-IF6+IG6 -> 0 | IL6: =IL5+II6-IJ6+IK6 -> 0 | IP6: =IP5+IM6-IN6+IO6 -> 0 | IT6: =IT5+IQ6-IR6+IS6 -> 0 | IX6: =IX5+IU6-IV6+IW6 -> 0 | JB6: =JB5+IY6-IZ6+JA6 -> 0 | JF6: =JF5+JC6-JD6+JE6 -> 0 | JJ6: =JJ5+JG6-JH6+JI6 -> 0 | JN6: =JN5+JK6-JL6+JM6 -> 0 | JR6: =JR5+JO6-JP6+JQ6 -> 0 | JV6: =JV5+JS6-JT6+JU6 -> 0 | JZ6: =JZ5+JW6-JX6+JY6 -> 0 | KD6: =KD5+KA6-KB6+KC6 -> 0 | KH6: =KH5+KE6-KF6+KG6 -> 0 | KL6: =KL5+KI6-KJ6+KK6 -> 0 | KP6: =KP5+KM6-KN6+KO6 -> 0 | KT6: =KT5+KQ6-KR6+KS6 -> 0 | KX6: =KX5+KU6-KV6+KW6 -> 0 | LB6: =LB5+KY6-KZ6+LA6 -> 0 | LF6: =LF5+LC6-LD6+LE6 -> 0 | LJ6: =LJ5+LG6-LH6+LI6 -> 0 | LN6: =LN5+LK6-LL6+LM6 -> 0 | LR6: =LR5+LO6-LP6+LQ6 -> 0 | LV6: =LV5+LS6-LT6+LU6 -> 0 | LZ6: =LZ5+LW6-LX6+LY6 -> 0 | MD6: =MD5+MA6-MB6+MC6 -> 0 | MH6: =MH5+ME6-MF6+MG6 -> 0 | ML6: =ML5+MI6-MJ6+MK6 -> 0 | MP6: =MP5+MM6-MN6+MO6 -> 0 | MT6: =MT5+MQ6-MR6+MS6 -> 0 | MX6: =MX5+MU6-MV6+MW6 -> 0 | NB6: =NB5+MY6-MZ6+NA6 -> 0 | NF6: =NF5+NC6-ND6+NE6 -> 0 | NJ6: =NJ5+NG6-NH6+NI6 -> 0 | NN6: =NN5+NK6-NL6+NM6 -> 0 | NR6: =NR5+NO6-NP6+NQ6 -> 0 | NV6: =NV5+NS6-NT6+NU6 -> 0 | NZ6: =NZ5+NW6-NX6+NY6 -> 0 | OD6: =OD5+OA6-OB6+OC6 -> 0 | OH6: =OH5+OE6-OF6+OG6 -> 0 | OL6: =OL5+OI6-OJ6+OK6 -> 0 | OP6: =OP5+OM6-ON6+OO6 -> 0 | OT6: =OT5+OQ6-OR6+OS6 -> 0 | OX6: =OX5+OU6-OV6+OW6 -> 0 | PB6: =PB5+OY6-OZ6+PA6 -> 0 | PF6: =PF5+PC6-PD6+PE6 -> 0 | PJ6: =PJ5+PG6-PH6+PI6 -> 0 | PN6: =PN5+PK6-PL6+PM6 -> 0 | PR6: =PR5+PO6-PP6+PQ6 -> 0 | PV6: =PV5+PS6-PT6+PU6 -> 0 | PZ6: =PZ5+PW6-PX6+PY6 -> 0 | QD6: =QD5+QA6-QB6+QC6 -> 0 | QH6: =QH5+QE6-QF6+QG6 -> 0 | QL6: =QL5+QI6-QJ6+QK6 -> 0 | QP6: =QP5+QM6-QN6+QO6 -> 0 | QT6: =QT5+QQ6-QR6+QS6 -> 0 | QX6: =QX5+QU6-QV6+QW6 -> 0 | RB6: =RB5+QY6-QZ6+RA6 -> 0 | RF6: =RF5+RC6-RD6+RE6 -> 0 | RJ6: =RJ5+RG6-RH6+RI6 -> 0 | RN6: =RN5+RK6-RL6+RM6 -> 0
F7: =F6+C7-D7+E7 -> 60 | J7: =J6+G7-H7+I7 -> 65 | N7: =N6+K7-L7+M7 -> 50 | R7: =R6+O7-P7+Q7 -> 20 | V7: =V6+S7-T7+U7 -> 0 | Z7: =Z6+W7-X7+Y7 -> 0 | AD7: =AD6+AA7-AB7+AC7 -> 0 | AH7: =AH6+AE7-AF7+AG7 -> 0 | AL7: =AL6+AI7-AJ7+AK7 -> 0 | AP7: =AP6+AM7-AN7+AO7 -> 0 | AT7: =AT6+AQ7-AR7+AS7 -> 0 | AX7: =AX6+AU7-AV7+AW7 -> 0 | BB7: =BB6+AY7-AZ7+BA7 -> 0 | BF7: =BF6+BC7-BD7+BE7 -> 0 | BJ7: =BJ6+BG7-BH7+BI7 -> 0 | BN7: =BN6+BK7-BL7+BM7 -> 0 | BR7: =BR6+BO7-BP7+BQ7 -> 0 | BV7: =BV6+BS7-BT7+BU7 -> 0 | BZ7: =BZ6+BW7-BX7+BY7 -> 0 | CD7: =CD6+CA7-CB7+CC7 -> 0 | CH7: =CH6+CE7-CF7+CG7 -> 0 | CL7: =CL6+CI7-CJ7+CK7 -> 0 | CP7: =CP6+CM7-CN7+CO7 -> 0 | CT7: =CT6+CQ7-CR7+CS7 -> 0 | CX7: =CX6+CU7-CV7+CW7 -> 0 | DB7: =DB6+CY7-CZ7+DA7 -> 0 | DF7: =DF6+DC7-DD7+DE7 -> 0 | DJ7: =DJ6+DG7-DH7+DI7 -> 0 | DN7: =DN6+DK7-DL7+DM7 -> 0 | DR7: =DR6+DO7-DP7+DQ7 -> 0 | DV7: =DV6+DS7-DT7+DU7 -> 0 | DZ7: =DZ6+DW7-DX7+DY7 -> 0 | ED7: =ED6+EA7-EB7+EC7 -> 0 | EH7: =EH6+EE7-EF7+EG7 -> 0 | EL7: =EL6+EI7-EJ7+EK7 -> 0 | EP7: =EP6+EM7-EN7+EO7 -> 0 | ET7: =ET6+EQ7-ER7+ES7 -> 0 | EX7: =EX6+EU7-EV7+EW7 -> 0 | FB7: =FB6+EY7-EZ7+FA7 -> 0 | FF7: =FF6+FC7-FD7+FE7 -> 0 | FJ7: =FJ6+FG7-FH7+FI7 -> 0 | FN7: =FN6+FK7-FL7+FM7 -> 0 | FR7: =FR6+FO7-FP7+FQ7 -> 0 | FV7: =FV6+FS7-FT7+FU7 -> 0 | FZ7: =FZ6+FW7-FX7+FY7 -> 0 | GD7: =GD6+GA7-GB7+GC7 -> 0 | GH7: =GH6+GE7-GF7+GG7 -> 0 | GL7: =GL6+GI7-GJ7+GK7 -> 0 | GP7: =GP6+GM7-GN7+GO7 -> #N/A | GT7: =GT6+GQ7-GR7+GS7 -> 0 | GX7: =GX6+GU7-GV7+GW7 -> 0 | HB7: =HB6+GY7-GZ7+HA7 -> 0 | HF7: =HF6+HC7-HD7+HE7 -> 0 | HJ7: =HJ6+HG7-HH7+HI7 -> 0 | HN7: =HN6+HK7-HL7+HM7 -> 0 | HR7: =HR6+HO7-HP7+HQ7 -> 0 | HV7: =HV6+HS7-HT7+HU7 -> 0 | HZ7: =HZ6+HW7-HX7+HY7 -> 0 | ID7: =ID6+IA7-IB7+IC7 -> 0 | IH7: =IH6+IE7-IF7+IG7 -> 0 | IL7: =IL6+II7-IJ7+IK7 -> 0 | IP7: =IP6+IM7-IN7+IO7 -> 0 | IT7: =IT6+IQ7-IR7+IS7 -> 0 | IX7: =IX6+IU7-IV7+IW7 -> 0 | JB7: =JB6+IY7-IZ7+JA7 -> 0 | JF7: =JF6+JC7-JD7+JE7 -> 0 | JJ7: =JJ6+JG7-JH7+JI7 -> 0 | JN7: =JN6+JK7-JL7+JM7 -> 0 | JR7: =JR6+JO7-JP7+JQ7 -> 0 | JV7: =JV6+JS7-JT7+JU7 -> 0 | JZ7: =JZ6+JW7-JX7+JY7 -> 0 | KD7: =KD6+KA7-KB7+KC7 -> 0 | KH7: =KH6+KE7-KF7+KG7 -> 0 | KL7: =KL6+KI7-KJ7+KK7 -> 0 | KP7: =KP6+KM7-KN7+KO7 -> 0 | KT7: =KT6+KQ7-KR7+KS7 -> 0 | KX7: =KX6+KU7-KV7+KW7 -> 0 | LB7: =LB6+KY7-KZ7+LA7 -> 0 | LF7: =LF6+LC7-LD7+LE7 -> 0 | LJ7: =LJ6+LG7-LH7+LI7 -> 0 | LN7: =LN6+LK7-LL7+LM7 -> 0 | LR7: =LR6+LO7-LP7+LQ7 -> 0 | LV7: =LV6+LS7-LT7+LU7 -> 0 | LZ7: =LZ6+LW7-LX7+LY7 -> 0 | MD7: =MD6+MA7-MB7+MC7 -> 0 | MH7: =MH6+ME7-MF7+MG7 -> 0 | ML7: =ML6+MI7-MJ7+MK7 -> 0 | MP7: =MP6+MM7-MN7+MO7 -> 0 | MT7: =MT6+MQ7-MR7+MS7 -> 0 | MX7: =MX6+MU7-MV7+MW7 -> 0 | NB7: =NB6+MY7-MZ7+NA7 -> 0 | NF7: =NF6+NC7-ND7+NE7 -> 0 | NJ7: =NJ6+NG7-NH7+NI7 -> 0 | NN7: =NN6+NK7-NL7+NM7 -> 0 | NR7: =NR6+NO7-NP7+NQ7 -> 0 | NV7: =NV6+NS7-NT7+NU7 -> 0 | NZ7: =NZ6+NW7-NX7+NY7 -> 0 | OD7: =OD6+OA7-OB7+OC7 -> 0 | OH7: =OH6+OE7-OF7+OG7 -> 0 | OL7: =OL6+OI7-OJ7+OK7 -> 0 | OP7: =OP6+OM7-ON7+OO7 -> 0 | OT7: =OT6+OQ7-OR7+OS7 -> 0 | OX7: =OX6+OU7-OV7+OW7 -> 0 | PB7: =PB6+OY7-OZ7+PA7 -> 0 | PF7: =PF6+PC7-PD7+PE7 -> 0 | PJ7: =PJ6+PG7-PH7+PI7 -> 0 | PN7: =PN6+PK7-PL7+PM7 -> 0 | PR7: =PR6+PO7-PP7+PQ7 -> 0 | PV7: =PV6+PS7-PT7+PU7 -> 0 | PZ7: =PZ6+PW7-PX7+PY7 -> 0 | QD7: =QD6+QA7-QB7+QC7 -> 0 | QH7: =QH6+QE7-QF7+QG7 -> 0 | QL7: =QL6+QI7-QJ7+QK7 -> 0 | QP7: =QP6+QM7-QN7+QO7 -> 0 | QT7: =QT6+QQ7-QR7+QS7 -> 0 | QX7: =QX6+QU7-QV7+QW7 -> 0 | RB7: =RB6+QY7-QZ7+RA7 -> 0 | RF7: =RF6+RC7-RD7+RE7 -> 0 | RJ7: =RJ6+RG7-RH7+RI7 -> 0 | RN7: =RN6+RK7-RL7+RM7 -> 0
F8: =F7+C8-D8+E8 -> 60 | J8: =J7+G8-H8+I8 -> 65 | N8: =N7+K8-L8+M8 -> 50 | R8: =R7+O8-P8+Q8 -> 20 | V8: =V7+S8-T8+U8 -> 0 | Z8: =Z7+W8-X8+Y8 -> 0 | AD8: =AD7+AA8-AB8+AC8 -> 0 | AH8: =AH7+AE8-AF8+AG8 -> 0 | AL8: =AL7+AI8-AJ8+AK8 -> 0 | AP8: =AP7+AM8-AN8+AO8 -> 0 | AT8: =AT7+AQ8-AR8+AS8 -> 0 | AX8: =AX7+AU8-AV8+AW8 -> 0 | BB8: =BB7+AY8-AZ8+BA8 -> 0 | BF8: =BF7+BC8-BD8+BE8 -> 0 | BJ8: =BJ7+BG8-BH8+BI8 -> 0 | BN8: =BN7+BK8-BL8+BM8 -> 0 | BR8: =BR7+BO8-BP8+BQ8 -> 0 | BV8: =BV7+BS8-BT8+BU8 -> 0 | BZ8: =BZ7+BW8-BX8+BY8 -> 0 | CD8: =CD7+CA8-CB8+CC8 -> 0 | CH8: =CH7+CE8-CF8+CG8 -> 0 | CL8: =CL7+CI8-CJ8+CK8 -> 0 | CP8: =CP7+CM8-CN8+CO8 -> 0 | CT8: =CT7+CQ8-CR8+CS8 -> 0 | CX8: =CX7+CU8-CV8+CW8 -> 0 | DB8: =DB7+CY8-CZ8+DA8 -> 0 | DF8: =DF7+DC8-DD8+DE8 -> 0 | DJ8: =DJ7+DG8-DH8+DI8 -> 0 | DN8: =DN7+DK8-DL8+DM8 -> 0 | DR8: =DR7+DO8-DP8+DQ8 -> 0 | DV8: =DV7+DS8-DT8+DU8 -> 0 | DZ8: =DZ7+DW8-DX8+DY8 -> 0 | ED8: =ED7+EA8-EB8+EC8 -> 0 | EH8: =EH7+EE8-EF8+EG8 -> 0 | EL8: =EL7+EI8-EJ8+EK8 -> 0 | EP8: =EP7+EM8-EN8+EO8 -> 0 | ET8: =ET7+EQ8-ER8+ES8 -> 0 | EX8: =EX7+EU8-EV8+EW8 -> 0 | FB8: =FB7+EY8-EZ8+FA8 -> 0 | FF8: =FF7+FC8-FD8+FE8 -> 0 | FJ8: =FJ7+FG8-FH8+FI8 -> 0 | FN8: =FN7+FK8-FL8+FM8 -> 0 | FR8: =FR7+FO8-FP8+FQ8 -> 0 | FV8: =FV7+FS8-FT8+FU8 -> 0 | FZ8: =FZ7+FW8-FX8+FY8 -> 0 | GD8: =GD7+GA8-GB8+GC8 -> 0 | GH8: =GH7+GE8-GF8+GG8 -> 0 | GL8: =GL7+GI8-GJ8+GK8 -> 0 | GP8: =GP7+GM8-GN8+GO8 -> #N/A | GT8: =GT7+GQ8-GR8+GS8 -> 0 | GX8: =GX7+GU8-GV8+GW8 -> 0 | HB8: =HB7+GY8-GZ8+HA8 -> 0 | HF8: =HF7+HC8-HD8+HE8 -> 0 | HJ8: =HJ7+HG8-HH8+HI8 -> 0 | HN8: =HN7+HK8-HL8+HM8 -> 0 | HR8: =HR7+HO8-HP8+HQ8 -> 0 | HV8: =HV7+HS8-HT8+HU8 -> 0 | HZ8: =HZ7+HW8-HX8+HY8 -> 0 | ID8: =ID7+IA8-IB8+IC8 -> 0 | IH8: =IH7+IE8-IF8+IG8 -> 0 | IL8: =IL7+II8-IJ8+IK8 -> 0 | IP8: =IP7+IM8-IN8+IO8 -> 0 | IT8: =IT7+IQ8-IR8+IS8 -> 0 | IX8: =IX7+IU8-IV8+IW8 -> 0 | JB8: =JB7+IY8-IZ8+JA8 -> 0 | JF8: =JF7+JC8-JD8+JE8 -> 0 | JJ8: =JJ7+JG8-JH8+JI8 -> 0 | JN8: =JN7+JK8-JL8+JM8 -> 0 | JR8: =JR7+JO8-JP8+JQ8 -> 0 | JV8: =JV7+JS8-JT8+JU8 -> 0 | JZ8: =JZ7+JW8-JX8+JY8 -> 0 | KD8: =KD7+KA8-KB8+KC8 -> 0 | KH8: =KH7+KE8-KF8+KG8 -> 0 | KL8: =KL7+KI8-KJ8+KK8 -> 0 | KP8: =KP7+KM8-KN8+KO8 -> 0 | KT8: =KT7+KQ8-KR8+KS8 -> 0 | KX8: =KX7+KU8-KV8+KW8 -> 0 | LB8: =LB7+KY8-KZ8+LA8 -> 0 | LF8: =LF7+LC8-LD8+LE8 -> 0 | LJ8: =LJ7+LG8-LH8+LI8 -> 0 | LN8: =LN7+LK8-LL8+LM8 -> 0 | LR8: =LR7+LO8-LP8+LQ8 -> 0 | LV8: =LV7+LS8-LT8+LU8 -> 0 | LZ8: =LZ7+LW8-LX8+LY8 -> 0 | MD8: =MD7+MA8-MB8+MC8 -> 0 | MH8: =MH7+ME8-MF8+MG8 -> 0 | ML8: =ML7+MI8-MJ8+MK8 -> 0 | MP8: =MP7+MM8-MN8+MO8 -> 0 | MT8: =MT7+MQ8-MR8+MS8 -> 0 | MX8: =MX7+MU8-MV8+MW8 -> 0 | NB8: =NB7+MY8-MZ8+NA8 -> 0 | NF8: =NF7+NC8-ND8+NE8 -> 0 | NJ8: =NJ7+NG8-NH8+NI8 -> 0 | NN8: =NN7+NK8-NL8+NM8 -> 0 | NR8: =NR7+NO8-NP8+NQ8 -> 0 | NV8: =NV7+NS8-NT8+NU8 -> 0 | NZ8: =NZ7+NW8-NX8+NY8 -> 0 | OD8: =OD7+OA8-OB8+OC8 -> 0 | OH8: =OH7+OE8-OF8+OG8 -> 0 | OL8: =OL7+OI8-OJ8+OK8 -> 0 | OP8: =OP7+OM8-ON8+OO8 -> 0 | OT8: =OT7+OQ8-OR8+OS8 -> 0 | OX8: =OX7+OU8-OV8+OW8 -> 0 | PB8: =PB7+OY8-OZ8+PA8 -> 0 | PF8: =PF7+PC8-PD8+PE8 -> 0 | PJ8: =PJ7+PG8-PH8+PI8 -> 0 | PN8: =PN7+PK8-PL8+PM8 -> 0 | PR8: =PR7+PO8-PP8+PQ8 -> 0 | PV8: =PV7+PS8-PT8+PU8 -> 0 | PZ8: =PZ7+PW8-PX8+PY8 -> 0 | QD8: =QD7+QA8-QB8+QC8 -> 0 | QH8: =QH7+QE8-QF8+QG8 -> 0 | QL8: =QL7+QI8-QJ8+QK8 -> 0 | QP8: =QP7+QM8-QN8+QO8 -> 0 | QT8: =QT7+QQ8-QR8+QS8 -> 0 | QX8: =QX7+QU8-QV8+QW8 -> 0 | RB8: =RB7+QY8-QZ8+RA8 -> 0 | RF8: =RF7+RC8-RD8+RE8 -> 0 | RJ8: =RJ7+RG8-RH8+RI8 -> 0 | RN8: =RN7+RK8-RL8+RM8 -> 0
F9: =F8+C9-D9+E9 -> 60 | J9: =J8+G9-H9+I9 -> 65 | N9: =N8+K9-L9+M9 -> 50 | R9: =R8+O9-P9+Q9 -> 20 | V9: =V8+S9-T9+U9 -> 0 | Z9: =Z8+W9-X9+Y9 -> 0 | AD9: =AD8+AA9-AB9+AC9 -> 0 | AH9: =AH8+AE9-AF9+AG9 -> 0 | AL9: =AL8+AI9-AJ9+AK9 -> 0 | AP9: =AP8+AM9-AN9+AO9 -> 0 | AT9: =AT8+AQ9-AR9+AS9 -> 0 | AX9: =AX8+AU9-AV9+AW9 -> 0 | BB9: =BB8+AY9-AZ9+BA9 -> 0 | BF9: =BF8+BC9-BD9+BE9 -> 0 | BJ9: =BJ8+BG9-BH9+BI9 -> 0 | BN9: =BN8+BK9-BL9+BM9 -> 0 | BR9: =BR8+BO9-BP9+BQ9 -> 0 | BV9: =BV8+BS9-BT9+BU9 -> 0 | BZ9: =BZ8+BW9-BX9+BY9 -> 0 | CD9: =CD8+CA9-CB9+CC9 -> 0 | CH9: =CH8+CE9-CF9+CG9 -> 0 | CL9: =CL8+CI9-CJ9+CK9 -> 0 | CP9: =CP8+CM9-CN9+CO9 -> 0 | CT9: =CT8+CQ9-CR9+CS9 -> 0 | CX9: =CX8+CU9-CV9+CW9 -> 0 | DB9: =DB8+CY9-CZ9+DA9 -> 0 | DF9: =DF8+DC9-DD9+DE9 -> 0 | DJ9: =DJ8+DG9-DH9+DI9 -> 0 | DN9: =DN8+DK9-DL9+DM9 -> 0 | DR9: =DR8+DO9-DP9+DQ9 -> 0 | DV9: =DV8+DS9-DT9+DU9 -> 0 | DZ9: =DZ8+DW9-DX9+DY9 -> 0 | ED9: =ED8+EA9-EB9+EC9 -> 0 | EH9: =EH8+EE9-EF9+EG9 -> 0 | EL9: =EL8+EI9-EJ9+EK9 -> 0 | EP9: =EP8+EM9-EN9+EO9 -> 0 | ET9: =ET8+EQ9-ER9+ES9 -> 0 | EX9: =EX8+EU9-EV9+EW9 -> 0 | FB9: =FB8+EY9-EZ9+FA9 -> 0 | FF9: =FF8+FC9-FD9+FE9 -> 0 | FJ9: =FJ8+FG9-FH9+FI9 -> 0 | FN9: =FN8+FK9-FL9+FM9 -> 0 | FR9: =FR8+FO9-FP9+FQ9 -> 0 | FV9: =FV8+FS9-FT9+FU9 -> 0 | FZ9: =FZ8+FW9-FX9+FY9 -> 0 | GD9: =GD8+GA9-GB9+GC9 -> 0 | GH9: =GH8+GE9-GF9+GG9 -> 0 | GL9: =GL8+GI9-GJ9+GK9 -> 0 | GP9: =GP8+GM9-GN9+GO9 -> #N/A | GT9: =GT8+GQ9-GR9+GS9 -> 0 | GX9: =GX8+GU9-GV9+GW9 -> 0 | HB9: =HB8+GY9-GZ9+HA9 -> 0 | HF9: =HF8+HC9-HD9+HE9 -> 0 | HJ9: =HJ8+HG9-HH9+HI9 -> 0 | HN9: =HN8+HK9-HL9+HM9 -> 0 | HR9: =HR8+HO9-HP9+HQ9 -> 0 | HV9: =HV8+HS9-HT9+HU9 -> 0 | HZ9: =HZ8+HW9-HX9+HY9 -> 0 | ID9: =ID8+IA9-IB9+IC9 -> 0 | IH9: =IH8+IE9-IF9+IG9 -> 0 | IL9: =IL8+II9-IJ9+IK9 -> 0 | IP9: =IP8+IM9-IN9+IO9 -> 0 | IT9: =IT8+IQ9-IR9+IS9 -> 0 | IX9: =IX8+IU9-IV9+IW9 -> 0 | JB9: =JB8+IY9-IZ9+JA9 -> 0 | JF9: =JF8+JC9-JD9+JE9 -> 0 | JJ9: =JJ8+JG9-JH9+JI9 -> 0 | JN9: =JN8+JK9-JL9+JM9 -> 0 | JR9: =JR8+JO9-JP9+JQ9 -> 0 | JV9: =JV8+JS9-JT9+JU9 -> 0 | JZ9: =JZ8+JW9-JX9+JY9 -> 0 | KD9: =KD8+KA9-KB9+KC9 -> 0 | KH9: =KH8+KE9-KF9+KG9 -> 0 | KL9: =KL8+KI9-KJ9+KK9 -> 0 | KP9: =KP8+KM9-KN9+KO9 -> 0 | KT9: =KT8+KQ9-KR9+KS9 -> 0 | KX9: =KX8+KU9-KV9+KW9 -> 0 | LB9: =LB8+KY9-KZ9+LA9 -> 0 | LF9: =LF8+LC9-LD9+LE9 -> 0 | LJ9: =LJ8+LG9-LH9+LI9 -> 0 | LN9: =LN8+LK9-LL9+LM9 -> 0 | LR9: =LR8+LO9-LP9+LQ9 -> 0 | LV9: =LV8+LS9-LT9+LU9 -> 0 | LZ9: =LZ8+LW9-LX9+LY9 -> 0 | MD9: =MD8+MA9-MB9+MC9 -> 0 | MH9: =MH8+ME9-MF9+MG9 -> 0 | ML9: =ML8+MI9-MJ9+MK9 -> 0 | MP9: =MP8+MM9-MN9+MO9 -> 0 | MT9: =MT8+MQ9-MR9+MS9 -> 0 | MX9: =MX8+MU9-MV9+MW9 -> 0 | NB9: =NB8+MY9-MZ9+NA9 -> 0 | NF9: =NF8+NC9-ND9+NE9 -> 0 | NJ9: =NJ8+NG9-NH9+NI9 -> 0 | NN9: =NN8+NK9-NL9+NM9 -> 0 | NR9: =NR8+NO9-NP9+NQ9 -> 0 | NV9: =NV8+NS9-NT9+NU9 -> 0 | NZ9: =NZ8+NW9-NX9+NY9 -> 0 | OD9: =OD8+OA9-OB9+OC9 -> 0 | OH9: =OH8+OE9-OF9+OG9 -> 0 | OL9: =OL8+OI9-OJ9+OK9 -> 0 | OP9: =OP8+OM9-ON9+OO9 -> 0 | OT9: =OT8+OQ9-OR9+OS9 -> 0 | OX9: =OX8+OU9-OV9+OW9 -> 0 | PB9: =PB8+OY9-OZ9+PA9 -> 0 | PF9: =PF8+PC9-PD9+PE9 -> 0 | PJ9: =PJ8+PG9-PH9+PI9 -> 0 | PN9: =PN8+PK9-PL9+PM9 -> 0 | PR9: =PR8+PO9-PP9+PQ9 -> 0 | PV9: =PV8+PS9-PT9+PU9 -> 0 | PZ9: =PZ8+PW9-PX9+PY9 -> 0 | QD9: =QD8+QA9-QB9+QC9 -> 0 | QH9: =QH8+QE9-QF9+QG9 -> 0 | QL9: =QL8+QI9-QJ9+QK9 -> 0 | QP9: =QP8+QM9-QN9+QO9 -> 0 | QT9: =QT8+QQ9-QR9+QS9 -> 0 | QX9: =QX8+QU9-QV9+QW9 -> 0 | RB9: =RB8+QY9-QZ9+RA9 -> 0 | RF9: =RF8+RC9-RD9+RE9 -> 0 | RJ9: =RJ8+RG9-RH9+RI9 -> 0 | RN9: =RN8+RK9-RL9+RM9 -> 0
F10: =F9+C10-D10+E10 -> 60 | J10: =J9+G10-H10+I10 -> 65 | N10: =N9+K10-L10+M10 -> 50 | R10: =R9+O10-P10+Q10 -> 20 | V10: =V9+S10-T10+U10 -> 0 | Z10: =Z9+W10-X10+Y10 -> 0 | AD10: =AD9+AA10-AB10+AC10 -> 0 | AH10: =AH9+AE10-AF10+AG10 -> 0 | AL10: =AL9+AI10-AJ10+AK10 -> 0 | AP10: =AP9+AM10-AN10+AO10 -> 0 | AT10: =AT9+AQ10-AR10+AS10 -> 0 | AX10: =AX9+AU10-AV10+AW10 -> 0 | BB10: =BB9+AY10-AZ10+BA10 -> 0 | BF10: =BF9+BC10-BD10+BE10 -> 0 | BJ10: =BJ9+BG10-BH10+BI10 -> 0 | BN10: =BN9+BK10-BL10+BM10 -> 0 | BR10: =BR9+BO10-BP10+BQ10 -> 0 | BV10: =BV9+BS10-BT10+BU10 -> 0 | BZ10: =BZ9+BW10-BX10+BY10 -> 0 | CD10: =CD9+CA10-CB10+CC10 -> 0 | CH10: =CH9+CE10-CF10+CG10 -> 0 | CL10: =CL9+CI10-CJ10+CK10 -> 0 | CP10: =CP9+CM10-CN10+CO10 -> 0 | CT10: =CT9+CQ10-CR10+CS10 -> 0 | CX10: =CX9+CU10-CV10+CW10 -> 0 | DB10: =DB9+CY10-CZ10+DA10 -> 0 | DF10: =DF9+DC10-DD10+DE10 -> 0 | DJ10: =DJ9+DG10-DH10+DI10 -> 0 | DN10: =DN9+DK10-DL10+DM10 -> 0 | DR10: =DR9+DO10-DP10+DQ10 -> 0 | DV10: =DV9+DS10-DT10+DU10 -> 0 | DZ10: =DZ9+DW10-DX10+DY10 -> 0 | ED10: =ED9+EA10-EB10+EC10 -> 0 | EH10: =EH9+EE10-EF10+EG10 -> 0 | EL10: =EL9+EI10-EJ10+EK10 -> 0 | EP10: =EP9+EM10-EN10+EO10 -> 0 | ET10: =ET9+EQ10-ER10+ES10 -> 0 | EX10: =EX9+EU10-EV10+EW10 -> 0 | FB10: =FB9+EY10-EZ10+FA10 -> 0 | FF10: =FF9+FC10-FD10+FE10 -> 0 | FJ10: =FJ9+FG10-FH10+FI10 -> 0 | FN10: =FN9+FK10-FL10+FM10 -> 0 | FR10: =FR9+FO10-FP10+FQ10 -> 0 | FV10: =FV9+FS10-FT10+FU10 -> 0 | FZ10: =FZ9+FW10-FX10+FY10 -> 0 | GD10: =GD9+GA10-GB10+GC10 -> 0 | GH10: =GH9+GE10-GF10+GG10 -> 0 | GL10: =GL9+GI10-GJ10+GK10 -> 0 | GP10: =GP9+GM10-GN10+GO10 -> #N/A | GT10: =GT9+GQ10-GR10+GS10 -> 0 | GX10: =GX9+GU10-GV10+GW10 -> 0 | HB10: =HB9+GY10-GZ10+HA10 -> 0 | HF10: =HF9+HC10-HD10+HE10 -> 0 | HJ10: =HJ9+HG10-HH10+HI10 -> 0 | HN10: =HN9+HK10-HL10+HM10 -> 0 | HR10: =HR9+HO10-HP10+HQ10 -> 0 | HV10: =HV9+HS10-HT10+HU10 -> 0 | HZ10: =HZ9+HW10-HX10+HY10 -> 0 | ID10: =ID9+IA10-IB10+IC10 -> 0 | IH10: =IH9+IE10-IF10+IG10 -> 0 | IL10: =IL9+II10-IJ10+IK10 -> 0 | IP10: =IP9+IM10-IN10+IO10 -> 0 | IT10: =IT9+IQ10-IR10+IS10 -> 0 | IX10: =IX9+IU10-IV10+IW10 -> 0 | JB10: =JB9+IY10-IZ10+JA10 -> 0 | JF10: =JF9+JC10-JD10+JE10 -> 0 | JJ10: =JJ9+JG10-JH10+JI10 -> 0 | JN10: =JN9+JK10-JL10+JM10 -> 0 | JR10: =JR9+JO10-JP10+JQ10 -> 0 | JV10: =JV9+JS10-JT10+JU10 -> 0 | JZ10: =JZ9+JW10-JX10+JY10 -> 0 | KD10: =KD9+KA10-KB10+KC10 -> 0 | KH10: =KH9+KE10-KF10+KG10 -> 0 | KL10: =KL9+KI10-KJ10+KK10 -> 0 | KP10: =KP9+KM10-KN10+KO10 -> 0 | KT10: =KT9+KQ10-KR10+KS10 -> 0 | KX10: =KX9+KU10-KV10+KW10 -> 0 | LB10: =LB9+KY10-KZ10+LA10 -> 0 | LF10: =LF9+LC10-LD10+LE10 -> 0 | LJ10: =LJ9+LG10-LH10+LI10 -> 0 | LN10: =LN9+LK10-LL10+LM10 -> 0 | LR10: =LR9+LO10-LP10+LQ10 -> 0 | LV10: =LV9+LS10-LT10+LU10 -> 0 | LZ10: =LZ9+LW10-LX10+LY10 -> 0 | MD10: =MD9+MA10-MB10+MC10 -> 0 | MH10: =MH9+ME10-MF10+MG10 -> 0 | ML10: =ML9+MI10-MJ10+MK10 -> 0 | MP10: =MP9+MM10-MN10+MO10 -> 0 | MT10: =MT9+MQ10-MR10+MS10 -> 0 | MX10: =MX9+MU10-MV10+MW10 -> 0 | NB10: =NB9+MY10-MZ10+NA10 -> 0 | NF10: =NF9+NC10-ND10+NE10 -> 0 | NJ10: =NJ9+NG10-NH10+NI10 -> 0 | NN10: =NN9+NK10-NL10+NM10 -> 0 | NR10: =NR9+NO10-NP10+NQ10 -> 0 | NV10: =NV9+NS10-NT10+NU10 -> 0 | NZ10: =NZ9+NW10-NX10+NY10 -> 0 | OD10: =OD9+OA10-OB10+OC10 -> 0 | OH10: =OH9+OE10-OF10+OG10 -> 0 | OL10: =OL9+OI10-OJ10+OK10 -> 0 | OP10: =OP9+OM10-ON10+OO10 -> 0 | OT10: =OT9+OQ10-OR10+OS10 -> 0 | OX10: =OX9+OU10-OV10+OW10 -> 0 | PB10: =PB9+OY10-OZ10+PA10 -> 0 | PF10: =PF9+PC10-PD10+PE10 -> 0 | PJ10: =PJ9+PG10-PH10+PI10 -> 0 | PN10: =PN9+PK10-PL10+PM10 -> 0 | PR10: =PR9+PO10-PP10+PQ10 -> 0 | PV10: =PV9+PS10-PT10+PU10 -> 0 | PZ10: =PZ9+PW10-PX10+PY10 -> 0 | QD10: =QD9+QA10-QB10+QC10 -> 0 | QH10: =QH9+QE10-QF10+QG10 -> 0 | QL10: =QL9+QI10-QJ10+QK10 -> 0 | QP10: =QP9+QM10-QN10+QO10 -> 0 | QT10: =QT9+QQ10-QR10+QS10 -> 0 | QX10: =QX9+QU10-QV10+QW10 -> 0 | RB10: =RB9+QY10-QZ10+RA10 -> 0 | RF10: =RF9+RC10-RD10+RE10 -> 0 | RJ10: =RJ9+RG10-RH10+RI10 -> 0 | RN10: =RN9+RK10-RL10+RM10 -> 0
F11: =F10+C11-D11+E11 -> 60 | J11: =J10+G11-H11+I11 -> 65 | N11: =N10+K11-L11+M11 -> 50 | R11: =R10+O11-P11+Q11 -> 20 | V11: =V10+S11-T11+U11 -> 0 | Z11: =Z10+W11-X11+Y11 -> 0 | AD11: =AD10+AA11-AB11+AC11 -> 0 | AH11: =AH10+AE11-AF11+AG11 -> 0 | AL11: =AL10+AI11-AJ11+AK11 -> 0 | AP11: =AP10+AM11-AN11+AO11 -> 0 | AT11: =AT10+AQ11-AR11+AS11 -> 0 | AX11: =AX10+AU11-AV11+AW11 -> 0 | BB11: =BB10+AY11-AZ11+BA11 -> 0 | BF11: =BF10+BC11-BD11+BE11 -> 0 | BJ11: =BJ10+BG11-BH11+BI11 -> 0 | BN11: =BN10+BK11-BL11+BM11 -> 0 | BR11: =BR10+BO11-BP11+BQ11 -> 0 | BV11: =BV10+BS11-BT11+BU11 -> 0 | BZ11: =BZ10+BW11-BX11+BY11 -> 0 | CD11: =CD10+CA11-CB11+CC11 -> 0 | CH11: =CH10+CE11-CF11+CG11 -> 0 | CL11: =CL10+CI11-CJ11+CK11 -> 0 | CP11: =CP10+CM11-CN11+CO11 -> 0 | CT11: =CT10+CQ11-CR11+CS11 -> 0 | CX11: =CX10+CU11-CV11+CW11 -> 0 | DB11: =DB10+CY11-CZ11+DA11 -> 0 | DF11: =DF10+DC11-DD11+DE11 -> 0 | DJ11: =DJ10+DG11-DH11+DI11 -> 0 | DN11: =DN10+DK11-DL11+DM11 -> 0 | DR11: =DR10+DO11-DP11+DQ11 -> 0 | DV11: =DV10+DS11-DT11+DU11 -> 0 | DZ11: =DZ10+DW11-DX11+DY11 -> 0 | ED11: =ED10+EA11-EB11+EC11 -> 0 | EH11: =EH10+EE11-EF11+EG11 -> 0 | EL11: =EL10+EI11-EJ11+EK11 -> 0 | EP11: =EP10+EM11-EN11+EO11 -> 0 | ET11: =ET10+EQ11-ER11+ES11 -> 0 | EX11: =EX10+EU11-EV11+EW11 -> 0 | FB11: =FB10+EY11-EZ11+FA11 -> 0 | FF11: =FF10+FC11-FD11+FE11 -> 0 | FJ11: =FJ10+FG11-FH11+FI11 -> 0 | FN11: =FN10+FK11-FL11+FM11 -> 0 | FR11: =FR10+FO11-FP11+FQ11 -> 0 | FV11: =FV10+FS11-FT11+FU11 -> 0 | FZ11: =FZ10+FW11-FX11+FY11 -> 0 | GD11: =GD10+GA11-GB11+GC11 -> 0 | GH11: =GH10+GE11-GF11+GG11 -> 0 | GL11: =GL10+GI11-GJ11+GK11 -> 0 | GP11: =GP10+GM11-GN11+GO11 -> #N/A | GT11: =GT10+GQ11-GR11+GS11 -> 0 | GX11: =GX10+GU11-GV11+GW11 -> 0 | HB11: =HB10+GY11-GZ11+HA11 -> 0 | HF11: =HF10+HC11-HD11+HE11 -> 0 | HJ11: =HJ10+HG11-HH11+HI11 -> 0 | HN11: =HN10+HK11-HL11+HM11 -> 0 | HR11: =HR10+HO11-HP11+HQ11 -> 0 | HV11: =HV10+HS11-HT11+HU11 -> 0 | HZ11: =HZ10+HW11-HX11+HY11 -> 0 | ID11: =ID10+IA11-IB11+IC11 -> 0 | IH11: =IH10+IE11-IF11+IG11 -> 0 | IL11: =IL10+II11-IJ11+IK11 -> 0 | IP11: =IP10+IM11-IN11+IO11 -> 0 | IT11: =IT10+IQ11-IR11+IS11 -> 0 | IX11: =IX10+IU11-IV11+IW11 -> 0 | JB11: =JB10+IY11-IZ11+JA11 -> 0 | JF11: =JF10+JC11-JD11+JE11 -> 0 | JJ11: =JJ10+JG11-JH11+JI11 -> 0 | JN11: =JN10+JK11-JL11+JM11 -> 0 | JR11: =JR10+JO11-JP11+JQ11 -> 0 | JV11: =JV10+JS11-JT11+JU11 -> 0 | JZ11: =JZ10+JW11-JX11+JY11 -> 0 | KD11: =KD10+KA11-KB11+KC11 -> 0 | KH11: =KH10+KE11-KF11+KG11 -> 0 | KL11: =KL10+KI11-KJ11+KK11 -> 0 | KP11: =KP10+KM11-KN11+KO11 -> 0 | KT11: =KT10+KQ11-KR11+KS11 -> 0 | KX11: =KX10+KU11-KV11+KW11 -> 0 | LB11: =LB10+KY11-KZ11+LA11 -> 0 | LF11: =LF10+LC11-LD11+LE11 -> 0 | LJ11: =LJ10+LG11-LH11+LI11 -> 0 | LN11: =LN10+LK11-LL11+LM11 -> 0 | LR11: =LR10+LO11-LP11+LQ11 -> 0 | LV11: =LV10+LS11-LT11+LU11 -> 0 | LZ11: =LZ10+LW11-LX11+LY11 -> 0 | MD11: =MD10+MA11-MB11+MC11 -> 0 | MH11: =MH10+ME11-MF11+MG11 -> 0 | ML11: =ML10+MI11-MJ11+MK11 -> 0 | MP11: =MP10+MM11-MN11+MO11 -> 0 | MT11: =MT10+MQ11-MR11+MS11 -> 0 | MX11: =MX10+MU11-MV11+MW11 -> 0 | NB11: =NB10+MY11-MZ11+NA11 -> 0 | NF11: =NF10+NC11-ND11+NE11 -> 0 | NJ11: =NJ10+NG11-NH11+NI11 -> 0 | NN11: =NN10+NK11-NL11+NM11 -> 0 | NR11: =NR10+NO11-NP11+NQ11 -> 0 | NV11: =NV10+NS11-NT11+NU11 -> 0 | NZ11: =NZ10+NW11-NX11+NY11 -> 0 | OD11: =OD10+OA11-OB11+OC11 -> 0 | OH11: =OH10+OE11-OF11+OG11 -> 0 | OL11: =OL10+OI11-OJ11+OK11 -> 0 | OP11: =OP10+OM11-ON11+OO11 -> 0 | OT11: =OT10+OQ11-OR11+OS11 -> 0 | OX11: =OX10+OU11-OV11+OW11 -> 0 | PB11: =PB10+OY11-OZ11+PA11 -> 0 | PF11: =PF10+PC11-PD11+PE11 -> 0 | PJ11: =PJ10+PG11-PH11+PI11 -> 0 | PN11: =PN10+PK11-PL11+PM11 -> 0 | PR11: =PR10+PO11-PP11+PQ11 -> 0 | PV11: =PV10+PS11-PT11+PU11 -> 0 | PZ11: =PZ10+PW11-PX11+PY11 -> 0 | QD11: =QD10+QA11-QB11+QC11 -> 0 | QH11: =QH10+QE11-QF11+QG11 -> 0 | QL11: =QL10+QI11-QJ11+QK11 -> 0 | QP11: =QP10+QM11-QN11+QO11 -> 0 | QT11: =QT10+QQ11-QR11+QS11 -> 0 | QX11: =QX10+QU11-QV11+QW11 -> 0 | RB11: =RB10+QY11-QZ11+RA11 -> 0 | RF11: =RF10+RC11-RD11+RE11 -> 0 | RJ11: =RJ10+RG11-RH11+RI11 -> 0 | RN11: =RN10+RK11-RL11+RM11 -> 0
F12: =F11+C12-D12+E12 -> 60 | J12: =J11+G12-H12+I12 -> 65 | N12: =N11+K12-L12+M12 -> 50 | R12: =R11+O12-P12+Q12 -> 20 | V12: =V11+S12-T12+U12 -> 0 | Z12: =Z11+W12-X12+Y12 -> 0 | AD12: =AD11+AA12-AB12+AC12 -> 0 | AH12: =AH11+AE12-AF12+AG12 -> 0 | AL12: =AL11+AI12-AJ12+AK12 -> 0 | AP12: =AP11+AM12-AN12+AO12 -> 0 | AT12: =AT11+AQ12-AR12+AS12 -> 0 | AX12: =AX11+AU12-AV12+AW12 -> 0 | BB12: =BB11+AY12-AZ12+BA12 -> 0 | BF12: =BF11+BC12-BD12+BE12 -> 0 | BJ12: =BJ11+BG12-BH12+BI12 -> 0 | BN12: =BN11+BK12-BL12+BM12 -> 0 | BR12: =BR11+BO12-BP12+BQ12 -> 0 | BV12: =BV11+BS12-BT12+BU12 -> 0 | BZ12: =BZ11+BW12-BX12+BY12 -> 0 | CD12: =CD11+CA12-CB12+CC12 -> 0 | CH12: =CH11+CE12-CF12+CG12 -> 0 | CL12: =CL11+CI12-CJ12+CK12 -> 0 | CP12: =CP11+CM12-CN12+CO12 -> 0 | CT12: =CT11+CQ12-CR12+CS12 -> 0 | CX12: =CX11+CU12-CV12+CW12 -> 0 | DB12: =DB11+CY12-CZ12+DA12 -> 0 | DF12: =DF11+DC12-DD12+DE12 -> 0 | DJ12: =DJ11+DG12-DH12+DI12 -> 0 | DN12: =DN11+DK12-DL12+DM12 -> 0 | DR12: =DR11+DO12-DP12+DQ12 -> 0 | DV12: =DV11+DS12-DT12+DU12 -> 0 | DZ12: =DZ11+DW12-DX12+DY12 -> 0 | ED12: =ED11+EA12-EB12+EC12 -> 0 | EH12: =EH11+EE12-EF12+EG12 -> 0 | EL12: =EL11+EI12-EJ12+EK12 -> 0 | EP12: =EP11+EM12-EN12+EO12 -> 0 | ET12: =ET11+EQ12-ER12+ES12 -> 0 | EX12: =EX11+EU12-EV12+EW12 -> 0 | FB12: =FB11+EY12-EZ12+FA12 -> 0 | FF12: =FF11+FC12-FD12+FE12 -> 0 | FJ12: =FJ11+FG12-FH12+FI12 -> 0 | FN12: =FN11+FK12-FL12+FM12 -> 0 | FR12: =FR11+FO12-FP12+FQ12 -> 0 | FV12: =FV11+FS12-FT12+FU12 -> 0 | FZ12: =FZ11+FW12-FX12+FY12 -> 0 | GD12: =GD11+GA12-GB12+GC12 -> 0 | GH12: =GH11+GE12-GF12+GG12 -> 0 | GL12: =GL11+GI12-GJ12+GK12 -> 0 | GP12: =GP11+GM12-GN12+GO12 -> #N/A | GT12: =GT11+GQ12-GR12+GS12 -> 0 | GX12: =GX11+GU12-GV12+GW12 -> 0 | HB12: =HB11+GY12-GZ12+HA12 -> 0 | HF12: =HF11+HC12-HD12+HE12 -> 0 | HJ12: =HJ11+HG12-HH12+HI12 -> 0 | HN12: =HN11+HK12-HL12+HM12 -> 0 | HR12: =HR11+HO12-HP12+HQ12 -> 0 | HV12: =HV11+HS12-HT12+HU12 -> 0 | HZ12: =HZ11+HW12-HX12+HY12 -> 0 | ID12: =ID11+IA12-IB12+IC12 -> 0 | IH12: =IH11+IE12-IF12+IG12 -> 0 | IL12: =IL11+II12-IJ12+IK12 -> 0 | IP12: =IP11+IM12-IN12+IO12 -> 0 | IT12: =IT11+IQ12-IR12+IS12 -> 0 | IX12: =IX11+IU12-IV12+IW12 -> 0 | JB12: =JB11+IY12-IZ12+JA12 -> 0 | JF12: =JF11+JC12-JD12+JE12 -> 0 | JJ12: =JJ11+JG12-JH12+JI12 -> 0 | JN12: =JN11+JK12-JL12+JM12 -> 0 | JR12: =JR11+JO12-JP12+JQ12 -> 0 | JV12: =JV11+JS12-JT12+JU12 -> 0 | JZ12: =JZ11+JW12-JX12+JY12 -> 0 | KD12: =KD11+KA12-KB12+KC12 -> 0 | KH12: =KH11+KE12-KF12+KG12 -> 0 | KL12: =KL11+KI12-KJ12+KK12 -> 0 | KP12: =KP11+KM12-KN12+KO12 -> 0 | KT12: =KT11+KQ12-KR12+KS12 -> 0 | KX12: =KX11+KU12-KV12+KW12 -> 0 | LB12: =LB11+KY12-KZ12+LA12 -> 0 | LF12: =LF11+LC12-LD12+LE12 -> 0 | LJ12: =LJ11+LG12-LH12+LI12 -> 0 | LN12: =LN11+LK12-LL12+LM12 -> 0 | LR12: =LR11+LO12-LP12+LQ12 -> 0 | LV12: =LV11+LS12-LT12+LU12 -> 0 | LZ12: =LZ11+LW12-LX12+LY12 -> 0 | MD12: =MD11+MA12-MB12+MC12 -> 0 | MH12: =MH11+ME12-MF12+MG12 -> 0 | ML12: =ML11+MI12-MJ12+MK12 -> 0 | MP12: =MP11+MM12-MN12+MO12 -> 0 | MT12: =MT11+MQ12-MR12+MS12 -> 0 | MX12: =MX11+MU12-MV12+MW12 -> 0 | NB12: =NB11+MY12-MZ12+NA12 -> 0 | NF12: =NF11+NC12-ND12+NE12 -> 0 | NJ12: =NJ11+NG12-NH12+NI12 -> 0 | NN12: =NN11+NK12-NL12+NM12 -> 0 | NR12: =NR11+NO12-NP12+NQ12 -> 0 | NV12: =NV11+NS12-NT12+NU12 -> 0 | NZ12: =NZ11+NW12-NX12+NY12 -> 0 | OD12: =OD11+OA12-OB12+OC12 -> 0 | OH12: =OH11+OE12-OF12+OG12 -> 0 | OL12: =OL11+OI12-OJ12+OK12 -> 0 | OP12: =OP11+OM12-ON12+OO12 -> 0 | OT12: =OT11+OQ12-OR12+OS12 -> 0 | OX12: =OX11+OU12-OV12+OW12 -> 0 | PB12: =PB11+OY12-OZ12+PA12 -> 0 | PF12: =PF11+PC12-PD12+PE12 -> 0 | PJ12: =PJ11+PG12-PH12+PI12 -> 0 | PN12: =PN11+PK12-PL12+PM12 -> 0 | PR12: =PR11+PO12-PP12+PQ12 -> 0 | PV12: =PV11+PS12-PT12+PU12 -> 0 | PZ12: =PZ11+PW12-PX12+PY12 -> 0 | QD12: =QD11+QA12-QB12+QC12 -> 0 | QH12: =QH11+QE12-QF12+QG12 -> 0 | QL12: =QL11+QI12-QJ12+QK12 -> 0 | QP12: =QP11+QM12-QN12+QO12 -> 0 | QT12: =QT11+QQ12-QR12+QS12 -> 0 | QX12: =QX11+QU12-QV12+QW12 -> 0 | RB12: =RB11+QY12-QZ12+RA12 -> 0 | RF12: =RF11+RC12-RD12+RE12 -> 0 | RJ12: =RJ11+RG12-RH12+RI12 -> 0 | RN12: =RN11+RK12-RL12+RM12 -> 0
F13: =F12+C13-D13+E13 -> 60 | J13: =J12+G13-H13+I13 -> 65 | N13: =N12+K13-L13+M13 -> 50 | R13: =R12+O13-P13+Q13 -> 20 | V13: =V12+S13-T13+U13 -> 0 | Z13: =Z12+W13-X13+Y13 -> 0 | AD13: =AD12+AA13-AB13+AC13 -> 0 | AH13: =AH12+AE13-AF13+AG13 -> 0 | AL13: =AL12+AI13-AJ13+AK13 -> 0 | AP13: =AP12+AM13-AN13+AO13 -> 0 | AT13: =AT12+AQ13-AR13+AS13 -> 0 | AX13: =AX12+AU13-AV13+AW13 -> 0 | BB13: =BB12+AY13-AZ13+BA13 -> 0 | BF13: =BF12+BC13-BD13+BE13 -> 0 | BJ13: =BJ12+BG13-BH13+BI13 -> 0 | BN13: =BN12+BK13-BL13+BM13 -> 0 | BR13: =BR12+BO13-BP13+BQ13 -> 0 | BV13: =BV12+BS13-BT13+BU13 -> 0 | BZ13: =BZ12+BW13-BX13+BY13 -> 0 | CD13: =CD12+CA13-CB13+CC13 -> 0 | CH13: =CH12+CE13-CF13+CG13 -> 0 | CL13: =CL12+CI13-CJ13+CK13 -> 0 | CP13: =CP12+CM13-CN13+CO13 -> 0 | CT13: =CT12+CQ13-CR13+CS13 -> 0 | CX13: =CX12+CU13-CV13+CW13 -> 0 | DB13: =DB12+CY13-CZ13+DA13 -> 0 | DF13: =DF12+DC13-DD13+DE13 -> 0 | DJ13: =DJ12+DG13-DH13+DI13 -> 0 | DN13: =DN12+DK13-DL13+DM13 -> 0 | DR13: =DR12+DO13-DP13+DQ13 -> 0 | DV13: =DV12+DS13-DT13+DU13 -> 0 | DZ13: =DZ12+DW13-DX13+DY13 -> 0 | ED13: =ED12+EA13-EB13+EC13 -> 0 | EH13: =EH12+EE13-EF13+EG13 -> 0 | EL13: =EL12+EI13-EJ13+EK13 -> 0 | EP13: =EP12+EM13-EN13+EO13 -> 0 | ET13: =ET12+EQ13-ER13+ES13 -> 0 | EX13: =EX12+EU13-EV13+EW13 -> 0 | FB13: =FB12+EY13-EZ13+FA13 -> 0 | FF13: =FF12+FC13-FD13+FE13 -> 0 | FJ13: =FJ12+FG13-FH13+FI13 -> 0 | FN13: =FN12+FK13-FL13+FM13 -> 0 | FR13: =FR12+FO13-FP13+FQ13 -> 0 | FV13: =FV12+FS13-FT13+FU13 -> 0 | FZ13: =FZ12+FW13-FX13+FY13 -> 0 | GD13: =GD12+GA13-GB13+GC13 -> 0 | GH13: =GH12+GE13-GF13+GG13 -> 0 | GL13: =GL12+GI13-GJ13+GK13 -> 0 | GP13: =GP12+GM13-GN13+GO13 -> #N/A | GT13: =GT12+GQ13-GR13+GS13 -> 0 | GX13: =GX12+GU13-GV13+GW13 -> 0 | HB13: =HB12+GY13-GZ13+HA13 -> 0 | HF13: =HF12+HC13-HD13+HE13 -> 0 | HJ13: =HJ12+HG13-HH13+HI13 -> 0 | HN13: =HN12+HK13-HL13+HM13 -> 0 | HR13: =HR12+HO13-HP13+HQ13 -> 0 | HV13: =HV12+HS13-HT13+HU13 -> 0 | HZ13: =HZ12+HW13-HX13+HY13 -> 0 | ID13: =ID12+IA13-IB13+IC13 -> 0 | IH13: =IH12+IE13-IF13+IG13 -> 0 | IL13: =IL12+II13-IJ13+IK13 -> 0 | IP13: =IP12+IM13-IN13+IO13 -> 0 | IT13: =IT12+IQ13-IR13+IS13 -> 0 | IX13: =IX12+IU13-IV13+IW13 -> 0 | JB13: =JB12+IY13-IZ13+JA13 -> 0 | JF13: =JF12+JC13-JD13+JE13 -> 0 | JJ13: =JJ12+JG13-JH13+JI13 -> 0 | JN13: =JN12+JK13-JL13+JM13 -> 0 | JR13: =JR12+JO13-JP13+JQ13 -> 0 | JV13: =JV12+JS13-JT13+JU13 -> 0 | JZ13: =JZ12+JW13-JX13+JY13 -> 0 | KD13: =KD12+KA13-KB13+KC13 -> 0 | KH13: =KH12+KE13-KF13+KG13 -> 0 | KL13: =KL12+KI13-KJ13+KK13 -> 0 | KP13: =KP12+KM13-KN13+KO13 -> 0 | KT13: =KT12+KQ13-KR13+KS13 -> 0 | KX13: =KX12+KU13-KV13+KW13 -> 0 | LB13: =LB12+KY13-KZ13+LA13 -> 0 | LF13: =LF12+LC13-LD13+LE13 -> 0 | LJ13: =LJ12+LG13-LH13+LI13 -> 0 | LN13: =LN12+LK13-LL13+LM13 -> 0 | LR13: =LR12+LO13-LP13+LQ13 -> 0 | LV13: =LV12+LS13-LT13+LU13 -> 0 | LZ13: =LZ12+LW13-LX13+LY13 -> 0 | MD13: =MD12+MA13-MB13+MC13 -> 0 | MH13: =MH12+ME13-MF13+MG13 -> 0 | ML13: =ML12+MI13-MJ13+MK13 -> 0 | MP13: =MP12+MM13-MN13+MO13 -> 0 | MT13: =MT12+MQ13-MR13+MS13 -> 0 | MX13: =MX12+MU13-MV13+MW13 -> 0 | NB13: =NB12+MY13-MZ13+NA13 -> 0 | NF13: =NF12+NC13-ND13+NE13 -> 0 | NJ13: =NJ12+NG13-NH13+NI13 -> 0 | NN13: =NN12+NK13-NL13+NM13 -> 0 | NR13: =NR12+NO13-NP13+NQ13 -> 0 | NV13: =NV12+NS13-NT13+NU13 -> 0 | NZ13: =NZ12+NW13-NX13+NY13 -> 0 | OD13: =OD12+OA13-OB13+OC13 -> 0 | OH13: =OH12+OE13-OF13+OG13 -> 0 | OL13: =OL12+OI13-OJ13+OK13 -> 0 | OP13: =OP12+OM13-ON13+OO13 -> 0 | OT13: =OT12+OQ13-OR13+OS13 -> 0 | OX13: =OX12+OU13-OV13+OW13 -> 0 | PB13: =PB12+OY13-OZ13+PA13 -> 0 | PF13: =PF12+PC13-PD13+PE13 -> 0 | PJ13: =PJ12+PG13-PH13+PI13 -> 0 | PN13: =PN12+PK13-PL13+PM13 -> 0 | PR13: =PR12+PO13-PP13+PQ13 -> 0 | PV13: =PV12+PS13-PT13+PU13 -> 0 | PZ13: =PZ12+PW13-PX13+PY13 -> 0 | QD13: =QD12+QA13-QB13+QC13 -> 0 | QH13: =QH12+QE13-QF13+QG13 -> 0 | QL13: =QL12+QI13-QJ13+QK13 -> 0 | QP13: =QP12+QM13-QN13+QO13 -> 0 | QT13: =QT12+QQ13-QR13+QS13 -> 0 | QX13: =QX12+QU13-QV13+QW13 -> 0 | RB13: =RB12+QY13-QZ13+RA13 -> 0 | RF13: =RF12+RC13-RD13+RE13 -> 0 | RJ13: =RJ12+RG13-RH13+RI13 -> 0 | RN13: =RN12+RK13-RL13+RM13 -> 0
F14: =F13+C14-D14+E14 -> 60 | J14: =J13+G14-H14+I14 -> 65 | N14: =N13+K14-L14+M14 -> 50 | R14: =R13+O14-P14+Q14 -> 20 | V14: =V13+S14-T14+U14 -> 0 | Z14: =Z13+W14-X14+Y14 -> 0 | AD14: =AD13+AA14-AB14+AC14 -> 0 | AH14: =AH13+AE14-AF14+AG14 -> 0 | AL14: =AL13+AI14-AJ14+AK14 -> 0 | AP14: =AP13+AM14-AN14+AO14 -> 0 | AT14: =AT13+AQ14-AR14+AS14 -> 0 | AX14: =AX13+AU14-AV14+AW14 -> 0 | BB14: =BB13+AY14-AZ14+BA14 -> 0 | BF14: =BF13+BC14-BD14+BE14 -> 0 | BJ14: =BJ13+BG14-BH14+BI14 -> 0 | BN14: =BN13+BK14-BL14+BM14 -> 0 | BR14: =BR13+BO14-BP14+BQ14 -> 0 | BV14: =BV13+BS14-BT14+BU14 -> 0 | BZ14: =BZ13+BW14-BX14+BY14 -> 0 | CD14: =CD13+CA14-CB14+CC14 -> 0 | CH14: =CH13+CE14-CF14+CG14 -> 0 | CL14: =CL13+CI14-CJ14+CK14 -> 0 | CP14: =CP13+CM14-CN14+CO14 -> 0 | CT14: =CT13+CQ14-CR14+CS14 -> 0 | CX14: =CX13+CU14-CV14+CW14 -> 0 | DB14: =DB13+CY14-CZ14+DA14 -> 0 | DF14: =DF13+DC14-DD14+DE14 -> 0 | DJ14: =DJ13+DG14-DH14+DI14 -> 0 | DN14: =DN13+DK14-DL14+DM14 -> 0 | DR14: =DR13+DO14-DP14+DQ14 -> 0 | DV14: =DV13+DS14-DT14+DU14 -> 0 | DZ14: =DZ13+DW14-DX14+DY14 -> 0 | ED14: =ED13+EA14-EB14+EC14 -> 0 | EH14: =EH13+EE14-EF14+EG14 -> 0 | EL14: =EL13+EI14-EJ14+EK14 -> 0 | EP14: =EP13+EM14-EN14+EO14 -> 0 | ET14: =ET13+EQ14-ER14+ES14 -> 0 | EX14: =EX13+EU14-EV14+EW14 -> 0 | FB14: =FB13+EY14-EZ14+FA14 -> 0 | FF14: =FF13+FC14-FD14+FE14 -> 0 | FJ14: =FJ13+FG14-FH14+FI14 -> 0 | FN14: =FN13+FK14-FL14+FM14 -> 0 | FR14: =FR13+FO14-FP14+FQ14 -> 0 | FV14: =FV13+FS14-FT14+FU14 -> 0 | FZ14: =FZ13+FW14-FX14+FY14 -> 0 | GD14: =GD13+GA14-GB14+GC14 -> 0 | GH14: =GH13+GE14-GF14+GG14 -> 0 | GL14: =GL13+GI14-GJ14+GK14 -> 0 | GP14: =GP13+GM14-GN14+GO14 -> #N/A | GT14: =GT13+GQ14-GR14+GS14 -> 0 | GX14: =GX13+GU14-GV14+GW14 -> 0 | HB14: =HB13+GY14-GZ14+HA14 -> 0 | HF14: =HF13+HC14-HD14+HE14 -> 0 | HJ14: =HJ13+HG14-HH14+HI14 -> 0 | HN14: =HN13+HK14-HL14+HM14 -> 0 | HR14: =HR13+HO14-HP14+HQ14 -> 0 | HV14: =HV13+HS14-HT14+HU14 -> 0 | HZ14: =HZ13+HW14-HX14+HY14 -> 0 | ID14: =ID13+IA14-IB14+IC14 -> 0 | IH14: =IH13+IE14-IF14+IG14 -> 0 | IL14: =IL13+II14-IJ14+IK14 -> 0 | IP14: =IP13+IM14-IN14+IO14 -> 0 | IT14: =IT13+IQ14-IR14+IS14 -> 0 | IX14: =IX13+IU14-IV14+IW14 -> 0 | JB14: =JB13+IY14-IZ14+JA14 -> 0 | JF14: =JF13+JC14-JD14+JE14 -> 0 | JJ14: =JJ13+JG14-JH14+JI14 -> 0 | JN14: =JN13+JK14-JL14+JM14 -> 0 | JR14: =JR13+JO14-JP14+JQ14 -> 0 | JV14: =JV13+JS14-JT14+JU14 -> 0 | JZ14: =JZ13+JW14-JX14+JY14 -> 0 | KD14: =KD13+KA14-KB14+KC14 -> 0 | KH14: =KH13+KE14-KF14+KG14 -> 0 | KL14: =KL13+KI14-KJ14+KK14 -> 0 | KP14: =KP13+KM14-KN14+KO14 -> 0 | KT14: =KT13+KQ14-KR14+KS14 -> 0 | KX14: =KX13+KU14-KV14+KW14 -> 0 | LB14: =LB13+KY14-KZ14+LA14 -> 0 | LF14: =LF13+LC14-LD14+LE14 -> 0 | LJ14: =LJ13+LG14-LH14+LI14 -> 0 | LN14: =LN13+LK14-LL14+LM14 -> 0 | LR14: =LR13+LO14-LP14+LQ14 -> 0 | LV14: =LV13+LS14-LT14+LU14 -> 0 | LZ14: =LZ13+LW14-LX14+LY14 -> 0 | MD14: =MD13+MA14-MB14+MC14 -> 0 | MH14: =MH13+ME14-MF14+MG14 -> 0 | ML14: =ML13+MI14-MJ14+MK14 -> 0 | MP14: =MP13+MM14-MN14+MO14 -> 0 | MT14: =MT13+MQ14-MR14+MS14 -> 0 | MX14: =MX13+MU14-MV14+MW14 -> 0 | NB14: =NB13+MY14-MZ14+NA14 -> 0 | NF14: =NF13+NC14-ND14+NE14 -> 0 | NJ14: =NJ13+NG14-NH14+NI14 -> 0 | NN14: =NN13+NK14-NL14+NM14 -> 0 | NR14: =NR13+NO14-NP14+NQ14 -> 0 | NV14: =NV13+NS14-NT14+NU14 -> 0 | NZ14: =NZ13+NW14-NX14+NY14 -> 0 | OD14: =OD13+OA14-OB14+OC14 -> 0 | OH14: =OH13+OE14-OF14+OG14 -> 0 | OL14: =OL13+OI14-OJ14+OK14 -> 0 | OP14: =OP13+OM14-ON14+OO14 -> 0 | OT14: =OT13+OQ14-OR14+OS14 -> 0 | OX14: =OX13+OU14-OV14+OW14 -> 0 | PB14: =PB13+OY14-OZ14+PA14 -> 0 | PF14: =PF13+PC14-PD14+PE14 -> 0 | PJ14: =PJ13+PG14-PH14+PI14 -> 0 | PN14: =PN13+PK14-PL14+PM14 -> 0 | PR14: =PR13+PO14-PP14+PQ14 -> 0 | PV14: =PV13+PS14-PT14+PU14 -> 0 | PZ14: =PZ13+PW14-PX14+PY14 -> 0 | QD14: =QD13+QA14-QB14+QC14 -> 0 | QH14: =QH13+QE14-QF14+QG14 -> 0 | QL14: =QL13+QI14-QJ14+QK14 -> 0 | QP14: =QP13+QM14-QN14+QO14 -> 0 | QT14: =QT13+QQ14-QR14+QS14 -> 0 | QX14: =QX13+QU14-QV14+QW14 -> 0 | RB14: =RB13+QY14-QZ14+RA14 -> 0 | RF14: =RF13+RC14-RD14+RE14 -> 0 | RJ14: =RJ13+RG14-RH14+RI14 -> 0 | RN14: =RN13+RK14-RL14+RM14 -> 0
