Workbook
Name Liste05: [1]Feuil1!$H$37:$H$40
Name Liste1: [1]Feuil1!$I$37:$I$40
Name Liste2: [1]Feuil1!$F$37:$F$42
Name Liste3: [1]Feuil1!$W$37:$W$42
Name ListeDeux: 'Points DC'!$F$147:$F$152
Name ListeTrois: 'Points DC'!$W$147:$W$152
Name ListeUN: 'Points DC'!$I$147:$I$150
Name listeZeroCinq: 'Points DC'!$H$147:$H$150
Name NIVEAU: #REF!
Name PAP: 'Notes DC'!$E$143:$E$144

Sheet Mode op
A1: 0. Compléter pour le DC concerné l'onglet "Compétences" avec le nbr de point et la compétence traitée par la question
A2: 1. Compléter l'onglet "Points DC" vert avec les points obtenus par Questions pour chaque élèves
A3: 2. Consulter (uniquement) les onglets "Synthèse Notes, Synth Gauss, Synth Savoirs" ou "Notes DC"
A6: Notes:
A7: NE RIEN INSCRIRE OU EDITER DANS LES ONGLETS ROUGES
A8: COMPLETER UNIQUEMENT LES ONGLETS VERTS
A10: Consulter :
A11: Synthèse Notes 1ères : | B11: Moyennes par classe, Ecart type, Absent, Progression, Correcteurs
A12: Synth Graph: | B12: Evolution Graphique des moyennes par classe
A13: Synt Gauss : | B13: La répartitions des élèves par notes ou palier de notes obtenues
A14: Synt Vœux | B14: Les vœux de spécialité de Terminale
A15: Notes DC : | B15: Notes aux DC de élève, et détail notes M E I /10
A17: COMPLETER UNIQUEMENT :
A18: Points DC : | B18: avec les points obtenus pour chaque question du devoir concerné.
A19: Compét: | B19: avec les compétences traitées pour chaque question du DC concerné.
A20: Notes Trim & Bulletin: | B20: avec les moyennes en M E I de Cours et de TP
A22: Utiliser
A23: Les listes d'appel par classe pour faire émarger les élèves lors des DC ou des sorties de classe

Sheet Synthèse Notes 1eres
A1: Synthèses des Moyennes - Devoirs
A2: 2023 - 2024
A4: Classes | B4: Nbr élèves | C4: PAP | D4: DC1 Abs % | E4: DC1 Matière /10 | F4: DC1 Energie /10 | G4: DC1 Informa /10 | H4: DC1 Moyenne /20 | J4: DC2 Abs % | K4: DC2 Comp /10 | L4: DC2 Matière /10 | M4: DC2 Energie /10 | N4: DC2 Informa /10 | O4: DC2 Moyenne /20 | P4: DC2 Progression % | R4: DC3 Abs % | S4: DC3 Matière /10 | T4: DC3 Energie /10 | U4: DC3 Informa /10 | V4: DC3 Moyenne /20 | W4: DC3 Progression | Y4: DC4 Abs % | Z4: DC4 Matière /10 | AA4: DC4 Energie /10 | AB4: DC4 Informa /10 | AC4: DC4 Moyenne /20 | AD4: DC4 Progression
A5: 611 | B5: =COUNTIF(Tableau1[Classe],611) -> 29 | C5: =PAP!B4 -> 8 | D5: =COUNTIFS(Tableau1[Classe],611,Tableau1[DC1],0) -> 0 | E5: =Dyn!B17 -> 3.137931 | F5: =Dyn!C17 -> 3.8793103 | G5: =Dyn!D17 -> 5.5689655 | H5: =Dyn!E17 -> 9 | J5: =COUNTIFS(Tableau1[Classe],611,Tableau1[DC2],0) -> 28 | K5: =Dyn!G17 -> 0 | L5: =Dyn!H17 -> 0.044827586 | M5: =Dyn!I17 -> 0.11724138 | N5: =Dyn!J17 -> 0.086206897 | O5: =Dyn!K17 -> 0.27586207 | P5: =100*(O5-H5)/H5 -> -96.934866 | R5: =COUNTIFS(Tableau1[Classe],611,Tableau1[DC3],0) -> 29 | Y5: =COUNTIFS(Tableau1[Classe],611,Tableau1[DC4],0) -> 0
A6: 612 | B6: =COUNTIF(Tableau1[Classe],612) -> 30 | C6: =PAP!B5 -> 6 | D6: =COUNTIFS(Tableau1[Classe],612,Tableau1[DC1],0) -> 0 | E6: =Dyn!B18 -> 2.595 | F6: =Dyn!C18 -> 3.15 | G6: =Dyn!D18 -> 4.285 | H6: =Dyn!E18 -> 7.3333333 | J6: =COUNTIFS(Tableau1[Classe],612,Tableau1[DC2],0) -> 2 | K6: =Dyn!G18 -> 2.3416667 | L6: =Dyn!H18 -> 2.1166667 | M6: =Dyn!I18 -> 2.9166667 | N6: =Dyn!J18 -> 1.6583333 | O6: =Dyn!K18 -> 9.4666667 | P6: =100*(O6-H6)/H6 -> 29.090909 | R6: =COUNTIFS(Tableau1[Classe],612,Tableau1[DC3],0) -> 30 | Y6: =COUNTIFS(Tableau1[Classe],612,Tableau1[DC4],0) -> 0
A7: 613 | B7: =COUNTIF(Tableau1[Classe],613) -> 32 | C7: =PAP!B6 -> 11 | D7: =COUNTIFS(Tableau1[Classe],613,Tableau1[DC1],0) -> 0 | E7: =Dyn!B19 -> 4.0703125 | F7: =Dyn!C19 -> 5.1796875 | G7: =Dyn!D19 -> 6.8046875 | H7: =Dyn!E19 -> 11.59375 | J7: =COUNTIFS(Tableau1[Classe],613,Tableau1[DC2],0) -> 0 | K7: =Dyn!G19 -> 2.6703125 | L7: =Dyn!H19 -> 1.990625 | M7: =Dyn!I19 -> 2 | N7: =Dyn!J19 -> 2.0875 | O7: =Dyn!K19 -> 9.53125 | P7: =100*(O7-H7)/H7 -> -17.789757 | R7: =COUNTIFS(Tableau1[Classe],613,Tableau1[DC3],0) -> 32 | Y7: =COUNTIFS(Tableau1[Classe],613,Tableau1[DC4],0) -> 0
A8: 614 | B8: =COUNTIF(Tableau1[Classe],614) -> 28 | C8: =PAP!B7 -> 8 | D8: =COUNTIFS(Tableau1[Classe],614,Tableau1[DC1],0) -> 0 | E8: =Dyn!B20 -> 4.1946429 | F8: =Dyn!C20 -> 4.6178571 | G8: =Dyn!D20 -> 5.9053571 | H8: =Dyn!E20 -> 10.571429 | J8: =COUNTIFS(Tableau1[Classe],614,Tableau1[DC2],0) -> 2 | K8: =Dyn!G20 -> 2.375 | L8: =Dyn!H20 -> 2.0535714 | M8: =Dyn!I20 -> 3.4732143 | N8: =Dyn!J20 -> 2.3660714 | O8: =Dyn!K20 -> 10.821429 | P8: =100*(O8-H8)/H8 -> 2.3648649 | R8: =COUNTIFS(Tableau1[Classe],614,Tableau1[DC3],0) -> 28 | Y8: =COUNTIFS(Tableau1[Classe],614,Tableau1[DC4],0) -> 0
A9: 615 | B9: =COUNTIF(Tableau1[Classe],615) -> 20 | C9: =PAP!B8 -> 3 | D9: =COUNTIFS(Tableau1[Classe],615,Tableau1[DC1],0) -> 0 | E9: =Dyn!B21 -> 3.475 | F9: =Dyn!C21 -> 4.445 | G9: =Dyn!D21 -> 4.76 | H9: =Dyn!E21 -> 9 | J9: =COUNTIFS(Tableau1[Classe],615,Tableau1[DC2],0) -> 0 | K9: =Dyn!G21 -> 3.225 | L9: =Dyn!H21 -> 1.9625 | M9: =Dyn!I21 -> 3.6875 | N9: =Dyn!J21 -> 1.825 | O9: =Dyn!K21 -> 11.25 | P9: =100*(O9-H9)/H9 -> 25 | R9: =COUNTIFS(Tableau1[Classe],615,Tableau1[DC3],0) -> 20 | Y9: =COUNTIFS(Tableau1[Classe],615,Tableau1[DC4],0) -> 0
A10: Total | B10: =SUM(B5:B9) -> 139 | C10: =PAP!B9 -> 36 | D10: =SUM(D5:D9) -> 0 | E10: =Dyn!B22 -> 3.4967626 | F10: =Dyn!C22 -> 4.2514388 | G10: =Dyn!D22 -> 5.5276978 | H10: =Dyn!E22 -> 9.5539568 | J10: =SUM(J5:J9) -> 32 | K10: =Dyn!G22 -> 2.0625899 | L10: =Dyn!H22 -> 1.6205036 | M10: =Dyn!I22 -> 2.3446043 | N10: =Dyn!J22 -> 1.5956835 | O10: =Dyn!K22 -> 8.0935252 | R10: =SUM(R5:R9) -> 139 | Y10: =SUM(Y5:Y9) -> 0
A11: Ecart-Type | H11: =GETPIVOTDATA("Écartype de DC1",Dyn!$A$16) -> 3.8975516 | O11: =Dyn!$L$22 -> 5.071792
A13: CORRECTEURS | G13: DC1 | O13: DC2 | V13: DC3 | AC13: DC4
A14: 611 | G14: ANTHO | O14: JUAN
A15: 612 | G15: JUAN | O15: ANTHO
A16: 613 | G16: ANTHO | O16: CHRIS
A17: 614 | G17: CHRIS | O17: ANTHO
A18: 615 | G18: ADRIEN | O18: ADRIEN

Sheet S Gauss
A1: Synthèse des Fréquences et probabilité des NOTES aux DC
A2: DC1 | B2: Total des Notes Classes 1ères

Sheet Synth Savoirs
A1: Synthèse des compétences - % réussite aux questions
A3: % de réussite par question et compétence aux Devoirs Communs
A6: Classes | B6: Nbr élèves | C6: 1.1 DC1 | D6: 1.2 DC1 | E6: 1.3 DC1 | F6: 1.4 DC1 | G6: 1.5 DC1 | H6: 1.6 DC1 | I6: 1.7 DC1 | J6: 1.8 DC1 | K6: 1.9 DC1 | L6: 1.10 DC1 | M6: 2.1 DC1 | N6: 2.2 DC1 | O6: 2.3 DC1 | P6: 2.4 DC1 | Q6: 2.5 DC1 | R6: 3.1 DC1 | S6: 3.2 DC1 | T6: 3.3 DC1 | U6: 3.4 DC1 | V6: 3.5 DC1 | X6: 1.1 DC2 | Y6: 1.2 DC12 | Z6: 1.3 DC12 | AA6: 1.4 DC12 | AB6: 1.5 DC12 | AC6: 1.6 DC1 | AD6: 1.7 DC12 | AE6: 1.8 DC12 | AF6: 1.9 DC12 | AG6: 1.10 DC12 | AH6: 1.11 DC1 | AI6: 1.12 DC1 | AJ6: 2.1 DC2 | AK6: 2.2 DC2 | AL6: 2.3 DC2 | AM6: 2.4 DC2 | AN6: 2.5 DC2 | AO6: 2.6 DC2 | AP6: 2.7 DC2 | AQ6: 2.8 DC2 | AR6: 2.9 DC2 | AS6: 2.10 DC2 | AT6: 3.1 DC2 | AU6: 3.2 DC2 | AV6: 3.3 DC2 | AW6: 3.4 DC2 | AX6: 3.5 DC2 | AY6: 3.6 DC2 | AZ6: 3.7 DC2 | BA6: 3.8 DC2 | BB6: 3.9 DC2 | BD6: 1.1 DC3 | BE6: 1.2 DC3 | BF6: 1.3 DC3 | BG6: 1.4 DC3 | BH6: 1.5 DC3 | BI6: 1.6 DC3 | BJ6: 1.7 DC3 | BK6: 1.8 DC3 | BL6: 1.9 DC3 | BM6: 1.10 DC3 | BN6: 2.1 DC3 | BO6: 2.2 DC3 | BP6: 2.3 DC3 | BQ6: 2.4 DC3 | BR6: 2.5 DC3 | BS6: 2.6 DC3 | BT6: 2.7 DC3 | BU6: 2.8 DC3 | BV6: 2.9 DC3 | BW6: 2.10 DC3 | BX6: 3.1 DC3 | BY6: 3.2 DC3 | BZ6: 3.3 DC3 | CA6: 3.4 DC3 | CB6: 3.5 DC3 | CC6: 3.6 DC3 | CD6: 3.7 DC3 | CE6: 3.8 DC3 | CF6: 3.9 DC3 | CG6: 3.10 DC3
B7: Points | C7: 2 | D7: 2 | E7: 0.5 | F7: 1 | G7: 1 | H7: 1 | I7: 1 | J7: 0.5 | K7: 0.5 | L7: 0.5 | M7: 2 | N7: 2 | O7: 2 | P7: 2 | Q7: 2 | R7: 1 | S7: 2 | T7: 3 | U7: 2 | V7: 2 | X7: 1 | Y7: 1 | Z7: 1 | AA7: 0.5 | AB7: 2 | AC7: 0.5 | AD7: 1 | AE7: 0.5 | AF7: 1 | AG7: 1 | AH7: 1 | AI7: 1 | AJ7: 1 | AK7: 0.5 | AL7: 1.5 | AM7: 0.5 | AN7: 1.5 | AO7: 1 | AP7: 1 | AQ7: 1 | AR7: 1 | AS7: 1 | AT7: 0.5 | AU7: 1.5 | AV7: 1 | AW7: 2 | AX7: 0.5 | AY7: 0.5 | AZ7: 1.5 | BA7: 1.5 | BB7: 1
B8: Compét | C8: liaisons | D8: liaisons | E8: unités | F8: surface | G8: masse volum | H8: unités | I8: unités | J8: somme | K8: lecture | L8: conclusion CDC | M8: énergies | N8: lecture + P | O8: choix compo | P8: réducteur | Q8: rendement | R8: SysMl | S8: SysMl | T8: Table vérité | U8: logigramme | V8: Schéma élec | X8: DD | Y8: bilan carbone | Z8: SysMl | AA8: périmètre | AB8: masse volume | AC8: matériaux | AD8: prix (unités) | AE8: ch solution | AF8: matériaux | AG8: normes | AH8: liaisons | AI8: liaisons | AJ8: documentation | AK8: SysMl | AL8: P méca | AM8: Conclusion | AN8: Puiss Energ | AO8: Graph P élec | AP8: tabl synth | AQ8: SysMl | AR8: E annuelle | AS8: SysMl | AT8: SysMl | AU8: déci bin | AV8: hôte SysMl | AW8: réseaux | AX8: compatibilité | AY8: adresse IP | AZ8: unités info | BA8: unités info | BB8: DD
A9: 611 | B9: =COUNTIF(Tableau1[Classe],611) -> 29 | C9: =SUM('Points DC'!F2:F29)/($B9*C7) -> 0.30172414 | D9: =SUM('Points DC'!G2:G29)/($B9*D7) -> 0.16810345 | E9: =SUM('Points DC'!H2:H29)/($B9*E7) -> 0.68965517 | F9: =SUM('Points DC'!I2:I29)/($B9*F7) -> 0.49137931 | G9: =SUM('Points DC'!J2:J29)/($B9*G7) -> 0.28448276 | H9: =SUM('Points DC'!K2:K29)/($B9*H7) -> 0.37931034 | I9: =SUM('Points DC'!L2:L29)/($B9*I7) -> 0.35344828 | J9: =SUM('Points DC'!M2:M29)/($B9*J7) -> 0.24137931 | ... V9: =SUM('Points DC'!Y2:Y29)/($B9*V7) -> 0.59051724 | X9: =SUM('Points DC'!Z2:Z29)/($B9*X7) -> 0 | Y9: =SUM('Points DC'!AA2:AA29)/($B9*Y7) -> 0 | Z9: =SUM('Points DC'!AB2:AB29)/($B9*Z7) -> 0 | AA9: =SUM('Points DC'!AC2:AC29)/($B9*AA7) -> 0.034482759 | AB9: =SUM('Points DC'!AD2:AD29)/($B9*AB7) -> 0 | AC9: =SUM('Points DC'!AE2:AE29)/($B9*AC7) -> 0 | AD9: =SUM('Points DC'!AF2:AF29)/($B9*AD7) -> 0.027586207 | AE9: =SUM('Points DC'!AG2:AG29)/($B9*AE7) -> 0 | ... AN9: =SUM('Points DC'!AP2:AP29)/($B9*AN7) -> 0.022988506 | AO9: =SUM('Points DC'!#REF!)/($B9*AO7) -> #REF! | AP9: =SUM('Points DC'!#REF!)/($B9*AP7) -> #REF! | AQ9: =SUM('Points DC'!#REF!)/($B9*AQ7) -> #REF! | AR9: =SUM('Points DC'!#REF!)/($B9*AR7) -> #REF! | AS9: =SUM('Points DC'!#REF!)/($B9*AS7) -> #REF! | AT9: =SUM('Points DC'!#REF!)/($B9*AT7) -> #REF! | AU9: =SUM('Points DC'!#REF!)/($B9*AU7) -> #REF! | AV9: =SUM('Points DC'!#REF!)/($B9*AV7) -> #REF! | ... BB9: =SUM('Points DC'!#REF!)/($B9*BB7) -> #REF!
A10: 612 | B10: =COUNTIF(Tableau1[Classe],612) -> 30 | C10: =SUM('Points DC'!F30:F63)/($B10*C7) -> 0.40166667 | D10: =SUM('Points DC'!G30:G63)/($B10*D7) -> 0.21333333 | E10: =SUM('Points DC'!H30:H63)/($B10*E7) -> 0.87 | F10: =SUM('Points DC'!I30:I63)/($B10*F7) -> 0.405 | G10: =SUM('Points DC'!J30:J63)/($B10*G7) -> 0.075 | H10: =SUM('Points DC'!K30:K63)/($B10*H7) -> 0.17833333 | I10: =SUM('Points DC'!L30:L63)/($B10*I7) -> 0.36333333 | J10: =SUM('Points DC'!M30:M63)/($B10*J7) -> 0.26666667 | ... V10: =SUM('Points DC'!Y30:Y63)/($B10*V7) -> 0.45833333 | X10: =SUM('Points DC'!Z30:Z63)/($B10*X7) -> 0.755 | Y10: =SUM('Points DC'!AA30:AA63)/($B10*Y7) -> 0.73333333 | Z10: =SUM('Points DC'!AB30:AB63)/($B10*Z7) -> 1.1 | AA10: =SUM('Points DC'!AC30:AC63)/($B10*AA7) -> 0.93333333 | AB10: =SUM('Points DC'!AD30:AD63)/($B10*AB7) -> 0.17083333 | AC10: =SUM('Points DC'!AE30:AE63)/($B10*AC7) -> 0.65 | AD10: =SUM('Points DC'!AF30:AF63)/($B10*AD7) -> 0.60666667 | AE10: =SUM('Points DC'!AG30:AG63)/($B10*AE7) -> 0.96666667 | ... AN10: =SUM('Points DC'!AP30:AP63)/($B10*AN7) -> 0.41222222 | AO10: =SUM('Points DC'!#REF!)/($B10*AO7) -> #REF! | AP10: =SUM('Points DC'!#REF!)/($B10*AP7) -> #REF! | AQ10: =SUM('Points DC'!#REF!)/($B10*AQ7) -> #REF! | AR10: =SUM('Points DC'!#REF!)/($B10*AR7) -> #REF! | AS10: =SUM('Points DC'!#REF!)/($B10*AS7) -> #REF! | AT10: =SUM('Points DC'!#REF!)/($B10*AT7) -> #REF! | AU10: =SUM('Points DC'!#REF!)/($B10*AU7) -> #REF! | AV10: =SUM('Points DC'!#REF!)/($B10*AV7) -> #REF! | ... BB10: =SUM('Points DC'!#REF!)/($B10*BB7) -> #REF!
A11: 613 | B11: =COUNTIF(Tableau1[Classe],613) -> 32 | C11: =SUM('Points DC'!F64:F89)/($B11*C7) -> 0.328125 | D11: =SUM('Points DC'!G64:G89)/($B11*D7) -> 0.1875 | E11: =SUM('Points DC'!H64:H89)/($B11*E7) -> 0.671875 | F11: =SUM('Points DC'!I64:I89)/($B11*F7) -> 0.484375 | G11: =SUM('Points DC'!J64:J89)/($B11*G7) -> 0.28125 | H11: =SUM('Points DC'!K64:K89)/($B11*H7) -> 0.296875 | I11: =SUM('Points DC'!L64:L89)/($B11*I7) -> 0.3984375 | J11: =SUM('Points DC'!M64:M89)/($B11*J7) -> 0.3125 | ... V11: =SUM('Points DC'!Y64:Y89)/($B11*V7) -> 0.55078125 | X11: =SUM('Points DC'!Z64:Z89)/($B11*X7) -> 0.634375 | Y11: =SUM('Points DC'!AA64:AA89)/($B11*Y7) -> 0.6765625 | Z11: =SUM('Points DC'!AB64:AB89)/($B11*Z7) -> 0.821875 | AA11: =SUM('Points DC'!AC64:AC89)/($B11*AA7) -> 0.45 | AB11: =SUM('Points DC'!AD64:AD89)/($B11*AB7) -> 0.221875 | AC11: =SUM('Points DC'!AE64:AE89)/($B11*AC7) -> 0.2625 | AD11: =SUM('Points DC'!AF64:AF89)/($B11*AD7) -> 0.465625 | AE11: =SUM('Points DC'!AG64:AG89)/($B11*AE7) -> 0.84375 | ... AN11: =SUM('Points DC'!AP64:AP89)/($B11*AN7) -> 0.37916667 | AO11: =SUM('Points DC'!#REF!)/($B11*AO7) -> #REF! | AP11: =SUM('Points DC'!#REF!)/($B11*AP7) -> #REF! | AQ11: =SUM('Points DC'!#REF!)/($B11*AQ7) -> #REF! | AR11: =SUM('Points DC'!#REF!)/($B11*AR7) -> #REF! | AS11: =SUM('Points DC'!#REF!)/($B11*AS7) -> #REF! | AT11: =SUM('Points DC'!#REF!)/($B11*AT7) -> #REF! | AU11: =SUM('Points DC'!#REF!)/($B11*AU7) -> #REF! | AV11: =SUM('Points DC'!#REF!)/($B11*AV7) -> #REF! | ... BB11: =SUM('Points DC'!#REF!)/($B11*BB7) -> #REF!
A12: 614 | B12: =COUNTIF(Tableau1[Classe],614) -> 28 | C12: =SUM('Points DC'!F90:F121)/($B12*C7) -> 0.56517857 | D12: =SUM('Points DC'!G90:G121)/($B12*D7) -> 0.29464286 | E12: =SUM('Points DC'!H90:H121)/($B12*E7) -> 0.87142857 | F12: =SUM('Points DC'!I90:I121)/($B12*F7) -> 0.60357143 | G12: =SUM('Points DC'!J90:J121)/($B12*G7) -> 0.44107143 | H12: =SUM('Points DC'!K90:K121)/($B12*H7) -> 0.4625 | I12: =SUM('Points DC'!L90:L121)/($B12*I7) -> 0.73214286 | J12: =SUM('Points DC'!M90:M121)/($B12*J7) -> 0.50357143 | ... V12: =SUM('Points DC'!Y90:Y121)/($B12*V7) -> 0.74017857 | X12: =SUM('Points DC'!Z90:Z121)/($B12*X7) -> 1.0446429 | Y12: =SUM('Points DC'!AA90:AA121)/($B12*Y7) -> 0.90178571 | Z12: =SUM('Points DC'!AB90:AB121)/($B12*Z7) -> 0.95714286 | AA12: =SUM('Points DC'!AC90:AC121)/($B12*AA7) -> 1.1642857 | AB12: =SUM('Points DC'!AD90:AD121)/($B12*AB7) -> 0.20535714 | AC12: =SUM('Points DC'!AE90:AE121)/($B12*AC7) -> 0.46071429 | AD12: =SUM('Points DC'!AF90:AF121)/($B12*AD7) -> 0.63392857 | AE12: =SUM('Points DC'!AG90:AG121)/($B12*AE7) -> 1.1607143 | ... AN12: =SUM('Points DC'!AP90:AP121)/($B12*AN7) -> 0.48809524 | AO12: =SUM('Points DC'!#REF!)/($B12*AO7) -> #REF! | AP12: =SUM('Points DC'!#REF!)/($B12*AP7) -> #REF! | AQ12: =SUM('Points DC'!#REF!)/($B12*AQ7) -> #REF! | AR12: =SUM('Points DC'!#REF!)/($B12*AR7) -> #REF! | AS12: =SUM('Points DC'!#REF!)/($B12*AS7) -> #REF! | AT12: =SUM('Points DC'!#REF!)/($B12*AT7) -> #REF! | AU12: =SUM('Points DC'!#REF!)/($B12*AU7) -> #REF! | AV12: =SUM('Points DC'!#REF!)/($B12*AV7) -> #REF! | ... BB12: =SUM('Points DC'!#REF!)/($B12*BB7) -> #REF!
A13: 615 | B13: =COUNTIF(Tableau1[Classe],615) -> 20 | C13: =SUM('Points DC'!F122:F140)/($B13*C7) -> 0.1675 | D13: =SUM('Points DC'!G122:G140)/($B13*D7) -> 0.1425 | E13: =SUM('Points DC'!H122:H140)/($B13*E7) -> 0.69 | F13: =SUM('Points DC'!I122:I140)/($B13*F7) -> 0.4 | G13: =SUM('Points DC'!J122:J140)/($B13*G7) -> 0.285 | H13: =SUM('Points DC'!K122:K140)/($B13*H7) -> 0.335 | I13: =SUM('Points DC'!L122:L140)/($B13*I7) -> 0.6 | J13: =SUM('Points DC'!M122:M140)/($B13*J7) -> 0.53 | ... V13: =SUM('Points DC'!Y122:Y140)/($B13*V7) -> 0.455 | X13: =SUM('Points DC'!Z122:Z140)/($B13*X7) -> 0.6625 | Y13: =SUM('Points DC'!AA122:AA140)/($B13*Y7) -> 0.95 | Z13: =SUM('Points DC'!AB122:AB140)/($B13*Z7) -> 1.3625 | AA13: =SUM('Points DC'!AC122:AC140)/($B13*AA7) -> 0.575 | AB13: =SUM('Points DC'!AD122:AD140)/($B13*AB7) -> 0.15 | AC13: =SUM('Points DC'!AE122:AE140)/($B13*AC7) -> 0.325 | AD13: =SUM('Points DC'!AF122:AF140)/($B13*AD7) -> 0.475 | AE13: =SUM('Points DC'!AG122:AG140)/($B13*AE7) -> 1.05 | ... AN13: =SUM('Points DC'!AP122:AP140)/($B13*AN7) -> 0.55 | AO13: =SUM('Points DC'!#REF!)/($B13*AO7) -> #REF! | AP13: =SUM('Points DC'!#REF!)/($B13*AP7) -> #REF! | AQ13: =SUM('Points DC'!#REF!)/($B13*AQ7) -> #REF! | AR13: =SUM('Points DC'!#REF!)/($B13*AR7) -> #REF! | AS13: =SUM('Points DC'!#REF!)/($B13*AS7) -> #REF! | AT13: =SUM('Points DC'!#REF!)/($B13*AT7) -> #REF! | AU13: =SUM('Points DC'!#REF!)/($B13*AU7) -> #REF! | AV13: =SUM('Points DC'!#REF!)/($B13*AV7) -> #REF! | ... BB13: =SUM('Points DC'!#REF!)/($B13*BB7) -> #REF!
A14: Total | B14: =SUM(B9:B13) -> 139 | C14: =SUM(Tableau5[1.1 DC1])/($B14*C7) -> 0.3631295 | D14: =SUM(Tableau5[1.2 DC1])/($B14*D7) -> 0.20413669 | E14: =SUM(Tableau5[1.3 DC1])/($B14*E7) -> 0.76115108 | F14: =SUM(Tableau5[1.4 DC1])/($B14*F7) -> 0.48057554 | G14: =SUM(Tableau5[1.5 DC1])/($B14*G7) -> 0.27014388 | H14: =SUM(Tableau5[1.6 DC1])/($B14*H7) -> 0.32733813 | I14: =SUM(Tableau5[1.7 DC1])/($B14*I7) -> 0.47769784 | J14: =SUM(Tableau5[1.8 DC1])/($B14*J7) -> 0.35755396 | K14: =SUM(Tableau5[1.9 DC1])/($B14*K7) -> 0.32158273 | L14: =SUM(Tableau5[1.10 DC1])/($B14*L7) -> 0.17266187 | M14: =SUM(Tableau5[2.1 DC1])/($B14*M7) -> 0.60827338 | N14: =SUM(Tableau5[2.2 DC1])/($B14*N7) -> 0.49460432 | O14: =SUM(Tableau5[2.3 DC1])/($B14*O7) -> 0.36960432 | P14: =SUM(Tableau5[2.4 DC1])/($B14*P7) -> 0.38615108 | Q14: =SUM(Tableau5[2.5 DC1])/($B14*Q7) -> 0.26708633 | R14: =SUM(Tableau5[3.1 DC1])/($B14*R7) -> 0.95359712 | S14: =SUM(Tableau5[3.2 DC1])/($B14*S7) -> 0.50377698 | T14: =SUM(Tableau5[3.3 DC1])/($B14*T7) -> 0.42278177 | U14: =SUM(Tableau5[3.4 DC1])/($B14*U7) -> 0.58561151 | V14: =SUM(Tableau5[3.5 DC1])/($B14*V7) -> 0.56348921 | X14: =SUM(Tableau5[1.1 DC2])/($B14*X7) -> 0.6147482 | Y14: =SUM(Tableau5[1.2 DC2])/($B14*Y7) -> 0.6323741 | Z14: =SUM(Tableau5[1.3 DC2])/($B14*Z7) -> 0.81546763 | AA14: =SUM(Tableau5[2.1 DC2])/($B14*AA7) -> 0.6294964 | AB14: =SUM(Tableau5[2.2 DC2])/($B14*AB7) -> 0.15089928 | AC14: =SUM(Tableau5[2.3 DC2])/($B14*AC7) -> 0.34028777 | AD14: =SUM(Tableau5[2.4 DC2])/($B14*AD7) -> 0.43992806 | AE14: =SUM(Tableau5[2.5 DC2])/($B14*AE7) -> 0.78776978 | AF14: =SUM(Tableau5[3.1 DC2])/($B14*AF7) -> 0.40071942 | AG14: =SUM(Tableau5[3.2 DC2])/($B14*AG7) -> 0.62158273 | AH14: =SUM(Tableau5[3.3 DC2])/($B14*AH7) -> 0.75539568 | AI14: =SUM(Tableau5[3.4 DC2])/($B14*AI7) -> 0.56690647 | AJ14: =SUM(Tableau5[4.1 DC2])/($B14*AJ7) -> 0.17553957 | AK14: =SUM(Tableau5[4.2 DC2])/($B14*AK7) -> 1.0892086 | AL14: =SUM(Tableau5[4.3 DC2])/($B14*AL7) -> 0.15707434 | AM14: =SUM(Tableau5[4.4 DC2])/($B14*AM7) -> 0.20431655 | AN14: =SUM(Tableau5[4.5 DC2])/($B14*AN7) -> 0.35851319 | AO14: =SUM(#REF!)/($B14*AO7) -> #REF! | AP14: =SUM(#REF!)/($B14*AP7) -> #REF! | AQ14: =SUM(#REF!)/($B14*AQ7) -> #REF! | AR14: =SUM(#REF!)/($B14*AR7) -> #REF! | AS14: =SUM(#REF!)/($B14*AS7) -> #REF! | AT14: =SUM(#REF!)/($B14*AT7) -> #REF! | AU14: =SUM(#REF!)/($B14*AU7) -> #REF! | AV14: =SUM(#REF!)/($B14*AV7) -> #REF! | ... BB14: =SUM(#REF!)/($B14*BB7) -> #REF!
X17: =X6 -> 1.1 DC2 | Y17: =Y6 -> 1.2 DC12 | Z17: =Z6 -> 1.3 DC12 | AA17: =AA6 -> 1.4 DC12 | AB17: =AB6 -> 1.5 DC12 | AC17: =AC6 -> 1.6 DC1 | AD17: =AD6 -> 1.7 DC12 | AE17: =AE6 -> 1.8 DC12 | ... BB17: =BB6 -> 3.9 DC2
X18: 2 | Y18: 1 | Z18: 2
X20: =X9 -> 0 | Y20: =Y9 -> 0 | Z20: =Z9 -> 0 | AA20: =AA9 -> 0.034482759 | AB20: =AB9 -> 0 | AC20: =AC9 -> 0 | AD20: =AD9 -> 0.027586207 | AE20: =AE9 -> 0 | ... BB20: =BB9 -> #REF!
X21: =X10 -> 0.755 | Y21: =Y10 -> 0.73333333 | Z21: =Z10 -> 1.1 | AA21: =AA10 -> 0.93333333 | AB21: =AB10 -> 0.17083333 | AC21: =AC10 -> 0.65 | AD21: =AD10 -> 0.60666667 | AE21: =AE10 -> 0.96666667 | ... BB21: =BB10 -> #REF!
X22: =X11 -> 0.634375 | Y22: =Y11 -> 0.6765625 | Z22: =Z11 -> 0.821875 | AA22: =AA11 -> 0.45 | AB22: =AB11 -> 0.221875 | AC22: =AC11 -> 0.2625 | AD22: =AD11 -> 0.465625 | AE22: =AE11 -> 0.84375 | ... BB22: =BB11 -> #REF!
X23: =X12 -> 1.0446429 | Y23: =Y12 -> 0.90178571 | Z23: =Z12 -> 0.95714286 | AA23: =AA12 -> 1.1642857 | AB23: =AB12 -> 0.20535714 | AC23: =AC12 -> 0.46071429 | AD23: =AD12 -> 0.63392857 | AE23: =AE12 -> 1.1607143 | ... BB23: =BB12 -> #REF!
X24: =X13 -> 0.6625 | Y24: =Y13 -> 0.95 | Z24: =Z13 -> 1.3625 | AA24: =AA13 -> 0.575 | AB24: =AB13 -> 0.15 | AC24: =AC13 -> 0.325 | AD24: =AD13 -> 0.475 | AE24: =AE13 -> 1.05 | ... BB24: =BB13 -> #REF!
X25: =X14 -> 0.6147482 | Y25: =Y14 -> 0.6323741 | Z25: =Z14 -> 0.81546763 | AA25: =AA14 -> 0.6294964 | AB25: =AB14 -> 0.15089928 | AC25: =AC14 -> 0.34028777 | AD25: =AD14 -> 0.43992806 | AE25: =AE14 -> 0.78776978 | ... BB25: =BB14 -> #REF!

Sheet Notes DC
A1: Classe | B1: N° | C1: Nom | D1: Prénom | E1: PAP | F1: Coef | G1: 1M | H1: 1E | I1: 1i | J1: DC1 | K1: 2C | L1: 2M | M1: 2E | N1: 2i | O1: DC2 | P1: EVO2 | Q1: 3M | R1: 3E | S1: 3i | T1: DC3 | U1: EVO3 | V1: 4M | W1: 4E | X1: 4i | Y1: DC4 | Z1: 5M | AA1: 5E | AB1: 5i | AC1: DC5 | AD1: 6M | AE1: 6E | AF1: 6i | AG1: DC6
A2: 611 | B2: 1 | C2: A1 | D2: 1 | E2: non | F2: =IF(Tableau1[[#This Row],[PAP]]="oui",1.1,1) -> 1 | G2: =SUM(Tableau5[[#This Row],[1.1 DC1]:[1.10 DC1]]) -> 2 | H2: =SUM(Tableau5[[#This Row],[2.1 DC1]:[2.5 DC1]]) -> 0.75 | I2: =SUM(Tableau5[[#This Row],[3.1 DC1]:[3.5 DC1]]) -> 3 | J2: =ROUNDUP((SUM(Tableau1[[#This Row],[1M]:[1i]])*Tableau1[[#This Row],[Coef]]/1.5),0) -> 4 | K2: =SUM(Tableau5[[#This Row],[1.1 DC2]:[1.3 DC2]]) -> 0 | L2: =SUM(Tableau5[[#This Row],[2.1 DC2]:[2.5 DC2]]) -> 0 | M2: =SUM(Tableau5[[#This Row],[3.1 DC2]:[3.4 DC2]]) -> 0 | N2: =SUM(Tableau5[[#This Row],[4.1 DC2]:[4.5 DC2]]) -> 0 | O2: =ROUNDUP((SUM(Tableau1[[#This Row],[2C]:[2i]])*Tableau1[[#This Row],[Coef]]),0) -> 0 | P2: =(Tableau1[[#This Row],[DC2]]-Tableau1[[#This Row],[DC1]])/Tableau1[[#This Row],[DC1]] -> -1 | Q2: =SUM(Tableau5[[#This Row],[1.1 DC3]:[1.7 DC3]]) -> 0 | R2: =SUM(Tableau5[[#This Row],[2.1 DC3]:[2.8 DC3]]) -> 0 | S2: =SUM(Tableau5[[#This Row],[3.1 DC3]:[3.7 DC3]]) -> 0 | T2: =ROUNDUP((SUM(Tableau1[[#This Row],[3M]:[3i]])*Tableau1[[#This Row],[Coef]]/1.5),0) -> 0
A3: 611 | B3: 2 | C3: A2 | D3: 2 | E3: non | F3: =IF(Tableau1[[#This Row],[PAP]]="oui",1.1,1) -> 1 | G3: =SUM(Tableau5[[#This Row],[1.1 DC1]:[1.10 DC1]]) -> 5.25 | H3: =SUM(Tableau5[[#This Row],[2.1 DC1]:[2.5 DC1]]) -> 5.25 | I3: =SUM(Tableau5[[#This Row],[3.1 DC1]:[3.5 DC1]]) -> 4 | J3: =ROUNDUP((SUM(Tableau1[[#This Row],[1M]:[1i]])*Tableau1[[#This Row],[Coef]]/1.5),0) -> 10 | K3: =SUM(Tableau5[[#This Row],[1.1 DC2]:[1.3 DC2]]) -> 0 | L3: =SUM(Tableau5[[#This Row],[2.1 DC2]:[2.5 DC2]]) -> 0 | M3: =SUM(Tableau5[[#This Row],[3.1 DC2]:[3.4 DC2]]) -> 0 | N3: =SUM(Tableau5[[#This Row],[4.1 DC2]:[4.5 DC2]]) -> 0 | O3: =ROUNDUP((SUM(Tableau1[[#This Row],[2C]:[2i]])*Tableau1[[#This Row],[Coef]]),0) -> 0 | P3: =(Tableau1[[#This Row],[DC2]]-Tableau1[[#This Row],[DC1]])/Tableau1[[#This Row],[DC1]] -> -1 | Q3: =SUM(Tableau5[[#This Row],[1.1 DC3]:[1.7 DC3]]) -> 0 | R3: =SUM(Tableau5[[#This Row],[2.1 DC3]:[2.8 DC3]]) -> 0 | S3: =SUM(Tableau5[[#This Row],[3.1 DC3]:[3.7 DC3]]) -> 0 | T3: =ROUNDUP((SUM(Tableau1[[#This Row],[3M]:[3i]])*Tableau1[[#This Row],[Coef]]/1.5),0) -> 0
A4: 611 | B4: 3 | C4: A3 | D4: 3 | E4: oui | F4: =IF(Tableau1[[#This Row],[PAP]]="oui",1.1,1) -> 1.1 | G4: =SUM(Tableau5[[#This Row],[1.1 DC1]:[1.10 DC1]]) -> 3 | H4: =SUM(Tableau5[[#This Row],[2.1 DC1]:[2.5 DC1]]) -> 1.5 | I4: =SUM(Tableau5[[#This Row],[3.1 DC1]:[3.5 DC1]]) -> 1.75 | J4: =ROUNDUP((SUM(Tableau1[[#This Row],[1M]:[1i]])*Tableau1[[#This Row],[Coef]]/1.5),0) -> 5 | K4: =SUM(Tableau5[[#This Row],[1.1 DC2]:[1.3 DC2]]) -> 0 | L4: =SUM(Tableau5[[#This Row],[2.1 DC2]:[2.5 DC2]]) -> 0 | M4: =SUM(Tableau5[[#This Row],[3.1 DC2]:[3.4 DC2]]) -> 0 | N4: =SUM(Tableau5[[#This Row],[4.1 DC2]:[4.5 DC2]]) -> 0 | O4: =ROUNDUP((SUM(Tableau1[[#This Row],[2C]:[2i]])*Tableau1[[#This Row],[Coef]]),0) -> 0 | P4: =(Tableau1[[#This Row],[DC2]]-Tableau1[[#This Row],[DC1]])/Tableau1[[#This Row],[DC1]] -> -1 | Q4: =SUM(Tableau5[[#This Row],[1.1 DC3]:[1.7 DC3]]) -> 0 | R4: =SUM(Tableau5[[#This Row],[2.1 DC3]:[2.8 DC3]]) -> 0 | S4: =SUM(Tableau5[[#This Row],[3.1 DC3]:[3.7 DC3]]) -> 0 | T4: =ROUNDUP((SUM(Tableau1[[#This Row],[3M]:[3i]])*Tableau1[[#This Row],[Coef]]/1.5),0) -> 0
A5: 611 | B5: 4 | C5: A4 | D5: 4 | E5: oui | F5: =IF(Tableau1[[#This Row],[PAP]]="oui",1.1,1) -> 1.1 | G5: =SUM(Tableau5[[#This Row],[1.1 DC1]:[1.10 DC1]]) -> 2.75 | H5: =SUM(Tableau5[[#This Row],[2.1 DC1]:[2.5 DC1]]) -> 1.5 | I5: =SUM(Tableau5[[#This Row],[3.1 DC1]:[3.5 DC1]]) -> 2.5 | J5: =ROUNDUP((SUM(Tableau1[[#This Row],[1M]:[1i]])*Tableau1[[#This Row],[Coef]]/1.5),0) -> 5 | K5: =SUM(Tableau5[[#This Row],[1.1 DC2]:[1.3 DC2]]) -> 0 | L5: =SUM(Tableau5[[#This Row],[2.1 DC2]:[2.5 DC2]]) -> 0 | M5: =SUM(Tableau5[[#This Row],[3.1 DC2]:[3.4 DC2]]) -> 0 | N5: =SUM(Tableau5[[#This Row],[4.1 DC2]:[4.5 DC2]]) -> 0 | O5: =ROUNDUP((SUM(Tableau1[[#This Row],[2C]:[2i]])*Tableau1[[#This Row],[Coef]]),0) -> 0 | P5: =(Tableau1[[#This Row],[DC2]]-Tableau1[[#This Row],[DC1]])/Tableau1[[#This Row],[DC1]] -> -1 | Q5: =SUM(Tableau5[[#This Row],[1.1 DC3]:[1.7 DC3]]) -> 0 | R5: =SUM(Tableau5[[#This Row],[2.1 DC3]:[2.8 DC3]]) -> 0 | S5: =SUM(Tableau5[[#This Row],[3.1 DC3]:[3.7 DC3]]) -> 0 | T5: =ROUNDUP((SUM(Tableau1[[#This Row],[3M]:[3i]])*Tableau1[[#This Row],[Coef]]/1.5),0) -> 0
A6: 611 | B6: 5 | C6: A5 | D6: 5 | E6: oui | F6: =IF(Tableau1[[#This Row],[PAP]]="oui",1.1,1) -> 1.1 | G6: =SUM(Tableau5[[#This Row],[1.1 DC1]:[1.10 DC1]]) -> 3.25 | H6: =SUM(Tableau5[[#This Row],[2.1 DC1]:[2.5 DC1]]) -> 3.75 | I6: =SUM(Tableau5[[#This Row],[3.1 DC1]:[3.5 DC1]]) -> 6.25 | J6: =ROUNDUP((SUM(Tableau1[[#This Row],[1M]:[1i]])*Tableau1[[#This Row],[Coef]]/1.5),0) -> 10 | K6: =SUM(Tableau5[[#This Row],[1.1 DC2]:[1.3 DC2]]) -> 0 | L6: =SUM(Tableau5[[#This Row],[2.1 DC2]:[2.5 DC2]]) -> 0 | M6: =SUM(Tableau5[[#This Row],[3.1 DC2]:[3.4 DC2]]) -> 0 | N6: =SUM(Tableau5[[#This Row],[4.1 DC2]:[4.5 DC2]]) -> 0 | O6: =ROUNDUP((SUM(Tableau1[[#This Row],[2C]:[2i]])*Tableau1[[#This Row],[Coef]]),0) -> 0 | P6: =(Tableau1[[#This Row],[DC2]]-Tableau1[[#This Row],[DC1]])/Tableau1[[#This Row],[DC1]] -> -1 | Q6: =SUM(Tableau5[[#This Row],[1.1 DC3]:[1.7 DC3]]) -> 0 | R6: =SUM(Tableau5[[#This Row],[2.1 DC3]:[2.8 DC3]]) -> 0 | S6: =SUM(Tableau5[[#This Row],[3.1 DC3]:[3.7 DC3]]) -> 0 | T6: =ROUNDUP((SUM(Tableau1[[#This Row],[3M]:[3i]])*Tableau1[[#This Row],[Coef]]/1.5),0) -> 0
A7: 611 | B7: 6 | C7: A6 | D7: 6 | E7: non | F7: =IF(Tableau1[[#This Row],[PAP]]="oui",1.1,1) -> 1 | G7: =SUM(Tableau5[[#This Row],[1.1 DC1]:[1.10 DC1]]) -> 2.75 | H7: =SUM(Tableau5[[#This Row],[2.1 DC1]:[2.5 DC1]]) -> 1.75 | I7: =SUM(Tableau5[[#This Row],[3.1 DC1]:[3.5 DC1]]) -> 3.25 | J7: =ROUNDUP((SUM(Tableau1[[#This Row],[1M]:[1i]])*Tableau1[[#This Row],[Coef]]/1.5),0) -> 6 | K7: =SUM(Tableau5[[#This Row],[1.1 DC2]:[1.3 DC2]]) -> 0 | L7: =SUM(Tableau5[[#This Row],[2.1 DC2]:[2.5 DC2]]) -> 0 | M7: =SUM(Tableau5[[#This Row],[3.1 DC2]:[3.4 DC2]]) -> 0 | N7: =SUM(Tableau5[[#This Row],[4.1 DC2]:[4.5 DC2]]) -> 0 | O7: =ROUNDUP((SUM(Tableau1[[#This Row],[2C]:[2i]])*Tableau1[[#This Row],[Coef]]),0) -> 0 | P7: =(Tableau1[[#This Row],[DC2]]-Tableau1[[#This Row],[DC1]])/Tableau1[[#This Row],[DC1]] -> -1 | Q7: =SUM(Tableau5[[#This Row],[1.1 DC3]:[1.7 DC3]]) -> 0 | R7: =SUM(Tableau5[[#This Row],[2.1 DC3]:[2.8 DC3]]) -> 0 | S7: =SUM(Tableau5[[#This Row],[3.1 DC3]:[3.7 DC3]]) -> 0 | T7: =ROUNDUP((SUM(Tableau1[[#This Row],[3M]:[3i]])*Tableau1[[#This Row],[Coef]]/1.5),0) -> 0
A8: 611 | B8: 7 | C8: A7 | D8: 7 | E8: non | F8: =IF(Tableau1[[#This Row],[PAP]]="oui",1.1,1) -> 1 | G8: =SUM(Tableau5[[#This Row],[1.1 DC1]:[1.10 DC1]]) -> 4.75 | H8: =SUM(Tableau5[[#This Row],[2.1 DC1]:[2.5 DC1]]) -> 7.25 | I8: =SUM(Tableau5[[#This Row],[3.1 DC1]:[3.5 DC1]]) -> 6 | J8: =ROUNDUP((SUM(Tableau1[[#This Row],[1M]:[1i]])*Tableau1[[#This Row],[Coef]]/1.5),0) -> 12 | K8: =SUM(Tableau5[[#This Row],[1.1 DC2]:[1.3 DC2]]) -> 0 | L8: =SUM(Tableau5[[#This Row],[2.1 DC2]:[2.5 DC2]]) -> 0 | M8: =SUM(Tableau5[[#This Row],[3.1 DC2]:[3.4 DC2]]) -> 0 | N8: =SUM(Tableau5[[#This Row],[4.1 DC2]:[4.5 DC2]]) -> 0 | O8: =ROUNDUP((SUM(Tableau1[[#This Row],[2C]:[2i]])*Tableau1[[#This Row],[Coef]]),0) -> 0 | P8: =(Tableau1[[#This Row],[DC2]]-Tableau1[[#This Row],[DC1]])/Tableau1[[#This Row],[DC1]] -> -1 | Q8: =SUM(Tableau5[[#This Row],[1.1 DC3]:[1.7 DC3]]) -> 0 | R8: =SUM(Tableau5[[#This Row],[2.1 DC3]:[2.8 DC3]]) -> 0 | S8: =SUM(Tableau5[[#This Row],[3.1 DC3]:[3.7 DC3]]) -> 0 | T8: =ROUNDUP((SUM(Tableau1[[#This Row],[3M]:[3i]])*Tableau1[[#This Row],[Coef]]/1.5),0) -> 0
A9: 611 | B9: 8 | C9: A8 | D9: 8 | E9: oui | F9: =IF(Tableau1[[#This Row],[PAP]]="oui",1.1,1) -> 1.1 | G9: =SUM(Tableau5[[#This Row],[1.1 DC1]:[1.10 DC1]]) -> 2.75 | H9: =SUM(Tableau5[[#This Row],[2.1 DC1]:[2.5 DC1]]) -> 7.75 | I9: =SUM(Tableau5[[#This Row],[3.1 DC1]:[3.5 DC1]]) -> 7 | J9: =ROUNDUP((SUM(Tableau1[[#This Row],[1M]:[1i]])*Tableau1[[#This Row],[Coef]]/1.5),0) -> 13 | K9: =SUM(Tableau5[[#This Row],[1.1 DC2]:[1.3 DC2]]) -> 0 | L9: =SUM(Tableau5[[#This Row],[2.1 DC2]:[2.5 DC2]]) -> 0 | M9: =SUM(Tableau5[[#This Row],[3.1 DC2]:[3.4 DC2]]) -> 0 | N9: =SUM(Tableau5[[#This Row],[4.1 DC2]:[4.5 DC2]]) -> 0 | O9: =ROUNDUP((SUM(Tableau1[[#This Row],[2C]:[2i]])*Tableau1[[#This Row],[Coef]]),0) -> 0 | P9: =(Tableau1[[#This Row],[DC2]]-Tableau1[[#This Row],[DC1]])/Tableau1[[#This Row],[DC1]] -> -1 | Q9: =SUM(Tableau5[[#This Row],[1.1 DC3]:[1.7 DC3]]) -> 0 | R9: =SUM(Tableau5[[#This Row],[2.1 DC3]:[2.8 DC3]]) -> 0 | S9: =SUM(Tableau5[[#This Row],[3.1 DC3]:[3.7 DC3]]) -> 0 | T9: =ROUNDUP((SUM(Tableau1[[#This Row],[3M]:[3i]])*Tableau1[[#This Row],[Coef]]/1.5),0) -> 0
A10: 611 | B10: 9 | C10: A9 | D10: 9 | E10: non | F10: =IF(Tableau1[[#This Row],[PAP]]="oui",1.1,1) -> 1 | G10: =SUM(Tableau5[[#This Row],[1.1 DC1]:[1.10 DC1]]) -> 6.25 | H10: =SUM(Tableau5[[#This Row],[2.1 DC1]:[2.5 DC1]]) -> 5.25 | I10: =SUM(Tableau5[[#This Row],[3.1 DC1]:[3.5 DC1]]) -> 6.75 | J10: =ROUNDUP((SUM(Tableau1[[#This Row],[1M]:[1i]])*Tableau1[[#This Row],[Coef]]/1.5),0) -> 13 | K10: =SUM(Tableau5[[#This Row],[1.1 DC2]:[1.3 DC2]]) -> 0 | L10: =SUM(Tableau5[[#This Row],[2.1 DC2]:[2.5 DC2]]) -> 0 | M10: =SUM(Tableau5[[#This Row],[3.1 DC2]:[3.4 DC2]]) -> 0 | N10: =SUM(Tableau5[[#This Row],[4.1 DC2]:[4.5 DC2]]) -> 0 | O10: =ROUNDUP((SUM(Tableau1[[#This Row],[2C]:[2i]])*Tableau1[[#This Row],[Coef]]),0) -> 0 | P10: =(Tableau1[[#This Row],[DC2]]-Tableau1[[#This Row],[DC1]])/Tableau1[[#This Row],[DC1]] -> -1 | Q10: =SUM(Tableau5[[#This Row],[1.1 DC3]:[1.7 DC3]]) -> 0 | R10: =SUM(Tableau5[[#This Row],[2.1 DC3]:[2.8 DC3]]) -> 0 | S10: =SUM(Tableau5[[#This Row],[3.1 DC3]:[3.7 DC3]]) -> 0 | T10: =ROUNDUP((SUM(Tableau1[[#This Row],[3M]:[3i]])*Tableau1[[#This Row],[Coef]]/1.5),0) -> 0
A11: 611 | B11: 10 | C11: A10 | D11: 10 | E11: non | F11: =IF(Tableau1[[#This Row],[PAP]]="oui",1.1,1) -> 1 | G11: =SUM(Tableau5[[#This Row],[1.1 DC1]:[1.10 DC1]]) -> 4 | H11: =SUM(Tableau5[[#This Row],[2.1 DC1]:[2.5 DC1]]) -> 7.5 | I11: =SUM(Tableau5[[#This Row],[3.1 DC1]:[3.5 DC1]]) -> 8.25 | J11: =ROUNDUP((SUM(Tableau1[[#This Row],[1M]:[1i]])*Tableau1[[#This Row],[Coef]]/1.5),0) -> 14 | K11: =SUM(Tableau5[[#This Row],[1.1 DC2]:[1.3 DC2]]) -> 0 | L11: =SUM(Tableau5[[#This Row],[2.1 DC2]:[2.5 DC2]]) -> 0 | M11: =SUM(Tableau5[[#This Row],[3.1 DC2]:[3.4 DC2]]) -> 0 | N11: =SUM(Tableau5[[#This Row],[4.1 DC2]:[4.5 DC2]]) -> 0 | O11: =ROUNDUP((SUM(Tableau1[[#This Row],[2C]:[2i]])*Tableau1[[#This Row],[Coef]]),0) -> 0 | P11: =(Tableau1[[#This Row],[DC2]]-Tableau1[[#This Row],[DC1]])/Tableau1[[#This Row],[DC1]] -> -1 | Q11: =SUM(Tableau5[[#This Row],[1.1 DC3]:[1.7 DC3]]) -> 0 | R11: =SUM(Tableau5[[#This Row],[2.1 DC3]:[2.8 DC3]]) -> 0 | S11: =SUM(Tableau5[[#This Row],[3.1 DC3]:[3.7 DC3]]) -> 0 | T11: =ROUNDUP((SUM(Tableau1[[#This Row],[3M]:[3i]])*Tableau1[[#This Row],[Coef]]/1.5),0) -> 0
A12: 611 | B12: 11 | C12: A11 | D12: 11 | E12: oui | F12: =IF(Tableau1[[#This Row],[PAP]]="oui",1.1,1) -> 1.1 | G12: =SUM(Tableau5[[#This Row],[1.1 DC1]:[1.10 DC1]]) -> 0.75 | H12: =SUM(Tableau5[[#This Row],[2.1 DC1]:[2.5 DC1]]) -> 3.5 | I12: =SUM(Tableau5[[#This Row],[3.1 DC1]:[3.5 DC1]]) -> 7.75 | J12: =ROUNDUP((SUM(Tableau1[[#This Row],[1M]:[1i]])*Tableau1[[#This Row],[Coef]]/1.5),0) -> 9 | K12: =SUM(Tableau5[[#This Row],[1.1 DC2]:[1.3 DC2]]) -> 0 | L12: =SUM(Tableau5[[#This Row],[2.1 DC2]:[2.5 DC2]]) -> 0 | M12: =SUM(Tableau5[[#This Row],[3.1 DC2]:[3.4 DC2]]) -> 0 | N12: =SUM(Tableau5[[#This Row],[4.1 DC2]:[4.5 DC2]]) -> 0 | O12: =ROUNDUP((SUM(Tableau1[[#This Row],[2C]:[2i]])*Tableau1[[#This Row],[Coef]]),0) -> 0 | P12: =(Tableau1[[#This Row],[DC2]]-Tableau1[[#This Row],[DC1]])/Tableau1[[#This Row],[DC1]] -> -1 | Q12: =SUM(Tableau5[[#This Row],[1.1 DC3]:[1.7 DC3]]) -> 0 | R12: =SUM(Tableau5[[#This Row],[2.1 DC3]:[2.8 DC3]]) -> 0 | S12: =SUM(Tableau5[[#This Row],[3.1 DC3]:[3.7 DC3]]) -> 0 | T12: =ROUNDUP((SUM(Tableau1[[#This Row],[3M]:[3i]])*Tableau1[[#This Row],[Coef]]/1.5),0) -> 0
A13: 611 | B13: 12 | C13: A12 | D13: 12 | E13: non | F13: =IF(Tableau1[[#This Row],[PAP]]="oui",1.1,1) -> 1 | G13: =SUM(Tableau5[[#This Row],[1.1 DC1]:[1.10 DC1]]) -> 5 | H13: =SUM(Tableau5[[#This Row],[2.1 DC1]:[2.5 DC1]]) -> 2.75 | I13: =SUM(Tableau5[[#This Row],[3.1 DC1]:[3.5 DC1]]) -> 6.5 | J13: =ROUNDUP((SUM(Tableau1[[#This Row],[1M]:[1i]])*Tableau1[[#This Row],[Coef]]/1.5),0) -> 10 | K13: =SUM(Tableau5[[#This Row],[1.1 DC2]:[1.3 DC2]]) -> 0 | L13: =SUM(Tableau5[[#This Row],[2.1 DC2]:[2.5 DC2]]) -> 0 | M13: =SUM(Tableau5[[#This Row],[3.1 DC2]:[3.4 DC2]]) -> 0 | N13: =SUM(Tableau5[[#This Row],[4.1 DC2]:[4.5 DC2]]) -> 0 | O13: =ROUNDUP((SUM(Tableau1[[#This Row],[2C]:[2i]])*Tableau1[[#This Row],[Coef]]),0) -> 0 | P13: =(Tableau1[[#This Row],[DC2]]-Tableau1[[#This Row],[DC1]])/Tableau1[[#This Row],[DC1]] -> -1 | Q13: =SUM(Tableau5[[#This Row],[1.1 DC3]:[1.7 DC3]]) -> 0 | R13: =SUM(Tableau5[[#This Row],[2.1 DC3]:[2.8 DC3]]) -> 0 | S13: =SUM(Tableau5[[#This Row],[3.1 DC3]:[3.7 DC3]]) -> 0 | T13: =ROUNDUP((SUM(Tableau1[[#This Row],[3M]:[3i]])*Tableau1[[#This Row],[Coef]]/1.5),0) -> 0
... A140: 615 | B140: 20 | C140: D20 | D140: 139 | E140: non | F140: =IF(Tableau1[[#This Row],[PAP]]="oui",1.1,1) -> 1 | G140: =SUM(Tableau5[[#This Row],[1.1 DC1]:[1.10 DC1]]) -> 3.8 | H140: =SUM(Tableau5[[#This Row],[2.1 DC1]:[2.5 DC1]]) -> 4.15 | I140: =SUM(Tableau5[[#This Row],[3.1 DC1]:[3.5 DC1]]) -> 3.2 | J140: =ROUNDUP((SUM(Tableau1[[#This Row],[1M]:[1i]])*Tableau1[[#This Row],[Coef]]/1.5),0) -> 8 | K140: =SUM(Tableau5[[#This Row],[1.1 DC2]:[1.3 DC2]]) -> 4.5 | L140: =SUM(Tableau5[[#This Row],[2.1 DC2]:[2.5 DC2]]) -> 0.75 | M140: =SUM(Tableau5[[#This Row],[3.1 DC2]:[3.4 DC2]]) -> 4.5 | N140: =SUM(Tableau5[[#This Row],[4.1 DC2]:[4.5 DC2]]) -> 1.75 | O140: =ROUNDUP((SUM(Tableau1[[#This Row],[2C]:[2i]])*Tableau1[[#This Row],[Coef]]),0) -> 12 | P140: =(Tableau1[[#This Row],[DC2]]-Tableau1[[#This Row],[DC1]])/Tableau1[[#This Row],[DC1]] -> 0.5 | Q140: =SUM(Tableau5[[#This Row],[1.1 DC3]:[1.7 DC3]]) -> 0 | R140: =SUM(Tableau5[[#This Row],[2.1 DC3]:[2.8 DC3]]) -> 0 | S140: =SUM(Tableau5[[#This Row],[3.1 DC3]:[3.7 DC3]]) -> 0 | T140: =ROUNDUP((SUM(Tableau1[[#This Row],[3M]:[3i]])*Tableau1[[#This Row],[Coef]]/1.5),0) -> 0
G142: =AVERAGE(G2:G140) -> 3.4967626 | H142: =AVERAGE(H2:H140) -> 4.2514388 | I142: =AVERAGE(I2:I140) -> 5.5276978
E143: oui
E144: non

Sheet Points DC
A1: Classe | B1: N° | C1: Nom | D1: Prénom | E1: PAP | F1: 1.1 DC1 | G1: 1.2 DC1 | H1: 1.3 DC1 | I1: 1.4 DC1 | J1: 1.5 DC1 | K1: 1.6 DC1 | L1: 1.7 DC1 | M1: 1.8 DC1 | N1: 1.9 DC1 | O1: 1.10 DC1 | P1: 2.1 DC1 | Q1: 2.2 DC1 | R1: 2.3 DC1 | S1: 2.4 DC1 | T1: 2.5 DC1 | U1: 3.1 DC1 | V1: 3.2 DC1 | W1: 3.3 DC1 | X1: 3.4 DC1 | Y1: 3.5 DC1 | Z1: 1.1 DC2 | AA1: 1.2 DC2 | AB1: 1.3 DC2 | AC1: 2.1 DC2 | AD1: 2.2 DC2 | AE1: 2.3 DC2 | AF1: 2.4 DC2 | AG1: 2.5 DC2 | AH1: 3.1 DC2 | AI1: 3.2 DC2 | AJ1: 3.3 DC2 | AK1: 3.4 DC2 | AL1: 4.1 DC2 | AM1: 4.2 DC2 | AN1: 4.3 DC2 | AO1: 4.4 DC2 | AP1: 4.5 DC2 | AQ1: 1.1 DC3 | AR1: 1.2 DC3 | AS1: 1.3 DC3 | AT1: 1.4 DC3 | AU1: 1.5 DC3 | AV1: 1.6 DC3 | AW1: 1.7 DC3 | AX1: 2.1 DC3 | AY1: 2.2 DC3 | AZ1: 2.3 DC3 | BA1: 2.4 DC3 | BB1: 2.5 DC3 | BC1: 2.6 DC3 | BD1: 2.7 DC3 | BE1: 2.8 DC3 | BF1: 3.1 DC3 | BG1: 3.2 DC3 | BH1: 3.3 DC3 | BI1: 3.4 DC3 | BJ1: 3.5 DC3 | BK1: 3.6 DC3 | BL1: 3.7 DC3 | BM1: 3.7 DC4
A2: 611 | B2: 1 | C2: A1 | D2: 1 | E2: =Tableau1[[#This Row],[PAP]] -> non | F2: 0.5 | G2: 0.25 | H2: 0 | I2: 0 | J2: 0 | K2: 0.5 | L2: 0.5 | M2: 0.25 | N2: 0 | O2: 0 | P2: 0.75 | Q2: 0 | R2: 0 | S2: 0 | T2: 0 | U2: 1 | V2: 0.5 | W2: 0.5 | X2: 0.75 | Y2: 0.25
A3: 611 | B3: 2 | C3: A2 | D3: 2 | E3: =Tableau1[[#This Row],[PAP]] -> non | F3: 1.75 | G3: 0 | H3: 0.5 | I3: 0.5 | J3: 0.5 | K3: 0.75 | L3: 0.75 | M3: 0.25 | N3: 0.25 | O3: 0 | P3: 0 | Q3: 1.75 | R3: 0 | S3: 1.5 | T3: 2 | U3: 0.5 | V3: 1.5 | W3: 0.5 | X3: 0.75 | Y3: 0.75
A4: 611 | B4: 3 | C4: A3 | D4: 3 | E4: =Tableau1[[#This Row],[PAP]] -> oui | F4: 0.25 | G4: 1 | H4: 0.25 | I4: 1 | J4: 0.25 | K4: 0 | L4: 0 | M4: 0.25 | N4: 0 | O4: 0 | P4: 1.5 | Q4: 0 | R4: 0 | S4: 0 | T4: 0 | U4: 1 | V4: 0 | W4: 0.75 | X4: 0 | Y4: 0
A5: 611 | B5: 4 | C5: A4 | D5: 4 | E5: =Tableau1[[#This Row],[PAP]] -> oui | F5: 0.25 | G5: 1.25 | H5: 0.5 | I5: 0.5 | J5: 0 | K5: 0 | L5: 0 | M5: 0 | N5: 0 | O5: 0.25 | P5: 1.25 | Q5: 0.25 | R5: 0 | S5: 0 | T5: 0 | U5: 0.5 | V5: 0 | W5: 0.5 | X5: 1 | Y5: 0.5
A6: 611 | B6: 5 | C6: A5 | D6: 5 | E6: =Tableau1[[#This Row],[PAP]] -> oui | F6: 0 | G6: 0 | H6: 0.25 | I6: 1 | J6: 0.5 | K6: 0.5 | L6: 0.25 | M6: 0.25 | N6: 0.25 | O6: 0.25 | P6: 1.5 | Q6: 1.25 | R6: 1 | S6: 0 | T6: 0 | U6: 1 | V6: 1 | W6: 0.75 | X6: 1.75 | Y6: 1.75
A7: 611 | B7: 6 | C7: A6 | D7: 6 | E7: =Tableau1[[#This Row],[PAP]] -> non | F7: 0 | G7: 0.25 | H7: 0.5 | I7: 0 | J7: 0.5 | K7: 0.5 | L7: 0.5 | M7: 0.25 | N7: 0 | O7: 0.25 | P7: 1.25 | Q7: 0 | R7: 0 | S7: 0.5 | T7: 0 | U7: 1 | V7: 1 | W7: 0.75 | X7: 0.5 | Y7: 0
A8: 611 | B8: 7 | C8: A7 | D8: 7 | E8: =Tableau1[[#This Row],[PAP]] -> non | F8: 1 | G8: 0.5 | H8: 0.5 | I8: 0 | J8: 0.5 | K8: 0.75 | L8: 1 | M8: 0 | N8: 0.5 | O8: 0 | P8: 1.25 | Q8: 1.5 | R8: 1 | S8: 2 | T8: 1.5 | U8: 1 | V8: 1.75 | W8: 0.5 | X8: 0.75 | Y8: 2
A9: 611 | B9: 8 | C9: A8 | D9: 8 | E9: =Tableau1[[#This Row],[PAP]] -> oui | F9: 0.25 | G9: 0.25 | H9: 0.25 | I9: 0.75 | J9: 0.5 | K9: 0.75 | L9: 0 | M9: 0 | N9: 0 | O9: 0 | P9: 1.5 | Q9: 1.75 | R9: 1 | S9: 1.5 | T9: 2 | U9: 1 | V9: 1.75 | W9: 0.25 | X9: 2 | Y9: 2
A10: 611 | B10: 9 | C10: A9 | D10: 9 | E10: =Tableau1[[#This Row],[PAP]] -> non | F10: 2 | G10: 2 | H10: 0.5 | I10: 0.5 | J10: 0.5 | K10: 0 | L10: 0.5 | M10: 0.25 | N10: 0 | O10: 0 | P10: 1.5 | Q10: 1.75 | R10: 1 | S10: 1 | T10: 0 | U10: 1 | V10: 0.75 | W10: 1 | X10: 2 | Y10: 2
A11: 611 | B11: 10 | C11: A10 | D11: 10 | E11: =Tableau1[[#This Row],[PAP]] -> non | F11: 2 | G11: 0.25 | H11: 0.5 | I11: 0 | J11: 0.5 | K11: 0.75 | L11: 0 | M11: 0 | N11: 0 | O11: 0 | P11: 0.75 | Q11: 1.75 | R11: 1 | S11: 2 | T11: 2 | U11: 1 | V11: 0.75 | W11: 2.5 | X11: 2 | Y11: 2
A12: 611 | B12: 11 | C12: A11 | D12: 11 | E12: =Tableau1[[#This Row],[PAP]] -> oui | F12: 0 | G12: 0 | H12: 0.5 | I12: 0.25 | J12: 0 | K12: 0 | L12: 0 | M12: 0 | N12: 0 | O12: 0 | P12: 1.25 | Q12: 1.75 | R12: 0 | S12: 0.5 | T12: 0 | U12: 1 | V12: 1.75 | W12: 2.5 | X12: 1.75 | Y12: 0.75
A13: 611 | B13: 12 | C13: A12 | D13: 12 | E13: =Tableau1[[#This Row],[PAP]] -> non | F13: 0.5 | G13: 0.25 | H13: 0.5 | I13: 1 | J13: 0.5 | K13: 0.75 | L13: 1 | M13: 0.5 | N13: 0 | O13: 0 | P13: 1.25 | Q13: 1 | R13: 0 | S13: 0 | T13: 0.5 | U13: 1 | V13: 1 | W13: 0.5 | X13: 2 | Y13: 2
A14: 611 | B14: 13 | C14: A13 | D14: 13 | E14: =Tableau1[[#This Row],[PAP]] -> non | F14: 2 | G14: 0.25 | H14: 0.5 | I14: 0.75 | J14: 0.25 | K14: 1 | L14: 1 | M14: 0.5 | N14: 0.5 | O14: 0 | P14: 0 | Q14: 0 | R14: 0 | S14: 0 | T14: 0 | U14: 0.5 | V14: 0 | W14: 0.75 | X14: 1 | Y14: 2 | Z14: 0 | AA14: 0 | AB14: 0 | AC14: 0.5 | AD14: 0 | AE14: 0 | AF14: 0.8 | AG14: 0 | AH14: 0.8 | AI14: 1 | AJ14: 0.8 | AK14: 0.8 | AL14: 0.5 | AM14: 1 | AN14: 0 | AO14: 0 | AP14: 1
A15: 611 | B15: 14 | C15: A14 | D15: 14 | E15: =Tableau1[[#This Row],[PAP]] -> oui | F15: 0.25 | G15: 0 | H15: 0.25 | I15: 0 | J15: 0 | K15: 0 | L15: 0 | M15: 0 | N15: 0 | O15: 0 | P15: 0 | Q15: 0 | R15: 0 | S15: 0 | T15: 0 | U15: 0.5 | V15: 0.25 | W15: 0.25 | X15: 0 | Y15: 0
A16: 611 | B16: 15 | C16: A15 | D16: 15 | E16: =Tableau1[[#This Row],[PAP]] -> non | F16: 0 | G16: 0 | H16: 0 | I16: 0 | J16: 0 | K16: 0 | L16: 0 | M16: 0 | N16: 0 | O16: 0 | P16: 1.5 | Q16: 1 | R16: 2 | S16: 1 | T16: 1.5 | U16: 1 | V16: 1.75 | W16: 1.5 | X16: 0 | Y16: 2
A17: 611 | B17: 16 | C17: A16 | D17: 16 | E17: =Tableau1[[#This Row],[PAP]] -> non | F17: 0.5 | G17: 0.25 | H17: 0.25 | I17: 0.25 | J17: 0.5 | K17: 0.75 | L17: 1 | M17: 0.25 | N17: 0.25 | O17: 0.25 | P17: 1 | Q17: 1.25 | R17: 1 | S17: 0 | T17: 0.25 | U17: 1 | V17: 1.5 | W17: 0.5 | X17: 0.25 | Y17: 0.25
A18: 611 | B18: 17 | C18: A17 | D18: 17 | E18: =Tableau1[[#This Row],[PAP]] -> non | F18: 0 | G18: 0 | H18: 0 | I18: 0.75 | J18: 0 | K18: 0 | L18: 0 | M18: 0 | N18: 0 | O18: 0 | P18: 1.75 | Q18: 0.75 | R18: 0 | S18: 0 | T18: 0 | U18: 1 | V18: 0 | W18: 0.5 | X18: 0 | Y18: 0
A19: 611 | B19: 18 | C19: A18 | D19: 18 | E19: =Tableau1[[#This Row],[PAP]] -> non | F19: 1.25 | G19: 0.25 | H19: 0.5 | I19: 0.5 | J19: 0.75 | K19: 0 | L19: 0 | M19: 0 | N19: 0 | O19: 0.25 | P19: 1.25 | Q19: 1 | R19: 0 | S19: 0 | T19: 0 | U19: 1 | V19: 1.5 | W19: 0.5 | X19: 2 | Y19: 2
A20: 611 | B20: 19 | C20: A19 | D20: 19 | E20: =Tableau1[[#This Row],[PAP]] -> oui | F20: 0 | G20: 0 | H20: 0.5 | I20: 0.75 | J20: 0.25 | K20: 0.5 | L20: 1 | M20: 0 | N20: 0 | O20: 0 | P20: 1.75 | Q20: 2 | R20: 1 | S20: 2 | T20: 0.5 | U20: 0.75 | V20: 1.75 | W20: 2.75 | X20: 2 | Y20: 2
A21: 611 | B21: 20 | C21: A20 | D21: 20 | E21: =Tableau1[[#This Row],[PAP]] -> non | F21: 0.25 | G21: 0.25 | H21: 0.5 | I21: 0.75 | J21: 0.25 | K21: 0 | L21: 0 | M21: 0 | N21: 0 | O21: 0 | P21: 1.5 | Q21: 1.75 | R21: 1 | S21: 2 | T21: 1 | U21: 1 | V21: 0 | W21: 0.25 | X21: 2 | Y21: 2
A22: 611 | B22: 21 | C22: A21 | D22: 21 | E22: =Tableau1[[#This Row],[PAP]] -> non | F22: 0 | G22: 0.25 | H22: 0.5 | I22: 0 | J22: 0.75 | K22: 0.75 | L22: 1 | M22: 0.25 | N22: 0.25 | O22: 0.25 | P22: 1.25 | Q22: 1.25 | R22: 1 | S22: 0.5 | T22: 1 | U22: 1 | V22: 1 | W22: 2.75 | X22: 2 | Y22: 2
A23: 611 | B23: 22 | C23: A22 | D23: 22 | E23: =Tableau1[[#This Row],[PAP]] -> oui | F23: 0.25 | G23: 0.5 | H23: 0.5 | I23: 0.75 | J23: 0.5 | K23: 0 | L23: 0 | M23: 0 | N23: 0 | O23: 0 | P23: 0 | Q23: 0 | R23: 0 | S23: 0 | T23: 0 | U23: 1 | V23: 1.75 | W23: 0 | X23: 0 | Y23: 0
A24: 611 | B24: 23 | C24: A23 | D24: 23 | E24: =Tableau1[[#This Row],[PAP]] -> non | F24: 1 | G24: 0 | H24: 0 | I24: 0.5 | J24: 0 | K24: 0 | L24: 0 | M24: 0 | N24: 0 | O24: 0 | P24: 1.5 | Q24: 1.5 | R24: 1 | S24: 0 | T24: 0 | U24: 1 | V24: 0.25 | W24: 0.75 | X24: 2 | Y24: 2
A25: 611 | B25: 24 | C25: A24 | D25: 24 | E25: =Tableau1[[#This Row],[PAP]] -> non | F25: 1 | G25: 0.25 | H25: 0.25 | I25: 1 | J25: 0 | K25: 0 | L25: 0 | M25: 0 | N25: 0.5 | O25: 0 | P25: 1.5 | Q25: 0 | R25: 0.5 | S25: 0 | T25: 0 | U25: 1 | V25: 1.75 | W25: 1 | X25: 2 | Y25: 2
A26: 611 | B26: 25 | C26: A25 | D26: 25 | E26: =Tableau1[[#This Row],[PAP]] -> non | F26: 1 | G26: 0.25 | H26: 0.5 | I26: 0.25 | J26: 0 | K26: 0 | L26: 0 | M26: 0 | N26: 0 | O26: 0 | P26: 1.5 | Q26: 1 | R26: 1 | S26: 2 | T26: 1 | U26: 1 | V26: 1.75 | W26: 2.5 | X26: 2 | Y26: 0
... A30: 611 | B30: 29 | C30: A29 | D30: 29 | E30: =Tableau1[[#This Row],[PAP]] -> non | F30: 0.25 | G30: 0 | H30: 0 | I30: 0.5 | J30: 0 | K30: 0 | L30: 0.75 | M30: 0 | N30: 0 | O30: 0 | P30: 1.25 | Q30: 1.75 | R30: 1 | S30: 2 | T30: 1 | U30: 1 | V30: 2 | W30: 0.5 | X30: 2 | Y30: 0.25
A31: 612 | B31: 1 | C31: B1 | D31: 30 | E31: =Tableau1[[#This Row],[PAP]] -> non | F31: 0 | G31: 0 | H31: 0.2 | I31: 0 | J31: 0 | K31: 0.2 | L31: 0 | M31: 0 | N31: 0 | O31: 0 | P31: 0.2 | Q31: 0.2 | R31: 0 | S31: 1 | T31: 0 | U31: 1 | V31: 0 | W31: 0.2 | X31: 0 | Y31: 0 | Z31: 0 | AA31: 0.5 | AB31: 0.5 | AC31: 0.25 | AD31: 0 | AE31: 0 | AF31: 0.25 | AG31: 0 | AH31: 0.5 | AI31: 1 | AJ31: 0 | AK31: 0.25 | AL31: 0.25 | AM31: 0.75 | AN31: 0 | AO31: 0 | AP31: 0
A32: 612 | B32: 2 | C32: B2 | D32: 31 | E32: =Tableau1[[#This Row],[PAP]] -> non | F32: 1 | G32: 0.25 | H32: 0.25 | I32: 0 | J32: 0 | K32: 0 | L32: 0 | M32: 0.25 | N32: 0.5 | O32: 0.25 | P32: 1.25 | Q32: 1 | R32: 0 | S32: 0.5 | T32: 1 | U32: 1 | V32: 0.5 | W32: 3 | X32: 1.5 | Y32: 0 | Z32: 1.75 | AA32: 0.5 | AB32: 1.5 | AC32: 0.5 | AD32: 0 | AE32: 0 | AF32: 0.75 | AG32: 0.5 | AH32: 0.25 | AI32: 1 | AJ32: 0 | AK32: 0 | AL32: 0 | AM32: 1 | AN32: 0.5 | AO32: 0 | AP32: 0.75
A33: 612 | B33: 3 | C33: B3 | D33: 32 | E33: =Tableau1[[#This Row],[PAP]] -> non | F33: 1.5 | G33: 1 | H33: 0.4 | I33: 0.5 | J33: 0 | K33: 0.5 | L33: 0.5 | M33: 0.4 | N33: 0.2 | O33: 0 | P33: 0.2 | Q33: 0 | R33: 0 | S33: 0 | T33: 0 | U33: 1 | V33: 1 | W33: 1 | X33: 2 | Y33: 1.75 | Z33: 0.25 | AA33: 0 | AB33: 0.75 | AC33: 0 | AD33: 0.5 | AE33: 1 | AF33: 0.75 | AG33: 0.25 | AH33: 0.5 | AI33: 1 | AJ33: 1.5 | AK33: 1.25 | AL33: 0.5 | AM33: 1 | AN33: 0.25 | AO33: 0.25 | AP33: 0.25
A34: 612 | B34: 4 | C34: B4 | D34: 33 | E34: =Tableau1[[#This Row],[PAP]] -> oui | F34: 1 | G34: 0.2 | H34: 0.5 | I34: 0 | J34: 0 | K34: 0 | L34: 0 | M34: 0 | N34: 0.2 | O34: 0.2 | P34: 1 | Q34: 0 | R34: 0 | S34: 0 | T34: 0 | U34: 1 | V34: 1 | W34: 0.2 | X34: 0 | Y34: 0 | Z34: 1.5 | AA34: 0.5 | AB34: 0 | AC34: 0.25 | AD34: 0.25 | AE34: 0 | AF34: 0.75 | AG34: 0.5 | AH34: 0.25 | AI34: 1 | AJ34: 1 | AK34: 0 | AL34: 0 | AM34: 0 | AN34: 0 | AO34: 0 | AP34: 0.25
A35: 612 | B35: 5 | C35: B5 | D35: 34 | E35: =Tableau1[[#This Row],[PAP]] -> oui | F35: 0.2 | G35: 0.2 | H35: 0.5 | I35: 0 | J35: 0 | K35: 0.5 | L35: 0.5 | M35: 0 | N35: 0 | O35: 0 | P35: 0.2 | Q35: 1.5 | R35: 1 | S35: 1.5 | T35: 0 | U35: 1 | V35: 0.2 | W35: 0.2 | X35: 0 | Y35: 2
A36: 612 | B36: 6 | C36: B6 | D36: 35 | E36: =Tableau1[[#This Row],[PAP]] -> non | F36: 1.5 | G36: 1 | H36: 0.4 | I36: 0.5 | J36: 0 | K36: 0.5 | L36: 0.2 | M36: 0 | N36: 0 | O36: 0 | P36: 1.5 | Q36: 1 | R36: 0 | S36: 0 | T36: 0.2 | U36: 1 | V36: 0 | W36: 2 | X36: 2 | Y36: 2 | Z36: 1 | AA36: 0.75 | AB36: 0.75 | AC36: 0 | AD36: 0.25 | AE36: 1 | AF36: 0.5 | AG36: 0.5 | AH36: 0.5 | AI36: 1 | AJ36: 1.5 | AK36: 1 | AL36: 0.5 | AM36: 1 | AN36: 0 | AO36: 0 | AP36: 0.75
A37: 612 | B37: 7 | C37: B7 | D37: 36 | E37: =Tableau1[[#This Row],[PAP]] -> non | F37: 1 | G37: 1 | H37: 0.5 | I37: 0 | J37: 0 | K37: 0 | L37: 0.5 | M37: 0 | N37: 0 | O37: 0 | P37: 1 | Q37: 0 | R37: 0 | S37: 0 | T37: 0 | U37: 1 | V37: 1 | W37: 2 | X37: 2 | Y37: 0 | Z37: 1 | AA37: 0.75 | AB37: 1.5 | AC37: 1 | AD37: 0.5 | AE37: 0.25 | AF37: 0.75 | AG37: 0.5 | AH37: 0.75 | AI37: 1 | AJ37: 0 | AK37: 0.5 | AL37: 0.5 | AM37: 1 | AN37: 1 | AO37: 0 | AP37: 1
A38: 612 | B38: 8 | C38: B8 | D38: 37 | E38: =Tableau1[[#This Row],[PAP]] -> non | F38: 0 | G38: 0.2 | H38: 0.5 | I38: 0 | J38: 0 | K38: 0 | L38: 0.5 | M38: 0.5 | N38: 0 | O38: 0.4 | P38: 0.2 | Q38: 0 | R38: 0 | S38: 0 | T38: 0 | U38: 1 | V38: 0.2 | W38: 0 | X38: 0.2 | Y38: 2 | Z38: 0.25 | AA38: 1 | AB38: 1.75 | AC38: 0.25 | AD38: 0.5 | AE38: 0 | AF38: 0.75 | AG38: 0.25 | AH38: 0.25 | AI38: 0.5 | AJ38: 0.75 | AK38: 1.5 | AL38: 0 | AM38: 0.25 | AN38: 0 | AO38: 0 | AP38: 1
A39: 612 | B39: 9 | C39: B9 | D39: 38 | E39: =Tableau1[[#This Row],[PAP]] -> oui | F39: 2.5 | P39: 3.1 | U39: 4.2 | Z39: 1 | AA39: 0 | AB39: 0.75 | AC39: 0.25 | AD39: 0.5 | AE39: 1 | AF39: 0.75 | AG39: 0.5 | AH39: 0.5 | AI39: 0.75 | AJ39: 1 | AK39: 0 | AL39: 0 | AM39: 0.25 | AN39: 0 | AO39: 0 | AP39: 1
A40: 612 | B40: 10 | C40: B10 | D40: 39 | E40: =Tableau1[[#This Row],[PAP]] -> non | F40: 1 | G40: 1 | H40: 0.5 | I40: 0 | J40: 0 | K40: 0 | L40: 0 | M40: 0 | N40: 0 | O40: 0 | P40: 1.5 | Q40: 1.75 | R40: 2 | S40: 2 | T40: 1.5 | U40: 1 | V40: 1 | W40: 2 | X40: 2 | Y40: 2 | Z40: 0.5 | AA40: 0.75 | AB40: 1.5 | AC40: 1 | AD40: 0.5 | AE40: 0.25 | AF40: 0.75 | AG40: 0.5 | AH40: 0.5 | AI40: 1 | AJ40: 1.5 | AK40: 1.25 | AL40: 0 | AM40: 1 | AN40: 0 | AO40: 0 | AP40: 1
A41: 612 | B41: 11 | C41: B11 | D41: 40 | E41: =Tableau1[[#This Row],[PAP]] -> non | F41: 1 | G41: 1 | H41: 0.5 | I41: 0 | J41: 0 | K41: 0 | L41: 0.5 | M41: 0 | N41: 0.4 | O41: 0 | P41: 0.2 | Q41: 0 | R41: 0 | S41: 0 | T41: 0 | U41: 1 | V41: 0 | W41: 0 | X41: 0 | Y41: 0 | Z41: 0.25 | AA41: 1 | AB41: 0 | AC41: 0 | AD41: 0.5 | AE41: 0.25 | AF41: 0.5 | AG41: 0 | AH41: 0.25 | AI41: 1 | AJ41: 1.25 | AK41: 0.5 | AL41: 0 | AM41: 0.75 | AN41: 0 | AO41: 0 | AP41: 1
A42: 612 | B42: 12 | C42: B12 | D42: 41 | E42: =Tableau1[[#This Row],[PAP]] -> non | F42: 0 | G42: 0 | H42: 0.4 | I42: 0.5 | J42: 0.5 | K42: 0 | L42: 0 | M42: 0 | N42: 0 | O42: 0 | P42: 1 | Q42: 0 | R42: 0 | S42: 0 | T42: 0 | U42: 1 | V42: 1 | W42: 0 | X42: 0 | Y42: 0 | Z42: 0.25 | AA42: 0.75 | AB42: 1 | AC42: 0.75 | AD42: 0.5 | AE42: 0.25 | AF42: 0.75 | AG42: 0.75 | AH42: 0.5 | AI42: 1 | AJ42: 1.25 | AK42: 1 | AL42: 0 | AM42: 0.75 | AN42: 0 | AO42: 0 | AP42: 0.75
A43: 612 | B43: 13 | C43: B13 | D43: 42 | E43: =Tableau1[[#This Row],[PAP]] -> non | F43: 1.5 | G43: 1 | H43: 0.5 | I43: 0 | J43: 0 | K43: 0 | L43: 0 | M43: 0 | N43: 0 | O43: 0 | P43: 1 | Q43: 0 | R43: 0 | S43: 0 | T43: 0 | U43: 1 | V43: 0 | W43: 0.2 | X43: 0 | Y43: 0 | Z43: 0 | AA43: 1 | AB43: 0.5 | AC43: 0.75 | AD43: 0.75 | AE43: 0.25 | AF43: 0.25 | AG43: 0 | AH43: 0.25 | AI43: 1 | AJ43: 0.5 | AK43: 0 | AL43: 0 | AM43: 1 | AN43: 0 | AO43: 0 | AP43: 1
A44: 612 | B44: 14 | C44: B14 | D44: 43 | E44: =Tableau1[[#This Row],[PAP]] -> non | F44: 1.5 | G44: 1 | H44: 0.5 | I44: 1 | J44: 0 | K44: 0 | L44: 1 | M44: 0 | N44: 0 | O44: 0 | P44: 1.5 | Q44: 1.5 | R44: 1 | S44: 2 | T44: 0.2 | U44: 1 | V44: 0.2 | W44: 2 | X44: 2 | Y44: 2 | Z44: 0.25 | AA44: 0.75 | AB44: 1 | AC44: 1 | AD44: 0.5 | AE44: 0.25 | AF44: 0.75 | AG44: 0.5 | AH44: 0.5 | AI44: 1 | AJ44: 0.5 | AK44: 0.5 | AL44: 0.5 | AM44: 1 | AN44: 0 | AO44: 0.25 | AP44: 0.75
A45: 612 | B45: 15 | C45: B15 | D45: 44 | E45: =Tableau1[[#This Row],[PAP]] -> non | F45: 1 | G45: 0.2 | H45: 0.2 | I45: 0 | J45: 0 | K45: 0 | L45: 0 | M45: 0 | N45: 0 | O45: 0 | P45: 0.2 | Q45: 0.2 | R45: 0.2 | S45: 0 | T45: 0.2 | U45: 1 | V45: 0 | W45: 0 | X45: 0 | Y45: 0 | Z45: 0.25 | AA45: 0.75 | AB45: 1 | AC45: 0.25 | AD45: 0 | AE45: 0.25 | AF45: 0.75 | AG45: 0.5 | AH45: 0.5 | AI45: 0.75 | AJ45: 1.25 | AK45: 1.25 | AL45: 0 | AM45: 0.5 | AN45: 0 | AO45: 0.25 | AP45: 1
A46: 612 | B46: 16 | C46: B16 | D46: 45 | E46: =Tableau1[[#This Row],[PAP]] -> non | F46: 1 | G46: 0 | H46: 0.2 | I46: 0 | J46: 0 | K46: 0 | L46: 0 | M46: 0 | N46: 0 | O46: 0 | P46: 1 | Q46: 0 | R46: 0 | S46: 0 | T46: 0 | U46: 1 | V46: 0 | W46: 0.2 | X46: 0.2 | Y46: 0 | Z46: 0.5 | AA46: 1 | AB46: 1.25 | AC46: 0.25 | AD46: 0 | AE46: 0 | AF46: 0.75 | AG46: 0 | AH46: 0.25 | AI46: 1 | AJ46: 1.5 | AK46: 0.75 | AL46: 0.5 | AM46: 0.5 | AN46: 0 | AO46: 0 | AP46: 0.25
A47: 612 | B47: 17 | C47: B17 | D47: 46 | E47: =Tableau1[[#This Row],[PAP]] -> non | F47: 1 | G47: 1 | H47: 0 | I47: 0 | J47: 0 | K47: 0 | L47: 0 | M47: 0 | N47: 0 | O47: 0 | P47: 1.5 | Q47: 1.5 | R47: 1 | S47: 2 | T47: 0.2 | U47: 1 | V47: 0 | W47: 0 | X47: 0.2 | Y47: 2 | Z47: 0.5 | AA47: 0.75 | AB47: 0.75 | AC47: 0.25 | AD47: 0.25 | AE47: 0 | AF47: 0 | AG47: 0 | AH47: 0.25 | AI47: 0 | AJ47: 1 | AK47: 0 | AL47: 0 | AM47: 0.75 | AN47: 1 | AO47: 0 | AP47: 0
A48: 612 | B48: 18 | C48: B18 | D48: 47 | E48: =Tableau1[[#This Row],[PAP]] -> non | F48: 1 | G48: 0 | H48: 0.5 | I48: 0.5 | J48: 0 | K48: 0.2 | L48: 1 | M48: 0.5 | N48: 0.4 | O48: 0.4 | P48: 2 | Q48: 0 | R48: 0 | S48: 0 | T48: 0 | U48: 1 | V48: 2 | W48: 2 | X48: 2 | Y48: 2 | Z48: 1.25 | AA48: 0.5 | AB48: 1 | AC48: 1 | AD48: 0 | AE48: 1 | AF48: 0.75 | AG48: 1 | AH48: 1 | AI48: 1 | AJ48: 1 | AK48: 1.25 | AL48: 0.25 | AM48: 0 | AN48: 0 | AO48: 0 | AP48: 0
A49: 612 | B49: 19 | C49: B19 | D49: 48 | E49: =Tableau1[[#This Row],[PAP]] -> non | F49: 0 | G49: 0 | H49: 0.5 | I49: 0.5 | J49: 0 | K49: 0.5 | L49: 1 | M49: 0 | N49: 0.4 | O49: 0.4 | P49: 1 | Q49: 2 | R49: 0 | S49: 0 | T49: 0 | U49: 1 | V49: 0 | W49: 2 | X49: 2 | Y49: 2 | Z49: 0.25 | AA49: 0.75 | AB49: 1 | AC49: 0 | AD49: 0 | AE49: 0.25 | AF49: 0.25 | AG49: 0 | AH49: 0.25 | AI49: 1 | AJ49: 1.25 | AK49: 1 | AL49: 0 | AM49: 0.5 | AN49: 0.75 | AO49: 0 | AP49: 0.5
A50: 612 | B50: 20 | C50: B20 | D50: 49 | E50: =Tableau1[[#This Row],[PAP]] -> non | F50: 0.2 | G50: 0 | H50: 0.5 | I50: 0 | J50: 0 | K50: 0 | L50: 0 | M50: 0 | N50: 0 | O50: 0 | P50: 1 | Q50: 0 | R50: 0.2 | S50: 1.75 | T50: 0 | U50: 0.5 | V50: 0 | W50: 0 | X50: 2 | Y50: 0 | Z50: 1 | AA50: 1 | AB50: 1.5 | AC50: 0.25 | AD50: 0.5 | AE50: 0.25 | AF50: 0.75 | AG50: 0.5 | AH50: 0.5 | AI50: 1 | AJ50: 1 | AK50: 0.25 | AL50: 0 | AM50: 1 | AN50: 0 | AO50: 0 | AP50: 0.5
A51: 612 | B51: 21 | C51: B21 | D51: 50 | E51: =Tableau1[[#This Row],[PAP]] -> non | F51: 0 | G51: 0 | H51: 0.5 | I51: 1 | J51: 0 | K51: 0.5 | L51: 0.2 | M51: 0 | N51: 0.5 | O51: 0 | P51: 1 | Q51: 0 | R51: 0 | S51: 0 | T51: 0 | U51: 1 | V51: 0 | W51: 0 | X51: 2 | Y51: 0 | Z51: 0.25 | AA51: 1 | AB51: 1.5 | AC51: 1 | AD51: 0 | AE51: 0 | AF51: 0.75 | AG51: 0.5 | AH51: 0.5 | AI51: 0.5 | AJ51: 1.25 | AK51: 1.5 | AL51: 0.25 | AM51: 1 | AN51: 0 | AO51: 0 | AP51: 0.25
... A57: 612 | B57: 27 | C57: B27 | D57: 56 | E57: =Tableau1[[#This Row],[PAP]] -> non | F57: 1.5 | G57: 1.5 | H57: 0.5 | I57: 1 | J57: 0 | K57: 0 | L57: 1 | M57: 0.5 | N57: 0 | O57: 0 | P57: 1.75 | Q57: 1.75 | R57: 0 | S57: 2 | T57: 0 | U57: 1 | V57: 2 | W57: 1 | X57: 2 | Y57: 2 | Z57: 0.25 | AA57: 0.75 | AB57: 1.25 | AC57: 1 | AD57: 0.75 | AE57: 0.25 | AF57: 0.75 | AG57: 0.75 | AH57: 1 | AI57: 1 | AJ57: 1.25 | AK57: 0.5 | AL57: 0.75 | AM57: 1 | AN57: 0.5 | AO57: 0 | AP57: 1
A58: 612 | B58: 28 | C58: B28 | D58: 57 | E58: =Tableau1[[#This Row],[PAP]] -> oui | F58: 0 | G58: 0 | H58: 0 | I58: 0 | J58: 0 | K58: 0.2 | L58: 0.5 | M58: 0.5 | N58: 0 | O58: 0 | P58: 1.75 | Q58: 1.75 | R58: 0 | S58: 0 | T58: 0 | U58: 1 | V58: 0 | W58: 0 | X58: 0 | Y58: 0
A59: 612 | B59: 29 | C59: B29 | D59: 58 | E59: =Tableau1[[#This Row],[PAP]] -> non | F59: 0 | G59: 0.2 | H59: 0.5 | I59: 1 | J59: 0 | K59: 0 | L59: 0 | M59: 0 | N59: 0 | O59: 0 | P59: 1.75 | Q59: 0.2 | R59: 2 | S59: 0 | T59: 0 | U59: 1 | V59: 2 | W59: 1 | X59: 0 | Y59: 0 | Z59: 1.5 | AA59: 1 | AB59: 1.75 | AC59: 0.25 | AD59: 0 | AE59: 0.75 | AF59: 1 | AG59: 1 | AH59: 0.5 | AI59: 0 | AJ59: 0 | AK59: 0 | AL59: 0 | AM59: 1 | AN59: 0 | AO59: 0 | AP59: 1
A60: 612 | B60: 30 | C60: B30 | D60: 59 | E60: =Tableau1[[#This Row],[PAP]] -> non | F60: 0 | G60: 0.2 | H60: 0.5 | I60: 0.2 | J60: 0.5 | K60: 0.5 | L60: 0 | M60: 0 | N60: 0 | O60: 0 | P60: 2 | Q60: 0.2 | R60: 0 | S60: 0 | T60: 0 | U60: 1 | V60: 2 | W60: 0 | X60: 0 | Y60: 0 | Z60: 1 | AA60: 0 | AB60: 1.5 | AC60: 0.25 | AD60: 0 | AE60: 0.25 | AF60: 0.75 | AG60: 0.5 | AH60: 1 | AI60: 0.5 | AJ60: 1 | AK60: 1.5 | AL60: 0 | AM60: 0.75 | AN60: 0.5 | AO60: 0 | AP60: 0.25
A61: 613 | B61: 1 | C61: C1 | D61: 60 | E61: =Tableau1[[#This Row],[PAP]] -> oui | F61: 0.5 | G61: 0.25 | H61: 0.5 | I61: 0.75 | J61: 0.25 | K61: 0.25 | L61: 0.75 | M61: 0 | N61: 0 | O61: 0 | P61: 1.5 | Q61: 1.75 | R61: 1.75 | S61: 1.5 | T61: 0.5 | U61: 0.5 | V61: 1.5 | W61: 0.75 | X61: 2 | Y61: 2 | Z61: 2 | AA61: 0 | AB61: 1.4 | AC61: 0 | AD61: 1 | AE61: 0 | AF61: 0 | AG61: 0 | AH61: 0.5 | AI61: 1 | AJ61: 1 | AK61: 1 | AL61: 0.5 | AM61: 0.2 | AN61: 0 | AO61: 0.2 | AP61: 0
A62: 613 | B62: 2 | C62: C2 | D62: 61 | E62: =Tableau1[[#This Row],[PAP]] -> non | F62: 0 | G62: 0 | H62: 0 | I62: 0.5 | J62: 0 | K62: 0.5 | L62: 0 | M62: 0.25 | N62: 0.25 | O62: 0 | P62: 1.25 | Q62: 0 | R62: 0 | S62: 1.5 | T62: 0.5 | U62: 1 | V62: 0.75 | W62: 0.25 | X62: 1.5 | Y62: 0.5 | Z62: 0.2 | AA62: 1 | AB62: 1.4 | AC62: 0 | AD62: 0 | AE62: 0 | AF62: 0.2 | AG62: 1 | AH62: 0.2 | AI62: 0.8 | AJ62: 0 | AK62: 0 | AL62: 0 | AM62: 0 | AN62: 0 | AO62: 0 | AP62: 1
A63: 613 | B63: 3 | C63: C3 | D63: 62 | E63: =Tableau1[[#This Row],[PAP]] -> oui | F63: 0 | G63: 0 | H63: 0.5 | I63: 1 | J63: 1 | K63: 1 | L63: 1 | M63: 0.5 | N63: 0.25 | O63: 0.5 | P63: 2 | Q63: 1.75 | R63: 2 | S63: 1.5 | T63: 1 | U63: 1 | V63: 1.5 | W63: 0.75 | X63: 1.75 | Y63: 0 | Z63: 0.2 | AA63: 1 | AB63: 0.2 | AC63: 0 | AD63: 0 | AE63: 0 | AF63: 0 | AG63: 1 | AH63: 0.2 | AI63: 1 | AJ63: 0 | AK63: 0.5 | AL63: 0 | AM63: 1 | AN63: 0 | AO63: 0 | AP63: 0.3
A64: 613 | B64: 4 | C64: C4 | D64: 63 | E64: =Tableau1[[#This Row],[PAP]] -> non | F64: 0.25 | G64: 0 | H64: 0.5 | I64: 0.75 | J64: 0.25 | K64: 0.25 | L64: 1 | M64: 0.25 | N64: 0.25 | O64: 0.25 | P64: 1 | Q64: 1.25 | R64: 1 | S64: 1.75 | T64: 1 | U64: 0.25 | V64: 0.25 | W64: 1 | X64: 0.75 | Y64: 0.5 | Z64: 0.2 | AA64: 1 | AB64: 1 | AC64: 0.2 | AD64: 0.5 | AE64: 0.7 | AF64: 1 | AG64: 0 | AH64: 0.2 | AI64: 1 | AJ64: 1 | AK64: 1 | AL64: 1 | AM64: 1 | AN64: 1 | AO64: 0.2 | AP64: 1
A65: 613 | B65: 5 | C65: C5 | D65: 64 | E65: =Tableau1[[#This Row],[PAP]] -> non | F65: 0.75 | G65: 0.25 | H65: 0.5 | I65: 0.5 | J65: 0.5 | K65: 0 | L65: 0 | M65: 0.25 | N65: 0.25 | O65: 0.25 | P65: 0.5 | Q65: 1.5 | R65: 1 | S65: 2 | T65: 1 | U65: 1 | V65: 1.5 | W65: 2 | X65: 0.75 | Y65: 2 | Z65: 1 | AA65: 1 | AB65: 0.2 | AC65: 0 | AD65: 0 | AE65: 0 | AF65: 0.5 | AG65: 0 | AH65: 0.2 | AI65: 0.5 | AJ65: 0 | AK65: 0.2 | AL65: 0.5 | AM65: 1 | AN65: 0 | AO65: 0 | AP65: 1
A66: 613 | B66: 6 | C66: C6 | D66: 65 | E66: =Tableau1[[#This Row],[PAP]] -> non | F66: 2 | G66: 0.25 | H66: 0.5 | I66: 1 | J66: 0.25 | K66: 0.5 | L66: 1 | M66: 0 | N66: 0.25 | O66: 0.25 | P66: 1.75 | Q66: 1.75 | R66: 2 | S66: 2 | T66: 2 | U66: 1 | V66: 2 | W66: 2.75 | X66: 2 | Y66: 2 | Z66: 2 | AA66: 1 | AB66: 1 | AC66: 1 | AD66: 1 | AE66: 0.2 | AF66: 0.7 | AG66: 1 | AH66: 1 | AI66: 1 | AJ66: 1 | AK66: 1 | AL66: 0 | AM66: 1 | AN66: 0.8 | AO66: 0 | AP66: 0.3
A67: 613 | B67: 7 | C67: C7 | D67: 66 | E67: =Tableau1[[#This Row],[PAP]] -> non | F67: 0 | G67: 0.25 | H67: 0.5 | I67: 0.75 | J67: 0.75 | K67: 0.25 | L67: 0 | M67: 0 | N67: 0 | O67: 0 | P67: 0.75 | Q67: 0 | R67: 0 | S67: 0 | T67: 0 | U67: 0.5 | V67: 1.5 | W67: 1.5 | X67: 1.5 | Y67: 2 | Z67: 1 | AA67: 0.7 | AB67: 0 | AC67: 0 | AD67: 0 | AE67: 0 | AF67: 0 | AG67: 0 | AH67: 0 | AI67: 0 | AJ67: 0 | AK67: 0 | AL67: 0.2 | AM67: 0.8 | AN67: 0.5 | AO67: 0.2 | AP67: 1
A68: 613 | B68: 8 | C68: C8 | D68: 67 | E68: =Tableau1[[#This Row],[PAP]] -> non | F68: 0.25 | G68: 0.25 | H68: 0.25 | I68: 0.75 | J68: 0.5 | K68: 0.25 | L68: 0.5 | M68: 0.25 | N68: 0.25 | O68: 0 | P68: 0.5 | Q68: 0 | R68: 1.5 | S68: 0 | T68: 0 | U68: 1 | V68: 2 | W68: 2.5 | X68: 2 | Y68: 0.75 | Z68: 2 | AA68: 0 | AB68: 2 | AC68: 0.2 | AD68: 0.5 | AE68: 0.2 | AF68: 0.2 | AG68: 0.5 | AH68: 0.2 | AI68: 0.5 | AJ68: 0.2 | AK68: 0.5 | AL68: 0 | AM68: 1 | AN68: 0 | AO68: 0 | AP68: 0.7
A69: 613 | B69: 9 | C69: C9 | D69: 68 | E69: =Tableau1[[#This Row],[PAP]] -> non | F69: 1 | G69: 1.5 | H69: 0.5 | I69: 0.5 | J69: 0 | K69: 0 | L69: 0 | M69: 0 | N69: 0.25 | O69: 0 | P69: 1.25 | Q69: 1 | R69: 0 | S69: 0.5 | T69: 1 | U69: 1 | V69: 0.25 | W69: 2.75 | X69: 2 | Y69: 2 | Z69: 0.2 | AA69: 1 | AB69: 1 | AC69: 0 | AD69: 0 | AE69: 0 | AF69: 0.5 | AG69: 0 | AH69: 0.8 | AI69: 0.2 | AJ69: 0 | AK69: 0 | AL69: 0 | AM69: 0 | AN69: 0 | AO69: 0 | AP69: 0.7
A70: 613 | B70: 10 | C70: C10 | D70: 69 | E70: =Tableau1[[#This Row],[PAP]] -> non | F70: 0 | G70: 0 | H70: 0.25 | I70: 0.5 | J70: 0.25 | K70: 0.75 | L70: 0.5 | M70: 0 | N70: 0 | O70: 0 | P70: 1 | Q70: 0 | R70: 0 | S70: 0 | T70: 0 | U70: 1 | V70: 0.25 | W70: 2.75 | X70: 1.5 | Y70: 0.5 | Z70: 1 | AA70: 1 | AB70: 0.7 | AC70: 0 | AD70: 1 | AE70: 0 | AF70: 0 | AG70: 0 | AH70: 0 | AI70: 0.2 | AJ70: 0.2 | AK70: 0.2 | AL70: 0 | AM70: 1 | AN70: 0 | AO70: 0 | AP70: 1
... A98: 614 | B98: 6 | C98: C38 | D98: 97 | E98: =Tableau1[[#This Row],[PAP]] -> non | F98: 1 | G98: 0 | H98: 0.5 | I98: 0.5 | J98: 0 | K98: 0 | L98: 1 | M98: 0.3 | N98: 0.5 | O98: 0.3 | P98: 1.75 | Q98: 1 | R98: 1.75 | S98: 2 | T98: 2 | U98: 1 | V98: 1.75 | W98: 2.5 | X98: 2 | Y98: 2 | Z98: 0.75 | AA98: 1 | AB98: 0.5 | AC98: 1 | AD98: 0.5 | AE98: 0 | AF98: 0.75 | AG98: 0.5 | AH98: 0 | AI98: 1 | AJ98: 1.5 | AK98: 1.5 | AL98: 0.5 | AM98: 1 | AN98: 1 | AO98: 0.5 | AP98: 1
A99: 614 | B99: 7 | C99: C39 | D99: 98 | E99: =Tableau1[[#This Row],[PAP]] -> oui | F99: 1 | G99: 0.2 | H99: 0.3 | I99: 0 | J99: 0 | K99: 0 | L99: 0.5 | M99: 0.5 | N99: 0 | O99: 0 | P99: 1.75 | Q99: 1 | R99: 1.5 | S99: 0 | T99: 2 | U99: 0 | V99: 1.75 | W99: 0.2 | X99: 0.2 | Y99: 0.2
A100: 614 | B100: 8 | C100: C40 | D100: 99 | E100: =Tableau1[[#This Row],[PAP]] -> non | F100: 1.75 | G100: 0.2 | H100: 0.5 | I100: 1 | J100: 1 | K100: 1 | L100: 1 | M100: 0.5 | N100: 0.3 | O100: 0.2 | P100: 1.75 | Q100: 2 | R100: 1.75 | S100: 2 | T100: 0.2 | U100: 1 | V100: 2 | W100: 3 | X100: 1.75 | Y100: 2 | Z100: 2 | AA100: 0 | AB100: 0 | AC100: 1 | AD100: 0.5 | AE100: 0.25 | AF100: 0.75 | AG100: 1 | AH100: 1 | AI100: 1 | AJ100: 1.25 | AK100: 1 | AL100: 1 | AM100: 1 | AN100: 1 | AO100: 1 | AP100: 1
A101: 614 | B101: 9 | C101: C41 | D101: 100 | E101: =Tableau1[[#This Row],[PAP]] -> non | F101: 0.2 | G101: 0.2 | H101: 0.5 | I101: 0.2 | J101: 0 | K101: 0 | L101: 1 | M101: 0.5 | N101: 0.5 | O101: 0.3 | P101: 1.5 | Q101: 0.2 | R101: 0.2 | S101: 0 | T101: 0.2 | U101: 0.5 | V101: 2 | W101: 0.75 | X101: 0.2 | Y101: 0.2 | Z101: 0.5 | AA101: 1 | AB101: 0.25 | AC101: 0.75 | AD101: 0.25 | AE101: 0.25 | AF101: 0.75 | AG101: 1 | AH101: 0.5 | AI101: 1 | AJ101: 1.5 | AK101: 1.25 | AL101: 0.75 | AM101: 1 | AN101: 0.25 | AO101: 0.25 | AP101: 0.5
A102: 614 | B102: 10 | C102: C42 | D102: 101 | E102: =Tableau1[[#This Row],[PAP]] -> non | F102: 0.2 | G102: 0.2 | H102: 0.3 | I102: 0.5 | J102: 0.2 | K102: 0 | L102: 1 | M102: 0 | N102: 0.5 | O102: 0 | P102: 1 | Q102: 1.75 | R102: 0 | S102: 0 | T102: 0 | U102: 1 | V102: 0.2 | W102: 0.2 | X102: 1.5 | Y102: 1.75 | Z102: 0.5 | AA102: 1 | AB102: 0.75 | AC102: 0.75 | AD102: 0.25 | AE102: 0.75 | AF102: 0.75 | AG102: 0.5 | AH102: 0.25 | AI102: 1 | AJ102: 1.5 | AK102: 0.5 | AL102: 0.25 | AM102: 1 | AN102: 0.25 | AO102: 0 | AP102: 0.5
A103: 614 | B103: 11 | C103: C43 | D103: 102 | E103: =Tableau1[[#This Row],[PAP]] -> non | F103: 1 | G103: 1 | H103: 0.3 | I103: 1 | J103: 1 | K103: 1 | L103: 1 | M103: 0.5 | N103: 0.5 | O103: 0.3 | P103: 1 | Q103: 0.2 | R103: 1 | S103: 1.75 | T103: 0.2 | U103: 1 | V103: 0.2 | W103: 2.5 | X103: 1.75 | Y103: 2 | Z103: 1 | AA103: 1 | AB103: 0.75 | AC103: 0.75 | AD103: 0.5 | AE103: 0 | AF103: 0.75 | AG103: 0.5 | AH103: 0.5 | AI103: 1 | AJ103: 1.5 | AK103: 1.5 | AL103: 0.5 | AM103: 1 | AN103: 0.5 | AO103: 0.25 | AP103: 0.75
A104: 614 | B104: 12 | C104: C44 | D104: 103 | E104: =Tableau1[[#This Row],[PAP]] -> non | F104: 0.2 | G104: 0 | H104: 0.5 | I104: 0.5 | J104: 0.5 | K104: 0.5 | L104: 1 | M104: 0 | N104: 0 | O104: 0 | P104: 1.5 | Q104: 1 | R104: 1 | S104: 2 | T104: 0.2 | U104: 1 | V104: 0.2 | W104: 0.75 | X104: 1.5 | Y104: 2 | Z104: 0.25 | AA104: 1 | AB104: 0.75 | AC104: 1 | AD104: 0 | AE104: 0.25 | AF104: 0.5 | AG104: 0.25 | AH104: 0.5 | AI104: 0.75 | AJ104: 1 | AK104: 1.5 | AL104: 0 | AM104: 0.25 | AN104: 1 | AO104: 0 | AP104: 0
A105: 614 | B105: 13 | C105: C45 | D105: 104 | E105: =Tableau1[[#This Row],[PAP]] -> non | F105: 0.2 | G105: 2 | H105: 0.5 | I105: 1 | J105: 1 | K105: 1 | L105: 0.5 | M105: 0.5 | N105: 0 | O105: 0 | P105: 1.5 | Q105: 0 | R105: 0 | S105: 0 | T105: 0 | U105: 1 | V105: 0.2 | W105: 2.5 | X105: 0.2 | Y105: 0 | Z105: 0.75 | AA105: 1 | AB105: 1.25 | AC105: 1 | AD105: 0 | AE105: 0.25 | AF105: 0.5 | AG105: 0.5 | AH105: 0.5 | AI105: 1 | AJ105: 1.5 | AK105: 1.25 | AL105: 0 | AM105: 1 | AN105: 0 | AO105: 0 | AP105: 0.5
A106: 614 | B106: 14 | C106: C46 | D106: 105 | E106: =Tableau1[[#This Row],[PAP]] -> oui | F106: 1 | G106: 1 | H106: 0 | I106: 0 | J106: 0 | K106: 0 | L106: 0 | M106: 0 | N106: 0 | O106: 0 | P106: 1.75 | Q106: 1.75 | R106: 1 | S106: 2 | T106: 0.2 | U106: 1 | V106: 0 | W106: 3 | X106: 0.2 | Y106: 2 | Z106: 1.75 | AA106: 0.5 | AB106: 0 | AC106: 0 | AD106: 0 | AE106: 0 | AF106: 0 | AG106: 0 | AH106: 1 | AI106: 1 | AJ106: 1 | AK106: 1 | AL106: 0.5 | AM106: 0.5 | AN106: 0 | AO106: 0 | AP106: 1
A107: 614 | B107: 15 | C107: C47 | D107: 106 | E107: =Tableau1[[#This Row],[PAP]] -> oui | F107: 0.2 | G107: 0 | H107: 0.3 | I107: 0.5 | J107: 0 | K107: 0 | L107: 0 | M107: 0 | N107: 0 | O107: 0 | P107: 1 | Q107: 1 | R107: 1 | S107: 0 | T107: 0 | U107: 1 | V107: 1.75 | W107: 0.2 | X107: 0 | Y107: 0 | Z107: 0.25 | AA107: 1 | AB107: 0 | AC107: 0 | AD107: 0.5 | AE107: 0 | AF107: 0.25 | AG107: 0.5 | AH107: 1 | AI107: 1 | AJ107: 1.5 | AK107: 1.5 | AL107: 0 | AM107: 0 | AN107: 0 | AO107: 0 | AP107: 0
A108: 614 | B108: 16 | C108: C48 | D108: 107 | E108: =Tableau1[[#This Row],[PAP]] -> non | F108: 0 | G108: 0 | H108: 0.3 | I108: 0.5 | J108: 0.5 | K108: 1 | L108: 1 | M108: 0 | N108: 0.3 | O108: 0.2 | P108: 1.5 | Q108: 1 | R108: 1 | S108: 2 | T108: 0 | U108: 1 | V108: 1.75 | W108: 0.75 | X108: 1.75 | Y108: 0.2 | Z108: 1.5 | AA108: 0.75 | AB108: 0.5 | AC108: 1 | AD108: 0.25 | AE108: 0 | AF108: 0.75 | AG108: 0.5 | AH108: 1 | AI108: 1 | AJ108: 1.5 | AK108: 1.25 | AL108: 0.5 | AM108: 0.25 | AN108: 0.5 | AO108: 0 | AP108: 0.25
A109: 614 | B109: 17 | C109: C49 | D109: 108 | E109: =Tableau1[[#This Row],[PAP]] -> non | F109: 1 | G109: 0.2 | H109: 0.3 | I109: 0.5 | J109: 0 | K109: 0 | L109: 0 | M109: 0 | N109: 0 | O109: 0 | P109: 1.5 | Q109: 2 | R109: 1 | S109: 2 | T109: 0.2 | U109: 0.5 | V109: 0 | W109: 3 | X109: 2 | Y109: 2 | Z109: 1.75 | AA109: 1 | AB109: 0.75 | AC109: 0.25 | AD109: 0.5 | AE109: 0 | AF109: 0.5 | AG109: 0.5 | AH109: 0.5 | AI109: 1 | AJ109: 1 | AK109: 0 | AL109: 0.5 | AM109: 0.5 | AN109: 0.5 | AO109: 0.75 | AP109: 1
A110: 614 | B110: 18 | C110: C50 | D110: 109 | E110: =Tableau1[[#This Row],[PAP]] -> non | F110: 1.75 | G110: 1 | H110: 0.5 | I110: 1 | J110: 1 | K110: 0.5 | L110: 1 | M110: 0.5 | N110: 0 | O110: 0 | P110: 2 | Q110: 1.75 | R110: 1 | S110: 1.75 | T110: 0.2 | U110: 1 | V110: 2 | W110: 2.5 | X110: 2 | Y110: 2 | Z110: 0.25 | AA110: 0.75 | AB110: 0.75 | AC110: 0.75 | AD110: 0.25 | AE110: 0 | AF110: 0.75 | AG110: 0.5 | AH110: 1 | AI110: 0.75 | AJ110: 1.25 | AK110: 1.25 | AL110: 1 | AM110: 1 | AN110: 1 | AO110: 0.5 | AP110: 1
A111: 614 | B111: 19 | C111: C51 | D111: 110 | E111: =Tableau1[[#This Row],[PAP]] -> non | F111: 0.2 | G111: 0.2 | H111: 0.3 | I111: 0.2 | J111: 0 | K111: 0 | L111: 0 | M111: 0 | N111: 0 | O111: 0 | P111: 1 | Q111: 0.2 | R111: 0 | S111: 0.2 | T111: 0.2 | U111: 1 | V111: 0.2 | W111: 1.5 | X111: 1 | Y111: 0.2 | Z111: 0 | AA111: 0.75 | AB111: 1.5 | AC111: 0.25 | AD111: 0.25 | AE111: 0 | AF111: 0.75 | AG111: 0.5 | AH111: 0.5 | AI111: 1 | AJ111: 1.5 | AK111: 1.25 | AL111: 0 | AM111: 0.75 | AN111: 0 | AO111: 0 | AP111: 0.25
... A117: 614 | B117: 25 | C117: C57 | D117: 116 | E117: =Tableau1[[#This Row],[PAP]] -> non | F117: 1.5 | G117: 0.2 | H117: 0.5 | I117: 1 | J117: 0.2 | K117: 0.2 | L117: 1 | M117: 0.5 | N117: 0.5 | O117: 0 | P117: 1.75 | Q117: 2 | R117: 2 | S117: 1.75 | T117: 2 | U117: 1 | V117: 1.5 | W117: 0.2 | X117: 1.5 | Y117: 1 | Z117: 0.5 | AA117: 1 | AB117: 1.25 | AC117: 0 | AD117: 0.75 | AE117: 0 | AF117: 0.75 | AG117: 0.5 | AH117: 0.5 | AI117: 1 | AJ117: 1.5 | AK117: 1.25 | AL117: 0 | AM117: 0.75 | AN117: 0.25 | AO117: 0 | AP117: 1
A118: 614 | B118: 26 | C118: C58 | D118: 117 | E118: =Tableau1[[#This Row],[PAP]] -> oui | F118: 1 | G118: 1 | H118: 0.5 | I118: 0.2 | J118: 0.2 | K118: 0 | L118: 1 | M118: 0.3 | N118: 0 | O118: 0 | P118: 1.5 | Q118: 0 | R118: 0.2 | S118: 0 | T118: 0.2 | U118: 0 | V118: 0 | W118: 0.2 | X118: 0 | Y118: 0
A119: 614 | B119: 27 | C119: C59 | D119: 118 | E119: =Tableau1[[#This Row],[PAP]] -> oui | F119: 2 | G119: 1 | H119: 0.5 | I119: 0 | J119: 1 | K119: 0 | L119: 0.5 | M119: 0 | N119: 0.2 | O119: 0 | P119: 1 | Q119: 0 | R119: 0 | S119: 0 | T119: 0 | U119: 1 | V119: 1 | W119: 2 | X119: 1.5 | Y119: 2 | Z119: 0.75 | AA119: 1 | AB119: 0 | AC119: 0.25 | AD119: 0.5 | AE119: 0.25 | AF119: 0.75 | AG119: 0.5 | AH119: 0.25 | AI119: 0.75 | AJ119: 1.5 | AK119: 0.75 | AL119: 0.5 | AM119: 1 | AN119: 0 | AO119: 0 | AP119: 0.5
A120: 614 | B120: 28 | C120: C60 | D120: 119 | E120: =Tableau1[[#This Row],[PAP]] -> oui | F120: 2 | G120: 1 | H120: 0.5 | I120: 0.5 | J120: 0 | K120: 0 | L120: 0 | M120: 0 | N120: 0 | O120: 0 | P120: 1 | Q120: 1 | R120: 1.75 | S120: 0 | T120: 1.75 | U120: 1 | V120: 1.75 | W120: 2 | X120: 1 | Y120: 0.2 | Z120: 0.75 | AA120: 1 | AB120: 1.5 | AC120: 1 | AD120: 0.25 | AE120: 1 | AF120: 0.75 | AG120: 0.5 | AH120: 0.25 | AI120: 1 | AJ120: 1.5 | AK120: 1.5 | AL120: 0 | AM120: 1 | AN120: 1 | AO120: 1 | AP120: 0.25
A121: 615 | B121: 1 | C121: D1 | D121: 120 | E121: =Tableau1[[#This Row],[PAP]] -> non | F121: 0.2 | G121: 0.2 | H121: 0.2 | I121: 0.5 | J121: 0.5 | K121: 0.5 | L121: 0.5 | M121: 0.5 | N121: 0.5 | O121: 0.5 | P121: 1 | Q121: 1.75 | R121: 0.2 | S121: 0.2 | T121: 0.2 | U121: 1 | V121: 0.2 | W121: 0.2 | X121: 2 | Y121: 2 | Z121: 2 | AA121: 1 | AB121: 2 | AC121: 1 | AD121: 1 | AE121: 0.75 | AF121: 0.5 | AG121: 1 | AH121: 1 | AI121: 1 | AJ121: 1.5 | AK121: 1.5 | AL121: 0 | AM121: 0.5 | AN121: 0 | AO121: 0.5 | AP121: 0.5
A122: 615 | B122: 2 | C122: D2 | D122: 121 | E122: =Tableau1[[#This Row],[PAP]] -> oui | F122: 0.2 | G122: 0.2 | H122: 0.5 | I122: 0.5 | J122: 0 | K122: 0.5 | L122: 1 | M122: 0.4 | N122: 0.2 | O122: 0.4 | P122: 1.5 | Q122: 1 | R122: 0.2 | S122: 0 | T122: 0.2 | U122: 1 | V122: 2 | W122: 0.2 | X122: 0.2 | Y122: 0.2 | Z122: 1.25 | AA122: 1 | AB122: 1 | AC122: 0 | AD122: 1 | AE122: 0 | AF122: 0.25 | AG122: 0 | AH122: 0 | AI122: 1 | AJ122: 1.5 | AK122: 1 | AL122: 0 | AM122: 0.75 | AN122: 0 | AO122: 0 | AP122: 1
A123: 615 | B123: 3 | C123: D3 | D123: 122 | E123: =Tableau1[[#This Row],[PAP]] -> non | F123: 0.2 | G123: 0 | H123: 0.2 | I123: 0.5 | J123: 0 | K123: 0 | L123: 0.5 | M123: 0.2 | N123: 0 | O123: 0 | P123: 1 | Q123: 0.2 | R123: 0.2 | S123: 0 | T123: 0 | U123: 1 | V123: 0 | W123: 0.2 | X123: 0.2 | Y123: 2 | Z123: 0.5 | AA123: 1 | AB123: 0 | AC123: 0 | AD123: 0 | AE123: 0 | AF123: 0.75 | AG123: 0 | AH123: 1 | AI123: 1 | AJ123: 1 | AK123: 0 | AL123: 0 | AM123: 1 | AN123: 0 | AO123: 0 | AP123: 1
A124: 615 | B124: 4 | C124: D4 | D124: 123 | E124: =Tableau1[[#This Row],[PAP]] -> non | F124: 0.2 | G124: 0.2 | H124: 0.2 | I124: 1 | J124: 0 | K124: 0.2 | L124: 0 | M124: 0.2 | N124: 0.4 | O124: 0.5 | P124: 1 | Q124: 1.75 | R124: 0.2 | S124: 1 | T124: 0.2 | U124: 1 | V124: 0 | W124: 2.75 | X124: 2 | Y124: 2 | Z124: 0.5 | AA124: 1 | AB124: 2 | AC124: 0 | AD124: 1 | AE124: 0 | AF124: 0 | AG124: 0 | AH124: 1 | AI124: 1 | AJ124: 1.5 | AK124: 1.5 | AL124: 0 | AM124: 1 | AN124: 0 | AO124: 0.5 | AP124: 1
A125: 615 | B125: 5 | C125: D5 | D125: 124 | E125: =Tableau1[[#This Row],[PAP]] -> non | F125: 0.2 | G125: 0.2 | H125: 0.2 | I125: 0.2 | J125: 0.2 | K125: 0.2 | L125: 0.5 | M125: 0.2 | N125: 0.2 | O125: 0 | P125: 1 | Q125: 0.2 | R125: 1 | S125: 2 | T125: 0.2 | U125: 0.2 | V125: 2 | W125: 1 | X125: 0.2 | Y125: 0.2 | Z125: 0.5 | AA125: 1 | AB125: 2 | AC125: 0 | AD125: 1 | AE125: 1 | AF125: 0 | AG125: 1 | AH125: 0 | AI125: 0.5 | AJ125: 1.5 | AK125: 0.5 | AL125: 0 | AM125: 0 | AN125: 1 | AO125: 1 | AP125: 1
A126: 615 | B126: 6 | C126: D6 | D126: 125 | E126: =Tableau1[[#This Row],[PAP]] -> non | F126: 0.2 | G126: 1 | H126: 0.2 | I126: 0.2 | J126: 1 | K126: 1 | L126: 1 | M126: 0.2 | N126: 0.5 | O126: 0.2 | P126: 0.2 | Q126: 0.2 | R126: 1 | S126: 2 | T126: 0.2 | U126: 1 | V126: 1.75 | W126: 1 | X126: 0.2 | Y126: 2 | Z126: 1 | AA126: 1 | AB126: 0 | AC126: 1 | AD126: 0 | AE126: 0 | AF126: 0.75 | AG126: 0.5 | AH126: 0.25 | AI126: 1 | AJ126: 1.25 | AK126: 0 | AL126: 0 | AM126: 0 | AN126: 0 | AO126: 0.75 | AP126: 1
A127: 615 | B127: 7 | C127: D7 | D127: 126 | E127: =Tableau1[[#This Row],[PAP]] -> non | F127: 0.2 | G127: 0.2 | H127: 0.5 | I127: 0.5 | J127: 0.2 | K127: 0.2 | L127: 0.2 | M127: 0.2 | N127: 0.5 | O127: 0.5 | P127: 1.75 | Q127: 2 | R127: 2 | S127: 1 | T127: 0.2 | U127: 0.2 | V127: 1 | W127: 0.2 | X127: 2 | Y127: 2 | Z127: 0.5 | AA127: 1 | AB127: 0.5 | AC127: 0 | AD127: 0 | AE127: 0 | AF127: 0.75 | AG127: 1 | AH127: 1 | AI127: 1 | AJ127: 1.5 | AK127: 1.5 | AL127: 0 | AM127: 0.25 | AN127: 0 | AO127: 0.5 | AP127: 0.75
A128: 615 | B128: 8 | C128: D8 | D128: 127 | E128: =Tableau1[[#This Row],[PAP]] -> non | F128: 0.2 | G128: 0.2 | H128: 0.2 | I128: 1 | J128: 1 | K128: 1 | L128: 1 | M128: 0 | N128: 0 | O128: 0 | P128: 0.2 | Q128: 0.2 | R128: 1 | S128: 1.75 | T128: 0.2 | U128: 1 | V128: 0.2 | W128: 0.2 | X128: 0.2 | Y128: 0.2 | Z128: 0.5 | AA128: 1 | AB128: 0 | AC128: 1 | AD128: 1 | AE128: 0.5 | AF128: 0.5 | AG128: 0 | AH128: 1 | AI128: 1 | AJ128: 1 | AK128: 0 | AL128: 0 | AM128: 1 | AN128: 0 | AO128: 0 | AP128: 1
A129: 615 | B129: 9 | C129: D9 | D129: 128 | E129: =Tableau1[[#This Row],[PAP]] -> oui | F129: 0.2 | G129: 1.5 | H129: 0.5 | I129: 0.2 | J129: 0.2 | K129: 0.2 | L129: 0.2 | M129: 0.2 | N129: 0.5 | O129: 0 | P129: 1.75 | Q129: 1.5 | R129: 2 | S129: 2 | T129: 2 | U129: 1 | V129: 2 | W129: 0.2 | X129: 0 | Y129: 2 | Z129: 0.5 | AA129: 1 | AB129: 2 | AC129: 0.75 | AD129: 1 | AE129: 0 | AF129: 0.75 | AG129: 1 | AH129: 1 | AI129: 1 | AJ129: 1.5 | AK129: 1.5 | AL129: 0 | AM129: 1 | AN129: 0 | AO129: 0 | AP129: 0.75
A130: 615 | B130: 10 | C130: D10 | D130: 129 | E130: =Tableau1[[#This Row],[PAP]] -> oui | F130: 0.2 | G130: 1 | H130: 0.5 | I130: 0.5 | J130: 0.2 | K130: 0.2 | L130: 0.2 | M130: 0.5 | N130: 0.2 | O130: 0.2 | P130: 1 | Q130: 1.75 | R130: 0.2 | S130: 0.2 | T130: 0 | U130: 0.2 | V130: 0 | W130: 2.75 | X130: 2 | Y130: 0.2 | Z130: 0 | AA130: 1 | AB130: 1.5 | AC130: 0 | AD130: 1 | AE130: 0 | AF130: 0.5 | AG130: 1 | AH130: 1 | AI130: 0.75 | AJ130: 1.5 | AK130: 1 | AL130: 0 | AM130: 0 | AN130: 0 | AO130: 0 | AP130: 0.25
... A134: 615 | B134: 14 | C134: D14 | D134: 133 | E134: =Tableau1[[#This Row],[PAP]] -> non | F134: 0.2 | G134: 0.2 | H134: 0.5 | I134: 0.2 | J134: 0.2 | K134: 0.2 | L134: 1 | M134: 0.5 | N134: 0.5 | O134: 0 | P134: 2 | Q134: 1.75 | R134: 1 | S134: 1 | T134: 2 | U134: 1 | V134: 1.75 | W134: 2.75 | X134: 0.2 | Y134: 0 | Z134: 0.5 | AA134: 1 | AB134: 2 | AC134: 0 | AD134: 0 | AE134: 0 | AF134: 0.5 | AG134: 1 | AH134: 1 | AI134: 0 | AJ134: 1.5 | AK134: 1 | AL134: 0 | AM134: 0.5 | AN134: 0 | AO134: 0 | AP134: 0.25
A135: 615 | B135: 15 | C135: D15 | D135: 134 | E135: =Tableau1[[#This Row],[PAP]] -> non | F135: 3.3 | P135: 4.2 | U135: 4.5 | Z135: 0.5 | AA135: 1 | AB135: 1 | AC135: 0 | AD135: 0 | AE135: 1 | AF135: 0.75 | AG135: 0 | AH135: 1 | AI135: 0 | AJ135: 1.5 | AK135: 0 | AL135: 0 | AM135: 1 | AN135: 0 | AO135: 0 | AP135: 1
A136: 615 | B136: 16 | C136: D16 | D136: 135 | E136: =Tableau1[[#This Row],[PAP]] -> non | F136: 0.2 | G136: 0.2 | H136: 0.5 | I136: 0.2 | J136: 0.2 | K136: 0.2 | L136: 0.2 | M136: 0.2 | N136: 0.2 | O136: 0.2 | P136: 1 | Q136: 0.2 | R136: 0.2 | S136: 0.2 | T136: 0.2 | U136: 1 | V136: 0.2 | W136: 0.2 | X136: 0.2 | Y136: 0.2 | Z136: 0.5 | AA136: 1 | AB136: 2 | AC136: 0 | AD136: 0 | AE136: 0 | AF136: 0.5 | AG136: 1 | AH136: 0.5 | AI136: 1 | AJ136: 0 | AK136: 0 | AL136: 0 | AM136: 1 | AN136: 0.5 | AO136: 0 | AP136: 1
A137: 615 | B137: 17 | C137: D17 | D137: 136 | E137: =Tableau1[[#This Row],[PAP]] -> non | F137: 0 | G137: 0 | H137: 0.2 | I137: 1 | J137: 0.2 | K137: 0 | L137: 1 | M137: 0.4 | N137: 0 | O137: 0 | P137: 1 | Q137: 0.2 | R137: 1 | S137: 0 | T137: 0 | U137: 1 | V137: 0 | W137: 0 | X137: 0 | Y137: 0 | Z137: 0.5 | AA137: 1 | AB137: 2 | AC137: 0 | AD137: 0 | AE137: 0 | AF137: 0.25 | AG137: 0 | AH137: 0 | AI137: 1 | AJ137: 1.5 | AK137: 0 | AL137: 0 | AM137: 0 | AN137: 0.5 | AO137: 0 | AP137: 1
A138: 615 | B138: 18 | C138: D18 | D138: 137 | E138: =Tableau1[[#This Row],[PAP]] -> non | F138: 0.2 | G138: 0 | H138: 0.5 | I138: 0.2 | J138: 0.2 | K138: 0.2 | L138: 0.2 | M138: 0.2 | N138: 0.5 | O138: 0 | P138: 1 | Q138: 1.75 | R138: 0 | S138: 0.2 | T138: 0.2 | U138: 1 | V138: 1.75 | W138: 1 | X138: 0.2 | Y138: 2 | Z138: 0 | AA138: 1 | AB138: 2 | AC138: 0 | AD138: 0 | AE138: 0.25 | AF138: 0.5 | AG138: 1 | AH138: 1 | AI138: 1 | AJ138: 1.5 | AK138: 1.5 | AL138: 0 | AM138: 0.25 | AN138: 0 | AO138: 0 | AP138: 1
A139: 615 | B139: 19 | C139: D19 | D139: 138 | E139: =Tableau1[[#This Row],[PAP]] -> non | F139: 0.2 | G139: 0.2 | H139: 0.5 | I139: 1 | J139: 1 | K139: 1 | L139: 1 | M139: 0.5 | N139: 0 | O139: 0 | P139: 1.75 | Q139: 1.75 | R139: 2 | S139: 0 | T139: 2 | U139: 1 | V139: 1.5 | W139: 3 | X139: 2 | Y139: 2 | Z139: 0.5 | AA139: 1 | AB139: 2 | AC139: 0.5 | AD139: 0 | AE139: 0 | AF139: 0.75 | AG139: 1 | AH139: 1 | AI139: 1 | AJ139: 1.25 | AK139: 1.5 | AL139: 0 | AM139: 1 | AN139: 0 | AO139: 0 | AP139: 1
A140: 615 | B140: 20 | C140: D20 | D140: 139 | E140: =Tableau1[[#This Row],[PAP]] -> non | F140: 0.2 | G140: 0 | H140: 0.2 | I140: 0.2 | J140: 0.2 | K140: 1 | L140: 1 | M140: 0.5 | N140: 0.5 | O140: 0 | P140: 1 | Q140: 1.75 | R140: 1 | S140: 0.2 | T140: 0.2 | U140: 1 | V140: 0.2 | W140: 2 | X140: 0 | Y140: 0 | Z140: 1.5 | AA140: 1 | AB140: 2 | AC140: 0.5 | AD140: 0 | AE140: 0 | AF140: 0.25 | AG140: 0 | AH140: 1 | AI140: 1 | AJ140: 1.5 | AK140: 1 | AL140: 0 | AM140: 0.25 | AN140: 1 | AO140: 0 | AP140: 0.5
C145: Barême | F145: 2 | G145: 2 | H145: 0.5 | I145: 1 | J145: 1 | K145: 1 | L145: 1 | M145: 0.5 | N145: 0.5 | O145: 0.5 | P145: 2 | Q145: 2 | R145: 2 | S145: 2 | T145: 2 | U145: 1 | V145: 2 | W145: 3 | X145: 2 | Y145: 2

Sheet PAP
A1: PAP | B1: oui
A3: Étiquettes de lignes | B3: Nombre de PAP
A4: 611 | B4: 8
A5: 612 | B5: 6
A6: 613 | B6: 11
A7: 614 | B7: 8
A8: 615 | B8: 3
A9: Total général | B9: 36

Sheet Synth GAUSS
A1: DC1 F | B1: DC2 F | C1: DC3 F | D1: DC4 F | G1: DEVOIR 1 | J1: DEVOIR 2
A2: ='Notes DC'!J15 -> 2 | B2: ='Notes DC'!O15 -> 0 | C2: ='Notes DC'!M15 -> 0 | D2: ='Notes DC'!N15 -> 0 | F2: Moyenne | G2: =GETPIVOTDATA("Moyenne de DC1",Dyn!$A$16) -> 9.5539568 | J2: =GETPIVOTDATA("Moyenne de DC2",Dyn!$A$16) -> 8.0935252
A3: ='Notes DC'!J31 -> 2 | B3: ='Notes DC'!O31 -> 5 | C3: ='Notes DC'!M31 -> 1.75 | D3: ='Notes DC'!N31 -> 1 | F3: EC | G3: =GETPIVOTDATA("Écartype de DC1",Dyn!$A$16) -> 3.8975516 | J3: =GETPIVOTDATA("Écartype de DC2",Dyn!$A$16) -> 5.071792
A4: ='Notes DC'!J85 -> 2 | B4: ='Notes DC'!O85 -> 6 | C4: ='Notes DC'!M85 -> 2.5 | D4: ='Notes DC'!N85 -> 0 | F4: Notes | G4: Fréq DC1 | H4: Distrib DC1 | J4: Fréq DC2 | K4: Distrib DC2 P
A5: ='Notes DC'!J42 -> 3 | B5: ='Notes DC'!O42 -> 11 | C5: ='Notes DC'!M42 -> 3.75 | D5: ='Notes DC'!N42 -> 1.5 | F5: 0 | G5: {=FREQUENCY(Tableau3[DC1 F],F5:F25)} -> 0 | H5: =NORMDIST(F5,$G$2,$G$3,FALSE) -> 0.0050738624 | J5: {=FREQUENCY(Tableau3[DC2 F],F5:F25)} -> 34 | K5: =NORMDIST(F5,$G$2,$G$3,FALSE) -> 0.0050738624
A6: ='Notes DC'!J45 -> 3 | B6: ='Notes DC'!L45 -> 1.75 | C6: ='Notes DC'!M45 -> 3.75 | D6: ='Notes DC'!N45 -> 1.75 | F6: 1 | G6: 0 | H6: =NORMDIST(F6,$G$2,$G$3,FALSE) -> 0.0092083797 | J6: 13 | K6: =NORMDIST(F6,$G$2,$G$3,FALSE) -> 0.0092083797
A7: ='Notes DC'!J46 -> 3 | B7: ='Notes DC'!L46 -> 1 | C7: ='Notes DC'!M46 -> 3.5 | D7: ='Notes DC'!N46 -> 1.25 | F7: 2 | G7: 3 | H7: =NORMDIST(F7,$G$2,$G$3,FALSE) -> 0.015647272 | J7: 37 | K7: =NORMDIST(F7,$G$2,$G$3,FALSE) -> 0.015647272
A8: ='Notes DC'!J2 -> 4 | B8: ='Notes DC'!L2 -> 0 | C8: ='Notes DC'!M2 -> 0 | D8: ='Notes DC'!N2 -> 0 | F8: 3 | G8: 3 | H8: =NORMDIST(F8,$G$2,$G$3,FALSE) -> 0.024894589 | J8: 37 | K8: =NORMDIST(F8,$G$2,$G$3,FALSE) -> 0.024894589
A9: ='Notes DC'!J18 -> 4 | B9: ='Notes DC'!L18 -> 0 | C9: ='Notes DC'!M18 -> 0 | D9: ='Notes DC'!N18 -> 0 | F9: 4 | G9: 11 | H9: =NORMDIST(F9,$G$2,$G$3,FALSE) -> 0.037083625 | J9: 13 | K9: =NORMDIST(F9,$G$2,$G$3,FALSE) -> 0.037083625
A10: ='Notes DC'!J23 -> 4 | B10: ='Notes DC'!L23 -> 0 | C10: ='Notes DC'!M23 -> 0 | D10: ='Notes DC'!N23 -> 0 | F10: 5 | G10: 9 | H10: =NORMDIST(F10,$G$2,$G$3,FALSE) -> 0.051721401 | J10: 3 | K10: =NORMDIST(F10,$G$2,$G$3,FALSE) -> 0.051721401
A11: ='Notes DC'!J34 -> 4 | B11: ='Notes DC'!L34 -> 1.75 | C11: ='Notes DC'!M34 -> 2.25 | D11: ='Notes DC'!N34 -> 0.25 | F11: 6 | G11: 6 | H11: =NORMDIST(F11,$G$2,$G$3,FALSE) -> 0.06754128 | J11: 1 | K11: =NORMDIST(F11,$G$2,$G$3,FALSE) -> 0.06754128
A12: ='Notes DC'!J38 -> 4 | B12: ='Notes DC'!L38 -> 1.75 | C12: ='Notes DC'!M38 -> 3 | D12: ='Notes DC'!N38 -> 1.25 | F12: 7 | G12: 11 | H12: =NORMDIST(F12,$G$2,$G$3,FALSE) -> 0.082580818 | J12: 0 | K12: =NORMDIST(F12,$G$2,$G$3,FALSE) -> 0.082580818
A13: ='Notes DC'!J41 -> 4 | B13: ='Notes DC'!L41 -> 1.25 | C13: ='Notes DC'!M41 -> 3 | D13: ='Notes DC'!N41 -> 1.75 | F13: 8 | G13: 14 | H13: =NORMDIST(F13,$G$2,$G$3,FALSE) -> 0.094536598 | J13: 0 | K13: =NORMDIST(F13,$G$2,$G$3,FALSE) -> 0.094536598
A14: ='Notes DC'!J43 -> 4 | B14: ='Notes DC'!L43 -> 2 | C14: ='Notes DC'!M43 -> 1.75 | D14: ='Notes DC'!N43 -> 2 | F14: 9 | G14: 14 | H14: =NORMDIST(F14,$G$2,$G$3,FALSE) -> 0.10132851 | J14: 0 | K14: =NORMDIST(F14,$G$2,$G$3,FALSE) -> 0.10132851
A15: ='Notes DC'!J54 -> 4 | B15: ='Notes DC'!L54 -> 3.25 | C15: ='Notes DC'!M54 -> 4.5 | D15: ='Notes DC'!N54 -> 1 | F15: 10 | G15: 12 | H15: =NORMDIST(F15,$G$2,$G$3,FALSE) -> 0.10168906 | J15: 0 | K15: =NORMDIST(F15,$G$2,$G$3,FALSE) -> 0.10168906
A16: ='Notes DC'!J112 -> 4 | B16: ='Notes DC'!L112 -> 1.75 | C16: ='Notes DC'!M112 -> 2 | D16: ='Notes DC'!N112 -> 0.5 | F16: 11 | G16: 12 | H16: =NORMDIST(F16,$G$2,$G$3,FALSE) -> 0.095549343 | J16: 1 | K16: =NORMDIST(F16,$G$2,$G$3,FALSE) -> 0.095549343
A17: ='Notes DC'!J136 -> 4 | B17: ='Notes DC'!L136 -> 1.5 | C17: ='Notes DC'!M136 -> 1.5 | D17: ='Notes DC'!N136 -> 2.5 | F17: 12 | G17: 7 | H17: =NORMDIST(F17,$G$2,$G$3,FALSE) -> 0.084060519 | J17: 0 | K17: =NORMDIST(F17,$G$2,$G$3,FALSE) -> 0.084060519
A18: ='Notes DC'!J137 -> 4 | B18: ='Notes DC'!L137 -> 0.25 | C18: ='Notes DC'!M137 -> 2.5 | D18: ='Notes DC'!N137 -> 1.5 | F18: 13 | G18: 15 | H18: =NORMDIST(F18,$G$2,$G$3,FALSE) -> 0.069241637 | J18: 0 | K18: =NORMDIST(F18,$G$2,$G$3,FALSE) -> 0.069241637
A19: ='Notes DC'!J4 -> 5 | B19: ='Notes DC'!L4 -> 0 | C19: ='Notes DC'!M4 -> 0 | D19: ='Notes DC'!N4 -> 0 | F19: 14 | G19: 7 | H19: =NORMDIST(F19,$G$2,$G$3,FALSE) -> 0.053401503 | J19: 0 | K19: =NORMDIST(F19,$G$2,$G$3,FALSE) -> 0.053401503
A20: ='Notes DC'!J5 -> 5 | B20: ='Notes DC'!L5 -> 0 | C20: ='Notes DC'!M5 -> 0 | D20: ='Notes DC'!N5 -> 0 | F20: 15 | G20: 6 | H20: =NORMDIST(F20,$G$2,$G$3,FALSE) -> 0.038561199 | J20: 0 | K20: =NORMDIST(F20,$G$2,$G$3,FALSE) -> 0.038561199
A21: ='Notes DC'!J50 -> 5 | B21: ='Notes DC'!L50 -> 2.25 | C21: ='Notes DC'!M50 -> 2.75 | D21: ='Notes DC'!N50 -> 1.5 | F21: 16 | G21: 2 | H21: =NORMDIST(F21,$G$2,$G$3,FALSE) -> 0.026071047 | J21: 0 | K21: =NORMDIST(F21,$G$2,$G$3,FALSE) -> 0.026071047
A22: ='Notes DC'!J51 -> 5 | B22: ='Notes DC'!L51 -> 2.25 | C22: ='Notes DC'!M51 -> 3.75 | D22: ='Notes DC'!N51 -> 1.5 | F22: 17 | G22: 5 | H22: =NORMDIST(F22,$G$2,$G$3,FALSE) -> 0.016503548 | J22: 0 | K22: =NORMDIST(F22,$G$2,$G$3,FALSE) -> 0.016503548
A23: ='Notes DC'!J58 -> 5 | B23: ='Notes DC'!L58 -> 0 | C23: ='Notes DC'!M58 -> 0 | D23: ='Notes DC'!N58 -> 0 | F23: 18 | G23: 1 | H23: =NORMDIST(F23,$G$2,$G$3,FALSE) -> 0.0097815356 | J23: 0 | K23: =NORMDIST(F23,$G$2,$G$3,FALSE) -> 0.0097815356
A24: ='Notes DC'!J60 -> 5 | B24: ='Notes DC'!L60 -> 1.75 | C24: ='Notes DC'!M60 -> 4 | D24: ='Notes DC'!N60 -> 1.5 | F24: 19 | G24: 1 | H24: =NORMDIST(F24,$G$2,$G$3,FALSE) -> 0.0054280978 | J24: 0 | K24: =NORMDIST(F24,$G$2,$G$3,FALSE) -> 0.0054280978
A25: ='Notes DC'!J111 -> 5 | B25: ='Notes DC'!L111 -> 1.75 | C25: ='Notes DC'!M111 -> 4.25 | D25: ='Notes DC'!N111 -> 1 | F25: 20 | G25: 0 | H25: =NORMDIST(F25,$G$2,$G$3,FALSE) -> 0.0028203252 | J25: 0 | K25: =NORMDIST(F25,$G$2,$G$3,FALSE) -> 0.0028203252
A26: ='Notes DC'!J118 -> 5 | B26: ='Notes DC'!L118 -> 0 | C26: ='Notes DC'!M118 -> 0 | D26: ='Notes DC'!N118 -> 0 | G26: 0 | J26: 0
A27: ='Notes DC'!J123 -> 5 | B27: ='Notes DC'!L123 -> 0.75 | C27: ='Notes DC'!M123 -> 3 | D27: ='Notes DC'!N123 -> 2
A28: ='Notes DC'!J7 -> 6 | B28: ='Notes DC'!L7 -> 0 | C28: ='Notes DC'!M7 -> 0 | D28: ='Notes DC'!N7 -> 0
A29: ='Notes DC'!J62 -> 6 | B29: ='Notes DC'!L62 -> 1.2 | C29: ='Notes DC'!M62 -> 1 | D29: ='Notes DC'!N62 -> 1
A30: ='Notes DC'!J77 -> 6 | B30: ='Notes DC'!L77 -> 2.2 | C30: ='Notes DC'!M77 -> 2.8 | D30: ='Notes DC'!N77 -> 1.2
A31: ='Notes DC'!J83 -> 6 | B31: ='Notes DC'!L83 -> 0.8 | C31: ='Notes DC'!M83 -> 2.5 | D31: ='Notes DC'!N83 -> 2.2
A32: ='Notes DC'!J107 -> 6 | B32: ='Notes DC'!L107 -> 1.25 | C32: ='Notes DC'!M107 -> 5 | D32: ='Notes DC'!N107 -> 0 | G32: DEVOIR 3 | J32: DEVOIR 4
A33: ='Notes DC'!J132 -> 6 | B33: ='Notes DC'!L132 -> 2 | C33: ='Notes DC'!M132 -> 2.75 | D33: ='Notes DC'!N132 -> 2.75 | F33: Moyenne | G33: =AVERAGE(#REF!) -> #REF! | J33: =AVERAGE(#REF!) -> #REF!
A34: ='Notes DC'!J35 -> 7 | B34: ='Notes DC'!L35 -> 0 | C34: ='Notes DC'!M35 -> 0 | D34: ='Notes DC'!N35 -> 0 | F34: EC | G34: =STDEV(#REF!) -> #REF! | J34: =STDEV(#REF!) -> #REF!
A35: ='Notes DC'!J37 -> 7 | B35: ='Notes DC'!L37 -> 3 | C35: ='Notes DC'!M37 -> 2.25 | D35: ='Notes DC'!N37 -> 3.5 | F35: Notes | G35: Fréq DC1 = | H35: Distrib DC1 = | J35: Fréq DC2 = | K35: Distrib DC2 P =
A36: ='Notes DC'!J55 -> 7 | B36: ='Notes DC'!L55 -> 3.75 | C36: ='Notes DC'!M55 -> 4 | D36: ='Notes DC'!N55 -> 3 | F36: 0 | G36: {=FREQUENCY(#REF!,F36:F56)} -> #REF! | H36: =NORMDIST(F36,$G$33,$G$34,FALSE) -> #REF! | J36: {=FREQUENCY(#REF!,F36:F56)} -> #REF! | K36: =NORMDIST(F36,$G$33,$G$34,FALSE) -> #REF!
A37: ='Notes DC'!J59 -> 7 | B37: ='Notes DC'!L59 -> 3 | C37: ='Notes DC'!M59 -> 0.5 | D37: ='Notes DC'!N59 -> 2 | F37: 1 | H37: =NORMDIST(F37,$G$33,$G$34,FALSE) -> #REF! | K37: =NORMDIST(F37,$G$33,$G$34,FALSE) -> #REF!
A38: ='Notes DC'!J67 -> 7 | B38: ='Notes DC'!L67 -> 0 | C38: ='Notes DC'!M67 -> 0 | D38: ='Notes DC'!N67 -> 2.7 | F38: 2 | H38: =NORMDIST(F38,$G$33,$G$34,FALSE) -> #REF! | K38: =NORMDIST(F38,$G$33,$G$34,FALSE) -> #REF!
A39: ='Notes DC'!J70 -> 7 | B39: ='Notes DC'!L70 -> 1 | C39: ='Notes DC'!M70 -> 0.6 | D39: ='Notes DC'!N70 -> 2 | F39: 3 | H39: =NORMDIST(F39,$G$33,$G$34,FALSE) -> #REF! | K39: =NORMDIST(F39,$G$33,$G$34,FALSE) -> #REF!
A40: ='Notes DC'!J84 -> 7 | B40: ='Notes DC'!L84 -> 1.6 | C40: ='Notes DC'!M84 -> 1.9 | D40: ='Notes DC'!N84 -> 0.3 | F40: 4 | H40: =NORMDIST(F40,$G$33,$G$34,FALSE) -> #REF! | K40: =NORMDIST(F40,$G$33,$G$34,FALSE) -> #REF!
A41: ='Notes DC'!J101 -> 7 | B41: ='Notes DC'!L101 -> 3 | C41: ='Notes DC'!M101 -> 4.25 | D41: ='Notes DC'!N101 -> 2.75 | F41: 5 | H41: =NORMDIST(F41,$G$33,$G$34,FALSE) -> #REF! | K41: =NORMDIST(F41,$G$33,$G$34,FALSE) -> #REF!
A42: ='Notes DC'!J102 -> 7 | B42: ='Notes DC'!L102 -> 3 | C42: ='Notes DC'!M102 -> 3.25 | D42: ='Notes DC'!N102 -> 2 | F42: 6 | H42: =NORMDIST(F42,$G$33,$G$34,FALSE) -> #REF! | K42: =NORMDIST(F42,$G$33,$G$34,FALSE) -> #REF!
A43: ='Notes DC'!J125 -> 7 | B43: ='Notes DC'!L125 -> 3 | C43: ='Notes DC'!M125 -> 2.5 | D43: ='Notes DC'!N125 -> 3 | F43: 7 | H43: =NORMDIST(F43,$G$33,$G$34,FALSE) -> #REF! | K43: =NORMDIST(F43,$G$33,$G$34,FALSE) -> #REF!
A44: ='Notes DC'!J128 -> 7 | B44: ='Notes DC'!L128 -> 3 | C44: ='Notes DC'!M128 -> 3 | D44: ='Notes DC'!N128 -> 2 | F44: 8 | H44: =NORMDIST(F44,$G$33,$G$34,FALSE) -> #REF! | K44: =NORMDIST(F44,$G$33,$G$34,FALSE) -> #REF!
A45: ='Notes DC'!J135 -> 8 | B45: ='Notes DC'!L135 -> 1.75 | C45: ='Notes DC'!M135 -> 2.5 | D45: ='Notes DC'!N135 -> 2 | F45: 9 | H45: =NORMDIST(F45,$G$33,$G$34,FALSE) -> #REF! | K45: =NORMDIST(F45,$G$33,$G$34,FALSE) -> #REF!
A46: ='Notes DC'!J39 -> 8 | B46: ='Notes DC'!L39 -> 3 | C46: ='Notes DC'!M39 -> 2.25 | D46: ='Notes DC'!N39 -> 1.25 | F46: 10 | H46: =NORMDIST(F46,$G$33,$G$34,FALSE) -> #REF! | K46: =NORMDIST(F46,$G$33,$G$34,FALSE) -> #REF!
A47: ='Notes DC'!J14 -> 8 | B47: ='Notes DC'!L14 -> 1.3 | C47: ='Notes DC'!M14 -> 3.4 | D47: ='Notes DC'!N14 -> 2.5 | F47: 11 | H47: =NORMDIST(F47,$G$33,$G$34,FALSE) -> #REF! | K47: =NORMDIST(F47,$G$33,$G$34,FALSE) -> #REF!
A48: ='Notes DC'!J17 -> 8 | B48: ='Notes DC'!L17 -> 0 | C48: ='Notes DC'!M17 -> 0 | D48: ='Notes DC'!N17 -> 0 | F48: 12 | H48: =NORMDIST(F48,$G$33,$G$34,FALSE) -> #REF! | K48: =NORMDIST(F48,$G$33,$G$34,FALSE) -> #REF!
A49: ='Notes DC'!J24 -> 8 | B49: ='Notes DC'!L24 -> 0 | C49: ='Notes DC'!M24 -> 0 | D49: ='Notes DC'!N24 -> 0 | F49: 13 | H49: =NORMDIST(F49,$G$33,$G$34,FALSE) -> #REF! | K49: =NORMDIST(F49,$G$33,$G$34,FALSE) -> #REF!
A50: ='Notes DC'!J28 -> 8 | B50: ='Notes DC'!L28 -> 0 | C50: ='Notes DC'!M28 -> 0 | D50: ='Notes DC'!N28 -> 0 | F50: 14 | H50: =NORMDIST(F50,$G$33,$G$34,FALSE) -> #REF! | K50: =NORMDIST(F50,$G$33,$G$34,FALSE) -> #REF!
A51: ='Notes DC'!J33 -> 8 | B51: ='Notes DC'!L33 -> 2.5 | C51: ='Notes DC'!M33 -> 4.25 | D51: ='Notes DC'!N33 -> 2.25 | F51: 15 | H51: =NORMDIST(F51,$G$33,$G$34,FALSE) -> #REF! | K51: =NORMDIST(F51,$G$33,$G$34,FALSE) -> #REF!
A52: ='Notes DC'!J47 -> 8 | B52: ='Notes DC'!L47 -> 0.5 | C52: ='Notes DC'!M47 -> 1.25 | D52: ='Notes DC'!N47 -> 1.75 | F52: 16 | H52: =NORMDIST(F52,$G$33,$G$34,FALSE) -> #REF! | K52: =NORMDIST(F52,$G$33,$G$34,FALSE) -> #REF!
A53: ='Notes DC'!J53 -> 8 | B53: ='Notes DC'!L53 -> 1.75 | C53: ='Notes DC'!M53 -> 3.5 | D53: ='Notes DC'!N53 -> 0.5 | F53: 17 | H53: =NORMDIST(F53,$G$33,$G$34,FALSE) -> #REF! | K53: =NORMDIST(F53,$G$33,$G$34,FALSE) -> #REF!
A54: ='Notes DC'!J94 -> 8 | B54: ='Notes DC'!L94 -> 2 | C54: ='Notes DC'!M94 -> 3.25 | D54: ='Notes DC'!N94 -> 3.25 | F54: 18 | H54: =NORMDIST(F54,$G$33,$G$34,FALSE) -> #REF! | K54: =NORMDIST(F54,$G$33,$G$34,FALSE) -> #REF!
A55: ='Notes DC'!J122 -> 8 | B55: ='Notes DC'!L122 -> 1.25 | C55: ='Notes DC'!M122 -> 3.5 | D55: ='Notes DC'!N122 -> 1.75 | F55: 19 | H55: =NORMDIST(F55,$G$33,$G$34,FALSE) -> #REF! | K55: =NORMDIST(F55,$G$33,$G$34,FALSE) -> #REF!
A56: ='Notes DC'!J131 -> 8 | B56: ='Notes DC'!L131 -> 1.25 | C56: ='Notes DC'!M131 -> 3.5 | D56: ='Notes DC'!N131 -> 2 | F56: 20 | H56: =NORMDIST(F56,$G$33,$G$34,FALSE) -> #REF! | K56: =NORMDIST(F56,$G$33,$G$34,FALSE) -> #REF!
A57: ='Notes DC'!J138 -> 8 | B57: ='Notes DC'!L138 -> 1.75 | C57: ='Notes DC'!M138 -> 5 | D57: ='Notes DC'!N138 -> 1.25
A58: ='Notes DC'!J140 -> 8 | B58: ='Notes DC'!L140 -> 0.75 | C58: ='Notes DC'!M140 -> 4.5 | D58: ='Notes DC'!N140 -> 1.75
A59: ='Notes DC'!J12 -> 9 | B59: ='Notes DC'!L12 -> 0 | C59: ='Notes DC'!M12 -> 0 | D59: ='Notes DC'!N12 -> 0
A60: ='Notes DC'!J16 -> 9 | B60: ='Notes DC'!L16 -> 0 | C60: ='Notes DC'!M16 -> 0 | D60: ='Notes DC'!N16 -> 0
A61: ='Notes DC'!J19 -> 9 | B61: ='Notes DC'!L19 -> 0 | C61: ='Notes DC'!M19 -> 0 | D61: ='Notes DC'!N19 -> 0
A62: ='Notes DC'!J25 -> 9 | B62: ='Notes DC'!L25 -> 0 | C62: ='Notes DC'!M25 -> 0 | D62: ='Notes DC'!N25 -> 0
A63: ='Notes DC'!J32 -> 9 | B63: ='Notes DC'!L32 -> 1.75 | C63: ='Notes DC'!M32 -> 1.25 | D63: ='Notes DC'!N32 -> 2.25
A64: ='Notes DC'!J49 -> 9 | B64: ='Notes DC'!L49 -> 0.5 | C64: ='Notes DC'!M49 -> 3.5 | D64: ='Notes DC'!N49 -> 1.75
A65: ='Notes DC'!J64 -> 9 | B65: ='Notes DC'!L64 -> 2.4 | C65: ='Notes DC'!M64 -> 3.2 | D65: ='Notes DC'!N64 -> 4.2
A66: ='Notes DC'!J68 -> 9 | B66: ='Notes DC'!L68 -> 1.6 | C66: ='Notes DC'!M68 -> 1.4 | D66: ='Notes DC'!N68 -> 1.7
A67: ='Notes DC'!J93 -> 9 | B67: ='Notes DC'!L93 -> 1.5 | C67: ='Notes DC'!M93 -> 2.75 | D67: ='Notes DC'!N93 -> 2
A68: ='Notes DC'!J99 -> 9 | B68: ='Notes DC'!L99 -> 0 | C68: ='Notes DC'!M99 -> 0 | D68: ='Notes DC'!N99 -> 0
A69: ='Notes DC'!J105 -> 9 | B69: ='Notes DC'!L105 -> 2.25 | C69: ='Notes DC'!M105 -> 4.25 | D69: ='Notes DC'!N105 -> 1.5
A70: ='Notes DC'!J116 -> 9 | B70: ='Notes DC'!L116 -> 1.75 | C70: ='Notes DC'!M116 -> 1.75 | D70: ='Notes DC'!N116 -> 3.25
A71: ='Notes DC'!J121 -> 9 | B71: ='Notes DC'!L121 -> 4.25 | C71: ='Notes DC'!M121 -> 5 | D71: ='Notes DC'!N121 -> 1.5
A72: ='Notes DC'!J130 -> 9 | B72: ='Notes DC'!L130 -> 2.5 | C72: ='Notes DC'!M130 -> 4.25 | D72: ='Notes DC'!N130 -> 0.25
A73: ='Notes DC'!J3 -> 10 | B73: ='Notes DC'!L3 -> 0 | C73: ='Notes DC'!M3 -> 0 | D73: ='Notes DC'!N3 -> 0
A74: ='Notes DC'!J6 -> 10 | B74: ='Notes DC'!L6 -> 0 | C74: ='Notes DC'!M6 -> 0 | D74: ='Notes DC'!N6 -> 0
A75: ='Notes DC'!J13 -> 10 | B75: ='Notes DC'!L13 -> 0 | C75: ='Notes DC'!M13 -> 0 | D75: ='Notes DC'!N13 -> 0
A76: ='Notes DC'!J21 -> 10 | B76: ='Notes DC'!L21 -> 0 | C76: ='Notes DC'!M21 -> 0 | D76: ='Notes DC'!N21 -> 0
A77: ='Notes DC'!J27 -> 10 | B77: ='Notes DC'!L27 -> 0 | C77: ='Notes DC'!M27 -> 0 | D77: ='Notes DC'!N27 -> 0
A78: ='Notes DC'!J30 -> 10 | B78: ='Notes DC'!L30 -> 0 | C78: ='Notes DC'!M30 -> 0 | D78: ='Notes DC'!N30 -> 0
A79: ='Notes DC'!J36 -> 10 | B79: ='Notes DC'!L36 -> 2.25 | C79: ='Notes DC'!M36 -> 4 | D79: ='Notes DC'!N36 -> 2.25
A80: ='Notes DC'!J74 -> 10 | B80: ='Notes DC'!L74 -> 2.9 | C80: ='Notes DC'!M74 -> 0 | D80: ='Notes DC'!N74 -> 2.5
A81: ='Notes DC'!J86 -> 10 | B81: ='Notes DC'!L86 -> 1.9 | C81: ='Notes DC'!M86 -> 0 | D81: ='Notes DC'!N86 -> 1
A82: ='Notes DC'!J104 -> 10 | B82: ='Notes DC'!L104 -> 2 | C82: ='Notes DC'!M104 -> 3.75 | D82: ='Notes DC'!N104 -> 1.25
A83: ='Notes DC'!J108 -> 10 | B83: ='Notes DC'!L108 -> 2.5 | C83: ='Notes DC'!M108 -> 4.75 | D83: ='Notes DC'!N108 -> 1.5
A84: ='Notes DC'!J124 -> 10 | B84: ='Notes DC'!L124 -> 1 | C84: ='Notes DC'!M124 -> 5 | D84: ='Notes DC'!N124 -> 2.5
A85: ='Notes DC'!J26 -> 11 | B85: ='Notes DC'!L26 -> 0 | C85: ='Notes DC'!M26 -> 0 | D85: ='Notes DC'!N26 -> 0
A86: ='Notes DC'!J48 -> 11 | B86: ='Notes DC'!L48 -> 3.75 | C86: ='Notes DC'!M48 -> 4.25 | D86: ='Notes DC'!N48 -> 0.25
A87: ='Notes DC'!J65 -> 11 | B87: ='Notes DC'!L65 -> 0.5 | C87: ='Notes DC'!M65 -> 0.9 | D87: ='Notes DC'!N65 -> 2.5
A88: ='Notes DC'!J69 -> 11 | B88: ='Notes DC'!L69 -> 0.5 | C88: ='Notes DC'!M69 -> 1 | D88: ='Notes DC'!N69 -> 0.7
A89: ='Notes DC'!J87 -> 11 | B89: ='Notes DC'!L87 -> 2.2 | C89: ='Notes DC'!M87 -> 3 | D89: ='Notes DC'!N87 -> 4.2
A90: ='Notes DC'!J90 -> 11 | B90: ='Notes DC'!L90 -> 2 | C90: ='Notes DC'!M90 -> 2 | D90: ='Notes DC'!N90 -> 2.7
A91: ='Notes DC'!J106 -> 11 | B91: ='Notes DC'!L106 -> 0 | C91: ='Notes DC'!M106 -> 4 | D91: ='Notes DC'!N106 -> 2
A92: ='Notes DC'!J109 -> 11 | B92: ='Notes DC'!L109 -> 1.75 | C92: ='Notes DC'!M109 -> 2.5 | D92: ='Notes DC'!N109 -> 3.25
A93: ='Notes DC'!J115 -> 11 | B93: ='Notes DC'!L115 -> 2.5 | C93: ='Notes DC'!M115 -> 5 | D93: ='Notes DC'!N115 -> 3.5
A94: ='Notes DC'!J119 -> 11 | B94: ='Notes DC'!L119 -> 2.25 | C94: ='Notes DC'!M119 -> 3.25 | D94: ='Notes DC'!N119 -> 2
A95: ='Notes DC'!J126 -> 11 | B95: ='Notes DC'!L126 -> 2.25 | C95: ='Notes DC'!M126 -> 2.5 | D95: ='Notes DC'!N126 -> 1.75
A96: ='Notes DC'!J127 -> 11 | B96: ='Notes DC'!L127 -> 1.75 | C96: ='Notes DC'!M127 -> 5 | D96: ='Notes DC'!N127 -> 1.5
A97: ='Notes DC'!J8 -> 12 | B97: ='Notes DC'!L8 -> 0 | C97: ='Notes DC'!M8 -> 0 | D97: ='Notes DC'!N8 -> 0
A98: ='Notes DC'!J22 -> 12 | B98: ='Notes DC'!L22 -> 0 | C98: ='Notes DC'!M22 -> 0 | D98: ='Notes DC'!N22 -> 0
A99: ='Notes DC'!J73 -> 12 | B99: ='Notes DC'!L73 -> 3.2 | C99: ='Notes DC'!M73 -> 2.2 | D99: ='Notes DC'!N73 -> 1.5
A100: ='Notes DC'!J97 -> 12 | B100: ='Notes DC'!L97 -> 2.5 | C100: ='Notes DC'!M97 -> 3.75 | D100: ='Notes DC'!N97 -> 2.75
...

Sheet Dyn
A1: Tableaux Dynamiques
Q2: Nombre de Classe | R2: Étiquettes de colonnes
Q3: Étiquettes de lignes | R3: 2 | S3: 3 | T3: 4 | U3: 5 | V3: 6 | W3: 7 | X3: 8 | Y3: 9 | Z3: 10 | AA3: 11 | AB3: 12 | AC3: 13 | AD3: 14 | AE3: 15 | AF3: 16 | AG3: 17 | AH3: 18 | AI3: 19 | AJ3: Total général
Q4: A1 | T4: 1 | AJ4: 1
A5: PAP | B5: oui | Q5: A2 | Z5: 1 | AJ5: 1
Q6: A3 | U6: 1 | AJ6: 1
A7: Étiquettes de lignes | B7: Nombre de PAP | Q7: A4 | U7: 1 | AJ7: 1
A8: 611 | B8: 8 | Q8: A5 | Z8: 1 | AJ8: 1
A9: 612 | B9: 6 | Q9: A6 | V9: 1 | AJ9: 1
A10: 613 | B10: 11 | Q10: A7 | AB10: 1 | AJ10: 1
A11: 614 | B11: 8 | Q11: A8 | AC11: 1 | AJ11: 1
A12: 615 | B12: 3 | Q12: A9 | AC12: 1 | AJ12: 1
A13: Total général | B13: 36 | Q13: A10 | AD13: 1 | AJ13: 1
Q14: A11 | Y14: 1 | AJ14: 1
Q15: A12 | Z15: 1 | AJ15: 1
A16: Étiquettes de lignes | B16: Moyenne de 1M | C16: Moyenne de 1E | D16: Moyenne de 1i | E16: Moyenne de DC1 | F16: Écartype de DC1 | G16: Moyenne de 2C | H16: Moyenne de 2M | I16: Moyenne de 2E | J16: Moyenne de 2i | K16: Moyenne de DC2 | L16: Écartype de DC2 | Q16: A13 | X16: 1 | AJ16: 1
A17: 611 | B17: 3.137931 | C17: 3.8793103 | D17: 5.5689655 | E17: 9 | F17: 3.305839 | G17: 0 | H17: 0.044827586 | I17: 0.11724138 | J17: 0.086206897 | K17: 0.27586207 | L17: 1.4855627 | Q17: A14 | R17: 1 | AJ17: 1
A18: 612 | B18: 2.595 | C18: 3.15 | D18: 4.285 | E18: 7.3333333 | F18: 3.8625821 | G18: 2.3416667 | H18: 2.1166667 | I18: 2.9166667 | J18: 1.6583333 | K18: 9.4666667 | L18: 3.5693459 | Q18: A15 | Y18: 1 | AJ18: 1
A19: 613 | B19: 4.0703125 | C19: 5.1796875 | D19: 6.8046875 | E19: 11.59375 | F19: 3.9664673 | G19: 2.6703125 | H19: 1.990625 | I19: 2 | J19: 2.0875 | K19: 9.53125 | L19: 3.3116059 | Q19: A16 | X19: 1 | AJ19: 1
A20: 614 | B20: 4.1946429 | C20: 4.6178571 | D20: 5.9053571 | E20: 10.571429 | F20: 3.4899705 | G20: 2.375 | H20: 2.0535714 | I20: 3.4732143 | J20: 2.3660714 | K20: 10.821429 | L20: 3.7023873 | Q20: A17 | T20: 1 | AJ20: 1
A21: 615 | B21: 3.475 | C21: 4.445 | D21: 4.76 | E21: 9 | F21: 3.3717089 | G21: 3.225 | H21: 1.9625 | I21: 3.6875 | J21: 1.825 | K21: 11.25 | L21: 2.3591925 | Q21: A18 | Y21: 1 | AJ21: 1
A22: Total général | B22: 3.4967626 | C22: 4.2514388 | D22: 5.5276978 | E22: 9.5539568 | F22: 3.8975516 | G22: 2.0625899 | H22: 1.6205036 | I22: 2.3446043 | J22: 1.5956835 | K22: 8.0935252 | L22: 5.071792 | Q22: A19 | AE22: 1 | AJ22: 1
Q23: A20 | Z23: 1 | AJ23: 1
Q24: A21 | AB24: 1 | AJ24: 1
Q25: A22 | T25: 1 | AJ25: 1
Q26: A23 | X26: 1 | AJ26: 1
Q27: A24 | Y27: 1 | AJ27: 1
Q28: A25 | AA28: 1 | AJ28: 1
Q29: A26 | Z29: 1 | AJ29: 1
Q30: A27 | X30: 1 | AJ30: 1
Q31: A28 | AC31: 1 | AJ31: 1
Q32: A29 | Z32: 1 | AJ32: 1
Q33: B1 | R33: 1 | AJ33: 1
Q34: B2 | Y34: 1 | AJ34: 1
Q35: B3 | X35: 1 | AJ35: 1
Q36: B4 | T36: 1 | AJ36: 1
Q37: B5 | W37: 1 | AJ37: 1
Q38: B6 | Z38: 1 | AJ38: 1
Q39: B7 | W39: 1 | AJ39: 1
Q40: B8 | T40: 1 | AJ40: 1
Q41: B9 | X41: 1 | AJ41: 1
Q42: B10 | AC42: 1 | AJ42: 1
Q43: B11 | T43: 1 | AJ43: 1
Q44: B12 | S44: 1 | AJ44: 1
Q45: B13 | T45: 1 | AJ45: 1
Q46: B14 | AC46: 1 | AJ46: 1
Q47: B15 | S47: 1 | AJ47: 1
Q48: B16 | S48: 1 | AJ48: 1
Q49: B17 | X49: 1 | AJ49: 1
Q50: B18 | AA50: 1 | AJ50: 1
Q51: B19 | Y51: 1 | AJ51: 1
Q52: B20 | U52: 1 | AJ52: 1
Q53: B21 | U53: 1 | AJ53: 1
Q54: B22 | AC54: 1 | AJ54: 1
Q55: B23 | X55: 1 | AJ55: 1
Q56: B24 | T56: 1 | AJ56: 1
Q57: B25 | W57: 1 | AJ57: 1
Q58: B26 | AH58: 1 | AJ58: 1
Q59: B27 | AC59: 1 | AJ59: 1
Q60: B28 | U60: 1 | AJ60: 1
Q61: B29 | W61: 1 | AJ61: 1
Q62: B30 | U62: 1 | AJ62: 1
Q63: C1 | AC63: 1 | AJ63: 1
Q64: C2 | V64: 1 | AJ64: 1
Q65: C3 | AD65: 1 | AJ65: 1
Q66: C4 | Y66: 1 | AJ66: 1
Q67: C5 | AA67: 1 | AJ67: 1
Q68: C6 | AG68: 1 | AJ68: 1
Q69: C7 | W69: 1 | AJ69: 1
Q70: C8 | Y70: 1 | AJ70: 1
Q71: C9 | AA71: 1 | AJ71: 1
Q72: C10 | W72: 1 | AJ72: 1
Q73: C11 | AC73: 1 | AJ73: 1
Q74: C12 | AD74: 1 | AJ74: 1
Q75: C13 | AB75: 1 | AJ75: 1
Q76: C14 | Z76: 1 | AJ76: 1
Q77: C15 | AG77: 1 | AJ77: 1
Q78: C16 | AD78: 1 | AJ78: 1
Q79: C17 | V79: 1 | AJ79: 1
Q80: C18 | AC80: 1 | AJ80: 1
Q81: C19 | AG81: 1 | AJ81: 1
Q82: C20 | AE82: 1 | AJ82: 1
Q83: C21 | AC83: 1 | AJ83: 1
Q84: C22 | AC84: 1 | AJ84: 1
Q85: C23 | V85: 1 | AJ85: 1
Q86: C24 | W86: 1 | AJ86: 1
Q87: C25 | R87: 1 | AJ87: 1
Q88: C26 | Z88: 1 | AJ88: 1
Q89: C27 | AA89: 1 | AJ89: 1
Q90: C28 | AC90: 1 | AJ90: 1
Q91: C29 | AI91: 1 | AJ91: 1
Q92: C30 | AA92: 1 | AJ92: 1
Q93: C31 | AG93: 1 | AJ93: 1
Q94: C32 | AD94: 1 | AJ94: 1
Q95: C33 | Y95: 1 | AJ95: 1
Q96: C34 | X96: 1 | AJ96: 1
Q97: C35 | AE97: 1 | AJ97: 1
Q98: C36 | AC98: 1 | AJ98: 1
Q99: C37 | AB99: 1 | AJ99: 1
Q100: C38 | AE100: 1 | AJ100: 1
...
