Workbook
Name Liste05: [1]Feuil1!$H$37:$H$40
Name Liste1: [1]Feuil1!$I$37:$I$40
Name Liste2: [1]Feuil1!$F$37:$F$42
Name Liste3: [1]Feuil1!$W$37:$W$42
Name ListeDeux: 'Points DC'!$F$147:$F$152
Name ListeTrois: 'Points DC'!$W$147:$W$152
Name ListeUN: 'Points DC'!$I$147:$I$150
Name listeZeroCinq: 'Points DC'!$H$147:$H$150
Name NIVEAU: #REF!
Name PAP: 'Notes DC'!$E$143:$E$144

Sheet Mode op
A1: 0. Compléter pour le DC concerné l'onglet "Compétences" avec le nbr de point et la compétence traitée par la question
A2: 1. Compléter l'onglet "Points DC" vert avec les points obtenus par Questions pour chaque élèves
A3: 2. Consulter (uniquement) les onglets "Synthèse Notes, Synth Gauss, Synth Savoirs" ou "Notes DC"
A6: Notes:
A7: NE RIEN INSCRIRE OU EDITER DANS LES ONGLETS ROUGES
A8: COMPLETER UNIQUEMENT LES ONGLETS VERTS
A10: Consulter :
A11: Synthèse Notes 1ères : | B11: Moyennes par classe, Ecart type, Absent, Progression, Correcteurs
A12: Synth Graph: | B12: Evolution Graphique des moyennes par classe
A13: Synt Gauss : | B13: La répartitions des élèves par notes ou palier de notes obtenues
A14: Synt Vœux | B14: Les vœux de spécialité de Terminale
A15: Notes DC : | B15: Notes aux DC de élève, et détail notes M E I /10
A17: COMPLETER UNIQUEMENT :
A18: Points DC : | B18: avec les points obtenus pour chaque question du devoir concerné.
A19: Compét: | B19: avec les compétences traitées pour chaque question du DC concerné.
A20: Notes Trim & Bulletin: | B20: avec les moyennes en M E I de Cours et de TP
A22: Utiliser
A23: Les listes d'appel par classe pour faire émarger les élèves lors des DC ou des sorties de classe

Sheet Synthèse Notes 1eres
A1: Synthèses des Moyennes - Devoirs
A2: 2023 - 2024
A4: Classes | B4: Nbr élèves | C4: PAP | D4: DC1 Abs % | E4: DC1 Matière /10 | F4: DC1 Energie /10 | G4: DC1 Informa /10 | H4: DC1 Moyenne /20 | J4: DC2 Abs % | K4: DC2 Comp /10 | L4: DC2 Matière /10 | M4: DC2 Energie /10 | N4: DC2 Informa /10 | O4: DC2 Moyenne /20 | P4: DC2 Progression % | R4: DC3 Abs % | S4: DC3 Matière /10 | T4: DC3 Energie /10 | U4: DC3 Informa /10 | V4: DC3 Moyenne /20 | W4: DC3 Progression | Y4: DC4 Abs % | Z4: DC4 Matière /10 | AA4: DC4 Energie /10 | AB4: DC4 Informa /10 | AC4: DC4 Moyenne /20 | AD4: DC4 Progression
A5: 611 | B5: =COUNTIF(Tableau1[Classe],611) -> 29 | C5: =PAP!B4 -> 8 | D5: =COUNTIFS(Tableau1[Classe],611,Tableau1[DC1],0) -> 0 | E5: =Dyn!B17 -> 3.137931 | F5: =Dyn!C17 -> 3.8793103 | G5: =Dyn!D17 -> 5.5689655 | H5: =Dyn!E17 -> 9 | J5: =COUNTIFS(Tableau1[Classe],611,Tableau1[DC2],0) -> 28 | K5: =Dyn!G17 -> 0 | L5: =Dyn!H17 -> 0.044827586 | M5: =Dyn!I17 -> 0.11724138 | N5: =Dyn!J17 -> 0.086206897 | O5: =Dyn!K17 -> 0.27586207 | P5: =100*(O5-H5)/H5 -> -96.934866 | R5: =COUNTIFS(Tableau1[Classe],611,Tableau1[DC3],0) -> 29 | Y5: =COUNTIFS(Tableau1[Classe],611,Tableau1[DC4],0) -> 0
A6: 612 | B6: =COUNTIF(Tableau1[Classe],612) -> 30 | C6: =PAP!B5 -> 6 | D6: =COUNTIFS(Tableau1[Classe],612,Tableau1[DC1],0) -> 0 | E6: =Dyn!B18 -> 2.595 | F6: =Dyn!C18 -> 3.15 | G6: =Dyn!D18 -> 4.285 | H6: =Dyn!E18 -> 7.3333333 | J6: =COUNTIFS(Tableau1[Classe],612,Tableau1[DC2],0) -> 2 | K6: =Dyn!G18 -> 2.3416667 | L6: =Dyn!H18 -> 2.1166667 | M6: =Dyn!I18 -> 2.9166667 | N6: =Dyn!J18 -> 1.6583333 | O6: =Dyn!K18 -> 9.4666667 | P6: =100*(O6-H6)/H6 -> 29.090909 | R6: =COUNTIFS(Tableau1[Classe],612,Tableau1[DC3],0) -> 30 | Y6: =COUNTIFS(Tableau1[Classe],612,Tableau1[DC4],0) -> 0
A7: 613 | B7: =COUNTIF(Tableau1[Classe],613) -> 32 | C7: =PAP!B6 -> 11 | D7: =COUNTIFS(Tableau1[Classe],613,Tableau1[DC1],0) -> 0 | E7: =Dyn!B19 -> 4.0703125 | F7: =Dyn!C19 -> 5.1796875 | G7: =Dyn!D19 -> 6.8046875 | H7: =Dyn!E19 -> 11.59375 | J7: =COUNTIFS(Tableau1[Classe],613,Tableau1[DC2],0) -> 0 | K7: =Dyn!G19 -> 2.6703125 | L7: =Dyn!H19 -> 1.990625 | M7: =Dyn!I19 -> 2 | N7: =Dyn!J19 -> 2.0875 | O7: =Dyn!K19 -> 9.53125 | P7: =100*(O7-H7)/H7 -> -17.789757 | R7: =COUNTIFS(Tableau1[Classe],613,Tableau1[DC3],0) -> 32 | Y7: =COUNTIFS(Tableau1[Classe],613,Tableau1[DC4],0) -> 0
A8: 614 | B8: =COUNTIF(Tableau1[Classe],614) -> 28 | C8: =PAP!B7 -> 8 | D8: =COUNTIFS(Tableau1[Classe],614,Tableau1[DC1],0) -> 0 | E8: =Dyn!B20 -> 4.1946429 | F8: =Dyn!C20 -> 4.6178571 | G8: =Dyn!D20 -> 5.9053571 | H8: =Dyn!E20 -> 10.571429 | J8: =COUNTIFS(Tableau1[Classe],614,Tableau1[DC2],0) -> 2 | K8: =Dyn!G20 -> 2.375 | L8: =Dyn!H20 -> 2.0535714 | M8: =Dyn!I20 -> 3.4732143 | N8: =Dyn!J20 -> 2.3660714 | O8: =Dyn!K20 -> 10.821429 | P8: =100*(O8-H8)/H8 -> 2.3648649 | R8: =COUNTIFS(Tableau1[Classe],614,Tableau1[DC3],0) -> 28 | Y8: =COUNTIFS(Tableau1[Classe],614,Tableau1[DC4],0) -> 0
A9: 615 | B9: =COUNTIF(Tableau1[Classe],615) -> 20 | C9: =PAP!B8 -> 3 | D9: =COUNTIFS(Tableau1[Classe],615,Tableau1[DC1],0) -> 0 | E9: =Dyn!B21 -> 3.475 | F9: =Dyn!C21 -> 4.445 | G9: =Dyn!D21 -> 4.76 | H9: =Dyn!E21 -> 9 | J9: =COUNTIFS(Tableau1[Classe],615,Tableau1[DC2],0) -> 0 | K9: =Dyn!G21 -> 3.225 | L9: =Dyn!H21 -> 1.9625 | M9: =Dyn!I21 -> 3.6875 | N9: =Dyn!J21 -> 1.825 | O9: =Dyn!K21 -> 11.25 | P9: =100*(O9-H9)/H9 -> 25 | R9: =COUNTIFS(Tableau1[Classe],615,Tableau1[DC3],0) -> 20 | Y9: =COUNTIFS(Tableau1[Classe],615,Tableau1[DC4],0) -> 0
A10: Total | B10: =SUM(B5:B9) -> 139 | C10: =PAP!B9 -> 36 | D10: =SUM(D5:D9) -> 0 | E10: =Dyn!B22 -> 3.4967626 | F10: =Dyn!C22 -> 4.2514388 | G10: =Dyn!D22 -> 5.5276978 | H10: =Dyn!E22 -> 9.5539568 | J10: =SUM(J5:J9) -> 32 | K10: =Dyn!G22 -> 2.0625899 | L10: =Dyn!H22 -> 1.6205036 | M10: =Dyn!I22 -> 2.3446043 | N10: =Dyn!J22 -> 1.5956835 | O10: =Dyn!K22 -> 8.0935252 | R10: =SUM(R5:R9) -> 139 | Y10: =SUM(Y5:Y9) -> 0
A11: Ecart-Type | H11: =GETPIVOTDATA("Écartype de DC1",Dyn!$A$16) -> 3.8975516 | O11: =Dyn!$L$22 -> 5.071792
A13: CORRECTEURS | G13: DC1 | O13: DC2 | V13: DC3 | AC13: DC4
A14: 611 | G14: ANTHO | O14: JUAN
A15: 612 | G15: JUAN | O15: ANTHO
A16: 613 | G16: ANTHO | O16: CHRIS
A17: 614 | G17: CHRIS | O17: ANTHO
A18: 615 | G18: ADRIEN | O18: ADRIEN

Sheet S Gauss
A1: Synthèse des Fréquences et probabilité des NOTES aux DC
A2: DC1 | B2: Total des Notes Classes 1ères

Sheet Synth Savoirs
A1: Synthèse des compétences - % réussite aux questions
A3: % de réussite par question et compétence aux Devoirs Communs
A6: Classes | B6: Nbr élèves | C6: 1.1 DC1 | D6: 1.2 DC1 | E6: 1.3 DC1 | F6: 1.4 DC1 | G6: 1.5 DC1 | H6: 1.6 DC1 | I6: 1.7 DC1 | J6: 1.8 DC1 | K6: 1.9 DC1 | L6: 1.10 DC1 | M6: 2.1 DC1 | N6: 2.2 DC1 | O6: 2.3 DC1 | P6: 2.4 DC1 | Q6: 2.5 DC1 | R6: 3.1 DC1 | S6: 3.2 DC1 | T6: 3.3 DC1 | U6: 3.4 DC1 | V6: 3.5 DC1 | X6: 1.1 DC2 | Y6: 1.2 DC12 | Z6: 1.3 DC12 | AA6: 1.4 DC12 | AB6: 1.5 DC12 | AC6: 1.6 DC1 | AD6: 1.7 DC12 | AE6: 1.8 DC12 | AF6: 1.9 DC12 | AG6: 1.10 DC12 | AH6: 1.11 DC1 | AI6: 1.12 DC1 | AJ6: 2.1 DC2 | AK6: 2.2 DC2 | AL6: 2.3 DC2 | AM6: 2.4 DC2 | AN6: 2.5 DC2 | AO6: 2.6 DC2 | AP6: 2.7 DC2 | AQ6: 2.8 DC2 | AR6: 2.9 DC2 | AS6: 2.10 DC2 | AT6: 3.1 DC2 | AU6: 3.2 DC2 | AV6: 3.3 DC2 | AW6: 3.4 DC2 | AX6: 3.5 DC2 | AY6: 3.6 DC2 | AZ6: 3.7 DC2 | BA6: 3.8 DC2 | BB6: 3.9 DC2 | BD6: 1.1 DC3 | BE6: 1.2 DC3 | BF6: 1.3 DC3 | BG6: 1.4 DC3 | BH6: 1.5 DC3 | BI6: 1.6 DC3 | BJ6: 1.7 DC3 | BK6: 1.8 DC3 | BL6: 1.9 DC3 | BM6: 1.10 DC3 | BN6: 2.1 DC3 | BO6: 2.2 DC3 | BP6: 2.3 DC3 | BQ6: 2.4 DC3 | BR6: 2.5 DC3 | BS6: 2.6 DC3 | BT6: 2.7 DC3 | BU6: 2.8 DC3 | BV6: 2.9 DC3 | BW6: 2.10 DC3 | BX6: 3.1 DC3 | BY6: 3.2 DC3 | BZ6: 3.3 DC3 | CA6: 3.4 DC3 | CB6: 3.5 DC3 | CC6: 3.6 DC3 | CD6: 3.7 DC3 | CE6: 3.8 DC3 | CF6: 3.9 DC3 | CG6: 3.10 DC3
B7: Points | C7: 2 | D7: 2 | E7: 0.5 | F7: 1 | G7: 1 | H7: 1 | I7: 1 | J7: 0.5 | K7: 0.5 | L7: 0.5 | M7: 2 | N7: 2 | O7: 2 | P7: 2 | Q7: 2 | R7: 1 | S7: 2 | T7: 3 | U7: 2 | V7: 2 | X7: 1 | Y7: 1 | Z7: 1 | AA7: 0.5 | AB7: 2 | AC7: 0.5 | AD7: 1 | AE7: 0.5 | AF7: 1 | AG7: 1 | AH7: 1 | AI7: 1 | AJ7: 1 | AK7: 0.5 | AL7: 1.5 | AM7: 0.5 | AN7: 1.5 | AO7: 1 | AP7: 1 | AQ7: 1 | AR7: 1 | AS7: 1 | AT7: 0.5 | AU7: 1.5 | AV7: 1 | AW7: 2 | AX7: 0.5 | AY7: 0.5 | AZ7: 1.5 | BA7: 1.5 | BB7: 1
B8: Compét | C8: liaisons | D8: liaisons | E8: unités | F8: surface | G8: masse volum | H8: unités | I8: unités | J8: somme | K8: lecture | L8: conclusion CDC | M8: énergies | N8: lecture + P | O8: choix compo | P8: réducteur | Q8: rendement | R8: SysMl | S8: SysMl | T8: Table vérité | U8: logigramme | V8: Schéma élec | X8: DD | Y8: bilan carbone | Z8: SysMl | AA8: périmètre | AB8: masse volume | AC8: matériaux | AD8: prix (unités) | AE8: ch solution | AF8: matériaux | AG8: normes | AH8: liaisons | AI8: liaisons | AJ8: documentation | AK8: SysMl | AL8: P méca | AM8: Conclusion | AN8: Puiss Energ | AO8: Graph P élec | AP8: tabl synth | AQ8: SysMl | AR8: E annuelle | AS8: SysMl | AT8: SysMl | AU8: déci bin | AV8: hôte SysMl | AW8: réseaux | AX8: compatibilité | AY8: adresse IP | AZ8: unités info | BA8: unités info | BB8: DD
A9: 611 | B9: =COUNTIF(Tableau1[Classe],611) -> 29 | C9: =SUM('Points DC'!F2:F29)/($B9*C7) -> 0.30172414 | D9: =SUM('Points DC'!G2:G29)/($B9*D7) -> 0.16810345 | E9: =SUM('Points DC'!H2:H29)/($B9*E7) -> 0.68965517 | F9: =SUM('Points DC'!I2:I29)/($B9*F7) -> 0.49137931 | G9: =SUM('Points DC'!J2:J29)/($B9*G7) -> 0.28448276 | H9: =SUM('Points DC'!K2:K29)/($B9*H7) -> 0.37931034 | I9: =SUM('Points DC'!L2:L29)/($B9*I7) -> 0.35344828 | J9: =SUM('Points DC'!M2:M29)/($B9*J7) -> 0.24137931 | ... V9: =SUM('Points DC'!Y2:Y29)/($B9*V7) -> 0.59051724 | X9: =SUM('Points DC'!Z2:Z29)/($B9*X7) -> 0 | Y9: =SUM('Points DC'!AA2:AA29)/($B9*Y7) -> 0 | Z9: =SUM('Points DC'!AB2:AB29)/($B9*Z7) -> 0 | AA9: =SUM('Points DC'!AC2:AC29)/($B9*AA7) -> 0.034482759 | AB9: =SUM('Points DC'!AD2:AD29)/($B9*AB7) -> 0 | AC9: =SUM('Points DC'!AE2:AE29)/($B9*AC7) -> 0 | AD9: =SUM('Points DC'!AF2:AF29)/($B9*AD7) -> 0.027586207 | AE9: =SUM('Points DC'!AG2:AG29)/($B9*AE7) -> 0 | ... AN9: =SUM('Points DC'!AP2:AP29)/($B9*AN7) -> 0.022988506 | AO9: =SUM('Points DC'!#REF!)/($B9*AO7) -> #REF! | AP9: =SUM('Points DC'!#REF!)/($B9*AP7) -> #REF! | AQ9: =SUM('Points DC'!#REF!)/($B9*AQ7) -> #REF! | AR9: =SUM('Points DC'!#REF!)/($B9*AR7) -> #REF! | AS9: =SUM('Points DC'!#REF!)/($B9*AS7) -> #REF! | AT9: =SUM('Points DC'!#REF!)/($B9*AT7) -> #REF! | AU9: =SUM('Points DC'!#REF!)/($B9*AU7) -> #REF! | AV9: =SUM('Points DC'!#REF!)/($B9*AV7) -> #REF! | ... BB9: =SUM('Points DC'!#REF!)/($B9*BB7) -> #REF!
A10: 612 | B10: =COUNTIF(Tableau1[Classe],612) -> 30 | C10: =SUM('Points DC'!F30:F63)/($B10*C7) -> 0.40166667 | D10: =SUM('Points DC'!G30:G63)/($B10*D7) -> 0.21333333 | E10: =SUM('Points DC'!H30:H63)/($B10*E7) -> 0.87 | F10: =SUM('Points DC'!I30:I63)/($B10*F7) -> 0.405 | G10: =SUM('Points DC'!J30:J63)/($B10*G7) -> 0.075 | H10: =SUM('Points DC'!K30:K63)/($B10*H7) -> 0.17833333 | I10: =SUM('Points DC'!L30:L63)/($B10*I7) -> 0.36333333 | J10: =SUM('Points DC'!M30:M63)/($B10*J7) -> 0.26666667 | ... V10: =SUM('Points DC'!Y30:Y63)/($B10*V7) -> 0.45833333 | X10: =SUM('Points DC'!Z30:Z63)/($B10*X7) -> 0.755 | Y10: =SUM('Points DC'!AA30:AA63)/($B10*Y7) -> 0.73333333 | Z10: =SUM('Points DC'!AB30:AB63)/($B10*Z7) -> 1.1 | AA10: =SUM('Points DC'!AC30:AC63)/($B10*AA7) -> 0.93333333 | AB10: =SUM('Points DC'!AD30:AD63)/($B10*AB7) -> 0.17083333 | AC10: =SUM('Points DC'!AE30:AE63)/($B10*AC7) -> 0.65 | AD10: =SUM('Points DC'!AF30:AF63)/($B10*AD7) -> 0.60666667 | AE10: =SUM('Points DC'!AG30:AG63)/($B10*AE7) -> 0.96666667 | ... AN10: =SUM('Points DC'!AP30:AP63)/($B10*AN7) -> 0.41222222 | AO10: =SUM('Points DC'!#REF!)/($B10*AO7) -> #REF! | AP10: =SUM('Points DC'!#REF!)/($B10*AP7) -> #REF! | AQ10: =SUM('Points DC'!#REF!)/($B10*AQ7) -> #REF! | AR10: =SUM('Points DC'!#REF!)/($B10*AR7) -> #REF! | AS10: =SUM('Points DC'!#REF!)/($B10*AS7) -> #REF! | AT10: =SUM('Points DC'!#REF!)/($B10*AT7) -> #REF! | AU10: =SUM('Points DC'!#REF!)/($B10*AU7) -> #REF! | AV10: =SUM('Points DC'!#REF!)/($B10*AV7) -> #REF! | ... BB10: =SUM('Points DC'!#REF!)/($B10*BB7) -> #REF!
A11: 613 | B11: =COUNTIF(Tableau1[Classe],613) -> 32 | C11: =SUM('Points DC'!F64:F89)/($B11*C7) -> 0.328125 | D11: =SUM('Points DC'!G64:G89)/($B11*D7) -> 0.1875 | E11: =SUM('Points DC'!H64:H89)/($B11*E7) -> 0.671875 | F11: =SUM('Points DC'!I64:I89)/($B11*F7) -> 0.484375 | G11: =SUM('Points DC'!J64:J89)/($B11*G7) -> 0.28125 | H11: =SUM('Points DC'!K64:K89)/($B11*H7) -> 0.296875 | I11: =SUM('Points DC'!L64:L89)/($B11*I7) -> 0.3984375 | J11: =SUM('Points DC'!M64:M89)/($B11*J7) -> 0.3125 | ... V11: =SUM('Points DC'!Y64:Y89)/($B11*V7) -> 0.55078125 | X11: =SUM('Points DC'!Z64:Z89)/($B11*X7) -> 0.634375 | Y11: =SUM('Points DC'!AA64:AA89)/($B11*Y7) -> 0.6765625 | Z11: =SUM('Points DC'!AB64:AB89)/($B11*Z7) -> 0.821875 | AA11: =SUM('Points DC'!AC64:AC89)/($B11*AA7) -> 0.45 | AB11: =SUM('Points DC'!AD64:AD89)/($B11*AB7) -> 0.221875 | AC11: =SUM('Points DC'!AE64:AE89)/($B11*AC7) -> 0.2625 | AD11: =SUM('Points DC'!AF64:AF89)/($B11*AD7) -> 0.465625 | AE11: =SUM('Points DC'!AG64:AG89)/($B11*AE7) -> 0.84375 | ... AN11: =SUM('Points DC'!AP64:AP89)/($B11*AN7) -> 0.37916667 | AO11: =SUM('Points DC'!#REF!)/($B11*AO7) -> #REF! | AP11: =SUM('Points DC'!#REF!)/($B11*AP7) -> #REF! | AQ11: =SUM('Points DC'!#REF!)/($B11*AQ7) -> #REF! | AR11: =SUM('Points DC'!#REF!)/($B11*AR7) -> #REF! | AS11: =SUM('Points DC'!#REF!)/($B11*AS7) -> #REF! | AT11: =SUM('Points DC'!#REF!)/($B11*AT7) -> #REF! | AU11: =SUM('Points DC'!#REF!)/($B11*AU7) -> #REF! | AV11: =SUM('Points DC'!#REF!)/($B11*AV7) -> #REF! | ... BB11: =SUM('Points DC'!#REF!)/($B11*BB7) -> #REF!
A12: 614 | B12: =COUNTIF(Tableau1[Classe],614) -> 28 | C12: =SUM('Points DC'!F90:F121)/($B12*C7) -> 0.56517857 | D12: =SUM('Points DC'!G90:G121)/($B12*D7) -> 0.29464286 | E12: =SUM('Points DC'!H90:H121)/($B12*E7) -> 0.87142857 | F12: =SUM('Points DC'!I90:I121)/($B12*F7) -> 0.60357143 | G12: =SUM('Points DC'!J90:J121)/($B12*G7) -> 0.44107143 | H12: =SUM('Points DC'!K90:K121)/($B12*H7) -> 0.4625 | I12: =SUM('Points DC'!L90:L121)/($B12*I7) -> 0.73214286 | J12: =SUM('Points DC'!M90:M121)/($B12*J7) -> 0.50357143 | ... V12: =SUM('Points DC'!Y90:Y121)/($B12*V7) -> 0.74017857 | X12: =SUM('Points DC'!Z90:Z121)/($B12*X7) -> 1.0446429 | Y12: =SUM('Points DC'!AA90:AA121)/($B12*Y7) -> 0.90178571 | Z12: =SUM('Points DC'!AB90:AB121)/($B12*Z7) -> 0.95714286 | AA12: =SUM('Points DC'!AC90:AC121)/($B12*AA7) -> 1.1642857 | AB12: =SUM('Points DC'!AD90:AD121)/($B12*AB7) -> 0.20535714 | AC12: =SUM('Points DC'!AE90:AE121)/($B12*AC7) -> 0.46071429 | AD12: =SUM('Points DC'!AF90:AF121)/($B12*AD7) -> 0.63392857 | AE12: =SUM('Points DC'!AG90:AG121)/($B12*AE7) -> 1.1607143 | ... AN12: =SUM('Points DC'!AP90:AP121)/($B12*AN7) -> 0.48809524 | AO12: =SUM('Points DC'!#REF!)/($B12*AO7) -> #REF! | AP12: =SUM('Points DC'!#REF!)/($B12*AP7) -> #REF! | AQ12: =SUM('Points DC'!#REF!)/($B12*AQ7) -> #REF! | AR12: =SUM('Points DC'!#REF!)/($B12*AR7) -> #REF! | AS12: =SUM('Points DC'!#REF!)/($B12*AS7) -> #REF! | AT12: =SUM('Points DC'!#REF!)/($B12*AT7) -> #REF! | AU12: =SUM('Points DC'!#REF!)/($B12*AU7) -> #REF! | AV12: =SUM('Points DC'!#REF!)/($B12*AV7) -> #REF! | ... BB12: =SUM('Points DC'!#REF!)/($B12*BB7) -> #REF!
A13: 615 | B13: =COUNTIF(Tableau1[Classe],615) -> 20 | C13: =SUM('Points DC'!F122:F140)/($B13*C7) -> 0.1675 | D13: =SUM('Points DC'!G122:G140)/($B13*D7) -> 0.1425 | E13: =SUM('Points DC'!H122:H140)/($B13*E7) -> 0.69 | F13: =SUM('Points DC'!I122:I140)/($B13*F7) -> 0.4 | G13: =SUM('Points DC'!J122:J140)/($B13*G7) -> 0.285 | H13: =SUM('Points DC'!K122:K140)/($B13*H7) -> 0.335 | I13: =SUM('Points DC'!L122:L140)/($B13*I7) -> 0.6 | J13: =SUM('Points DC'!M122:M140)/($B13*J7) -> 0.53 | ... V13: =SUM('Points DC'!Y122:Y140)/($B13*V7) -> 0.455 | X13: =SUM('Points DC'!Z122:Z140)/($B13*X7) -> 0.6625 | Y13: =SUM('Points DC'!AA122:AA140)/($B13*Y7) -> 0.95 | Z13: =SUM('Points DC'!AB122:AB140)/($B13*Z7) -> 1.3625 | AA13: =SUM('Points DC'!AC122:AC140)/($B13*AA7) -> 0.575 | AB13: =SUM('Points DC'!AD122:AD140)/($B13*AB7) -> 0.15 | AC13: =SUM('Points DC'!AE122:AE140)/($B13*AC7) -> 0.325 | AD13: =SUM('Points DC'!AF122:AF140)/($B13*AD7) -> 0.475 | AE13: =SUM('Points DC'!AG122:AG140)/($B13*AE7) -> 1.05 | ... AN13: =SUM('Points DC'!AP122:AP140)/($B13*AN7) -> 0.55 | AO13: =SUM('Points DC'!#REF!)/($B13*AO7) -> #REF! | AP13: =SUM('Points DC'!#REF!)/($B13*AP7) -> #REF! | AQ13: =SUM('Points DC'!#REF!)/($B13*AQ7) -> #REF! | AR13: =SUM('Points DC'!#REF!)/($B13*AR7) -> #REF! | AS13: =SUM('Points DC'!#REF!)/($B13*AS7) -> #REF! | AT13: =SUM('Points DC'!#REF!)/($B13*AT7) -> #REF! | AU13: =SUM('Points DC'!#REF!)/($B13*AU7) -> #REF! | AV13: =SUM('Points DC'!#REF!)/($B13*AV7) -> #REF! | ... BB13: =SUM('Points DC'!#REF!)/($B13*BB7) -> #REF!
A14: Total | B14: =SUM(B9:B13) -> 139 | C14: =SUM(Tableau5[1.1 DC1])/($B14*C7) -> 0.3631295 | D14: =SUM(Tableau5[1.2 DC1])/($B14*D7) -> 0.20413669 | E14: =SUM(Tableau5[1.3 DC1])/($B14*E7) -> 0.76115108 | F14: =SUM(Tableau5[1.4 DC1])/($B14*F7) -> 0.48057554 | G14: =SUM(Tableau5[1.5 DC1])/($B14*G7) -> 0.27014388 | H14: =SUM(Tableau5[1.6 DC1])/($B14*H7) -> 0.32733813 | I14: =SUM(Tableau5[1.7 DC1])/($B14*I7) -> 0.47769784 | J14: =SUM(Tableau5[1.8 DC1])/($B14*J7) -> 0.35755396 | K14: =SUM(Tableau5[1.9 DC1])/($B14*K7) -> 0.32158273 | L14: =SUM(Tableau5[1.10 DC1])/($B14*L7) -> 0.17266187 | M14: =SUM(Tableau5[2.1 DC1])/($B14*M7) -> 0.60827338 | N14: =SUM(Tableau5[2.2 DC1])/($B14*N7) -> 0.49460432 | O14: =SUM(Tableau5[2.3 DC1])/($B14*O7) -> 0.36960432 | P14: =SUM(Tableau5[2.4 DC1])/($B14*P7) -> 0.38615108 | Q14: =SUM(Tableau5[2.5 DC1])/($B14*Q7) -> 0.26708633 | R14: =SUM(Tableau5[3.1 DC1])/($B14*R7) -> 0.95359712 | S14: =SUM(Tableau5[3.2 DC1])/($B14*S7) -> 0.50377698 | T14: =SUM(Tableau5[3.3 DC1])/($B14*T7) -> 0.42278177 | U14: =SUM(Tableau5[3.4 DC1])/($B14*U7) -> 0.58561151 | V14: =SUM(Tableau5[3.5 DC1])/($B14*V7) -> 0.56348921 | X14: =SUM(Tableau5[1.1 DC2])/($B14*X7) -> 0.6147482 | Y14: =SUM(Tableau5[1.2 DC2])/($B14*Y7) -> 0.6323741 | Z14: =SUM(Tableau5[1.3 DC2])/($B14*Z7) -> 0.81546763 | AA14: =SUM(Tableau5[2.1 DC2])/($B14*AA7) -> 0.6294964 | AB14: =SUM(Tableau5[2.2 DC2])/($B14*AB7) -> 0.15089928 | AC14: =SUM(Tableau5[2.3 DC2])/($B14*AC7) -> 0.34028777 | AD14: =SUM(Tableau5[2.4 DC2])/($B14*AD7) -> 0.43992806 | AE14: =SUM(Tableau5[2.5 DC2])/($B14*AE7) -> 0.78776978 | AF14: =SUM(Tableau5[3.1 DC2])/($B14*AF7) -> 0.40071942 | AG14: =SUM(Tableau5[3.2 DC2])/($B14*AG7) -> 0.62158273 | AH14: =SUM(Tableau5[3.3 DC2])/($B14*AH7) -> 0.75539568 | AI14: =SUM(Tableau5[3.4 DC2])/($B14*AI7) -> 0.56690647 | AJ14: =SUM(Tableau5[4.1 DC2])/($B14*AJ7) -> 0.17553957 | AK14: =SUM(Tableau5[4.2 DC2])/($B14*AK7) -> 1.0892086 | AL14: =SUM(Tableau5[4.3 DC2])/($B14*AL7) -> 0.15707434 | AM14: =SUM(Tableau5[4.4 DC2])/($B14*AM7) -> 0.20431655 | AN14: =SUM(Tableau5[4.5 DC2])/($B14*AN7) -> 0.35851319 | AO14: =SUM(#REF!)/($B14*AO7) -> #REF! | AP14: =SUM(#REF!)/($B14*AP7) -> #REF! | AQ14: =SUM(#REF!)/($B14*AQ7) -> #REF! | AR14: =SUM(#REF!)/($B14*AR7) -> #REF! | AS14: =SUM(#REF!)/($B14*AS7) -> #REF! | AT14: =SUM(#REF!)/($B14*AT7) -> #REF! | AU14: =SUM(#REF!)/($B14*AU7) -> #REF! | AV14: =SUM(#REF!)/($B14*AV7) -> #REF! | ... BB14: =SUM(#REF!)/($B14*BB7) -> #REF!
X17: =X6 -> 1.1 DC2 | Y17: =Y6 -> 1.2 DC12 | Z17: =Z6 -> 1.3 DC12 | AA17: =AA6 -> 1.4 DC12 | AB17: =AB6 -> 1.5 DC12 | AC17: =AC6 -> 1.6 DC1 | AD17: =AD6 -> 1.7 DC12 | AE17: =AE6 -> 1.8 DC12 | ... BB17: =BB6 -> 3.9 DC2
X18: 2 | Y18: 1 | Z18: 2
X20: =X9 -> 0 | Y20: =Y9 -> 0 | Z20: =Z9 -> 0 | AA20: =AA9 -> 0.034482759 | AB20: =AB9 -> 0 | AC20: =AC9 -> 0 | AD20: =AD9 -> 0.027586207 | AE20: =AE9 -> 0 | ... BB20: =BB9 -> #REF!
X21: =X10 -> 0.755 | Y21: =Y10 -> 0.73333333 | Z21: =Z10 -> 1.1 | AA21: =AA10 -> 0.93333333 | AB21: =AB10 -> 0.17083333 | AC21: =AC10 -> 0.65 | AD21: =AD10 -> 0.60666667 | AE21: =AE10 -> 0.96666667 | ... BB21: =BB10 -> #REF!
X22: =X11 -> 0.634375 | Y22: =Y11 -> 0.6765625 | Z22: =Z11 -> 0.821875 | AA22: =AA11 -> 0.45 | AB22: =AB11 -> 0.221875 | AC22: =AC11 -> 0.2625 | AD22: =AD11 -> 0.465625 | AE22: =AE11 -> 0.84375 | ... BB22: =BB11 -> #REF!
X23: =X12 -> 1.0446429 | Y23: =Y12 -> 0.90178571 | Z23: =Z12 -> 0.95714286 | AA23: =AA12 -> 1.1642857 | AB23: =AB12 -> 0.20535714 | AC23: =AC12 -> 0.46071429 | AD23: =AD12 -> 0.63392857 | AE23: =AE12 -> 1.1607143 | ... BB23: =BB12 -> #REF!
X24: =X13 -> 0.6625 | Y24: =Y13 -> 0.95 | Z24: =Z13 -> 1.3625 | AA24: =AA13 -> 0.575 | AB24: =AB13 -> 0.15 | AC24: =AC13 -> 0.325 | AD24: =AD13 -> 0.475 | AE24: =AE13 -> 1.05 | ... BB24: =BB13 -> #REF!
X25: =X14 -> 0.6147482 | Y25: =Y14 -> 0.6323741 | Z25: =Z14 -> 0.81546763 | AA25: =AA14 -> 0.6294964 | AB25: =AB14 -> 0.15089928 | AC25: =AC14 -> 0.34028777 | AD25: =AD14 -> 0.43992806 | AE25: =AE14 -> 0.78776978 | ... BB25: =BB14 -> #REF!

Sheet Notes DC
A1: Classe | B1: N° | C1: Nom | D1: Prénom | E1: PAP | F1: Coef | G1: 1M | H1: 1E | I1: 1i | J1: DC1 | K1: 2C | L1: 2M | M1: 2E | N1: 2i | O1: DC2 | P1: EVO2 | Q1: 3M | R1: 3E | S1: 3i | T1: DC3 | U1: EVO3 | V1: 4M | W1: 4E | X1: 4i | Y1: DC4 | Z1: 5M | AA1: 5E | AB1: 5i | AC1: DC5 | AD1: 6M | AE1: 6E | AF1: 6i | AG1: DC6
A2: 611 | B2: 1 | C2: A1 | D2: 1 | E2: non | F2: =IF(Tableau1[[#This Row],[PAP]]="oui",1.1,1) -> 1 | G2: =SUM(Tableau5[[#This Row],[1.1 DC1]:[1.10 DC1]]) -> 2 | H2: =SUM(Tableau5[[#This Row],[2.1 DC1]:[2.5 DC1]]) -> 0.75 | I2: =SUM(Tableau5[[#This Row],[3.1 DC1]:[3.5 DC1]]) -> 3 | J2: =ROUNDUP((SUM(Tableau1[[#This Row],[1M]:[1i]])*Tableau1[[#This Row],[Coef]]/1.5),0) -> 4 | K2: =SUM(Tableau5[[#This Row],[1.1 DC2]:[1.3 DC2]]) -> 0 | L2: =SUM(Tableau5[[#This Row],[2.1 DC2]:[2.5 DC2]]) -> 0 | M2: =SUM(Tableau5[[#This Row],[3.1 DC2]:[3.4 DC2]]) -> 0 | N2: =SUM(Tableau5[[#This Row],[4.1 DC2]:[4.5 DC2]]) -> 0 | O2: =ROUNDUP((SUM(Tableau1[[#This Row],[2C]:[2i]])*Tableau1[[#This Row],[Coef]]),0) -> 0 | P2: =(Tableau1[[#This Row],[DC2]]-Tableau1[[#This Row],[DC1]])/Tableau1[[#This Row],[DC1]] -> -1 | Q2: =SUM(Tableau5[[#This Row],[1.1 DC3]:[1.7 DC3]]) -> 0 | R2: =SUM(Tableau5[[#This Row],[2.1 DC3]:[2.8 DC3]]) -> 0 | S2: =SUM(Tableau5[[#This Row],[3.1 DC3]:[3.7 DC3]]) -> 0 | T2: =ROUNDUP((SUM(Tableau1[[#This Row],[3M]:[3i]])*Tableau1[[#This Row],[Coef]]/1.5),0) -> 0
A3: 611 | B3: 2 | C3: A2 | D3: 2 | E3: non | F3: =IF(Tableau1[[#This Row],[PAP]]="oui",1.1,1) -> 1 | G3: =SUM(Tableau5[[#This Row],[1.1 DC1]:[1.10 DC1]]) -> 5.25 | H3: =SUM(Tableau5[[#This Row],[2.1 DC1]:[2.5 DC1]]) -> 5.25 | I3: =SUM(Tableau5[[#This Row],[3.1 DC1]:[3.5 DC1]]) -> 4 | J3: =ROUNDUP((SUM(Tableau1[[#This Row],[1M]:[1i]])*Tableau1[[#This Row],[Coef]]/1.5),0) -> 10 | K3: =SUM(Tableau5[[#This Row],[1.1 DC2]:[1.3 DC2]]) -> 0 | L3: =SUM(Tableau5[[#This Row],[2.1 DC2]:[2.5 DC2]]) -> 0 | M3: =SUM(Tableau5[[#This Row],[3.1 DC2]:[3.4 DC2]]) -> 0 | N3: =SUM(Tableau5[[#This Row],[4.1 DC2]:[4.5 DC2]]) -> 0 | O3: =ROUNDUP((SUM(Tableau1[[#This Row],[2C]:[2i]])*Tableau1[[#This Row],[Coef]]),0) -> 0 | P3: =(Tableau1[[#This Row],[DC2]]-Tableau1[[#This Row],[DC1]])/Tableau1[[#This Row],[DC1]] -> -1 | Q3: =SUM(Tableau5[[#This Row],[1.1 DC3]:[1.7 DC3]]) -> 0 | R3: =SUM(Tableau5[[#This Row],[2.1 DC3]:[2.8 DC3]]) -> 0 | S3: =SUM(Tableau5[[#This Row],[3.1 DC3]:[3.7 DC3]]) -> 0 | T3: =ROUNDUP((SUM(Tableau1[[#This Row],[3M]:[3i]])*Tableau1[[#This Row],[Coef]]/1.5),0) -> 0
A4: 611 | B4: 3 | C4: A3 | D4: 3 | E4: oui | F4: =IF(Tableau1[[#This Row],[PAP]]="oui",1.1,1) -> 1.1 | G4: =SUM(Tableau5[[#This Row],[1.1 DC1]:[1.10 DC1]]) -> 3 | H4: =SUM(Tableau5[[#This Row],[2.1 DC1]:[2.5 DC1]]) -> 1.5 | I4: =SUM(Tableau5[[#This Row],[3.1 DC1]:[3.5 DC1]]) -> 1.75 | J4: =ROUNDUP((SUM(Tableau1[[#This Row],[1M]:[1i]])*Tableau1[[#This Row],[Coef]]/1.5),0) -> 5 | K4: =SUM(Tableau5[[#This Row],[1.1 DC2]:[1.3 DC2]]) -> 0 | L4: =SUM(Tableau5[[#This Row],[2.1 DC2]:[2.5 DC2]]) -> 0 | M4: =SUM(Tableau5[[#This Row],[3.1 DC2]:[3.4 DC2]]) -> 0 | N4: =SUM(Tableau5[[#This Row],[4.1 DC2]:[4.5 DC2]]) -> 0 | O4: =ROUNDUP((SUM(Tableau1[[#This Row],[2C]:[2i]])*Tableau1[[#This Row],[Coef]]),0) -> 0 | P4: =(Tableau1[[#This Row],[DC2]]-Tableau1[[#This Row],[DC1]])/Tableau1[[#This Row],[DC1]] -> -1 | Q4: =SUM(Tableau5[[#This Row],[1.1 DC3]:[1.7 DC3]]) -> 0 | R4: =SUM(Tableau5[[#This Row],[2.1 DC3]:[2.8 DC3]]) -> 0 | S4: =SUM(Tableau5[[#This Row],[3.1 DC3]:[3.7 DC3]]) -> 0 | T4: =ROUNDUP((SUM(Tableau1[[#This Row],[3M]:[3i]])*Tableau1[[#This Row],[Coef]]/1.5),0) -> 0
A5: 611 | B5: 4 | C5: A4 | D5: 4 | E5: oui | F5: =IF(Tableau1[[#This Row],[PAP]]="oui",1.1,1) -> 1.1 | G5: =SUM(Tableau5[[#This Row],[1.1 DC1]:[1.10 DC1]]) -> 2.75 | H5: =SUM(Tableau5[[#This Row],[2.1 DC1]:[2.5 DC1]]) -> 1.5 | I5: =SUM(Tableau5[[#This Row],[3.1 DC1]:[3.5 DC1]]) -> 2.5 | J5: =ROUNDUP((SUM(Tableau1[[#This Row],[1M]:[1i]])*Tableau1[[#This Row],[Coef]]/1.5),0) -> 5 | K5: =SUM(Tableau5[[#This Row],[1.1 DC2]:[1.3 DC2]]) -> 0 | L5: =SUM(Tableau5[[#This Row],[2.1 DC2]:[2.5 DC2]]) -> 0 | M5: =SUM(Tableau5[[#This Row],[3.1 DC2]:[3.4 DC2]]) -> 0 | N5: =SUM(Tableau5[[#This Row],[4.1 DC2]:[4.5 DC2]]) -> 0 | O5: =ROUNDUP((SUM(Tableau1[[#This Row],[2C]:[2i]])*Tableau1[[#This Row],[Coef]]),0) -> 0 | P5: =(Tableau1[[#This Row],[DC2]]-Tableau1[[#This Row],[DC1]])/Tableau1[[#This Row],[DC1]] -> -1 | Q5: =SUM(Tableau5[[#This Row],[1.1 DC3]:[1.7 DC3]]) -> 0 | R5: =SUM(Tableau5[[#This Row],[2.1 DC3]:[2.8 DC3]]) -> 0 | S5: =SUM(Tableau5[[#This Row],[3.1 DC3]:[3.7 DC3]]) -> 0 | T5: =ROUNDUP((SUM(Tableau1[[#This Row],[3M]:[3i]])*Tableau1[[#This Row],[Coef]]/1.5),0) -> 0
A6: 611 | B6: 5 | C6: A5 | D6: 5 | E6: oui | F6: =IF(Tableau1[[#This Row],[PAP]]="oui",1.1,1) -> 1.1 | G6: =SUM(Tableau5[[#This Row],[1.1 DC1]:[1.10 DC1]]) -> 3.25 | H6: =SUM(Tableau5[[#This Row],[2.1 DC1]:[2.5 DC1]]) -> 3.75 | I6: =SUM(Tableau5[[#This Row],[3.1 DC1]:[3.5 DC1]]) -> 6.25 | J6: =ROUNDUP((SUM(Tableau1[[#This Row],[1M]:[1i]])*Tableau1[[#This Row],[Coef]]/1.5),0) -> 10 | K6: =SUM(Tableau5[[#This Row],[1.1 DC2]:[1.3 DC2]]) -> 0 | L6: =SUM(Tableau5[[#This Row],[2.1 DC2]:[2.5 DC2]]) -> 0 | M6: =SUM(Tableau5[[#This Row],[3.1 DC2]:[3.4 DC2]]) -> 0 | N6: =SUM(Tableau5[[#This Row],[4.1 DC2]:[4.5 DC2]]) -> 0 | O6: =ROUNDUP((SUM(Tableau1[[#This Row],[2C]:[2i]])*Tableau1[[#This Row],[Coef]]),0) -> 0 | P6: =(Tableau1[[#This Row],[DC2]]-Tableau1[[#This Row],[DC1]])/Tableau1[[#This Row],[DC1]] -> -1 | Q6: =SUM(Tableau5[[#This Row],[1.1 DC3]:[1.7 DC3]]) -> 0 | R6: =SUM(Tableau5[[#This Row],[2.1 DC3]:[2.8 DC3]]) -> 0 | S6: =SUM(Tableau5[[#This Row],[3.1 DC3]:[3.7 DC3]]) -> 0 | T6: =ROUNDUP((SUM(Tableau1[[#This Row],[3M]:[3i]])*Tableau1[[#This Row],[Coef]]/1.5),0) -> 0
A7: 611 | B7: 6 | C7: A6 | D7: 6 | E7: non | F7: =IF(Tableau1[[#This Row],[PAP]]="oui",1.1,1) -> 1 | G7: =SUM(Tableau5[[#This Row],[1.1 DC1]:[1.10 DC1]]) -> 2.75 | H7: =SUM(Tableau5[[#This Row],[2.1 DC1]:[2.5 DC1]]) -> 1.75 | I7: =SUM(Tableau5[[#This Row],[3.1 DC1]:[3.5 DC1]]) -> 3.25 | J7: =ROUNDUP((SUM(Tableau1[[#This Row],[1M]:[1i]])*Tableau1[[#This Row],[Coef]]/1.5),0) -> 6 | K7: =SUM(Tableau5[[#This Row],[1.1 DC2]:[1.3 DC2]]) -> 0 | L7: =SUM(Tableau5[[#This Row],[2.1 DC2]:[2.5 DC2]]) -> 0 | M7: =SUM(Tableau5[[#This Row],[3.1 DC2]:[3.4 DC2]]) -> 0 | N7: =SUM(Tableau5[[#This Row],[4.1 DC2]:[4.5 DC2]]) -> 0 | O7: =ROUNDUP((SUM(Tableau1[[#This Row],[2C]:[2i]])*Tableau1[[#This Row],[Coef]]),0) -> 0 | P7: =(Tableau1[[#This Row],[DC2]]-Tableau1[[#This Row],[DC1]])/Tableau1[[#This Row],[DC1]] -> -1 | Q7: =SUM(Tableau5[[#This Row],[1.1 DC3]:[1.7 DC3]]) -> 0 | R7: =SUM(Tableau5[[#This Row],[2.1 DC3]:[2.8 DC3]]) -> 0 | S7: =SUM(Tableau5[[#This Row],[3.1 DC3]:[3.7 DC3]]) -> 0 | T7: =ROUNDUP((SUM(Tableau1[[#This Row],[3M]:[3i]])*Tableau1[[#This Row],[Coef]]/1.5),0) -> 0
A8: 611 | B8: 7 | C8: A7 | D8: 7 | E8: non | F8: =IF(Tableau1[[#This Row],[PAP]]="oui",1.1,1) -> 1 | G8: =SUM(Tableau5[[#This Row],[1.1 DC1]:[1.10 DC1]]) -> 4.75 | H8: =SUM(Tableau5[[#This Row],[2.1 DC1]:[2.5 DC1]]) -> 7.25 | I8: =SUM(Tableau5[[#This Row],[3.1 DC1]:[3.5 DC1]]) -> 6 | J8: =ROUNDUP((SUM(Tableau1[[#This Row],[1M]:[1i]])*Tableau1[[#This Row],[Coef]]/1.5),0) -> 12 | K8: =SUM(Tableau5[[#This Row],[1.1 DC2]:[1.3 DC2]]) -> 0 | L8: =SUM(Tableau5[[#This Row],[2.1 DC2]:[2.5 DC2]]) -> 0 | M8: =SUM(Tableau5[[#This Row],[3.1 DC2]:[3.4 DC2]]) -> 0 | N8: =SUM(Tableau5[[#This Row],[4.1 DC2]:[4.5 DC2]]) -> 0 | O8: =ROUNDUP((SUM(Tableau1[[#This Row],[2C]:[2i]])*Tableau1[[#This Row],[Coef]]),0) -> 0 | P8: =(Tableau1[[#This Row],[DC2]]-Tableau1[[#This Row],[DC1]])/Tableau1[[#This Row],[DC1]] -> -1 | Q8: =SUM(Tableau5[[#This Row],[1.1 DC3]:[1.7 DC3]]) -> 0 | R8: =SUM(Tableau5[[#This Row],[2.1 DC3]:[2.8 DC3]]) -> 0 | S8: =SUM(Tableau5[[#This Row],[3.1 DC3]:[3.7 DC3]]) -> 0 | T8: =ROUNDUP((SUM(Tableau1[[#This Row],[3M]:[3i]])*Tableau1[[#This Row],[Coef]]/1.5),0) -> 0
A9: 611 | B9: 8 | C9: A8 | D9: 8 | E9: oui | F9: =IF(Tableau1[[#This Row],[PAP]]="oui",1.1,1) -> 1.1 | G9: =SUM(Tableau5[[#This Row],[1.1 DC1]:[1.10 DC1]]) -> 2.75 | H9: =SUM(Tableau5[[#This Row],[2.1 DC1]:[2.5 DC1]]) -> 7.75 | I9: =SUM(Tableau5[[#This Row],[3.1 DC1]:[3.5 DC1]]) -> 7 | J9: =ROUNDUP((SUM(Tableau1[[#This Row],[1M]:[1i]])*Tableau1[[#This Row],[Coef]]/1.5),0) -> 13 | K9: =SUM(Tableau5[[#This Row],[1.1 DC2]:[1.3 DC2]]) -> 0 | L9: =SUM(Tableau5[[#This Row],[2.1 DC2]:[2.5 DC2]]) -> 0 | M9: =SUM(Tableau5[[#This Row],[3.1 DC2]:[3.4 DC2]]) -> 0 | N9: =SUM(Tableau5[[#This Row],[4.1 DC2]:[4.5 DC2]]) -> 0 | O9: =ROUNDUP((SUM(Tableau1[[#This Row],[2C]:[2i]])*Tableau1[[#This Row],[Coef]]),0) -> 0 | P9: =(Tableau1[[#This Row],[DC2]]-Tableau1[[#This Row],[DC1]])/Tableau1[[#This Row],[DC1]] -> -1 | Q9: =SUM(Tableau5[[#This Row],[1.1 DC3]:[1.7 DC3]]) -> 0 | R9: =SUM(Tableau5[[#This Row],[2.1 DC3]:[2.8 DC3]]) -> 0 | S9: =SUM(Tableau5[[#This Row],[3.1 DC3]:[3.7 DC3]]) -> 0 | T9: =ROUNDUP((SUM(Tableau1[[#This Row],[3M]:[3i]])*Tableau1[[#This Row],[Coef]]/1.5),0) -> 0
A10: 611 | B10: 9 | C10: A9 | D10: 9 | E10: non | F10: =IF(Tableau1[[#This Row],[PAP]]="oui",1.1,1) -> 1 | G10: =SUM(Tableau5[[#This Row],[1.1 DC1]:[1.10 DC1]]) -> 6.25 | H10: =SUM(Tableau5[[#This Row],[2.1 DC1]:[2.5 DC1]]) -> 5.25 | I10: =SUM(Tableau5[[#This Row],[3.1 DC1]:[3.5 DC1]]) -> 6.75 | J10: =ROUNDUP((SUM(Tableau1[[#This Row],[1M]:[1i]])*Tableau1[[#This Row],[Coef]]/1.5),0) -> 13 | K10: =SUM(Tableau5[[#This Row],[1.1 DC2]:[1.3 DC2]]) -> 0 | L10: =SUM(Tableau5[[#This Row],[2.1 DC2]:[2.5 DC2]]) -> 0 | M10: =SUM(Tableau5[[#This Row],[3.1 DC2]:[3.4 DC2]]) -> 0 | N10: =SUM(Tableau5[[#This Row],[4.1 DC2]:[4.5 DC2]]) -> 0 | O10: =ROUNDUP((SUM(Tableau1[[#This Row],[2C]:[2i]])*Tableau1[[#This Row],[Coef]]),0) -> 0 | P10: =(Tableau1[[#This Row],[DC2]]-Tableau1[[#This Row],[DC1]])/Tableau1[[#This Row],[DC1]] -> -1 | Q10: =SUM(Tableau5[[#This Row],[1.1 DC3]:[1.7 DC3]]) -> 0 | R10: =SUM(Tableau5[[#This Row],[2.1 DC3]:[2.8 DC3]]) -> 0 | S10: =SUM(Tableau5[[#This Row],[3.1 DC3]:[3.7 DC3]]) -> 0 | T10: =ROUNDUP((SUM(Tableau1[[#This Row],[3M]:[3i]])*Tableau1[[#This Row],[Coef]]/1.5),0) -> 0
A11: 611 | B11: 10 | C11: A10 | D11: 10 | E11: non | F11: =IF(Tableau1[[#This Row],[PAP]]="oui",1.1,1) -> 1 | G11: =SUM(Tableau5[[#This Row],[1.1 DC1]:[1.10 DC1]]) -> 4 | H11: =SUM(Tableau5[[#This Row],[2.1 DC1]:[2.5 DC1]]) -> 7.5 | I11: =SUM(Tableau5[[#This Row],[3.1 DC1]:[3.5 DC1]]) -> 8.25 | J11: =ROUNDUP((SUM(Tableau1[[#This Row],[1M]:[1i]])*Tableau1[[#This Row],[Coef]]/1.5),0) -> 14 | K11: =SUM(Tableau5[[#This Row],[1.1 DC2]:[1.3 DC2]]) -> 0 | L11: =SUM(Tableau5[[#This Row],[2.1 DC2]:[2.5 DC2]]) -> 0 | M11: =SUM(Tableau5[[#This Row],[3.1 DC2]:[3.4 DC2]]) -> 0 | N11: =SUM(Tableau5[[#This Row],[4.1 DC2]:[4.5 DC2]]) -> 0 | O11: =ROUNDUP((SUM(Tableau1[[#This Row],[2C]:[2i]])*Tableau1[[#This Row],[Coef]]),0) -> 0 | P11: =(Tableau1[[#This Row],[DC2]]-Tableau1[[#This Row],[DC1]])/Tableau1[[#This Row],[DC1]] -> -1 | Q11: =SUM(Tableau5[[#This Row],[1.1 DC3]:[1.7 DC3]]) -> 0 | R11: =SUM(Tableau5[[#This Row],[2.1 DC3]:[2.8 DC3]]) -> 0 | S11: =SUM(Tableau5[[#This Row],[3.1 DC3]:[3.7 DC3]]) -> 0 | T11: =ROUNDUP((SUM(Tableau1[[#This Row],[3M]:[3i]])*Tableau1[[#This Row],[Coef]]/1.5),0) -> 0
A12: 611 | B12: 11 | C12: A11 | D12: 11 | E12: oui | F12: =IF(Tableau1[[#This Row],[PAP]]="oui",1.1,1) -> 1.1 | G12: =SUM(Tableau5[[#This Row],[1.1 DC1]:[1.10 DC1]]) -> 0.75 | H12: =SUM(Tableau5[[#This Row],[2.1 DC1]:[2.5 DC1]]) -> 3.5 | I12: =SUM(Tableau5[[#This Row],[3.1 DC1]:[3.5 DC1]]) -> 7.75 | J12: =ROUNDUP((SUM(Tableau1[[#This Row],[1M]:[1i]])*Tableau1[[#This Row],[Coef]]/1.5),0) -> 9 | K12: =SUM(Tableau5[[#This Row],[1.1 DC2]:[1.3 DC2]]) -> 0 | L12: =SUM(Tableau5[[#This Row],[2.1 DC2]:[2.5 DC2]]) -> 0 | M12: =SUM(Tableau5[[#This Row],[3.1 DC2]:[3.4 DC2]]) -> 0 | N12: =SUM(Tableau5[[#This Row],[4.1 DC2]:[4.5 DC2]]) -> 0 | O12: =ROUNDUP((SUM(Tableau1[[#This Row],[2C]:[2i]])*Tableau1[[#This Row],[Coef]]),0) -> 0 | P12: =(Tableau1[[#This Row],[DC2]]-Tableau1[[#This Row],[DC1]])/Tableau1[[#This Row],[DC1]] -> -1 | Q12: =SUM(Tableau5[[#This Row],[1.1 DC3]:[1.7 DC3]]) -> 0 | R12: =SUM(Tableau5[[#This Row],[2.1 DC3]:[2.8 DC3]]) -> 0 | S12: =SUM(Tableau5[[#This Row],[3.1 DC3]:[3.7 DC3]]) -> 0 | T12: =ROUNDUP((SUM(Tableau1[[#This Row],[3M]:[3i]])*Tableau1[[#This Row],[Coef]]/1.5),0) -> 0
A13: 611 | B13: 12 | C13: A12 | D13: 12 | E13: non | F13: =IF(Tableau1[[#This Row],[PAP]]="oui",1.1,1) -> 1 | G13: =SUM(Tableau5[[#This Row],[1.1 DC1]:[1.10 DC1]]) -> 5 | H13: =SUM(Tableau5[[#This Row],[2.1 DC1]:[2.5 DC1]]) -> 2.75 | I13: =SUM(Tableau5[[#This Row],[3.1 DC1]:[3.5 DC1]]) -> 6.5 | J13: =ROUNDUP((SUM(Tableau1[[#This Row],[1M]:[1i]])*Tableau1[[#This Row],[Coef]]/1.5),0) -> 10 | K13: =SUM(Tableau5[[#This Row],[1.1 DC2]:[1.3 DC2]]) -> 0 | L13: =SUM(Tableau5[[#This Row],[2.1 DC2]:[2.5 DC2]]) -> 0 | M13: =SUM(Tableau5[[#This Row],[3.1 DC2]:[3.4 DC2]]) -> 0 | N13: =SUM(Tableau5[[#This Row],[4.1 DC2]:[4.5 DC2]]) -> 0 | O13: =ROUNDUP((SUM(Tableau1[[#This Row],[2C]:[2i]])*Tableau1[[#This Row],[Coef]]),0) -> 0 | P13: =(Tableau1[[#This Row],[DC2]]-Tableau1[[#This Row],[DC1]])/Tableau1[[#This Row],[DC1]] -> -1 | Q13: =SUM(Tableau5[[#This Row],[1.1 DC3]:[1.7 DC3]]) -> 0 | R13: =SUM(Tableau5[[#This Row],[2.1 DC3]:[2.8 DC3]]) -> 0 | S13: =SUM(Tableau5[[#This Row],[3.1 DC3]:[3.7 DC3]]) -> 0 | T13: =ROUNDUP((SUM(Tableau1[[#This Row],[3M]:[3i]])*Tableau1[[#This Row],[Coef]]/1.5),0) -> 0
... A140: 615 | B140: 20 | C140: D20 | D140: 139 | E140: non | F140: =IF(Tableau1[[#This Row],[PAP]]="oui",1.1,1) -> 1 | G140: =SUM(Tableau5[[#This Row],[1.1 DC1]:[1.10 DC1]]) -> 3.8 | H140: =SUM(Tableau5[[#This Row],[2.1 DC1]:[2.5 DC1]]) -> 4.15 | I140: =SUM(Tableau5[[#This Row],[3.1 DC1]:[3.5 DC1]]) -> 3.2 | J140: =ROUNDUP((SUM(Tableau1[[#This Row],[1M]:[1i]])*Tableau1[[#This Row],[Coef]]/1.5),0) -> 8 | K140: =SUM(Tableau5[[#This Row],[1.1 DC2]:[1.3 DC2]]) -> 4.5 | L140: =SUM(Tableau5[[#This Row],[2.1 DC2]:[2.5 DC2]]) -> 0.75 | M140: =SUM(Tableau5[[#This Row],[3.1 DC2]:[3.4 DC2]]) -> 4.5 | N140: =SUM(Tableau5[[#This Row],[4.1 DC2]:[4.5 DC2]]) -> 1.75 | O140: =ROUNDUP((SUM(Tableau1[[#This Row],[2C]:[2i]])*Tableau1[[#This Row],[Coef]]),0) -> 12 | P140: =(Tableau1[[#This Row],[DC2]]-Tableau1[[#This Row],[DC1]])/Tableau1[[#This Row],[DC1]] -> 0.5 | Q140: =SUM(Tableau5[[#This Row],[1.1 DC3]:[1.7 DC3]]) -> 0 | R140: =SUM(Tableau5[[#This Row],[2.1 DC3]:[2.8 DC3]]) -> 0 | S140: =SUM(Tableau5[[#This Row],[3.1 DC3]:[3.7 DC3]]) -> 0 | T140: =ROUNDUP((SUM(Tableau1[[#This Row],[3M]:[3i]])*Tableau1[[#This Row],[Coef]]/1.5),0) -> 0
G142: =AVERAGE(G2:G140) -> 3.4967626 | H142: =AVERAGE(H2:H140) -> 4.2514388 | I142: =AVERAGE(I2:I140) -> 5.5276978
E143: oui
E144: non

Sheet Points DC
A1: Classe | B1: N° | C1: Nom | D1: Prénom | E1: PAP | F1: 1.1 DC1 | G1: 1.2 DC1 | H1: 1.3 DC1 | I1: 1.4 DC1 | J1: 1.5 DC1 | K1: 1.6 DC1 | L1: 1.7 DC1 | M1: 1.8 DC1 | N1: 1.9 DC1 | O1: 1.10 DC1 | P1: 2.1 DC1 | Q1: 2.2 DC1 | R1: 2.3 DC1 | S1: 2.4 DC1 | T1: 2.5 DC1 | U1: 3.1 DC1 | V1: 3.2 DC1 | W1: 3.3 DC1 | X1: 3.4 DC1 | Y1: 3.5 DC1 | Z1: 1.1 DC2 | AA1: 1.2 DC2 | AB1: 1.3 DC2 | AC1: 2.1 DC2 | AD1: 2.2 DC2 | AE1: 2.3 DC2 | AF1: 2.4 DC2 | AG1: 2.5 DC2 | AH1: 3.1 DC2 | AI1: 3.2 DC2 | AJ1: 3.3 DC2 | AK1: 3.4 DC2 | AL1: 4.1 DC2 | AM1: 4.2 DC2 | AN1: 4.3 DC2 | AO1: 4.4 DC2 | AP1: 4.5 DC2 | AQ1: 1.1 DC3 | AR1: 1.2 DC3 | AS1: 1.3 DC3 | AT1: 1.4 DC3 | AU1: 1.5 DC3 | AV1: 1.6 DC3 | AW1: 1.7 DC3 | AX1: 2.1 DC3 | AY1: 2.2 DC3 | AZ1: 2.3 DC3 | BA1: 2.4 DC3 | BB1: 2.5 DC3 | BC1: 2.6 DC3 | BD1: 2.7 DC3 | BE1: 2.8 DC3 | BF1: 3.1 DC3 | BG1: 3.2 DC3 | BH1: 3.3 DC3 | BI1: 3.4 DC3 | BJ1: 3.5 DC3 | BK1: 3.6 DC3 | BL1: 3.7 DC3 | BM1: 3.7 DC4
A2: 611 | B2: 1 | C2: A1 | D2: 1 | E2: =Tableau1[[#This Row],[PAP]] -> non | F2: 0.5 | G2: 0.25 | H2: 0 | I2: 0 | J2: 0 | K2: 0.5 | L2: 0.5 | M2: 0.25 | N2: 0 | O2: 0 | P2: 0.75 | Q2: 0 | R2: 0 | S2: 0 | T2: 0 | U2: 1 | V2: 0.5 | W2: 0.5 | X2: 0.75 | Y2: 0.25
A3: 611 | B3: 2 | C3: A2 | D3: 2 | E3: =Tableau1[[#This Row],[PAP]] -> non | F3: 1.75 | G3: 0 | H3: 0.5 | I3: 0.5 | J3: 0.5 | K3: 0.75 | L3: 0.75 | M3: 0.25 | N3: 0.25 | O3: 0 | P3: 0 | Q3: 1.75 | R3: 0 | S3: 1.5 | T3: 2 | U3: 0.5 | V3: 1.5 | W3: 0.5 | X3: 0.75 | Y3: 0.75
A4: 611 | B4: 3 | C4: A3 | D4: 3 | E4: =Tableau1[[#This Row],[PAP]] -> oui | F4: 0.25 | G4: 1 | H4: 0.25 | I4: 1 | J4: 0.25 | K4: 0 | L4: 0 | M4: 0.25 | N4: 0 | O4: 0 | P4: 1.5 | Q4: 0 | R4: 0 | S4: 0 | T4: 0 | U4: 1 | V4: 0 | W4: 0.75 | X4: 0 | Y4: 0
A5: 611 | B5: 4 | C5: A4 | D5: 4 | E5: =Tableau1[[#This Row],[PAP]] -> oui | F5: 0.25 | G5: 1.25 | H5: 0.5 | I5: 0.5 | J5: 0 | K5: 0 | L5: 0 | M5: 0 | N5: 0 | O5: 0.25 | P5: 1.25 | Q5: 0.25 | R5: 0 | S5: 0 | T5: 0 | U5: 0.5 | V5: 0 | W5: 0.5 | X5: 1 | Y5: 0.5
A6: 611 | B6: 5 | C6: A5 | D6: 5 | E6: =Tableau1[[#This Row],[PAP]] -> oui | F6: 0 | G6: 0 | H6: 0.25 | I6: 1 | J6: 0.5 | K6: 0.5 | L6: 0.25 | M6: 0.25 | N6: 0.25 | O6: 0.25 | P6: 1.5 | Q6: 1.25 | R6: 1 | S6: 0 | T6: 0 | U6: 1 | V6: 1 | W6: 0.75 | X6: 1.75 | Y6: 1.75
A7: 611 | B7: 6 | C7: A6 | D7: 6 | E7: =Tableau1[[#This Row],[PAP]] -> non | F7: 0 | G7: 0.25 | H7: 0.5 | I7: 0 | J7: 0.5 | K7: 0.5 | L7: 0.5 | M7: 0.25 | N7: 0 | O7: 0.25 | P7: 1.25 | Q7: 0 | R7: 0 | S7: 0.5 | T7: 0 | U7: 1 | V7: 1 | W7: 0.75 | X7: 0.5 | Y7: 0
A8: 611 | B8: 7 | C8: A7 | D8: 7 | E8: =Tableau1[[#This Row],[PAP]] -> non | F8: 1 | G8: 0.5 | H8: 0.5 | I8: 0 | J8: 0.5 | K8: 0.75 | L8: 1 | M8: 0 | N8: 0.5 | O8: 0 | P8: 1.25 | Q8: 1.5 | R8: 1 | S8: 2 | T8: 1.5 | U8: 1 | V8: 1.75 | W8: 0.5 | X8: 0.75 | Y8: 2
A9: 611 | B9: 8 | C9: A8 | D9: 8 | E9: =Tableau1[[#This Row],[PAP]] -> oui | F9: 0.25 | G9: 0.25 | H9: 0.25 | I9: 0.75 | J9: 0.5 | K9: 0.75 | L9: 0 | M9: 0 | N9: 0 | O9: 0 | P9: 1.5 | Q9: 1.75 | R9: 1 | S9: 1.5 | T9: 2 | U9: 1 | V9: 1.75 | W9: 0.25 | X9: 2 | Y9: 2
A10: 611 | B10: 9 | C10: A9 | D10: 9 | E10: =Tableau1[[#This Row],[PAP]] -> non | F10: 2 | G10: 2 | H10: 0.5 | I10: 0.5 | J10: 0.5 | K10: 0 | L10: 0.5 | M10: 0.25 | N10: 0 | O10: 0 | P10: 1.5 | Q10: 1.75 | R10: 1 | S10: 1 | T10: 0 | U10: 1 | V10: 0.75 | W10: 1 | X10: 2 | Y10: 2
A11: 611 | B11: 10 | C11: A10 | D11: 10 | E11: =Tableau1[[#This Row],[PAP]] -> non | F11: 2 | G11: 0.25 | H11: 0.5 | I11: 0 | J11: 0.5 | K11: 0.75 | L11: 0 | M11: 0 | N11: 0 | O11: 0 | P11: 0.75 | Q11: 1.75 | R11: 1 | S11: 2 | T11: 2 | U11: 1 | V11: 0.75 | W11: 2.5 | X11: 2 | Y11: 2
A12: 611 | B12: 11 | C12: A11 | D12: 11 | E12: =Tableau1[[#This Row],[PAP]] -> oui | F12: 0 | G12: 0 | H12: 0.5 | I12: 0.25 | J12: 0 | K12: 0 | L12: 0 | M12: 0 | N12: 0 | O12: 0 | P12: 1.25 | Q12: 1.75 | R12: 0 | S12: 0.5 | T12: 0 | U12: 1 | V12: 1.75 | W12: 2.5 | X12: 1.75 | Y12: 0.75
A13: 611 | B13: 12 | C13: A12 | D13: 12 | E13: =Tableau1[[#This Row],[PAP]] -> non | F13: 0.5 | G13: 0.25 | H13: 0.5 | I13: 1 | J13: 0.5 | K13: 0.75 | L13: 1 | M13: 0.5 | N13: 0 | O13: 0 | P13: 1.25 | Q13: 1 | R13: 0 | S13: 0 | T13: 0.5 | U13: 1 | V13: 1 | W13: 0.5 | X13: 2 | Y13: 2
A14: 611 | B14: 13 | C14: A13 | D14: 13 | E14: =Tableau1[[#This Row],[PAP]] -> non | F14: 2 | G14: 0.25 | H14: 0.5 | I14: 0.75 | J14: 0.25 | K14: 1 | L14: 1 | M14: 0.5 | N14: 0.5 | O14: 0 | P14: 0 | Q14: 0 | R14: 0 | S14: 0 | T14: 0 | U14: 0.5 | V14: 0 | W14: 0.75 | X14: 1 | Y14: 2 | Z14: 0 | AA14: 0 | AB14: 0 | AC14: 0.5 | AD14: 0 | AE14: 0 | AF14: 0.8 | AG14: 0 | AH14: 0.8 | AI14: 1 | AJ14: 0.8 | AK14: 0.8 | AL14: 0.5 | AM14: 1 | AN14: 0 | AO14: 0 | AP14: 1
A15: 611 | B15: 14 | C15: A14 | D15: 14 | E15: =Tableau1[[#This Row],[PAP]] -> oui | F15: 0.25 | G15: 0 | H15: 0.25 | I15: 0 | J15: 0 | K15: 0 | L15: 0 | M15: 0 | N15: 0 | O15: 0 | P15: 0 | Q15: 0 | R15: 0 | S15: 0 | T15: 0 | U15: 0.5 | V15: 0.25 | W15: 0.25 | X15: 0 | Y15: 0
A16: 611 | B16: 15 | C16: A15 | D16: 15 | E16: =Tableau1[[#This Row],[PAP]] -> non | F16: 0 | G16: 0 | H16: 0 | I16: 0 | J16: 0 | K16: 0 | L16: 0 | M16: 0 | N16: 0 | O16: 0 | P16: 1.5 | Q16: 1 | R16: 2 | S16: 1 | T16: 1.5 | U16: 1 | V16: 1.75 | W16: 1.5 | X16: 0 | Y16: 2
A17: 611 | B17: 16 | C17: A16 | D17: 16 | E17: =Tableau1[[#This Row],[PAP]] -> non | F17: 0.5 | G17: 0.25 | H17: 0.25 | I17: 0.25 | J17: 0.5 | K17: 0.75 | L17: 1 | M17: 0.25 | N17: 0.25 | O17: 0.25 | P17: 1 | Q17: 1.25 | R17: 1 | S17: 0 | T17: 0.25 | U17: 1 | V17: 1.5 | W17: 0.5 | X17: 0.25 | Y17: 0.25
A18: 611 | B18: 17 | C18: A17 | D18: 17 | E18: =Tableau1[[#This Row],[PAP]] -> non | F18: 0 | G18: 0 | H18: 0 | I18: 0.75 | J18: 0 | K18: 0 | L18: 0 | M18: 0 | N18: 0 | O18: 0 | P18: 1.75 | Q18: 0.75 | R18: 0 | S18: 0 | T18: 0 | U18: 1 | V18: 0 | W18: 0.5 | X18: 0 | Y18: 0
A19: 611 | B19: 18 | C19: A18 | D19: 18 | E19: =Tableau1[[#This Row],[PAP]] -> non | F19: 1.25 | G19: 0.25 | H19: 0.5 | I19: 0.5 | J19: 0.75 | K19: 0 | L19: 0 | M19: 0 | N19: 0 | O19: 0.25 | P19: 1.25 | Q19: 1 | R19: 0 | S19: 0 | T19: 0 | U19: 1 | V19: 1.5 | W19: 0.5 | X19: 2 | Y19: 2
A20: 611 | B20: 19 | C20: A19 | D20: 19 | E20: =Tableau1[[#This Row],[PAP]] -> oui | F20: 0 | G20: 0 | H20: 0.5 | I20: 0.75 | J20: 0.25 | K20: 0.5 | L20: 1 | M20: 0 | N20: 0 | O20: 0 | P20: 1.75 | Q20: 2 | R20: 1 | S20: 2 | T20: 0.5 | U20: 0.75 | V20: 1.75 | W20: 2.75 | X20: 2 | Y20: 2
A21: 611 | B21: 20 | C21: A20 | D21: 20 | E21: =Tableau1[[#This Row],[PAP]] -> non | F21: 0.25 | G21: 0.25 | H21: 0.5 | I21: 0.75 | J21: 0.25 | K21: 0 | L21: 0 | M21: 0 | N21: 0 | O21: 0 | P21: 1.5 | Q21: 1.75 | R21: 1 | S21: 2 | T21: 1 | U21: 1 | V21: 0 | W21: 0.25 | X21: 2 | Y21: 2
A22: 611 | B22: 21 | C22: A21 | D22: 21 | E22: =Tableau1[[#This Row],[PAP]] -> non | F22: 0 | G22: 0.25 | H22: 0.5 | I22: 0 | J22: 0.75 | K22: 0.75 | L22: 1 | M22: 0.25 | N22: 0.25 | O22: 0.25 | P22: 1.25 | Q22: 1.25 | R22: 1 | S22: 0.5 | T22: 1 | U22: 1 | V22: 1 | W22: 2.75 | X22: 2 | Y22: 2
A23: 611 | B23: 22 | C23: A22 | D23: 22 | E23: =Tableau1[[#This Row],[PAP]] -> oui | F23: 0.25 | G23: 0.5 | H23: 0.5 | I23: 0.75 | J23: 0.5 | K23: 0 | L23: 0 | M23: 0 | N23: 0 | O23: 0 | P23: 0 | Q23: 0 | R23: 0 | S23: 0 | T23: 0 | U23: 1 | V23: 1.75 | W23: 0 | X23: 0 | Y23: 0
A24: 611 | B24: 23 | C24: A23 | D24: 23 | E24: =Tableau1[[#This Row],[PAP]] -> non | F24: 1 | G24: 0 | H24: 0 | I24: 0.5 | J24: 0 | K24: 0 | L24: 0 | M24: 0 | N24: 0 | O24: 0 | P24: 1.5 | Q24: 1.5 | R24: 1 | S24: 0 | T24: 0 | U24: 1 | V24: 0.25 | W24: 0.75 | X24: 2 | Y24: 2
A25: 611 | B25: 24 | C25: A24 | D25: 24 | E25: =Tableau1[[#This Row],[PAP]] -> non | F25: 1 | G25: 0.25 | H25: 0.25 | I25: 1 | J25: 0 | K25: 0 | L25: 0 | M25: 0 | N25: 0.5 | O25: 0 | P25: 1.5 | Q25: 0 | R25: 0.5 | S25: 0 | T25: 0 | U25: 1 | V25: 1.75 | W25: 1 | X25: 2 | Y25: 2
A26: 611 | B26: 25 | C26: A25 | D26: 25 | E26: =Tableau1[[#This Row],[PAP]] -> non | F26: 1 | G26: 0.25 | H26: 0.5 | I26: 0.25 | J26: 0 | K26: 0 | L26: 0 | M26: 0 | N26: 0 | O26: 0 | P26: 1.5 | Q26: 1 | R26: 1 | S26: 2 | T26: 1 | U26: 1 | V26: 1.75 | W26: 2.5 | X26: 2 | Y26: 0
... A30: 611 | B30: 29 | C30: A29 | D30: 29 | E30: =Tableau1[[#This Row],[PAP]] -> non | F30: 0.25 | G30: 0 | H30: 0 | I30: 0.5 | J30: 0 | K30: 0 | L30: 0.75 | M30: 0 | N30: 0 | O30: 0 | P30: 1.25 | Q30: 1.75 | R30: 1 | S30: 2 | T30: 1 | U30: 1 | V30: 2 | W30: 0.5 | X30: 2 | Y30: 0.25
A31: 612 | B31: 1 | C31: B1 | D31: 30 | E31: =Tableau1[[#This Row],[PAP]] -> non | F31: 0 | G31: 0 | H31: 0.2 | I31: 0 | J31: 0 | K31: 0.2 | L31: 0 | M31: 0 | N31: 0 | O31: 0 | P31: 0.2 | Q31: 0.2 | R31: 0 | S31: 1 | T31: 0 | U31: 1 | V31: 0 | W31: 0.2 | X31: 0 | Y31: 0 | Z31: 0 | AA31: 0.5 | AB31: 0.5 | AC31: 0.25 | AD31: 0 | AE31: 0 | AF31: 0.25 | AG31: 0 | AH31: 0.5 | AI31: 1 | AJ31: 0 | AK31: 0.25 | AL31: 0.25 | AM31: 0.75 | AN31: 0 | AO31: 0 | AP31: 0
A32: 612 | B32: 2 | C32: B2 | D32: 31 | E32: =Tableau1[[#This Row],[PAP]] -> non | F32: 1 | G32: 0.25 | H32: 0.25 | I32: 0 | J32: 0 | K32: 0 | L32: 0 | M32: 0.25 | N32: 0.5 | O32: 0.25 | P32: 1.25 | Q32: 1 | R32: 0 | S32: 0.5 | T32: 1 | U32: 1 | V32: 0.5 | W32: 3 | X32: 1.5 | Y32: 0 | Z32: 1.75 | AA32: 0.5 | AB32: 1.5 | AC32: 0.5 | AD32: 0 | AE32: 0 | AF32: 0.75 | AG32: 0.5 | AH32: 0.25 | AI32: 1 | AJ32: 0 | AK32: 0 | AL32: 0 | AM32: 1 | AN32: 0.5 | AO32: 0 | AP32: 0.75
A33: 612 | B33: 3 | C33: B3 | D33: 32 | E33: =Tableau1[[#This Row],[PAP]] -> non | F33: 1.5 | G33: 1 | H33: 0.4 | I33: 0.5 | J33: 0 | K33: 0.5 | L33: 0.5 | M33: 0.4 | N33: 0.2 | O33: 0 | P33: 0.2 | Q33: 0 | R33: 0 | S33: 0 | T33: 0 | U33: 1 | V33: 1 | W33: 1 | X33: 2 | Y33: 1.75 | Z33: 0.25 | AA33: 0 | AB33: 0.75 | AC33: 0 | AD33: 0.5 | AE33: 1 | AF33: 0.75 | AG33: 0.25 | AH33: 0.5 | AI33: 1 | AJ33: 1.5 | AK33: 1.25 | AL33: 0.5 | AM33: 1 | AN33: 0.25 | AO33: 0.25 | AP33: 0.25
A34: 612 | B34: 4 | C34: B4 | D34: 33 | E34: =Tableau1[[#This Row],[PAP]] -> oui | F34: 1 | G34: 0.2 | H34: 0.5 | I34: 0 | J34: 0 | K34: 0 | L34: 0 | M34: 0 | N34: 0.2 | O34: 0.2 | P34: 1 | Q34: 0 | R34: 0 | S34: 0 | T34: 0 | U34: 1 | V34: 1 | W34: 0.2 | X34: 0 | Y34: 0 | Z34: 1.5 | AA34: 0.5 | AB34: 0 | AC34: 0.25 | AD34: 0.25 | AE34: 0 | AF34: 0.75 | AG34: 0.5 | AH34: 0.25 | AI34: 1 | AJ34: 1 | AK34: 0 | AL34: 0 | AM34: 0 | AN34: 0 | AO34: 0 | AP34: 0.25
A35: 612 | B35: 5 | C35: B5 | D35: 34 | E35: =Tableau1[[#This Row],[PAP]] -> oui | F35: 0.2 | G35: 0.2 | H35: 0.5 | I35: 0 | J35: 0 | K35: 0.5 | L35: 0.5 | M35: 0 | N35: 0 | O35: 0 | P35: 0.2 | Q35: 1.5 | R35: 1 | S35: 1.5 | T35: 0 | U35: 1 | V35: 0.2 | W35: 0.2 | X35: 0 | Y35: 2
A36: 612 | B36: 6 | C36: B6 | D36: 35 | E36: =Tableau1[[#This Row],[PAP]] -> non | F36: 1.5 | G36: 1 | H36: 0.4 | I36: 0.5 | J36: 0 | K36: 0.5 | L36: 0.2 | M36: 0 | N36: 0 | O36: 0 | P36: 1.5 | Q36: 1 | R36: 0 | S36: 0 | T36: 0.2 | U36: 1 | V36: 0 | W36: 2 | X36: 2 | Y36: 2 | Z36: 1 | AA36: 0.75 | AB36: 0.75 | AC36: 0 | AD36: 0.25 | AE36: 1 | AF36: 0.5 | AG36: 0.5 | AH36: 0.5 | AI36: 1 | AJ36: 1.5 | AK36: 1 | AL36: 0.5 | AM36: 1 | AN36: 0 | AO36: 0 | AP36: 0.75
A37: 612 | B37: 7 | C37: B7 | D37: 36 | E37: =Tableau1[[#This Row],[PAP]] -> non | F37: 1 | G37: 1 | H37: 0.5 | I37: 0 | J37: 0 | K37: 0 | L37: 0.5 | M37: 0 | N37: 0 | O37: 0 | P37: 1 | Q37: 0 | R37: 0 | S37: 0 | T37: 0 | U37: 1 | V37: 1 | W37: 2 | X37: 2 | Y37: 0 | Z37: 1 | AA37: 0.75 | AB37: 1.5 | AC37: 1 | AD37: 0.5 | AE37: 0.25 | AF37: 0.75 | AG37: 0.5 | AH37: 0.75 | AI37: 1 | AJ37: 0 | AK37: 0.5 | AL37: 0.5 | AM37: 1 | AN37: 1 | AO37: 0 | AP37: 1
A38: 612 | B38: 8 | C38: B8 | D38: 37 | E38: =Tableau1[[#This Row],[PAP]] -> non | F38: 0 | G38: 0.2 | H38: 0.5 | I38: 0 | J38: 0 | K38: 0 | L38: 0.5 | M38: 0.5 | N38: 0 | O38: 0.4 | P38: 0.2 | Q38: 0 | R38: 0 | S38: 0 | T38: 0 | U38: 1 | V38: 0.2 | W38: 0 | X38: 0.2 | Y38: 2 | Z38: 0.25 | AA38: 1 | AB38: 1.75 | AC38: 0.25 | AD38: 0.5 | AE38: 0 | AF38: 0.75 | AG38: 0.25 | AH38: 0.25 | AI38: 0.5 | AJ38: 0.75 | AK38: 1.5 | AL38: 0 | AM38: 0.25 | AN38: 0 | AO38: 0 | AP38: 1
A39: 612 | B39: 9 | C39: B9 | D39: 38 | E39: =Tableau1[[#This Row],[PAP]] -> oui | F39: 2.5 | P39: 3.1 | U39: 4.2 | Z39: 1 | AA39: 0 | AB39: 0.75 | AC39: 0.25 | AD39: 0.5 | AE39: 1 | AF39: 0.75 | AG39: 0.5 | AH39: 0.5 | AI39: 0.75 | AJ39: 1 | AK39: 0 | AL39: 0 | AM39: 0.25 | AN39: 0 | AO39: 0 | AP39: 1
A40: 612 | B40: 10 | C40: B10 | D40: 39 | E40: =Tableau1[[#This Row],[PAP]] -> non | F40: 1 | G40: 1 | H40: 0.5 | I40: 0 | J40: 0 | K40: 0 | L40: 0 | M40: 0 | N40: 0 | O40: 0 | P40: 1.5 | Q40: 1.75 | R40: 2 | S40: 2 | T40: 1.5 | U40: 1 | V40: 1 | W40: 2 | X40: 2 | Y40: 2 | Z40: 0.5 | AA40: 0.75 | AB40: 1.5 | AC40: 1 | AD40: 0.5 | AE40: 0.25 | AF40: 0.75 | AG40: 0.5 | AH40: 0.5 | AI40: 1 | AJ40: 1.5 | AK40: 1.25 | AL40: 0 | AM40: 1 | AN40: 0 | AO40: 0 | AP40: 1
A41: 612 | B41: 11 | C41: B11 | D41: 40 | E41: =Tableau1[[#This Row],[PAP]] -> non | F41: 1 | G41: 1 | H41: 0.5 | I41: 0 | J41: 0 | K41: 0 | L41: 0.5 | M41: 0 | N41: 0.4 | O41: 0 | P41: 0.2 | Q41: 0 | R41: 0 | S41: 0 | T41: 0 | U41: 1 | V41: 0 | W41: 0 | X41: 0 | Y41: 0 | Z41: 0.25 | AA41: 1 | AB41: 0 | AC41: 0 | AD41: 0.5 | AE41: 0.25 | AF41: 0.5 | AG41: 0 | AH41: 0.25 | AI41: 1 | AJ41: 1.25 | AK41: 0.5 | AL41: 0 | AM41: 0.75 | AN41: 0 | AO41: 0 | AP41: 1
A42: 612 | B42: 12 | C42: B12 | D42: 41 | E42: =Tableau1[[#This Row],[PAP]] -> non | F42: 0 | G42: 0 | H42: 0.4 | I42: 0.5 | J42: 0.5 | K42: 0 | L42: 0 | M42: 0 | N42: 0 | O42: 0 | P42: 1 | Q42: 0 | R42: 0 | S42: 0 | T42: 0 | U42: 1 | V42: 1 | W42: 0 | X42: 0 | Y42: 0 | Z42: 0.25 | AA42: 0.75 | AB42: 1 | AC42: 0.75 | AD42: 0.5 | AE42: 0.25 | AF42: 0.75 | AG42: 0.75 | AH42: 0.5 | AI42: 1 | AJ42: 1.25 | AK42: 1 | AL42: 0 | AM42: 0.75 | AN42: 0 | AO42: 0 | AP42: 0.75
A43: 612 | B43: 13 | C43: B13 | D43: 42 | E43: =Tableau1[[#This Row],[PAP]] -> non | F43: 1.5 | G43: 1 | H43: 0.5 | I43: 0 | J43: 0 | K43: 0 | L43: 0 | M43: 0 | N43: 0 | O43: 0 | P43: 1 | Q43: 0 | R43: 0 | S43: 0 | T43: 0 | U43: 1 | V43: 0 | W43: 0.2 | X43: 0 | Y43: 0 | Z43: 0 | AA43: 1 | AB43: 0.5 | AC43: 0.75 | AD43: 0.75 | AE43: 0.25 | AF43: 0.25 | AG43: 0 | AH43: 0.25 | AI43: 1 | AJ43: 0.5 | AK43: 0 | AL43: 0 | AM43: 1 | AN43: 0 | AO43: 0 | AP43: 1
...

Sheet PAP
A1: PAP | B1: oui
A3: Étiquettes de lignes | B3: Nombre de PAP
A4: 611 | B4: 8
A5: 612 | B5: 6
A6: 613 | B6: 11
A7: 614 | B7: 8
A8: 615 | B8: 3
A9: Total général | B9: 36

Sheet Synth GAUSS
A1: DC1 F | B1: DC2 F | C1: DC3 F | D1: DC4 F | G1: DEVOIR 1 | J1: DEVOIR 2
A2: ='Notes DC'!J15 -> 2 | B2: ='Notes DC'!O15 -> 0 | C2: ='Notes DC'!M15 -> 0 | D2: ='Notes DC'!N15 -> 0 | F2: Moyenne | G2: =GETPIVOTDATA("Moyenne de DC1",Dyn!$A$16) -> 9.5539568 | J2: =GETPIVOTDATA("Moyenne de DC2",Dyn!$A$16) -> 8.0935252
A3: ='Notes DC'!J31 -> 2 | B3: ='Notes DC'!O31 -> 5 | C3: ='Notes DC'!M31 -> 1.75 | D3: ='Notes DC'!N31 -> 1 | F3: EC | G3: =GETPIVOTDATA("Écartype de DC1",Dyn!$A$16) -> 3.8975516 | J3: =GETPIVOTDATA("Écartype de DC2",Dyn!$A$16) -> 5.071792
A4: ='Notes DC'!J85 -> 2 | B4: ='Notes DC'!O85 -> 6 | C4: ='Notes DC'!M85 -> 2.5 | D4: ='Notes DC'!N85 -> 0 | F4: Notes | G4: Fréq DC1 | H4: Distrib DC1 | J4: Fréq DC2 | K4: Distrib DC2 P
A5: ='Notes DC'!J42 -> 3 | B5: ='Notes DC'!O42 -> 11 | C5: ='Notes DC'!M42 -> 3.75 | D5: ='Notes DC'!N42 -> 1.5 | F5: 0 | G5: {=FREQUENCY(Tableau3[DC1 F],F5:F25)} -> 0 | H5: =NORMDIST(F5,$G$2,$G$3,FALSE) -> 0.0050738624 | J5: {=FREQUENCY(Tableau3[DC2 F],F5:F25)} -> 34 | K5: =NORMDIST(F5,$G$2,$G$3,FALSE) -> 0.0050738624
A6: ='Notes DC'!J45 -> 3 | B6: ='Notes DC'!L45 -> 1.75 | C6: ='Notes DC'!M45 -> 3.75 | D6: ='Notes DC'!N45 -> 1.75 | F6: 1 | G6: 0 | H6: =NORMDIST(F6,$G$2,$G$3,FALSE) -> 0.0092083797 | J6: 13 | K6: =NORMDIST(F6,$G$2,$G$3,FALSE) -> 0.0092083797
A7: ='Notes DC'!J46 -> 3 | B7: ='Notes DC'!L46 -> 1 | C7: ='Notes DC'!M46 -> 3.5 | D7: ='Notes DC'!N46 -> 1.25 | F7: 2 | G7: 3 | H7: =NORMDIST(F7,$G$2,$G$3,FALSE) -> 0.015647272 | J7: 37 | K7: =NORMDIST(F7,$G$2,$G$3,FALSE) -> 0.015647272
A8: ='Notes DC'!J2 -> 4 | B8: ='Notes DC'!L2 -> 0 | C8: ='Notes DC'!M2 -> 0 | D8: ='Notes DC'!N2 -> 0 | F8: 3 | G8: 3 | H8: =NORMDIST(F8,$G$2,$G$3,FALSE) -> 0.024894589 | J8: 37 | K8: =NORMDIST(F8,$G$2,$G$3,FALSE) -> 0.024894589
A9: ='Notes DC'!J18 -> 4 | B9: ='Notes DC'!L18 -> 0 | C9: ='Notes DC'!M18 -> 0 | D9: ='Notes DC'!N18 -> 0 | F9: 4 | G9: 11 | H9: =NORMDIST(F9,$G$2,$G$3,FALSE) -> 0.037083625 | J9: 13 | K9: =NORMDIST(F9,$G$2,$G$3,FALSE) -> 0.037083625
A10: ='Notes DC'!J23 -> 4 | B10: ='Notes DC'!L23 -> 0 | C10: ='Notes DC'!M23 -> 0 | D10: ='Notes DC'!N23 -> 0 | F10: 5 | G10: 9 | H10: =NORMDIST(F10,$G$2,$G$3,FALSE) -> 0.051721401 | J10: 3 | K10: =NORMDIST(F10,$G$2,$G$3,FALSE) -> 0.051721401
A11: ='Notes DC'!J34 -> 4 | B11: ='Notes DC'!L34 -> 1.75 | C11: ='Notes DC'!M34 -> 2.25 | D11: ='Notes DC'!N34 -> 0.25 | F11: 6 | G11: 6 | H11: =NORMDIST(F11,$G$2,$G$3,FALSE) -> 0.06754128 | J11: 1 | K11: =NORMDIST(F11,$G$2,$G$3,FALSE) -> 0.06754128
A12: ='Notes DC'!J38 -> 4 | B12: ='Notes DC'!L38 -> 1.75 | C12: ='Notes DC'!M38 -> 3 | D12: ='Notes DC'!N38 -> 1.25 | F12: 7 | G12: 11 | H12: =NORMDIST(F12,$G$2,$G$3,FALSE) -> 0.082580818 | J12: 0 | K12: =NORMDIST(F12,$G$2,$G$3,FALSE) -> 0.082580818
A13: ='Notes DC'!J41 -> 4 | B13: ='Notes DC'!L41 -> 1.25 | C13: ='Notes DC'!M41 -> 3 | D13: ='Notes DC'!N41 -> 1.75 | F13: 8 | G13: 14 | H13: =NORMDIST(F13,$G$2,$G$3,FALSE) -> 0.094536598 | J13: 0 | K13: =NORMDIST(F13,$G$2,$G$3,FALSE) -> 0.094536598
A14: ='Notes DC'!J43 -> 4 | B14: ='Notes DC'!L43 -> 2 | C14: ='Notes DC'!M43 -> 1.75 | D14: ='Notes DC'!N43 -> 2 | F14: 9 | G14: 14 | H14: =NORMDIST(F14,$G$2,$G$3,FALSE) -> 0.10132851 | J14: 0 | K14: =NORMDIST(F14,$G$2,$G$3,FALSE) -> 0.10132851
A15: ='Notes DC'!J54 -> 4 | B15: ='Notes DC'!L54 -> 3.25 | C15: ='Notes DC'!M54 -> 4.5 | D15: ='Notes DC'!N54 -> 1 | F15: 10 | G15: 12 | H15: =NORMDIST(F15,$G$2,$G$3,FALSE) -> 0.10168906 | J15: 0 | K15: =NORMDIST(F15,$G$2,$G$3,FALSE) -> 0.10168906
A16: ='Notes DC'!J112 -> 4 | B16: ='Notes DC'!L112 -> 1.75 | C16: ='Notes DC'!M112 -> 2 | D16: ='Notes DC'!N112 -> 0.5 | F16: 11 | G16: 12 | H16: =NORMDIST(F16,$G$2,$G$3,FALSE) -> 0.095549343 | J16: 1 | K16: =NORMDIST(F16,$G$2,$G$3,FALSE) -> 0.095549343
A17: ='Notes DC'!J136 -> 4 | B17: ='Notes DC'!L136 -> 1.5 | C17: ='Notes DC'!M136 -> 1.5 | D17: ='Notes DC'!N136 -> 2.5 | F17: 12 | G17: 7 | H17: =NORMDIST(F17,$G$2,$G$3,FALSE) -> 0.084060519 | J17: 0 | K17: =NORMDIST(F17,$G$2,$G$3,FALSE) -> 0.084060519
A18: ='Notes DC'!J137 -> 4 | B18: ='Notes DC'!L137 -> 0.25 | C18: ='Notes DC'!M137 -> 2.5 | D18: ='Notes DC'!N137 -> 1.5 | F18: 13 | G18: 15 | H18: =NORMDIST(F18,$G$2,$G$3,FALSE) -> 0.069241637 | J18: 0 | K18: =NORMDIST(F18,$G$2,$G$3,FALSE) -> 0.069241637
A19: ='Notes DC'!J4 -> 5 | B19: ='Notes DC'!L4 -> 0 | C19: ='Notes DC'!M4 -> 0 | D19: ='Notes DC'!N4 -> 0 | F19: 14 | G19: 7 | H19: =NORMDIST(F19,$G$2,$G$3,FALSE) -> 0.053401503 | J19: 0 | K19: =NORMDIST(F19,$G$2,$G$3,FALSE) -> 0.053401503
A20: ='Notes DC'!J5 -> 5 | B20: ='Notes DC'!L5 -> 0 | C20: ='Notes DC'!M5 -> 0 | D20: ='Notes DC'!N5 -> 0 | F20: 15 | G20: 6 | H20: =NORMDIST(F20,$G$2,$G$3,FALSE) -> 0.038561199 | J20: 0 | K20: =NORMDIST(F20,$G$2,$G$3,FALSE) -> 0.038561199
A21: ='Notes DC'!J50 -> 5 | B21: ='Notes DC'!L50 -> 2.25 | C21: ='Notes DC'!M50 -> 2.75 | D21: ='Notes DC'!N50 -> 1.5 | F21: 16 | G21: 2 | H21: =NORMDIST(F21,$G$2,$G$3,FALSE) -> 0.026071047 | J21: 0 | K21: =NORMDIST(F21,$G$2,$G$3,FALSE) -> 0.026071047
A22: ='Notes DC'!J51 -> 5 | B22: ='Notes DC'!L51 -> 2.25 | C22: ='Notes DC'!M51 -> 3.75 | D22: ='Notes DC'!N51 -> 1.5 | F22: 17 | G22: 5 | H22: =NORMDIST(F22,$G$2,$G$3,FALSE) -> 0.016503548 | J22: 0 | K22: =NORMDIST(F22,$G$2,$G$3,FALSE) -> 0.016503548
A23: ='Notes DC'!J58 -> 5 | B23: ='Notes DC'!L58 -> 0 | C23: ='Notes DC'!M58 -> 0 | D23: ='Notes DC'!N58 -> 0 | F23: 18 | G23: 1 | H23: =NORMDIST(F23,$G$2,$G$3,FALSE) -> 0.0097815356 | J23: 0 | K23: =NORMDIST(F23,$G$2,$G$3,FALSE) -> 0.0097815356
A24: ='Notes DC'!J60 -> 5 | B24: ='Notes DC'!L60 -> 1.75 | C24: ='Notes DC'!M60 -> 4 | D24: ='Notes DC'!N60 -> 1.5 | F24: 19 | G24: 1 | H24: =NORMDIST(F24,$G$2,$G$3,FALSE) -> 0.0054280978 | J24: 0 | K24: =NORMDIST(F24,$G$2,$G$3,FALSE) -> 0.0054280978
A25: ='Notes DC'!J111 -> 5 | B25: ='Notes DC'!L111 -> 1.75 | C25: ='Notes DC'!M111 -> 4.25 | D25: ='Notes DC'!N111 -> 1 | F25: 20 | G25: 0 | H25: =NORMDIST(F25,$G$2,$G$3,FALSE) -> 0.0028203252 | J25: 0 | K25: =NORMDIST(F25,$G$2,$G$3,FALSE) -> 0.0028203252
A26: ='Notes DC'!J118 -> 5 | B26: ='Notes DC'!L118 -> 0 | C26: ='Notes DC'!M118 -> 0 | D26: ='Notes DC'!N118 -> 0 | G26: 0 | J26: 0
A27: ='Notes DC'!J123 -> 5 | B27: ='Notes DC'!L123 -> 0.75 | C27: ='Notes DC'!M123 -> 3 | D27: ='Notes DC'!N123 -> 2
A28: ='Notes DC'!J7 -> 6 | B28: ='Notes DC'!L7 -> 0 | C28: ='Notes DC'!M7 -> 0 | D28: ='Notes DC'!N7 -> 0
A29: ='Notes DC'!J62 -> 6 | B29: ='Notes DC'!L62 -> 1.2 | C29: ='Notes DC'!M62 -> 1 | D29: ='Notes DC'!N62 -> 1
A30: ='Notes DC'!J77 -> 6 | B30: ='Notes DC'!L77 -> 2.2 | C30: ='Notes DC'!M77 -> 2.8 | D30: ='Notes DC'!N77 -> 1.2
A31: ='Notes DC'!J83 -> 6 | B31: ='Notes DC'!L83 -> 0.8 | C31: ='Notes DC'!M83 -> 2.5 | D31: ='Notes DC'!N83 -> 2.2
A32: ='Notes DC'!J107 -> 6 | B32: ='Notes DC'!L107 -> 1.25 | C32: ='Notes DC'!M107 -> 5 | D32: ='Notes DC'!N107 -> 0 | G32: DEVOIR 3 | J32: DEVOIR 4
A33: ='Notes DC'!J132 -> 6 | B33: ='Notes DC'!L132 -> 2 | C33: ='Notes DC'!M132 -> 2.75 | D33: ='Notes DC'!N132 -> 2.75 | F33: Moyenne | G33: =AVERAGE(#REF!) -> #REF! | J33: =AVERAGE(#REF!) -> #REF!
A34: ='Notes DC'!J35 -> 7 | B34: ='Notes DC'!L35 -> 0 | C34: ='Notes DC'!M35 -> 0 | D34: ='Notes DC'!N35 -> 0 | F34: EC | G34: =STDEV(#REF!) -> #REF! | J34: =STDEV(#REF!) -> #REF!
A35: ='Notes DC'!J37 -> 7 | B35: ='Notes DC'!L37 -> 3 | C35: ='Notes DC'!M37 -> 2.25 | D35: ='Notes DC'!N37 -> 3.5 | F35: Notes | G35: Fréq DC1 = | H35: Distrib DC1 = | J35: Fréq DC2 = | K35: Distrib DC2 P =
A36: ='Notes DC'!J55 -> 7 | B36: ='Notes DC'!L55 -> 3.75 | C36: ='Notes DC'!M55 -> 4 | D36: ='Notes DC'!N55 -> 3 | F36: 0 | G36: {=FREQUENCY(#REF!,F36:F56)} -> #REF! | H36: =NORMDIST(F36,$G$33,$G$34,FALSE) -> #REF! | J36: {=FREQUENCY(#REF!,F36:F56)} -> #REF! | K36: =NORMDIST(F36,$G$33,$G$34,FALSE) -> #REF!
A37: ='Notes DC'!J59 -> 7 | B37: ='Notes DC'!L59 -> 3 | C37: ='Notes DC'!M59 -> 0.5 | D37: ='Notes DC'!N59 -> 2 | F37: 1 | H37: =NORMDIST(F37,$G$33,$G$34,FALSE) -> #REF! | K37: =NORMDIST(F37,$G$33,$G$34,FALSE) -> #REF!
A38: ='Notes DC'!J67 -> 7 | B38: ='Notes DC'!L67 -> 0 | C38: ='Notes DC'!M67 -> 0 | D38: ='Notes DC'!N67 -> 2.7 | F38: 2 | H38: =NORMDIST(F38,$G$33,$G$34,FALSE) -> #REF! | K38: =NORMDIST(F38,$G$33,$G$34,FALSE) -> #REF!
A39: ='Notes DC'!J70 -> 7 | B39: ='Notes DC'!L70 -> 1 | C39: ='Notes DC'!M70 -> 0.6 | D39: ='Notes DC'!N70 -> 2 | F39: 3 | H39: =NORMDIST(F39,$G$33,$G$34,FALSE) -> #REF! | K39: =NORMDIST(F39,$G$33,$G$34,FALSE) -> #REF!
A40: ='Notes DC'!J84 -> 7 | B40: ='Notes DC'!L84 -> 1.6 | C40: ='Notes DC'!M84 -> 1.9 | D40: ='Notes DC'!N84 -> 0.3 | F40: 4 | H40: =NORMDIST(F40,$G$33,$G$34,FALSE) -> #REF! | K40: =NORMDIST(F40,$G$33,$G$34,FALSE) -> #REF!
...

Sheet Dyn
A1: Tableaux Dynamiques
Q2: Nombre de Classe | R2: Étiquettes de colonnes
Q3: Étiquettes de lignes | R3: 2 | S3: 3 | T3: 4 | U3: 5 | V3: 6 | W3: 7 | X3: 8 | Y3: 9 | Z3: 10 | AA3: 11 | AB3: 12 | AC3: 13 | AD3: 14 | AE3: 15 | AF3: 16 | AG3: 17 | AH3: 18 | AI3: 19 | AJ3: Total général
Q4: A1 | T4: 1 | AJ4: 1
A5: PAP | B5: oui | Q5: A2 | Z5: 1 | AJ5: 1
Q6: A3 | U6: 1 | AJ6: 1
A7: Étiquettes de lignes | B7: Nombre de PAP | Q7: A4 | U7: 1 | AJ7: 1
A8: 611 | B8: 8 | Q8: A5 | Z8: 1 | AJ8: 1
A9: 612 | B9: 6 | Q9: A6 | V9: 1 | AJ9: 1
A10: 613 | B10: 11 | Q10: A7 | AB10: 1 | AJ10: 1
A11: 614 | B11: 8 | Q11: A8 | AC11: 1 | AJ11: 1
A12: 615 | B12: 3 | Q12: A9 | AC12: 1 | AJ12: 1
A13: Total général | B13: 36 | Q13: A10 | AD13: 1 | AJ13: 1
Q14: A11 | Y14: 1 | AJ14: 1
Q15: A12 | Z15: 1 | AJ15: 1
A16: Étiquettes de lignes | B16: Moyenne de 1M | C16: Moyenne de 1E | D16: Moyenne de 1i | E16: Moyenne de DC1 | F16: Écartype de DC1 | G16: Moyenne de 2C | H16: Moyenne de 2M | I16: Moyenne de 2E | J16: Moyenne de 2i | K16: Moyenne de DC2 | L16: Écartype de DC2 | Q16: A13 | X16: 1 | AJ16: 1
A17: 611 | B17: 3.137931 | C17: 3.8793103 | D17: 5.5689655 | E17: 9 | F17: 3.305839 | G17: 0 | H17: 0.044827586 | I17: 0.11724138 | J17: 0.086206897 | K17: 0.27586207 | L17: 1.4855627 | Q17: A14 | R17: 1 | AJ17: 1
A18: 612 | B18: 2.595 | C18: 3.15 | D18: 4.285 | E18: 7.3333333 | F18: 3.8625821 | G18: 2.3416667 | H18: 2.1166667 | I18: 2.9166667 | J18: 1.6583333 | K18: 9.4666667 | L18: 3.5693459 | Q18: A15 | Y18: 1 | AJ18: 1
A19: 613 | B19: 4.0703125 | C19: 5.1796875 | D19: 6.8046875 | E19: 11.59375 | F19: 3.9664673 | G19: 2.6703125 | H19: 1.990625 | I19: 2 | J19: 2.0875 | K19: 9.53125 | L19: 3.3116059 | Q19: A16 | X19: 1 | AJ19: 1
A20: 614 | B20: 4.1946429 | C20: 4.6178571 | D20: 5.9053571 | E20: 10.571429 | F20: 3.4899705 | G20: 2.375 | H20: 2.0535714 | I20: 3.4732143 | J20: 2.3660714 | K20: 10.821429 | L20: 3.7023873 | Q20: A17 | T20: 1 | AJ20: 1
