Workbook

Sheet Feuil1
A1: Article | B1: Désignation | C1: Ref fournisseur | D1: QUANTITÉ TOTALE | E1: CHIFFRE D'AFFAIRE TOTAL | F1: Mousselines | G1: 1
A2: 01000 | B2: TAI-CHI | C2: =VLOOKUP(A2,'[1]TABLE DES PRODUITS'!$A$2:$H$699,3,FALSE) -> 19104 | D2: 23.354 | E2: =((VLOOKUP('[1]FOCUS THE 2024'!A2,'[1]VENTES CHIFFRE D''AFFAIRE'!$B$2:$Q$625,16,FALSE))*1)*1 -> 1783.16
A3: 01001 | B3: TURMERIC BIO | C3: =VLOOKUP(A3,'[1]TABLE DES PRODUITS'!$A$2:$H$699,3,FALSE) -> K479141 | D3: 2.31 | E3: =((VLOOKUP('[1]FOCUS THE 2024'!A3,'[1]VENTES CHIFFRE D''AFFAIRE'!$B$2:$Q$625,16,FALSE))*1)*1 -> 68.53
A4: 01002 | B4: SÉRÉNITÉ | C4: =VLOOKUP(A4,'[1]TABLE DES PRODUITS'!$A$2:$H$699,3,FALSE) -> 19101 | D4: 28.408 | E4: =((VLOOKUP('[1]FOCUS THE 2024'!A4,'[1]VENTES CHIFFRE D''AFFAIRE'!$B$2:$Q$625,16,FALSE))*1)*1 -> 2567.21
A5: 01003 | B5: SECRET DU MANDARIN | C5: =VLOOKUP(A5,'[1]TABLE DES PRODUITS'!$A$2:$H$699,3,FALSE) -> 19107 | D5: 14.47 | E5: =((VLOOKUP('[1]FOCUS THE 2024'!A5,'[1]VENTES CHIFFRE D''AFFAIRE'!$B$2:$Q$625,16,FALSE))*1)*1 -> 1134.53
A6: 01004 | B6: INVITATION AU VOYAGE | C6: =VLOOKUP(A6,'[1]TABLE DES PRODUITS'!$A$2:$H$699,3,FALSE) -> 19106 | D6: 36.681 | E6: =((VLOOKUP('[1]FOCUS THE 2024'!A6,'[1]VENTES CHIFFRE D''AFFAIRE'!$B$2:$Q$625,16,FALSE))*1)*1 -> 2555.9
A7: 01005 | B7: DOUX RÊVES | C7: =VLOOKUP(A7,'[1]TABLE DES PRODUITS'!$A$2:$H$699,3,FALSE) -> 19103 | D7: 90.901 | E7: =((VLOOKUP('[1]FOCUS THE 2024'!A7,'[1]VENTES CHIFFRE D''AFFAIRE'!$B$2:$Q$625,16,FALSE))*1)*1 -> 6551.11
A8: 01006 | B8: REMEDE TRADITION | C8: =VLOOKUP(A8,'[1]TABLE DES PRODUITS'!$A$2:$H$699,3,FALSE) -> 19108 | D8: 88.82 | E8: =((VLOOKUP('[1]FOCUS THE 2024'!A8,'[1]VENTES CHIFFRE D''AFFAIRE'!$B$2:$Q$625,16,FALSE))*1)*1 -> 6091.93
A9: 01007 | B9: PRETTY SUMMER BIO* | C9: =VLOOKUP(A9,'[1]TABLE DES PRODUITS'!$A$2:$H$699,3,FALSE) -> PR111855 | D9: 246.139 | E9: =((VLOOKUP('[1]FOCUS THE 2024'!A9,'[1]VENTES CHIFFRE D''AFFAIRE'!$B$2:$Q$625,16,FALSE))*1)*1 -> 7472.29
A10: 01008 | B10: ANDALOUSIE BIO* | C10: =VLOOKUP(A10,'[1]TABLE DES PRODUITS'!$A$2:$H$699,3,FALSE) -> 18509 | D10: 22.611 | E10: =((VLOOKUP('[1]FOCUS THE 2024'!A10,'[1]VENTES CHIFFRE D''AFFAIRE'!$B$2:$Q$625,16,FALSE))*1)*1 -> 1649.47
A11: 01009 | B11: PRETTY WINTER (Nuit d'Hiver) | C11: =VLOOKUP(A11,'[1]TABLE DES PRODUITS'!$A$2:$H$699,3,FALSE) -> 18512 | D11: 35.298 | E11: =((VLOOKUP('[1]FOCUS THE 2024'!A11,'[1]VENTES CHIFFRE D''AFFAIRE'!$B$2:$Q$625,16,FALSE))*1)*1 -> 2619.7
A12: 01010 | B12: SIDERITIS (THÉ DES MONTAGNES GREC) | C12: =VLOOKUP(A12,'[1]TABLE DES PRODUITS'!$A$2:$H$699,3,FALSE) -> Thé des montagnes grec | D12: 3.369 | E12: =((VLOOKUP('[1]FOCUS THE 2024'!A12,'[1]VENTES CHIFFRE D''AFFAIRE'!$B$2:$Q$625,16,FALSE))*1)*1 -> 68.21
A13: 01011 | B13: THYM GREC | C13: =VLOOKUP(A13,'[1]TABLE DES PRODUITS'!$A$2:$H$699,3,FALSE) -> THYM GREC | D13: 12.027 | E13: =((VLOOKUP('[1]FOCUS THE 2024'!A13,'[1]VENTES CHIFFRE D''AFFAIRE'!$B$2:$Q$625,16,FALSE))*1)*1 -> 616.55
... A625: VIV017 | B625: VIVA Metal infuseur couvercle porcelaine | C625: =VLOOKUP(A625,'[1]TABLE DES PRODUITS'!$A$2:$H$699,3,FALSE) -> V81011 | D625: 117 | E625: =((VLOOKUP('[1]FOCUS THE 2024'!A625,'[1]VENTES CHIFFRE D''AFFAIRE'!$B$2:$Q$625,16,FALSE))*1)*1 -> 950.84
