Workbook

Sheet Récap
B2: Tableau Heures Supplémentaires | K2: NOM
K3: PRENOM
B4: CALCUL AUTOMATIQUE NE PAS TOUCHER | K4: CONTRAT | L4: 1.625
B5: S | C5: Total hebdo | D5: Heures Négatives | E5: Heures Négatives | F5: Heures suppl. | G5: Heures majorées à 20% | H5: Heures majorées à 50% | I5: Total Heures Dues
B6: 1 | C6: =Janvier!K7 -> 0 | D6: =SUM(IF(AND(NOT(ISBLANK(C6)),C6<$K$4),C6-$K$4,"")) -> #VALUE! | E6: =(IF(AND(NOT(ISBLANK(C6)),C6<$L$4),C6-$L$4,"")) -> -1.625 | F6: =IF(C6-L4<0,0,C6-L4) -> 0 | G6: =IF(F6<=4,F6,4) -> 0 | H6: =IF(F6-G6>0,F6-G6,0) -> 0 | I6: =SUM(G6*1.2)+(H6*1.5) -> 0 | K6: Total heures dues 2024 | L6: =SUM(I3:I54) -> 0
B7: 2 | C7: =Janvier!K14 -> 0 | E7: =(IF(AND(NOT(ISBLANK(C7)),C7<$L$4),C7-$L$4,"")) -> -1.625 | F7: =IF(C7-L4<0,0,C7-L4) -> 0 | G7: =IF(F7<=4,F7,4) -> 0 | H7: =IF(F7-G7>0,F7-G7,0) -> 0 | I7: =SUM(G7*1.2)+(H7*1.5) -> 0 | K7: Total heures négatives 2024
B8: 3 | C8: =Janvier!K21 -> 0 | E8: =(IF(AND(NOT(ISBLANK(C8)),C8<$L$4),C8-$L$4,"")) -> -1.625 | F8: =IF(C8-L4<0,0,C8-L4) -> 0 | G8: =IF(F8<=4,F8,4) -> 0 | H8: =IF(F8-G8>0,F8-G8,0) -> 0 | I8: =SUM(G8*1.2)+(H8*1.5) -> 0
B9: 4 | C9: =Janvier!K28 -> 0 | E9: =(IF(AND(NOT(ISBLANK(C9)),C9<$L$4),C9-$L$4,"")) -> -1.625 | F9: =IF(C9-L4<0,0,C9-L4) -> 0 | G9: =IF(F9<=4,F9,4) -> 0 | H9: =IF(F9-G9>0,F9-G9,0) -> 0 | I9: =SUM(G9*1.2)+(H9*1.5) -> 0
B10: 5 | C10: =Janvier!K35 -> 0 | E10: =(IF(AND(NOT(ISBLANK(C10)),C10<$L$4),C10-$L$4,"")) -> -1.625 | F10: =IF(C10-L4<0,0,C10-L4) -> 0 | G10: =IF(F10<=4,F10,4) -> 0 | H10: =IF(F10-G10>0,F10-G10,0) -> 0 | I10: =SUM(G10*1.2)+(H10*1.5) -> 0
B11: 6 | C11: =Fevrier!K7 -> 0 | E11: =(IF(AND(NOT(ISBLANK(C11)),C11<$L$4),C11-$L$4,"")) -> -1.625 | F11: =IF(C11-L4<0,0,C11-L4) -> 0 | G11: =IF(F11<=4,F11,4) -> 0 | H11: =IF(F11-G11>0,F11-G11,0) -> 0 | I11: =SUM(G11*1.2)+(H11*1.5) -> 0
B12: 7 | C12: =Fevrier!K14 -> 0 | E12: =(IF(AND(NOT(ISBLANK(C12)),C12<$L$4),C12-$L$4,"")) -> -1.625 | F12: =IF(C12-L4<0,0,C12-L4) -> 0 | G12: =IF(F12<=4,F12,4) -> 0 | H12: =IF(F12-G12>0,F12-G12,0) -> 0 | I12: =SUM(G12*1.2)+(H12*1.5) -> 0
B13: 8 | C13: =Fevrier!K21 -> 0 | E13: =(IF(AND(NOT(ISBLANK(C13)),C13<$L$4),C13-$L$4,"")) -> -1.625 | F13: =IF(C13-L4<0,0,C13-L4) -> 0 | G13: =IF(F13<=4,F13,4) -> 0 | H13: =IF(F13-G13>0,F13-G13,0) -> 0 | I13: =SUM(G13*1.2)+(H13*1.5) -> 0
B14: 9 | C14: =Fevrier!K28 -> 0 | E14: =(IF(AND(NOT(ISBLANK(C14)),C14<$L$4),C14-$L$4,"")) -> -1.625 | F14: =IF(C14-L4<0,0,C14-L4) -> 0 | G14: =IF(F14<=4,F14,4) -> 0 | H14: =IF(F14-G14>0,F14-G14,0) -> 0 | I14: =SUM(G14*1.2)+(H14*1.5) -> 0
B15: 10 | C15: =Mars!K7 -> 0 | E15: =(IF(AND(NOT(ISBLANK(C15)),C15<$L$4),C15-$L$4,"")) -> -1.625 | F15: =IF(C15-L4<0,0,C15-L4) -> 0 | G15: =IF(F15<=4,F15,4) -> 0 | H15: =IF(F15-G15>0,F15-G15,0) -> 0 | I15: =SUM(G15*1.2)+(H15*1.5) -> 0
B16: 11 | C16: =Mars!K14 -> 0 | E16: =(IF(AND(NOT(ISBLANK(C16)),C16<$L$4),C16-$L$4,"")) -> -1.625 | F16: =IF(C16-L4<0,0,C16-L4) -> 0 | G16: =IF(F16<=4,F16,4) -> 0 | H16: =IF(F16-G16>0,F16-G16,0) -> 0 | I16: =SUM(G16*1.2)+(H16*1.5) -> 0
B17: 12 | C17: =Mars!K21 -> 0 | E17: =(IF(AND(NOT(ISBLANK(C17)),C17<$L$4),C17-$L$4,"")) -> -1.625 | F17: =IF(C17-L4<0,0,C17-L4) -> 0 | G17: =IF(F17<=4,F17,4) -> 0 | H17: =IF(F17-G17>0,F17-G17,0) -> 0 | I17: =SUM(G17*1.2)+(H17*1.5) -> 0
B18: 13 | C18: =Mars!K28 -> 0 | E18: =(IF(AND(NOT(ISBLANK(C18)),C18<$L$4),C18-$L$4,"")) -> -1.625 | F18: =IF(C18-L4<0,0,C18-L4) -> 0 | G18: =IF(F18<=4,F18,4) -> 0 | H18: =IF(F18-G18>0,F18-G18,0) -> 0 | I18: =SUM(G18*1.2)+(H18*1.5) -> 0
B19: 14 | C19: =Avril!K7 -> 0 | E19: =(IF(AND(NOT(ISBLANK(C19)),C19<$L$4),C19-$L$4,"")) -> -1.625 | F19: =IF(C19-L4<0,0,C19-L4) -> 0 | G19: =IF(F19<=4,F19,4) -> 0 | H19: =IF(F19-G19>0,F19-G19,0) -> 0 | I19: =SUM(G19*1.2)+(H19*1.5) -> 0
B20: 15 | C20: =Avril!K14 -> 0 | E20: =(IF(AND(NOT(ISBLANK(C20)),C20<$L$4),C20-$L$4,"")) -> -1.625 | F20: =IF(C20-L4<0,0,C20-L4) -> 0 | G20: =IF(F20<=4,F20,4) -> 0 | H20: =IF(F20-G20>0,F20-G20,0) -> 0 | I20: =SUM(G20*1.2)+(H20*1.5) -> 0
B21: 16 | C21: =Avril!K21 -> 0 | E21: =(IF(AND(NOT(ISBLANK(C21)),C21<$L$4),C21-$L$4,"")) -> -1.625 | F21: =IF(C21-L4<0,0,C21-L4) -> 0 | G21: =IF(F21<=4,F21,4) -> 0 | H21: =IF(F21-G21>0,F21-G21,0) -> 0 | I21: =SUM(G21*1.2)+(H21*1.5) -> 0
B22: 17 | C22: =Avril!K28 -> 0 | E22: =(IF(AND(NOT(ISBLANK(C22)),C22<$L$4),C22-$L$4,"")) -> -1.625 | F22: =IF(C22-L4<0,0,C22-L4) -> 0 | G22: =IF(F22<=4,F22,4) -> 0 | H22: =IF(F22-G22>0,F22-G22,0) -> 0 | I22: =SUM(G22*1.2)+(H22*1.5) -> 0
B23: 18 | C23: =Avril!K35 -> 0 | E23: =(IF(AND(NOT(ISBLANK(C23)),C23<$L$4),C23-$L$4,"")) -> -1.625 | F23: =IF(C23-L4<0,0,C23-L4) -> 0 | G23: =IF(F23<=4,F23,4) -> 0 | H23: =IF(F23-G23>0,F23-G23,0) -> 0 | I23: =SUM(G23*1.2)+(H23*1.5) -> 0
B24: 19 | C24: =Mai!K7 -> 0 | E24: =(IF(AND(NOT(ISBLANK(C24)),C24<$L$4),C24-$L$4,"")) -> -1.625 | F24: =IF(C24-L4<0,0,C24-L4) -> 0 | G24: =IF(F24<=4,F24,4) -> 0 | H24: =IF(F24-G24>0,F24-G24,0) -> 0 | I24: =SUM(G24*1.2)+(H24*1.5) -> 0
B25: 20 | C25: =Mai!K14 -> 0 | E25: =(IF(AND(NOT(ISBLANK(C25)),C25<$L$4),C25-$L$4,"")) -> -1.625 | F25: =IF(C25-L4<0,0,C25-L4) -> 0 | G25: =IF(F25<=4,F25,4) -> 0 | H25: =IF(F25-G25>0,F25-G25,0) -> 0 | I25: =SUM(G25*1.2)+(H25*1.5) -> 0
B26: 21 | C26: =Mai!K21 -> 0 | E26: =(IF(AND(NOT(ISBLANK(C26)),C26<$L$4),C26-$L$4,"")) -> -1.625 | F26: =IF(C26-L4<0,0,C26-L4) -> 0 | G26: =IF(F26<=4,F26,4) -> 0 | H26: =IF(F26-G26>0,F26-G26,0) -> 0 | I26: =SUM(G26*1.2)+(H26*1.5) -> 0
B27: 22 | C27: =Mai!K28 -> 0 | E27: =(IF(AND(NOT(ISBLANK(C27)),C27<$L$4),C27-$L$4,"")) -> -1.625 | F27: =IF(C27-L4<0,0,C27-L4) -> 0 | G27: =IF(F27<=4,F27,4) -> 0 | H27: =IF(F27-G27>0,F27-G27,0) -> 0 | I27: =SUM(G27*1.2)+(H27*1.5) -> 0
B28: 23 | C28: =Juin!K7 -> 0 | E28: =(IF(AND(NOT(ISBLANK(C28)),C28<$L$4),C28-$L$4,"")) -> -1.625 | F28: =IF(C28-L4<0,0,C28-L4) -> 0 | G28: =IF(F28<=4,F28,4) -> 0 | H28: =IF(F28-G28>0,F28-G28,0) -> 0 | I28: =SUM(G28*1.2)+(H28*1.5) -> 0
B29: 24 | C29: =Juin!K14 -> 0 | E29: =(IF(AND(NOT(ISBLANK(C29)),C29<$L$4),C29-$L$4,"")) -> -1.625 | F29: =IF(C29-L4<0,0,C29-L4) -> 0 | G29: =IF(F29<=4,F29,4) -> 0 | H29: =IF(F29-G29>0,F29-G29,0) -> 0 | I29: =SUM(G29*1.2)+(H29*1.5) -> 0
B30: 25 | C30: =Juin!K21 -> 0 | E30: =(IF(AND(NOT(ISBLANK(C30)),C30<$L$4),C30-$L$4,"")) -> -1.625 | F30: =IF(C30-L4<0,0,C30-L4) -> 0 | G30: =IF(F30<=4,F30,4) -> 0 | H30: =IF(F30-G30>0,F30-G30,0) -> 0 | I30: =SUM(G30*1.2)+(H30*1.5) -> 0
B31: 26 | C31: =Juin!K28 -> 0 | E31: =(IF(AND(NOT(ISBLANK(C31)),C31<$L$4),C31-$L$4,"")) -> -1.625 | F31: =IF(C31-L4<0,0,C31-L4) -> 0 | G31: =IF(F31<=4,F31,4) -> 0 | H31: =IF(F31-G31>0,F31-G31,0) -> 0 | I31: =SUM(G31*1.2)+(H31*1.5) -> 0
B32: 27 | C32: =Juillet!K7 -> 0 | E32: =(IF(AND(NOT(ISBLANK(C32)),C32<$L$4),C32-$L$4,"")) -> -1.625 | F32: =IF(C32-L4<0,0,C32-L4) -> 0 | G32: =IF(F32<=4,F32,4) -> 0 | H32: =IF(F32-G32>0,F32-G32,0) -> 0 | I32: =SUM(G32*1.2)+(H32*1.5) -> 0
B33: 28 | C33: =Juillet!K14 -> 0 | E33: =(IF(AND(NOT(ISBLANK(C33)),C33<$L$4),C33-$L$4,"")) -> -1.625 | F33: =IF(C33-L4<0,0,C33-L4) -> 0 | G33: =IF(F33<=4,F33,4) -> 0 | H33: =IF(F33-G33>0,F33-G33,0) -> 0 | I33: =SUM(G33*1.2)+(H33*1.5) -> 0
B34: 29 | C34: =Juillet!K21 -> 0 | E34: =(IF(AND(NOT(ISBLANK(C34)),C34<$L$4),C34-$L$4,"")) -> -1.625 | F34: =IF(C34-L4<0,0,C34-L4) -> 0 | G34: =IF(F34<=4,F34,4) -> 0 | H34: =IF(F34-G34>0,F34-G34,0) -> 0 | I34: =SUM(G34*1.2)+(H34*1.5) -> 0
B35: 30 | C35: =Juillet!K28 -> 0 | E35: =(IF(AND(NOT(ISBLANK(C35)),C35<$L$4),C35-$L$4,"")) -> -1.625 | F35: =IF(C35-L4<0,0,C35-L4) -> 0 | G35: =IF(F35<=4,F35,4) -> 0 | H35: =IF(F35-G35>0,F35-G35,0) -> 0 | I35: =SUM(G35*1.2)+(H35*1.5) -> 0
B36: 31 | C36: =Juillet!K35 -> 0 | E36: =(IF(AND(NOT(ISBLANK(C36)),C36<$L$4),C36-$L$4,"")) -> -1.625 | F36: =IF(C36-L4<0,0,C36-L4) -> 0 | G36: =IF(F36<=4,F36,4) -> 0 | H36: =IF(F36-G36>0,F36-G36,0) -> 0 | I36: =SUM(G36*1.2)+(H36*1.5) -> 0
B37: 32 | C37: =Aout!K7 -> 0 | E37: =(IF(AND(NOT(ISBLANK(C37)),C37<$L$4),C37-$L$4,"")) -> -1.625 | F37: =IF(C37-L4<0,0,C37-L4) -> 0 | G37: =IF(F37<=4,F37,4) -> 0 | H37: =IF(F37-G37>0,F37-G37,0) -> 0 | I37: =SUM(G37*1.2)+(H37*1.5) -> 0
B38: 33 | C38: =Aout!K14 -> 0 | E38: =(IF(AND(NOT(ISBLANK(C38)),C38<$L$4),C38-$L$4,"")) -> -1.625 | F38: =IF(C38-L4<0,0,C38-L4) -> 0 | G38: =IF(F38<=4,F38,4) -> 0 | H38: =IF(F38-G38>0,F38-G38,0) -> 0 | I38: =SUM(G38*1.2)+(H38*1.5) -> 0
B39: 34 | C39: =Aout!K21 -> 0 | E39: =(IF(AND(NOT(ISBLANK(C39)),C39<$L$4),C39-$L$4,"")) -> -1.625 | F39: =IF(C39-L4<0,0,C39-L4) -> 0 | G39: =IF(F39<=4,F39,4) -> 0 | H39: =IF(F39-G39>0,F39-G39,0) -> 0 | I39: =SUM(G39*1.2)+(H39*1.5) -> 0
B40: 35 | C40: =Aout!K28 -> 0 | E40: =(IF(AND(NOT(ISBLANK(C40)),C40<$L$4),C40-$L$4,"")) -> -1.625 | F40: =IF(C40-L4<0,0,C40-L4) -> 0 | G40: =IF(F40<=4,F40,4) -> 0 | H40: =IF(F40-G40>0,F40-G40,0) -> 0 | I40: =SUM(G40*1.2)+(H40*1.5) -> 0
B41: 36 | C41: =Septembre!K7 -> 0 | E41: =(IF(AND(NOT(ISBLANK(C41)),C41<$L$4),C41-$L$4,"")) -> -1.625 | F41: =IF(C41-L4<0,0,C41-L4) -> 0 | G41: =IF(F41<=4,F41,4) -> 0 | H41: =IF(F41-G41>0,F41-G41,0) -> 0 | I41: =SUM(G41*1.2)+(H41*1.5) -> 0
...

Sheet Janvier
B2: Janvier 2024 | M2: Nom | N2: =Récap!L2 -> 0
M3: Prénom | N3: =Récap!L3 -> 0
B5: Date | D5: Arrivée | E5: Pause | G5: Si Coupure | I5: Départ | J5: Total jour | K5: Total semaine
E6: Début | F6: Fin | G6: Départ | H6: Arrivée
B7: L | C7: 43830 | J7: =SUM(I7-D7)-(F7-E7)-(H7-G7) -> 0 | K7: =SUM(J7:J13) -> 0 | M7: Signature salarié
B8: M | C8: 43831 | J8: =SUM(I8-D8)-(F8-E8)-(H8-G8) -> 0
B9: M | C9: 43832 | J9: =SUM(I9-D9)-(F9-E9)-(H9-G9) -> 0
B10: J | C10: 43833 | J10: =SUM(I10-D10)-(F10-E10)-(H10-G10) -> 0
B11: V | C11: 43834 | J11: =SUM(I11-D11)-(F11-E11)-(H11-G11) -> 0
B12: S | C12: 43835 | J12: =SUM(I12-D12)-(F12-E12)-(H12-G12) -> 0
B13: D | C13: 43836 | J13: =SUM(I13-D13)-(F13-E13)-(H13-G13) -> 0
B14: L | C14: 43837 | J14: =MOD(I14-D14,1)-MOD(H14-G14,1)-MOD(F14-E14,1) -> 0 | K14: =SUM(J14:J20) -> 0 | M14: Signature salarié
B15: M | C15: 43838 | J15: =MOD(I15-D15,1)-MOD(H15-G15,1)-MOD(F15-E15,1) -> 0
B16: M | C16: 43839 | J16: =MOD(I16-D16,1)-MOD(H16-G16,1)-MOD(F16-E16,1) -> 0
B17: J | C17: 43840 | J17: =MOD(I17-D17,1)-MOD(H17-G17,1)-MOD(F17-E17,1) -> 0
B18: V | C18: 43841 | J18: =MOD(I18-D18,1)-MOD(H18-G18,1)-MOD(F18-E18,1) -> 0
B19: S | C19: 43842 | J19: =MOD(I19-D19,1)-MOD(H19-G19,1)-MOD(F19-E19,1) -> 0
B20: D | C20: 43843 | J20: =MOD(I20-D20,1)-MOD(H20-G20,1)-MOD(F20-E20,1) -> 0
B21: L | C21: 43844 | J21: =MOD(I21-D21,1)-MOD(H21-G21,1)-MOD(F21-E21,1) -> 0 | K21: =SUM(J21:J27) -> 0 | M21: Signature salarié
B22: M | C22: 43845 | J22: =MOD(I22-D22,1)-MOD(H22-G22,1)-MOD(F22-E22,1) -> 0
B23: M | C23: 43846 | J23: =MOD(I23-D23,1)-MOD(H23-G23,1)-MOD(F23-E23,1) -> 0
B24: J | C24: 43847 | J24: =MOD(I24-D24,1)-MOD(H24-G24,1)-MOD(F24-E24,1) -> 0
B25: V | C25: 43848 | J25: =MOD(I25-D25,1)-MOD(H25-G25,1)-MOD(F25-E25,1) -> 0
B26: S | C26: 43849 | J26: =MOD(I26-D26,1)-MOD(H26-G26,1)-MOD(F26-E26,1) -> 0
B27: D | C27: 43850 | J27: =MOD(I27-D27,1)-MOD(H27-G27,1)-MOD(F27-E27,1) -> 0
B28: L | C28: 43851 | J28: =MOD(I28-D28,1)-MOD(H28-G28,1)-MOD(F28-E28,1) -> 0 | K28: =SUM(J28:J34) -> 0 | M28: Signature salarié
B29: M | C29: 43852 | J29: =MOD(I29-D29,1)-MOD(H29-G29,1)-MOD(F29-E29,1) -> 0
B30: M | C30: 43853 | J30: =MOD(I30-D30,1)-MOD(H30-G30,1)-MOD(F30-E30,1) -> 0
B31: J | C31: 43854 | J31: =MOD(I31-D31,1)-MOD(H31-G31,1)-MOD(F31-E31,1) -> 0
B32: V | C32: 43855 | J32: =MOD(I32-D32,1)-MOD(H32-G32,1)-MOD(F32-E32,1) -> 0
B33: S | C33: 43856 | J33: =MOD(I33-D33,1)-MOD(H33-G33,1)-MOD(F33-E33,1) -> 0
B34: D | C34: 43857 | J34: =MOD(I34-D34,1)-MOD(H34-G34,1)-MOD(F34-E34,1) -> 0
B35: L | C35: 43858 | J35: =MOD(I35-D35,1)-MOD(H35-G35,1)-MOD(F35-E35,1) -> 0 | K35: =SUM(J35:J41) -> 0 | M35: Signature salarié
B36: M | C36: 43859 | J36: =MOD(I36-D36,1)-MOD(H36-G36,1)-MOD(F36-E36,1) -> 0
B37: M | C37: 43860 | J37: =MOD(I37-D37,1)-MOD(H37-G37,1)-MOD(F37-E37,1) -> 0
B38: J | C38: 43861 | J38: =MOD(I38-D38,1)-MOD(H38-G38,1)-MOD(F38-E38,1) -> 0
B39: V | C39: 43862 | J39: =MOD(I39-D39,1)-MOD(H39-G39,1)-MOD(F39-E39,1) -> 0
B40: S | C40: 43863 | J40: =MOD(I40-D40,1)-MOD(H40-G40,1)-MOD(F40-E40,1) -> 0
B41: D | C41: 43864 | J41: =MOD(I41-D41,1)-MOD(H41-G41,1)-MOD(F41-E41,1) -> 0
C43: Signature Responsable | J43: Congés Payés
...

Sheet Fevrier
B2: Février 2024 | M2: Nom | N2: =Récap!L2 -> 0
M3: Prénom | N3: =Récap!L3 -> 0
B5: Date | D5: Arrivée | E5: Pause | G5: Si Coupure | I5: Départ | J5: Total jour | K5: Total semaine
E6: Début | F6: Fin | G6: Départ | H6: Arrivée
B7: L | C7: 43865 | J7: =MOD(I7-D7,1)-MOD(H7-G7,1)-MOD(F7-E7,1) -> 0 | K7: =SUM(J7:J13) -> 0 | M7: Signature salarié
B8: M | C8: 43866 | J8: =MOD(I8-D8,1)-MOD(H8-G8,1)-MOD(F8-E8,1) -> 0
B9: M | C9: 43867 | J9: =MOD(I9-D9,1)-MOD(H9-G9,1)-MOD(F9-E9,1) -> 0
B10: J | C10: 43868 | J10: =MOD(I10-D10,1)-MOD(H10-G10,1)-MOD(F10-E10,1) -> 0
B11: V | C11: 43869 | J11: =MOD(I11-D11,1)-MOD(H11-G11,1)-MOD(F11-E11,1) -> 0
B12: S | C12: 43870 | J12: =MOD(I12-D12,1)-MOD(H12-G12,1)-MOD(F12-E12,1) -> 0
B13: D | C13: 43871 | J13: =MOD(I13-D13,1)-MOD(H13-G13,1)-MOD(F13-E13,1) -> 0
B14: L | C14: 43872 | J14: =MOD(I14-D14,1)-MOD(H14-G14,1)-MOD(F14-E14,1) -> 0 | K14: =SUM(J14:J20) -> 0 | M14: Signature salarié
B15: M | C15: 43873 | J15: =MOD(I15-D15,1)-MOD(H15-G15,1)-MOD(F15-E15,1) -> 0
B16: M | C16: 43874 | J16: =MOD(I16-D16,1)-MOD(H16-G16,1)-MOD(F16-E16,1) -> 0
B17: J | C17: 43875 | J17: =MOD(I17-D17,1)-MOD(H17-G17,1)-MOD(F17-E17,1) -> 0
B18: V | C18: 43876 | J18: =MOD(I18-D18,1)-MOD(H18-G18,1)-MOD(F18-E18,1) -> 0
B19: S | C19: 43877 | J19: =MOD(I19-D19,1)-MOD(H19-G19,1)-MOD(F19-E19,1) -> 0
B20: D | C20: 43878 | J20: =MOD(I20-D20,1)-MOD(H20-G20,1)-MOD(F20-E20,1) -> 0
B21: L | C21: 43879 | J21: =MOD(I21-D21,1)-MOD(H21-G21,1)-MOD(F21-E21,1) -> 0 | K21: =SUM(J21:J27) -> 0 | M21: Signature salarié
B22: M | C22: 43880 | J22: =MOD(I22-D22,1)-MOD(H22-G22,1)-MOD(F22-E22,1) -> 0
B23: M | C23: 43881 | J23: =MOD(I23-D23,1)-MOD(H23-G23,1)-MOD(F23-E23,1) -> 0
B24: J | C24: 43882 | J24: =MOD(I24-D24,1)-MOD(H24-G24,1)-MOD(F24-E24,1) -> 0
B25: V | C25: 43883 | J25: =MOD(I25-D25,1)-MOD(H25-G25,1)-MOD(F25-E25,1) -> 0
B26: S | C26: 43884 | J26: =MOD(I26-D26,1)-MOD(H26-G26,1)-MOD(F26-E26,1) -> 0
B27: D | C27: 43885 | J27: =MOD(I27-D27,1)-MOD(H27-G27,1)-MOD(F27-E27,1) -> 0
B28: L | C28: 43886 | J28: =MOD(I28-D28,1)-MOD(H28-G28,1)-MOD(F28-E28,1) -> 0 | K28: =SUM(J28:J34) -> 0 | M28: Signature salarié
B29: M | C29: 43887 | J29: =MOD(I29-D29,1)-MOD(H29-G29,1)-MOD(F29-E29,1) -> 0
B30: M | C30: 43888 | J30: =MOD(I30-D30,1)-MOD(H30-G30,1)-MOD(F30-E30,1) -> 0
B31: J | C31: 43889 | J31: =MOD(I31-D31,1)-MOD(H31-G31,1)-MOD(F31-E31,1) -> 0
B32: V | C32: 43890 | J32: =MOD(I32-D32,1)-MOD(H32-G32,1)-MOD(F32-E32,1) -> 0
B33: S | C33: 43891 | J33: =MOD(I33-D33,1)-MOD(H33-G33,1)-MOD(F33-E33,1) -> 0
B34: D | C34: 43892 | J34: =MOD(I34-D34,1)-MOD(H34-G34,1)-MOD(F34-E34,1) -> 0
C36: Signature Responsable | J36: Congés Payés
J37: Repos
J38: RR
J39: Absence injustifiée
J40: Arrêt Maladie
J41: Formation
J42: Evenement familiale
J43: Jour Férié et RJF

Sheet Mars
B2: Mars 2024 | M2: Nom | N2: =Récap!L2 -> 0
M3: Prénom | N3: =Récap!L3 -> 0
B5: Date | D5: Arrivée | E5: Pause | G5: Si Coupure | I5: Départ | J5: Total jour | K5: Total semaine
E6: Début | F6: Fin | G6: Départ | H6: Arrivée
B7: L | C7: 43893 | J7: =MOD(I7-D7,1)-MOD(H7-G7,1)-MOD(F7-E7,1) -> 0 | K7: =SUM(J7:J13) -> 0 | M7: Signature salarié
B8: M | C8: 43894 | J8: =MOD(I8-D8,1)-MOD(H8-G8,1)-MOD(F8-E8,1) -> 0
B9: M | C9: 43895 | J9: =MOD(I9-D9,1)-MOD(H9-G9,1)-MOD(F9-E9,1) -> 0
B10: J | C10: 43896 | J10: =MOD(I10-D10,1)-MOD(H10-G10,1)-MOD(F10-E10,1) -> 0
B11: V | C11: 43897 | J11: =MOD(I11-D11,1)-MOD(H11-G11,1)-MOD(F11-E11,1) -> 0
B12: S | C12: 43898 | J12: =MOD(I12-D12,1)-MOD(H12-G12,1)-MOD(F12-E12,1) -> 0
B13: D | C13: 43899 | J13: =MOD(I13-D13,1)-MOD(H13-G13,1)-MOD(F13-E13,1) -> 0
B14: L | C14: 43900 | J14: =MOD(I14-D14,1)-MOD(H14-G14,1)-MOD(F14-E14,1) -> 0 | K14: =SUM(J14:J20) -> 0 | M14: Signature salarié
B15: M | C15: 43901 | J15: =MOD(I15-D15,1)-MOD(H15-G15,1)-MOD(F15-E15,1) -> 0
B16: M | C16: 43902 | J16: =MOD(I16-D16,1)-MOD(H16-G16,1)-MOD(F16-E16,1) -> 0
B17: J | C17: 43903 | J17: =MOD(I17-D17,1)-MOD(H17-G17,1)-MOD(F17-E17,1) -> 0
B18: V | C18: 43904 | J18: =MOD(I18-D18,1)-MOD(H18-G18,1)-MOD(F18-E18,1) -> 0
B19: S | C19: 43905 | J19: =MOD(I19-D19,1)-MOD(H19-G19,1)-MOD(F19-E19,1) -> 0
B20: D | C20: 43906 | J20: =MOD(I20-D20,1)-MOD(H20-G20,1)-MOD(F20-E20,1) -> 0
B21: L | C21: 43907 | J21: =MOD(I21-D21,1)-MOD(H21-G21,1)-MOD(F21-E21,1) -> 0 | K21: =SUM(J21:J27) -> 0 | M21: Signature salarié
B22: M | C22: 43908 | J22: =MOD(I22-D22,1)-MOD(H22-G22,1)-MOD(F22-E22,1) -> 0
B23: M | C23: 43909 | J23: =MOD(I23-D23,1)-MOD(H23-G23,1)-MOD(F23-E23,1) -> 0
B24: J | C24: 43910 | J24: =MOD(I24-D24,1)-MOD(H24-G24,1)-MOD(F24-E24,1) -> 0
B25: V | C25: 43911 | J25: =MOD(I25-D25,1)-MOD(H25-G25,1)-MOD(F25-E25,1) -> 0
B26: S | C26: 43912 | J26: =MOD(I26-D26,1)-MOD(H26-G26,1)-MOD(F26-E26,1) -> 0
B27: D | C27: 43913 | J27: =MOD(I27-D27,1)-MOD(H27-G27,1)-MOD(F27-E27,1) -> 0
B28: L | C28: 43914 | J28: =MOD(I28-D28,1)-MOD(H28-G28,1)-MOD(F28-E28,1) -> 0 | K28: =SUM(J28:J34) -> 0 | M28: Signature salarié
B29: M | C29: 43915 | J29: =MOD(I29-D29,1)-MOD(H29-G29,1)-MOD(F29-E29,1) -> 0
B30: M | C30: 43916 | J30: =MOD(I30-D30,1)-MOD(H30-G30,1)-MOD(F30-E30,1) -> 0
B31: J | C31: 43917 | J31: =MOD(I31-D31,1)-MOD(H31-G31,1)-MOD(F31-E31,1) -> 0
B32: V | C32: 43918 | J32: =MOD(I32-D32,1)-MOD(H32-G32,1)-MOD(F32-E32,1) -> 0
B33: S | C33: 43919 | J33: =MOD(I33-D33,1)-MOD(H33-G33,1)-MOD(F33-E33,1) -> 0
B34: D | C34: 43920 | J34: =MOD(I34-D34,1)-MOD(H34-G34,1)-MOD(F34-E34,1) -> 0
C36: Signature Responsable | J36: Congés Payés
J37: Repos
J38: RR
J39: Absence injustifiée
J40: Arrêt Maladie
J41: Formation
J42: Evenement familiale
J43: Jour Férié et RJF

Sheet Avril
B2: Avril 2024 | M2: Nom | N2: =Récap!L2 -> 0
M3: Prénom | N3: =Récap!L3 -> 0
B5: Date | D5: Arrivée | E5: Pause | G5: Si Coupure | I5: Départ | J5: Total jour | K5: Total semaine
E6: Début | F6: Fin | G6: Départ | H6: Arrivée
B7: L | C7: 43921 | J7: =MOD(I7-D7,1)-MOD(H7-G7,1)-MOD(F7-E7,1) -> 0 | K7: =SUM(J7:J13) -> 0 | M7: Signature salarié
B8: M | C8: 43922 | J8: =MOD(I8-D8,1)-MOD(H8-G8,1)-MOD(F8-E8,1) -> 0
B9: M | C9: 43923 | J9: =MOD(I9-D9,1)-MOD(H9-G9,1)-MOD(F9-E9,1) -> 0
B10: J | C10: 43924 | J10: =MOD(I10-D10,1)-MOD(H10-G10,1)-MOD(F10-E10,1) -> 0
B11: V | C11: 43925 | J11: =MOD(I11-D11,1)-MOD(H11-G11,1)-MOD(F11-E11,1) -> 0
B12: S | C12: 43926 | J12: =MOD(I12-D12,1)-MOD(H12-G12,1)-MOD(F12-E12,1) -> 0
B13: D | C13: 43927 | J13: =MOD(I13-D13,1)-MOD(H13-G13,1)-MOD(F13-E13,1) -> 0
B14: L | C14: 43928 | J14: =MOD(I14-D14,1)-MOD(H14-G14,1)-MOD(F14-E14,1) -> 0 | K14: =SUM(J14:J20) -> 0 | M14: Signature salarié
B15: M | C15: 43929 | J15: =MOD(I15-D15,1)-MOD(H15-G15,1)-MOD(F15-E15,1) -> 0
B16: M | C16: 43930 | J16: =MOD(I16-D16,1)-MOD(H16-G16,1)-MOD(F16-E16,1) -> 0
B17: J | C17: 43931 | J17: =MOD(I17-D17,1)-MOD(H17-G17,1)-MOD(F17-E17,1) -> 0
B18: V | C18: 43932 | J18: =MOD(I18-D18,1)-MOD(H18-G18,1)-MOD(F18-E18,1) -> 0
B19: S | C19: 43933 | J19: =MOD(I19-D19,1)-MOD(H19-G19,1)-MOD(F19-E19,1) -> 0
B20: D | C20: 43934 | J20: =MOD(I20-D20,1)-MOD(H20-G20,1)-MOD(F20-E20,1) -> 0
B21: L | C21: 43935 | J21: =MOD(I21-D21,1)-MOD(H21-G21,1)-MOD(F21-E21,1) -> 0 | K21: =SUM(J21:J27) -> 0 | M21: Signature salarié
B22: M | C22: 43936 | J22: =MOD(I22-D22,1)-MOD(H22-G22,1)-MOD(F22-E22,1) -> 0
B23: M | C23: 43937 | J23: =MOD(I23-D23,1)-MOD(H23-G23,1)-MOD(F23-E23,1) -> 0
B24: J | C24: 43938 | J24: =MOD(I24-D24,1)-MOD(H24-G24,1)-MOD(F24-E24,1) -> 0
B25: V | C25: 43939 | J25: =MOD(I25-D25,1)-MOD(H25-G25,1)-MOD(F25-E25,1) -> 0
B26: S | C26: 43940 | J26: =MOD(I26-D26,1)-MOD(H26-G26,1)-MOD(F26-E26,1) -> 0
B27: D | C27: 43941 | J27: =MOD(I27-D27,1)-MOD(H27-G27,1)-MOD(F27-E27,1) -> 0
B28: L | C28: 43942 | J28: =MOD(I28-D28,1)-MOD(H28-G28,1)-MOD(F28-E28,1) -> 0 | K28: =SUM(J28:J34) -> 0 | M28: Signature salarié
B29: M | C29: 43943 | J29: =MOD(I29-D29,1)-MOD(H29-G29,1)-MOD(F29-E29,1) -> 0
B30: M | C30: 43944 | J30: =MOD(I30-D30,1)-MOD(H30-G30,1)-MOD(F30-E30,1) -> 0
B31: J | C31: 43945 | J31: =MOD(I31-D31,1)-MOD(H31-G31,1)-MOD(F31-E31,1) -> 0
B32: V | C32: 43946 | J32: =MOD(I32-D32,1)-MOD(H32-G32,1)-MOD(F32-E32,1) -> 0
B33: S | C33: 43947 | J33: =MOD(I33-D33,1)-MOD(H33-G33,1)-MOD(F33-E33,1) -> 0
B34: D | C34: 43948 | J34: =MOD(I34-D34,1)-MOD(H34-G34,1)-MOD(F34-E34,1) -> 0
B35: L | C35: 43949 | J35: =MOD(I35-D35,1)-MOD(H35-G35,1)-MOD(F35-E35,1) -> 0 | K35: =SUM(J35:J41) -> 0 | M35: Signature salarié
B36: M | C36: 43950 | J36: =MOD(I36-D36,1)-MOD(H36-G36,1)-MOD(F36-E36,1) -> 0
B37: M | C37: 43951 | J37: =MOD(I37-D37,1)-MOD(H37-G37,1)-MOD(F37-E37,1) -> 0
B38: J | C38: 43952 | J38: =MOD(I38-D38,1)-MOD(H38-G38,1)-MOD(F38-E38,1) -> 0
B39: V | C39: 43953 | J39: =MOD(I39-D39,1)-MOD(H39-G39,1)-MOD(F39-E39,1) -> 0
B40: S | C40: 43954 | J40: =MOD(I40-D40,1)-MOD(H40-G40,1)-MOD(F40-E40,1) -> 0
B41: D | C41: 43955 | J41: =MOD(I41-D41,1)-MOD(H41-G41,1)-MOD(F41-E41,1) -> 0
C43: Signature Responsable | J43: Congés Payés
...

Sheet Mai
B2: Mai 2024 | M2: Nom | N2: =Récap!L2 -> 0
M3: Prénom | N3: =Récap!L3 -> 0
B5: Date | D5: Arrivée | E5: Pause | G5: Si Coupure | I5: Départ | J5: Total jour | K5: Total semaine
E6: Début | F6: Fin | G6: Départ | H6: Arrivée
B7: L | C7: 43956 | J7: =MOD(I7-D7,1)-MOD(H7-G7,1)-MOD(F7-E7,1) -> 0 | K7: =SUM(J7:J13) -> 0 | M7: Signature salarié
B8: M | C8: 43957 | J8: =MOD(I8-D8,1)-MOD(H8-G8,1)-MOD(F8-E8,1) -> 0
B9: M | C9: 43958 | J9: =MOD(I9-D9,1)-MOD(H9-G9,1)-MOD(F9-E9,1) -> 0
B10: J | C10: 43959 | J10: =MOD(I10-D10,1)-MOD(H10-G10,1)-MOD(F10-E10,1) -> 0
B11: V | C11: 43960 | J11: =MOD(I11-D11,1)-MOD(H11-G11,1)-MOD(F11-E11,1) -> 0
B12: S | C12: 43961 | J12: =MOD(I12-D12,1)-MOD(H12-G12,1)-MOD(F12-E12,1) -> 0
B13: D | C13: 43962 | J13: =MOD(I13-D13,1)-MOD(H13-G13,1)-MOD(F13-E13,1) -> 0
B14: L | C14: 43963 | J14: =MOD(I14-D14,1)-MOD(H14-G14,1)-MOD(F14-E14,1) -> 0 | K14: =SUM(J14:J20) -> 0 | M14: Signature salarié
B15: M | C15: 43964 | J15: =MOD(I15-D15,1)-MOD(H15-G15,1)-MOD(F15-E15,1) -> 0
B16: M | C16: 43965 | J16: =MOD(I16-D16,1)-MOD(H16-G16,1)-MOD(F16-E16,1) -> 0
B17: J | C17: 43966 | J17: =MOD(I17-D17,1)-MOD(H17-G17,1)-MOD(F17-E17,1) -> 0
B18: V | C18: 43967 | J18: =MOD(I18-D18,1)-MOD(H18-G18,1)-MOD(F18-E18,1) -> 0
B19: S | C19: 43968 | J19: =MOD(I19-D19,1)-MOD(H19-G19,1)-MOD(F19-E19,1) -> 0
B20: D | C20: 43969 | J20: =MOD(I20-D20,1)-MOD(H20-G20,1)-MOD(F20-E20,1) -> 0
B21: L | C21: 43970 | J21: =MOD(I21-D21,1)-MOD(H21-G21,1)-MOD(F21-E21,1) -> 0 | K21: =SUM(J21:J27) -> 0 | M21: Signature salarié
B22: M | C22: 43971 | J22: =MOD(I22-D22,1)-MOD(H22-G22,1)-MOD(F22-E22,1) -> 0
B23: M | C23: 43972 | J23: =MOD(I23-D23,1)-MOD(H23-G23,1)-MOD(F23-E23,1) -> 0
B24: J | C24: 43973 | J24: =MOD(I24-D24,1)-MOD(H24-G24,1)-MOD(F24-E24,1) -> 0
B25: V | C25: 43974 | J25: =MOD(I25-D25,1)-MOD(H25-G25,1)-MOD(F25-E25,1) -> 0
B26: S | C26: 43975 | J26: =MOD(I26-D26,1)-MOD(H26-G26,1)-MOD(F26-E26,1) -> 0
B27: D | C27: 43976 | J27: =MOD(I27-D27,1)-MOD(H27-G27,1)-MOD(F27-E27,1) -> 0
B28: L | C28: 43977 | J28: =MOD(I28-D28,1)-MOD(H28-G28,1)-MOD(F28-E28,1) -> 0 | K28: =SUM(J28:J34) -> 0 | M28: Signature salarié
B29: M | C29: 43978 | J29: =MOD(I29-D29,1)-MOD(H29-G29,1)-MOD(F29-E29,1) -> 0
B30: M | C30: 43979 | J30: =MOD(I30-D30,1)-MOD(H30-G30,1)-MOD(F30-E30,1) -> 0
B31: J | C31: 43980 | J31: =MOD(I31-D31,1)-MOD(H31-G31,1)-MOD(F31-E31,1) -> 0
B32: V | C32: 43981 | J32: =MOD(I32-D32,1)-MOD(H32-G32,1)-MOD(F32-E32,1) -> 0
B33: S | C33: 43982 | J33: =MOD(I33-D33,1)-MOD(H33-G33,1)-MOD(F33-E33,1) -> 0
B34: D | C34: 43983 | J34: =MOD(I34-D34,1)-MOD(H34-G34,1)-MOD(F34-E34,1) -> 0
C36: Signature Responsable | J36: Congés Payés
J37: Repos
J38: RR
J39: Absence injustifiée
J40: Arrêt Maladie
J41: Formation
J42: Evenement familiale
J43: Jour Férié et RJF

Sheet Juin
B2: Juin 2024 | M2: Nom | N2: =Récap!L2 -> 0
M3: Prénom | N3: =Récap!L3 -> 0
B5: Date | D5: Arrivée | E5: Pause | G5: Si Coupure | I5: Départ | J5: Total jour | K5: Total semaine
E6: Début | F6: Fin | G6: Départ | H6: Arrivée
B7: L | C7: 43984 | J7: =MOD(I7-D7,1)-MOD(H7-G7,1)-MOD(F7-E7,1) -> 0 | K7: =SUM(J7:J13) -> 0 | M7: Signature salarié
B8: M | C8: 43985 | J8: =MOD(I8-D8,1)-MOD(H8-G8,1)-MOD(F8-E8,1) -> 0
B9: M | C9: 43986 | J9: =MOD(I9-D9,1)-MOD(H9-G9,1)-MOD(F9-E9,1) -> 0
B10: J | C10: 43987 | J10: =MOD(I10-D10,1)-MOD(H10-G10,1)-MOD(F10-E10,1) -> 0
B11: V | C11: 43988 | J11: =MOD(I11-D11,1)-MOD(H11-G11,1)-MOD(F11-E11,1) -> 0
B12: S | C12: 43989 | J12: =MOD(I12-D12,1)-MOD(H12-G12,1)-MOD(F12-E12,1) -> 0
B13: D | C13: 43990 | J13: =MOD(I13-D13,1)-MOD(H13-G13,1)-MOD(F13-E13,1) -> 0
B14: L | C14: 43991 | J14: =MOD(I14-D14,1)-MOD(H14-G14,1)-MOD(F14-E14,1) -> 0 | K14: =SUM(J14:J20) -> 0 | M14: Signature salarié
B15: M | C15: 43992 | J15: =MOD(I15-D15,1)-MOD(H15-G15,1)-MOD(F15-E15,1) -> 0
B16: M | C16: 43993 | J16: =MOD(I16-D16,1)-MOD(H16-G16,1)-MOD(F16-E16,1) -> 0
B17: J | C17: 43994 | J17: =MOD(I17-D17,1)-MOD(H17-G17,1)-MOD(F17-E17,1) -> 0
B18: V | C18: 43995 | J18: =MOD(I18-D18,1)-MOD(H18-G18,1)-MOD(F18-E18,1) -> 0
B19: S | C19: 43996 | J19: =MOD(I19-D19,1)-MOD(H19-G19,1)-MOD(F19-E19,1) -> 0
B20: D | C20: 43997 | J20: =MOD(I20-D20,1)-MOD(H20-G20,1)-MOD(F20-E20,1) -> 0
B21: L | C21: 43998 | J21: =MOD(I21-D21,1)-MOD(H21-G21,1)-MOD(F21-E21,1) -> 0 | K21: =SUM(J21:J27) -> 0 | M21: Signature salarié
B22: M | C22: 43999 | J22: =MOD(I22-D22,1)-MOD(H22-G22,1)-MOD(F22-E22,1) -> 0
B23: M | C23: 44000 | J23: =MOD(I23-D23,1)-MOD(H23-G23,1)-MOD(F23-E23,1) -> 0
B24: J | C24: 44001 | J24: =MOD(I24-D24,1)-MOD(H24-G24,1)-MOD(F24-E24,1) -> 0
B25: V | C25: 44002 | J25: =MOD(I25-D25,1)-MOD(H25-G25,1)-MOD(F25-E25,1) -> 0
B26: S | C26: 44003 | J26: =MOD(I26-D26,1)-MOD(H26-G26,1)-MOD(F26-E26,1) -> 0
B27: D | C27: 44004 | J27: =MOD(I27-D27,1)-MOD(H27-G27,1)-MOD(F27-E27,1) -> 0
B28: L | C28: 44005 | J28: =MOD(I28-D28,1)-MOD(H28-G28,1)-MOD(F28-E28,1) -> 0 | K28: =SUM(J28:J34) -> 0 | M28: Signature salarié
B29: M | C29: 44006 | J29: =MOD(I29-D29,1)-MOD(H29-G29,1)-MOD(F29-E29,1) -> 0
B30: M | C30: 44007 | J30: =MOD(I30-D30,1)-MOD(H30-G30,1)-MOD(F30-E30,1) -> 0
B31: J | C31: 44008 | J31: =MOD(I31-D31,1)-MOD(H31-G31,1)-MOD(F31-E31,1) -> 0
B32: V | C32: 44009 | J32: =MOD(I32-D32,1)-MOD(H32-G32,1)-MOD(F32-E32,1) -> 0
B33: S | C33: 44010 | J33: =MOD(I33-D33,1)-MOD(H33-G33,1)-MOD(F33-E33,1) -> 0
B34: D | C34: 44011 | J34: =MOD(I34-D34,1)-MOD(H34-G34,1)-MOD(F34-E34,1) -> 0
C36: Signature Responsable | J36: Congés Payés
J37: Repos
J38: RR
J39: Absence injustifiée
J40: Arrêt Maladie
J41: Formation
J42: Evenement familiale
J43: Jour Férié et RJF

Sheet Juillet
B2: Juillet 2024 | M2: Nom | N2: =Récap!L2 -> 0
M3: Prénom | N3: =Récap!L3 -> 0
B5: Date | D5: Arrivée | E5: Pause | G5: Si Coupure | I5: Départ | J5: Total jour | K5: Total semaine
E6: Début | F6: Fin | G6: Départ | H6: Arrivée
B7: L | C7: 44012 | J7: =MOD(I7-D7,1)-MOD(H7-G7,1)-MOD(F7-E7,1) -> 0 | K7: =SUM(J7:J13) -> 0 | M7: Signature salarié
B8: M | C8: 44013 | J8: =MOD(I8-D8,1)-MOD(H8-G8,1)-MOD(F8-E8,1) -> 0
B9: M | C9: 44014 | J9: =MOD(I9-D9,1)-MOD(H9-G9,1)-MOD(F9-E9,1) -> 0
B10: J | C10: 44015 | J10: =MOD(I10-D10,1)-MOD(H10-G10,1)-MOD(F10-E10,1) -> 0
B11: V | C11: 44016 | J11: =MOD(I11-D11,1)-MOD(H11-G11,1)-MOD(F11-E11,1) -> 0
B12: S | C12: 44017 | J12: =MOD(I12-D12,1)-MOD(H12-G12,1)-MOD(F12-E12,1) -> 0
B13: D | C13: 44018 | J13: =MOD(I13-D13,1)-MOD(H13-G13,1)-MOD(F13-E13,1) -> 0
B14: L | C14: 44019 | J14: =MOD(I14-D14,1)-MOD(H14-G14,1)-MOD(F14-E14,1) -> 0 | K14: =SUM(J14:J20) -> 0 | M14: Signature salarié
B15: M | C15: 44020 | J15: =MOD(I15-D15,1)-MOD(H15-G15,1)-MOD(F15-E15,1) -> 0
B16: M | C16: 44021 | J16: =MOD(I16-D16,1)-MOD(H16-G16,1)-MOD(F16-E16,1) -> 0
B17: J | C17: 44022 | J17: =MOD(I17-D17,1)-MOD(H17-G17,1)-MOD(F17-E17,1) -> 0
B18: V | C18: 44023 | J18: =MOD(I18-D18,1)-MOD(H18-G18,1)-MOD(F18-E18,1) -> 0
B19: S | C19: 44024 | J19: =MOD(I19-D19,1)-MOD(H19-G19,1)-MOD(F19-E19,1) -> 0
B20: D | C20: 44025 | J20: =MOD(I20-D20,1)-MOD(H20-G20,1)-MOD(F20-E20,1) -> 0
B21: L | C21: 44026 | J21: =MOD(I21-D21,1)-MOD(H21-G21,1)-MOD(F21-E21,1) -> 0 | K21: =SUM(J21:J27) -> 0 | M21: Signature salarié
B22: M | C22: 44027 | J22: =MOD(I22-D22,1)-MOD(H22-G22,1)-MOD(F22-E22,1) -> 0
B23: M | C23: 44028 | J23: =MOD(I23-D23,1)-MOD(H23-G23,1)-MOD(F23-E23,1) -> 0
B24: J | C24: 44029 | J24: =MOD(I24-D24,1)-MOD(H24-G24,1)-MOD(F24-E24,1) -> 0
B25: V | C25: 44030 | J25: =MOD(I25-D25,1)-MOD(H25-G25,1)-MOD(F25-E25,1) -> 0
B26: S | C26: 44031 | J26: =MOD(I26-D26,1)-MOD(H26-G26,1)-MOD(F26-E26,1) -> 0
B27: D | C27: 44032 | J27: =MOD(I27-D27,1)-MOD(H27-G27,1)-MOD(F27-E27,1) -> 0
B28: L | C28: 44033 | J28: =MOD(I28-D28,1)-MOD(H28-G28,1)-MOD(F28-E28,1) -> 0 | K28: =SUM(J28:J34) -> 0 | M28: Signature salarié
B29: M | C29: 44034 | J29: =MOD(I29-D29,1)-MOD(H29-G29,1)-MOD(F29-E29,1) -> 0
B30: M | C30: 44035 | J30: =MOD(I30-D30,1)-MOD(H30-G30,1)-MOD(F30-E30,1) -> 0
B31: J | C31: 44036 | J31: =MOD(I31-D31,1)-MOD(H31-G31,1)-MOD(F31-E31,1) -> 0
B32: V | C32: 44037 | J32: =MOD(I32-D32,1)-MOD(H32-G32,1)-MOD(F32-E32,1) -> 0
B33: S | C33: 44038 | J33: =MOD(I33-D33,1)-MOD(H33-G33,1)-MOD(F33-E33,1) -> 0
B34: D | C34: 44039 | J34: =MOD(I34-D34,1)-MOD(H34-G34,1)-MOD(F34-E34,1) -> 0
B35: L | C35: 44040 | J35: =MOD(I35-D35,1)-MOD(H35-G35,1)-MOD(F35-E35,1) -> 0 | K35: =SUM(J35:J41) -> 0 | M35: Signature salarié
B36: M | C36: 44041 | J36: =MOD(I36-D36,1)-MOD(H36-G36,1)-MOD(F36-E36,1) -> 0
B37: M | C37: 44042 | J37: =MOD(I37-D37,1)-MOD(H37-G37,1)-MOD(F37-E37,1) -> 0
B38: J | C38: 44043 | J38: =MOD(I38-D38,1)-MOD(H38-G38,1)-MOD(F38-E38,1) -> 0
B39: V | C39: 44044 | J39: =MOD(I39-D39,1)-MOD(H39-G39,1)-MOD(F39-E39,1) -> 0
B40: S | C40: 44045 | J40: =MOD(I40-D40,1)-MOD(H40-G40,1)-MOD(F40-E40,1) -> 0
B41: D | C41: 44046 | J41: =MOD(I41-D41,1)-MOD(H41-G41,1)-MOD(F41-E41,1) -> 0
C43: Signature Responsable | J43: Congés Payés
...

Sheet Aout
B2: Aout 2024 | M2: Nom | N2: =Récap!L2 -> 0
M3: Prénom | N3: =Récap!L3 -> 0
B5: Date | D5: Arrivée | E5: Pause | G5: Si Coupure | I5: Départ | J5: Total jour | K5: Total semaine
E6: Début | F6: Fin | G6: Départ | H6: Arrivée
B7: L | C7: 44047 | J7: =MOD(I7-D7,1)-MOD(H7-G7,1)-MOD(F7-E7,1) -> 0 | K7: =SUM(J7:J13) -> 0 | M7: Signature salarié
B8: M | C8: 44048 | J8: =MOD(I8-D8,1)-MOD(H8-G8,1)-MOD(F8-E8,1) -> 0
B9: M | C9: 44049 | J9: =MOD(I9-D9,1)-MOD(H9-G9,1)-MOD(F9-E9,1) -> 0
B10: J | C10: 44050 | J10: =MOD(I10-D10,1)-MOD(H10-G10,1)-MOD(F10-E10,1) -> 0
B11: V | C11: 44051 | J11: =MOD(I11-D11,1)-MOD(H11-G11,1)-MOD(F11-E11,1) -> 0
B12: S | C12: 44052 | J12: =MOD(I12-D12,1)-MOD(H12-G12,1)-MOD(F12-E12,1) -> 0
B13: D | C13: 44053 | J13: =MOD(I13-D13,1)-MOD(H13-G13,1)-MOD(F13-E13,1) -> 0
B14: L | C14: 44054 | J14: =MOD(I14-D14,1)-MOD(H14-G14,1)-MOD(F14-E14,1) -> 0 | K14: =SUM(J14:J20) -> 0 | M14: Signature salarié
B15: M | C15: 44055 | J15: =MOD(I15-D15,1)-MOD(H15-G15,1)-MOD(F15-E15,1) -> 0
B16: M | C16: 44056 | J16: =MOD(I16-D16,1)-MOD(H16-G16,1)-MOD(F16-E16,1) -> 0
B17: J | C17: 44057 | J17: =MOD(I17-D17,1)-MOD(H17-G17,1)-MOD(F17-E17,1) -> 0
B18: V | C18: 44058 | J18: =MOD(I18-D18,1)-MOD(H18-G18,1)-MOD(F18-E18,1) -> 0
B19: S | C19: 44059 | J19: =MOD(I19-D19,1)-MOD(H19-G19,1)-MOD(F19-E19,1) -> 0
B20: D | C20: 44060 | J20: =MOD(I20-D20,1)-MOD(H20-G20,1)-MOD(F20-E20,1) -> 0
B21: L | C21: 44061 | J21: =MOD(I21-D21,1)-MOD(H21-G21,1)-MOD(F21-E21,1) -> 0 | K21: =SUM(J21:J27) -> 0 | M21: Signature salarié
B22: M | C22: 44062 | J22: =MOD(I22-D22,1)-MOD(H22-G22,1)-MOD(F22-E22,1) -> 0
B23: M | C23: 44063 | J23: =MOD(I23-D23,1)-MOD(H23-G23,1)-MOD(F23-E23,1) -> 0
B24: J | C24: 44064 | J24: =MOD(I24-D24,1)-MOD(H24-G24,1)-MOD(F24-E24,1) -> 0
B25: V | C25: 44065 | J25: =MOD(I25-D25,1)-MOD(H25-G25,1)-MOD(F25-E25,1) -> 0
B26: S | C26: 44066 | J26: =MOD(I26-D26,1)-MOD(H26-G26,1)-MOD(F26-E26,1) -> 0
B27: D | C27: 44067 | J27: =MOD(I27-D27,1)-MOD(H27-G27,1)-MOD(F27-E27,1) -> 0
B28: L | C28: 44068 | J28: =MOD(I28-D28,1)-MOD(H28-G28,1)-MOD(F28-E28,1) -> 0 | K28: =SUM(J28:J34) -> 0 | M28: Signature salarié
B29: M | C29: 44069 | J29: =MOD(I29-D29,1)-MOD(H29-G29,1)-MOD(F29-E29,1) -> 0
B30: M | C30: 44070 | J30: =MOD(I30-D30,1)-MOD(H30-G30,1)-MOD(F30-E30,1) -> 0
B31: J | C31: 44071 | J31: =MOD(I31-D31,1)-MOD(H31-G31,1)-MOD(F31-E31,1) -> 0
B32: V | C32: 44072 | J32: =MOD(I32-D32,1)-MOD(H32-G32,1)-MOD(F32-E32,1) -> 0
B33: S | C33: 44073 | J33: =MOD(I33-D33,1)-MOD(H33-G33,1)-MOD(F33-E33,1) -> 0
B34: D | C34: 44074 | J34: =MOD(I34-D34,1)-MOD(H34-G34,1)-MOD(F34-E34,1) -> 0
C36: Signature Responsable | J36: Congés Payés
J37: Repos
J38: RR
J39: Absence injustifiée
J40: Arrêt Maladie
J41: Formation
J42: Evenement familiale
J43: Jour Férié et RJF

Sheet Septembre
B2: Septembre 2024 | M2: Nom | N2: =Récap!L2 -> 0
M3: Prénom | N3: =Récap!L3 -> 0
B5: Date | D5: Arrivée | E5: Pause | G5: Si Coupure | I5: Départ | J5: Total jour | K5: Total semaine
E6: Début | F6: Fin | G6: Départ | H6: Arrivée
B7: L | C7: 44075 | J7: =MOD(I7-D7,1)-MOD(H7-G7,1)-MOD(F7-E7,1) -> 0 | K7: =SUM(J7:J13) -> 0 | M7: Signature salarié
B8: M | C8: 44076 | J8: =MOD(I8-D8,1)-MOD(H8-G8,1)-MOD(F8-E8,1) -> 0
B9: M | C9: 44077 | J9: =MOD(I9-D9,1)-MOD(H9-G9,1)-MOD(F9-E9,1) -> 0
B10: J | C10: 44078 | J10: =MOD(I10-D10,1)-MOD(H10-G10,1)-MOD(F10-E10,1) -> 0
B11: V | C11: 44079 | J11: =MOD(I11-D11,1)-MOD(H11-G11,1)-MOD(F11-E11,1) -> 0
B12: S | C12: 44080 | J12: =MOD(I12-D12,1)-MOD(H12-G12,1)-MOD(F12-E12,1) -> 0
B13: D | C13: 44081 | J13: =MOD(I13-D13,1)-MOD(H13-G13,1)-MOD(F13-E13,1) -> 0
B14: L | C14: 44082 | J14: =MOD(I14-D14,1)-MOD(H14-G14,1)-MOD(F14-E14,1) -> 0 | K14: =SUM(J14:J20) -> 0 | M14: Signature salarié
B15: M | C15: 44083 | J15: =MOD(I15-D15,1)-MOD(H15-G15,1)-MOD(F15-E15,1) -> 0
B16: M | C16: 44084 | J16: =MOD(I16-D16,1)-MOD(H16-G16,1)-MOD(F16-E16,1) -> 0
B17: J | C17: 44085 | J17: =MOD(I17-D17,1)-MOD(H17-G17,1)-MOD(F17-E17,1) -> 0
B18: V | C18: 44086 | J18: =MOD(I18-D18,1)-MOD(H18-G18,1)-MOD(F18-E18,1) -> 0
B19: S | C19: 44087 | J19: =MOD(I19-D19,1)-MOD(H19-G19,1)-MOD(F19-E19,1) -> 0
B20: D | C20: 44088 | J20: =MOD(I20-D20,1)-MOD(H20-G20,1)-MOD(F20-E20,1) -> 0
B21: L | C21: 44089 | J21: =MOD(I21-D21,1)-MOD(H21-G21,1)-MOD(F21-E21,1) -> 0 | K21: =SUM(J21:J27) -> 0 | M21: Signature salarié
B22: M | C22: 44090 | J22: =MOD(I22-D22,1)-MOD(H22-G22,1)-MOD(F22-E22,1) -> 0
B23: M | C23: 44091 | J23: =MOD(I23-D23,1)-MOD(H23-G23,1)-MOD(F23-E23,1) -> 0
B24: J | C24: 44092 | J24: =MOD(I24-D24,1)-MOD(H24-G24,1)-MOD(F24-E24,1) -> 0
B25: V | C25: 44093 | J25: =MOD(I25-D25,1)-MOD(H25-G25,1)-MOD(F25-E25,1) -> 0
B26: S | C26: 44094 | J26: =MOD(I26-D26,1)-MOD(H26-G26,1)-MOD(F26-E26,1) -> 0
B27: D | C27: 44095 | J27: =MOD(I27-D27,1)-MOD(H27-G27,1)-MOD(F27-E27,1) -> 0
B28: L | C28: 44096 | J28: =MOD(I28-D28,1)-MOD(H28-G28,1)-MOD(F28-E28,1) -> 0 | K28: =SUM(J28:J34) -> 0 | M28: Signature salarié
B29: M | C29: 44097 | J29: =MOD(I29-D29,1)-MOD(H29-G29,1)-MOD(F29-E29,1) -> 0
B30: M | C30: 44098 | J30: =MOD(I30-D30,1)-MOD(H30-G30,1)-MOD(F30-E30,1) -> 0
B31: J | C31: 44099 | J31: =MOD(I31-D31,1)-MOD(H31-G31,1)-MOD(F31-E31,1) -> 0
B32: V | C32: 44100 | J32: =MOD(I32-D32,1)-MOD(H32-G32,1)-MOD(F32-E32,1) -> 0
B33: S | C33: 44101 | J33: =MOD(I33-D33,1)-MOD(H33-G33,1)-MOD(F33-E33,1) -> 0
B34: D | C34: 44102 | J34: =MOD(I34-D34,1)-MOD(H34-G34,1)-MOD(F34-E34,1) -> 0
B35: L | C35: 44103 | J35: =MOD(I35-D35,1)-MOD(H35-G35,1)-MOD(F35-E35,1) -> 0 | K35: =SUM(J35:J41) -> 0 | M35: Signature salarié
B36: M | C36: 44104 | J36: =MOD(I36-D36,1)-MOD(H36-G36,1)-MOD(F36-E36,1) -> 0
B37: M | C37: 44105 | J37: =MOD(I37-D37,1)-MOD(H37-G37,1)-MOD(F37-E37,1) -> 0
B38: J | C38: 44106 | J38: =MOD(I38-D38,1)-MOD(H38-G38,1)-MOD(F38-E38,1) -> 0
B39: V | C39: 44107 | J39: =MOD(I39-D39,1)-MOD(H39-G39,1)-MOD(F39-E39,1) -> 0
B40: S | C40: 44108 | J40: =MOD(I40-D40,1)-MOD(H40-G40,1)-MOD(F40-E40,1) -> 0
B41: D | C41: 44109 | J41: =MOD(I41-D41,1)-MOD(H41-G41,1)-MOD(F41-E41,1) -> 0
C43: Signature Responsable | J43: Congés Payés
...

Sheet Octobre
B2: Octobre 2024 | M2: Nom | N2: =Récap!L2 -> 0
M3: Prénom | N3: =Récap!L3 -> 0
B5: Date | D5: Arrivée | E5: Pause | G5: Si Coupure | I5: Départ | J5: Total jour | K5: Total semaine
E6: Début | F6: Fin | G6: Départ | H6: Arrivée
B7: L | C7: 44110 | J7: =MOD(I7-D7,1)-MOD(H7-G7,1)-MOD(F7-E7,1) -> 0 | K7: =SUM(J7:J13) -> 0 | M7: Signature salarié
B8: M | C8: 44111 | J8: =MOD(I8-D8,1)-MOD(H8-G8,1)-MOD(F8-E8,1) -> 0
B9: M | C9: 44112 | J9: =MOD(I9-D9,1)-MOD(H9-G9,1)-MOD(F9-E9,1) -> 0
B10: J | C10: 44113 | J10: =MOD(I10-D10,1)-MOD(H10-G10,1)-MOD(F10-E10,1) -> 0
B11: V | C11: 44114 | J11: =MOD(I11-D11,1)-MOD(H11-G11,1)-MOD(F11-E11,1) -> 0
B12: S | C12: 44115 | J12: =MOD(I12-D12,1)-MOD(H12-G12,1)-MOD(F12-E12,1) -> 0
B13: D | C13: 44116 | J13: =MOD(I13-D13,1)-MOD(H13-G13,1)-MOD(F13-E13,1) -> 0
B14: L | C14: 44117 | J14: =MOD(I14-D14,1)-MOD(H14-G14,1)-MOD(F14-E14,1) -> 0 | K14: =SUM(J14:J20) -> 0 | M14: Signature salarié
B15: M | C15: 44118 | J15: =MOD(I15-D15,1)-MOD(H15-G15,1)-MOD(F15-E15,1) -> 0
B16: M | C16: 44119 | J16: =MOD(I16-D16,1)-MOD(H16-G16,1)-MOD(F16-E16,1) -> 0
B17: J | C17: 44120 | J17: =MOD(I17-D17,1)-MOD(H17-G17,1)-MOD(F17-E17,1) -> 0
B18: V | C18: 44121 | J18: =MOD(I18-D18,1)-MOD(H18-G18,1)-MOD(F18-E18,1) -> 0
B19: S | C19: 44122 | J19: =MOD(I19-D19,1)-MOD(H19-G19,1)-MOD(F19-E19,1) -> 0
B20: D | C20: 44123 | J20: =MOD(I20-D20,1)-MOD(H20-G20,1)-MOD(F20-E20,1) -> 0
B21: L | C21: 44124 | J21: =MOD(I21-D21,1)-MOD(H21-G21,1)-MOD(F21-E21,1) -> 0 | K21: =SUM(J21:J27) -> 0 | M21: Signature salarié
B22: M | C22: 44125 | J22: =MOD(I22-D22,1)-MOD(H22-G22,1)-MOD(F22-E22,1) -> 0
B23: M | C23: 44126 | J23: =MOD(I23-D23,1)-MOD(H23-G23,1)-MOD(F23-E23,1) -> 0
B24: J | C24: 44127 | J24: =MOD(I24-D24,1)-MOD(H24-G24,1)-MOD(F24-E24,1) -> 0
B25: V | C25: 44128 | J25: =MOD(I25-D25,1)-MOD(H25-G25,1)-MOD(F25-E25,1) -> 0
B26: S | C26: 44129 | J26: =MOD(I26-D26,1)-MOD(H26-G26,1)-MOD(F26-E26,1) -> 0
B27: D | C27: 44130 | J27: =MOD(I27-D27,1)-MOD(H27-G27,1)-MOD(F27-E27,1) -> 0
B28: L | C28: 44131 | J28: =MOD(I28-D28,1)-MOD(H28-G28,1)-MOD(F28-E28,1) -> 0 | K28: =SUM(J28:J34) -> 0 | M28: Signature salarié
B29: M | C29: 44132 | J29: =MOD(I29-D29,1)-MOD(H29-G29,1)-MOD(F29-E29,1) -> 0
B30: M | C30: 44133 | J30: =MOD(I30-D30,1)-MOD(H30-G30,1)-MOD(F30-E30,1) -> 0
B31: J | C31: 44134 | J31: =MOD(I31-D31,1)-MOD(H31-G31,1)-MOD(F31-E31,1) -> 0
B32: V | C32: 44135 | J32: =MOD(I32-D32,1)-MOD(H32-G32,1)-MOD(F32-E32,1) -> 0
B33: S | C33: 44136 | J33: =MOD(I33-D33,1)-MOD(H33-G33,1)-MOD(F33-E33,1) -> 0
B34: D | C34: 44137 | J34: =MOD(I34-D34,1)-MOD(H34-G34,1)-MOD(F34-E34,1) -> 0
C36: Signature Responsable | J36: Congés Payés
J37: Repos
J38: RR
J39: Absence injustifiée
J40: Arrêt Maladie
J41: Formation
J42: Evenement familiale
J43: Jour Férié et RJF

Sheet Novembre
B2: Novembre 2024 | M2: Nom | N2: =Récap!L2 -> 0
M3: Prénom | N3: =Récap!L3 -> 0
B5: Date | D5: Arrivée | E5: Pause | G5: Si Coupure | I5: Départ | J5: Total jour | K5: Total semaine
E6: Début | F6: Fin | G6: Départ | H6: Arrivée
B7: L | C7: 44138 | J7: =MOD(I7-D7,1)-MOD(H7-G7,1)-MOD(F7-E7,1) -> 0 | K7: =SUM(J7:J13) -> 0 | M7: Signature salarié
B8: M | C8: 44139 | J8: =MOD(I8-D8,1)-MOD(H8-G8,1)-MOD(F8-E8,1) -> 0
B9: M | C9: 44140 | J9: =MOD(I9-D9,1)-MOD(H9-G9,1)-MOD(F9-E9,1) -> 0
B10: J | C10: 44141 | J10: =MOD(I10-D10,1)-MOD(H10-G10,1)-MOD(F10-E10,1) -> 0
B11: V | C11: 44142 | J11: =MOD(I11-D11,1)-MOD(H11-G11,1)-MOD(F11-E11,1) -> 0
B12: S | C12: 44143 | J12: =MOD(I12-D12,1)-MOD(H12-G12,1)-MOD(F12-E12,1) -> 0
B13: D | C13: 44144 | J13: =MOD(I13-D13,1)-MOD(H13-G13,1)-MOD(F13-E13,1) -> 0
B14: L | C14: 44145 | J14: =MOD(I14-D14,1)-MOD(H14-G14,1)-MOD(F14-E14,1) -> 0 | K14: =SUM(J14:J20) -> 0 | M14: Signature salarié
B15: M | C15: 44146 | J15: =MOD(I15-D15,1)-MOD(H15-G15,1)-MOD(F15-E15,1) -> 0
B16: M | C16: 44147 | J16: =MOD(I16-D16,1)-MOD(H16-G16,1)-MOD(F16-E16,1) -> 0
B17: J | C17: 44148 | J17: =MOD(I17-D17,1)-MOD(H17-G17,1)-MOD(F17-E17,1) -> 0
B18: V | C18: 44149 | J18: =MOD(I18-D18,1)-MOD(H18-G18,1)-MOD(F18-E18,1) -> 0
B19: S | C19: 44150 | J19: =MOD(I19-D19,1)-MOD(H19-G19,1)-MOD(F19-E19,1) -> 0
B20: D | C20: 44151 | J20: =MOD(I20-D20,1)-MOD(H20-G20,1)-MOD(F20-E20,1) -> 0
B21: L | C21: 44152 | J21: =MOD(I21-D21,1)-MOD(H21-G21,1)-MOD(F21-E21,1) -> 0 | K21: =SUM(J21:J27) -> 0 | M21: Signature salarié
B22: M | C22: 44153 | J22: =MOD(I22-D22,1)-MOD(H22-G22,1)-MOD(F22-E22,1) -> 0
B23: M | C23: 44154 | J23: =MOD(I23-D23,1)-MOD(H23-G23,1)-MOD(F23-E23,1) -> 0
B24: J | C24: 44155 | J24: =MOD(I24-D24,1)-MOD(H24-G24,1)-MOD(F24-E24,1) -> 0
B25: V | C25: 44156 | J25: =MOD(I25-D25,1)-MOD(H25-G25,1)-MOD(F25-E25,1) -> 0
B26: S | C26: 44157 | J26: =MOD(I26-D26,1)-MOD(H26-G26,1)-MOD(F26-E26,1) -> 0
B27: D | C27: 44158 | J27: =MOD(I27-D27,1)-MOD(H27-G27,1)-MOD(F27-E27,1) -> 0
B28: L | C28: 44159 | J28: =MOD(I28-D28,1)-MOD(H28-G28,1)-MOD(F28-E28,1) -> 0 | K28: =SUM(J28:J34) -> 0 | M28: Signature salarié
B29: M | C29: 44160 | J29: =MOD(I29-D29,1)-MOD(H29-G29,1)-MOD(F29-E29,1) -> 0
B30: M | C30: 44161 | J30: =MOD(I30-D30,1)-MOD(H30-G30,1)-MOD(F30-E30,1) -> 0
B31: J | C31: 44162 | J31: =MOD(I31-D31,1)-MOD(H31-G31,1)-MOD(F31-E31,1) -> 0
B32: V | C32: 44163 | J32: =MOD(I32-D32,1)-MOD(H32-G32,1)-MOD(F32-E32,1) -> 0
B33: S | C33: 44164 | J33: =MOD(I33-D33,1)-MOD(H33-G33,1)-MOD(F33-E33,1) -> 0
B34: D | C34: 44165 | J34: =MOD(I34-D34,1)-MOD(H34-G34,1)-MOD(F34-E34,1) -> 0
C36: Signature Responsable | J36: Congés Payés
J37: Repos
J38: RR
J39: Absence injustifiée
J40: Arrêt Maladie
J41: Formation
J42: Evenement familiale
J43: Jour Férié et RJF

Sheet Décembre
B2: Décembre 2024 | M2: Nom | N2: =Récap!L2 -> 0
M3: Prénom | N3: =Récap!L3 -> 0
B5: Date | D5: Arrivée | E5: Pause | G5: Si Coupure | I5: Départ | J5: Total jour | K5: Total semaine
E6: Début | F6: Fin | G6: Départ | H6: Arrivée
B7: L | C7: 44166 | J7: =MOD(I7-D7,1)-MOD(H7-G7,1)-MOD(F7-E7,1) -> 0 | K7: =SUM(J7:J13) -> 0 | M7: Signature salarié
B8: M | C8: 44167 | J8: =MOD(I8-D8,1)-MOD(H8-G8,1)-MOD(F8-E8,1) -> 0
B9: M | C9: 44168 | J9: =MOD(I9-D9,1)-MOD(H9-G9,1)-MOD(F9-E9,1) -> 0
B10: J | C10: 44169 | J10: =MOD(I10-D10,1)-MOD(H10-G10,1)-MOD(F10-E10,1) -> 0
B11: V | C11: 44170 | J11: =MOD(I11-D11,1)-MOD(H11-G11,1)-MOD(F11-E11,1) -> 0
B12: S | C12: 44171 | J12: =MOD(I12-D12,1)-MOD(H12-G12,1)-MOD(F12-E12,1) -> 0
B13: D | C13: 44172 | J13: =MOD(I13-D13,1)-MOD(H13-G13,1)-MOD(F13-E13,1) -> 0
B14: L | C14: 44173 | J14: =MOD(I14-D14,1)-MOD(H14-G14,1)-MOD(F14-E14,1) -> 0 | K14: =SUM(J14:J20) -> 0 | M14: Signature salarié
B15: M | C15: 44174 | J15: =MOD(I15-D15,1)-MOD(H15-G15,1)-MOD(F15-E15,1) -> 0
B16: M | C16: 44175 | J16: =MOD(I16-D16,1)-MOD(H16-G16,1)-MOD(F16-E16,1) -> 0
B17: J | C17: 44176 | J17: =MOD(I17-D17,1)-MOD(H17-G17,1)-MOD(F17-E17,1) -> 0
B18: V | C18: 44177 | J18: =MOD(I18-D18,1)-MOD(H18-G18,1)-MOD(F18-E18,1) -> 0
B19: S | C19: 44178 | J19: =MOD(I19-D19,1)-MOD(H19-G19,1)-MOD(F19-E19,1) -> 0
B20: D | C20: 44179 | J20: =MOD(I20-D20,1)-MOD(H20-G20,1)-MOD(F20-E20,1) -> 0
B21: L | C21: 44180 | J21: =MOD(I21-D21,1)-MOD(H21-G21,1)-MOD(F21-E21,1) -> 0 | K21: =SUM(J21:J27) -> 0 | M21: Signature salarié
B22: M | C22: 44181 | J22: =MOD(I22-D22,1)-MOD(H22-G22,1)-MOD(F22-E22,1) -> 0
B23: M | C23: 44182 | J23: =MOD(I23-D23,1)-MOD(H23-G23,1)-MOD(F23-E23,1) -> 0
B24: J | C24: 44183 | J24: =MOD(I24-D24,1)-MOD(H24-G24,1)-MOD(F24-E24,1) -> 0
B25: V | C25: 44184 | J25: =MOD(I25-D25,1)-MOD(H25-G25,1)-MOD(F25-E25,1) -> 0
B26: S | C26: 44185 | J26: =MOD(I26-D26,1)-MOD(H26-G26,1)-MOD(F26-E26,1) -> 0
B27: D | C27: 44186 | J27: =MOD(I27-D27,1)-MOD(H27-G27,1)-MOD(F27-E27,1) -> 0
B28: L | C28: 44187 | J28: =MOD(I28-D28,1)-MOD(H28-G28,1)-MOD(F28-E28,1) -> 0 | K28: =SUM(J28:J34) -> 0 | M28: Signature salarié
B29: M | C29: 44188 | J29: =MOD(I29-D29,1)-MOD(H29-G29,1)-MOD(F29-E29,1) -> 0
B30: M | C30: 44189 | J30: =MOD(I30-D30,1)-MOD(H30-G30,1)-MOD(F30-E30,1) -> 0
B31: J | C31: 44190 | J31: =MOD(I31-D31,1)-MOD(H31-G31,1)-MOD(F31-E31,1) -> 0
B32: V | C32: 44191 | J32: =MOD(I32-D32,1)-MOD(H32-G32,1)-MOD(F32-E32,1) -> 0
B33: S | C33: 44192 | J33: =MOD(I33-D33,1)-MOD(H33-G33,1)-MOD(F33-E33,1) -> 0
B34: D | C34: 44193 | J34: =MOD(I34-D34,1)-MOD(H34-G34,1)-MOD(F34-E34,1) -> 0
C36: Signature Responsable | J36: Congés Payés
J37: Repos
J38: RR
J39: Absence injustifiée
J40: Arrêt Maladie
J41: Formation
J42: Evenement familiale
J43: Jour Férié et RJF
