Workbook

Sheet Feuille 1.
A1: Production | B1: S1 | C1: S2 | D1: S3 | E1: S4 | F1: S5 | G1: S6 | H1: S7 | I1: S8 | J1: S9 | K1: S10 | L1: S11 | M1: S12 | N1: S13 | O1: S14 | P1: S15 | Q1: S16 | R1: S17 | S1: S18 | T1: S19 | U1: S20 | V1: S21 | W1: S22 | X1: S23 | Y1: S24 | Z1: S25 | AA1: S26 | AB1: S27 | AC1: S28 | AD1: S29 | AE1: S30 | AF1: S31 | AG1: S32 | AH1: S33 | AI1: S34 | AJ1: S35 | AK1: S36 | AL1: S37 | AM1: S38 | AN1: S39 | AO1: S40 | AP1: S41 | AQ1: S42 | AR1: S43 | AS1: S44 | AT1: S45 | AU1: S46 | AV1: S47 | AW1: S48 | AX1: S49 | AY1: S50 | AZ1: S51 | BA1: S52 | BC1: Total
A3: Données 1
A4: Données | B4: 1 | C4: 2 | D4: 3 | E4: 4 | F4: 5 | G4: 6 | H4: 7 | I4: 8 | J4: 9 | K4: 10 | BC4: =SUM(B4:BA4) -> 55
A5: Données | B5: 21 | C5: 22 | D5: 23 | E5: 24 | F5: 25 | G5: 26 | H5: 27 | I5: 28 | J5: 29 | K5: 30 | BC5: =SUM(B5:BA5) -> 255
A6: Données | BC6: =SUM(B6:BA6) -> 0
A7: Données | BC7: =SUM(B7:BA7) -> 0
A8: Total Donnée 1 | B8: =SUM(B4:B7) -> 22 | C8: =SUM(C4:C7) -> 24 | D8: =SUM(D4:D7) -> 26 | E8: =SUM(E4:E7) -> 28 | F8: =SUM(F4:F7) -> 30 | G8: =SUM(G4:G7) -> 32 | H8: =SUM(H4:H7) -> 34 | I8: =SUM(I4:I7) -> 36 | ... K8: =SUM(K4:K7) -> 40 | BC8: =SUM(B8:BA8) -> 310
BC9: =SUM(B9:BA9) -> 0
A10: Données 2
A11: Données | B11: 1 | C11: 2 | D11: 3 | E11: 4 | F11: 5 | G11: 6 | H11: 7 | I11: 8 | J11: 9 | K11: 10 | BC11: =SUM(B11:BA11) -> 55
A12: Données | B12: 31 | C12: 32 | D12: 33 | E12: 34 | F12: 35 | G12: 36 | H12: 37 | I12: 38 | J12: 39 | K12: 40 | BC12: =SUM(B12:BA12) -> 355
A13: Données | BC13: =SUM(B13:BA13) -> 0
A14: Données | BC14: =SUM(B14:BA14) -> 0
A15: Total Donnée 2 | B15: =SUM(B11:B14) -> 32 | C15: =SUM(C11:C14) -> 34 | D15: =SUM(D11:D14) -> 36 | E15: =SUM(E11:E14) -> 38 | F15: =SUM(F11:F14) -> 40 | G15: =SUM(G11:G14) -> 42 | H15: =SUM(H11:H14) -> 44 | I15: =SUM(I11:I14) -> 46 | ... K15: =SUM(K11:K14) -> 50 | BC15: =SUM(B15:BA15) -> 410
BC16: =SUM(B16:BA16) -> 0
BC17: =SUM(B17:BA17) -> 0
BC18: =SUM(B18:BA18) -> 0
BC19: =SUM(B19:BA19) -> 0
BC20: =SUM(B20:BA20) -> 0
BC21: =SUM(B21:BA21) -> 0
BC22: =SUM(B22:BA22) -> 0
BC23: =SUM(B23:BA23) -> 0
BC24: =SUM(B24:BA24) -> 0
BC25: =SUM(B25:BA25) -> 0
A26: Total | B26: =SUM(B4:B25) -> 108 | C26: =SUM(C4:C25) -> 116 | D26: =SUM(D4:D25) -> 124 | E26: =SUM(E4:E25) -> 132 | F26: =SUM(F4:F25) -> 140 | G26: =SUM(G4:G25) -> 148 | H26: =SUM(H4:H25) -> 156 | I26: =SUM(I4:I25) -> 164 | ... BA26: =SUM(BA4:BA25) -> 0 | BC26: =SUM(BC4:BC25) -> 1440

Sheet Feuille 2.
A1: Production | B1: S1 | D1: S2 | F1: S3 | H1: S4 | J1: S5 | L1: S6 | N1: S7 | P1: S8 | R1: S9 | T1: S10 | V1: S11 | X1: S12 | Z1: S13 | AB1: S14 | AD1: S15 | AF1: S16 | AH1: S17 | AJ1: S18 | AL1: S19 | AN1: S20 | AP1: S21 | AR1: S22 | AT1: S23 | AV1: S24 | AX1: S25 | AZ1: S26 | BB1: S27 | BD1: S28 | BF1: S29 | BH1: S30 | BJ1: S31 | BL1: S32 | BN1: S33 | BP1: S34 | BR1: S35 | BT1: S36 | BV1: S37 | BX1: S38 | BZ1: S39 | CB1: S40 | CD1: S41 | CF1: S42 | CH1: S43 | CJ1: S44 | CL1: S45 | CN1: S46 | CP1: S47 | CR1: S48 | CT1: S49 | CV1: S50 | CX1: S51 | CZ1: S52 | DC1: Total
B2: C | C2: P | D2: C | E2: P | F2: C | G2: P | H2: C | I2: P | J2: C | K2: P | L2: C | M2: P | N2: C | O2: P | P2: C | Q2: P | R2: C | S2: C | T2: P | U2: C | V2: P | W2: C | X2: P | Y2: C | Z2: P | AA2: C | AB2: P | AC2: C | AD2: P | AE2: C | AF2: P | AG2: C | AH2: P | AI2: C | AJ2: C | AK2: P | AL2: C | AM2: P | AN2: C | AO2: P | AP2: C | AQ2: P | AR2: C | AS2: P | AT2: C | AU2: P | AV2: C | AW2: P | AX2: C | AY2: P | AZ2: C | BA2: C | BB2: P | BC2: C | BD2: P | BE2: C | BF2: P | BG2: C | BH2: P | BI2: C | BJ2: P | BK2: C | BL2: P | BM2: C | BN2: P | BO2: C | BP2: C | BQ2: P | BR2: C | BS2: P | BT2: C | BU2: P | BV2: C | BW2: P | BX2: C | BY2: P | BZ2: C | CA2: P | CB2: C | CC2: P | CD2: C | CE2: P | CF2: C | CG2: P | CH2: C | CI2: P | CJ2: C | CK2: P | CL2: C | CM2: P | CN2: C | CO2: P | CP2: C | CQ2: P | CR2: C | CS2: P | CT2: C | CU2: P | CV2: C | CW2: P | CX2: C | CY2: P | CZ2: C | DA2: P
A3: BK
A4: Total données 1 | C4: 22 | E4: {=INDEX('Feuille 1.'!$B$4:$AY$7,ROWS($A$4:C4),INT(COLUMN()/2))} -> 2 | G4: {=INDEX('Feuille 1.'!$B$4:$AY$7,ROWS($A$4:E4),INT(COLUMN()/2))} -> 3 | I4: {=INDEX('Feuille 1.'!$B$4:$AY$7,ROWS($A$4:G4),INT(COLUMN()/2))} -> 4 | K4: {=INDEX('Feuille 1.'!$B$4:$AY$7,ROWS($A$4:I4),INT(COLUMN()/2))} -> 5 | M4: {=INDEX('Feuille 1.'!$B$4:$AY$7,ROWS($A$4:K4),INT(COLUMN()/2))} -> 6 | O4: {=INDEX('Feuille 1.'!$B$4:$AY$7,ROWS($A$4:M4),INT(COLUMN()/2))} -> 7 | Q4: {=INDEX('Feuille 1.'!$B$4:$AY$7,ROWS($A$4:O4),INT(COLUMN()/2))} -> 8 | S4: {=INDEX('Feuille 1.'!$B$4:$AY$7,ROWS($A$4:Q4),INT(COLUMN()/2))} -> 9 | U4: {=INDEX('Feuille 1.'!$B$4:$AY$7,ROWS($A$4:S4),INT(COLUMN()/2))} -> 10 | DC4: =SUM(B4:DA4) -> 76
A5: Total données 2 | C5: 32 | E5: {=INDEX('Feuille 1.'!$B$4:$AY$7,ROWS($A$4:C5),INT(COLUMN()/2))} -> 22 | G5: {=INDEX('Feuille 1.'!$B$4:$AY$7,ROWS($A$4:E5),INT(COLUMN()/2))} -> 23 | I5: {=INDEX('Feuille 1.'!$B$4:$AY$7,ROWS($A$4:G5),INT(COLUMN()/2))} -> 24 | K5: {=INDEX('Feuille 1.'!$B$4:$AY$7,ROWS($A$4:I5),INT(COLUMN()/2))} -> 25 | M5: {=INDEX('Feuille 1.'!$B$4:$AY$7,ROWS($A$4:K5),INT(COLUMN()/2))} -> 26 | O5: {=INDEX('Feuille 1.'!$B$4:$AY$7,ROWS($A$4:M5),INT(COLUMN()/2))} -> 27 | Q5: {=INDEX('Feuille 1.'!$B$4:$AY$7,ROWS($A$4:O5),INT(COLUMN()/2))} -> 28 | S5: {=INDEX('Feuille 1.'!$B$4:$AY$7,ROWS($A$4:Q5),INT(COLUMN()/2))} -> 29 | U5: {=INDEX('Feuille 1.'!$B$4:$AY$7,ROWS($A$4:S5),INT(COLUMN()/2))} -> 30 | DC5: =SUM(B5:DA5) -> 266
DC6: =SUM(B6:DA6) -> 0
DC7: =SUM(B7:DA7) -> 0
DC8: =SUM(B8:DA8) -> 0
DC9: =SUM(B9:DA9) -> 0
DC10: =SUM(B10:DA10) -> 0
DC11: =SUM(B11:DA11) -> 0
DC12: =SUM(B12:DA12) -> 0
DC13: =SUM(B13:DA13) -> 0
DC14: =SUM(B14:DA14) -> 0
DC15: =SUM(B15:DA15) -> 0
DC16: =SUM(B16:DA16) -> 0
A18: Total | B18: =SUM(B4:B12) -> 0 | BB18: =SUM(BB4:BB16) -> 0 | BC18: =SUM(BC4:BC16) -> 0 | BD18: =SUM(BD4:BD16) -> 0 | BE18: =SUM(BE4:BE16) -> 0 | BF18: =SUM(BF4:BF16) -> 0 | BG18: =SUM(BG4:BG16) -> 0 | BH18: =SUM(BH4:BH16) -> 0 | BI18: =SUM(BI4:BI16) -> 0 | ... BX18: =SUM(BX4:BX16) -> 0 | BY18: 110 | BZ18: =SUM(BZ4:BZ16) -> 0 | CA18: =SUM(CA4:CA16) -> 0 | CB18: =SUM(CB4:CB16) -> 0 | CC18: =SUM(CC4:CC16) -> 0 | CD18: =SUM(CD4:CD16) -> 0 | CE18: =SUM(CE4:CE16) -> 0 | CF18: =SUM(CF4:CF16) -> 0 | CG18: =SUM(CG4:CG16) -> 0 | ... DA18: =SUM(DA4:DA16) -> 0 | DC18: =SUM(DC4:DC12) -> 342
