Workbook
Name Aix: a!$A$1:$AI$34
Name asa: b!$A$1:$AI$36
Name defaites: OFFSET(#REF!,MATCH(#REF!,nomEquipe2,0),0)
Name evreux: 'c'!$A$1:$AI$34
Name l_Equipe: [1]!t_Equipe[Equipe]
Name l_Joueur: [1]!t_Joueur[Joueur]
Name l_Ville: [1]!t_Equipe[Ville]
Name nomEquipe: #REF!
Name nomEquipe2: #REF!
Name Photo: OFFSET(#REF!,MATCH(#REF!,nomEquipe,0),0)
Name victoires: OFFSET(#REF!,MATCH(#REF!,nomEquipe2,0),0)

Sheet PRÉSAISON
B1: Matchs | C1: PTS marq | D1: Poss OFF | E1: Eff OFF | F1: % RO | G1: % RD | H1: FPR/poss | I1: BP/poss | J1: PD/poss | K1: PD/paniers | L1: %3pts | M1: PTS enc | N1: Poss DEF | O1: Eff DEF | P1: INT/poss
A2: a | B2: =a!C18 -> 4 | C2: =a!AE18 -> 94 | D2: =a!I18+a!M18+(a!Q18*0.44)+a!AC18-a!S18 -> 84.66 | E2: =C2/D2 -> 1.1103236 | F2: =a!S18/((a!I18-a!G18)+(a!M18-a!K18)) -> 0.36260623 | G2: =a!T18/((a!I19-a!G19)+(a!M19-a!K19)) -> 0.75136612 | H2: =a!AA18/PRÉSAISON!D2 -> 0.31656036 | I2: =a!AC18/PRÉSAISON!D2 -> 0.18072289 | J2: =a!X18/PRÉSAISON!D2 -> 0.22797071 | K2: =a!X18/(a!G18+a!K18) -> 0.62662338 | L2: =a!K18/a!M18 -> 0.28899083 | M2: =a!AE19 -> 91 | N2: =a!I19+a!M19+(a!Q19*0.44)+a!AC19-a!S19 -> 83.352 | O2: =M2/N2 -> 1.0917554 | P2: =a!AB18/PRÉSAISON!M2 -> 0.08021978
A3: b | B3: =b!C19 -> 4 | C3: =b!AE19 -> 82.8 | D3: =b!I19+b!M19+(b!Q19*0.44)+b!AC19-b!S19 -> 80.132 | E3: =C3/D3 -> 1.0332951 | F3: =b!S19/((b!I19-b!G19)+(b!M19-b!K19)) -> 0.30612245 | G3: =b!T19/((b!I20-b!G20)+(b!M20-b!K20)) -> 0.68055556 | H3: =b!AA19/PRÉSAISON!D3 -> 0.34068787 | I3: =b!AC19/PRÉSAISON!D3 -> 0.22213348 | J3: =b!X19/PRÉSAISON!D3 -> 0.23086907 | K3: =b!X19/(b!G19+b!K19) -> 0.64685315 | L3: =b!K19/b!M19 -> 0.22857143 | M3: =b!AE20 -> 78.8 | N3: =b!I20+b!M20+(b!Q20*0.44)+b!AC20-b!S20 -> 82.752 | O3: =M3/N3 -> 0.95224285 | P3: =b!AB19/PRÉSAISON!N3 -> 0.13896945
A4: c | B4: ='c'!C18 -> 4 | C4: ='c'!AE18 -> 73.3 | D4: ='c'!I18+'c'!M18+('c'!Q18*0.44)+'c'!AC18-'c'!S18 -> 78.98 | E4: =C4/D4 -> 0.92808306 | F4: ='c'!S18/(('c'!I18-'c'!G18)+('c'!M18-'c'!K18)) -> 0.21021021 | G4: ='c'!T18/(('c'!J19-'c'!I19)+('c'!M19-'c'!K19)) -> 0.7122905 | H4: ='c'!AA18/PRÉSAISON!D4 -> 0.3329957 | I4: ='c'!AC18/PRÉSAISON!D4 -> 0.21524437 | J4: ='c'!X18/PRÉSAISON!D4 -> 0.23423652 | K4: ='c'!X18/('c'!G18+'c'!K18) -> 0.77731092 | L4: ='c'!K18/'c'!M18 -> 0.28806584 | M4: ='c'!AE19 -> 74 | N4: ='c'!I19+'c'!M19+('c'!Q19*0.44)+'c'!AC19-'c'!S19 -> 76.9 | O4: =M4/N4 -> 0.96228869 | P4: ='c'!AB18/PRÉSAISON!N4 -> 0.065019506
A6: Max | C6: =MAX(C2:C4) -> 94 | D6: =MAX(D2:D4) -> 84.66 | E6: =MAX(E2:E4) -> 1.1103236 | F6: =MAX(F2:F4) -> 0.36260623 | G6: =MAX(G2:G4) -> 0.75136612 | H6: =MAX(H2:H4) -> 0.34068787 | I6: =MAX(I2:I4) -> 0.22213348 | J6: =MAX(J2:J4) -> 0.23423652 | ... P6: =MAX(P2:P4) -> 0.13896945
A7: Min | C7: =MIN(C2:C4) -> 73.3 | D7: =MIN(D2:D4) -> 78.98 | E7: =MIN(E2:E4) -> 0.92808306 | F7: =MIN(F2:F4) -> 0.21021021 | G7: =MIN(G2:G4) -> 0.68055556 | H7: =MIN(H2:H4) -> 0.31656036 | I7: =MIN(I2:I4) -> 0.18072289 | J7: =MIN(J2:J4) -> 0.22797071 | ... P7: =MIN(P2:P4) -> 0.065019506

Sheet a
A1: PRE-SAISON - Statistiques Cumulées - Aix-Maurienne
A3: RECORD (V-D): 3-1 PROA (V-D): (0-0) PROB (V-D): (2-0) NATIONAL (V-D): (1-0) ETRANGER (V-D): (0-1)
A4: No | B4: Joueur | C4: MJ | E4: 5d | F4: Min | G4: Tirs | J4: %tirs | K4: 3 pts | N4: %3pts | O4: LF | R4: %LF | S4: Ro | T4: Rd | U4: RTol | V4: / | W4: Moy | X4: Pd | Y4: Fte | Z4: - | AA4: Fpr | AB4: IN | AC4: Bp | AD4: Ct | AE4: Pts | AF4: / | AG4: Moy
A5: 5 | B5: Carlos PEPIN | C5: 4 | E5: 4 | F5: 98 | G5: 23 | H5: - | I5: 32 | J5: 72 | K5: 1 | L5: - | M5: 2 | N5: 50 | O5: 17 | P5: - | Q5: 31 | R5: 55 | S5: 9 | T5: 13 | U5: 22 | W5: 5.5 | X5: 7 | Y5: 11 | Z5: - | AA5: 23 | AB5: 4 | AC5: 7 | AD5: 1 | AE5: 66 | AF5: / | AG5: 16.5
A6: 24 | B6: Kamel AMMOUR | C6: 4 | E6: 4 | F6: 116 | G6: 15 | H6: - | I6: 29 | J6: 52 | K6: 4 | L6: - | M6: 18 | N6: 22 | O6: 21 | P6: - | Q6: 28 | R6: 75 | S6: 7 | T6: 17 | U6: 24 | W6: 6 | X6: 8 | Y6: 4 | Z6: - | AA6: 16 | AB6: 2 | AC6: 6 | AD6: 0 | AE6: 63 | AF6: / | AG6: 15.8
A7: 19 | B7: Christopher DAUBY | C7: 4 | E7: 4 | F7: 118 | G7: 11 | H7: - | I7: 20 | J7: 55 | K7: 5 | L7: - | M7: 21 | N7: 24 | O7: 18 | P7: - | Q7: 20 | R7: 90 | S7: 4 | T7: 11 | U7: 15 | W7: 3.8 | X7: 12 | Y7: 10 | Z7: - | AA7: 12 | AB7: 2 | AC7: 9 | AD7: 0 | AE7: 55 | AF7: / | AG7: 13.8
A8: 3 | B8: Jacori PAYNE | C8: 4 | E8: 4 | F8: 97 | G8: 8 | H8: - | I8: 18 | J8: 44 | K8: 5 | L8: - | M8: 10 | N8: 50 | O8: 17 | P8: - | Q8: 18 | R8: 94 | S8: 1 | T8: 8 | U8: 9 | W8: 2.3 | X8: 26 | Y8: 11 | Z8: - | AA8: 13 | AB8: 5 | AC8: 7 | AD8: 0 | AE8: 48 | AF8: / | AG8: 12
A9: 4 | B9: Siriman KANOUTE | C9: 4 | E9: 0 | F9: 72 | G9: 9 | H9: - | I9: 16 | J9: 56 | K9: 3 | L9: - | M9: 6 | N9: 50 | O9: 13 | P9: - | Q9: 20 | R9: 65 | S9: 3 | T9: 7 | U9: 10 | W9: 2.5 | X9: 7 | Y9: 15 | Z9: - | AA9: 21 | AB9: 7 | AC9: 7 | AD9: 0 | AE9: 40 | AF9: / | AG9: 10
A10: 7 | B10: Gide NOEL | C10: 4 | E10: 0 | F10: 84 | G10: 11 | H10: - | I10: 19 | J10: 58 | K10: 2 | L10: - | M10: 13 | N10: 15 | O10: 9 | P10: - | Q10: 9 | R10: 100 | S10: 5 | T10: 10 | U10: 15 | W10: 3.8 | X10: 4 | Y10: 12 | Z10: - | AA10: 7 | AB10: 3 | AC10: 9 | AD10: 0 | AE10: 37 | AF10: / | AG10: 9.3
A11: 0 | B11: Corentin FALCOZ | C11: 4 | E11: 0 | F11: 84 | G11: 9 | H11: - | I11: 16 | J11: 56 | K11: 4 | L11: - | M11: 14 | N11: 29 | O11: 2 | P11: - | Q11: 3 | R11: 67 | S11: 2 | T11: 3 | U11: 5 | W11: 1.3 | X11: 4 | Y11: 5 | Z11: - | AA11: 2 | AB11: 2 | AC11: 2 | AD11: 0 | AE11: 32 | AF11: / | AG11: 8
A12: 32 | B12: Neal QUINN | C12: 4 | E12: 4 | F12: 83 | G12: 9 | H12: - | I12: 20 | J12: 45 | K12: 0 | L12: - | M12: 1 | N12: 0 | O12: 3 | P12: - | Q12: 5 | R12: 60 | S12: 9 | T12: 21 | U12: 30 | W12: 7.5 | X12: 8 | Y12: 8 | Z12: - | AA12: 4 | AB12: 3 | AC12: 9 | AD12: 2 | AE12: 21 | AF12: / | AG12: 5.3
A13: 8 | B13: Maxime YOMI | C13: 4 | E13: 0 | F13: 57 | G13: 3 | H13: - | I13: 6 | J13: 50 | K13: 0 | L13: - | M13: 0 | N13: - | O13: 5 | P13: - | Q13: 12 | R13: 42 | S13: 11 | T13: 18 | U13: 29 | W13: 7.3 | X13: 0 | Y13: 5 | Z13: - | AA13: 8 | AB13: 0 | AC13: 2 | AD13: 1 | AE13: 11 | AF13: / | AG13: 2.8
A14: 6 | B14: Steve BAH | C14: 4 | E14: 0 | F14: 14 | G14: 0 | H14: - | I14: 1 | J14: 0 | K14: 1 | L14: - | M14: 2 | N14: 50 | O14: 0 | P14: - | Q14: 0 | R14: - | S14: 0 | T14: 2 | U14: 2 | W14: 0.5 | X14: 1 | Y14: 8 | Z14: - | AA14: 1 | AB14: 1 | AC14: 3 | AD14: 0 | AE14: 3 | AF14: / | AG14: 0.8
A15: 16 | B15: Leo FALCOZ | C15: 1 | E15: 0 | F15: 1 | G15: 0 | H15: - | I15: 0 | J15: - | K15: 0 | L15: - | M15: 0 | N15: - | O15: 0 | P15: - | Q15: 0 | R15: - | S15: 0 | T15: 0 | U15: 0 | W15: 0 | X15: 0 | Y15: 0 | Z15: - | AA15: 0 | AB15: 0 | AC15: 0 | AD15: 0 | AE15: 0 | AF15: / | AG15: 0
A16: 18 | B16: Lucas BONFILS | C16: 1 | E16: 0 | F16: 1 | G16: 0 | H16: - | I16: 0 | J16: - | K16: 0 | L16: - | M16: 0 | N16: - | O16: 0 | P16: - | Q16: 0 | R16: - | S16: 0 | T16: 0 | U16: 0 | W16: 0 | X16: 0 | Y16: 0 | Z16: - | AA16: 0 | AB16: 0 | AC16: 0 | AD16: 0 | AE16: 0 | AF16: / | AG16: 0
A17: Équipe | U17: 16 | W17: 4 | AD17: 2
A18: Aix-Maurienne | C18: 4 | D18: - | E18: 5 | F18: 206.3 | G18: 24.5 | H18: - | I18: 44.3 | J18: 55.4 | K18: 6.3 | L18: - | M18: 21.8 | N18: 28.7 | O18: 26.3 | P18: - | Q18: 36.5 | R18: 71.9 | S18: 12.8 | T18: 27.5 | U18: 40.3 | V18: / | W18: 4.1 | X18: 19.3 | Y18: 22.3 | Z18: - | AA18: 26.8 | AB18: 7.3 | AC18: 15.3 | AD18: 1 | AE18: 94 | AF18: / | AG18: 8.6
A19: ADVERSAIRES | F19: 206.3 | G19: 21.5 | H19: - | I19: 37.3 | J19: 57.7 | K19: 10.5 | L19: - | M19: 31.3 | N19: 33.6 | O19: 16.5 | P19: - | Q19: 23.3 | R19: 71 | S19: 9.5 | T19: 25.5 | U19: 35 | V19: / | W19: 35 | X19: 21.5 | Y19: 27.3 | Z19: - | AA19: 22 | AB19: 7.8 | AC19: 14 | AD19: 2.3 | AE19: 91 | AF19: / | AG19: 7.6
C21: Record sur un match | K21: Moyenne par match | S21: Moyenne sur 40 minutes
A22: No | B22: Joueur | C22: Min | D22: Rb | E22: Pd | F22: In | G22: Bp | H22: Ct | I22: Pts | K22: Min | L22: Rb | M22: Pd | N22: In | O22: Bp | P22: Ct | Q22: Pts | S22: Rb | T22: Pd | U22: In | V22: Bp | W22: Ct | X22: Pts
A23: 0 | B23: Corentin FALCOZ | C23: 24 | D23: 2 | E23: 2 | F23: 1 | G23: 1 | H23: 0 | I23: 11 | K23: 21 | L23: 1.3 | M23: 1 | N23: 0.5 | O23: 0.5 | P23: 0 | Q23: 8 | S23: 2.4 | T23: 1.9 | U23: 1 | V23: 1 | W23: 0 | X23: 15.2
A24: 16 | B24: Leo FALCOZ | C24: 1 | D24: 0 | E24: 0 | F24: 0 | G24: 0 | H24: 0 | I24: 0 | K24: 0.3 | L24: 0 | M24: 0 | N24: 0 | O24: 0 | P24: 0 | Q24: 0 | S24: 0 | T24: 0 | U24: 0 | V24: 0 | W24: 0 | X24: 0
A25: 18 | B25: Lucas BONFILS | C25: 1 | D25: 0 | E25: 0 | F25: 0 | G25: 0 | H25: 0 | I25: 0 | K25: 0.3 | L25: 0 | M25: 0 | N25: 0 | O25: 0 | P25: 0 | Q25: 0 | S25: 0 | T25: 0 | U25: 0 | V25: 0 | W25: 0 | X25: 0
A26: 19 | B26: Christopher DAUBY | C26: 32 | D26: 5 | E26: 5 | F26: 2 | G26: 6 | H26: 0 | I26: 23 | K26: 29.5 | L26: 3.8 | M26: 3 | N26: 0.5 | O26: 2.3 | P26: 0 | Q26: 13.8 | S26: 5.1 | T26: 4.1 | U26: 0.7 | V26: 3.1 | W26: 0 | X26: 18.6
A27: 24 | B27: Kamel AMMOUR | C27: 34 | D27: 7 | E27: 4 | F27: 1 | G27: 2 | H27: 0 | I27: 18 | K27: 29 | L27: 6 | M27: 2 | N27: 0.5 | O27: 1.5 | P27: 0 | Q27: 15.8 | S27: 8.3 | T27: 2.8 | U27: 0.7 | V27: 2.1 | W27: 0 | X27: 21.7
A28: 3 | B28: Jacori PAYNE | C28: 28 | D28: 3 | E28: 10 | F28: 2 | G28: 3 | H28: 0 | I28: 19 | K28: 24.3 | L28: 2.3 | M28: 6.5 | N28: 1.3 | O28: 1.8 | P28: 0 | Q28: 12 | S28: 3.7 | T28: 10.7 | U28: 2.1 | V28: 2.9 | W28: 0 | X28: 19.8
A29: 32 | B29: Neal QUINN | C29: 31 | D29: 12 | E29: 4 | F29: 2 | G29: 3 | H29: 1 | I29: 9 | K29: 20.8 | L29: 7.5 | M29: 2 | N29: 0.8 | O29: 2.3 | P29: 0.5 | Q29: 5.3 | S29: 14.5 | T29: 3.9 | U29: 1.4 | V29: 4.3 | W29: 1 | X29: 10.1
A30: 4 | B30: Siriman KANOUTE | C30: 26 | D30: 4 | E30: 3 | F30: 3 | G30: 3 | H30: 0 | I30: 15 | K30: 18 | L30: 2.5 | M30: 1.8 | N30: 1.8 | O30: 1.8 | P30: 0 | Q30: 10 | S30: 5.6 | T30: 3.9 | U30: 3.9 | V30: 3.9 | W30: 0 | X30: 22.2
A31: 5 | B31: Carlos PEPIN | C31: 32 | D31: 9 | E31: 3 | F31: 2 | G31: 4 | H31: 1 | I31: 22 | K31: 24.5 | L31: 5.5 | M31: 1.8 | N31: 1 | O31: 1.8 | P31: 0.3 | Q31: 16.5 | S31: 9 | T31: 2.9 | U31: 1.6 | V31: 2.9 | W31: 0.4 | X31: 26.9
A32: 6 | B32: Steve BAH | C32: 8 | D32: 2 | E32: 1 | F32: 1 | G32: 2 | H32: 0 | I32: 3 | K32: 3.5 | L32: 0.5 | M32: 0.3 | N32: 0.3 | O32: 0.8 | P32: 0 | Q32: 0.8 | S32: 5.7 | T32: 2.9 | U32: 2.9 | V32: 8.6 | W32: 0 | X32: 8.6
A33: 7 | B33: Gide NOEL | C33: 26 | D33: 5 | E33: 4 | F33: 2 | G33: 5 | H33: 0 | I33: 18 | K33: 21 | L33: 3.8 | M33: 1 | N33: 0.8 | O33: 2.3 | P33: 0 | Q33: 9.3 | S33: 7.1 | T33: 1.9 | U33: 1.4 | V33: 4.3 | W33: 0 | X33: 17.6
A34: 8 | B34: Maxime YOMI | C34: 18 | D34: 12 | E34: 0 | F34: 0 | G34: 1 | H34: 1 | I34: 4 | K34: 14.3 | L34: 7.3 | M34: 0 | N34: 0 | O34: 0.5 | P34: 0.3 | Q34: 2.8 | S34: 20.4 | T34: 0 | U34: 0 | V34: 1.4 | W34: 0.7 | X34: 7.7

Sheet b
A1: PRE-SAISON - Statistiques Cumulées - Gries-Souffel
A3: RECORD (V-D): 3-1 PROA (V-D): (0-0) PROB (V-D): (0-1) NATIONAL (V-D): (2-0) ETRANGER (V-D): (1-0)
A4: No | B4: Joueur | C4: MJ | E4: 5d | F4: Min | G4: Tirs | J4: %tirs | K4: 3 pts | N4: %3pts | O4: LF | R4: %LF | S4: Ro | T4: Rd | U4: RTol | V4: / | W4: Moy | X4: Pd | Y4: Fte | Z4: - | AA4: Fpr | AB4: IN | AC4: Bp | AD4: Ct | AE4: Pts | AF4: / | AG4: Moy
A5: 20 | B5: Yvann MBAYA | C5: 3 | E5: 3 | F5: 81 | G5: 21 | H5: - | I5: 29 | J5: 72 | K5: 0 | L5: - | M5: 0 | N5: - | O5: 15 | P5: - | Q5: 21 | R5: 71 | S5: 9 | T5: 23 | U5: 32 | W5: 10.7 | X5: 1 | Y5: 8 | Z5: - | AA5: 17 | AB5: 3 | AC5: 4 | AD5: 1 | AE5: 57 | AF5: / | AG5: 19
A6: 6 | B6: Shannon BOGUES JR | C6: 4 | E6: 3 | F6: 109 | G6: 16 | H6: - | I6: 27 | J6: 59 | K6: 2 | L6: - | M6: 16 | N6: 13 | O6: 16 | P6: - | Q6: 21 | R6: 76 | S6: 3 | T6: 11 | U6: 14 | W6: 3.5 | X6: 12 | Y6: 13 | Z6: - | AA6: 23 | AB6: 8 | AC6: 4 | AD6: 3 | AE6: 54 | AF6: / | AG6: 13.5
A7: 5 | B7: Ludovic BEYHURST | C7: 4 | E7: 3 | F7: 107 | G7: 11 | H7: - | I7: 17 | J7: 65 | K7: 3 | L7: - | M7: 12 | N7: 25 | O7: 13 | P7: - | Q7: 16 | R7: 81 | S7: 1 | T7: 11 | U7: 12 | W7: 3 | X7: 15 | Y7: 13 | Z7: - | AA7: 15 | AB7: 8 | AC7: 13 | AD7: 0 | AE7: 44 | AF7: / | AG7: 11
A8: 4 | B8: Marcus GOMIS | C8: 3 | E8: 0 | F8: 49 | G8: 6 | H8: - | I8: 7 | J8: 86 | K8: 4 | L8: - | M8: 7 | N8: 57 | O8: 5 | P8: - | Q8: 6 | R8: 83 | S8: 0 | T8: 3 | U8: 3 | W8: 1 | X8: 4 | Y8: 7 | Z8: - | AA8: 4 | AB8: 3 | AC8: 4 | AD8: 0 | AE8: 29 | AF8: / | AG8: 9.7
A9: 12 | B9: Allan JEANNE-ROSE | C9: 4 | E9: 2 | F9: 112 | G9: 8 | H9: - | I9: 11 | J9: 73 | K9: 5 | L9: - | M9: 17 | N9: 29 | O9: 6 | P9: - | Q9: 9 | R9: 67 | S9: 3 | T9: 7 | U9: 10 | W9: 2.5 | X9: 6 | Y9: 8 | Z9: - | AA9: 9 | AB9: 5 | AC9: 9 | AD9: 1 | AE9: 37 | AF9: / | AG9: 9.3
A10: 13 | B10: Djordje MILOSEVIC | C10: 4 | E10: 1 | F10: 106 | G10: 10 | H10: - | I10: 19 | J10: 53 | K10: 0 | L10: - | M10: 7 | N10: 0 | O10: 11 | P10: - | Q10: 18 | R10: 61 | S10: 5 | T10: 13 | U10: 18 | W10: 4.5 | X10: 13 | Y10: 4 | Z10: - | AA10: 13 | AB10: 4 | AC10: 6 | AD10: 2 | AE10: 31 | AF10: / | AG10: 7.8
A11: 9 | B11: Leopold CA | C11: 4 | E11: 3 | F11: 107 | G11: 9 | H11: - | I11: 15 | J11: 60 | K11: 1 | L11: - | M11: 6 | N11: 17 | O11: 10 | P11: - | Q11: 17 | R11: 59 | S11: 6 | T11: 12 | U11: 18 | W11: 4.5 | X11: 12 | Y11: 8 | Z11: - | AA11: 12 | AB11: 7 | AC11: 10 | AD11: 9 | AE11: 31 | AF11: / | AG11: 7.8
A12: 11 | B12: Antonio VRANKOVIC | C12: 1 | E12: 0 | F12: 21 | G12: 3 | H12: - | I12: 3 | J12: 100 | K12: 0 | L12: - | M12: 0 | N12: - | O12: 0 | P12: - | Q12: 2 | R12: 0 | S12: 3 | T12: 2 | U12: 5 | W12: 5 | X12: 2 | Y12: 4 | Z12: - | AA12: 1 | AB12: 1 | AC12: 3 | AD12: 1 | AE12: 6 | AF12: / | AG12: 6
A13: 42 | B13: Carl PONSAR | C13: 1 | E13: 0 | F13: 22 | G13: 1 | H13: - | I13: 4 | J13: 25 | K13: 1 | L13: - | M13: 2 | N13: 50 | O13: 1 | P13: - | Q13: 2 | R13: 50 | S13: 0 | T13: 5 | U13: 5 | W13: 5 | X13: 2 | Y13: 2 | Z13: - | AA13: 2 | AB13: 0 | AC13: 2 | AD13: 0 | AE13: 6 | AF13: / | AG13: 6
A14: 21 | B14: Romain HOELTZEL | C14: 4 | E14: 0 | F14: 58 | G14: 5 | H14: - | I14: 6 | J14: 83 | K14: 3 | L14: - | M14: 11 | N14: 27 | O14: 2 | P14: - | Q14: 3 | R14: 67 | S14: 3 | T14: 4 | U14: 7 | W14: 1.8 | X14: 4 | Y14: 8 | Z14: - | AA14: 5 | AB14: 3 | AC14: 8 | AD14: 0 | AE14: 21 | AF14: / | AG14: 5.3
A15: 24 | B15: Rodrigo DIAZ | C15: 3 | E15: 0 | F15: 43 | G15: 3 | H15: - | I15: 5 | J15: 60 | K15: 0 | L15: - | M15: 4 | N15: 0 | O15: 5 | P15: - | Q15: 6 | R15: 83 | S15: 0 | T15: 6 | U15: 6 | W15: 2 | X15: 3 | Y15: 6 | Z15: - | AA15: 8 | AB15: 2 | AC15: 7 | AD15: 1 | AE15: 11 | AF15: / | AG15: 3.7
A16: 10 | B16: Keletigui KANE | C16: 3 | E16: 0 | F16: 24 | G16: 2 | H16: - | I16: 5 | J16: 40 | K16: 0 | L16: - | M16: 1 | N16: 0 | O16: 0 | P16: - | Q16: 0 | R16: - | S16: 3 | T16: 1 | U16: 4 | W16: 1.3 | X16: 0 | Y16: 4 | Z16: - | AA16: 0 | AB16: 2 | AC16: 1 | AD16: 0 | AE16: 4 | AF16: / | AG16: 1.3
A17: 85 | B17: Adrien PEREIRA | C17: 2 | E17: 0 | F17: 11 | G17: 0 | H17: - | I17: 0 | J17: - | K17: 0 | L17: - | M17: 1 | N17: 0 | O17: 0 | P17: - | Q17: 0 | R17: - | S17: 0 | T17: 0 | U17: 0 | W17: 0 | X17: 0 | Y17: 0 | Z17: - | AA17: 0 | AB17: 0 | AC17: 0 | AD17: 0 | AE17: 0 | AF17: / | AG17: 0
A18: Équipe | U18: 17 | W18: 4.3 | AD18: 6
A19: Gries-Souffel | C19: 4 | D19: - | E19: 5 | F19: 212.5 | G19: 23.8 | H19: - | I19: 37 | J19: 64.2 | K19: 4.8 | L19: - | M19: 21 | N19: 22.6 | O19: 21 | P19: - | Q19: 30.3 | R19: 69.4 | S19: 9 | T19: 24.5 | U19: 33.5 | V19: / | W19: 4.1 | X19: 18.5 | Y19: 21.3 | Z19: - | AA19: 27.3 | AB19: 11.5 | AC19: 17.8 | AD19: 4.5 | AE19: 82.8 | AF19: / | AG19: 8.4
A20: ADVERSAIRES | F20: 212.5 | G20: 20.3 | H20: - | I20: 35.3 | J20: 57.5 | K20: 8 | L20: - | M20: 29 | N20: 27.6 | O20: 14.3 | P20: - | Q20: 20.8 | R20: 68.7 | S20: 10.5 | T20: 22.5 | U20: 33 | V20: / | W20: 33 | X20: 19.8 | Y20: 27.8 | Z20: - | AA20: 21 | AB20: 8.8 | AC20: 19.8 | AD20: 2 | AE20: 78.8 | AF20: / | AG20: 6.1
C22: Record sur un match | K22: Moyenne par match | S22: Moyenne sur 40 minutes
A23: No | B23: Joueur | C23: Min | D23: Rb | E23: Pd | F23: In | G23: Bp | H23: Ct | I23: Pts | K23: Min | L23: Rb | M23: Pd | N23: In | O23: Bp | P23: Ct | Q23: Pts | S23: Rb | T23: Pd | U23: In | V23: Bp | W23: Ct | X23: Pts
A24: 10 | B24: Keletigui KANE | C24: 14 | D24: 3 | E24: 0 | F24: 2 | G24: 1 | H24: 0 | I24: 4 | K24: 6 | L24: 1 | M24: 0 | N24: 0.5 | O24: 0.3 | P24: 0 | Q24: 1 | S24: 6.7 | T24: 0 | U24: 3.3 | V24: 1.7 | W24: 0 | X24: 6.7
A25: 11 | B25: Antonio VRANKOVIC | C25: 21 | D25: 5 | E25: 2 | F25: 1 | G25: 3 | H25: 1 | I25: 6 | K25: 21 | L25: 5 | M25: 2 | N25: 1 | O25: 3 | P25: 1 | Q25: 6 | S25: 9.5 | T25: 3.8 | U25: 1.9 | V25: 5.7 | W25: 1.9 | X25: 11.4
A26: 12 | B26: Allan JEANNE-ROSE | C26: 37 | D26: 3 | E26: 3 | F26: 2 | G26: 3 | H26: 1 | I26: 18 | K26: 28 | L26: 2.5 | M26: 1.5 | N26: 1.3 | O26: 2.3 | P26: 0.3 | Q26: 9.3 | S26: 3.6 | T26: 2.1 | U26: 1.8 | V26: 3.2 | W26: 0.4 | X26: 13.2
A27: 13 | B27: Djordje MILOSEVIC | C27: 33 | D27: 7 | E27: 5 | F27: 2 | G27: 3 | H27: 1 | I27: 10 | K27: 26.5 | L27: 4.5 | M27: 3.3 | N27: 1 | O27: 1.5 | P27: 0.5 | Q27: 7.8 | S27: 6.8 | T27: 4.9 | U27: 1.5 | V27: 2.3 | W27: 0.8 | X27: 11.7
A28: 20 | B28: Yvann MBAYA | C28: 40 | D28: 16 | E28: 1 | F28: 1 | G28: 2 | H28: 1 | I28: 22 | K28: 27 | L28: 10.7 | M28: 0.3 | N28: 1 | O28: 1.3 | P28: 0.3 | Q28: 19 | S28: 15.8 | T28: 0.5 | U28: 1.5 | V28: 2 | W28: 0.5 | X28: 28.1
A29: 21 | B29: Romain HOELTZEL | C29: 17 | D29: 3 | E29: 3 | F29: 2 | G29: 4 | H29: 0 | I29: 8 | K29: 14.5 | L29: 1.8 | M29: 1 | N29: 0.8 | O29: 2 | P29: 0 | Q29: 5.3 | S29: 4.8 | T29: 2.8 | U29: 2.1 | V29: 5.5 | W29: 0 | X29: 14.5
A30: 24 | B30: Rodrigo DIAZ | C30: 21 | D30: 3 | E30: 2 | F30: 1 | G30: 3 | H30: 1 | I30: 5 | K30: 10.8 | L30: 1.5 | M30: 0.8 | N30: 0.5 | O30: 1.8 | P30: 0.3 | Q30: 2.8 | S30: 5.6 | T30: 2.8 | U30: 1.9 | V30: 6.5 | W30: 0.9 | X30: 10.2
A31: 4 | B31: Marcus GOMIS | C31: 24 | D31: 2 | E31: 3 | F31: 3 | G31: 2 | H31: 0 | I31: 16 | K31: 12.3 | L31: 0.8 | M31: 1 | N31: 0.8 | O31: 1 | P31: 0 | Q31: 7.3 | S31: 2.4 | T31: 3.3 | U31: 2.4 | V31: 3.3 | W31: 0 | X31: 23.7
A32: 42 | B32: Carl PONSAR | C32: 22 | D32: 5 | E32: 2 | F32: 0 | G32: 2 | H32: 0 | I32: 6 | K32: 11 | L32: 2.5 | M32: 1 | N32: 0 | O32: 1 | P32: 0 | Q32: 3 | S32: 9.1 | T32: 3.6 | U32: 0 | V32: 3.6 | W32: 0 | X32: 10.9
A33: 5 | B33: Ludovic BEYHURST | C33: 33 | D33: 5 | E33: 6 | F33: 3 | G33: 5 | H33: 0 | I33: 14 | K33: 26.8 | L33: 3 | M33: 3.8 | N33: 2 | O33: 3.3 | P33: 0 | Q33: 11 | S33: 4.5 | T33: 5.6 | U33: 3 | V33: 4.9 | W33: 0 | X33: 16.4
A34: 6 | B34: Shannon BOGUES JR | C34: 45 | D34: 6 | E34: 5 | F34: 4 | G34: 3 | H34: 2 | I34: 22 | K34: 27.3 | L34: 3.5 | M34: 3 | N34: 2 | O34: 1 | P34: 0.8 | Q34: 13.5 | S34: 5.1 | T34: 4.4 | U34: 2.9 | V34: 1.5 | W34: 1.1 | X34: 19.8
A35: 85 | B35: Adrien PEREIRA | C35: 9 | D35: 0 | E35: 0 | F35: 0 | G35: 0 | H35: 0 | I35: 0 | K35: 3.7 | L35: 0 | M35: 0 | N35: 0 | O35: 0 | P35: 0 | Q35: 0 | S35: 0 | T35: 0 | U35: 0 | V35: 0 | W35: 0 | X35: 0
A36: 9 | B36: Leopold CA | C36: 39 | D36: 6 | E36: 5 | F36: 4 | G36: 5 | H36: 4 | I36: 13 | K36: 26.8 | L36: 4.5 | M36: 3 | N36: 1.8 | O36: 2.5 | P36: 2.3 | Q36: 7.8 | S36: 6.7 | T36: 4.5 | U36: 2.6 | V36: 3.7 | W36: 3.4 | X36: 11.6

Sheet c
A1: PRE-SAISON - Statistiques Cumulées - Evreux
A3: RECORD (V-D): 2-2 PROA (V-D): (0-0) PROB (V-D): (1-2) NATIONAL (V-D): (1-0) ETRANGER (V-D): (0-0)
A4: No | B4: Joueur | C4: MJ | E4: 5d | F4: Min | G4: Tirs | J4: %tirs | K4: 3 pts | N4: %3pts | O4: LF | R4: %LF | S4: Ro | T4: Rd | U4: RTol | V4: / | W4: Moy | X4: Pd | Y4: Fte | Z4: - | AA4: Fpr | AB4: IN | AC4: Bp | AD4: Ct | AE4: Pts | AF4: / | AG4: Moy
A5: 6 | B5: Paul RIGOT | C5: 4 | E5: 4 | F5: 107 | G5: 11 | H5: - | I5: 21 | J5: 52 | K5: 4 | L5: - | M5: 20 | N5: 20 | O5: 11 | P5: - | Q5: 13 | R5: 85 | S5: 3 | T5: 12 | U5: 15 | W5: 3.8 | X5: 5 | Y5: 4 | Z5: - | AA5: 14 | AB5: 0 | AC5: 7 | AD5: 1 | AE5: 45 | AF5: / | AG5: 11.3
A6: 13 | B6: Dorian ANGLOMA | C6: 3 | E6: 0 | F6: 52 | G6: 5 | H6: - | I6: 8 | J6: 63 | K6: 6 | L6: - | M6: 9 | N6: 67 | O6: 5 | P6: - | Q6: 9 | R6: 56 | S6: 0 | T6: 4 | U6: 4 | W6: 1.3 | X6: 3 | Y6: 8 | Z6: - | AA6: 11 | AB6: 3 | AC6: 5 | AD6: 0 | AE6: 33 | AF6: / | AG6: 11
A7: 17 | B7: Anthony DA SILVA | C7: 2 | E7: 2 | F7: 52 | G7: 3 | H7: - | I7: 6 | J7: 50 | K7: 4 | L7: - | M7: 10 | N7: 40 | O7: 4 | P7: - | Q7: 8 | R7: 50 | S7: 0 | T7: 10 | U7: 10 | W7: 5 | X7: 9 | Y7: 6 | Z7: - | AA7: 6 | AB7: 2 | AC7: 3 | AD7: 0 | AE7: 22 | AF7: / | AG7: 11
A8: 2 | B8: E,J, DAY | C8: 3 | E8: 3 | F8: 64 | G8: 11 | H8: - | I8: 22 | J8: 50 | K8: 0 | L8: - | M8: 5 | N8: 0 | O8: 10 | P8: - | Q8: 13 | R8: 77 | S8: 2 | T8: 4 | U8: 6 | W8: 2 | X8: 12 | Y8: 10 | Z8: - | AA8: 11 | AB8: 3 | AC8: 12 | AD8: 0 | AE8: 32 | AF8: / | AG8: 10.7
A9: 20 | B9: Alexis TANGHE | C9: 4 | E9: 3 | F9: 91 | G9: 8 | H9: - | I9: 16 | J9: 50 | K9: 1 | L9: - | M9: 4 | N9: 25 | O9: 23 | P9: - | Q9: 28 | R9: 82 | S9: 3 | T9: 15 | U9: 18 | W9: 4.5 | X9: 9 | Y9: 10 | Z9: - | AA9: 20 | AB9: 0 | AC9: 4 | AD9: 1 | AE9: 42 | AF9: / | AG9: 10.5
A10: 16 | B10: Aaron LEVARITY | C10: 4 | E10: 4 | F10: 89 | G10: 12 | H10: - | I10: 18 | J10: 67 | K10: 2 | L10: - | M10: 11 | N10: 18 | O10: 4 | P10: - | Q10: 6 | R10: 67 | S10: 6 | T10: 25 | U10: 31 | W10: 7.8 | X10: 4 | Y10: 8 | Z10: - | AA10: 6 | AB10: 1 | AC10: 9 | AD10: 0 | AE10: 34 | AF10: / | AG10: 8.5
A11: 9 | B11: Dimitri RADNIC | C11: 2 | E11: 2 | F11: 47 | G11: 2 | H11: - | I11: 5 | J11: 40 | K11: 2 | L11: - | M11: 10 | N11: 20 | O11: 1 | P11: - | Q11: 2 | R11: 50 | S11: 2 | T11: 3 | U11: 5 | W11: 2.5 | X11: 3 | Y11: 2 | Z11: - | AA11: 3 | AB11: 1 | AC11: 5 | AD11: 0 | AE11: 11 | AF11: / | AG11: 5.5
A12: 15 | B12: Clement DEZALLE | C12: 4 | E12: 0 | F12: 54 | G12: 4 | H12: - | I12: 6 | J12: 67 | K12: 4 | L12: - | M12: 8 | N12: 50 | O12: 1 | P12: - | Q12: 1 | R12: 100 | S12: 1 | T12: 5 | U12: 6 | W12: 1.5 | X12: 0 | Y12: 9 | Z12: - | AA12: 2 | AB12: 1 | AC12: 0 | AD12: 0 | AE12: 21 | AF12: / | AG12: 5.3
A13: 11 | B13: Bangaly FOFANA | C13: 3 | E13: 1 | F13: 56 | G13: 4 | H13: - | I13: 6 | J13: 67 | K13: 0 | L13: - | M13: 0 | N13: - | O13: 7 | P13: - | Q13: 10 | R13: 70 | S13: 4 | T13: 9 | U13: 13 | W13: 4.3 | X13: 3 | Y13: 11 | Z13: - | AA13: 8 | AB13: 2 | AC13: 6 | AD13: 1 | AE13: 15 | AF13: / | AG13: 5
A14: 25 | B14: Tim EBOH | C14: 4 | E14: 1 | F14: 63 | G14: 4 | H14: - | I14: 10 | J14: 40 | K14: 2 | L14: - | M14: 8 | N14: 25 | O14: 2 | P14: - | Q14: 7 | R14: 29 | S14: 3 | T14: 9 | U14: 12 | W14: 3 | X14: 3 | Y14: 15 | Z14: - | AA14: 9 | AB14: 6 | AC14: 2 | AD14: 1 | AE14: 16 | AF14: / | AG14: 4
A15: 1 | B15: Bruno MBIMI NDJAMOU | C15: 3 | E15: 0 | F15: 56 | G15: 0 | H15: - | I15: 5 | J15: 0 | K15: 3 | L15: - | M15: 9 | N15: 33 | O15: 1 | P15: - | Q15: 2 | R15: 50 | S15: 3 | T15: 1 | U15: 4 | W15: 1.3 | X15: 5 | Y15: 9 | Z15: - | AA15: 2 | AB15: 1 | AC15: 4 | AD15: 1 | AE15: 10 | AF15: / | AG15: 3.3
A16: 12 | B16: Louis MORISSEAU | C16: 4 | E16: 0 | F16: 69 | G16: 3 | H16: - | I16: 8 | J16: 38 | K16: 0 | L16: - | M16: 3 | N16: 0 | O16: 6 | P16: - | Q16: 9 | R16: 67 | S16: 1 | T16: 5 | U16: 6 | W16: 1.5 | X16: 18 | Y16: 11 | Z16: - | AA16: 13 | AB16: 0 | AC16: 11 | AD16: 1 | AE16: 12 | AF16: / | AG16: 3
A17: Équipe | U17: 15 | W17: 3.8 | AD17: 4
A18: Evreux | C18: 4 | D18: - | E18: 5 | F18: 200 | G18: 16.8 | H18: - | I18: 32.8 | J18: 51.1 | K18: 7 | L18: - | M18: 24.3 | N18: 28.9 | O18: 18.8 | P18: - | Q18: 27 | R18: 69.4 | S18: 7 | T18: 25.5 | U18: 32.5 | V18: / | W18: 3.9 | X18: 18.5 | Y18: 25.8 | Z18: - | AA18: 26.3 | AB18: 5 | AC18: 17 | AD18: 1.5 | AE18: 73.3 | AF18: / | AG18: 8.1
A19: ADVERSAIRES | F19: 200 | G19: 17.5 | H19: - | I19: 34.3 | J19: 51.1 | K19: 6.3 | L19: - | M19: 25.3 | N19: 24.8 | O19: 20.3 | P19: - | Q19: 27.5 | R19: 73.6 | S19: 10.3 | T19: 28 | U19: 38.3 | V19: / | W19: 38.3 | X19: 14 | Y19: 26.5 | Z19: - | AA19: 25.5 | AB19: 9.5 | AC19: 15.5 | AD19: 2.8 | AE19: 74 | AF19: / | AG19: 6.2
C21: Record sur un match | K21: Moyenne par match | S21: Moyenne sur 40 minutes
A22: No | B22: Joueur | C22: Min | D22: Rb | E22: Pd | F22: In | G22: Bp | H22: Ct | I22: Pts | K22: Min | L22: Rb | M22: Pd | N22: In | O22: Bp | P22: Ct | Q22: Pts | S22: Rb | T22: Pd | U22: In | V22: Bp | W22: Ct | X22: Pts
A23: 1 | B23: Bruno MBIMI NDJAMOU | C23: 23 | D23: 3 | E23: 2 | F23: 1 | G23: 2 | H23: 1 | I23: 6 | K23: 18.7 | L23: 1.3 | M23: 1.7 | N23: 0.3 | O23: 1.3 | P23: 0.3 | Q23: 3.3 | S23: 2.9 | T23: 3.6 | U23: 0.7 | V23: 2.9 | W23: 0.7 | X23: 7.1
A24: 11 | B24: Bangaly FOFANA | C24: 21 | D24: 7 | E24: 3 | F24: 1 | G24: 3 | H24: 1 | I24: 6 | K24: 18.7 | L24: 4.3 | M24: 1 | N24: 0.7 | O24: 2 | P24: 0.3 | Q24: 5 | S24: 9.3 | T24: 2.1 | U24: 1.4 | V24: 4.3 | W24: 0.7 | X24: 10.7
A25: 12 | B25: Louis MORISSEAU | C25: 24 | D25: 4 | E25: 7 | F25: 0 | G25: 5 | H25: 1 | I25: 5 | K25: 17.3 | L25: 1.5 | M25: 4.5 | N25: 0 | O25: 2.8 | P25: 0.3 | Q25: 3 | S25: 3.5 | T25: 10.4 | U25: 0 | V25: 6.4 | W25: 0.6 | X25: 7
A26: 13 | B26: Dorian ANGLOMA | C26: 19 | D26: 2 | E26: 2 | F26: 1 | G26: 2 | H26: 0 | I26: 13 | K26: 17.3 | L26: 1.3 | M26: 1 | N26: 1 | O26: 1.7 | P26: 0 | Q26: 11 | S26: 3.1 | T26: 2.3 | U26: 2.3 | V26: 3.8 | W26: 0 | X26: 25.4
A27: 15 | B27: Clement DEZALLE | C27: 22 | D27: 3 | E27: 0 | F27: 1 | G27: 0 | H27: 0 | I27: 12 | K27: 13.5 | L27: 1.5 | M27: 0 | N27: 0.3 | O27: 0 | P27: 0 | Q27: 5.3 | S27: 4.4 | T27: 0 | U27: 0.7 | V27: 0 | W27: 0 | X27: 15.6
A28: 16 | B28: Aaron LEVARITY | C28: 24 | D28: 10 | E28: 2 | F28: 1 | G28: 5 | H28: 0 | I28: 16 | K28: 22.3 | L28: 7.8 | M28: 1 | N28: 0.3 | O28: 2.3 | P28: 0 | Q28: 8.5 | S28: 13.9 | T28: 1.8 | U28: 0.4 | V28: 4 | W28: 0 | X28: 15.3
A29: 17 | B29: Anthony DA SILVA | C29: 29 | D29: 6 | E29: 6 | F29: 1 | G29: 2 | H29: 0 | I29: 12 | K29: 26 | L29: 5 | M29: 4.5 | N29: 1 | O29: 1.5 | P29: 0 | Q29: 11 | S29: 7.7 | T29: 6.9 | U29: 1.5 | V29: 2.3 | W29: 0 | X29: 16.9
A30: 2 | B30: E,J, DAY | C30: 25 | D30: 3 | E30: 5 | F30: 2 | G30: 5 | H30: 0 | I30: 17 | K30: 21.3 | L30: 2 | M30: 4 | N30: 1 | O30: 4 | P30: 0 | Q30: 10.7 | S30: 3.8 | T30: 7.5 | U30: 1.9 | V30: 7.5 | W30: 0 | X30: 20
A31: 20 | B31: Alexis TANGHE | C31: 25 | D31: 7 | E31: 3 | F31: 0 | G31: 2 | H31: 1 | I31: 16 | K31: 22.8 | L31: 4.5 | M31: 2.3 | N31: 0 | O31: 1 | P31: 0.3 | Q31: 10.5 | S31: 7.9 | T31: 4 | U31: 0 | V31: 1.8 | W31: 0.4 | X31: 18.5
A32: 25 | B32: Tim EBOH | C32: 18 | D32: 4 | E32: 2 | F32: 3 | G32: 1 | H32: 1 | I32: 10 | K32: 15.8 | L32: 3 | M32: 0.8 | N32: 1.5 | O32: 0.5 | P32: 0.3 | Q32: 4 | S32: 7.6 | T32: 1.9 | U32: 3.8 | V32: 1.3 | W32: 0.6 | X32: 10.2
A33: 6 | B33: Paul RIGOT | C33: 29 | D33: 5 | E33: 3 | F33: 0 | G33: 2 | H33: 1 | I33: 16 | K33: 26.8 | L33: 3.8 | M33: 1.3 | N33: 0 | O33: 1.8 | P33: 0.3 | Q33: 11.3 | S33: 5.6 | T33: 1.9 | U33: 0 | V33: 2.6 | W33: 0.4 | X33: 16.8
A34: 9 | B34: Dimitri RADNIC | C34: 28 | D34: 4 | E34: 2 | F34: 1 | G34: 3 | H34: 0 | I34: 8 | K34: 23.5 | L34: 2.5 | M34: 1.5 | N34: 0.5 | O34: 2.5 | P34: 0 | Q34: 5.5 | S34: 4.3 | T34: 2.6 | U34: 0.9 | V34: 4.3 | W34: 0 | X34: 9.4
