Workbook
Name defaites: OFFSET(#REF!,MATCH(#REF!,nomEquipe2,0),0)
Name l_Equipe: [2]!t_Equipe[Equipe]
Name l_Joueur: [2]!t_Joueur[Joueur]
Name l_Ville: [2]!t_Equipe[Ville]
Name nomEquipe: #REF!
Name nomEquipe2: #REF!
Name Photo: OFFSET(#REF!,MATCH(#REF!,nomEquipe,0),0)
Name Stats_Poitiers: POITIERS!$A$1:$W$41
Name Test_présaison_1: 'Pré-saison'!$A$1:$AA$41
Name victoires: OFFSET(#REF!,MATCH(#REF!,nomEquipe2,0),0)

Sheet PRO B
B1: PTS marq | C1: Poss OFF | D1: Eff OFF | E1: % RO | F1: % RD | G1: FPR/poss | H1: BP/poss | I1: PD/poss | J1: %3pts | K1: PTS enc | L1: Poss DEF | M1: Eff DEF | N1: INT/poss
A2: Blois | S2: FALSE
A3: Aix | S3: FALSE
A4: ASA | S4: FALSE
A5: Evreux
A6: Antibes
A7: Boulazac
A8: Caen
A9: Châlons-Reims
A10: Roanne
A11: Denain | B11: =[1]DENAIN!$D$18 -> 78.9 | C11: =[1]DENAIN!$F$18+([1]DENAIN!$L$18*0.44)+[1]DENAIN!$T$18-[1]DENAIN!$N$18 -> 76.836 | D11: =B11/C11 -> 1.0268624 | E11: =[1]DENAIN!$N$18/([1]DENAIN!$F$18-[1]DENAIN!$E$18) -> 0.30701754 | F11: =[1]DENAIN!$O$18/([1]DENAIN!$F$21-[1]DENAIN!$E$21) -> 0.72126437 | G11: =[1]DENAIN!$U$21/'PRO B'!C11 -> 0.24597845 | H11: =[1]DENAIN!$T$18/'PRO B'!C11 -> 0.20693425 | I11: =[1]DENAIN!$Q$18/'PRO B'!C11 -> 0.23426519 | J11: =[1]DENAIN!$H$18/[1]DENAIN!$I$18 -> 0.31120332 | K11: =[1]DENAIN!$D$21 -> 83.3 | L11: =[1]DENAIN!$F$21+([1]DENAIN!$L$21*0.44)+[1]DENAIN!$T$21-[1]DENAIN!$N$21 -> 76.824 | M11: =[1]DENAIN!$D$21/L11 -> 1.0842966 | N11: =[1]DENAIN!$R$18/'PRO B'!L11 -> 0.096324065
A12: Fos | B12: =IF($W$9=1,"ok","non") -> non
A13: Nantes | B13: {='Pré-saison'!G18:G19} -> 0 | C13: =('Pré-saison'!I18+'Pré-saison'!L18)+('Pré-saison'!O18*0.44)+'Pré-saison'!X18-'Pré-saison'!Q18 -> 0 | D13: =B13/C13 -> #DIV/0!
A14: HTV | B14: 0
A15: Vichy
A16: Orléans
A17: Pau
A18: Poitiers | B18: =IF(S3=TRUE,POITIERS!D17,IF(S2=TRUE,INDEX('Pré-saison'!G2:G41,MATCH('PRO B'!A18,'Pré-saison'!AB2:AB41,0)),IF(S4=TRUE,(INDEX('Pré-saison'!B2:B41,MATCH('PRO B'!A18,'Pré-saison'!AB2:AB41,0))*INDEX('Pré-saison'!G2:G41,MATCH('PRO B'!A18,'Pré-saison'!AB2:AB41,0))+POITIERS!B17*POITIERS!D17)/(INDEX('Pré-saison'!B2:B41,MATCH('PRO B'!A18,'Pré-saison'!AB2:AB41,0))+POITIERS!B17)))) -> FALSE | C18: =IF(S2=TRUE,(INDEX('Pré-saison'!I2:I41,MATCH('PRO B'!A18,'Pré-saison'!AB2:AB41,0))+INDEX('Pré-saison'!L2:L41,MATCH('PRO B'!A18,'Pré-saison'!AB2:AB41,0)))+(INDEX('Pré-saison'!O2:O41,MATCH('PRO B'!A18,'Pré-saison'!AB2:AB41,0))*0.44)+INDEX('Pré-saison'!X2:X41,MATCH('PRO B'!A18,'Pré-saison'!AB2:AB41,0))-INDEX('Pré-saison'!Q2:Q41,MATCH('PRO B'!A18,'Pré-saison'!AB2:AB41,0)),IF(S3=TRUE,(POITIERS!F17)+(POITIERS!L17*0.44)+POITIERS!T17-POITIERS!N17)) -> FALSE | D18: =B18/C18 -> #DIV/0! | E18: =IF(S2=TRUE,INDEX('Pré-saison'!Q2:Q41,MATCH('PRO B'!A18,'Pré-saison'!AB2:AB41,0))/((INDEX('Pré-saison'!I2:I41,MATCH('PRO B'!A18,'Pré-saison'!AB2:AB41,0))+INDEX('Pré-saison'!L2:L41,MATCH('PRO B'!A18,'Pré-saison'!AB2:AB41,0)))-(INDEX('Pré-saison'!H2:H41,MATCH('PRO B'!A18,'Pré-saison'!AB2:AB41,0))+INDEX('Pré-saison'!K2:K41,MATCH('PRO B'!A18,'Pré-saison'!AB2:AB41,0)))),IF(S3=TRUE,POITIERS!N17/(POITIERS!F17-POITIERS!E17))) -> FALSE
A19: Rouen
A20: SCABB
A21: Chartres

Sheet Pré-saison
A1: équipe | B1: mj | C1: v | D1: d | E1: %V | F1: min | G1: pts | H1: 2r | I1: 2t | J1: % | K1: 3r | L1: 3t | M1: % | N1: lr | O1: lt | P1: % | Q1: ro | R1: rd | S1: rt | T1: pd | U1: ct | V1: cs | W1: in | X1: bp | Y1: fte | Z1: fpr | AA1: eval
A2: Blois | B2: 0 | C2: 0 | D2: 0 | E2: 0 | F2: 0 | G2: 0 | H2: 0 | I2: 0 | J2: 0 | K2: 0 | L2: 0 | M2: 0 | N2: 0 | O2: 0 | P2: 0 | Q2: 0 | R2: 0 | S2: 0 | T2: 0 | U2: 0 | V2: 0 | W2: 0 | X2: 0 | Y2: 0 | Z2: 0 | AA2: 0 | AB2: =IF(A2="JA Vichy","Vichy",IF(A2="Boulazac Basket Dordogne","Boulazac",IF(A2="Rouen Metropole Basket","Rouen",IF(A2="Orleans Loiret Basket","Orléans",IF(A2="Chalons-Reims CB","Chalons-Reims",IF(A2="Pau-Orthez","Pau",IF(A2="Alliance Sport Alsace","ASA",IF(A2="Antibes","Antibes",IF(A2="Poitiers Basket 86","Poitiers",IF(A2="Hermine Nantes Atlantique","Nantes",IF(A2="Aix Maurienne Savoie Basket","Aix",IF(A2="Denain ASC Voltaire","Denain",IF(A2="Fos Sur Mer","Fos",IF(A2="ALM Evreux Basket","Evreux",IF(A2="Blois","Blois"))))))))))))))) -> Blois
A3: Blois
A4: Roanne | B4: 0 | C4: 0 | D4: 0 | E4: 0 | F4: 0 | G4: 0 | H4: 0 | I4: 0 | J4: 0 | K4: 0 | L4: 0 | M4: 0 | N4: 0 | O4: 0 | P4: 0 | Q4: 0 | R4: 0 | S4: 0 | T4: 0 | U4: 0 | V4: 0 | W4: 0 | X4: 0 | Y4: 0 | Z4: 0 | AA4: 0 | AB4: =IF(A4="JA Vichy","Vichy",IF(A4="Boulazac Basket Dordogne","Boulazac",IF(A4="Rouen Metropole Basket","Rouen",IF(A4="Orleans Loiret Basket","Orléans",IF(A4="Chalons-Reims CB","Chalons-Reims",IF(A4="Pau-Orthez","Pau",IF(A4="Alliance Sport Alsace","ASA",IF(A4="Antibes","Antibes",IF(A4="Poitiers Basket 86","Poitiers",IF(A4="Hermine Nantes Atlantique","Nantes",IF(A4="Aix Maurienne Savoie Basket","Aix",IF(A4="Denain ASC Voltaire","Denain",IF(A4="Fos Sur Mer","Fos",IF(A4="ALM Evreux Basket","Evreux",IF(A4="Blois","Blois",IF(A4="Roanne","Roanne")))))))))))))))) -> Roanne
A5: Roanne
A6: Aix-Maurienne | B6: 0 | C6: 0 | D6: 0 | E6: 0 | F6: 0 | G6: 0 | H6: 0 | I6: 0 | J6: 0 | K6: 0 | L6: 0 | M6: 0 | N6: 0 | O6: 0 | P6: 0 | Q6: 0 | R6: 0 | S6: 0 | T6: 0 | U6: 0 | V6: 0 | W6: 0 | X6: 0 | Y6: 0 | Z6: 0 | AA6: 0 | AB6: =IF(A6="JA Vichy","Vichy",IF(A6="Boulazac Basket Dordogne","Boulazac",IF(A6="Rouen Metropole Basket","Rouen",IF(A6="Orleans Loiret Basket","Orléans",IF(A6="Chalons-Reims CB","Chalons-Reims",IF(A6="Pau-Orthez","Pau",IF(A6="Alliance Sport Alsace","ASA",IF(A6="Antibes","Antibes",IF(A6="Poitiers Basket 86","Poitiers",IF(A6="Hermine Nantes Atlantique","Nantes",IF(A6="Aix-Maurienne","Aix",IF(A6="Denain ASC Voltaire","Denain",IF(A6="Fos Sur Mer","Fos",IF(A6="ALM Evreux Basket","Evreux",IF(A6="Blois","Blois",IF(A6="Roanne","Roanne")))))))))))))))) -> Aix
A7: Aix-Maurienne
A8: Antibes | B8: 0 | C8: 0 | D8: 0 | E8: 0 | F8: 0 | G8: 0 | H8: 0 | I8: 0 | J8: 0 | K8: 0 | L8: 0 | M8: 0 | N8: 0 | O8: 0 | P8: 0 | Q8: 0 | R8: 0 | S8: 0 | T8: 0 | U8: 0 | V8: 0 | W8: 0 | X8: 0 | Y8: 0 | Z8: 0 | AA8: 0 | AB8: =IF(A8="JA Vichy","Vichy",IF(A8="Boulazac Basket Dordogne","Boulazac",IF(A8="Rouen Metropole Basket","Rouen",IF(A8="Orleans Loiret Basket","Orléans",IF(A8="Chalons-Reims CB","Chalons-Reims",IF(A8="Pau-Orthez","Pau",IF(A8="Alliance Sport Alsace","ASA",IF(A8="Antibes","Antibes",IF(A8="Poitiers Basket 86","Poitiers",IF(A8="Hermine Nantes Atlantique","Nantes",IF(A8="Aix Maurienne Savoie Basket","Aix",IF(A8="Denain ASC Voltaire","Denain",IF(A8="Fos Sur Mer","Fos",IF(A8="ALM Evreux Basket","Evreux",IF(A8="Blois","Blois",IF(A8="Roanne","Roanne")))))))))))))))) -> Antibes
A9: Antibes
A10: Boulazac | B10: 0 | C10: 0 | D10: 0 | E10: 0 | F10: 0 | G10: 0 | H10: 0 | I10: 0 | J10: 0 | K10: 0 | L10: 0 | M10: 0 | N10: 0 | O10: 0 | P10: 0 | Q10: 0 | R10: 0 | S10: 0 | T10: 0 | U10: 0 | V10: 0 | W10: 0 | X10: 0 | Y10: 0 | Z10: 0 | AA10: 0 | AB10: =IF(A10="JA Vichy","Vichy",IF(A10="Boulazac","Boulazac",IF(A10="Rouen Metropole Basket","Rouen",IF(A10="Orleans Loiret Basket","Orléans",IF(A10="Chalons-Reims CB","Chalons-Reims",IF(A10="Pau-Orthez","Pau",IF(A10="Alliance Sport Alsace","ASA",IF(A10="Antibes","Antibes",IF(A10="Poitiers Basket 86","Poitiers",IF(A10="Hermine Nantes Atlantique","Nantes",IF(A10="Aix Maurienne Savoie Basket","Aix",IF(A10="Denain ASC Voltaire","Denain",IF(A10="Fos Sur Mer","Fos",IF(A10="ALM Evreux Basket","Evreux",IF(A10="Blois","Blois",IF(A10="Roanne","Roanne")))))))))))))))) -> Boulazac
A11: Boulazac
A12: Châlons-Reims | B12: 0 | C12: 0 | D12: 0 | E12: 0 | F12: 0 | G12: 0 | H12: 0 | I12: 0 | J12: 0 | K12: 0 | L12: 0 | M12: 0 | N12: 0 | O12: 0 | P12: 0 | Q12: 0 | R12: 0 | S12: 0 | T12: 0 | U12: 0 | V12: 0 | W12: 0 | X12: 0 | Y12: 0 | Z12: 0 | AA12: 0 | AB12: =IF(A12="JA Vichy","Vichy",IF(A12="Boulazac Basket Dordogne","Boulazac",IF(A12="Rouen Metropole Basket","Rouen",IF(A12="Orleans Loiret Basket","Orléans",IF(A12="Châlons-Reims","Châlons-Reims",IF(A12="Pau-Orthez","Pau",IF(A12="Alliance Sport Alsace","ASA",IF(A12="Antibes","Antibes",IF(A12="Poitiers Basket 86","Poitiers",IF(A12="Hermine Nantes Atlantique","Nantes",IF(A12="Aix Maurienne Savoie Basket","Aix",IF(A12="Denain","Denain",IF(A12="Fos Sur Mer","Fos",IF(A12="ALM Evreux Basket","Evreux",IF(A12="Blois","Blois",IF(A12="Roanne","Roanne")))))))))))))))) -> Châlons-Reims
A13: Châlons-Reims
A14: Denain | B14: 0 | C14: 0 | D14: 0 | E14: 0 | F14: 0 | G14: 0 | H14: 0 | I14: 0 | J14: 0 | K14: 0 | L14: 0 | M14: 0 | N14: 0 | O14: 0 | P14: 0 | Q14: 0 | R14: 0 | S14: 0 | T14: 0 | U14: 0 | V14: 0 | W14: 0 | X14: 0 | Y14: 0 | Z14: 0 | AA14: 0 | AB14: =IF(A14="JA Vichy","Vichy",IF(A14="Boulazac Basket Dordogne","Boulazac",IF(A14="Rouen Metropole Basket","Rouen",IF(A14="Orleans Loiret Basket","Orléans",IF(A14="Chalons-Reims CB","Chalons-Reims",IF(A14="Pau-Orthez","Pau",IF(A14="Alliance Sport Alsace","ASA",IF(A14="Antibes","Antibes",IF(A14="Poitiers Basket 86","Poitiers",IF(A14="Hermine Nantes Atlantique","Nantes",IF(A14="Aix Maurienne Savoie Basket","Aix",IF(A14="Denain","Denain",IF(A14="Fos Sur Mer","Fos",IF(A14="ALM Evreux Basket","Evreux",IF(A14="Blois","Blois",IF(A14="Roanne","Roanne")))))))))))))))) -> Denain
A15: Denain
A16: Gries-Souffel | B16: 0 | C16: 0 | D16: 0 | E16: 0 | F16: 0 | G16: 0 | H16: 0 | I16: 0 | J16: 0 | K16: 0 | L16: 0 | M16: 0 | N16: 0 | O16: 0 | P16: 0 | Q16: 0 | R16: 0 | S16: 0 | T16: 0 | U16: 0 | V16: 0 | W16: 0 | X16: 0 | Y16: 0 | Z16: 0 | AA16: 0 | AB16: =IF(A16="JA Vichy","Vichy",IF(A16="Boulazac Basket Dordogne","Boulazac",IF(A16="Rouen Metropole Basket","Rouen",IF(A16="Orleans Loiret Basket","Orléans",IF(A16="Chalons-Reims CB","Chalons-Reims",IF(A16="Pau-Orthez","Pau",IF(A16="Gries-Souffel","ASA",IF(A16="Antibes","Antibes",IF(A16="Poitiers Basket 86","Poitiers",IF(A16="Hermine Nantes Atlantique","Nantes",IF(A16="Aix Maurienne Savoie Basket","Aix",IF(A16="Denain ASC Voltaire","Denain",IF(A16="Fos Sur Mer","Fos",IF(A16="ALM Evreux Basket","Evreux",IF(A16="Blois","Blois",IF(A16="Roanne","Roanne")))))))))))))))) -> ASA
A17: Gries-Souffel
A18: Nantes | B18: 0 | C18: 0 | D18: 0 | E18: 0 | F18: 0 | G18: 0 | H18: 0 | I18: 0 | J18: 0 | K18: 0 | L18: 0 | M18: 0 | N18: 0 | O18: 0 | P18: 0 | Q18: 0 | R18: 0 | S18: 0 | T18: 0 | U18: 0 | V18: 0 | W18: 0 | X18: 0 | Y18: 0 | Z18: 0 | AA18: 0 | AB18: =IF(A18="JA Vichy","Vichy",IF(A18="Boulazac Basket Dordogne","Boulazac",IF(A18="Rouen Metropole Basket","Rouen",IF(A18="Orleans Loiret Basket","Orléans",IF(A18="Chalons-Reims CB","Chalons-Reims",IF(A18="Pau-Orthez","Pau",IF(A18="Alliance Sport Alsace","ASA",IF(A18="Antibes","Antibes",IF(A18="Poitiers Basket 86","Poitiers",IF(A18="Nantes","Nantes",IF(A18="Aix Maurienne Savoie Basket","Aix",IF(A18="Denain ASC Voltaire","Denain",IF(A18="Fos Sur Mer","Fos",IF(A18="ALM Evreux Basket","Evreux",IF(A18="Blois","Blois",IF(A18="Roanne","Roanne")))))))))))))))) -> Nantes
A19: Nantes
A20: Orléans | B20: 0 | C20: 0 | D20: 0 | E20: 0 | F20: 0 | G20: 0 | H20: 0 | I20: 0 | J20: 0 | K20: 0 | L20: 0 | M20: 0 | N20: 0 | O20: 0 | P20: 0 | Q20: 0 | R20: 0 | S20: 0 | T20: 0 | U20: 0 | V20: 0 | W20: 0 | X20: 0 | Y20: 0 | Z20: 0 | AA20: 0 | AB20: =IF(A20="JA Vichy","Vichy",IF(A20="Boulazac Basket Dordogne","Boulazac",IF(A20="Rouen Metropole Basket","Rouen",IF(A20="Orléans","Orléans",IF(A20="Chalons-Reims CB","Chalons-Reims",IF(A20="Pau-Orthez","Pau",IF(A20="Alliance Sport Alsace","ASA",IF(A20="Antibes","Antibes",IF(A20="Poitiers Basket 86","Poitiers",IF(A20="Hermine Nantes Atlantique","Nantes",IF(A20="Aix Maurienne Savoie Basket","Aix",IF(A20="Denain ASC Voltaire","Denain",IF(A20="Fos Sur Mer","Fos",IF(A20="ALM Evreux Basket","Evreux",IF(A20="Blois","Blois",IF(A20="Roanne","Roanne")))))))))))))))) -> Orléans
A21: Orléans
A22: Poitiers | B22: 10 | C22: 0 | D22: 0 | E22: 0 | F22: 0 | G22: 45 | H22: 15 | I22: 30 | J22: 0 | K22: 6 | L22: 20 | M22: 0 | N22: 0 | O22: 15 | P22: 0 | Q22: 15 | R22: 0 | S22: 0 | T22: 0 | U22: 0 | V22: 0 | W22: 0 | X22: 21 | Y22: 0 | Z22: 0 | AA22: 0 | AB22: =IF(A22="JA Vichy","Vichy",IF(A22="Boulazac Basket Dordogne","Boulazac",IF(A22="Rouen Metropole Basket","Rouen",IF(A22="Orleans Loiret Basket","Orléans",IF(A22="Chalons-Reims CB","Chalons-Reims",IF(A22="Pau-Orthez","Pau",IF(A22="Alliance Sport Alsace","ASA",IF(A22="Antibes","Antibes",IF(A22="Poitiers","Poitiers",IF(A22="Hermine Nantes Atlantique","Nantes",IF(A22="Aix Maurienne Savoie Basket","Aix",IF(A22="Denain ASC Voltaire","Denain",IF(A22="Fos Sur Mer","Fos",IF(A22="ALM Evreux Basket","Evreux",IF(A22="Blois","Blois",IF(A22="Roanne","Roanne")))))))))))))))) -> Poitiers
A23: Poitiers
A24: Rouen | B24: 0 | C24: 0 | D24: 0 | E24: 0 | F24: 0 | G24: 0 | H24: 0 | I24: 0 | J24: 0 | K24: 0 | L24: 0 | M24: 0 | N24: 0 | O24: 0 | P24: 0 | Q24: 0 | R24: 0 | S24: 0 | T24: 0 | U24: 0 | V24: 0 | W24: 0 | X24: 0 | Y24: 0 | Z24: 0 | AA24: 0 | AB24: =IF(A24="JA Vichy","Vichy",IF(A24="Boulazac Basket Dordogne","Boulazac",IF(A24="Rouen","Rouen",IF(A24="Orleans Loiret Basket","Orléans",IF(A24="Chalons-Reims CB","Chalons-Reims",IF(A24="Pau-Orthez","Pau",IF(A24="Alliance Sport Alsace","ASA",IF(A24="Antibes","Antibes",IF(A24="Poitiers Basket 86","Poitiers",IF(A24="Hermine Nantes Atlantique","Nantes",IF(A24="Aix Maurienne Savoie Basket","Aix",IF(A24="Denain ASC Voltaire","Denain",IF(A24="Fos Sur Mer","Fos",IF(A24="ALM Evreux Basket","Evreux",IF(A24="Blois","Blois",IF(A24="Roanne","Roanne")))))))))))))))) -> Rouen
A25: Rouen
A26: Saint-Chamond-Andrezieux | B26: 0 | C26: 0 | D26: 0 | E26: 0 | F26: 0 | G26: 0 | H26: 0 | I26: 0 | J26: 0 | K26: 0 | L26: 0 | M26: 0 | N26: 0 | O26: 0 | P26: 0 | Q26: 0 | R26: 0 | S26: 0 | T26: 0 | U26: 0 | V26: 0 | W26: 0 | X26: 0 | Y26: 0 | Z26: 0 | AA26: 0 | AB26: =IF(A26="JA Vichy","Vichy",IF(A26="Boulazac Basket Dordogne","Boulazac",IF(A26="Rouen Metropole Basket","Rouen",IF(A26="Orleans Loiret Basket","Orléans",IF(A26="Chalons-Reims CB","Chalons-Reims",IF(A26="Pau-Orthez","Pau",IF(A26="Alliance Sport Alsace","ASA",IF(A26="Antibes","Antibes",IF(A26="Poitiers","Poitiers",IF(A26="Hermine Nantes Atlantique","Nantes",IF(A26="Aix Maurienne Savoie Basket","Aix",IF(A26="Denain ASC Voltaire","Denain",IF(A26="Fos Sur Mer","Fos",IF(A26="ALM Evreux Basket","Evreux",IF(A26="Blois","Blois",IF(A26="Roanne","Roanne",IF(A26="Saint-Chamond-Andrezieux","SCABB"))))))))))))))))) -> SCABB
A27: Saint-Chamond-Andrezieux
A28: Vichy | B28: 0 | C28: 0 | D28: 0 | E28: 0 | F28: 0 | G28: 0 | H28: 0 | I28: 0 | J28: 0 | K28: 0 | L28: 0 | M28: 0 | N28: 0 | O28: 0 | P28: 0 | Q28: 0 | R28: 0 | S28: 0 | T28: 0 | U28: 0 | V28: 0 | W28: 0 | X28: 0 | Y28: 0 | Z28: 0 | AA28: 0 | AB28: =IF(A28="Vichy","Vichy",IF(A28="Boulazac Basket Dordogne","Boulazac",IF(A28="Rouen Metropole Basket","Rouen",IF(A28="Orleans Loiret Basket","Orléans",IF(A28="Chalons-Reims CB","Chalons-Reims",IF(A28="Pau-Orthez","Pau",IF(A28="Alliance Sport Alsace","ASA",IF(A28="Antibes","Antibes",IF(A28="Poitiers Basket 86","Poitiers",IF(A28="Hermine Nantes Atlantique","Nantes",IF(A28="Aix Maurienne Savoie Basket","Aix",IF(A28="Denain ASC Voltaire","Denain",IF(A28="Fos Sur Mer","Fos",IF(A28="ALM Evreux Basket","Evreux",IF(A28="Blois","Blois",IF(A28="Roanne","Roanne")))))))))))))))) -> Vichy
A29: Vichy
A30: Pau-Lacq-Orthez | B30: 0 | C30: 0 | D30: 0 | E30: 0 | F30: 0 | G30: 0 | H30: 0 | I30: 0 | J30: 0 | K30: 0 | L30: 0 | M30: 0 | N30: 0 | O30: 0 | P30: 0 | Q30: 0 | R30: 0 | S30: 0 | T30: 0 | U30: 0 | V30: 0 | W30: 0 | X30: 0 | Y30: 0 | Z30: 0 | AA30: 0 | AB30: =IF(A30="JA Vichy","Vichy",IF(A30="Boulazac Basket Dordogne","Boulazac",IF(A30="Rouen Metropole Basket","Rouen",IF(A30="Orleans Loiret Basket","Orléans",IF(A30="Chalons-Reims CB","Chalons-Reims",IF(A30="Pau-Lacq-Orthez","Pau",IF(A30="Alliance Sport Alsace","ASA",IF(A30="Antibes","Antibes",IF(A30="Poitiers Basket 86","Poitiers",IF(A30="Hermine Nantes Atlantique","Nantes",IF(A30="Aix Maurienne Savoie Basket","Aix",IF(A30="Denain ASC Voltaire","Denain",IF(A30="Fos Sur Mer","Fos",IF(A30="ALM Evreux Basket","Evreux",IF(A30="Blois","Blois",IF(A30="Roanne","Roanne")))))))))))))))) -> Pau
A31: Pau-Lacq-Orthez
A32: Fos-sur-Mer | B32: 0 | C32: 0 | D32: 0 | E32: 0 | F32: 0 | G32: 0 | H32: 0 | I32: 0 | J32: 0 | K32: 0 | L32: 0 | M32: 0 | N32: 0 | O32: 0 | P32: 0 | Q32: 0 | R32: 0 | S32: 0 | T32: 0 | U32: 0 | V32: 0 | W32: 0 | X32: 0 | Y32: 0 | Z32: 0 | AA32: 0 | AB32: =IF(A32="JA Vichy","Vichy",IF(A32="Boulazac Basket Dordogne","Boulazac",IF(A32="Rouen Metropole Basket","Rouen",IF(A32="Orleans Loiret Basket","Orléans",IF(A32="Chalons-Reims CB","Chalons-Reims",IF(A32="Pau-Orthez","Pau",IF(A32="Alliance Sport Alsace","ASA",IF(A32="Antibes","Antibes",IF(A32="Poitiers Basket 86","Poitiers",IF(A32="Hermine Nantes Atlantique","Nantes",IF(A32="Aix Maurienne Savoie Basket","Aix",IF(A32="Denain ASC Voltaire","Denain",IF(A32="Fos-sur-mer","Fos",IF(A32="ALM Evreux Basket","Evreux",IF(A32="Blois","Blois",IF(A32="Roanne","Roanne")))))))))))))))) -> Fos
A33: Fos-sur-Mer
A34: Hyères-Toulon | B34: 0 | C34: 0 | D34: 0 | E34: 0 | F34: 0 | G34: 0 | H34: 0 | I34: 0 | J34: 0 | K34: 0 | L34: 0 | M34: 0 | N34: 0 | O34: 0 | P34: 0 | Q34: 0 | R34: 0 | S34: 0 | T34: 0 | U34: 0 | V34: 0 | W34: 0 | X34: 0 | Y34: 0 | Z34: 0 | AA34: 0 | AB34: =IF(A34="JA Vichy","Vichy",IF(A34="Boulazac Basket Dordogne","Boulazac",IF(A34="Rouen Metropole Basket","Rouen",IF(A34="Orleans Loiret Basket","Orléans",IF(A34="Chalons-Reims CB","Chalons-Reims",IF(A34="Pau-Orthez","Pau",IF(A34="Alliance Sport Alsace","ASA",IF(A34="Antibes","Antibes",IF(A34="Poitiers Basket 86","Poitiers",IF(A34="Hermine Nantes Atlantique","Nantes",IF(A34="Aix Maurienne Savoie Basket","Aix",IF(A34="Denain ASC Voltaire","Denain",IF(A34="Fos Sur Mer","Fos",IF(A34="ALM Evreux Basket","Evreux",IF(A34="Blois","Blois",IF(A34="Roanne","Roanne",IF(A34="Hyères-Toulon","HTV"))))))))))))))))) -> HTV
A35: Hyères-Toulon
A36: Caen | B36: 0 | C36: 0 | D36: 0 | E36: 0 | F36: 0 | G36: 0 | H36: 0 | I36: 0 | J36: 0 | K36: 0 | L36: 0 | M36: 0 | N36: 0 | O36: 0 | P36: 0 | Q36: 0 | R36: 0 | S36: 0 | T36: 0 | U36: 0 | V36: 0 | W36: 0 | X36: 0 | Y36: 0 | Z36: 0 | AA36: 0 | AB36: =IF(A36="JA Vichy","Vichy",IF(A36="Boulazac Basket Dordogne","Boulazac",IF(A36="Rouen Metropole Basket","Rouen",IF(A36="Orleans Loiret Basket","Orléans",IF(A36="Chalons-Reims CB","Chalons-Reims",IF(A36="Pau-Orthez","Pau",IF(A36="Alliance Sport Alsace","ASA",IF(A36="Antibes","Antibes",IF(A36="Poitiers Basket 86","Poitiers",IF(A36="Hermine Nantes Atlantique","Nantes",IF(A36="Aix Maurienne Savoie Basket","Aix",IF(A36="Denain ASC Voltaire","Denain",IF(A36="Fos Sur Mer","Fos",IF(A36="ALM Evreux Basket","Evreux",IF(A36="Blois","Blois",IF(A36="Roanne","Roanne",IF(A36="Caen","Caen"))))))))))))))))) -> Caen
A37: Caen
A38: Evreux | B38: 0 | C38: 0 | D38: 0 | E38: 0 | F38: 0 | G38: 0 | H38: 0 | I38: 0 | J38: 0 | K38: 0 | L38: 0 | M38: 0 | N38: 0 | O38: 0 | P38: 0 | Q38: 0 | R38: 0 | S38: 0 | T38: 0 | U38: 0 | V38: 0 | W38: 0 | X38: 0 | Y38: 0 | Z38: 0 | AA38: 0 | AB38: =IF(A38="JA Vichy","Vichy",IF(A38="Boulazac Basket Dordogne","Boulazac",IF(A38="Rouen Metropole Basket","Rouen",IF(A38="Orleans Loiret Basket","Orléans",IF(A38="Chalons-Reims CB","Chalons-Reims",IF(A38="Pau-Orthez","Pau",IF(A38="Alliance Sport Alsace","ASA",IF(A38="Antibes","Antibes",IF(A38="Poitiers Basket 86","Poitiers",IF(A38="Hermine Nantes Atlantique","Nantes",IF(A38="Aix Maurienne Savoie Basket","Aix",IF(A38="Denain ASC Voltaire","Denain",IF(A38="Fos Sur Mer","Fos",IF(A38="Evreux","Evreux",IF(A38="Blois","Blois",IF(A38="Roanne","Roanne")))))))))))))))) -> Evreux
A39: Evreux
A40: Chartres | B40: 0 | C40: 0 | D40: 0 | E40: 0 | F40: 0 | G40: 0 | H40: 0 | I40: 0 | J40: 0 | K40: 0 | L40: 0 | M40: 0 | N40: 0 | O40: 0 | P40: 0 | Q40: 0 | R40: 0 | S40: 0 | T40: 0 | U40: 0 | V40: 0 | W40: 0 | X40: 0 | Y40: 0 | Z40: 0 | AA40: 0 | AB40: =IF(A40="JA Vichy","Vichy",IF(A40="Boulazac Basket Dordogne","Boulazac",IF(A40="Rouen Metropole Basket","Rouen",IF(A40="Orleans Loiret Basket","Orléans",IF(A40="Chalons-Reims CB","Chalons-Reims",IF(A40="Pau-Orthez","Pau",IF(A40="Alliance Sport Alsace","ASA",IF(A40="Antibes","Antibes",IF(A40="Poitiers Basket 86","Poitiers",IF(A40="Hermine Nantes Atlantique","Nantes",IF(A40="Aix Maurienne Savoie Basket","Aix",IF(A40="Denain ASC Voltaire","Denain",IF(A40="Fos Sur Mer","Fos",IF(A40="ALM Evreux Basket","Evreux",IF(A40="Blois","Blois",IF(A40="Roanne","Roanne",IF(A40="Chartres","Chartres"))))))))))))))))) -> Chartres
A41: Chartres

Sheet POITIERS
A1: # | B1: Player | C1: Team | D1: GP | E1: MPG | F1: PPG | G1: FGM | H1: FGA | I1: FG% | J1: 3PM | K1: 3PA | L1: 3P% | M1: FTM | N1: FTA | O1: FT% | P1: ORB | Q1: DRB | R1: RPG | S1: APG | T1: SPG | U1: BPG | V1: TOV | W1: PF | X1: NOMS | Y1: Taille | Z1: Numéro | AA1: Poste | AB1: NAT | AC1: Main | AD1: Éval | AF1: NOMS | AG1: Taille | AH1: Numéro | AI1: Poste | AJ1: NAT | AK1: Main
A2: 1 | B2: Andy Cleaves | C2: PB86 | D2: 9 | E2: 29.9 | F2: 19.9 | G2: 7.3 | H2: 13.8 | I2: 0.532 | J2: 2 | K2: 4.7 | L2: 0.429 | M2: 3.2 | N2: 4.7 | O2: 0.69 | P2: 0.7 | Q2: 2.4 | R2: 3.1 | S2: 2.9 | T2: 1 | U2: 0.4 | V2: 2.6 | W2: 1.9 | AD2: =F2-(H2-G2)-V2-(N2-M2)+T2+S2+U2+P2+Q2 -> 16.7 | AF2: Brena-Chemille | AG2: 1m91 | AI2: P1 | AJ2: FRA | AK2: Droitier
A3: 2 | B3: Luka Rupnik | C3: PB86 | D3: 33 | E3: 26.5 | F3: 12.5 | G3: 3.1 | H3: 8.9 | I3: 0.35 | J3: 2.5 | K3: 7.2 | L3: 0.34 | M3: 3.8 | N3: 4.6 | O3: 0.834 | P3: 0.6 | Q3: 2.1 | R3: 2.7 | S3: 6.6 | T3: 1.1 | U3: 0.1 | V3: 2.7 | W3: 2.2 | AD3: =F3-(H3-G3)-V3-(N3-M3)+T3+S3+U3+P3+Q3 -> 13.7 | AF3: Ojiako | AG3: 2m08 | AI3: P5 | AJ3: NIG | AK3: Droiter
A4: 3 | B4: Ivan Ramljak | C4: PB86 | D4: 32 | E4: 27.1 | F4: 10.9 | G4: 3.9 | H4: 9.5 | I4: 0.407 | J4: 1.5 | K4: 4.7 | L4: 0.313 | M4: 1.7 | N4: 2.1 | O4: 0.794 | P4: 0.9 | Q4: 4 | R4: 4.9 | S4: 2.9 | T4: 1.7 | U4: 0.5 | V4: 1.7 | W4: 2.4 | AD4: =F4-(H4-G4)-V4-(N4-M4)+T4+S4+U4+P4+Q4 -> 13.2 | AF4: Harley | AG4: 1m90 | AJ4: FRA | AK4: Droitier
A5: 4 | B5: Jonathan Jeanne | C5: PB86 | D5: 34 | E5: 18.1 | F5: 10.5 | G5: 3.8 | H5: 6 | I5: 0.624 | J5: 0.4 | K5: 1.1 | L5: 0.361 | M5: 2.6 | N5: 3.6 | O5: 0.719 | P5: 1.2 | Q5: 3.7 | R5: 4.9 | S5: 0.8 | T5: 0.6 | U5: 1.2 | V5: 1.4 | W5: 2.1 | AD5: =F5-(H5-G5)-V5-(N5-M5)+T5+S5+U5+P5+Q5 -> 13.4 | AF5: Blair | AG5: 1m92 | AJ5: CAN | AK5: Gaucher
A6: 5 | B6: Kentan Facey | C6: PB86 | D6: 29 | E6: 21.1 | F6: 8.8 | G6: 3.7 | H6: 6.4 | I6: 0.581 | J6: 0 | K6: 0.3 | L6: 0 | M6: 1.4 | N6: 1.8 | O6: 0.784 | P6: 2.2 | Q6: 3.2 | R6: 5.4 | S6: 0.9 | T6: 0.9 | U6: 0.8 | V6: 1.1 | W6: 3.1 | AD6: =F6-(H6-G6)-V6-(N6-M6)+T6+S6+U6+P6+Q6 -> 12.6 | AF6: Ramljak | AG6: 2m03 | AJ6: CROA | AK6: Droiter
A7: 6 | B7: Mohamed Diawara | C7: PB86 | D7: 21 | E7: 22.2 | F7: 8.5 | G7: 2.6 | H7: 6.7 | I7: 0.386 | J7: 1.1 | K7: 3.5 | L7: 0.311 | M7: 2.2 | N7: 2.9 | O7: 0.783 | P7: 0.7 | Q7: 2.1 | R7: 2.8 | S7: 1.4 | T7: 0.5 | U7: 0.1 | V7: 1.4 | W7: 1.7 | AD7: =F7-(H7-G7)-V7-(N7-M7)+T7+S7+U7+P7+Q7 -> 7.1 | AF7: Fibleuil | AG7: 1m97 | AJ7: FRA | AK7: Droitier
A8: 7 | B8: Kevin Harley | C8: PB86 | D8: 32 | E8: 22.4 | F8: 8.3 | G8: 2.9 | H8: 6.9 | I8: 0.418 | J8: 0.6 | K8: 2.3 | L8: 0.257 | M8: 1.9 | N8: 3.1 | O8: 0.622 | P8: 0.7 | Q8: 1.7 | R8: 2.3 | S8: 1.8 | T8: 0.7 | U8: 0 | V8: 1.8 | W8: 2.4 | AD8: =F8-(H8-G8)-V8-(N8-M8)+T8+S8+U8+P8+Q8 -> 6.2 | AF8: Jeanne | AG8: 2m18 | AJ8: FRA | AK8: Droitier
A9: 8 | B9: Guillaume Eyango | C9: PB86 | D9: 34 | E9: 18.6 | F9: 6.7 | G9: 2.3 | H9: 5.4 | I9: 0.423 | J9: 1.5 | K9: 3.5 | L9: 0.432 | M9: 0.6 | N9: 0.8 | O9: 0.815 | P9: 0.9 | Q9: 1.4 | R9: 2.3 | S9: 1.2 | T9: 0.5 | U9: 0.1 | V9: 0.8 | W9: 2 | AD9: =F9-(H9-G9)-V9-(N9-M9)+T9+S9+U9+P9+Q9 -> 6.7 | AF9: Prot | AG9: 1m97 | AJ9: FRA | AK9: Droiter
A10: 9 | B10: Imanol Prot | C10: PB86 | D10: 30 | E10: 15.8 | F10: 5.5 | G10: 1.9 | H10: 4.6 | I10: 0.413 | J10: 1.3 | K10: 3.4 | L10: 0.373 | M10: 0.4 | N10: 0.6 | O10: 0.667 | P10: 0.5 | Q10: 1.3 | R10: 1.9 | S10: 0.7 | T10: 0.6 | U10: 0.2 | V10: 0.6 | W10: 1.9 | AD10: =F10-(H10-G10)-V10-(N10-M10)+T10+S10+U10+P10+Q10 -> 5.3 | AF10: Rupnik | AG10: 1m86 | AJ10: SLO | AK10: Droiter
A11: 10 | B11: Charly Pontens | C11: PB86 | D11: 33 | E11: 19.7 | F11: 5.3 | G11: 2 | H11: 5.2 | I11: 0.387 | J11: 0.6 | K11: 2.3 | L11: 0.273 | M11: 0.6 | N11: 0.8 | O11: 0.769 | P11: 0.7 | Q11: 1.5 | R11: 2.2 | S11: 2.7 | T11: 0.6 | U11: 0.1 | V11: 1.5 | W11: 2.5 | AD11: =F11-(H11-G11)-V11-(N11-M11)+T11+S11+U11+P11+Q11 -> 6 | AF11: Eyango | AG11: 2m02 | AJ11: FRA | AK11: Droiter
A12: 11 | B12: Jim Seymour | C12: PB86 | D12: 12 | E12: 14 | F12: 4.5 | G12: 2 | H12: 3.6 | I12: 0.558 | J12: 0 | K12: 0.1 | L12: 0 | M12: 0.5 | N12: 0.8 | O12: 0.667 | P12: 1 | Q12: 1.3 | R12: 2.3 | S12: 0.4 | T12: 0.3 | U12: 0.1 | V12: 0.8 | W12: 2.8 | AD12: =F12-(H12-G12)-V12-(N12-M12)+T12+S12+U12+P12+Q12 -> 4.9 | AF12: Balfourier | AG12: 2m16 | AI12: P5 | AJ12: FRA | AK12: Droitier
A13: 12 | B13: Kevin Mendy | C13: PB86 | D13: 34 | E13: 16.1 | F13: 3.6 | G13: 1.3 | H13: 3.3 | I13: 0.398 | J13: 0.6 | K13: 2 | L13: 0.294 | M13: 0.3 | N13: 1 | O13: 0.333 | P13: 0.2 | Q13: 2 | R13: 2.2 | S13: 0.8 | T13: 0.3 | U13: 0.1 | V13: 0.5 | W13: 1.2
A14: 13 | B14: Melvin Bowao | C14: PB86 | D14: 1 | E14: 2 | F14: 0 | G14: 0 | H14: 0 | I14: 0 | J14: 0 | K14: 0 | L14: 0 | M14: 0 | N14: 0 | O14: 0 | P14: 0 | Q14: 1 | R14: 1 | S14: 2 | T14: 0 | U14: 0 | V14: 0 | W14: 0
A16: Totals | B16: GP | C16: MPG | D16: PPG | E16: FGM | F16: FGA | G16: FG% | H16: 3PM | I16: 3PA | J16: 3P% | K16: FTM | L16: FTA | M16: FT% | N16: ORB | O16: DRB | P16: TRB | Q16: APG | R16: SPG | S16: BPG | T16: TOV | U16: PF
A17: Team Totals | B17: 34 | C17: 40.4 | D17: 80.5 | E17: 27.8 | F17: 62.4 | G17: 0.445 | H17: 9.7 | I17: 29.1 | J17: 0.335 | K17: 15.1 | L17: 20.7 | M17: 0.732 | N17: 10 | O17: 24.1 | P17: 34.1 | Q17: 19.6 | R17: 7.2 | S17: 3.1 | T17: 13.7 | U17: 21.4
A18: Team Starters | B18: 34 | C18: 22.8 | D18: 45 | E18: 16.3 | F18: 36.7 | G18: 0.443 | H18: 4.9 | I18: 15.2 | J18: 0.32 | K18: 7.6 | L18: 10.7 | M18: 0.716 | N18: 5 | O18: 12.5 | P18: 17.5 | Q18: 10.9 | R18: 4.4 | S18: 1.6 | T18: 7.7 | U18: 12.4
A19: Team Bench | B19: 34 | C19: 16.9 | D19: 35.4 | E19: 11.5 | F19: 25.8 | G19: 0.447 | H19: 4.9 | I19: 13.9 | J19: 0.351 | K19: 7.5 | L19: 10 | M19: 0.748 | N19: 3.3 | O19: 9.9 | P19: 13.2 | Q19: 8.6 | R19: 2.9 | S19: 1.6 | T19: 5.6 | U19: 9
A20: Opponent Totals | B20: 34 | C20: 40.4 | D20: 81.6 | E20: 28.7 | F20: 62.5 | G20: 0.459 | H20: 8.1 | I20: 24 | J20: 0.339 | K20: 16.1 | L20: 23.2 | M20: 0.694 | N20: 11.4 | O20: 27 | P20: 38.5 | Q20: 17.8 | R20: 7.6 | S20: 2.5 | T20: 14.3 | U20: 21.2
A21: Opponent Starters | B21: 34 | C21: 24.5 | D21: 51.6 | E21: 18.4 | F21: 39.2 | G21: 0.468 | H21: 5 | I21: 14.6 | J21: 0.344 | K21: 9.8 | L21: 14.1 | M21: 0.697 | N21: 6.1 | O21: 16 | P21: 22.1 | Q21: 11.6 | R21: 4.8 | S21: 1.6 | T21: 8.6 | U21: 12
A22: Opponent Bench | B22: 34 | C22: 15.3 | D22: 30 | E22: 10.3 | F22: 23.3 | G22: 0.443 | H22: 3.1 | I22: 9.4 | J22: 0.331 | K22: 6.3 | L22: 9.1 | M22: 0.689 | N22: 3.4 | O22: 9.1 | P22: 12.6 | Q22: 6.2 | R22: 2.9 | S22: 0.9 | T22: 5.2 | U22: 9.2
A24: v, Team | B24: GP | C24: MPG | D24: PPG | E24: FGM | F24: FGA | G24: FG% | H24: 3PM | I24: 3PA | J24: 3P% | K24: FTM | L24: FTA | M24: FT% | N24: ORB | O24: DRB | P24: TRB | Q24: APG | R24: SPG | S24: BPG | T24: TOV | U24: PF
A25: v, Aix Maurienne Savoie Basket | B25: 2 | C25: 40 | D25: 87.5 | E25: 30.5 | F25: 70 | G25: 0.436 | H25: 13.5 | I25: 38.5 | J25: 0.351 | K25: 13 | L25: 18.5 | M25: 0.703 | N25: 9.5 | O25: 24.5 | P25: 34 | Q25: 19 | R25: 6 | S25: 3.5 | T25: 13.5 | U25: 22.5
A26: v, Alliance Sport Alsace | B26: 2 | C26: 39.5 | D26: 82 | E26: 27.5 | F26: 63 | G26: 0.437 | H26: 11 | I26: 28 | J26: 0.393 | K26: 16 | L26: 23 | M26: 0.696 | N26: 9 | O26: 21.5 | P26: 30.5 | Q26: 23 | R26: 6 | S26: 4 | T26: 11.5 | U26: 26.5
A27: v, ALM Evreux Basket | B27: 2 | C27: 40 | D27: 74 | E27: 25 | F27: 61 | G27: 0.41 | H27: 9 | I27: 29 | J27: 0.31 | K27: 15 | L27: 22 | M27: 0.682 | N27: 5.5 | O27: 21.5 | P27: 27 | Q27: 13.5 | R27: 4 | S27: 2 | T27: 12 | U27: 22
A28: v, Antibes | B28: 2 | C28: 40 | D28: 74.5 | E28: 26 | F28: 63 | G28: 0.413 | H28: 8 | I28: 30 | J28: 0.267 | K28: 14.5 | L28: 21 | M28: 0.69 | N28: 10.5 | O28: 17.5 | P28: 28 | Q28: 22 | R28: 10 | S28: 2.5 | T28: 14.5 | U28: 20
A29: v, Boulazac Basket Dordogne | B29: 2 | C29: 42 | D29: 84 | E29: 25.5 | F29: 56 | G29: 0.455 | H29: 9.5 | I29: 28 | J29: 0.339 | K29: 23.5 | L29: 28.5 | M29: 0.825 | N29: 3.5 | O29: 25 | P29: 28.5 | Q29: 21.5 | R29: 8 | S29: 4.5 | T29: 16 | U29: 25.5
A30: v, Chalons-Reims CB | B30: 2 | C30: 40 | D30: 74 | E30: 24 | F30: 57 | G30: 0.421 | H30: 9 | I30: 30 | J30: 0.3 | K30: 17 | L30: 21.5 | M30: 0.791 | N30: 7.5 | O30: 25.5 | P30: 33 | Q30: 19 | R30: 6.5 | S30: 4 | T30: 16 | U30: 14
A31: v, Denain ASC Voltaire | B31: 2 | C31: 39.5 | D31: 76.5 | E31: 25.5 | F31: 57 | G31: 0.447 | H31: 9 | I31: 28 | J31: 0.321 | K31: 16.5 | L31: 23 | M31: 0.717 | N31: 5.5 | O31: 27 | P31: 32.5 | Q31: 19 | R31: 8.5 | S31: 3 | T31: 13 | U31: 14
A32: v, Etoile Angers Basket | B32: 2 | C32: 40 | D32: 83.5 | E32: 30.5 | F32: 64 | G32: 0.477 | H32: 10.5 | I32: 28 | J32: 0.375 | K32: 12 | L32: 15.5 | M32: 0.774 | N32: 8.5 | O32: 18 | P32: 26.5 | Q32: 20.5 | R32: 8 | S32: 1.5 | T32: 15 | U32: 22.5
A33: v, Fos Sur Mer | B33: 2 | C33: 41.5 | D33: 85 | E33: 29.5 | F33: 66 | G33: 0.447 | H33: 9 | I33: 29 | J33: 0.31 | K33: 17 | L33: 22 | M33: 0.773 | N33: 9 | O33: 18.5 | P33: 27.5 | Q33: 20 | R33: 7 | S33: 3.5 | T33: 12 | U33: 24.5
A34: v, Hermine Nantes Atlantique | B34: 2 | C34: 39.5 | D34: 74 | E34: 25 | F34: 62 | G34: 0.403 | H34: 10 | I34: 29 | J34: 0.345 | K34: 14 | L34: 22.5 | M34: 0.622 | N34: 10 | O34: 24 | P34: 34 | Q34: 16 | R34: 9.5 | S34: 4 | T34: 17.5 | U34: 20
A35: v, JA Vichy | B35: 2 | C35: 39.5 | D35: 76.5 | E35: 24.5 | F35: 58 | G35: 0.422 | H35: 10.5 | I35: 27 | J35: 0.389 | K35: 17 | L35: 23.5 | M35: 0.723 | N35: 8 | O35: 21 | P35: 29 | Q35: 19.5 | R35: 4.5 | S35: 2 | T35: 19 | U35: 20.5
A36: v, Lille Metropole Basket Clubs | B36: 2 | C36: 42 | D36: 79.5 | E36: 29.5 | F36: 66 | G36: 0.447 | H36: 9 | I36: 32.5 | J36: 0.277 | K36: 11.5 | L36: 16.5 | M36: 0.697 | N36: 6.5 | O36: 24.5 | P36: 31 | Q36: 19.5 | R36: 7 | S36: 2.5 | T36: 12 | U36: 23.5
... A41: v, Union La Rochelle | B41: 2 | C41: 40 | D41: 73.5 | E41: 27 | F41: 70 | G41: 0.386 | H41: 12 | I41: 35 | J41: 0.343 | K41: 7.5 | L41: 11 | M41: 0.682 | N41: 11 | O41: 26.5 | P41: 37.5 | Q41: 17.5 | R41: 7.5 | S41: 2.5 | T41: 15 | U41: 23.5
