Workbook
Name Berck: Berck!$A$1:$W$37
Name Challans: Challans!$A$1:$W$37
Name Chartres: Chartres!$A$1:$W$38
Name Loon: Loon!$A$1:$W$37
Name Lorient: Lorient!$A$1:$W$38
Name Poissy: Poissy!$A$1:$W$35
Name Quimper: Quimper!$A$1:$W$37
Name Rennes: Rennes!$A$1:$W$39
Name Rueil: Rueil!$A$1:$W$35
Name Sables: 'Les Sables'!$A$1:$W$40
Name Tarbes: Tarbes!$A$1:$W$38
Name Toulouse: Toulouse!$A$1:$W$36
Name Tours: Tours!$A$1:$W$36
Name Vitré: Vitré!$A$1:$W$38

Sheet NM1
B1: Possess | C1: % RO | D1: % RD | E1: %FPR
A2: Berck | B2: =Berck!F17+(Berck!L17*0.44)+Berck!T17-Berck!N17 -> #VALUE! | C2: =Berck!N17/(Berck!F17-Berck!E17) -> #VALUE! | D2: =Berck!O17/(Berck!F20-Berck!E20) -> #VALUE!
A3: Challans | B3: =Challans!F17+(Challans!L17*0.44)+Challans!T17-Challans!N17 -> #VALUE! | C3: =Challans!N17/(Challans!F17-Challans!E17) -> #VALUE! | D3: =Challans!O17/(Challans!F20-Challans!E20) -> #VALUE!
A4: Chartres | B4: =Chartres!F18+(Chartres!L18*0.44)+Chartres!T18-Chartres!N18 -> #VALUE! | C4: =Chartres!N18/(Chartres!F18-Chartres!E18) -> #VALUE! | D4: =Chartres!O18/(Chartres!F21-Chartres!E21) -> #VALUE!
A5: Les Sables | B5: ='Les Sables'!F20+('Les Sables'!L20*0.44)+'Les Sables'!T20-'Les Sables'!N20 -> #VALUE! | C5: ='Les Sables'!N20/('Les Sables'!F20-'Les Sables'!E20) -> #VALUE! | D5: ='Les Sables'!O20/('Les Sables'!F23-'Les Sables'!E23) -> #VALUE!
A6: Loon | B6: =Loon!F17+(Loon!L17*0.44)+Loon!T17-Loon!N17 -> #VALUE! | C6: =Loon!N17/(Loon!F17-Loon!E17) -> #VALUE! | D6: =Loon!O17/(Loon!F20-Loon!F19) -> #VALUE!
A7: Lorient | B7: =Lorient!F18+(Lorient!L18*0.44)+Lorient!T18-Lorient!N18 -> #VALUE! | C7: =Lorient!N18/(Lorient!F18-Lorient!E18) -> #VALUE! | D7: =Lorient!O18/(Lorient!F21-Lorient!E21) -> #VALUE!
A8: Poissy | B8: =Poissy!F15+(Poissy!L15*0.44)+Poissy!T15-Poissy!N15 -> #VALUE! | C8: =Poissy!N15/(Poissy!F15-Poissy!E15) -> #VALUE! | D8: =Poissy!O15/(Poissy!F18-Poissy!E18) -> #VALUE!
A9: Quimper | B9: =Quimper!F17+(Quimper!L17*0.44)+Quimper!T17-Quimper!N17 -> #VALUE! | C9: =Quimper!N17/(Quimper!F17-Quimper!E17) -> #VALUE! | D9: =Quimper!O17/(Quimper!F20-Quimper!E20) -> #VALUE!
A10: Rennes | B10: =Rennes!F19+(Rennes!L19*0.44)+Rennes!T19-Rennes!N19 -> #VALUE! | C10: =Rennes!N19/(Rennes!F19-Rennes!E19) -> #VALUE! | D10: =Rennes!O19/(Rennes!F22-Rennes!E22) -> #VALUE!
A11: Rueil | B11: =Rueil!F15+(Rueil!L15*0.44)+Rueil!T15-Rueil!N15 -> #VALUE! | C11: =Rueil!N15/(Rueil!F15-Rueil!E15) -> #VALUE! | D11: =Rueil!O15/(Rueil!F18-Rueil!E18) -> #VALUE!
A12: Tarbes | B12: =Tarbes!F18+(Tarbes!L18*0.44)+Tarbes!T18-Tarbes!N18 -> #VALUE! | C12: =Tarbes!N18/(Tarbes!F18-Tarbes!E18) -> #VALUE! | D12: =Tarbes!O18/(Tarbes!F21-Tarbes!E21) -> #VALUE!
A13: Toulouse | B13: =Toulouse!F16+(Toulouse!L16*0.44)+Toulouse!T16-Toulouse!N16 -> #VALUE! | C13: =Toulouse!N16/(Toulouse!F16-Toulouse!E16) -> #VALUE! | D13: =Toulouse!O16/(Toulouse!F19-Toulouse!E19) -> #VALUE!
A14: Tours | B14: =Tours!F16+(Tours!L16*0.44)+Tours!T16-Tours!N16 -> #VALUE! | C14: =Tours!N16/(Tours!F16-Tours!E16) -> #VALUE! | D14: =Tours!O16/(Tours!F19-Tours!E19) -> #VALUE!
A15: Vitré | B15: =Vitré!F18+(Vitré!L18*0.44)+Vitré!T18-Vitré!N18 -> #VALUE! | C15: =Vitré!N18/(Vitré!F18-Vitré!E18) -> #VALUE! | D15: =Vitré!O18/(Vitré!F21-Vitré!E21) -> #VALUE!

Sheet Berck
A1: # | B1: Player | C1: Team | D1: GP | E1: MPG | F1: PPG | G1: FGM | H1: FGA | I1: FG% | J1: 3PM | K1: 3PA | L1: 3P% | M1: FTM | N1: FTA | O1: FT% | P1: ORB | Q1: DRB | R1: RPG | S1: APG | T1: SPG | U1: BPG | V1: TOV | W1: PF
A2: 1 | B2: Duane Morgan | C2: RANG | D2: 19 | E2: 31.1 | F2: 17.2 | G2: 4.8 | H2: 10.7 | I2: .448 | J2: 1.3 | K2: 4.0 | L2: .316 | M2: 6.3 | N2: 8.2 | O2: .774 | P2: 0.8 | Q2: 4.5 | R2: 5.4 | S2: 2.2 | T2: 1.5 | U2: 0.6 | V2: 2.6 | W2: 1.8
A3: 2 | B3: Guillaume Valayer | C3: RANG | D3: 19 | E3: 26.9 | F3: 9.6 | G3: 3.7 | H3: 7.8 | I3: .473 | J3: 1.2 | K3: 3.1 | L3: .390 | M3: 1.1 | N3: 1.7 | O3: .606 | P3: 1.3 | Q3: 4.4 | R3: 5.6 | S3: 2.5 | T3: 0.5 | U3: 0.2 | V3: 1.8 | W3: 2.1
A4: 3 | B4: Clement Morel | C4: RANG | D4: 14 | E4: 19.8 | F4: 9.2 | G4: 3.4 | H4: 6.3 | I4: .545 | J4: 0.4 | K4: 1.8 | L4: .200 | M4: 2.0 | N4: 2.9 | O4: .700 | P4: 0.9 | Q4: 1.7 | R4: 2.6 | S4: 1.0 | T4: 0.9 | U4: 0.5 | V4: 1.6 | W4: 1.6
A5: 4 | B5: Ibrahim Saounera | C5: RANG | D5: 20 | E5: 27.8 | F5: 9.1 | G5: 2.9 | H5: 7.3 | I5: .400 | J5: 0.9 | K5: 3.3 | L5: .277 | M5: 2.4 | N5: 2.9 | O5: .828 | P5: 0.6 | Q5: 2.3 | R5: 2.8 | S5: 3.5 | T5: 0.7 | U5: 0.0 | V5: 2.0 | W5: 2.2
A6: 5 | B6: Adrien Henocq | C6: RANG | D6: 11 | E6: 21.8 | F6: 9.0 | G6: 3.0 | H6: 6.6 | I6: .452 | J6: 2.3 | K6: 5.5 | L6: .417 | M6: 0.7 | N6: 1.1 | O6: .667 | P6: 0.1 | Q6: 1.9 | R6: 2.0 | S6: 3.0 | T6: 1.3 | U6: 0.1 | V6: 1.2 | W6: 1.5
A7: 6 | B7: Kayode Ajenifuja | C7: RANG | D7: 20 | E7: 24.4 | F7: 8.2 | G7: 3.0 | H7: 7.3 | I7: .411 | J7: 1.4 | K7: 4.1 | L7: .341 | M7: 0.8 | N7: 0.9 | O7: .882 | P7: 0.8 | Q7: 2.0 | R7: 2.8 | S7: 1.1 | T7: 1.1 | U7: 0.2 | V7: 1.4 | W7: 2.2
A8: 7 | B8: Ladji Meite | C8: RANG | D8: 17 | E8: 18.1 | F8: 6.2 | G8: 2.8 | H8: 4.5 | I8: .618 | J8: 0.0 | K8: 0.0 | L8: .000 | M8: 0.7 | N8: 2.1 | O8: .343 | P8: 1.9 | Q8: 2.8 | R8: 4.8 | S8: 1.1 | T8: 0.5 | U8: 0.4 | V8: 1.5 | W8: 3.2
A9: 8 | B9: Elias Kherzane | C9: RANG | D9: 14 | E9: 19.2 | F9: 5.9 | G9: 1.4 | H9: 4.4 | I9: .306 | J9: 0.5 | K9: 1.9 | L9: .259 | M9: 2.6 | N9: 3.6 | O9: .725 | P9: 0.6 | Q9: 2.1 | R9: 2.8 | S9: 2.7 | T9: 1.1 | U9: 0.0 | V9: 1.4 | W9: 2.7
A10: 9 | B10: Alexis Desespringalle | C10: RANG | D10: 19 | E10: 17.8 | F10: 5.3 | G10: 1.8 | H10: 5.2 | I10: .343 | J10: 1.0 | K10: 2.6 | L10: .380 | M10: 0.7 | N10: 0.9 | O10: .765 | P10: 0.6 | Q10: 2.1 | R10: 2.7 | S10: 1.4 | T10: 0.5 | U10: 0.1 | V10: 1.5 | W10: 1.8
A11: 10 | B11: Luidgy Laporal | C11: RANG | D11: 5 | E11: 15.7 | F11: 4.8 | G11: 2.2 | H11: 4.0 | I11: .550 | J11: 0.0 | K11: 0.0 | L11: .000 | M11: 0.4 | N11: 1.2 | O11: .333 | P11: 0.6 | Q11: 2.8 | R11: 3.4 | S11: 0.8 | T11: 0.6 | U11: 0.2 | V11: 1.6 | W11: 2.6
A12: 11 | B12: Alexandre Mendy | C12: RANG | D12: 6 | E12: 19.5 | F12: 4.3 | G12: 1.5 | H12: 4.8 | I12: .310 | J12: 0.3 | K12: 2.3 | L12: .143 | M12: 1.0 | N12: 2.0 | O12: .500 | P12: 0.7 | Q12: 2.2 | R12: 2.8 | S12: 1.2 | T12: 0.7 | U12: 0.0 | V12: 3.5 | W12: 1.5
A13: 12 | B13: Rodney Rolle | C13: RANG | D13: 8 | E13: 11.4 | F13: 2.8 | G13: 1.0 | H13: 1.5 | I13: .667 | J13: 0.3 | K13: 0.5 | L13: .500 | M13: 0.5 | N13: 0.5 | O13: 1.000 | P13: 0.8 | Q13: 0.6 | R13: 1.4 | S13: 0.3 | T13: 0.5 | U13: 0.4 | V13: 0.1 | W13: 0.6
A14: 13 | B14: Eliott Mariscal | C14: RANG | D14: 18 | E14: 10.9 | F14: 1.7 | G14: 0.6 | H14: 1.9 | I14: .314 | J14: 0.3 | K14: 1.1 | L14: .263 | M14: 0.2 | N14: 0.3 | O14: .500 | P14: 0.4 | Q14: 0.8 | R14: 1.2 | S14: 0.9 | T14: 0.7 | U14: 0.0 | V14: 0.6 | W14: 1.5
A16: Totals | B16: GP | C16: MPG | D16: PPG | E16: FGM | F16: FGA | G16: FG% | H16: 3PM | I16: 3PA | J16: 3P% | K16: FTM | L16: FTA | M16: FT% | N16: ORB | O16: DRB | P16: TRB | Q16: APG | R16: SPG | S16: BPG | T16: TOV | U16: PF
A17: Team Totals | B17: 19 | C17: 40.6 | D17: 72.6 | E17: 24.7 | F17: 56.9 | G17: .434 | H17: 7.7 | I17: 23.9 | J17: .321 | K17: 15.5 | L17: 22.1 | M17: .704 | N17: 9.5 | O17: 25.1 | P17: 34.7 | Q17: 16.9 | R17: 7.9 | S17: 2.1 | T17: 15.8 | U17: 18.8
A18: Team Starters | B18: 19 | C18: 24.4 | D18: 43.3 | E18: 15.2 | F18: 35.4 | G18: .429 | H18: 4.9 | I18: 14.9 | J18: .329 | K18: 7.9 | L18: 11.5 | M18: .693 | N18: 4.4 | O18: 14.1 | P18: 18.5 | Q18: 10.5 | R18: 4.4 | S18: 1.2 | T18: 9.2 | U18: 11.3
A19: Team Bench | B19: 19 | C19: 15.3 | D19: 29.3 | E19: 9.5 | F19: 21.5 | G19: .441 | H19: 2.8 | I19: 9.1 | J19: .308 | K19: 7.6 | L19: 10.6 | M19: .716 | N19: 3.5 | O19: 9.3 | P19: 12.8 | Q19: 6.4 | R19: 3.6 | S19: 0.8 | T19: 5.7 | U19: 7.6
A20: Opponent Totals | B20: 19 | C20: 40.7 | D20: 75.2 | E20: 27.3 | F20: 60.3 | G20: .453 | H20: 7.6 | I20: 24.2 | J20: .313 | K20: 12.9 | L20: 18.9 | M20: .685 | N20: 9.9 | O20: 25.7 | P20: 35.7 | Q20: 19.9 | R20: 7.1 | S20: 1.6 | T20: 15.3 | U20: 20.1
A21: Opponent Starters | B21: 19 | C21: 25.3 | D21: 49.3 | E21: 18.1 | F21: 38.5 | G21: .471 | H21: 5.0 | I21: 15.2 | J21: .329 | K21: 8.1 | L21: 12.0 | M21: .671 | N21: 4.4 | O21: 13.6 | P21: 18.0 | Q21: 13.8 | R21: 4.9 | S21: 1.1 | T21: 9.3 | U21: 11.6
A22: Opponent Bench | B22: 19 | C22: 14.5 | D22: 25.9 | E22: 9.2 | F22: 21.8 | G22: .422 | H22: 2.6 | I22: 9.0 | J22: .287 | K22: 4.9 | L22: 6.9 | M22: .710 | N22: 4.1 | O22: 10.7 | P22: 14.8 | Q22: 6.1 | R22: 2.2 | S22: 0.6 | T22: 5.1 | U22: 8.5
A24: v. Team | B24: GP | C24: MPG | D24: PPG | E24: FGM | F24: FGA | G24: FG% | H24: 3PM | I24: 3PA | J24: 3P% | K24: FTM | L24: FTA | M24: FT% | N24: ORB | O24: DRB | P24: TRB | Q24: APG | R24: SPG | S24: BPG | T24: TOV | U24: PF
A25: v. AS Loon Plage Basket | B25: 2 | C25: 39.5 | D25: 66.0 | E25: 22.0 | F25: 49.0 | G25: .449 | H25: 5.0 | I25: 16.5 | J25: .303 | K25: 17.0 | L25: 23.5 | M25: .723 | N25: 5.0 | O25: 22.0 | P25: 27.0 | Q25: 13.5 | R25: 7.0 | S25: 1.5 | T25: 17.0 | U25: 14.5
A26: v. Aurore de Vitre | B26: 2 | C26: 40.0 | D26: 70.0 | E26: 23.0 | F26: 50.0 | G26: .460 | H26: 8.5 | I26: 23.0 | J26: .370 | K26: 15.5 | L26: 22.5 | M26: .689 | N26: 8.0 | O26: 22.5 | P26: 30.5 | Q26: 15.5 | R26: 9.0 | S26: 1.5 | T26: 20.0 | U26: 17.0
A27: v. CEP Lorient | B27: 2 | C27: 40.0 | D27: 79.5 | E27: 26.5 | F27: 56.5 | G27: .469 | H27: 8.0 | I27: 21.0 | J27: .381 | K27: 18.5 | L27: 25.5 | M27: .725 | N27: 5.0 | O27: 23.5 | P27: 28.5 | Q27: 17.0 | R27: 6.0 | S27: 2.5 | T27: 11.5 | U27: 18.0
A28: v. Les Sables Vendee Basket | B28: 1 | C28: 40.0 | D28: 87.0 | E28: 30.0 | F28: 68.0 | G28: .441 | H28: 10.0 | I28: 26.0 | J28: .385 | K28: 17.0 | L28: 21.0 | M28: .810 | N28: 17.0 | O28: 28.0 | P28: 45.0 | Q28: 21.0 | R28: 17.0 | S28: 1.0 | T28: 16.0 | U28: 15.0
A29: v. Poissy Basket | B29: 1 | C29: 40.0 | D29: 75.0 | E29: 27.0 | F29: 53.0 | G29: .509 | H29: 11.0 | I29: 24.0 | J29: .458 | K29: 10.0 | L29: 18.0 | M29: .556 | N29: 11.0 | O29: 27.0 | P29: 38.0 | Q29: 20.0 | R29: 5.0 | S29: 3.0 | T29: 15.0 | U29: 18.0
A30: v. Quimper | B30: 2 | C30: 40.0 | D30: 67.5 | E30: 21.5 | F30: 53.5 | G30: .402 | H30: 10.5 | I30: 30.0 | J30: .350 | K30: 14.0 | L30: 19.5 | M30: .718 | N30: 9.0 | O30: 21.5 | P30: 30.5 | Q30: 18.5 | R30: 5.5 | S30: 2.0 | T30: 18.5 | U30: 20.0
A31: v. Rueil Athletic Club | B31: 1 | C31: 43.0 | D31: 88.0 | E31: 27.0 | F31: 65.0 | G31: .415 | H31: 9.0 | I31: 25.0 | J31: .360 | K31: 25.0 | L31: 33.0 | M31: .758 | N31: 8.0 | O31: 27.0 | P31: 35.0 | Q31: 22.0 | R31: 11.0 | S31: 5.0 | T31: 14.0 | U31: 25.0
A32: v. Toulouse Basket Club | B32: 2 | C32: 42.5 | D32: 69.5 | E32: 24.5 | F32: 55.0 | G32: .445 | H32: 7.5 | I32: 26.0 | J32: .288 | K32: 13.0 | L32: 15.5 | M32: .839 | N32: 8.0 | O32: 21.0 | P32: 29.0 | Q32: 13.5 | R32: 6.0 | S32: 4.5 | T32: 20.0 | U32: 18.0
A33: v. Union Basket Chartres Masculin | B33: 1 | C33: 40.0 | D33: 69.0 | E33: 23.0 | F33: 50.0 | G33: .460 | H33: 6.0 | I33: 24.0 | J33: .250 | K33: 17.0 | L33: 32.0 | M33: .531 | N33: 8.0 | O33: 25.0 | P33: 33.0 | Q33: 21.0 | R33: 7.0 | S33: 0.0 | T33: 17.0 | U33: 19.0
A34: v. Union Rennes Basket | B34: 1 | C34: 39.0 | D34: 75.0 | E34: 29.0 | F34: 65.0 | G34: .446 | H34: 5.0 | I34: 20.0 | J34: .250 | K34: 12.0 | L34: 16.0 | M34: .750 | N34: 4.0 | O34: 25.0 | P34: 29.0 | Q34: 22.0 | R34: 9.0 | S34: 1.0 | T34: 12.0 | U34: 18.0
A35: v. Union Tarbes Lourdes Pyrennes Basket | B35: 2 | C35: 42.5 | D35: 63.5 | E35: 20.5 | F35: 63.0 | G35: .325 | H35: 5.5 | I35: 29.5 | J35: .186 | K35: 17.0 | L35: 27.0 | M35: .630 | N35: 11.0 | O35: 24.0 | P35: 35.0 | Q35: 13.0 | R35: 9.0 | S35: 2.0 | T35: 14.0 | U35: 20.5
A36: v. Union Tours Metropole Basket | B36: 1 | C36: 40.0 | D36: 86.0 | E36: 32.0 | F36: 63.0 | G36: .508 | H36: 8.0 | I36: 18.0 | J36: .444 | K36: 14.0 | L36: 18.0 | M36: .778 | N36: 4.0 | O36: 21.0 | P36: 25.0 | Q36: 15.0 | R36: 9.0 | S36: 0.0 | T36: 12.0 | U36: 29.0
A37: v. Vendee Challans Basket | B37: 1 | C37: 40.0 | D37: 67.0 | E37: 25.0 | F37: 63.0 | G37: .397 | H37: 7.0 | I37: 26.0 | J37: .269 | K37: 10.0 | L37: 14.0 | M37: .714 | N37: 7.0 | O37: 23.0 | P37: 30.0 | Q37: 18.0 | R37: 8.0 | S37: 1.0 | T37: 12.0 | U37: 18.0

Sheet Challans
A1: # | B1: Player | C1: Team | D1: GP | E1: MPG | F1: PPG | G1: FGM | H1: FGA | I1: FG% | J1: 3PM | K1: 3PA | L1: 3P% | M1: FTM | N1: FTA | O1: FT% | P1: ORB | Q1: DRB | R1: RPG | S1: APG | T1: SPG | U1: BPG | V1: TOV | W1: PF
A2: 1 | B2: Du'Vaughn Maxwell | C2: VCB | D2: 2 | E2: 29.4 | F2: 17.5 | G2: 7.0 | H2: 12.5 | I2: .560 | J2: 1.0 | K2: 1.5 | L2: .667 | M2: 2.5 | N2: 7.0 | O2: .357 | P2: 3.0 | Q2: 4.0 | R2: 7.0 | S2: 5.0 | T2: 1.0 | U2: 0.0 | V2: 4.5 | W2: 4.0
A3: 2 | B3: Radshad Davis | C3: VCB | D3: 17 | E3: 28.3 | F3: 17.1 | G3: 6.0 | H3: 12.1 | I3: .498 | J3: 1.2 | K3: 3.6 | L3: .344 | M3: 3.9 | N3: 4.4 | O3: .880 | P3: 1.9 | Q3: 4.2 | R3: 6.1 | S3: 2.3 | T3: 1.5 | U3: 0.2 | V3: 2.1 | W3: 2.6
A4: 3 | B4: Marc Gosselin | C4: VCB | D4: 18 | E4: 26.9 | F4: 12.3 | G4: 4.2 | H4: 8.7 | I4: .481 | J4: 1.2 | K4: 3.6 | L4: .338 | M4: 2.7 | N4: 3.4 | O4: .803 | P4: 1.7 | Q4: 3.3 | R4: 5.0 | S4: 1.8 | T4: 0.8 | U4: 0.7 | V4: 1.8 | W4: 2.1
A5: 4 | B5: Paul Turpin | C5: VCB | D5: 19 | E5: 29.8 | F5: 10.4 | G5: 3.5 | H5: 9.2 | I5: .385 | J5: 2.4 | K5: 6.3 | L5: .387 | M5: 0.9 | N5: 1.4 | O5: .654 | P5: 0.1 | Q5: 3.2 | R5: 3.3 | S5: 3.1 | T5: 0.7 | U5: 0.1 | V5: 1.7 | W5: 1.2
A6: 5 | B6: Jerrell Wright | C6: VCB | D6: 14 | E6: 18.2 | F6: 9.1 | G6: 3.5 | H6: 6.3 | I6: .557 | J6: 0.1 | K6: 0.3 | L6: .250 | M6: 2.1 | N6: 3.4 | O6: .604 | P6: 1.9 | Q6: 2.8 | R6: 4.7 | S6: 1.0 | T6: 0.5 | U6: 0.1 | V6: 1.6 | W6: 1.4
A7: 6 | B7: Gary Berchel | C7: VCB | D7: 17 | E7: 24.7 | F7: 7.8 | G7: 2.9 | H7: 7.1 | I7: .408 | J7: 0.5 | K7: 2.6 | L7: .200 | M7: 1.5 | N7: 2.1 | O7: .743 | P7: 1.2 | Q7: 3.8 | R7: 4.9 | S7: 1.5 | T7: 0.7 | U7: 0.6 | V7: 1.5 | W7: 2.2
A8: 7 | B8: Patrick Clerence | C8: VCB | D8: 18 | E8: 19.9 | F8: 7.0 | G8: 2.3 | H8: 5.8 | I8: .404 | J8: 0.1 | K8: 0.2 | L8: .333 | M8: 2.3 | N8: 3.8 | O8: .603 | P8: 0.8 | Q8: 2.9 | R8: 3.8 | S8: 0.8 | T8: 0.8 | U8: 0.5 | V8: 1.6 | W8: 3.3
A9: 8 | B9: Jeremy Bichard | C9: VCB | D9: 19 | E9: 22.1 | F9: 6.4 | G9: 2.4 | H9: 5.6 | I9: .434 | J9: 0.7 | K9: 2.5 | L9: .292 | M9: 0.8 | N9: 1.4 | O9: .556 | P9: 0.3 | Q9: 1.5 | R9: 1.8 | S9: 4.9 | T9: 1.3 | U9: 0.1 | V9: 2.7 | W9: 2.1
A10: 9 | B10: Lucas Plasse | C10: VCB | D10: 19 | E10: 21.4 | F10: 6.1 | G10: 1.6 | H10: 5.6 | I10: .290 | J10: 1.1 | K10: 3.5 | L10: .318 | M10: 1.7 | N10: 2.0 | O10: .842 | P10: 0.2 | Q10: 1.4 | R10: 1.6 | S10: 2.8 | T10: 0.8 | U10: 0.0 | V10: 1.6 | W10: 1.0
A11: 10 | B11: Mohamad Diop | C11: VCB | D11: 1 | E11: 18.5 | F11: 5.0 | G11: 2.0 | H11: 7.0 | I11: .286 | J11: 0.0 | K11: 1.0 | L11: .000 | M11: 1.0 | N11: 2.0 | O11: .500 | P11: 1.0 | Q11: 5.0 | R11: 6.0 | S11: 0.0 | T11: 1.0 | U11: 1.0 | V11: 1.0 | W11: 0.0
A12: 11 | B12: Anthony Prugnieres | C12: VCB | D12: 19 | E12: 18.2 | F12: 4.7 | G12: 1.4 | H12: 3.2 | I12: .443 | J12: 0.3 | K12: 1.1 | L12: .300 | M12: 1.6 | N12: 1.8 | O12: .857 | P12: 0.7 | Q12: 2.8 | R12: 3.6 | S12: 0.7 | T12: 0.3 | U12: 0.1 | V12: 1.5 | W12: 1.4
A13: 12 | B13: Gregory Bengaber | C13: VCB | D13: 1 | E13: 12.7 | F13: 4.0 | G13: 1.0 | H13: 3.0 | I13: .333 | J13: 0.0 | K13: 1.0 | L13: .000 | M13: 2.0 | N13: 2.0 | O13: 1.000 | P13: 0.0 | Q13: 1.0 | R13: 1.0 | S13: 0.0 | T13: 0.0 | U13: 0.0 | V13: 0.0 | W13: 4.0
A14: 13 | B14: Issa Fofana | C14: VCB | D14: 7 | E14: 7.0 | F14: 1.4 | G14: 0.6 | H14: 1.3 | I14: .444 | J14: 0.0 | K14: 0.0 | L14: .000 | M14: 0.3 | N14: 0.7 | O14: .400 | P14: 0.9 | Q14: 0.4 | R14: 1.3 | S14: 0.0 | T14: 0.1 | U14: 0.3 | V14: 0.7 | W14: 1.9
A16: Totals | B16: GP | C16: MPG | D16: PPG | E16: FGM | F16: FGA | G16: FG% | H16: 3PM | I16: 3PA | J16: 3P% | K16: FTM | L16: FTA | M16: FT% | N16: ORB | O16: DRB | P16: TRB | Q16: APG | R16: SPG | S16: BPG | T16: TOV | U16: PF
A17: Team Totals | B17: 18 | C17: 40.7 | D17: 77.7 | E17: 26.7 | F17: 60.8 | G17: .438 | H17: 7.4 | I17: 22.8 | J17: .327 | K17: 16.9 | L17: 23.4 | M17: .723 | N17: 10.4 | O17: 27.3 | P17: 37.8 | Q17: 18.7 | R17: 7.1 | S17: 2.3 | T17: 17.2 | U17: 17.3
A18: Team Starters | B18: 18 | C18: 25.3 | D18: 54.2 | E18: 19.0 | F18: 41.9 | G18: .454 | H18: 5.5 | I18: 16.0 | J18: .344 | K18: 10.7 | L18: 15.0 | M18: .711 | N18: 5.1 | O18: 16.2 | P18: 21.3 | Q18: 12.6 | R18: 4.3 | S18: 1.4 | T18: 9.7 | U18: 10.2
A19: Team Bench | B19: 18 | C19: 14.6 | D19: 23.6 | E19: 7.7 | F19: 18.9 | G19: .405 | H19: 1.9 | I19: 6.8 | J19: .287 | K19: 6.3 | L19: 8.4 | M19: .743 | N19: 3.4 | O19: 9.1 | P19: 12.6 | Q19: 6.1 | R19: 2.8 | S19: 0.9 | T19: 6.6 | U19: 7.1
A20: Opponent Totals | B20: 18 | C20: 40.7 | D20: 81.2 | E20: 29.8 | F20: 65.1 | G20: .458 | H20: 8.5 | I20: 25.6 | J20: .333 | K20: 13.1 | L20: 18.8 | M20: .698 | N20: 9.8 | O20: 26.1 | P20: 35.9 | Q20: 19.8 | R20: 8.3 | S20: 1.9 | T20: 14.7 | U20: 21.1
A21: Opponent Starters | B21: 18 | C21: 25.4 | D21: 54.2 | E21: 20.0 | F21: 42.3 | G21: .472 | H21: 5.7 | I21: 16.2 | J21: .354 | K21: 8.4 | L21: 12.4 | M21: .679 | N21: 5.2 | O21: 15.2 | P21: 20.3 | Q21: 13.4 | R21: 5.5 | S21: 1.4 | T21: 8.5 | U21: 12.1
A22: Opponent Bench | B22: 18 | C22: 14.4 | D22: 27.0 | E22: 9.8 | F22: 22.7 | G22: .430 | H22: 2.8 | I22: 9.4 | J22: .296 | K22: 4.7 | L22: 6.3 | M22: .737 | N22: 2.9 | O22: 9.1 | P22: 12.1 | Q22: 6.3 | R22: 2.8 | S22: 0.6 | T22: 5.2 | U22: 8.9
A24: v. Team | B24: GP | C24: MPG | D24: PPG | E24: FGM | F24: FGA | G24: FG% | H24: 3PM | I24: 3PA | J24: 3P% | K24: FTM | L24: FTA | M24: FT% | N24: ORB | O24: DRB | P24: TRB | Q24: APG | R24: SPG | S24: BPG | T24: TOV | U24: PF
A25: v. AS Loon Plage Basket | B25: 2 | C25: 39.5 | D25: 65.0 | E25: 19.5 | F25: 58.0 | G25: .336 | H25: 4.0 | I25: 19.0 | J25: .211 | K25: 22.0 | L25: 27.5 | M25: .800 | N25: 7.5 | O25: 26.0 | P25: 33.5 | Q25: 17.0 | R25: 9.5 | S25: 1.5 | T25: 15.0 | U25: 20.5
A26: v. Aurore de Vitre | B26: 1 | C26: 40.0 | D26: 67.0 | E26: 23.0 | F26: 60.0 | G26: .383 | H26: 7.0 | I26: 24.0 | J26: .292 | K26: 14.0 | L26: 17.0 | M26: .824 | N26: 12.0 | O26: 23.0 | P26: 35.0 | Q26: 19.0 | R26: 8.0 | S26: 1.0 | T26: 10.0 | U26: 9.0
A27: v. Berck/Rang Du Fliers | B27: 1 | C27: 40.0 | D27: 73.0 | E27: 28.0 | F27: 57.0 | G27: .491 | H27: 5.0 | I27: 20.0 | J27: .250 | K27: 12.0 | L27: 19.0 | M27: .632 | N27: 7.0 | O27: 29.0 | P27: 36.0 | Q27: 17.0 | R27: 3.0 | S27: 1.0 | T27: 18.0 | U27: 16.0
A28: v. CEP Lorient | B28: 2 | C28: 40.0 | D28: 75.5 | E28: 26.5 | F28: 59.5 | G28: .445 | H28: 7.5 | I28: 20.5 | J28: .366 | K28: 15.0 | L28: 23.0 | M28: .652 | N28: 8.5 | O28: 24.5 | P28: 33.0 | Q28: 14.5 | R28: 5.5 | S28: 3.0 | T28: 15.5 | U28: 17.5
A29: v. Les Sables Vendee Basket | B29: 1 | C29: 45.0 | D29: 98.0 | E29: 31.0 | F29: 75.0 | G29: .413 | H29: 8.0 | I29: 27.0 | J29: .296 | K29: 28.0 | L29: 39.0 | M29: .718 | N29: 17.0 | O29: 23.0 | P29: 40.0 | Q29: 22.0 | R29: 11.0 | S29: 3.0 | T29: 14.0 | U29: 19.0
A30: v. Poissy Basket | B30: 1 | C30: 40.0 | D30: 77.0 | E30: 25.0 | F30: 61.0 | G30: .410 | H30: 9.0 | I30: 27.0 | J30: .333 | K30: 18.0 | L30: 26.0 | M30: .692 | N30: 7.0 | O30: 32.0 | P30: 39.0 | Q30: 15.0 | R30: 4.0 | S30: 8.0 | T30: 19.0 | U30: 25.0
A31: v. Quimper | B31: 2 | C31: 42.5 | D31: 88.0 | E31: 29.5 | F31: 62.0 | G31: .476 | H31: 11.0 | I31: 27.0 | J31: .407 | K31: 18.0 | L31: 25.5 | M31: .706 | N31: 7.0 | O31: 24.0 | P31: 31.0 | Q31: 23.0 | R31: 6.5 | S31: 1.5 | T31: 15.5 | U31: 25.0
A32: v. Rueil Athletic Club | B32: 2 | C32: 40.0 | D32: 83.5 | E32: 29.0 | F32: 55.5 | G32: .523 | H32: 7.0 | I32: 18.5 | J32: .378 | K32: 18.5 | L32: 25.5 | M32: .725 | N32: 4.5 | O32: 24.0 | P32: 28.5 | Q32: 19.5 | R32: 6.0 | S32: 4.0 | T32: 19.0 | U32: 16.0
A33: v. Toulouse Basket Club | B33: 1 | C33: 45.0 | D33: 84.0 | E33: 27.0 | F33: 64.0 | G33: .422 | H33: 11.0 | I33: 30.0 | J33: .367 | K33: 19.0 | L33: 21.0 | M33: .905 | N33: 10.0 | O33: 24.0 | P33: 34.0 | Q33: 19.0 | R33: 7.0 | S33: 1.0 | T33: 20.0 | U33: 15.0
A34: v. Union Basket Chartres Masculin | B34: 1 | C34: 40.0 | D34: 82.0 | E34: 28.0 | F34: 65.0 | G34: .431 | H34: 11.0 | I34: 28.0 | J34: .393 | K34: 15.0 | L34: 19.0 | M34: .789 | N34: 12.0 | O34: 24.0 | P34: 36.0 | Q34: 19.0 | R34: 7.0 | S34: 2.0 | T34: 19.0 | U34: 10.0
A35: v. Union Rennes Basket | B35: 2 | C35: 40.0 | D35: 80.5 | E35: 30.0 | F35: 65.0 | G35: .462 | H35: 7.0 | I35: 24.0 | J35: .292 | K35: 13.5 | L35: 19.0 | M35: .711 | N35: 8.5 | O35: 28.0 | P35: 36.5 | Q35: 19.0 | R35: 7.5 | S35: 1.5 | T35: 19.5 | U35: 13.0
A36: v. Union Tarbes Lourdes Pyrennes Basket | B36: 1 | C36: 39.0 | D36: 76.0 | E36: 25.0 | F36: 55.0 | G36: .455 | H36: 5.0 | I36: 17.0 | J36: .294 | K36: 21.0 | L36: 34.0 | M36: .618 | N36: 13.0 | O36: 27.0 | P36: 40.0 | Q36: 19.0 | R36: 9.0 | S36: 2.0 | T36: 18.0 | U36: 20.0
A37: v. Union Tours Metropole Basket | B37: 1 | C37: 40.0 | D37: 57.0 | E37: 24.0 | F37: 58.0 | G37: .414 | H37: 5.0 | I37: 19.0 | J37: .263 | K37: 4.0 | L37: 6.0 | M37: .667 | N37: 4.0 | O37: 21.0 | P37: 25.0 | Q37: 20.0 | R37: 8.0 | S37: 1.0 | T37: 17.0 | U37: 14.0

Sheet Chartres
A1: # | B1: Player | C1: Team | D1: GP | E1: MPG | F1: PPG | G1: FGM | H1: FGA | I1: FG% | J1: 3PM | K1: 3PA | L1: 3P% | M1: FTM | N1: FTA | O1: FT% | P1: ORB | Q1: DRB | R1: RPG | S1: APG | T1: SPG | U1: BPG | V1: TOV | W1: PF
A2: 1 | B2: Mezie Offurum | C2: UBCM | D2: 20 | E2: 22.3 | F2: 11.3 | G2: 4.2 | H2: 7.8 | I2: .532 | J2: 0.4 | K2: 1.1 | L2: .318 | M2: 2.6 | N2: 3.8 | O2: .693 | P2: 1.1 | Q2: 3.6 | R2: 4.7 | S2: 1.7 | T2: 0.9 | U2: 0.5 | V2: 2.1 | W2: 2.4
A3: 2 | B3: Max Kouguere | C3: UBCM | D3: 10 | E3: 24.7 | F3: 10.5 | G3: 3.6 | H3: 7.8 | I3: .462 | J3: 2.0 | K3: 4.4 | L3: .455 | M3: 1.3 | N3: 1.7 | O3: .765 | P3: 0.9 | Q3: 4.0 | R3: 4.9 | S3: 2.4 | T3: 0.8 | U3: 0.2 | V3: 1.8 | W3: 2.5
A4: 3 | B4: Lucas Thevenard | C4: UBCM | D4: 18 | E4: 22.4 | F4: 9.2 | G4: 3.3 | H4: 6.4 | I4: .513 | J4: 0.5 | K4: 1.7 | L4: .290 | M4: 2.1 | N4: 3.1 | O4: .679 | P4: 2.1 | Q4: 3.9 | R4: 6.1 | S4: 0.7 | T4: 0.7 | U4: 1.1 | V4: 1.3 | W4: 2.1
A5: 4 | B5: Calvin Hippolyte | C5: UBCM | D5: 20 | E5: 21.2 | F5: 9.1 | G5: 3.7 | H5: 7.5 | I5: .490 | J5: 0.2 | K5: 0.9 | L5: .167 | M5: 1.6 | N5: 2.7 | O5: .593 | P5: 1.3 | Q5: 4.2 | R5: 5.4 | S5: 1.0 | T5: 1.2 | U5: 0.2 | V5: 1.7 | W5: 2.0
A6: 5 | B6: Angelo Kouame | C6: UBCM | D6: 16 | E6: 19.7 | F6: 9.0 | G6: 3.7 | H6: 6.5 | I6: .567 | J6: 0.0 | K6: 0.2 | L6: .000 | M6: 1.6 | N6: 2.0 | O6: .813 | P6: 2.4 | Q6: 3.6 | R6: 6.0 | S6: 0.9 | T6: 0.5 | U6: 0.8 | V6: 1.7 | W6: 2.9
A7: 6 | B7: Fabien Ateba | C7: UBCM | D7: 18 | E7: 16.5 | F7: 7.2 | G7: 2.5 | H7: 6.3 | I7: .395 | J7: 1.6 | K7: 4.6 | L7: .354 | M7: 0.6 | N7: 0.8 | O7: .714 | P7: 0.3 | Q7: 1.5 | R7: 1.8 | S7: 0.9 | T7: 0.3 | U7: 0.0 | V7: 1.2 | W7: 1.4
A8: 7 | B8: Marc-Antoine Pellin | C8: UBCM | D8: 17 | E8: 25.6 | F8: 7.1 | G8: 2.5 | H8: 5.5 | I8: .462 | J8: 0.3 | K8: 1.3 | L8: .227 | M8: 1.7 | N8: 2.0 | O8: .853 | P8: 0.5 | Q8: 1.8 | R8: 2.2 | S8: 6.4 | T8: 1.6 | U8: 0.0 | V8: 3.2 | W8: 1.8
A9: 8 | B9: Thomas Prost | C9: UBCM | D9: 20 | E9: 19.3 | F9: 6.7 | G9: 2.1 | H9: 5.9 | I9: .359 | J9: 1.5 | K9: 4.4 | L9: .333 | M9: 1.1 | N9: 1.4 | O9: .750 | P9: 0.2 | Q9: 1.0 | R9: 1.2 | S9: 2.6 | T9: 1.1 | U9: 0.0 | V9: 1.6 | W9: 2.2
A10: 9 | B10: Ahmed Doumbia | C10: UBCM | D10: 8 | E10: 25.3 | F10: 6.6 | G10: 1.9 | H10: 5.3 | I10: .357 | J10: 1.3 | K10: 3.5 | L10: .357 | M10: 1.6 | N10: 2.1 | O10: .765 | P10: 0.1 | Q10: 3.3 | R10: 3.4 | S10: 5.8 | T10: 0.8 | U10: 0.0 | V10: 2.4 | W10: 1.8
A11: 10 | B11: Florian Fortas | C11: UBCM | D11: 20 | E11: 19.6 | F11: 6.6 | G11: 2.2 | H11: 6.1 | I11: .361 | J11: 0.8 | K11: 2.6 | L11: .288 | M11: 1.4 | N11: 2.2 | O11: .636 | P11: 0.5 | Q11: 1.4 | R11: 1.9 | S11: 2.0 | T11: 1.2 | U11: 0.1 | V11: 1.7 | W11: 2.1
A12: 11 | B12: Valentin Mukuna | C12: UBCM | D12: 20 | E12: 13.9 | F12: 5.8 | G12: 2.5 | H12: 3.8 | I12: .667 | J12: 0.0 | K12: 0.0 | L12: .000 | M12: 0.8 | N12: 1.2 | O12: .652 | P12: 0.9 | Q12: 2.2 | R12: 3.1 | S12: 0.7 | T12: 0.5 | U12: 0.2 | V12: 1.0 | W12: 2.6
A13: 12 | B13: Baptiste Tackamoud | C13: UBCM | D13: 16 | E13: 9.6 | F13: 3.8 | G13: 1.4 | H13: 3.5 | I13: .393 | J13: 0.6 | K13: 2.0 | L13: .281 | M13: 0.5 | N13: 0.6 | O13: .889 | P13: 0.3 | Q13: 0.9 | R13: 1.3 | S13: 0.8 | T13: 0.3 | U13: 0.0 | V13: 0.8 | W13: 1.5
... A15: 14 | B15: Bourgari Sangare | C15: UBCM | D15: 2 | E15: 1.8 | F15: 1.0 | G15: 0.5 | H15: 0.5 | I15: 1.000 | J15: 0.0 | K15: 0.0 | L15: .000 | M15: 0.0 | N15: 0.0 | O15: .000 | P15: 0.0 | Q15: 0.5 | R15: 0.5 | S15: 0.0 | T15: 0.0 | U15: 0.0 | V15: 0.0 | W15: 0.0
A17: Totals | B17: GP | C17: MPG | D17: PPG | E17: FGM | F17: FGA | G17: FG% | H17: 3PM | I17: 3PA | J17: 3P% | K17: FTM | L17: FTA | M17: FT% | N17: ORB | O17: DRB | P17: TRB | Q17: APG | R17: SPG | S17: BPG | T17: TOV | U17: PF
A18: Team Totals | B18: 20 | C18: 40.1 | D18: 78.5 | E18: 28.7 | F18: 61.6 | G18: .466 | H18: 6.9 | I18: 21.4 | J18: .321 | K18: 14.3 | L18: 20.2 | M18: .707 | N18: 10.6 | O18: 27.5 | P18: 38.1 | Q18: 19.9 | R18: 8.6 | S18: 2.7 | T18: 17.3 | U18: 21.5
A19: Team Starters | B19: 20 | C19: 21.9 | D19: 42.3 | E19: 15.4 | F19: 33.3 | G19: .463 | H19: 2.9 | I19: 9.7 | J19: .299 | K19: 8.6 | L19: 12.0 | M19: .713 | N19: 5.1 | O19: 14.3 | P19: 19.3 | Q19: 13.0 | R19: 4.8 | S19: 1.3 | T19: 9.5 | U19: 11.3
A20: Team Bench | B20: 20 | C20: 17.4 | D20: 36.3 | E20: 13.3 | F20: 28.4 | G20: .469 | H20: 4.0 | I20: 11.7 | J20: .339 | K20: 5.7 | L20: 8.2 | M20: .699 | N20: 4.1 | O20: 11.8 | P20: 15.9 | Q20: 6.9 | R20: 3.9 | S20: 1.4 | T20: 7.3 | U20: 10.2
A21: Opponent Totals | B21: 20 | C21: 40.2 | D21: 73.3 | E21: 24.9 | F21: 59.9 | G21: .415 | H21: 8.3 | I21: 25.2 | J21: .327 | K21: 15.3 | L21: 22.3 | M21: .688 | N21: 10.6 | O21: 24.1 | P21: 34.7 | Q21: 18.1 | R21: 7.8 | S21: 1.6 | T21: 17.9 | U21: 20.5
A22: Opponent Starters | B22: 20 | C22: 24.5 | D22: 47.1 | E22: 16.0 | F22: 38.0 | G22: .422 | H22: 5.4 | I22: 16.0 | J22: .339 | K22: 9.7 | L22: 14.0 | M22: .693 | N22: 5.1 | O22: 13.9 | P22: 18.9 | Q22: 12.4 | R22: 4.6 | S22: 0.9 | T22: 10.5 | U22: 12.2
A23: Opponent Bench | B23: 20 | C23: 14.8 | D23: 26.2 | E23: 8.9 | F23: 21.9 | G23: .404 | H23: 2.9 | I23: 9.3 | J23: .308 | K23: 5.6 | L23: 8.3 | M23: .679 | N23: 3.5 | O23: 8.0 | P23: 11.5 | Q23: 5.7 | R23: 3.3 | S23: 0.7 | T23: 6.8 | U23: 8.3
A25: v. Team | B25: GP | C25: MPG | D25: PPG | E25: FGM | F25: FGA | G25: FG% | H25: 3PM | I25: 3PA | J25: 3P% | K25: FTM | L25: FTA | M25: FT% | N25: ORB | O25: DRB | P25: TRB | Q25: APG | R25: SPG | S25: BPG | T25: TOV | U25: PF
A26: v. AS Loon Plage Basket | B26: 2 | C26: 39.5 | D26: 81.5 | E26: 29.0 | F26: 55.0 | G26: .527 | H26: 6.0 | I26: 18.5 | J26: .324 | K26: 17.5 | L26: 24.5 | M26: .714 | N26: 7.0 | O26: 22.5 | P26: 29.5 | Q26: 19.5 | R26: 10.0 | S26: 4.5 | T26: 20.0 | U26: 21.0
A27: v. Aurore de Vitre | B27: 2 | C27: 42.5 | D27: 78.0 | E27: 25.5 | F27: 57.0 | G27: .447 | H27: 10.5 | I27: 32.0 | J27: .328 | K27: 16.5 | L27: 24.5 | M27: .673 | N27: 9.5 | O27: 29.0 | P27: 38.5 | Q27: 21.0 | R27: 7.0 | S27: 2.0 | T27: 19.5 | U27: 24.5
A28: v. Berck/Rang Du Fliers | B28: 1 | C28: 40.0 | D28: 63.0 | E28: 22.0 | F28: 60.0 | G28: .367 | H28: 4.0 | I28: 26.0 | J28: .154 | K28: 15.0 | L28: 20.0 | M28: .750 | N28: 12.0 | O28: 23.0 | P28: 35.0 | Q28: 18.0 | R28: 6.0 | S28: 2.0 | T28: 15.0 | U28: 25.0
A29: v. CEP Lorient | B29: 2 | C29: 40.0 | D29: 88.5 | E29: 29.5 | F29: 57.0 | G29: .518 | H29: 9.0 | I29: 18.0 | J29: .500 | K29: 20.5 | L29: 26.5 | M29: .774 | N29: 6.5 | O29: 22.5 | P29: 29.0 | Q29: 23.0 | R29: 7.5 | S29: 1.5 | T29: 17.0 | U29: 23.0
A30: v. Les Sables Vendee Basket | B30: 1 | C30: 39.0 | D30: 89.0 | E30: 33.0 | F30: 62.0 | G30: .532 | H30: 6.0 | I30: 17.0 | J30: .353 | K30: 17.0 | L30: 27.0 | M30: .630 | N30: 8.0 | O30: 24.0 | P30: 32.0 | Q30: 20.0 | R30: 8.0 | S30: 0.0 | T30: 15.0 | U30: 26.0
A31: v. Poissy Basket | B31: 1 | C31: 40.0 | D31: 79.0 | E31: 27.0 | F31: 61.0 | G31: .443 | H31: 5.0 | I31: 16.0 | J31: .313 | K31: 20.0 | L31: 27.0 | M31: .741 | N31: 9.0 | O31: 19.0 | P31: 28.0 | Q31: 17.0 | R31: 13.0 | S31: 3.0 | T31: 20.0 | U31: 22.0
A32: v. Quimper | B32: 2 | C32: 40.0 | D32: 61.0 | E32: 22.0 | F32: 62.0 | G32: .355 | H32: 5.0 | I32: 24.0 | J32: .208 | K32: 12.0 | L32: 16.0 | M32: .750 | N32: 10.5 | O32: 29.5 | P32: 40.0 | Q32: 18.5 | R32: 8.0 | S32: 2.0 | T32: 17.0 | U32: 19.0
A33: v. Rueil Athletic Club | B33: 2 | C33: 40.0 | D33: 84.0 | E33: 30.0 | F33: 63.0 | G33: .476 | H33: 6.0 | I33: 18.5 | J33: .324 | K33: 18.0 | L33: 27.0 | M33: .667 | N33: 11.0 | O33: 30.5 | P33: 41.5 | Q33: 19.5 | R33: 7.0 | S33: 6.0 | T33: 18.0 | U33: 21.5
A34: v. Toulouse Basket Club | B34: 1 | C34: 40.0 | D34: 80.0 | E34: 30.0 | F34: 58.0 | G34: .517 | H34: 11.0 | I34: 22.0 | J34: .500 | K34: 9.0 | L34: 10.0 | M34: .900 | N34: 12.0 | O34: 34.0 | P34: 46.0 | Q34: 26.0 | R34: 5.0 | S34: 0.0 | T34: 28.0 | U34: 20.0
A35: v. Union Rennes Basket | B35: 2 | C35: 40.0 | D35: 84.0 | E35: 31.5 | F35: 62.5 | G35: .504 | H35: 8.5 | I35: 20.5 | J35: .415 | K35: 12.5 | L35: 18.5 | M35: .676 | N35: 5.5 | O35: 24.0 | P35: 29.5 | Q35: 20.5 | R35: 12.0 | S35: 2.5 | T35: 20.5 | U35: 18.5
A36: v. Union Tarbes Lourdes Pyrennes Basket | B36: 2 | C36: 39.5 | D36: 65.0 | E36: 25.5 | F36: 66.5 | G36: .383 | H36: 5.0 | I36: 25.0 | J36: .200 | K36: 9.0 | L36: 13.5 | M36: .667 | N36: 13.0 | O36: 28.5 | P36: 41.5 | Q36: 18.0 | R36: 10.0 | S36: 3.0 | T36: 15.0 | U36: 18.5
A37: v. Union Tours Metropole Basket | B37: 1 | C37: 40.0 | D37: 91.0 | E37: 39.0 | F37: 73.0 | G37: .534 | H37: 5.0 | I37: 13.0 | J37: .385 | K37: 8.0 | L37: 12.0 | M37: .667 | N37: 6.0 | O37: 27.0 | P37: 33.0 | Q37: 22.0 | R37: 7.0 | S37: 3.0 | T37: 9.0 | U37: 24.0
A38: v. Vendee Challans Basket | B38: 1 | C38: 40.0 | D38: 84.0 | E38: 37.0 | F38: 72.0 | G38: .514 | H38: 6.0 | I38: 20.0 | J38: .300 | K38: 4.0 | L38: 6.0 | M38: .667 | N38: 10.0 | O38: 21.0 | P38: 31.0 | Q38: 14.0 | R38: 10.0 | S38: 3.0 | T38: 16.0 | U38: 20.0

Sheet Les Sables
A1: # | B1: Player | C1: Team | D1: GP | E1: MPG | F1: PPG | G1: FGM | H1: FGA | I1: FG% | J1: 3PM | K1: 3PA | L1: 3P% | M1: FTM | N1: FTA | O1: FT% | P1: ORB | Q1: DRB | R1: RPG | S1: APG | T1: SPG | U1: BPG | V1: TOV | W1: PF
A2: 1 | B2: Jean-Michel Mipoka | C2: SABL | D2: 15 | E2: 28.2 | F2: 18.7 | G2: 6.7 | H2: 13.8 | I2: .483 | J2: 1.8 | K2: 4.9 | L2: .370 | M2: 3.6 | N2: 4.5 | O2: .794 | P2: 0.7 | Q2: 4.1 | R2: 4.8 | S2: 1.3 | T2: 0.9 | U2: 0.3 | V2: 2.4 | W2: 2.6
A3: 2 | B3: Quatarrius Wilson | C3: SABL | D3: 7 | E3: 29.6 | F3: 17.6 | G3: 6.4 | H3: 11.3 | I3: .570 | J3: 0.3 | K3: 1.4 | L3: .200 | M3: 4.4 | N3: 6.6 | O3: .674 | P3: 3.1 | Q3: 5.9 | R3: 9.0 | S3: 1.1 | T3: 0.7 | U3: 0.4 | V3: 3.3 | W3: 3.3
A4: 3 | B4: Gregory Lessort | C4: SABL | D4: 11 | E4: 23.6 | F4: 12.1 | G4: 4.9 | H4: 7.6 | I4: .643 | J4: 0.2 | K4: 0.5 | L4: .333 | M4: 2.1 | N4: 2.7 | O4: .767 | P4: 2.1 | Q4: 2.6 | R4: 4.7 | S4: 1.6 | T4: 1.2 | U4: 0.2 | V4: 1.6 | W4: 2.7
A5: 4 | B5: Rob Ukawuba | C5: SABL | D5: 13 | E5: 26.0 | F5: 12.0 | G5: 3.8 | H5: 9.0 | I5: .419 | J5: 1.1 | K5: 3.3 | L5: .326 | M5: 3.4 | N5: 4.4 | O5: .772 | P5: 1.1 | Q5: 2.2 | R5: 3.3 | S5: 3.0 | T5: 1.2 | U5: 0.0 | V5: 3.8 | W5: 2.5
A6: 5 | B6: Frederic Loubaki | C6: SABL | D6: 11 | E6: 24.2 | F6: 10.3 | G6: 2.3 | H6: 6.4 | I6: .357 | J6: 0.6 | K6: 2.6 | L6: .241 | M6: 5.1 | N6: 6.6 | O6: .767 | P6: 0.4 | Q6: 2.5 | R6: 2.9 | S6: 5.3 | T6: 1.5 | U6: 0.1 | V6: 2.8 | W6: 2.9
A7: 6 | B7: Louis Prolhac | C7: SABL | D7: 20 | E7: 30.2 | F7: 9.4 | G7: 2.8 | H7: 6.6 | I7: .417 | J7: 1.9 | K7: 4.9 | L7: .378 | M7: 2.0 | N7: 2.5 | O7: .816 | P7: 0.6 | Q7: 2.4 | R7: 2.9 | S7: 4.9 | T7: 1.6 | U7: 0.1 | V7: 2.2 | W7: 2.6
A8: 7 | B8: Fran Matip | C8: SABL | D8: 9 | E8: 27.6 | F8: 9.2 | G8: 3.7 | H8: 8.4 | I8: .434 | J8: 1.3 | K8: 3.2 | L8: .414 | M8: 0.6 | N8: 1.2 | O8: .455 | P8: 2.7 | Q8: 3.3 | R8: 6.0 | S8: 1.1 | T8: 0.8 | U8: 0.6 | V8: 2.3 | W8: 3.1
A9: 8 | B9: Thibault Alexis | C9: SABL | D9: 20 | E9: 23.0 | F9: 5.9 | G9: 2.1 | H9: 5.1 | I9: .402 | J9: 1.1 | K9: 3.1 | L9: .361 | M9: 0.7 | N9: 1.1 | O9: .636 | P9: 0.4 | Q9: 2.7 | R9: 3.1 | S9: 1.7 | T9: 0.6 | U9: 0.1 | V9: 1.6 | W9: 2.6
A10: 9 | B10: Thomas Klein | C10: SABL | D10: 17 | E10: 20.3 | F10: 5.8 | G10: 2.5 | H10: 4.6 | I10: .532 | J10: 0.2 | K10: 0.8 | L10: .214 | M10: 0.7 | N10: 1.2 | O10: .600 | P10: 1.3 | Q10: 1.9 | R10: 3.2 | S10: 1.5 | T10: 0.9 | U10: 0.2 | V10: 1.4 | W10: 2.5
A11: 10 | B11: Jalen Warren | C11: SABL | D11: 4 | E11: 14.0 | F11: 5.0 | G11: 1.5 | H11: 5.3 | I11: .286 | J11: 0.3 | K11: 2.0 | L11: .125 | M11: 1.8 | N11: 3.0 | O11: .583 | P11: 0.3 | Q11: 1.5 | R11: 1.8 | S11: 2.8 | T11: 1.0 | U11: 0.0 | V11: 1.8 | W11: 2.5
A12: 11 | B12: Joris Bado | C12: SABL | D12: 18 | E12: 15.9 | F12: 4.6 | G12: 1.6 | H12: 5.1 | I12: .315 | J12: 0.9 | K12: 3.7 | L12: .242 | M12: 0.5 | N12: 0.8 | O12: .643 | P12: 0.5 | Q12: 1.2 | R12: 1.7 | S12: 0.8 | T12: 0.2 | U12: 0.1 | V12: 1.1 | W12: 1.4
A13: 12 | B13: Christopher Manerlax | C13: SABL | D13: 16 | E13: 15.3 | F13: 4.6 | G13: 1.6 | H13: 2.3 | I13: .694 | J13: 0.0 | K13: 0.0 | L13: .000 | M13: 1.4 | N13: 3.0 | O13: .479 | P13: 0.8 | Q13: 2.9 | R13: 3.7 | S13: 0.6 | T13: 0.3 | U13: 1.0 | V13: 1.3 | W13: 1.7
... A17: 16 | B17: Leo Dujardin | C17: SABL | D17: 7 | E17: 7.9 | F17: 0.7 | G17: 0.3 | H17: 1.0 | I17: .286 | J17: 0.1 | K17: 0.6 | L17: .250 | M17: 0.0 | N17: 0.0 | O17: .000 | P17: 0.1 | Q17: 1.0 | R17: 1.1 | S17: 0.6 | T17: 0.7 | U17: 0.0 | V17: 0.6 | W17: 1.3
A19: Totals | B19: GP | C19: MPG | D19: PPG | E19: FGM | F19: FGA | G19: FG% | H19: 3PM | I19: 3PA | J19: 3P% | K19: FTM | L19: FTA | M19: FT% | N19: ORB | O19: DRB | P19: TRB | Q19: APG | R19: SPG | S19: BPG | T19: TOV | U19: PF
A20: Team Totals | B20: 20 | C20: 40.1 | D20: 77.1 | E20: 26.3 | F20: 57.0 | G20: .461 | H20: 7.5 | I20: 22.7 | J20: .328 | K20: 17.1 | L20: 24.3 | M20: .703 | N20: 10.2 | O20: 24.5 | P20: 34.8 | Q20: 18.4 | R20: 7.9 | S20: 2.0 | T20: 19.0 | U20: 22.1
A21: Team Starters | B21: 20 | C21: 25.7 | D21: 53.8 | E21: 18.4 | F21: 40.1 | G21: .458 | H21: 5.8 | I21: 16.6 | J21: .346 | K21: 11.3 | L21: 15.8 | M21: .717 | N21: 5.6 | O21: 13.9 | P21: 19.5 | Q21: 12.2 | R21: 5.0 | S21: 1.3 | T21: 11.6 | U21: 13.2
A22: Team Bench | B22: 20 | C22: 13.6 | D22: 23.4 | E22: 8.0 | F22: 16.9 | G22: .470 | H22: 1.7 | I22: 6.1 | J22: .279 | K22: 5.8 | L22: 8.5 | M22: .676 | N22: 3.1 | O22: 9.0 | P22: 12.1 | Q22: 6.2 | R22: 2.9 | S22: 0.7 | T22: 6.3 | U22: 9.0
A23: Opponent Totals | B23: 20 | C23: 40.0 | D23: 79.7 | E23: 27.1 | F23: 61.1 | G23: .444 | H23: 8.4 | I23: 24.6 | J23: .340 | K23: 17.1 | L23: 23.3 | M23: .734 | N23: 11.0 | O23: 23.6 | P23: 34.6 | Q23: 18.8 | R23: 9.3 | S23: 1.6 | T23: 16.3 | U23: 21.7
A24: Opponent Starters | B24: 20 | C24: 25.0 | D24: 50.7 | E24: 17.1 | F24: 38.7 | G24: .441 | H24: 5.2 | I24: 14.9 | J24: .349 | K24: 11.4 | L24: 15.3 | M24: .748 | N24: 6.1 | O24: 14.0 | P24: 20.1 | Q24: 12.2 | R24: 5.9 | S24: 1.1 | T24: 9.6 | U24: 12.7
A25: Opponent Bench | B25: 20 | C25: 14.2 | D25: 29.0 | E25: 10.1 | F25: 22.4 | G25: .449 | H25: 3.2 | I25: 9.7 | J25: .326 | K25: 5.7 | L25: 8.1 | M25: .708 | N25: 3.4 | O25: 8.0 | P25: 11.3 | Q25: 6.6 | R25: 3.5 | S25: 0.5 | T25: 5.7 | U25: 9.0
A27: v. Team | B27: GP | C27: MPG | D27: PPG | E27: FGM | F27: FGA | G27: FG% | H27: 3PM | I27: 3PA | J27: 3P% | K27: FTM | L27: FTA | M27: FT% | N27: ORB | O27: DRB | P27: TRB | Q27: APG | R27: SPG | S27: BPG | T27: TOV | U27: PF
A28: v. AS Loon Plage Basket | B28: 2 | C28: 40.0 | D28: 76.0 | E28: 25.0 | F28: 52.5 | G28: .476 | H28: 7.0 | I28: 23.5 | J28: .298 | K28: 19.0 | L28: 25.0 | M28: .760 | N28: 5.0 | O28: 29.0 | P28: 34.0 | Q28: 20.0 | R28: 10.0 | S28: 5.5 | T28: 20.0 | U28: 16.5
A29: v. Aurore de Vitre | B29: 2 | C29: 40.0 | D29: 62.0 | E29: 21.0 | F29: 52.5 | G29: .400 | H29: 7.0 | I29: 23.5 | J29: .298 | K29: 13.0 | L29: 18.0 | M29: .722 | N29: 10.5 | O29: 22.5 | P29: 33.0 | Q29: 13.0 | R29: 3.5 | S29: 1.0 | T29: 20.5 | U29: 19.5
A30: v. Berck/Rang Du Fliers | B30: 1 | C30: 40.0 | D30: 36.0 | E30: 12.0 | F30: 45.0 | G30: .267 | H30: 5.0 | I30: 21.0 | J30: .238 | K30: 7.0 | L30: 9.0 | M30: .778 | N30: 4.0 | O30: 20.0 | P30: 24.0 | Q30: 8.0 | R30: 6.0 | S30: 1.0 | T30: 31.0 | U30: 21.0
A31: v. CEP Lorient | B31: 2 | C31: 39.5 | D31: 97.0 | E31: 35.5 | F31: 62.0 | G31: .573 | H31: 9.5 | I31: 22.0 | J31: .432 | K31: 16.5 | L31: 27.0 | M31: .611 | N31: 8.5 | O31: 26.0 | P31: 34.5 | Q31: 23.0 | R31: 8.5 | S31: 3.0 | T31: 13.5 | U31: 20.5
A32: v. Poissy Basket | B32: 2 | C32: 40.0 | D32: 82.0 | E32: 27.5 | F32: 60.5 | G32: .455 | H32: 9.0 | I32: 29.5 | J32: .305 | K32: 18.0 | L32: 23.5 | M32: .766 | N32: 10.5 | O32: 18.5 | P32: 29.0 | Q32: 22.5 | R32: 11.5 | S32: 2.0 | T32: 19.5 | U32: 25.0
A33: v. Quimper | B33: 1 | C33: 39.0 | D33: 70.0 | E33: 25.0 | F33: 63.0 | G33: .397 | H33: 9.0 | I33: 26.0 | J33: .346 | K33: 11.0 | L33: 15.0 | M33: .733 | N33: 12.0 | O33: 20.0 | P33: 32.0 | Q33: 18.0 | R33: 9.0 | S33: 1.0 | T33: 18.0 | U33: 20.0
A34: v. Rueil Athletic Club | B34: 1 | C34: 40.0 | D34: 83.0 | E34: 28.0 | F34: 55.0 | G34: .509 | H34: 4.0 | I34: 14.0 | J34: .286 | K34: 23.0 | L34: 33.0 | M34: .697 | N34: 9.0 | O34: 25.0 | P34: 34.0 | Q34: 17.0 | R34: 4.0 | S34: 1.0 | T34: 19.0 | U34: 22.0
A35: v. Toulouse Basket Club | B35: 2 | C35: 40.0 | D35: 74.0 | E35: 24.5 | F35: 52.5 | G35: .467 | H35: 7.5 | I35: 22.0 | J35: .341 | K35: 17.5 | L35: 24.5 | M35: .714 | N35: 8.5 | O35: 21.0 | P35: 29.5 | Q35: 15.0 | R35: 8.0 | S35: 0.5 | T35: 19.5 | U35: 25.5
A36: v. Union Basket Chartres Masculin | B36: 1 | C36: 39.0 | D36: 86.0 | E36: 28.0 | F36: 58.0 | G36: .483 | H36: 9.0 | I36: 22.0 | J36: .409 | K36: 21.0 | L36: 32.0 | M36: .656 | N36: 7.0 | O36: 21.0 | P36: 28.0 | Q36: 24.0 | R36: 7.0 | S36: 2.0 | T36: 21.0 | U36: 24.0
A37: v. Union Rennes Basket | B37: 2 | C37: 39.5 | D37: 76.0 | E37: 24.0 | F37: 59.0 | G37: .407 | H37: 5.5 | I37: 19.5 | J37: .282 | K37: 22.5 | L37: 34.5 | M37: .652 | N37: 10.5 | O37: 25.5 | P37: 36.0 | Q37: 16.5 | R37: 12.0 | S37: 1.5 | T37: 18.5 | U37: 18.0
A38: v. Union Tarbes Lourdes Pyrennes Basket | B38: 1 | C38: 40.0 | D38: 73.0 | E38: 26.0 | F38: 55.0 | G38: .473 | H38: 3.0 | I38: 19.0 | J38: .158 | K38: 18.0 | L38: 22.0 | M38: .818 | N38: 11.0 | O38: 24.0 | P38: 35.0 | Q38: 15.0 | R38: 9.0 | S38: 3.0 | T38: 17.0 | U38: 22.0
A39: v. Union Tours Metropole Basket | B39: 2 | C39: 40.0 | D39: 82.5 | E39: 29.0 | F39: 64.0 | G39: .453 | H39: 8.0 | I39: 25.0 | J39: .320 | K39: 16.5 | L39: 23.0 | M39: .717 | N39: 9.5 | O39: 18.5 | P39: 28.0 | Q39: 21.0 | R39: 6.5 | S39: 0.5 | T39: 15.0 | U39: 27.0
A40: v. Vendee Challans Basket | B40: 1 | C40: 45.0 | D40: 95.0 | E40: 34.0 | F40: 58.0 | G40: .586 | H40: 12.0 | I40: 22.0 | J40: .545 | K40: 15.0 | L40: 23.0 | M40: .652 | N40: 4.0 | O40: 25.0 | P40: 29.0 | Q40: 23.0 | R40: 2.0 | S40: 3.0 | T40: 20.0 | U40: 29.0

Sheet Loon
A1: # | B1: Player | C1: Team | D1: GP | E1: MPG | F1: PPG | G1: FGM | H1: FGA | I1: FG% | J1: 3PM | K1: 3PA | L1: 3P% | M1: FTM | N1: FTA | O1: FT% | P1: ORB | Q1: DRB | R1: RPG | S1: APG | T1: SPG | U1: BPG | V1: TOV | W1: PF
A2: 1 | B2: Jordan Robertson | C2: LOON | D2: 19 | E2: 25.1 | F2: 13.6 | G2: 4.6 | H2: 10.3 | I2: .451 | J2: 1.2 | K2: 3.5 | L2: .348 | M2: 3.1 | N2: 4.1 | O2: .766 | P2: 0.5 | Q2: 1.6 | R2: 2.1 | S2: 1.8 | T2: 0.9 | U2: 0.1 | V2: 2.4 | W2: 1.8
A3: 2 | B3: Theo Rey | C3: LOON | D3: 19 | E3: 22.8 | F3: 11.1 | G3: 3.7 | H3: 10.1 | I3: .370 | J3: 1.5 | K3: 5.2 | L3: .283 | M3: 2.1 | N3: 2.6 | O3: .800 | P3: 0.5 | Q3: 3.2 | R3: 3.7 | S3: 2.4 | T3: 1.2 | U3: 0.0 | V3: 1.8 | W3: 1.9
A4: 3 | B4: Paul-Lou Duwiquet | C4: LOON | D4: 16 | E4: 27.8 | F4: 10.9 | G4: 3.6 | H4: 8.3 | I4: .436 | J4: 1.6 | K4: 4.3 | L4: .362 | M4: 2.1 | N4: 2.8 | O4: .750 | P4: 0.1 | Q4: 2.1 | R4: 2.3 | S4: 3.6 | T4: 0.9 | U4: 0.0 | V4: 3.1 | W4: 2.6
A5: 4 | B5: Mohamad Diop | C5: LOON | D5: 6 | E5: 24.3 | F5: 9.2 | G5: 4.2 | H5: 9.7 | I5: .431 | J5: 0.2 | K5: 2.2 | L5: .077 | M5: 0.7 | N5: 1.2 | O5: .571 | P5: 1.7 | Q5: 5.7 | R5: 7.3 | S5: 0.7 | T5: 1.0 | U5: 0.7 | V5: 1.2 | W5: 2.0
A6: 5 | B6: Hugo Desseignet | C6: LOON | D6: 20 | E6: 23.9 | F6: 8.3 | G6: 3.3 | H6: 7.4 | I6: .449 | J6: 0.3 | K6: 1.9 | L6: .158 | M6: 1.4 | N6: 2.6 | O6: .529 | P6: 0.6 | Q6: 2.3 | R6: 2.9 | S6: 4.9 | T6: 2.0 | U6: 0.1 | V6: 2.6 | W6: 1.9
A7: 6 | B7: Seraphin Saumont | C7: LOON | D7: 20 | E7: 26.0 | F7: 7.2 | G7: 2.6 | H7: 5.7 | I7: .451 | J7: 1.8 | K7: 4.1 | L7: .432 | M7: 0.3 | N7: 0.4 | O7: .750 | P7: 0.7 | Q7: 2.7 | R7: 3.4 | S7: 1.7 | T7: 1.3 | U7: 0.2 | V7: 1.1 | W7: 2.6
A8: 7 | B8: Clement Peinte | C8: LOON | D8: 20 | E8: 25.4 | F8: 6.1 | G8: 2.3 | H8: 4.5 | I8: .500 | J8: 1.5 | K8: 3.4 | L8: .433 | M8: 0.2 | N8: 0.4 | O8: .429 | P8: 0.4 | Q8: 2.9 | R8: 3.3 | S8: 1.1 | T8: 0.9 | U8: 0.2 | V8: 0.9 | W8: 2.4
A9: 8 | B9: Sarra Camara | C9: LOON | D9: 10 | E9: 23.1 | F9: 5.7 | G9: 2.1 | H9: 4.1 | I9: .512 | J9: 0.0 | K9: 0.0 | L9: .000 | M9: 1.5 | N9: 2.2 | O9: .682 | P9: 2.4 | Q9: 3.8 | R9: 6.2 | S9: 1.3 | T9: 0.5 | U9: 0.3 | V9: 2.5 | W9: 2.2
A10: 9 | B10: Mouhamed Thiam | C10: LOON | D10: 17 | E10: 12.3 | F10: 5.4 | G10: 2.4 | H10: 3.5 | I10: .678 | J10: 0.0 | K10: 0.0 | L10: .000 | M10: 0.6 | N10: 1.5 | O10: .440 | P10: 0.9 | Q10: 2.0 | R10: 2.9 | S10: 0.3 | T10: 0.4 | U10: 0.6 | V10: 1.1 | W10: 2.6
A11: 10 | B11: Fodie Cissoko | C11: LOON | D11: 17 | E11: 19.7 | F11: 5.2 | G11: 2.1 | H11: 4.3 | I11: .493 | J11: 0.2 | K11: 0.5 | L11: .333 | M11: 0.8 | N11: 1.3 | O11: .591 | P11: 1.5 | Q11: 2.8 | R11: 4.3 | S11: 0.9 | T11: 0.8 | U11: 0.2 | V11: 1.2 | W11: 2.6
A12: 11 | B12: Cheikh Diallo | C12: LOON | D12: 3 | E12: 12.1 | F12: 3.3 | G12: 0.7 | H12: 3.7 | I12: .182 | J12: 0.3 | K12: 2.0 | L12: .167 | M12: 1.7 | N12: 2.7 | O12: .625 | P12: 0.3 | Q12: 1.3 | R12: 1.7 | S12: 0.3 | T12: 0.3 | U12: 0.0 | V12: 1.0 | W12: 0.7
A13: 12 | B13: Ibrahim Dansoko | C13: LOON | D13: 13 | E13: 10.6 | F13: 2.9 | G13: 1.4 | H13: 3.1 | I13: .450 | J13: 0.0 | K13: 0.1 | L13: .000 | M13: 0.2 | N13: 0.2 | O13: 1.000 | P13: 1.0 | Q13: 1.2 | R13: 2.2 | S13: 0.3 | T13: 0.2 | U13: 0.0 | V13: 1.2 | W13: 2.1
A14: 13 | B14: Willan Hairabetian | C14: LOON | D14: 5 | E14: 8.7 | F14: 2.2 | G14: 0.8 | H14: 2.4 | I14: .333 | J14: 0.4 | K14: 1.4 | L14: .286 | M14: 0.2 | N14: 0.6 | O14: .333 | P14: 0.0 | Q14: 0.2 | R14: 0.2 | S14: 0.0 | T14: 0.2 | U14: 0.0 | V14: 0.8 | W14: 1.0
A16: Totals | B16: GP | C16: MPG | D16: PPG | E16: FGM | F16: FGA | G16: FG% | H16: 3PM | I16: 3PA | J16: 3P% | K16: FTM | L16: FTA | M16: FT% | N16: ORB | O16: DRB | P16: TRB | Q16: APG | R16: SPG | S16: BPG | T16: TOV | U16: PF
A17: Team Totals | B17: 20 | C17: 39.9 | D17: 71.1 | E17: 26.3 | F17: 58.2 | G17: .451 | H17: 7.7 | I17: 22.8 | J17: .336 | K17: 11.0 | L17: 16.3 | M17: .672 | N17: 8.6 | O17: 24.3 | P17: 32.9 | Q17: 16.5 | R17: 8.7 | S17: 1.4 | T17: 16.9 | U17: 20.4
A18: Team Starters | B18: 20 | C18: 24.2 | D18: 42.2 | E18: 15.8 | F18: 34.4 | G18: .458 | H18: 4.6 | I18: 14.3 | J18: .323 | K18: 6.1 | L18: 9.1 | M18: .665 | N18: 4.5 | O18: 14.7 | P18: 19.2 | Q18: 10.4 | R18: 5.1 | S18: 0.9 | T18: 9.4 | U18: 11.8
A19: Team Bench | B19: 20 | C19: 14.9 | D19: 29.0 | E19: 10.5 | F19: 23.8 | G19: .441 | H19: 3.1 | I19: 8.6 | J19: .357 | K19: 4.9 | L19: 7.2 | M19: .681 | N19: 2.7 | O19: 8.1 | P19: 10.7 | Q19: 6.2 | R19: 3.6 | S19: 0.5 | T19: 6.3 | U19: 8.7
A20: Opponent Totals | B20: 20 | C20: 39.6 | D20: 70.0 | E20: 24.1 | F20: 55.9 | G20: .430 | H20: 6.3 | I20: 20.4 | J20: .306 | K20: 15.6 | L20: 20.6 | M20: .757 | N20: 9.2 | O20: 24.9 | P20: 34.1 | Q20: 16.6 | R20: 8.1 | S20: 2.6 | T20: 17.7 | U20: 17.7
A21: Opponent Starters | B21: 20 | C21: 25.6 | D21: 47.9 | E21: 16.6 | F21: 37.9 | G21: .439 | H21: 4.3 | I21: 13.4 | J21: .317 | K21: 10.4 | L21: 13.9 | M21: .748 | N21: 4.9 | O21: 15.2 | P21: 20.1 | Q21: 11.6 | R21: 5.6 | S21: 1.5 | T21: 10.6 | U21: 10.3
A22: Opponent Bench | B22: 20 | C22: 13.2 | D22: 22.1 | E22: 7.5 | F22: 18.1 | G22: .413 | H22: 2.0 | I22: 7.0 | J22: .286 | K22: 5.2 | L22: 6.7 | M22: .776 | N22: 2.7 | O22: 8.0 | P22: 10.7 | Q22: 5.0 | R22: 2.6 | S22: 1.1 | T22: 5.9 | U22: 7.5
A24: v. Team | B24: GP | C24: MPG | D24: PPG | E24: FGM | F24: FGA | G24: FG% | H24: 3PM | I24: 3PA | J24: 3P% | K24: FTM | L24: FTA | M24: FT% | N24: ORB | O24: DRB | P24: TRB | Q24: APG | R24: SPG | S24: BPG | T24: TOV | U24: PF
A25: v. Aurore de Vitre | B25: 2 | C25: 40.0 | D25: 65.0 | E25: 24.5 | F25: 52.5 | G25: .467 | H25: 7.5 | I25: 22.0 | J25: .341 | K25: 8.5 | L25: 12.0 | M25: .708 | N25: 7.5 | O25: 20.5 | P25: 28.0 | Q25: 17.5 | R25: 10.5 | S25: 1.0 | T25: 20.0 | U25: 17.5
A26: v. Berck/Rang Du Fliers | B26: 2 | C26: 39.5 | D26: 72.5 | E26: 29.0 | F26: 59.5 | G26: .487 | H26: 4.5 | I26: 19.5 | J26: .231 | K26: 10.0 | L26: 14.5 | M26: .690 | N26: 6.5 | O26: 24.0 | P26: 30.5 | Q26: 13.0 | R26: 9.0 | S26: 1.5 | T26: 12.5 | U26: 21.0
A27: v. CEP Lorient | B27: 1 | C27: 40.0 | D27: 79.0 | E27: 29.0 | F27: 65.0 | G27: .446 | H27: 9.0 | I27: 25.0 | J27: .360 | K27: 12.0 | L27: 14.0 | M27: .857 | N27: 10.0 | O27: 23.0 | P27: 33.0 | Q27: 19.0 | R27: 10.0 | S27: 1.0 | T27: 8.0 | U27: 20.0
A28: v. Les Sables Vendee Basket | B28: 2 | C28: 40.0 | D28: 67.5 | E28: 25.5 | F28: 62.0 | G28: .411 | H28: 8.0 | I28: 24.5 | J28: .327 | K28: 8.5 | L28: 12.0 | M28: .708 | N28: 7.5 | O28: 20.5 | P28: 28.0 | Q28: 17.5 | R28: 10.0 | S28: 2.0 | T28: 18.0 | U28: 20.0
A29: v. Poissy Basket | B29: 1 | C29: 40.0 | D29: 83.0 | E29: 33.0 | F29: 62.0 | G29: .532 | H29: 10.0 | I29: 28.0 | J29: .357 | K29: 7.0 | L29: 10.0 | M29: .700 | N29: 9.0 | O29: 29.0 | P29: 38.0 | Q29: 23.0 | R29: 6.0 | S29: 1.0 | T29: 12.0 | U29: 18.0
A30: v. Quimper | B30: 1 | C30: 40.0 | D30: 60.0 | E30: 21.0 | F30: 48.0 | G30: .438 | H30: 8.0 | I30: 17.0 | J30: .471 | K30: 10.0 | L30: 15.0 | M30: .667 | N30: 3.0 | O30: 25.0 | P30: 28.0 | Q30: 17.0 | R30: 7.0 | S30: 1.0 | T30: 15.0 | U30: 18.0
A31: v. Rueil Athletic Club | B31: 1 | C31: 40.0 | D31: 69.0 | E31: 28.0 | F31: 55.0 | G31: .509 | H31: 7.0 | I31: 23.0 | J31: .304 | K31: 6.0 | L31: 8.0 | M31: .750 | N31: 4.0 | O31: 17.0 | P31: 21.0 | Q31: 17.0 | R31: 8.0 | S31: 1.0 | T31: 18.0 | U31: 21.0
A32: v. Toulouse Basket Club | B32: 2 | C32: 40.0 | D32: 76.5 | E32: 28.5 | F32: 55.5 | G32: .514 | H32: 7.0 | I32: 20.5 | J32: .341 | K32: 12.5 | L32: 20.5 | M32: .610 | N32: 7.5 | O32: 24.0 | P32: 31.5 | Q32: 19.5 | R32: 8.0 | S32: 1.0 | T32: 15.0 | U32: 20.0
A33: v. Union Basket Chartres Masculin | B33: 2 | C33: 40.0 | D33: 69.5 | E33: 23.5 | F33: 57.5 | G33: .409 | H33: 9.0 | I33: 25.5 | J33: .353 | K33: 13.5 | L33: 19.0 | M33: .711 | N33: 8.5 | O33: 16.5 | P33: 25.0 | Q33: 12.5 | R33: 8.0 | S33: 1.0 | T33: 20.5 | U33: 24.5
A34: v. Union Rennes Basket | B34: 1 | C34: 40.0 | D34: 67.0 | E34: 23.0 | F34: 58.0 | G34: .397 | H34: 7.0 | I34: 23.0 | J34: .304 | K34: 14.0 | L34: 20.0 | M34: .700 | N34: 8.0 | O34: 35.0 | P34: 43.0 | Q34: 19.0 | R34: 8.0 | S34: 2.0 | T34: 23.0 | U34: 19.0
A35: v. Union Tarbes Lourdes Pyrennes Basket | B35: 1 | C35: 40.0 | D35: 79.0 | E35: 26.0 | F35: 55.0 | G35: .473 | H35: 9.0 | I35: 23.0 | J35: .391 | K35: 18.0 | L35: 23.0 | M35: .783 | N35: 7.0 | O35: 17.0 | P35: 24.0 | Q35: 20.0 | R35: 10.0 | S35: 3.0 | T35: 20.0 | U35: 23.0
A36: v. Union Tours Metropole Basket | B36: 2 | C36: 40.0 | D36: 73.5 | E36: 29.0 | F36: 68.0 | G36: .426 | H36: 7.0 | I36: 21.5 | J36: .326 | K36: 8.5 | L36: 16.0 | M36: .531 | N36: 7.5 | O36: 21.5 | P36: 29.0 | Q36: 13.5 | R36: 8.5 | S36: 0.0 | T36: 15.0 | U36: 20.5
A37: v. Vendee Challans Basket | B37: 2 | C37: 39.5 | D37: 68.0 | E37: 22.5 | F37: 55.5 | G37: .405 | H37: 8.5 | I37: 25.0 | J37: .340 | K37: 14.5 | L37: 24.0 | M37: .604 | N37: 6.0 | O37: 27.5 | P37: 33.5 | Q37: 14.0 | R37: 8.5 | S37: 3.0 | T37: 17.5 | U37: 21.0

Sheet Lorient
A1: # | B1: Player | C1: Team | D1: GP | E1: MPG | F1: PPG | G1: FGM | H1: FGA | I1: FG% | J1: 3PM | K1: 3PA | L1: 3P% | M1: FTM | N1: FTA | O1: FT% | P1: ORB | Q1: DRB | R1: RPG | S1: APG | T1: SPG | U1: BPG | V1: TOV | W1: PF
A2: 1 | B2: Jamar Abrams | C2: LORI | D2: 14 | E2: 28.7 | F2: 15.7 | G2: 5.1 | H2: 11.6 | I2: .442 | J2: 2.7 | K2: 6.8 | L2: .400 | M2: 2.7 | N2: 3.7 | O2: .731 | P2: 0.6 | Q2: 3.8 | R2: 4.4 | S2: 0.9 | T2: 0.9 | U2: 0.1 | V2: 1.6 | W2: 2.4
A3: 2 | B3: Hugo Suhard | C3: LORI | D3: 20 | E3: 31.0 | F3: 15.1 | G3: 4.9 | H3: 11.2 | I3: .438 | J3: 2.5 | K3: 6.3 | L3: .397 | M3: 2.8 | N3: 3.6 | O3: .764 | P3: 0.2 | Q3: 2.0 | R3: 2.2 | S3: 4.9 | T3: 1.0 | U3: 0.0 | V3: 2.4 | W3: 2.1
A4: 3 | B4: Fabio Milanese | C4: LORI | D4: 8 | E4: 21.4 | F4: 11.5 | G4: 3.8 | H4: 8.5 | I4: .441 | J4: 1.5 | K4: 4.0 | L4: .375 | M4: 2.5 | N4: 3.5 | O4: .714 | P4: 0.5 | Q4: 1.5 | R4: 2.0 | S4: 3.4 | T4: 0.9 | U4: 0.0 | V4: 1.5 | W4: 2.4
A5: 4 | B5: Pape Beye | C5: LORI | D5: 20 | E5: 21.5 | F5: 10.8 | G5: 3.9 | H5: 5.9 | I5: .667 | J5: 0.0 | K5: 0.0 | L5: .000 | M5: 3.0 | N5: 4.0 | O5: .738 | P5: 1.7 | Q5: 3.2 | R5: 4.9 | S5: 0.4 | T5: 0.3 | U5: 0.6 | V5: 2.4 | W5: 2.7
A6: 5 | B6: Kevin Mondesir | C6: LORI | D6: 17 | E6: 24.1 | F6: 10.3 | G6: 3.4 | H6: 7.6 | I6: .450 | J6: 1.3 | K6: 3.9 | L6: .328 | M6: 2.2 | N6: 2.6 | O6: .841 | P6: 1.2 | Q6: 3.4 | R6: 4.6 | S6: 1.5 | T6: 0.6 | U6: 0.2 | V6: 2.8 | W6: 3.4
A7: 6 | B7: Jordan Kevin Williams | C7: LORI | D7: 11 | E7: 22.7 | F7: 8.8 | G7: 3.4 | H7: 5.7 | I7: .587 | J7: 0.0 | K7: 0.0 | L7: .000 | M7: 2.1 | N7: 3.1 | O7: .676 | P7: 1.7 | Q7: 4.3 | R7: 6.0 | S7: 2.4 | T7: 0.5 | U7: 0.3 | V7: 2.5 | W7: 2.0
A8: 7 | B8: Matthieu Robin | C8: LORI | D8: 20 | E8: 28.7 | F8: 7.7 | G8: 2.1 | H8: 5.3 | I8: .387 | J8: 0.7 | K8: 2.2 | L8: .318 | M8: 2.9 | N8: 3.8 | O8: .750 | P8: 1.4 | Q8: 3.2 | R8: 4.5 | S8: 4.4 | T8: 0.9 | U8: 0.1 | V8: 2.8 | W8: 2.7
A9: 8 | B9: David Jean-Baptiste | C9: LORI | D9: 9 | E9: 13.9 | F9: 6.3 | G9: 2.3 | H9: 6.2 | I9: .375 | J9: 1.1 | K9: 4.3 | L9: .256 | M9: 0.6 | N9: 0.6 | O9: 1.000 | P9: 0.4 | Q9: 1.0 | R9: 1.4 | S9: 0.7 | T9: 0.7 | U9: 0.0 | V9: 1.0 | W9: 1.8
A10: 9 | B10: Quentin Hanck | C10: LORI | D10: 18 | E10: 15.0 | F10: 4.7 | G10: 1.5 | H10: 4.0 | I10: .375 | J10: 1.1 | K10: 3.0 | L10: .370 | M10: 0.6 | N10: 0.7 | O10: .833 | P10: 0.4 | Q10: 1.3 | R10: 1.7 | S10: 0.7 | T10: 0.2 | U10: 0.2 | V10: 0.7 | W10: 2.0
A11: 10 | B11: Gregory Bengaber | C11: LORI | D11: 7 | E11: 16.5 | F11: 4.4 | G11: 1.4 | H11: 3.1 | I11: .455 | J11: 0.1 | K11: 1.0 | L11: .143 | M11: 1.4 | N11: 2.7 | O11: .526 | P11: 0.6 | Q11: 1.3 | R11: 1.9 | S11: 2.3 | T11: 1.3 | U11: 0.0 | V11: 1.6 | W11: 3.3
A12: 11 | B12: Abdoulaye Sy | C12: LORI | D12: 13 | E12: 19.1 | F12: 3.9 | G12: 1.2 | H12: 3.2 | I12: .381 | J12: 0.3 | K12: 1.4 | L12: .222 | M12: 1.2 | N12: 1.5 | O12: .789 | P12: 0.5 | Q12: 3.3 | R12: 3.8 | S12: 1.8 | T12: 0.5 | U12: 0.1 | V12: 1.7 | W12: 2.5
A13: 12 | B13: Ousmane Gueye | C13: LORI | D13: 20 | E13: 11.7 | F13: 2.5 | G13: 0.9 | H13: 2.5 | I13: .367 | J13: 0.4 | K13: 1.3 | L13: .320 | M13: 0.3 | N13: 0.4 | O13: .714 | P13: 0.6 | Q13: 1.1 | R13: 1.6 | S13: 0.4 | T13: 0.3 | U13: 0.0 | V13: 0.8 | W13: 1.7
... A15: 14 | B15: Claudien Eliezer-Vanerot | C15: LORI | D15: 12 | E15: 12.0 | F15: 0.8 | G15: 0.4 | H15: 1.8 | I15: .238 | J15: 0.0 | K15: 0.2 | L15: .000 | M15: 0.0 | N15: 0.0 | O15: .000 | P15: 0.3 | Q15: 1.5 | R15: 1.8 | S15: 2.0 | T15: 0.6 | U15: 0.3 | V15: 1.2 | W15: 2.2
A17: Totals | B17: GP | C17: MPG | D17: PPG | E17: FGM | F17: FGA | G17: FG% | H17: 3PM | I17: 3PA | J17: 3P% | K17: FTM | L17: FTA | M17: FT% | N17: ORB | O17: DRB | P17: TRB | Q17: APG | R17: SPG | S17: BPG | T17: TOV | U17: PF
A18: Team Totals | B18: 20 | C18: 40.1 | D18: 77.0 | E18: 25.7 | F18: 56.8 | G18: .452 | H18: 9.0 | I18: 25.5 | J18: .351 | K18: 16.7 | L18: 22.4 | M18: .746 | N18: 9.3 | O18: 24.7 | P18: 34.0 | Q18: 18.7 | R18: 5.7 | S18: 1.4 | T18: 18.6 | U18: 22.6
A19: Team Starters | B19: 20 | C19: 23.2 | D19: 49.3 | E19: 16.6 | F19: 35.3 | G19: .470 | H19: 5.9 | I19: 16.1 | J19: .364 | K19: 10.3 | L19: 13.3 | M19: .771 | N19: 3.9 | O19: 13.6 | P19: 17.5 | Q19: 11.3 | R19: 3.2 | S19: 1.0 | T19: 10.3 | U19: 13.1
A20: Team Bench | B20: 20 | C20: 16.0 | D20: 27.7 | E20: 9.1 | F20: 21.5 | G20: .421 | H20: 3.1 | I20: 9.5 | J20: .328 | K20: 6.5 | L20: 9.1 | M20: .709 | N20: 3.9 | O20: 9.5 | P20: 13.3 | Q20: 7.4 | R20: 2.5 | S20: 0.4 | T20: 6.9 | U20: 9.5
A21: Opponent Totals | B21: 20 | C21: 40.1 | D21: 82.5 | E21: 28.6 | F21: 61.0 | G21: .468 | H21: 7.6 | I21: 21.8 | J21: .347 | K21: 17.9 | L21: 24.5 | M21: .730 | N21: 9.7 | O21: 24.0 | P21: 33.7 | Q21: 18.4 | R21: 7.8 | S21: 1.4 | T21: 14.6 | U21: 22.0
A22: Opponent Starters | B22: 20 | C22: 23.7 | D22: 51.3 | E22: 17.7 | F22: 38.2 | G22: .463 | H22: 4.6 | I22: 12.9 | J22: .357 | K22: 11.3 | L22: 15.4 | M22: .731 | N22: 4.6 | O22: 13.3 | P22: 17.8 | Q22: 11.4 | R22: 4.5 | S22: 0.8 | T22: 8.0 | U22: 13.3
A23: Opponent Bench | B23: 20 | C23: 15.6 | D23: 31.3 | E23: 10.9 | F23: 22.8 | G23: .476 | H23: 3.0 | I23: 8.9 | J23: .333 | K23: 6.6 | L23: 9.1 | M23: .729 | N23: 3.7 | O23: 9.3 | P23: 13.0 | Q23: 7.1 | R23: 3.3 | S23: 0.6 | T23: 5.2 | U23: 8.7
A25: v. Team | B25: GP | C25: MPG | D25: PPG | E25: FGM | F25: FGA | G25: FG% | H25: 3PM | I25: 3PA | J25: 3P% | K25: FTM | L25: FTA | M25: FT% | N25: ORB | O25: DRB | P25: TRB | Q25: APG | R25: SPG | S25: BPG | T25: TOV | U25: PF
A26: v. AS Loon Plage Basket | B26: 1 | C26: 40.0 | D26: 57.0 | E26: 18.0 | F26: 50.0 | G26: .360 | H26: 10.0 | I26: 20.0 | J26: .500 | K26: 11.0 | L26: 14.0 | M26: .786 | N26: 7.0 | O26: 24.0 | P26: 31.0 | Q26: 16.0 | R26: 5.0 | S26: 3.0 | T26: 23.0 | U26: 16.0
A27: v. Aurore de Vitre | B27: 1 | C27: 40.0 | D27: 79.0 | E27: 25.0 | F27: 55.0 | G27: .455 | H27: 8.0 | I27: 28.0 | J27: .286 | K27: 21.0 | L27: 28.0 | M27: .750 | N27: 10.0 | O27: 23.0 | P27: 33.0 | Q27: 17.0 | R27: 7.0 | S27: 4.0 | T27: 14.0 | U27: 21.0
A28: v. Berck/Rang Du Fliers | B28: 2 | C28: 40.0 | D28: 75.0 | E28: 26.5 | F28: 58.0 | G28: .457 | H28: 9.0 | I28: 26.5 | J28: .340 | K28: 13.0 | L28: 22.0 | M28: .591 | N28: 8.0 | O28: 21.5 | P28: 29.5 | Q28: 18.5 | R28: 5.0 | S28: 1.5 | T28: 15.0 | U28: 22.5
A29: v. Les Sables Vendee Basket | B29: 2 | C29: 39.0 | D29: 71.0 | E29: 25.0 | F29: 63.0 | G29: .397 | H29: 7.0 | I29: 26.5 | J29: .264 | K29: 14.0 | L29: 19.5 | M29: .718 | N29: 10.0 | O29: 20.5 | P29: 30.5 | Q29: 17.0 | R29: 4.5 | S29: 0.0 | T29: 16.5 | U29: 23.0
A30: v. Poissy Basket | B30: 2 | C30: 42.5 | D30: 85.0 | E30: 26.0 | F30: 58.5 | G30: .444 | H30: 12.5 | I30: 33.0 | J30: .379 | K30: 20.5 | L30: 28.5 | M30: .719 | N30: 8.5 | O30: 25.5 | P30: 34.0 | Q30: 20.5 | R30: 6.0 | S30: 1.5 | T30: 21.5 | U30: 29.0
A31: v. Quimper | B31: 1 | C31: 39.0 | D31: 74.0 | E31: 24.0 | F31: 46.0 | G31: .522 | H31: 7.0 | I31: 20.0 | J31: .350 | K31: 19.0 | L31: 25.0 | M31: .760 | N31: 5.0 | O31: 33.0 | P31: 38.0 | Q31: 25.0 | R31: 6.0 | S31: 2.0 | T31: 20.0 | U31: 19.0
A32: v. Rueil Athletic Club | B32: 1 | C32: 40.0 | D32: 86.0 | E32: 26.0 | F32: 58.0 | G32: .448 | H32: 9.0 | I32: 24.0 | J32: .375 | K32: 25.0 | L32: 32.0 | M32: .781 | N32: 6.0 | O32: 20.0 | P32: 26.0 | Q32: 19.0 | R32: 4.0 | S32: 0.0 | T32: 15.0 | U32: 21.0
A33: v. Toulouse Basket Club | B33: 1 | C33: 40.0 | D33: 85.0 | E33: 31.0 | F33: 52.0 | G33: .596 | H33: 12.0 | I33: 25.0 | J33: .480 | K33: 11.0 | L33: 14.0 | M33: .786 | N33: 5.0 | O33: 28.0 | P33: 33.0 | Q33: 27.0 | R33: 7.0 | S33: 1.0 | T33: 16.0 | U33: 21.0
A34: v. Union Basket Chartres Masculin | B34: 2 | C34: 40.0 | D34: 74.0 | E34: 23.0 | F34: 55.5 | G34: .414 | H34: 10.0 | I34: 26.0 | J34: .385 | K34: 18.0 | L34: 21.0 | M34: .857 | N34: 8.0 | O34: 20.0 | P34: 28.0 | Q34: 16.5 | R34: 3.5 | S34: 1.0 | T34: 22.5 | U34: 22.0
A35: v. Union Rennes Basket | B35: 2 | C35: 40.0 | D35: 78.0 | E35: 27.0 | F35: 58.0 | G35: .466 | H35: 8.5 | I35: 26.0 | J35: .327 | K35: 15.5 | L35: 21.0 | M35: .738 | N35: 7.5 | O35: 23.0 | P35: 30.5 | Q35: 15.0 | R35: 3.5 | S35: 1.0 | T35: 17.5 | U35: 24.5
A36: v. Union Tarbes Lourdes Pyrennes Basket | B36: 2 | C36: 40.0 | D36: 83.5 | E36: 26.0 | F36: 53.0 | G36: .491 | H36: 10.0 | I36: 25.0 | J36: .400 | K36: 21.5 | L36: 27.5 | M36: .782 | N36: 7.5 | O36: 21.0 | P36: 28.5 | Q36: 22.0 | R36: 6.5 | S36: 2.0 | T36: 21.5 | U36: 22.5
A37: v. Union Tours Metropole Basket | B37: 1 | C37: 39.0 | D37: 70.0 | E37: 26.0 | F37: 54.0 | G37: .481 | H37: 8.0 | I37: 21.0 | J37: .381 | K37: 10.0 | L37: 13.0 | M37: .769 | N37: 5.0 | O37: 24.0 | P37: 29.0 | Q37: 16.0 | R37: 9.0 | S37: 0.0 | T37: 20.0 | U37: 22.0
A38: v. Vendee Challans Basket | B38: 2 | C38: 40.0 | D38: 77.5 | E38: 28.0 | F38: 64.5 | G38: .434 | H38: 5.5 | I38: 23.0 | J38: .239 | K38: 16.0 | L38: 21.5 | M38: .744 | N38: 9.0 | O38: 23.0 | P38: 32.0 | Q38: 17.5 | R38: 8.5 | S38: 2.0 | T38: 12.5 | U38: 22.0

Sheet Poissy
A1: # | B1: Player | C1: Team | D1: GP | E1: MPG | F1: PPG | G1: FGM | H1: FGA | I1: FG% | J1: 3PM | K1: 3PA | L1: 3P% | M1: FTM | N1: FTA | O1: FT% | P1: ORB | Q1: DRB | R1: RPG | S1: APG | T1: SPG | U1: BPG | V1: TOV | W1: PF
A2: 1 | B2: Noah Burrell | C2: POI | D2: 19 | E2: 29.6 | F2: 16.0 | G2: 5.2 | H2: 10.5 | I2: .495 | J2: 1.5 | K2: 4.1 | L2: .377 | M2: 4.1 | N2: 4.6 | O2: .875 | P2: 0.5 | Q2: 2.7 | R2: 3.3 | S2: 3.2 | T2: 2.0 | U2: 0.3 | V2: 2.9 | W2: 3.3
A3: 2 | B3: Olivier Yao-Delon | C3: POI | D3: 19 | E3: 23.5 | F3: 12.4 | G3: 3.8 | H3: 10.5 | I3: .360 | J3: 1.7 | K3: 6.7 | L3: .260 | M3: 3.1 | N3: 3.8 | O3: .806 | P3: 0.6 | Q3: 2.4 | R3: 3.0 | S3: 0.5 | T3: 0.9 | U3: 0.6 | V3: 1.0 | W3: 1.9
A4: 3 | B4: Sebastien Michineau | C4: POI | D4: 19 | E4: 26.1 | F4: 11.8 | G4: 4.1 | H4: 10.3 | I4: .400 | J4: 0.9 | K4: 2.9 | L4: .309 | M4: 2.7 | N4: 3.5 | O4: .773 | P4: 0.8 | Q4: 2.2 | R4: 2.9 | S4: 2.8 | T4: 1.5 | U4: 0.0 | V4: 2.6 | W4: 2.4
A5: 4 | B5: Louis Gibey | C5: POI | D5: 19 | E5: 20.8 | F5: 8.5 | G5: 3.3 | H5: 7.5 | I5: .434 | J5: 0.8 | K5: 2.9 | L5: .291 | M5: 1.1 | N5: 1.4 | O5: .808 | P5: 1.4 | Q5: 1.9 | R5: 3.3 | S5: 1.0 | T5: 0.9 | U5: 0.2 | V5: 1.1 | W5: 1.9
A6: 5 | B6: Anthony Elechi | C6: POI | D6: 19 | E6: 21.9 | F6: 8.4 | G6: 3.3 | H6: 6.1 | I6: .534 | J6: 0.7 | K6: 1.9 | L6: .378 | M6: 1.1 | N6: 1.7 | O6: .656 | P6: 1.4 | Q6: 3.4 | R6: 4.7 | S6: 0.8 | T6: 0.7 | U6: 0.1 | V6: 1.4 | W6: 1.6
A7: 6 | B7: Kevin Closson | C7: POI | D7: 18 | E7: 29.1 | F7: 7.4 | G7: 2.6 | H7: 6.4 | I7: .400 | J7: 0.9 | K7: 3.1 | L7: .304 | M7: 1.3 | N7: 1.8 | O7: .727 | P7: 0.9 | Q7: 2.4 | R7: 3.3 | S7: 2.8 | T7: 1.2 | U7: 0.2 | V7: 1.6 | W7: 3.6
A8: 7 | B8: Mario Tonji | C8: POI | D8: 19 | E8: 14.4 | F8: 4.9 | G8: 1.7 | H8: 3.4 | I8: .508 | J8: 0.0 | K8: 0.0 | L8: .000 | M8: 1.4 | N8: 1.9 | O8: .730 | P8: 1.7 | Q8: 3.1 | R8: 4.8 | S8: 0.4 | T8: 0.6 | U8: 0.1 | V8: 1.6 | W8: 2.9
A9: 8 | B9: Milos Pajovic | C9: POI | D9: 18 | E9: 17.7 | F9: 3.7 | G9: 1.2 | H9: 3.2 | I9: .379 | J9: 0.7 | K9: 2.2 | L9: .333 | M9: 0.6 | N9: 0.6 | O9: .909 | P9: 0.7 | Q9: 1.2 | R9: 1.8 | S9: 1.6 | T9: 0.2 | U9: 0.0 | V9: 1.5 | W9: 2.2
A10: 9 | B10: Etienne Rouyre | C10: POI | D10: 19 | E10: 16.6 | F10: 3.3 | G10: 1.3 | H10: 3.3 | I10: .397 | J10: 0.0 | K10: 0.6 | L10: .000 | M10: 0.6 | N10: 0.9 | O10: .706 | P10: 0.3 | Q10: 1.6 | R10: 1.9 | S10: 3.3 | T10: 1.3 | U10: 0.0 | V10: 1.4 | W10: 1.5
A11: 10 | B11: Malik Rouamba | C11: POI | D11: 8 | E11: 4.3 | F11: 1.8 | G11: 0.8 | H11: 1.8 | I11: .429 | J11: 0.1 | K11: 0.4 | L11: .333 | M11: 0.1 | N11: 0.1 | O11: 1.000 | P11: 0.1 | Q11: 0.5 | R11: 0.6 | S11: 0.3 | T11: 0.3 | U11: 0.0 | V11: 0.4 | W11: 0.3
A12: 11 | B12: Lenny Caronique | C12: POI | D12: 8 | E12: 2.1 | F12: 0.5 | G12: 0.3 | H12: 1.0 | I12: .250 | J12: 0.0 | K12: 0.6 | L12: .000 | M12: 0.0 | N12: 0.0 | O12: .000 | P12: 0.5 | Q12: 0.1 | R12: 0.6 | S12: 0.0 | T12: 0.0 | U12: 0.0 | V12: 0.3 | W12: 0.0
A14: Totals | B14: GP | C14: MPG | D14: PPG | E14: FGM | F14: FGA | G14: FG% | H14: 3PM | I14: 3PA | J14: 3P% | K14: FTM | L14: FTA | M14: FT% | N14: ORB | O14: DRB | P14: TRB | Q14: APG | R14: SPG | S14: BPG | T14: TOV | U14: PF
A15: Team Totals | B15: 19 | C15: 39.9 | D15: 76.6 | E15: 26.7 | F15: 61.9 | G15: .431 | H15: 7.4 | I15: 24.5 | J15: .300 | K15: 15.9 | L15: 20.2 | M15: .789 | N15: 10.4 | O15: 22.9 | P15: 33.3 | Q15: 16.2 | R15: 9.2 | S15: 1.5 | T15: 15.8 | U15: 21.2
