Workbook
Name ANALYSERESULTAT: 'QUOTIDIEN - INDICATEURS'!$O$370:$AG$383
Name RECAPINDIC: 'QUOTIDIEN - INDICATEURS'!$O$369:$AA$382
Name RESMOIS: 'QUOTIDIEN - INDICATEURS'!$O$370:$AA$383
Name RESULTATMOIS: 'QUOTIDIEN - INDICATEURS'!$O$370:$AA$382

Sheet QUOTIDIEN - INDICATEURS
A1: REMPLISSAGE QUOTIDIEN
A2: INCATEURS | B2: CLIENTS PARTICULIERS | D2: CLIENTS PRO ET AUTRES | G2: cumule
A3: DATE | B3: CA HT | C3: ACTIVITE HT | D3: CA HT2 | E3: ACTIVITE HT3 | F3: jour du mois | G3: obj ca part | H3: obj acti part | I3: obj ca pro | J3: obj acti pro | K3: NPS | L3: MONTANT FINANCE | M3: NOMBRE DE FINANCEMENT
A4: 44927 | B4: 0 | C4: 16.5 | D4: 0 | E4: 0
A5: 44928 | B5: 13990.11 | C5: 6140.3 | D5: 18192.02 | E5: 25133.76
A6: 44929 | B6: 15758.99 | C6: 18207.81 | D6: 33037.66 | E6: 39731.81
A7: 44930 | B7: 3290.71 | C7: 2870.58 | D7: 22972.59 | E7: 25154.92
A8: 44931 | B8: 25412.68 | C8: 11220.85 | D8: 46655.19 | E8: 29431.95
A9: 44932 | B9: 16098.14 | C9: 16866.78 | D9: 26872.4 | E9: 33244.72
A10: 44933 | B10: 14851.98 | C10: 12422.46 | D10: 17760.5 | E10: 13821.93
A11: 44934 | B11: 0 | C11: 3056.32 | D11: 0 | E11: 0
A12: 44935 | B12: 5570.61 | C12: 45739.33 | D12: 29308.76 | E12: 67586.99
A13: 44936 | B13: 32275.67 | C13: 30904.17 | D13: 39323.57 | E13: 99600.66
A14: 44937 | B14: 16652.61 | C14: 21289.66 | D14: 22103.01 | E14: 49176.54
A15: 44938 | B15: 5232.44 | C15: 12094.62 | D15: 66648.55 | E15: 32581.08
... A368: 45291 | B368: 0 | C368: 501.12 | D368: 0 | E368: -165.08
A369: 45292 | B369: 0 | C369: 213 | D369: 0 | E369: 0 | F369: 1 | G369: =(OBJECTIF!$B$5/OBJECTIF!$B$9)*INDIC[[#This Row],[jour du mois]] -> 11317.419 | H369: =(OBJECTIF!$B$8/OBJECTIF!$B$9)*INDIC[[#This Row],[jour du mois]] -> 15445.161 | I369: =(OBJECTIF!$B$4/OBJECTIF!$B$9)*INDIC[[#This Row],[jour du mois]] -> 29101.935 | J369: =(OBJECTIF!$B$7/OBJECTIF!$B$9)*INDIC[[#This Row],[jour du mois]] -> 39716.129 | K369: 0 | L369: 0 | M369: 0 | O369: RESULTAT MENSUELS | P369: CLIENTS PATICULIERS | R369: CLIENTS PRO | T369: CLIENTS GLOBAL | V369: OBJ CLIENTS PART | X369: OBJ CLIENTS PRO | Z369: OBJ GLOBAL | AB369: ANALYSE DES RESULTATS
A370: 45293 | B370: 30237 | C370: 9758 | D370: 28415 | E370: 26810 | F370: 2 | G370: =(OBJECTIF!$B$5/OBJECTIF!$B$9)*INDIC[[#This Row],[jour du mois]] -> 22634.839 | H370: =(OBJECTIF!$B$8/OBJECTIF!$B$9)*INDIC[[#This Row],[jour du mois]] -> 30890.323 | I370: =(OBJECTIF!$B$4/OBJECTIF!$B$9)*INDIC[[#This Row],[jour du mois]] -> 58203.871 | J370: =(OBJECTIF!$B$7/OBJECTIF!$B$9)*INDIC[[#This Row],[jour du mois]] -> 79432.258 | K370: -25 | L370: 0 | M370: 0 | O370: MENSUEL | P370: CA HT | Q370: ACTIVITE HT1 | R370: CA HT2 | S370: ACTIVITE HT2 | T370: CA HT3 | U370: ACTIVITE HT3 | V370: CA HT4 | W370: ACTIVITE HT4 | X370: CA HT5 | Y370: ACTIVITE HT5 | Z370: CA HT6 | AA370: ACTIVITE HT6 | AB370: % CA PART | AC370: % ACTI PART | AD370: % CA PRO | AE370: % ACTI PRO | AF370: % CA GLOBAL | AG370: % ACTI GLOBAL
A371: 45294 | B371: 2736 | C371: 5993 | D371: 16979 | E371: 63530 | F371: 3 | G371: =(OBJECTIF!$B$5/OBJECTIF!$B$9)*INDIC[[#This Row],[jour du mois]] -> 33952.258 | H371: =(OBJECTIF!$B$8/OBJECTIF!$B$9)*INDIC[[#This Row],[jour du mois]] -> 46335.484 | I371: =(OBJECTIF!$B$4/OBJECTIF!$B$9)*INDIC[[#This Row],[jour du mois]] -> 87305.806 | J371: =(OBJECTIF!$B$7/OBJECTIF!$B$9)*INDIC[[#This Row],[jour du mois]] -> 119148.39 | K371: -28.57 | L371: 0 | M371: 0 | O371: JANVIER | P371: =SUM(B369:B399) -> 48687 | Q371: =SUM(C369:C399) -> 34124 | R371: =SUM(D369:D399) -> 65440 | S371: =SUM(E369:E399) -> 122822 | T371: =P371+R371 -> 114127 | U371: =Q371+S371 -> 156946 | V371: =OBJECTIF!B5 -> 350840 | W371: =OBJECTIF!B8 -> 478800 | X371: =OBJECTIF!B4 -> 902160 | Y371: =OBJECTIF!B7 -> 1231200 | Z371: =OBJECTIF!B3 -> 1253000 | AA371: =OBJECTIF!B6 -> 1710000 | AB371: =P371/V371 -> 0.13877266 | AC371: =Q371/W371 -> 0.071269841 | AD371: =R371/X371 -> 0.072537022 | AE371: =S371/Y371 -> 0.09975796 | AF371: =T371/Z371 -> 0.091083001 | AG371: =U371/AA371 -> 0.091781287
A372: 45295 | B372: 15714 | C372: 18160 | D372: 20046 | E372: 32482 | F372: 4 | G372: =(OBJECTIF!$B$5/OBJECTIF!$B$9)*INDIC[[#This Row],[jour du mois]] -> 45269.677 | H372: =(OBJECTIF!$B$8/OBJECTIF!$B$9)*INDIC[[#This Row],[jour du mois]] -> 61780.645 | I372: =(OBJECTIF!$B$4/OBJECTIF!$B$9)*INDIC[[#This Row],[jour du mois]] -> 116407.74 | J372: =(OBJECTIF!$B$7/OBJECTIF!$B$9)*INDIC[[#This Row],[jour du mois]] -> 158864.52 | K372: -12.5 | L372: 0 | M372: 0 | O372: FEVRIER | P372: =SUM(B400:B428) -> 0 | Q372: =SUM(C400:C428) -> 0 | R372: =SUM(D400:D428) -> 0 | S372: =SUM(E400:E428) -> 0 | T372: =P372+R372 -> 0 | U372: =Q372+S372 -> 0 | V372: =OBJECTIF!C5 -> 313600 | W372: =OBJECTIF!C8 -> 420000 | X372: =OBJECTIF!C4 -> 806400 | Y372: =OBJECTIF!C7 -> 1080000 | Z372: =OBJECTIF!C3 -> 1120000 | AA372: =OBJECTIF!C6 -> 1500000 | AB372: =P372/V372 -> 0 | AC372: =Q372/W372 -> 0 | AD372: =R372/X372 -> 0 | AE372: =S372/Y372 -> 0 | AF372: =T372/Z372 -> 0 | AG372: =U372/AA372 -> 0
A373: 45296 | F373: 5 | G373: =(OBJECTIF!$B$5/OBJECTIF!$B$9)*INDIC[[#This Row],[jour du mois]] -> 56587.097 | H373: =(OBJECTIF!$B$8/OBJECTIF!$B$9)*INDIC[[#This Row],[jour du mois]] -> 77225.806 | I373: =(OBJECTIF!$B$4/OBJECTIF!$B$9)*INDIC[[#This Row],[jour du mois]] -> 145509.68 | J373: =(OBJECTIF!$B$7/OBJECTIF!$B$9)*INDIC[[#This Row],[jour du mois]] -> 198580.65 | O373: MARS | P373: =SUM(B429:B459) -> 0 | Q373: =SUM(C429:C459) -> 0 | R373: =SUM(D429:D459) -> 0 | S373: =SUM(E429:E459) -> 0 | T373: =P373+R373 -> 0 | U373: =Q373+S373 -> 0 | V373: =OBJECTIF!D5 -> 507640 | W373: =OBJECTIF!D8 -> 462000 | X373: =OBJECTIF!D4 -> 1305360 | Y373: =OBJECTIF!D7 -> 1188000 | Z373: =OBJECTIF!D3 -> 1813000 | AA373: =OBJECTIF!D6 -> 1650000 | AB373: =P373/V373 -> 0 | AC373: =Q373/W373 -> 0 | AD373: =R373/X373 -> 0 | AE373: =S373/Y373 -> 0 | AF373: =T373/Z373 -> 0 | AG373: =U373/AA373 -> 0
A374: 45297 | F374: 6 | G374: =(OBJECTIF!$B$5/OBJECTIF!$B$9)*INDIC[[#This Row],[jour du mois]] -> 67904.516 | H374: =(OBJECTIF!$B$8/OBJECTIF!$B$9)*INDIC[[#This Row],[jour du mois]] -> 92670.968 | I374: =(OBJECTIF!$B$4/OBJECTIF!$B$9)*INDIC[[#This Row],[jour du mois]] -> 174611.61 | J374: =(OBJECTIF!$B$7/OBJECTIF!$B$9)*INDIC[[#This Row],[jour du mois]] -> 238296.77 | O374: AVRIL | P374: =SUM(B460:B489) -> 0 | Q374: =SUM(C461:C489) -> 0 | R374: =SUM(D461:D489) -> 0 | S374: =SUM(E461:E489) -> 0 | T374: =P374+R374 -> 0 | U374: =Q374+S374 -> 0 | V374: =OBJECTIF!E5 -> 489160 | W374: =OBJECTIF!E8 -> 0 | X374: =OBJECTIF!E4 -> 1257840 | Y374: =OBJECTIF!E7 -> 0 | Z374: =OBJECTIF!E3 -> 1747000 | AA374: =OBJECTIF!E6 -> 0 | AB374: =P374/V374 -> 0 | AC374: =Q374/W374 -> #DIV/0! | AD374: =R374/X374 -> 0 | AE374: =S374/Y374 -> #DIV/0! | AF374: =T374/Z374 -> 0 | AG374: =U374/AA374 -> #DIV/0!
A375: 45298 | F375: 7 | G375: =(OBJECTIF!$B$5/OBJECTIF!$B$9)*INDIC[[#This Row],[jour du mois]] -> 79221.935 | H375: =(OBJECTIF!$B$8/OBJECTIF!$B$9)*INDIC[[#This Row],[jour du mois]] -> 108116.13 | I375: =(OBJECTIF!$B$4/OBJECTIF!$B$9)*INDIC[[#This Row],[jour du mois]] -> 203713.55 | J375: =(OBJECTIF!$B$7/OBJECTIF!$B$9)*INDIC[[#This Row],[jour du mois]] -> 278012.9 | O375: MAI | P375: =SUM(B490:B520) -> 0 | Q375: =SUM(C490:C520) -> 0 | R375: =SUM(D490:D520) -> 0 | S375: =SUM(E490:E520) -> 0 | T375: =P375+R375 -> 0 | U375: =Q375+S375 -> 0 | V375: =OBJECTIF!F5 -> 532840 | W375: =OBJECTIF!F8 -> 0 | X375: =OBJECTIF!F4 -> 1370160 | Y375: =OBJECTIF!F7 -> 0 | Z375: =OBJECTIF!F3 -> 1903000 | AA375: =OBJECTIF!F6 -> 0 | AB375: =P375/V375 -> 0 | AC375: =Q375/W375 -> #DIV/0! | AD375: =R375/X375 -> 0 | AE375: =S375/Y375 -> #DIV/0! | AF375: =T375/Z375 -> 0 | AG375: =U375/AA375 -> #DIV/0!
A376: 45299 | F376: 8 | G376: =(OBJECTIF!$B$5/OBJECTIF!$B$9)*INDIC[[#This Row],[jour du mois]] -> 90539.355 | H376: =(OBJECTIF!$B$8/OBJECTIF!$B$9)*INDIC[[#This Row],[jour du mois]] -> 123561.29 | I376: =(OBJECTIF!$B$4/OBJECTIF!$B$9)*INDIC[[#This Row],[jour du mois]] -> 232815.48 | J376: =(OBJECTIF!$B$7/OBJECTIF!$B$9)*INDIC[[#This Row],[jour du mois]] -> 317729.03 | O376: JUIN | P376: =SUM(B521:B550) -> 0 | Q376: =SUM(C521:C550) -> 0 | R376: =SUM(D521:D550) -> 0 | S376: =SUM(E521:E550) -> 0 | T376: =P376+R376 -> 0 | U376: =Q376+S376 -> 0 | V376: =OBJECTIF!G5 -> 519960 | W376: =OBJECTIF!G8 -> 0 | X376: =OBJECTIF!G4 -> 1337040 | Y376: =OBJECTIF!G7 -> 0 | Z376: =OBJECTIF!G3 -> 1857000 | AA376: =OBJECTIF!G6 -> 0 | AB376: =P376/V376 -> 0 | AC376: =Q376/W376 -> #DIV/0! | AD376: =R376/X376 -> 0 | AE376: =S376/Y376 -> #DIV/0! | AF376: =T376/Z376 -> 0 | AG376: =U376/AA376 -> #DIV/0!
A377: 45300 | F377: 9 | G377: =(OBJECTIF!$B$5/OBJECTIF!$B$9)*INDIC[[#This Row],[jour du mois]] -> 101856.77 | H377: =(OBJECTIF!$B$8/OBJECTIF!$B$9)*INDIC[[#This Row],[jour du mois]] -> 139006.45 | I377: =(OBJECTIF!$B$4/OBJECTIF!$B$9)*INDIC[[#This Row],[jour du mois]] -> 261917.42 | J377: =(OBJECTIF!$B$7/OBJECTIF!$B$9)*INDIC[[#This Row],[jour du mois]] -> 357445.16 | O377: JUILLET | P377: =SUM(B551:B581) -> 0 | Q377: =SUM(C551:C581) -> 0 | R377: =SUM(D551:D581) -> 0 | S377: =SUM(E551:E581) -> 0 | T377: =P377+R377 -> 0 | U377: =Q377+S377 -> 0 | V377: =OBJECTIF!H5 -> 471240 | W377: =OBJECTIF!H8 -> 0 | X377: =OBJECTIF!H4 -> 1211760 | Y377: =OBJECTIF!H7 -> 0 | Z377: =OBJECTIF!H3 -> 1683000 | AA377: =OBJECTIF!H6 -> 0 | AB377: =P377/V377 -> 0 | AC377: =Q377/W377 -> #DIV/0! | AD377: =R377/X377 -> 0 | AE377: =S377/Y377 -> #DIV/0! | AF377: =T377/Z377 -> 0 | AG377: =U377/AA377 -> #DIV/0!
A378: 45301 | F378: 10 | G378: =(OBJECTIF!$B$5/OBJECTIF!$B$9)*INDIC[[#This Row],[jour du mois]] -> 113174.19 | H378: =(OBJECTIF!$B$8/OBJECTIF!$B$9)*INDIC[[#This Row],[jour du mois]] -> 154451.61 | I378: =(OBJECTIF!$B$4/OBJECTIF!$B$9)*INDIC[[#This Row],[jour du mois]] -> 291019.35 | J378: =(OBJECTIF!$B$7/OBJECTIF!$B$9)*INDIC[[#This Row],[jour du mois]] -> 397161.29 | O378: AOÛT | P378: =SUM(B582:B612) -> 0 | Q378: =SUM(C582:C612) -> 0 | R378: =SUM(D582:D612) -> 0 | S378: =SUM(E582:E612) -> 0 | T378: =P378+R378 -> 0 | U378: =Q378+S378 -> 0 | V378: =OBJECTIF!I5 -> 250040 | W378: =OBJECTIF!I8 -> 0 | X378: =OBJECTIF!I4 -> 642960 | Y378: =OBJECTIF!I7 -> 0 | Z378: =OBJECTIF!I3 -> 893000 | AA378: =OBJECTIF!I6 -> 0 | AB378: =P378/V378 -> 0 | AC378: =Q378/W378 -> #DIV/0! | AD378: =R378/X378 -> 0 | AE378: =S378/Y378 -> #DIV/0! | AF378: =T378/Z378 -> 0 | AG378: =U378/AA378 -> #DIV/0!
A379: 45302 | F379: 11 | G379: =(OBJECTIF!$B$5/OBJECTIF!$B$9)*INDIC[[#This Row],[jour du mois]] -> 124491.61 | H379: =(OBJECTIF!$B$8/OBJECTIF!$B$9)*INDIC[[#This Row],[jour du mois]] -> 169896.77 | I379: =(OBJECTIF!$B$4/OBJECTIF!$B$9)*INDIC[[#This Row],[jour du mois]] -> 320121.29 | J379: =(OBJECTIF!$B$7/OBJECTIF!$B$9)*INDIC[[#This Row],[jour du mois]] -> 436877.42 | O379: SEPTEMBRE | P379: =SUM(B613:B642) -> 0 | Q379: =SUM(C613:C642) -> 0 | R379: =SUM(D613:D642) -> 0 | S379: =SUM(E613:E642) -> 0 | T379: =P379+R379 -> 0 | U379: =Q379+S379 -> 0 | V379: =OBJECTIF!J5 -> 420000 | W379: =OBJECTIF!J8 -> 0 | X379: =OBJECTIF!J4 -> 1080000 | Y379: =OBJECTIF!J7 -> 0 | Z379: =OBJECTIF!J3 -> 1500000 | AA379: =OBJECTIF!J6 -> 0 | AB379: =P379/V379 -> 0 | AC379: =Q379/W379 -> #DIV/0! | AD379: =R379/X379 -> 0 | AE379: =S379/Y379 -> #DIV/0! | AF379: =T379/Z379 -> 0 | AG379: =U379/AA379 -> #DIV/0!
A380: 45303 | F380: 12 | G380: =(OBJECTIF!$B$5/OBJECTIF!$B$9)*INDIC[[#This Row],[jour du mois]] -> 135809.03 | H380: =(OBJECTIF!$B$8/OBJECTIF!$B$9)*INDIC[[#This Row],[jour du mois]] -> 185341.94 | I380: =(OBJECTIF!$B$4/OBJECTIF!$B$9)*INDIC[[#This Row],[jour du mois]] -> 349223.23 | J380: =(OBJECTIF!$B$7/OBJECTIF!$B$9)*INDIC[[#This Row],[jour du mois]] -> 476593.55 | O380: OCTOBRE | P380: =SUM(B643:B673) -> 0 | Q380: =SUM(C643:C673) -> 0 | R380: =SUM(D643:D673) -> 0 | S380: =SUM(E643:E673) -> 0 | T380: =P380+R380 -> 0 | U380: =Q380+S380 -> 0 | V380: =OBJECTIF!K5 -> 425320 | W380: =OBJECTIF!K8 -> 0 | X380: =OBJECTIF!K4 -> 1093680 | Y380: =OBJECTIF!K7 -> 0 | Z380: =OBJECTIF!K3 -> 1519000 | AA380: =OBJECTIF!K6 -> 0 | AB380: =P380/V380 -> 0 | AC380: =Q380/W380 -> #DIV/0! | AD380: =R380/X380 -> 0 | AE380: =S380/Y380 -> #DIV/0! | AF380: =T380/Z380 -> 0 | AG380: =U380/AA380 -> #DIV/0!
A381: 45304 | F381: 13 | G381: =(OBJECTIF!$B$5/OBJECTIF!$B$9)*INDIC[[#This Row],[jour du mois]] -> 147126.45 | H381: =(OBJECTIF!$B$8/OBJECTIF!$B$9)*INDIC[[#This Row],[jour du mois]] -> 200787.1 | I381: =(OBJECTIF!$B$4/OBJECTIF!$B$9)*INDIC[[#This Row],[jour du mois]] -> 378325.16 | J381: =(OBJECTIF!$B$7/OBJECTIF!$B$9)*INDIC[[#This Row],[jour du mois]] -> 516309.68 | O381: NOVEMBRE | P381: =SUM(B674:B703) -> 0 | Q381: =SUM(C674:C703) -> 0 | R381: =SUM(D674:D703) -> 0 | S381: =SUM(E674:E703) -> 0 | T381: =P381+R381 -> 0 | U381: =Q381+S381 -> 0 | V381: =OBJECTIF!L5 -> 420560 | W381: =OBJECTIF!L8 -> 0 | X381: =OBJECTIF!L4 -> 1081440 | Y381: =OBJECTIF!L7 -> 0 | Z381: =OBJECTIF!L3 -> 1502000 | AA381: =OBJECTIF!L6 -> 0 | AB381: =P381/V381 -> 0 | AC381: =Q381/W381 -> #DIV/0! | AD381: =R381/X381 -> 0 | AE381: =S381/Y381 -> #DIV/0! | AF381: =T381/Z381 -> 0 | AG381: =U381/AA381 -> #DIV/0!
A382: 45305 | F382: 14 | G382: =(OBJECTIF!$B$5/OBJECTIF!$B$9)*INDIC[[#This Row],[jour du mois]] -> 158443.87 | H382: =(OBJECTIF!$B$8/OBJECTIF!$B$9)*INDIC[[#This Row],[jour du mois]] -> 216232.26 | I382: =(OBJECTIF!$B$4/OBJECTIF!$B$9)*INDIC[[#This Row],[jour du mois]] -> 407427.1 | J382: =(OBJECTIF!$B$7/OBJECTIF!$B$9)*INDIC[[#This Row],[jour du mois]] -> 556025.81 | O382: DÉCEMBRE | P382: =SUM(B704:B734) -> 0 | Q382: =SUM(C704:C734) -> 0 | R382: =SUM(D704:D734) -> 0 | S382: =SUM(E704:E734) -> 0 | T382: =P382+R382 -> 0 | U382: =Q382+S382 -> 0 | V382: =OBJECTIF!M5 -> 338800 | W382: =OBJECTIF!M8 -> 0 | X382: =OBJECTIF!M4 -> 871200 | Y382: =OBJECTIF!M7 -> 0 | Z382: =OBJECTIF!M3 -> 1210000 | AA382: =OBJECTIF!M6 -> 0 | AB382: =P382/V382 -> 0 | AC382: =Q382/W382 -> #DIV/0! | AD382: =R382/X382 -> 0 | AE382: =S382/Y382 -> #DIV/0! | AF382: =T382/Z382 -> 0 | AG382: =U382/AA382 -> #DIV/0!
A383: 45306 | F383: 15 | G383: =(OBJECTIF!$B$5/OBJECTIF!$B$9)*INDIC[[#This Row],[jour du mois]] -> 169761.29 | H383: =(OBJECTIF!$B$8/OBJECTIF!$B$9)*INDIC[[#This Row],[jour du mois]] -> 231677.42 | I383: =(OBJECTIF!$B$4/OBJECTIF!$B$9)*INDIC[[#This Row],[jour du mois]] -> 436529.03 | J383: =(OBJECTIF!$B$7/OBJECTIF!$B$9)*INDIC[[#This Row],[jour du mois]] -> 595741.94 | O383: TOTAL | P383: =SUM(P371:P382) -> 48687 | Q383: =SUM(Q371:Q382) -> 34124 | R383: =SUM(R371:R382) -> 65440 | S383: =SUM(S371:S382) -> 122822 | T383: =SUM(T371:T382) -> 114127 | U383: =SUM(U371:U382) -> 156946 | V383: =SUM(V371:V382) -> 5040000 | W383: =SUM(W371:W382) -> 1360800 | ... AA383: =SUM(AA371:AA382) -> 4860000 | AB383: =P383/V383 -> 0.009660119 | AC383: =Q383/W383 -> 0.025076426 | AD383: =R383/X383 -> 0.0050493827 | AE383: =S383/Y383 -> 0.035100023 | AF383: =T383/Z383 -> 0.0063403889 | AG383: =U383/AA383 -> 0.032293416
A384: 45307 | F384: 16 | G384: =(OBJECTIF!$B$5/OBJECTIF!$B$9)*INDIC[[#This Row],[jour du mois]] -> 181078.71 | H384: =(OBJECTIF!$B$8/OBJECTIF!$B$9)*INDIC[[#This Row],[jour du mois]] -> 247122.58 | I384: =(OBJECTIF!$B$4/OBJECTIF!$B$9)*INDIC[[#This Row],[jour du mois]] -> 465630.97 | J384: =(OBJECTIF!$B$7/OBJECTIF!$B$9)*INDIC[[#This Row],[jour du mois]] -> 635458.06
A385: 45308 | F385: 17 | G385: =(OBJECTIF!$B$5/OBJECTIF!$B$9)*INDIC[[#This Row],[jour du mois]] -> 192396.13 | H385: =(OBJECTIF!$B$8/OBJECTIF!$B$9)*INDIC[[#This Row],[jour du mois]] -> 262567.74 | I385: =(OBJECTIF!$B$4/OBJECTIF!$B$9)*INDIC[[#This Row],[jour du mois]] -> 494732.9 | J385: =(OBJECTIF!$B$7/OBJECTIF!$B$9)*INDIC[[#This Row],[jour du mois]] -> 675174.19
A386: 45309 | F386: 18 | G386: =(OBJECTIF!$B$5/OBJECTIF!$B$9)*INDIC[[#This Row],[jour du mois]] -> 203713.55 | H386: =(OBJECTIF!$B$8/OBJECTIF!$B$9)*INDIC[[#This Row],[jour du mois]] -> 278012.9 | I386: =(OBJECTIF!$B$4/OBJECTIF!$B$9)*INDIC[[#This Row],[jour du mois]] -> 523834.84 | J386: =(OBJECTIF!$B$7/OBJECTIF!$B$9)*INDIC[[#This Row],[jour du mois]] -> 714890.32
A387: 45310 | F387: 19 | G387: =(OBJECTIF!$B$5/OBJECTIF!$B$9)*INDIC[[#This Row],[jour du mois]] -> 215030.97 | H387: =(OBJECTIF!$B$8/OBJECTIF!$B$9)*INDIC[[#This Row],[jour du mois]] -> 293458.06 | I387: =(OBJECTIF!$B$4/OBJECTIF!$B$9)*INDIC[[#This Row],[jour du mois]] -> 552936.77 | J387: =(OBJECTIF!$B$7/OBJECTIF!$B$9)*INDIC[[#This Row],[jour du mois]] -> 754606.45
A388: 45311 | F388: 20 | G388: =(OBJECTIF!$B$5/OBJECTIF!$B$9)*INDIC[[#This Row],[jour du mois]] -> 226348.39 | H388: =(OBJECTIF!$B$8/OBJECTIF!$B$9)*INDIC[[#This Row],[jour du mois]] -> 308903.23 | I388: =(OBJECTIF!$B$4/OBJECTIF!$B$9)*INDIC[[#This Row],[jour du mois]] -> 582038.71 | J388: =(OBJECTIF!$B$7/OBJECTIF!$B$9)*INDIC[[#This Row],[jour du mois]] -> 794322.58
A389: 45312 | F389: 21 | G389: =(OBJECTIF!$B$5/OBJECTIF!$B$9)*INDIC[[#This Row],[jour du mois]] -> 237665.81 | H389: =(OBJECTIF!$B$8/OBJECTIF!$B$9)*INDIC[[#This Row],[jour du mois]] -> 324348.39 | I389: =(OBJECTIF!$B$4/OBJECTIF!$B$9)*INDIC[[#This Row],[jour du mois]] -> 611140.65 | J389: =(OBJECTIF!$B$7/OBJECTIF!$B$9)*INDIC[[#This Row],[jour du mois]] -> 834038.71
A390: 45313 | F390: 22 | G390: =(OBJECTIF!$B$5/OBJECTIF!$B$9)*INDIC[[#This Row],[jour du mois]] -> 248983.23 | H390: =(OBJECTIF!$B$8/OBJECTIF!$B$9)*INDIC[[#This Row],[jour du mois]] -> 339793.55 | I390: =(OBJECTIF!$B$4/OBJECTIF!$B$9)*INDIC[[#This Row],[jour du mois]] -> 640242.58 | J390: =(OBJECTIF!$B$7/OBJECTIF!$B$9)*INDIC[[#This Row],[jour du mois]] -> 873754.84
A391: 45314 | F391: 23 | G391: =(OBJECTIF!$B$5/OBJECTIF!$B$9)*INDIC[[#This Row],[jour du mois]] -> 260300.65 | H391: =(OBJECTIF!$B$8/OBJECTIF!$B$9)*INDIC[[#This Row],[jour du mois]] -> 355238.71 | I391: =(OBJECTIF!$B$4/OBJECTIF!$B$9)*INDIC[[#This Row],[jour du mois]] -> 669344.52 | J391: =(OBJECTIF!$B$7/OBJECTIF!$B$9)*INDIC[[#This Row],[jour du mois]] -> 913470.97
A392: 45315 | F392: 24 | G392: =(OBJECTIF!$B$5/OBJECTIF!$B$9)*INDIC[[#This Row],[jour du mois]] -> 271618.06 | H392: =(OBJECTIF!$B$8/OBJECTIF!$B$9)*INDIC[[#This Row],[jour du mois]] -> 370683.87 | I392: =(OBJECTIF!$B$4/OBJECTIF!$B$9)*INDIC[[#This Row],[jour du mois]] -> 698446.45 | J392: =(OBJECTIF!$B$7/OBJECTIF!$B$9)*INDIC[[#This Row],[jour du mois]] -> 953187.1
A393: 45316 | F393: 25 | G393: =(OBJECTIF!$B$5/OBJECTIF!$B$9)*INDIC[[#This Row],[jour du mois]] -> 282935.48 | H393: =(OBJECTIF!$B$8/OBJECTIF!$B$9)*INDIC[[#This Row],[jour du mois]] -> 386129.03 | I393: =(OBJECTIF!$B$4/OBJECTIF!$B$9)*INDIC[[#This Row],[jour du mois]] -> 727548.39 | J393: =(OBJECTIF!$B$7/OBJECTIF!$B$9)*INDIC[[#This Row],[jour du mois]] -> 992903.23
A394: 45317 | F394: 26 | G394: =(OBJECTIF!$B$5/OBJECTIF!$B$9)*INDIC[[#This Row],[jour du mois]] -> 294252.9 | H394: =(OBJECTIF!$B$8/OBJECTIF!$B$9)*INDIC[[#This Row],[jour du mois]] -> 401574.19 | I394: =(OBJECTIF!$B$4/OBJECTIF!$B$9)*INDIC[[#This Row],[jour du mois]] -> 756650.32 | J394: =(OBJECTIF!$B$7/OBJECTIF!$B$9)*INDIC[[#This Row],[jour du mois]] -> 1032619.4
A395: 45318 | F395: 27 | G395: =(OBJECTIF!$B$5/OBJECTIF!$B$9)*INDIC[[#This Row],[jour du mois]] -> 305570.32 | H395: =(OBJECTIF!$B$8/OBJECTIF!$B$9)*INDIC[[#This Row],[jour du mois]] -> 417019.35 | I395: =(OBJECTIF!$B$4/OBJECTIF!$B$9)*INDIC[[#This Row],[jour du mois]] -> 785752.26 | J395: =(OBJECTIF!$B$7/OBJECTIF!$B$9)*INDIC[[#This Row],[jour du mois]] -> 1072335.5
... A399: 45322 | F399: 31 | G399: =(OBJECTIF!$B$5/OBJECTIF!$B$9)*INDIC[[#This Row],[jour du mois]] -> 350840 | H399: =(OBJECTIF!$B$8/OBJECTIF!$B$9)*INDIC[[#This Row],[jour du mois]] -> 478800 | I399: =(OBJECTIF!$B$4/OBJECTIF!$B$9)*INDIC[[#This Row],[jour du mois]] -> 902160 | J399: =(OBJECTIF!$B$7/OBJECTIF!$B$9)*INDIC[[#This Row],[jour du mois]] -> 1231200
A400: 45323 | F400: 1 | G400: =(OBJECTIF!$C$5/OBJECTIF!$C$9)*INDIC[[#This Row],[jour du mois]] -> 10813.793 | H400: =(OBJECTIF!$C$8/OBJECTIF!$C$9)*INDIC[[#This Row],[jour du mois]] -> 14482.759 | I400: =(OBJECTIF!$C$4/OBJECTIF!$C$9)*INDIC[[#This Row],[jour du mois]] -> 27806.897 | J400: =(OBJECTIF!$C$7/OBJECTIF!$C$9)*INDIC[[#This Row],[jour du mois]] -> 37241.379
A401: 45324 | F401: 2 | G401: =(OBJECTIF!$C$5/OBJECTIF!$C$9)*INDIC[[#This Row],[jour du mois]] -> 21627.586 | H401: =(OBJECTIF!$B$8/OBJECTIF!$B$9)*INDIC[[#This Row],[jour du mois]] -> 30890.323 | I401: =(OBJECTIF!$B$4/OBJECTIF!$B$9)*INDIC[[#This Row],[jour du mois]] -> 58203.871 | J401: =(OBJECTIF!$B$7/OBJECTIF!$B$9)*INDIC[[#This Row],[jour du mois]] -> 79432.258
A402: 45325 | F402: 3 | G402: =(OBJECTIF!$C$5/OBJECTIF!$C$9)*INDIC[[#This Row],[jour du mois]] -> 32441.379 | H402: =(OBJECTIF!$B$8/OBJECTIF!$B$9)*INDIC[[#This Row],[jour du mois]] -> 46335.484 | I402: =(OBJECTIF!$B$4/OBJECTIF!$B$9)*INDIC[[#This Row],[jour du mois]] -> 87305.806 | J402: =(OBJECTIF!$B$7/OBJECTIF!$B$9)*INDIC[[#This Row],[jour du mois]] -> 119148.39
A403: 45326 | F403: 4 | G403: =(OBJECTIF!$C$5/OBJECTIF!$C$9)*INDIC[[#This Row],[jour du mois]] -> 43255.172 | H403: =(OBJECTIF!$B$8/OBJECTIF!$B$9)*INDIC[[#This Row],[jour du mois]] -> 61780.645 | I403: =(OBJECTIF!$B$4/OBJECTIF!$B$9)*INDIC[[#This Row],[jour du mois]] -> 116407.74 | J403: =(OBJECTIF!$B$7/OBJECTIF!$B$9)*INDIC[[#This Row],[jour du mois]] -> 158864.52
A404: 45327 | F404: 5 | G404: =(OBJECTIF!$C$5/OBJECTIF!$C$9)*INDIC[[#This Row],[jour du mois]] -> 54068.966 | H404: =(OBJECTIF!$B$8/OBJECTIF!$B$9)*INDIC[[#This Row],[jour du mois]] -> 77225.806 | I404: =(OBJECTIF!$B$4/OBJECTIF!$B$9)*INDIC[[#This Row],[jour du mois]] -> 145509.68 | J404: =(OBJECTIF!$B$7/OBJECTIF!$B$9)*INDIC[[#This Row],[jour du mois]] -> 198580.65
A405: 45328 | F405: 6 | G405: =(OBJECTIF!$C$5/OBJECTIF!$C$9)*INDIC[[#This Row],[jour du mois]] -> 64882.759 | H405: =(OBJECTIF!$B$8/OBJECTIF!$B$9)*INDIC[[#This Row],[jour du mois]] -> 92670.968 | I405: =(OBJECTIF!$B$4/OBJECTIF!$B$9)*INDIC[[#This Row],[jour du mois]] -> 174611.61 | J405: =(OBJECTIF!$B$7/OBJECTIF!$B$9)*INDIC[[#This Row],[jour du mois]] -> 238296.77
A406: 45329 | F406: 7 | G406: =(OBJECTIF!$C$5/OBJECTIF!$C$9)*INDIC[[#This Row],[jour du mois]] -> 75696.552 | H406: =(OBJECTIF!$B$8/OBJECTIF!$B$9)*INDIC[[#This Row],[jour du mois]] -> 108116.13 | I406: =(OBJECTIF!$B$4/OBJECTIF!$B$9)*INDIC[[#This Row],[jour du mois]] -> 203713.55 | J406: =(OBJECTIF!$B$7/OBJECTIF!$B$9)*INDIC[[#This Row],[jour du mois]] -> 278012.9
A407: 45330 | F407: 8 | G407: =(OBJECTIF!$C$5/OBJECTIF!$C$9)*INDIC[[#This Row],[jour du mois]] -> 86510.345 | H407: =(OBJECTIF!$B$8/OBJECTIF!$B$9)*INDIC[[#This Row],[jour du mois]] -> 123561.29 | I407: =(OBJECTIF!$B$4/OBJECTIF!$B$9)*INDIC[[#This Row],[jour du mois]] -> 232815.48 | J407: =(OBJECTIF!$B$7/OBJECTIF!$B$9)*INDIC[[#This Row],[jour du mois]] -> 317729.03
A408: 45331 | F408: 9 | G408: =(OBJECTIF!$C$5/OBJECTIF!$C$9)*INDIC[[#This Row],[jour du mois]] -> 97324.138 | H408: =(OBJECTIF!$B$8/OBJECTIF!$B$9)*INDIC[[#This Row],[jour du mois]] -> 139006.45 | I408: =(OBJECTIF!$B$4/OBJECTIF!$B$9)*INDIC[[#This Row],[jour du mois]] -> 261917.42 | J408: =(OBJECTIF!$B$7/OBJECTIF!$B$9)*INDIC[[#This Row],[jour du mois]] -> 357445.16
A409: 45332 | F409: 10 | G409: =(OBJECTIF!$C$5/OBJECTIF!$C$9)*INDIC[[#This Row],[jour du mois]] -> 108137.93 | H409: =(OBJECTIF!$B$8/OBJECTIF!$B$9)*INDIC[[#This Row],[jour du mois]] -> 154451.61 | I409: =(OBJECTIF!$B$4/OBJECTIF!$B$9)*INDIC[[#This Row],[jour du mois]] -> 291019.35 | J409: =(OBJECTIF!$B$7/OBJECTIF!$B$9)*INDIC[[#This Row],[jour du mois]] -> 397161.29
A410: 45333 | F410: 11 | G410: =(OBJECTIF!$C$5/OBJECTIF!$C$9)*INDIC[[#This Row],[jour du mois]] -> 118951.72 | H410: =(OBJECTIF!$B$8/OBJECTIF!$B$9)*INDIC[[#This Row],[jour du mois]] -> 169896.77 | I410: =(OBJECTIF!$B$4/OBJECTIF!$B$9)*INDIC[[#This Row],[jour du mois]] -> 320121.29 | J410: =(OBJECTIF!$B$7/OBJECTIF!$B$9)*INDIC[[#This Row],[jour du mois]] -> 436877.42
A411: 45334 | F411: 12 | G411: =(OBJECTIF!$C$5/OBJECTIF!$C$9)*INDIC[[#This Row],[jour du mois]] -> 129765.52 | H411: =(OBJECTIF!$B$8/OBJECTIF!$B$9)*INDIC[[#This Row],[jour du mois]] -> 185341.94 | I411: =(OBJECTIF!$B$4/OBJECTIF!$B$9)*INDIC[[#This Row],[jour du mois]] -> 349223.23 | J411: =(OBJECTIF!$B$7/OBJECTIF!$B$9)*INDIC[[#This Row],[jour du mois]] -> 476593.55
A412: 45335 | F412: 13 | G412: =(OBJECTIF!$C$5/OBJECTIF!$C$9)*INDIC[[#This Row],[jour du mois]] -> 140579.31 | H412: =(OBJECTIF!$B$8/OBJECTIF!$B$9)*INDIC[[#This Row],[jour du mois]] -> 200787.1 | I412: =(OBJECTIF!$B$4/OBJECTIF!$B$9)*INDIC[[#This Row],[jour du mois]] -> 378325.16 | J412: =(OBJECTIF!$B$7/OBJECTIF!$B$9)*INDIC[[#This Row],[jour du mois]] -> 516309.68
... A428: 45351 | F428: 29 | G428: =(OBJECTIF!$C$5/OBJECTIF!$C$9)*INDIC[[#This Row],[jour du mois]] -> 313600 | H428: =(OBJECTIF!$B$8/OBJECTIF!$B$9)*INDIC[[#This Row],[jour du mois]] -> 447909.68 | I428: =(OBJECTIF!$B$4/OBJECTIF!$B$9)*INDIC[[#This Row],[jour du mois]] -> 843956.13 | J428: =(OBJECTIF!$B$7/OBJECTIF!$B$9)*INDIC[[#This Row],[jour du mois]] -> 1151767.7
A429: 45352 | F429: 1 | G429: =(OBJECTIF!$D$5/OBJECTIF!$D$9)*INDIC[[#This Row],[jour du mois]] -> 16375.484 | H429: =(OBJECTIF!$D$8/OBJECTIF!$D$9)*INDIC[[#This Row],[jour du mois]] -> 14903.226 | I429: =(OBJECTIF!$D$4/OBJECTIF!$D$9)*INDIC[[#This Row],[jour du mois]] -> 42108.387 | J429: =(OBJECTIF!$D$7/OBJECTIF!$D$9)*INDIC[[#This Row],[jour du mois]] -> 38322.581
A430: 45353 | F430: 2 | G430: =(OBJECTIF!$D$5/OBJECTIF!$D$9)*INDIC[[#This Row],[jour du mois]] -> 32750.968 | H430: =(OBJECTIF!$D$8/OBJECTIF!$D$9)*INDIC[[#This Row],[jour du mois]] -> 29806.452 | I430: =(OBJECTIF!$D$4/OBJECTIF!$D$9)*INDIC[[#This Row],[jour du mois]] -> 84216.774 | J430: =(OBJECTIF!$D$7/OBJECTIF!$D$9)*INDIC[[#This Row],[jour du mois]] -> 76645.161
A431: 45354 | F431: 3 | G431: =(OBJECTIF!$D$5/OBJECTIF!$D$9)*INDIC[[#This Row],[jour du mois]] -> 49126.452 | H431: =(OBJECTIF!$D$8/OBJECTIF!$D$9)*INDIC[[#This Row],[jour du mois]] -> 44709.677 | I431: =(OBJECTIF!$D$4/OBJECTIF!$D$9)*INDIC[[#This Row],[jour du mois]] -> 126325.16 | J431: =(OBJECTIF!$D$7/OBJECTIF!$D$9)*INDIC[[#This Row],[jour du mois]] -> 114967.74
A432: 45355 | F432: 4 | G432: =(OBJECTIF!$D$5/OBJECTIF!$D$9)*INDIC[[#This Row],[jour du mois]] -> 65501.935 | H432: =(OBJECTIF!$D$8/OBJECTIF!$D$9)*INDIC[[#This Row],[jour du mois]] -> 59612.903 | I432: =(OBJECTIF!$D$4/OBJECTIF!$D$9)*INDIC[[#This Row],[jour du mois]] -> 168433.55 | J432: =(OBJECTIF!$D$7/OBJECTIF!$D$9)*INDIC[[#This Row],[jour du mois]] -> 153290.32
A433: 45356 | F433: 5 | G433: =(OBJECTIF!$D$5/OBJECTIF!$D$9)*INDIC[[#This Row],[jour du mois]] -> 81877.419 | H433: =(OBJECTIF!$D$8/OBJECTIF!$D$9)*INDIC[[#This Row],[jour du mois]] -> 74516.129 | I433: =(OBJECTIF!$D$4/OBJECTIF!$D$9)*INDIC[[#This Row],[jour du mois]] -> 210541.94 | J433: =(OBJECTIF!$D$7/OBJECTIF!$D$9)*INDIC[[#This Row],[jour du mois]] -> 191612.9
A434: 45357 | F434: 6 | G434: =(OBJECTIF!$D$5/OBJECTIF!$D$9)*INDIC[[#This Row],[jour du mois]] -> 98252.903 | H434: =(OBJECTIF!$D$8/OBJECTIF!$D$9)*INDIC[[#This Row],[jour du mois]] -> 89419.355 | I434: =(OBJECTIF!$D$4/OBJECTIF!$D$9)*INDIC[[#This Row],[jour du mois]] -> 252650.32 | J434: =(OBJECTIF!$D$7/OBJECTIF!$D$9)*INDIC[[#This Row],[jour du mois]] -> 229935.48
A435: 45358 | F435: 7 | G435: =(OBJECTIF!$D$5/OBJECTIF!$D$9)*INDIC[[#This Row],[jour du mois]] -> 114628.39 | H435: =(OBJECTIF!$D$8/OBJECTIF!$D$9)*INDIC[[#This Row],[jour du mois]] -> 104322.58 | I435: =(OBJECTIF!$D$4/OBJECTIF!$D$9)*INDIC[[#This Row],[jour du mois]] -> 294758.71 | J435: =(OBJECTIF!$D$7/OBJECTIF!$D$9)*INDIC[[#This Row],[jour du mois]] -> 268258.06
A436: 45359 | F436: 8 | G436: =(OBJECTIF!$D$5/OBJECTIF!$D$9)*INDIC[[#This Row],[jour du mois]] -> 131003.87 | H436: =(OBJECTIF!$D$8/OBJECTIF!$D$9)*INDIC[[#This Row],[jour du mois]] -> 119225.81 | I436: =(OBJECTIF!$D$4/OBJECTIF!$D$9)*INDIC[[#This Row],[jour du mois]] -> 336867.1 | J436: =(OBJECTIF!$D$7/OBJECTIF!$D$9)*INDIC[[#This Row],[jour du mois]] -> 306580.65
A437: 45360 | F437: 9 | G437: =(OBJECTIF!$D$5/OBJECTIF!$D$9)*INDIC[[#This Row],[jour du mois]] -> 147379.35 | H437: =(OBJECTIF!$D$8/OBJECTIF!$D$9)*INDIC[[#This Row],[jour du mois]] -> 134129.03 | I437: =(OBJECTIF!$D$4/OBJECTIF!$D$9)*INDIC[[#This Row],[jour du mois]] -> 378975.48 | J437: =(OBJECTIF!$D$7/OBJECTIF!$D$9)*INDIC[[#This Row],[jour du mois]] -> 344903.23
A438: 45361 | F438: 10 | G438: =(OBJECTIF!$D$5/OBJECTIF!$D$9)*INDIC[[#This Row],[jour du mois]] -> 163754.84 | H438: =(OBJECTIF!$D$8/OBJECTIF!$D$9)*INDIC[[#This Row],[jour du mois]] -> 149032.26 | I438: =(OBJECTIF!$D$4/OBJECTIF!$D$9)*INDIC[[#This Row],[jour du mois]] -> 421083.87 | J438: =(OBJECTIF!$D$7/OBJECTIF!$D$9)*INDIC[[#This Row],[jour du mois]] -> 383225.81
A439: 45362 | F439: 11 | G439: =(OBJECTIF!$D$5/OBJECTIF!$D$9)*INDIC[[#This Row],[jour du mois]] -> 180130.32 | H439: =(OBJECTIF!$D$8/OBJECTIF!$D$9)*INDIC[[#This Row],[jour du mois]] -> 163935.48 | I439: =(OBJECTIF!$D$4/OBJECTIF!$D$9)*INDIC[[#This Row],[jour du mois]] -> 463192.26 | J439: =(OBJECTIF!$D$7/OBJECTIF!$D$9)*INDIC[[#This Row],[jour du mois]] -> 421548.39
A440: 45363 | F440: 12 | G440: =(OBJECTIF!$D$5/OBJECTIF!$D$9)*INDIC[[#This Row],[jour du mois]] -> 196505.81 | H440: =(OBJECTIF!$D$8/OBJECTIF!$D$9)*INDIC[[#This Row],[jour du mois]] -> 178838.71 | I440: =(OBJECTIF!$D$4/OBJECTIF!$D$9)*INDIC[[#This Row],[jour du mois]] -> 505300.65 | J440: =(OBJECTIF!$D$7/OBJECTIF!$D$9)*INDIC[[#This Row],[jour du mois]] -> 459870.97
... A459: 45382 | F459: 31 | G459: =(OBJECTIF!$D$5/OBJECTIF!$D$9)*INDIC[[#This Row],[jour du mois]] -> 507640 | H459: =(OBJECTIF!$D$8/OBJECTIF!$D$9)*INDIC[[#This Row],[jour du mois]] -> 462000 | I459: =(OBJECTIF!$D$4/OBJECTIF!$D$9)*INDIC[[#This Row],[jour du mois]] -> 1305360 | J459: =(OBJECTIF!$D$7/OBJECTIF!$D$9)*INDIC[[#This Row],[jour du mois]] -> 1188000
A460: 45383 | F460: 1 | G460: =(OBJECTIF!$E$5/OBJECTIF!$E$9)*INDIC[[#This Row],[jour du mois]] -> 16305.333 | H460: =(OBJECTIF!$E$8/OBJECTIF!$E$9)*INDIC[[#This Row],[jour du mois]] -> 0 | I460: =(OBJECTIF!$E$4/OBJECTIF!$E$9)*INDIC[[#This Row],[jour du mois]] -> 41928 | J460: =(OBJECTIF!$E$7/OBJECTIF!$E$9)*INDIC[[#This Row],[jour du mois]] -> 0
A461: 45384 | F461: 2 | G461: =(OBJECTIF!$E$5/OBJECTIF!$E$9)*INDIC[[#This Row],[jour du mois]] -> 32610.667 | H461: =(OBJECTIF!$E$8/OBJECTIF!$E$9)*INDIC[[#This Row],[jour du mois]] -> 0 | I461: =(OBJECTIF!$E$4/OBJECTIF!$E$9)*INDIC[[#This Row],[jour du mois]] -> 83856 | J461: =(OBJECTIF!$E$7/OBJECTIF!$E$9)*INDIC[[#This Row],[jour du mois]] -> 0
A462: 45385 | F462: 3 | G462: =(OBJECTIF!$E$5/OBJECTIF!$E$9)*INDIC[[#This Row],[jour du mois]] -> 48916 | H462: =(OBJECTIF!$E$8/OBJECTIF!$E$9)*INDIC[[#This Row],[jour du mois]] -> 0 | I462: =(OBJECTIF!$E$4/OBJECTIF!$E$9)*INDIC[[#This Row],[jour du mois]] -> 125784 | J462: =(OBJECTIF!$E$7/OBJECTIF!$E$9)*INDIC[[#This Row],[jour du mois]] -> 0
A463: 45386 | F463: 4 | G463: =(OBJECTIF!$E$5/OBJECTIF!$E$9)*INDIC[[#This Row],[jour du mois]] -> 65221.333 | H463: =(OBJECTIF!$E$8/OBJECTIF!$E$9)*INDIC[[#This Row],[jour du mois]] -> 0 | I463: =(OBJECTIF!$E$4/OBJECTIF!$E$9)*INDIC[[#This Row],[jour du mois]] -> 167712 | J463: =(OBJECTIF!$E$7/OBJECTIF!$E$9)*INDIC[[#This Row],[jour du mois]] -> 0
A464: 45387 | F464: 5 | G464: =(OBJECTIF!$E$5/OBJECTIF!$E$9)*INDIC[[#This Row],[jour du mois]] -> 81526.667 | H464: =(OBJECTIF!$E$8/OBJECTIF!$E$9)*INDIC[[#This Row],[jour du mois]] -> 0 | I464: =(OBJECTIF!$E$4/OBJECTIF!$E$9)*INDIC[[#This Row],[jour du mois]] -> 209640 | J464: =(OBJECTIF!$E$7/OBJECTIF!$E$9)*INDIC[[#This Row],[jour du mois]] -> 0
A465: 45388 | F465: 6 | G465: =(OBJECTIF!$E$5/OBJECTIF!$E$9)*INDIC[[#This Row],[jour du mois]] -> 97832 | H465: =(OBJECTIF!$E$8/OBJECTIF!$E$9)*INDIC[[#This Row],[jour du mois]] -> 0 | I465: =(OBJECTIF!$E$4/OBJECTIF!$E$9)*INDIC[[#This Row],[jour du mois]] -> 251568 | J465: =(OBJECTIF!$E$7/OBJECTIF!$E$9)*INDIC[[#This Row],[jour du mois]] -> 0
A466: 45389 | F466: 7 | G466: =(OBJECTIF!$E$5/OBJECTIF!$E$9)*INDIC[[#This Row],[jour du mois]] -> 114137.33 | H466: =(OBJECTIF!$E$8/OBJECTIF!$E$9)*INDIC[[#This Row],[jour du mois]] -> 0 | I466: =(OBJECTIF!$E$4/OBJECTIF!$E$9)*INDIC[[#This Row],[jour du mois]] -> 293496 | J466: =(OBJECTIF!$E$7/OBJECTIF!$E$9)*INDIC[[#This Row],[jour du mois]] -> 0
A467: 45390 | F467: 8 | G467: =(OBJECTIF!$E$5/OBJECTIF!$E$9)*INDIC[[#This Row],[jour du mois]] -> 130442.67 | H467: =(OBJECTIF!$E$8/OBJECTIF!$E$9)*INDIC[[#This Row],[jour du mois]] -> 0 | I467: =(OBJECTIF!$E$4/OBJECTIF!$E$9)*INDIC[[#This Row],[jour du mois]] -> 335424 | J467: =(OBJECTIF!$E$7/OBJECTIF!$E$9)*INDIC[[#This Row],[jour du mois]] -> 0
A468: 45391 | F468: 9 | G468: =(OBJECTIF!$E$5/OBJECTIF!$E$9)*INDIC[[#This Row],[jour du mois]] -> 146748 | H468: =(OBJECTIF!$E$8/OBJECTIF!$E$9)*INDIC[[#This Row],[jour du mois]] -> 0 | I468: =(OBJECTIF!$E$4/OBJECTIF!$E$9)*INDIC[[#This Row],[jour du mois]] -> 377352 | J468: =(OBJECTIF!$E$7/OBJECTIF!$E$9)*INDIC[[#This Row],[jour du mois]] -> 0
A469: 45392 | F469: 10 | G469: =(OBJECTIF!$E$5/OBJECTIF!$E$9)*INDIC[[#This Row],[jour du mois]] -> 163053.33 | H469: =(OBJECTIF!$E$8/OBJECTIF!$E$9)*INDIC[[#This Row],[jour du mois]] -> 0 | I469: =(OBJECTIF!$E$4/OBJECTIF!$E$9)*INDIC[[#This Row],[jour du mois]] -> 419280 | J469: =(OBJECTIF!$E$7/OBJECTIF!$E$9)*INDIC[[#This Row],[jour du mois]] -> 0
A470: 45393 | F470: 11 | G470: =(OBJECTIF!$E$5/OBJECTIF!$E$9)*INDIC[[#This Row],[jour du mois]] -> 179358.67 | H470: =(OBJECTIF!$E$8/OBJECTIF!$E$9)*INDIC[[#This Row],[jour du mois]] -> 0 | I470: =(OBJECTIF!$E$4/OBJECTIF!$E$9)*INDIC[[#This Row],[jour du mois]] -> 461208 | J470: =(OBJECTIF!$E$7/OBJECTIF!$E$9)*INDIC[[#This Row],[jour du mois]] -> 0
A471: 45394 | F471: 12 | G471: =(OBJECTIF!$E$5/OBJECTIF!$E$9)*INDIC[[#This Row],[jour du mois]] -> 195664 | H471: =(OBJECTIF!$E$8/OBJECTIF!$E$9)*INDIC[[#This Row],[jour du mois]] -> 0 | I471: =(OBJECTIF!$E$4/OBJECTIF!$E$9)*INDIC[[#This Row],[jour du mois]] -> 503136 | J471: =(OBJECTIF!$E$7/OBJECTIF!$E$9)*INDIC[[#This Row],[jour du mois]] -> 0
... A489: 45412 | F489: 30 | G489: =(OBJECTIF!$E$5/OBJECTIF!$E$9)*INDIC[[#This Row],[jour du mois]] -> 489160 | H489: =(OBJECTIF!$E$8/OBJECTIF!$E$9)*INDIC[[#This Row],[jour du mois]] -> 0 | I489: =(OBJECTIF!$E$4/OBJECTIF!$E$9)*INDIC[[#This Row],[jour du mois]] -> 1257840 | J489: =(OBJECTIF!$E$7/OBJECTIF!$E$9)*INDIC[[#This Row],[jour du mois]] -> 0
A490: 45413 | F490: 1 | G490: =(OBJECTIF!$F$5/OBJECTIF!$F$9)*INDIC[[#This Row],[jour du mois]] -> 17188.387 | H490: =(OBJECTIF!$F$8/OBJECTIF!$F$9)*INDIC[[#This Row],[jour du mois]] -> 0 | I490: =(OBJECTIF!$F$4/OBJECTIF!$F$9)*INDIC[[#This Row],[jour du mois]] -> 44198.71 | J490: =(OBJECTIF!$F$7/OBJECTIF!$F$9)*INDIC[[#This Row],[jour du mois]] -> 0
A491: 45414 | F491: 2 | G491: =(OBJECTIF!$F$5/OBJECTIF!$F$9)*INDIC[[#This Row],[jour du mois]] -> 34376.774 | H491: =(OBJECTIF!$F$8/OBJECTIF!$F$9)*INDIC[[#This Row],[jour du mois]] -> 0 | I491: =(OBJECTIF!$F$4/OBJECTIF!$F$9)*INDIC[[#This Row],[jour du mois]] -> 88397.419 | J491: =(OBJECTIF!$F$7/OBJECTIF!$F$9)*INDIC[[#This Row],[jour du mois]] -> 0
A492: 45415 | F492: 3 | G492: =(OBJECTIF!$F$5/OBJECTIF!$F$9)*INDIC[[#This Row],[jour du mois]] -> 51565.161 | H492: =(OBJECTIF!$F$8/OBJECTIF!$F$9)*INDIC[[#This Row],[jour du mois]] -> 0 | I492: =(OBJECTIF!$F$4/OBJECTIF!$F$9)*INDIC[[#This Row],[jour du mois]] -> 132596.13 | J492: =(OBJECTIF!$F$7/OBJECTIF!$F$9)*INDIC[[#This Row],[jour du mois]] -> 0
A493: 45416 | F493: 4 | G493: =(OBJECTIF!$F$5/OBJECTIF!$F$9)*INDIC[[#This Row],[jour du mois]] -> 68753.548 | H493: =(OBJECTIF!$F$8/OBJECTIF!$F$9)*INDIC[[#This Row],[jour du mois]] -> 0 | I493: =(OBJECTIF!$F$4/OBJECTIF!$F$9)*INDIC[[#This Row],[jour du mois]] -> 176794.84 | J493: =(OBJECTIF!$F$7/OBJECTIF!$F$9)*INDIC[[#This Row],[jour du mois]] -> 0
A494: 45417 | F494: 5 | G494: =(OBJECTIF!$F$5/OBJECTIF!$F$9)*INDIC[[#This Row],[jour du mois]] -> 85941.935 | H494: =(OBJECTIF!$F$8/OBJECTIF!$F$9)*INDIC[[#This Row],[jour du mois]] -> 0 | I494: =(OBJECTIF!$F$4/OBJECTIF!$F$9)*INDIC[[#This Row],[jour du mois]] -> 220993.55 | J494: =(OBJECTIF!$F$7/OBJECTIF!$F$9)*INDIC[[#This Row],[jour du mois]] -> 0
A495: 45418 | F495: 6 | G495: =(OBJECTIF!$F$5/OBJECTIF!$F$9)*INDIC[[#This Row],[jour du mois]] -> 103130.32 | H495: =(OBJECTIF!$F$8/OBJECTIF!$F$9)*INDIC[[#This Row],[jour du mois]] -> 0 | I495: =(OBJECTIF!$F$4/OBJECTIF!$F$9)*INDIC[[#This Row],[jour du mois]] -> 265192.26 | J495: =(OBJECTIF!$F$7/OBJECTIF!$F$9)*INDIC[[#This Row],[jour du mois]] -> 0
A496: 45419 | F496: 7 | G496: =(OBJECTIF!$F$5/OBJECTIF!$F$9)*INDIC[[#This Row],[jour du mois]] -> 120318.71 | H496: =(OBJECTIF!$F$8/OBJECTIF!$F$9)*INDIC[[#This Row],[jour du mois]] -> 0 | I496: =(OBJECTIF!$F$4/OBJECTIF!$F$9)*INDIC[[#This Row],[jour du mois]] -> 309390.97 | J496: =(OBJECTIF!$F$7/OBJECTIF!$F$9)*INDIC[[#This Row],[jour du mois]] -> 0
A497: 45420 | F497: 8 | G497: =(OBJECTIF!$F$5/OBJECTIF!$F$9)*INDIC[[#This Row],[jour du mois]] -> 137507.1 | H497: =(OBJECTIF!$F$8/OBJECTIF!$F$9)*INDIC[[#This Row],[jour du mois]] -> 0 | I497: =(OBJECTIF!$F$4/OBJECTIF!$F$9)*INDIC[[#This Row],[jour du mois]] -> 353589.68 | J497: =(OBJECTIF!$F$7/OBJECTIF!$F$9)*INDIC[[#This Row],[jour du mois]] -> 0
A498: 45421 | F498: 9 | G498: =(OBJECTIF!$F$5/OBJECTIF!$F$9)*INDIC[[#This Row],[jour du mois]] -> 154695.48 | H498: =(OBJECTIF!$F$8/OBJECTIF!$F$9)*INDIC[[#This Row],[jour du mois]] -> 0 | I498: =(OBJECTIF!$F$4/OBJECTIF!$F$9)*INDIC[[#This Row],[jour du mois]] -> 397788.39 | J498: =(OBJECTIF!$F$7/OBJECTIF!$F$9)*INDIC[[#This Row],[jour du mois]] -> 0
A499: 45422 | F499: 10 | G499: =(OBJECTIF!$F$5/OBJECTIF!$F$9)*INDIC[[#This Row],[jour du mois]] -> 171883.87 | H499: =(OBJECTIF!$F$8/OBJECTIF!$F$9)*INDIC[[#This Row],[jour du mois]] -> 0 | I499: =(OBJECTIF!$F$4/OBJECTIF!$F$9)*INDIC[[#This Row],[jour du mois]] -> 441987.1 | J499: =(OBJECTIF!$F$7/OBJECTIF!$F$9)*INDIC[[#This Row],[jour du mois]] -> 0
A500: 45423 | F500: 11 | G500: =(OBJECTIF!$F$5/OBJECTIF!$F$9)*INDIC[[#This Row],[jour du mois]] -> 189072.26 | H500: =(OBJECTIF!$F$8/OBJECTIF!$F$9)*INDIC[[#This Row],[jour du mois]] -> 0 | I500: =(OBJECTIF!$F$4/OBJECTIF!$F$9)*INDIC[[#This Row],[jour du mois]] -> 486185.81 | J500: =(OBJECTIF!$F$7/OBJECTIF!$F$9)*INDIC[[#This Row],[jour du mois]] -> 0
A501: 45424 | F501: 12 | G501: =(OBJECTIF!$F$5/OBJECTIF!$F$9)*INDIC[[#This Row],[jour du mois]] -> 206260.65 | H501: =(OBJECTIF!$F$8/OBJECTIF!$F$9)*INDIC[[#This Row],[jour du mois]] -> 0 | I501: =(OBJECTIF!$F$4/OBJECTIF!$F$9)*INDIC[[#This Row],[jour du mois]] -> 530384.52 | J501: =(OBJECTIF!$F$7/OBJECTIF!$F$9)*INDIC[[#This Row],[jour du mois]] -> 0
... A520: 45443 | F520: 31 | G520: =(OBJECTIF!$F$5/OBJECTIF!$F$9)*INDIC[[#This Row],[jour du mois]] -> 532840 | H520: =(OBJECTIF!$F$8/OBJECTIF!$F$9)*INDIC[[#This Row],[jour du mois]] -> 0 | I520: =(OBJECTIF!$F$4/OBJECTIF!$F$9)*INDIC[[#This Row],[jour du mois]] -> 1370160 | J520: =(OBJECTIF!$F$7/OBJECTIF!$F$9)*INDIC[[#This Row],[jour du mois]] -> 0
A521: 45444 | F521: 1 | G521: =(OBJECTIF!$G$5/OBJECTIF!$G$9)*INDIC[[#This Row],[jour du mois]] -> 17332 | H521: =(OBJECTIF!$G$8/OBJECTIF!$G$9)*INDIC[[#This Row],[jour du mois]] -> 0 | I521: =(OBJECTIF!$G$4/OBJECTIF!$G$9)*INDIC[[#This Row],[jour du mois]] -> 44568 | J521: =(OBJECTIF!$G$7/OBJECTIF!$G$9)*INDIC[[#This Row],[jour du mois]] -> 0
A522: 45445 | F522: 2 | G522: =(OBJECTIF!$G$5/OBJECTIF!$G$9)*INDIC[[#This Row],[jour du mois]] -> 34664 | H522: =(OBJECTIF!$G$8/OBJECTIF!$G$9)*INDIC[[#This Row],[jour du mois]] -> 0 | I522: =(OBJECTIF!$G$4/OBJECTIF!$G$9)*INDIC[[#This Row],[jour du mois]] -> 89136 | J522: =(OBJECTIF!$G$7/OBJECTIF!$G$9)*INDIC[[#This Row],[jour du mois]] -> 0
A523: 45446 | F523: 3 | G523: =(OBJECTIF!$G$5/OBJECTIF!$G$9)*INDIC[[#This Row],[jour du mois]] -> 51996 | H523: =(OBJECTIF!$G$8/OBJECTIF!$G$9)*INDIC[[#This Row],[jour du mois]] -> 0 | I523: =(OBJECTIF!$G$4/OBJECTIF!$G$9)*INDIC[[#This Row],[jour du mois]] -> 133704 | J523: =(OBJECTIF!$G$7/OBJECTIF!$G$9)*INDIC[[#This Row],[jour du mois]] -> 0
...

Sheet QUOTIDIEN - PERF STAFF
A1: REMPLISSAGE QUOTIDIEN
A2: PERFORMANCE STAFF | B2: MAGASIN PARTICULIER | M2: MAGASIN PROFESSIONNEL
B3: MENUISERIE | F3: CUISINE | J3: SDB
A4: DATE | B4: MERIEM | C4: ALEX | D4: ERIC | E4: CHRISTO | F4: OMAR | G4: AMINATA | H4: PEDRO | I4: HAFIDA | J4: CASSAM | K4: STEFANO | L4: JP | M4: KEVIN | N4: STEFANE | O4: VERO | P4: MATHIAS | Q4: MARCEL
A5: 45292 | B5: 0 | C5: 0 | D5: 0 | E5: 0 | F5: 0 | G5: 0 | H5: 0 | I5: 0 | J5: 0 | K5: 0 | L5: 0 | M5: 0 | N5: 0 | O5: 0 | P5: 0 | Q5: 0
A6: 45293 | B6: 6275 | C6: 659 | D6: 0 | E6: -12 | F6: 3385 | G6: 117 | H6: -517 | I6: 64 | J6: 238 | K6: 1760 | L6: 0 | M6: 4788 | N6: 3431 | O6: 1926 | P6: 2168 | Q6: 2613
A7: 45294 | B7: 2718 | C7: 1790 | D7: -258 | E7: -42 | F7: 3633 | G7: 851 | H7: 0 | I7: 1508 | J7: -46 | K7: 4419 | L7: 1046 | M7: 3492 | N7: 8318 | O7: 23357 | P7: 15108 | Q7: -64
A8: 45295 | B8: 10894 | C8: 5324 | D8: 1184 | E8: 0 | F8: -229 | G8: 4132 | H8: 770 | I8: -83 | J8: -82 | K8: 2884 | L8: 362 | M8: 0 | N8: -204 | O8: 7703 | P8: 16105 | Q8: 536
A9: TOTAL | B9: =SUBTOTAL(109,Tableau6[MERIEM]) -> 19887 | C9: =SUBTOTAL(109,Tableau6[ALEX]) -> 7773 | D9: =SUBTOTAL(109,Tableau6[ERIC]) -> 926 | E9: =SUBTOTAL(109,Tableau6[CHRISTO]) -> -54 | F9: =SUBTOTAL(109,Tableau6[OMAR]) -> 6789 | G9: =SUBTOTAL(109,Tableau6[AMINATA]) -> 5100 | H9: =SUBTOTAL(109,Tableau6[PEDRO]) -> 253 | I9: =SUBTOTAL(109,Tableau6[HAFIDA]) -> 1489 | J9: =SUBTOTAL(109,Tableau6[CASSAM]) -> 110 | K9: =SUBTOTAL(109,Tableau6[STEFANO]) -> 9063 | L9: =SUBTOTAL(109,Tableau6[JP]) -> 1408 | M9: =SUBTOTAL(109,Tableau6[KEVIN]) -> 8280 | N9: =SUBTOTAL(109,Tableau6[STEFANE]) -> 11545 | O9: =SUBTOTAL(109,Tableau6[VERO]) -> 32986 | P9: =SUBTOTAL(109,Tableau6[MATHIAS]) -> 33381 | Q9: =SUBTOTAL(109,Tableau6[MARCEL]) -> 3085

Sheet HEBDO - GC
A1: REMPLISSAGE HEBDO (LUNDI)
A2: SEMAINE PRECEDENTE LE | B2: NOMBRE DE DEVIS | C2: NOMBRE DE COMMANDE | D2: NOMBRE DE COMMANDE TRANSPORT | E2: NOMBRE DE COMMANDE INSTALLE
A3: 45299 | B3: 133 | C3: 214 | D3: 28 | E3: 4
A4: TOTAL | B4: =SUBTOTAL(109,Tableau8[NOMBRE DE DEVIS]) -> 133 | C4: =SUBTOTAL(109,Tableau8[NOMBRE DE COMMANDE]) -> 214 | D4: =SUBTOTAL(109,Tableau8[NOMBRE DE COMMANDE TRANSPORT]) -> 28 | E4: =SUBTOTAL(109,Tableau8[NOMBRE DE COMMANDE INSTALLE]) -> 4

Sheet TDB1
L3: =TODAY() -> 45298
D6: PARTICULIER | E6: CA | I6: ACTI
G38: MENSUEL | H38: JANVIER
C40: Étiquettes de lignes | D40: Somme de CA HT | E40: Somme de obj ca part | G40: Somme de % CA PART | H40: Somme de CA HT | I40: Somme de CA HT4
C41: janv | D41: 408621.9 | E41: 5613440 | G41: 0.13877266 | H41: 48687 | I41: 350840
C42: 1 | D42: 0 | E42: 11317.419
C43: 2 | D43: 30237 | E43: 22634.839
C44: 3 | D44: 2736 | E44: 33952.258
C45: 4 | D45: 15714 | E45: 45269.677
C46: 5 | E46: 56587.097
C47: 6 | E47: 67904.516
C48: 7 | E48: 79221.935
C49: 8 | E49: 90539.355
C50: 9 | E50: 101856.77
C51: 10 | E51: 113174.19
C52: 11 | E52: 124491.61
C53: 12 | E53: 135809.03
C54: 13 | E54: 147126.45
C55: 14 | E55: 158443.87
C56: 15 | E56: 169761.29
C57: 16 | E57: 181078.71
... C72: 31 | E72: 350840
C73: (vide) | D73: 359934.9
C74: Total général | D74: 408621.9 | E74: 5613440

Sheet OBJECTIF
A1: CHIFFRE PAR MOIS | B1: JANVIER | C1: FÉVRIER | D1: MARS | E1: AVRIL | F1: MAI | G1: JUIN | H1: JUILLET | I1: AOÛT | J1: SEPTEMBRE | K1: OCTOBRE | L1: NOVEMBRE | M1: DÉCEMBRE
A2: PART DU MOIS | B2: =B3/$P$3 -> 0.069611111 | C2: =C3/$P$3 -> 0.062222222 | D2: =D3/$P$3 -> 0.10072222 | E2: =E3/$P$3 -> 0.097055556 | F2: =F3/$P$3 -> 0.10572222 | G2: =G3/$P$3 -> 0.10316667 | H2: =H3/$P$3 -> 0.0935 | I2: =I3/$P$3 -> 0.049611111 | ... M2: =M3/$P$3 -> 0.067222222
A3: CA GLOBAL | B3: 1253000 | C3: 1120000 | D3: 1813000 | E3: 1747000 | F3: 1903000 | G3: 1857000 | H3: 1683000 | I3: 893000 | J3: 1500000 | K3: 1519000 | L3: 1502000 | M3: 1210000 | O3: OBJECTIF CA ANNUEL | P3: =(B3+C3+D3+E3+F3+G3+H3+I3+J3+K3+L3+M3) -> 18000000
A4: CA PRO | B4: =B3*$P$7/100 -> 902160 | C4: =C3*$P$7/100 -> 806400 | D4: =D3*$P$7/100 -> 1305360 | E4: =E3*$P$7/100 -> 1257840 | F4: =F3*$P$7/100 -> 1370160 | G4: =G3*$P$7/100 -> 1337040 | H4: =H3*$P$7/100 -> 1211760 | I4: =I3*$P$7/100 -> 642960 | ... M4: =M3*$P$7/100 -> 871200
A5: CA PART | B5: =B3*$P$8/100 -> 350840 | C5: =C3*$P$8/100 -> 313600 | D5: =D3*$P$8/100 -> 507640 | E5: =E3*$P$8/100 -> 489160 | F5: =F3*$P$8/100 -> 532840 | G5: =G3*$P$8/100 -> 519960 | H5: =H3*$P$8/100 -> 471240 | I5: =I3*$P$8/100 -> 250040 | ... M5: =M3*$P$8/100 -> 338800 | O5: REPART CHIFFRES | P5: %
A6: ACTI GLOBAL | B6: 1710000 | C6: 1500000 | D6: 1650000 | E6: 0 | F6: 0 | G6: 0 | H6: 0 | I6: 0 | J6: 0 | K6: 0 | L6: 0 | M6: 0
A7: ACTI PRO | B7: =B6*$P$7/100 -> 1231200 | C7: =C6*$P$7/100 -> 1080000 | D7: =D6*$P$7/100 -> 1188000 | E7: =E6*$P$7/100 -> 0 | F7: =F6*$P$7/100 -> 0 | G7: =G6*$P$7/100 -> 0 | H7: =H6*$P$7/100 -> 0 | I7: =I6*$P$7/100 -> 0 | ... M7: =M6*$P$7/100 -> 0 | O7: PRO | P7: 72
A8: ACTI PART | B8: =B6*$P$8/100 -> 478800 | C8: =C6*$P$8/100 -> 420000 | D8: =D6*$P$8/100 -> 462000 | E8: =E6*$P$8/100 -> 0 | F8: =F6*$P$8/100 -> 0 | G8: =G6*$P$8/100 -> 0 | H8: =H6*$P$8/100 -> 0 | I8: =I6*$P$8/100 -> 0 | ... M8: =M6*$P$8/100 -> 0 | O8: PART | P8: 28
A9: NB DE JOUR | B9: 31 | C9: 29 | D9: 31 | E9: 30 | F9: 31 | G9: 30 | H9: 31 | I9: 31 | J9: 30 | K9: 31 | L9: 30 | M9: 31
A12: CHIFFRE PAR JOUR/ PAR VENDEUR | B12: JANVIER | C12: FÉVRIER | D12: MARS | E12: AVRIL | F12: MAI | G12: JUIN | H12: JUILLET | I12: AOÛT | J12: SEPTEMBRE | K12: OCTOBRE | L12: NOVEMBRE | M12: DÉCEMBRE
A13: CA PRO | B13: =(B4/$P$15)/$P$13 -> 6917.5208 | C13: =(C4/$P$15)/$P$13 -> 6183.2588 | D13: =(D4/$P$15)/$P$13 -> 10009.15 | E13: =(E4/$P$15)/$P$13 -> 9644.7796 | F13: =(F4/$P$15)/$P$13 -> 10506.019 | G13: =(G4/$P$15)/$P$13 -> 10252.064 | H13: =(H4/$P$15)/$P$13 -> 9291.4505 | I13: =(I4/$P$15)/$P$13 -> 4930.0447 | ... M13: =(M4/$P$15)/$P$13 -> 6680.1278 | O13: JOURS OUVERTS | P13: =(365-52)/12 -> 26.083333
A14: ACTI PRO | B14: =(B7/$P$15)/$P$13 -> 9440.5112 | C14: =(C7/$P$15)/$P$13 -> 8281.1502 | D14: =(D7/$P$15)/$P$13 -> 9109.2652 | E14: =(E7/$P$15)/$P$13 -> 0 | F14: =(F7/$P$15)/$P$13 -> 0 | G14: =(G7/$P$15)/$P$13 -> 0 | H14: =(H7/$P$15)/$P$13 -> 0 | I14: =(I7/$P$15)/$P$13 -> 0 | ... M14: =(M7/$P$15)/$P$13 -> 0 | O14: VENDEUR PART | P14: =3.7+4+3 -> 10.7
A15: CA PART | B15: =(B4/$P$14)/$P$13 -> 3232.4863 | C15: =(C4/$P$14)/$P$13 -> 2889.3733 | D15: =(D4/$P$14)/$P$13 -> 4677.173 | E15: =(E4/$P$14)/$P$13 -> 4506.9063 | F15: =(F4/$P$14)/$P$13 -> 4909.3548 | G15: =(G4/$P$14)/$P$13 -> 4790.6841 | H15: =(H4/$P$14)/$P$13 -> 4341.7993 | I15: =(I4/$P$14)/$P$13 -> 2303.7592 | ... M15: =(M4/$P$14)/$P$13 -> 3121.555 | O15: VENDEUR PRO | P15: 5
A16: ACTI PART | B16: =(B8/$P$14)/$P$13 -> 1715.5654 | C16: =(C8/$P$14)/$P$13 -> 1504.8819 | D16: =(D8/$P$14)/$P$13 -> 1655.3701 | E16: =(E8/$P$14)/$P$13 -> 0 | F16: =(F8/$P$14)/$P$13 -> 0 | G16: =(G8/$P$14)/$P$13 -> 0 | H16: =(H8/$P$14)/$P$13 -> 0 | I16: =(I8/$P$14)/$P$13 -> 0 | ... M16: =(M8/$P$14)/$P$13 -> 0
A19: COULEUR PAR VENDEUR AU | B19: NOIR | C19: ROUGE | D19: VERT | E19: GOLD
B20: 0 | C20: 60001 | D20: 75001 | E20: 80001
A21: % | B21: <75 | C21: DE 75 A 90 | D21: DE 90 A 100 | E21: PLUS DE 100
